{"text_format":"1","workbook":"xlsx","n_sheets":69,"sheets":["modList00","modHTTP","modPreload","modProvGeneralProc","modReestr","modList02","modfrmReestrSource","modProv","Инструкция","Лог обновления","Пояснения","Список листов","Общие сведения","Список территорий","Список объектов","Сценарии","Баланс","Реагенты","ЭЭ","Амортизация","Аренда","Покупка","ФОТ","Административные","Сбытовые расходы ГО","Налоги","ИП + источники","Экономия_корр","Плата за негативное возд","Корректировка НВВ","Калькуляция","ТМ","ДПР","ДПР (концессии)","Комментарии","Проверка","et_union","TEHSHEET","REESTR_TARIFF","REESTR_OBJECT","modList11","REESTR_MO","REESTR_ORG","DICTIONARIES","modfrmRegion","modfrmSelectTariff","modCheckCyan","modfrmActivity","modfrmCheckUpdates","modUpdTemplMain","modThisWorkbook","modInstruction","AllSheetsInThisWorkbook","modHyp","modfrmReestr","modfrmDPR","modfrmSelectTemplate","modList01","modList05","modList06","modList09","modList10","modList16","modList18","modList19","modList20","modList21","modList15","modList17"],"not_rendered":{"charts":0,"images":23,"macros":1,"external_links":0,"defined_names":359,"comments":2,"pivot_tables":0},"unopened":[],"bounds":{"document_bytes":16777216,"sheet_cells":100000,"rows_first":2000,"rows_last":500,"rows_between":2000,"halvings":0,"cell_chars":16384,"cell_head_chars":4096},"cells_cut":0,"cells_raw":0,"read":"whole","date_system":"1900"}

{"sheet":"modList00","index":0,"n_rows":0,"n_cols":0,"rows_kept":0,"cut":false,"hidden":true,"merged":[]}

{"sheet":"modHTTP","index":1,"n_rows":0,"n_cols":0,"rows_kept":0,"cut":false,"hidden":true,"merged":[]}

{"sheet":"modPreload","index":2,"n_rows":0,"n_cols":0,"rows_kept":0,"cut":false,"hidden":true,"merged":[]}

{"sheet":"modProvGeneralProc","index":3,"n_rows":0,"n_cols":0,"rows_kept":0,"cut":false,"hidden":true,"merged":[]}

{"sheet":"modReestr","index":4,"n_rows":0,"n_cols":0,"rows_kept":0,"cut":false,"hidden":true,"merged":[]}

{"sheet":"modList02","index":5,"n_rows":0,"n_cols":0,"rows_kept":0,"cut":false,"hidden":true,"merged":[]}

{"sheet":"modfrmReestrSource","index":6,"n_rows":0,"n_cols":0,"rows_kept":0,"cut":false,"hidden":true,"merged":[]}

{"sheet":"modProv","index":7,"n_rows":0,"n_cols":0,"rows_kept":0,"cut":false,"hidden":true,"merged":[]}

{"sheet":"Инструкция","index":8,"n_rows":97,"n_cols":27,"rows_kept":97,"cut":false,"hidden":false,"merged":[[69,4,74,24],[21,5,21,12],[21,15,21,23],[1,1,1,6],[2,1,2,2],[4,1,4,24],[6,4,12,23],[13,4,18,23],[20,5,20,12],[20,15,20,23],[34,4,38,23],[39,4,39,23],[57,4,57,6],[57,7,57,23],[40,4,44,23],[45,4,56,23],[80,4,80,15],[80,16,80,22],[58,4,58,23],[96,5,96,23],[92,4,92,23],[94,5,94,18],[76,4,76,21],[77,4,77,10],[77,11,77,22],[60,7,60,23],[75,4,75,6],[78,4,78,10],[78,11,78,22],[59,4,59,6],[59,7,59,23],[75,7,75,23]]}
[null,null,null,null,null,null,null,null,null,null,null,null,null,null,null,null,null,null,null,null,null,null,null,null,null,null," (требуется обновление)"]
[null,{"$f":"\"Код шаблона: \" & GetCode()","v":"Код шаблона: EXPERT.VSVO.INDEX"}]
[null,{"$f":"\"Версия \" & Getversion()","v":"Версия 4.2"}]
[]
[null,"Экспертное заключение об установлении тарифов в сфере холодного водоснабжения/водоотведения методом индексации (первый год ДПР)"]
[]
[null,null,null,null,"• На рабочем месте должен быть установлен MS Office 2007 SP3, 2010, 2013, 2016, 2019 с полной версией MS Excel\n\n• Макросы во время работы должны быть включены (!)\n\n• Для корректной работы отчёта требуется выбрать низкий уровень безопасности\n(В меню MS Excel 2007 и выше: Параметры Excel | Центр управления безопасностью | Параметры центра управления безопасностью | Параметры макросов | Включить все макросы | ОК)\n\n"]
[]
[]
[]
[]
[]
[]
[null,null,null,null,"• Если Вы работаете в табличном процессоре MS Excel 2007 и выше, то можете использовать для работы формат XLSB (Двоичная книга Excel). При работе в формате XLSB заметно быстрее происходит сохранение файла, а также уменьшается размер по сравнению с форматами XLS и XLSM\n\n• Не рекомендуется снимать защиту с листов и каким-либо образом модифицировать защищаемые формулы и расчётные поля, в противном случае, отчёт будет отклонён системой\n\n• При сохранении не следует выбирать формат XLSX (Книга Excel), так как в указанном формате макросы, необходимые для работы отчёта, безвозвратно удаляются"]
[]
[]
[]
[]
[]
[]
[null,null,null,null,"A"," - предназначенные для заполнения",null,null,null,null,null,null,null,null,"A"," - ссылки и автозаполняемые поля"]
[null,null,null,null,"A"," - с формулами и константами",null,null,null,null,null,null,null,null,"A"," - обязательные для заполнения"]
[]
[]
[]
[]
[]
[]
[]
[]
[]
[]
[]
[]
[null,null,null,null,"Если в предложенном Вам списке необходимая организация, МР/МО отсутствуют, обновите реестры с помощью кнопок\n\nВ результате синхронизации с базой данных список организаций (МР/МО) будет заменён актуальным (механизм синхронизации требует подключения к сети Интернет и основан на использовании протокола HTTPS (TCP порт 443))\n"]
[]
[]
[]
[]
[]
[]
[]
[]
[]
[]
[null,null,null,null,"• При сохранении шаблона осуществляется проверка корректности данных, в том числе на наличие значений в ячейках, обязательных для заполнения\n\n• Если какая-то ячейка не удовлетворяет условию проверки, на лист «Проверка» добавляется гиперссылка на данную ячейку и указывается причина ошибки\n\n• В колонке «Статус» для каждого сообщения возможны 2 значения: ошибка и предупреждение\n\n• При наличии сообщений со статусом «Ошибка» шаблон будет отклонён системой и не будет загружен в хранилище данных, сообщения со статусом «Предупреждение» носят информационный характер, и такой шаблон будет принят системой"]
[]
[]
[]
[]
[]
[]
[]
[]
[]
[]
[]
[]
[null,null,null,null,"Обратиться в службу поддержки"]
[]
[]
[]
[]
[]
[]
[]
[]
[]
[]
[null,null,null,null,"Понятия, используемые в Типовом экспертном заключении:\n\"Факт, принятый органом регулирования\" - экономически обоснованные фактические значения расходов на основании данных бухгалтерской и статистической отчетности регулируемой организации за соответствующий период, с учетом данных, полученных по результатам проведенных органом регулирования тарифов мероприятий по контролю, предусмотренных Постановлением Правительства РФ от 27.06.2013 N 543;\n\"Факт по данным организации\" - экономически обоснованные фактические значения расходов в соответствии с данными раздельного учета затрат по видам деятельности организаций, осуществляющих горячее водоснабжение, холодное водоснабжение и (или) водоотведение."]
[]
[]
[]
[]
[]
[]
[]
[]
[]
[]
[]
[]
[]
[]
[]
[]
[]
[]
[]
[]
[]
[]
[null,null,null,null,"При наличии подключения к Интернет, можно автоматически проверять наличие доступных обновлений. Выберите способ оповещения о наличии обновлений для отчёта:"]
[]
[null,null,null,null,null,"проверять доступные обновления (рекомендуется)",null,null,null,null,null,null,null,null,null,null,null,null,null,null,null,null,null,null,null,null,"y"]
[]
[null,null,null,null,null,"никогда не проверять наличие обновлений (не рекомендуется)"]

{"sheet":"Лог обновления","index":9,"n_rows":27,"n_cols":3,"rows_kept":27,"cut":false,"hidden":true,"merged":[]}
["Дата/Время","Сообщение","Статус"]
[]
["2023-11-03T11:01:50","Проверка доступных обновлений...","Информация"]
["2023-11-03T11:01:52","Нет доступных обновлений для отчёта с кодом EXPERT.VSVO.INDEX!","Информация"]
["2024-01-12T18:25:46","Проверка доступных обновлений...","Информация"]
["2024-01-12T18:25:47","Нет доступных обновлений для отчёта с кодом EXPERT.VSVO.INDEX!","Информация"]
["2024-01-19T09:47:49","Проверка доступных обновлений...","Информация"]
["2024-01-19T09:47:50","Нет доступных обновлений для отчёта с кодом EXPERT.VSVO.INDEX!","Информация"]
["2024-01-19T09:49:29","Проверка доступных обновлений...","Информация"]
["2024-01-19T09:49:30","Нет доступных обновлений для отчёта с кодом EXPERT.VSVO.INDEX!","Информация"]
["2024-01-19T16:20:34","Проверка доступных обновлений...","Информация"]
["2024-01-19T16:20:41","Нет доступных обновлений для отчёта с кодом EXPERT.VSVO.INDEX!","Информация"]
["2024-01-21T16:18:11","Проверка доступных обновлений...","Информация"]
["2024-01-21T16:18:12","Нет доступных обновлений для отчёта с кодом EXPERT.VSVO.INDEX!","Информация"]
["2024-01-22T11:27:11","Проверка доступных обновлений...","Информация"]
["2024-01-22T11:27:13","Нет доступных обновлений для отчёта с кодом EXPERT.VSVO.INDEX!","Информация"]
["2024-01-22T15:07:31","Проверка доступных обновлений...","Информация"]
["2024-01-22T15:07:33","Нет доступных обновлений для отчёта с кодом EXPERT.VSVO.INDEX!","Информация"]
["2024-01-23T09:31:57","Проверка доступных обновлений...","Информация"]
["2024-01-23T09:32:09","Нет доступных обновлений для отчёта с кодом EXPERT.VSVO.INDEX!","Информация"]
["2024-01-23T13:44:05","Проверка доступных обновлений...","Информация"]
["2024-01-23T13:44:06","Нет доступных обновлений для отчёта с кодом EXPERT.VSVO.INDEX!","Информация"]
["2024-01-23T14:58:09","Проверка доступных обновлений...","Информация"]
["2024-01-23T14:58:11","Доступно обновление до версии 4.3","Информация"]
["2024-01-23T14:58:11","Описание изменений: Версия 4.3\n1. Корректировка проверки перед сохранением\n2. Исправление формул на листе \"Корректировка НВВ\"\n3. Исправление работы фильтров в форме выбора объектов\n4. Оптимизация работы шаблона\n\nВерсия 4.2\n1. Корректировка проверки перед сохранением\n2. Исправление формул на листе \"ДПР\" в колонке \"Базовый уровень операционных расходов\"\n3. Исправление формул на листе \"Корректировка НВВ\" в п.2 и 7\n4. Исправление выбора объектов на листе \"Список объектов\"\n\nВерсия 4.1\n1. Исправление проверки перед сохранением\n2. Исправление формул на листе \"ДПР\"\n3. Исправление формул на листе \"Калькуляция\" в п.9 и 10\n4. Исправление расчёт ПО для транспортировщиков ВС","Информация"]
["2024-01-23T14:58:11","Размер файла обновления: 239647 байт","Информация"]
["2024-01-23T15:13:36","Обновление отменено пользователем","Предупреждение"]

{"sheet":"Пояснения","index":10,"n_rows":16,"n_cols":14,"rows_kept":16,"cut":false,"hidden":true,"merged":[]}
[]
[]
[]
[]
[]
[]
[]
[]
[]
[]
[]
[null,null,null,null,null,null,null,null,null,null,null,"Понятия, используемые в Типовом экспертном заключении"]
[]
[null,null,null,null,null,null,null,null,null,null,null,"№ п/п","Используемое понятие","Расшифровка (пояснения)"]
[null,null,null,null,null,null,null,null,null,null,null,1,"факт по данным организации","фактические значения расходов в соответствии с данными раздельного учета затрат по видам деятельности организаций, осуществляющих горячее водоснабжение, холодное водоснабжение и (или) водоотведение"]
[null,null,null,null,null,null,null,null,null,null,null,2,"факт, принятый органом регулирования","фактические значения расходов в соответствии с данными бухгалтерской и статистической отчетности регулируемой организации за соответствующий период, с учетом данных, полученных по результатам проведенных органом регулирования тарифов мероприятий по контролю, предусмотренных Постановление Правительства РФ от 27.06.2013 N 543 (ред. от 17.08.2020) \"О государственном контроле (надзоре) в области регулируемых государством цен (тарифов)."]

{"sheet":"Список листов","index":11,"n_rows":35,"n_cols":14,"rows_kept":35,"cut":false,"hidden":false,"merged":[]}
[]
[]
[]
[]
[]
[]
[]
[]
[]
[]
[]
[null,null,null,null,null,null,null,null,null,null,null,"Список листов"]
[null,null,null,null,null,null,null,null,null,null,null,"* для перехода на лист дважды кликните по названию"]
[null,null,null,null,null,null,null,null,null,null,null,"скрыть","Общие сведения","1. Сведения о регулируемой организации\n2. Информация о рассмотрении дела об установлении тарифов"]
[null,null,null,null,null,null,null,null,null,null,null,"скрыть","Список территорий","3. Перечень муниципальных образований, на территории которых организация оказывает услуги холодного водоснабжения / водоотведения"]
[null,null,null,null,null,null,null,null,null,null,null,"скрыть","Список объектов","4. Перечень объектов организации, с помощью которых организация оказывает услуги холодного водоснабжения/ водоотведения\n5. Правоустанавливающие и подтверждающие документы на объекты коммунальной инфраструктуры"]
[null,null,null,null,null,null,null,null,null,null,null,"скрыть","Сценарии","6. Ключевые сценарные показатели"]
[null,null,null,null,null,null,null,null,null,null,null,"скрыть","Баланс","7. Баланс водоснабжения / водоотведения"]
[null,null,null,null,null,null,null,null,null,null,null,"скрыть","Реагенты","8. Расходы на реагенты"]
[null,null,null,null,null,null,null,null,null,null,null,"скрыть","ЭЭ","9. Расходы на электрическую энергию"]
[null,null,null,null,null,null,null,null,null,null,null,"скрыть","Амортизация","10. Амортизация основных средств и нематериальных активов, относимых к объектам централизованной системы водоснабжения/водоотведения"]
[null,null,null,null,null,null,null,null,null,null,null,"скрыть","Аренда","11. Аренда"]
[null,null,null,null,null,null,null,null,null,null,null,"скрыть","Покупка","12. Расходы на оплату товаров (услуг, работ), приобретаемых у других организаций"]
[null,null,null,null,null,null,null,null,null,null,null,"скрыть","ФОТ","13. Расходы на оплату труда и страховые взносы на обязательное социальное страхование основного производственного персонала, в том числе налоги и сборы с фонда оплаты труда"]
[null,null,null,null,null,null,null,null,null,null,null,"скрыть","Административные","14. Административные расходы"]
[null,null,null,null,null,null,null,null,null,null,null,"скрыть","Сбытовые расходы ГО","15. Сбытовые расходы гарантирующей организации"]
[null,null,null,null,null,null,null,null,null,null,null,"скрыть","Налоги","16. Расшифровка по налогам и платежам"]
[null,null,null,null,null,null,null,null,null,null,null,"скрыть","ИП + источники","17. План и факт по источникам финансирования инвестиционной программы"]
[null,null,null,null,null,null,null,null,null,null,null,"скрыть","Экономия_корр","18. Расчет экономии средств, достигнутой в результате снижения расходов предыдущего долгосрочного периода регулирования"]
[null,null,null,null,null,null,null,null,null,null,null,"скрыть","Плата за негативное возд","19. Плата за негативное воздействие на работу централизованных систем водоотведения"]
[null,null,null,null,null,null,null,null,null,null,null,"скрыть","Корректировка НВВ","20. Расчет показателей корректировки необходимой валовой выручки"]
[null,null,null,null,null,null,null,null,null,null,null,"скрыть","Калькуляция","21. Расчет тарифа методом индексации"]
[null,null,null,null,null,null,null,null,null,null,null,"скрыть","ТМ","22. Тарифное меню"]
[null,null,null,null,null,null,null,null,null,null,null,"скрыть","ДПР","23. Долгосрочные параметры регулирования тарифов"]
[null,null,null,null,null,null,null,null,null,null,null,"скрыть","ДПР (концессии)","24. Долгосрочные параметры регулирования тарифов (концессии)"]

{"sheet":"Общие сведения","index":12,"n_rows":159,"n_cols":15,"rows_kept":159,"cut":false,"hidden":false,"merged":[[148,4,157,5],[158,4,158,6],[7,4,7,6],[8,4,8,6],[9,4,9,6],[109,4,109,7],[110,4,110,7],[111,4,111,7],[112,4,112,7],[113,4,113,7],[115,4,115,7],[103,4,103,7],[104,4,104,7],[105,4,105,7],[106,4,106,7],[107,4,107,7],[108,4,108,7],[91,4,91,6],[94,4,97,5],[99,4,99,7],[100,4,100,7],[120,4,147,5],[101,4,101,7],[116,4,119,5],[75,4,75,6],[76,4,81,4],[76,5,76,6],[77,5,77,6],[78,5,78,6],[79,5,79,6],[80,5,80,6],[81,5,81,6],[102,4,102,7],[83,4,83,6],[84,4,89,4],[84,5,84,6],[85,5,85,6],[86,5,86,6],[87,5,87,6],[88,5,88,6],[89,5,89,6],[92,4,92,6],[19,11,19,12],[20,4,20,7],[21,4,21,6],[22,4,22,6],[34,4,34,6],[35,4,35,6],[36,4,38,5],[39,4,39,6],[40,4,40,6],[28,4,28,6],[29,4,29,6],[30,4,30,6],[31,4,31,6],[32,4,32,6],[33,4,33,6],[25,4,25,6],[26,4,26,6],[27,4,27,6],[6,4,6,6],[13,4,13,7],[14,4,14,7],[15,4,15,7],[16,4,16,7],[17,4,17,7],[23,4,23,6],[24,4,24,6],[18,4,18,7],[19,4,19,7],[10,4,10,6],[41,4,41,6],[42,4,42,6],[43,4,43,6],[45,4,45,6],[46,4,46,6],[47,4,51,4],[47,5,47,6],[48,5,48,6],[49,5,49,6],[50,5,50,6],[51,5,51,6],[121,3,133,3],[134,3,146,3],[53,4,53,6],[54,4,58,4],[54,5,54,6],[55,5,55,6],[56,5,56,6],[57,5,57,6],[58,5,58,6],[67,4,67,6],[68,4,73,4],[68,5,68,6],[69,5,69,6],[70,5,70,6],[71,5,71,6],[72,5,72,6],[73,5,73,6],[60,4,60,6],[61,4,65,4],[61,5,61,6],[62,5,62,6],[63,5,63,6],[64,5,64,6],[65,5,65,6]]}
[]
[]
[]
[]
[]
[]
[null,null,null,null,"Субъект РФ",null,null,"Кемеровская область",{"$f":"INDEX(TEHSHEET!B1:B86,MATCH(region_name,REGION,0))","v":"RU42"}]
[null,null,null,null,"Период регулирования",null,null,2024]
[null,null,null,null,"Первый год долгосрочного периода регулирования",null,null,{"$f":"god","v":2024},{"$f":"first_year+PERIOD_LENGTH-1","v":2028},{"$f":" last_year","v":2028}]
[null,null,null,null,"Период долгосрочной индексации (количество лет)",null,null,5]
[null,null,null,null,"Количество лет корректировки",null,null,{"$f":"IF(OR(PERIOD_LENGTH-god+first_year<=0,PERIOD_LENGTH-god+first_year>10),\"\",PERIOD_LENGTH-god+first_year)","v":5}]
[]
[]
[null,null,null,null,"Экспертное заключение"]
[null,null,null,null,{"$f":"IF(LEN(region_name)=0,\"<наименование регионального органа регулирования>\",VLOOKUP(region_name,OIV_LIST,2,FALSE))","v":"Региональная энергетическая комиссия Кузбасса"}]
[null,null,null,null,"по результатам экспертизы предложения"]
[null,null,null,26356891,"ООО \"ТВК\"",null,null,null,null,null,null,null,null,null,{"$f":"IFERROR(region_name & \" / \" & god & \" / \" & org& \" (ИНН:\" &inn& \", КПП:\" &kpp&\") / ДПР: \" & first_year & \"-\" & last_year,\"\")","v":"Кемеровская область / 2024 / ООО \"ТВК\" (ИНН:4202026697, КПП:420201001) / ДПР: 2024-2028"}]
[null,null,null,null,{"$f":"\"об установлении тарифов в сфере \"&IF(AND(OR(hasVS,hasTranspVS),OR(hasVO,hasTranspVO)),\"холодного водоснабжения / водоотведения\",IF(OR(hasVS,hasTranspVS),\"холодного водоснабжения\",IF(OR(hasVO,hasTranspVO),\"водоотведения\",\"<не указано>\")))&\" методом индексации\"","v":"об установлении тарифов в сфере холодного водоснабжения / водоотведения методом индексации"}]
[null,null,null,null,{"$f":"IF(god=\"\",\"\", \"долгосрочного периода регулирования тарифов \" & first_year & \"-\"&last_year & \" гг.\")","v":"долгосрочного периода регулирования тарифов 2024-2028 гг."}]
[]
[null,null,null,null,"1. Сведения о регулируемой организации"]
[null,null,null,null,"Полное наименование юридического лица (индивидуального предпринимателя) в соответствии с данными из ЕГРЮЛ/ЕГРИП",null,null,"ОБЩЕСТВО С ОГРАНИЧЕННОЙ ОТВЕТСТВЕННОСТЬЮ \"ТВК\""]
[null,null,null,null,"Сокращенное наименование юридического лица (индивидуального предпринимателя) в соответствии с данными из ЕГРЮЛ/ЕГРИП",null,null,"ООО \"ТВК\""]
[null,null,null,null,"Наименование (описание) обособленного подразделения"]
[null,null,null,null,"ОГРН",null,null,"1054202026317"]
[null,null,null,null,"ИНН",null,null,"4202026697"]
[null,null,null,null,"КПП",null,null,"420201001"]
[null,null,null,null,"Код по ОКПО",null,null,null,null,"L2_7"]
[null,null,null,null,"Организационно-правовая форма",null,null,"1 23 00 | Общества с ограниченной ответственностью",null,"L2_8"]
[null,null,null,null,"Юридический адрес",null,null,"652614, г.Белово пгт.Грамотеино мкр.Листвяжный 53",null,"L2_9"]
[null,null,null,null,"Фактический адрес",null,null,"652614, г.Белово пгт.Грамотеино мкр.Листвяжный 53",null,"L2_10"]
[null,null,null,null,"Телефон организации",null,null,"(384-52)2-87-45",null,"L2_11"]
[null,null,null,null,"e-mail",null,null,"Tatyana.Gintner@belovo.belon.ru",null,"L2_12"]
[null,null,null,null,"ФИО руководителя",null,null,"Баранов Александр Александрович",null,"L2_13"]
[null,null,null,null,"Должность руководителя",null,null,"Директор",null,"L2_14"]
[null,null,null,null,"Официальный сайт регулируемой организации в сети \"Интернет\"",null,null,null,null,"L2_15"]
[null,null,null,null,"Государственное и (или) муниципальное участие в юридическом лице",null,"Наличие","нет",null,"L3_1"]
[null,null,null,null,null,null,"Сведения о доле, %","0 %",null,"L3_2"]
[null,null,null,null,null,null,"Преобладающий тип собственности в юридическом лице","частная",null,"L3_3"]
[null,null,null,null,"Наличие раздельного учёта затрат по регулируемым видам деятельности в сфере холодного водоснабжения / водоотведения",null,null,"да",null,"L4_1"]
[null,null,null,null,"Плательщик НДС",null,null,"да",null,"L4_2"]
[null,null,null,null,"Является ли деятельность в сфере холодного водоснабжения / водоотведения профильным видом деятельности",null,null,"да",null,"L4_3"]
["STATUS_GO",null,null,null,"Наличие статуса гарантирующей организации (ГО)",null,null,"нет",null,"L4_4"]
[null,null,null,null,"URL-ссылка на документ, подтверждающий статус ГО",null,null,""]
["go",null,null,null,null,null,null,"Добавить"]
[null,null,null,null,"Наличие программы в области энергосбережения и повышения энергетической эффективности",null,null,"да",null,"L4_6"]
["HAS_DOC2",null,null,null,"Наличие программы комплексного развития",null,null,"да",null,"L4_7"]
[null,null,null,null,"Реквизиты решения","Наименование",null,"Об утверждении Программы комплексного развития систем коммунальной инфраструктуры Беловского городского округа Кемеровской области – Кузбасса до 2036 года. Актуализированная редакция на 2023 год"]
[null,null,null,null,null,"Вид",null,"решение"]
[null,null,null,null,null,"Номер",null,"53/294-н"]
[null,null,null,null,null,"Дата принятия",null,"2022-07-19"]
[null,null,null,null,null,"URL-ссылка на решение"]
["HAS_DOC2",null,null,null,null,null,null,"Добавить"]
["HAS_DOC3",null,null,null,"Наличие схемы холодного водоснабжения / водоотведения",null,null,"да",null,"L4_8"]
[null,null,null,null,"Реквизиты решения","Наименование",null,"Об утверждении Схемы водоснабжения и водоотведения Беловского городского округа Кемеровской области - Кузбасса до 2030 года. Актуализированная редакция на 2023 год."]
[null,null,null,null,null,"Вид",null,"постановление"]
[null,null,null,null,null,"Номер",null,"2162-п"]
[null,null,null,null,null,"Дата принятия",null,"2022-07-29"]
[null,null,null,null,null,"URL-ссылка на решение"]
["HAS_DOC3",null,null,null,null,null,null,"Добавить"]
["HAS_DOC4",null,null,null,"Наличие закона субъекта по льготным тарифам",null,null,"да",null,"L4_9"]
[null,null,null,null,"Реквизиты решения","Наименование",null,"О льготных ценах (тарифах) на тепловую энергию (мощность), теплоноситель, горячее, холодное водоснабжение, водоотведение, твердое топливо на территории Кемеровской области – Кузбасса"]
[null,null,null,null,null,"Вид",null,"закон"]
[null,null,null,null,null,"Номер",null,"№ 69-ОЗ"]
[null,null,null,null,null,"Дата принятия",null,"2020-07-03"]
[null,null,null,null,null,"URL-ссылка на решение"]
["HAS_DOC4",null,null,null,null,null,null,"Добавить"]
["HAS_DOC5",null,null,null,{"$f":"\"Наличие утверждённых ОИВ инвестиционных программ, действующих в течение \"&god-2&\" года, для организации, оказывающей услуги холодного водоснабжения/водоотведения\"","v":"Наличие утверждённых ОИВ инвестиционных программ, действующих в течение 2022 года, для организации, оказывающей услуги холодного водоснабжения/водоотведения"},null,null,"нет",null,"L4_10"]
[null,null,null,null,"Реквизиты решения","Наименование",null,""]
[null,null,null,null,null,"Вид",null,""]
[null,null,null,null,null,"Номер",null,""]
[null,null,null,null,null,"Дата принятия",null,""]
[null,null,null,null,null,"Дата начала реализации / действия инвестиционной программы",null,""]
[null,null,null,null,null,"Дата окончания реализации / действия инвестиционной программы",null,""]
["HAS_DOC5",null,null,null,null,null,null,"Добавить"]
["HAS_DOC6",null,null,null,{"$f":"\"Наличие утверждённых ОИВ инвестиционных программ, действующих в течение \"&god&\" года, для организации, оказывающей услуги холодного водоснабжения/водоотведения\"","v":"Наличие утверждённых ОИВ инвестиционных программ, действующих в течение 2024 года, для организации, оказывающей услуги холодного водоснабжения/водоотведения"},null,null,"нет",null,"L4_11"]
[null,null,null,null,"Реквизиты решения","Наименование",null,""]
[null,null,null,null,null,"Вид",null,""]
[null,null,null,null,null,"Номер",null,""]
[null,null,null,null,null,"Дата принятия",null,""]
[null,null,null,null,null,"Дата начала реализации / действия инвестиционной программы",null,""]
[null,null,null,null,null,"Дата окончания реализации / действия инвестиционной программы",null,""]
["HAS_DOC6",null,null,null,null,null,null,"Добавить"]
["HAS_DOC7",null,null,null,{"$f":"\"Наличие утверждённых ОИВ концессионных соглашений, действующих в течение \"&god&\" года, для организации, оказывающей услуги холодного водоснабжения/водоотведения\"","v":"Наличие утверждённых ОИВ концессионных соглашений, действующих в течение 2024 года, для организации, оказывающей услуги холодного водоснабжения/водоотведения"},null,null,"нет",null,"L4_12"]
[null,null,null,null,"Реквизиты решения","Наименование",null,""]
[null,null,null,null,null,"Вид",null,""]
[null,null,null,null,null,"Номер",null,""]
[null,null,null,null,null,"Дата принятия",null,""]
[null,null,null,null,null,"Дата начала реализации / действия концессионного соглашения",null,""]
[null,null,null,null,null,"Дата окончания реализации / действия концессионного соглашения",null,""]
["HAS_DOC7",null,null,null,null,null,null,"Добавить"]
[null,null,null,null,"Иные сведения",null,null,null,null,"L4_13"]
["STATUS_GO",null,null,null,"Полезный отпуск рассчитывается с учётом собственных нужд предприятия \n(п.10.1 баланса ВС и п.6 баланса ВО)",null,null,"да",null,"L4_14"]
[null,null,null,null,null,null,null,""]
[null,null,null,null,"Данные об ответственном исполнителе от организации",null,"ФИО исполнителя","Дюпина Елена Владимировна",null,"L5_1"]
[null,null,null,null,null,null,"Должность исполнителя","гл.экономист ",null,"L5_2"]
[null,null,null,null,null,null,"Контактный телефон исполнителя","8(38452)96103",null,"L5_3"]
[null,null,null,null,null,null,"e-mail исполнителя","e.dyupina@tvk.hcsds.ru",null,"L5_4"]
[]
[null,null,null,null,"Перечень нормативных правовых актов, использованных в процессе проведения экспертизы предложения об установлении тарифов:"]
[null,null,null,null,"1. Гражданский кодекс Российской Федерации;"]
[null,null,null,null,"2. Налоговый кодекс Российской Федерации;"]
[null,null,null,null,"3. Федеральный закон от 17.08.1995 № 147-ФЗ \"О естественных монополиях\";"]
[null,null,null,null,"4. Федеральный закон от 26.07.2006 № 135-ФЗ \"О защите конкуренции\";"]
[null,null,null,null,"5. Федеральный закон от 07.12.2011 № 416-ФЗ \"О водоснабжении и водоотведении\";"]
[null,null,null,null,"6. Федеральный закон от 23.11.2009 № 261-ФЗ \"Об энергосбережении и о повышении энергетической эффективности, и о внесении изменений в отдельные законодательные акты Российской Федерации\";"]
[null,null,null,null,"7. Постановление Правительства Российской Федерации от 13.05.2013 № 406 \"О государственном регулировании тарифов в сфере водоснабжения и водоотведения\";"]
[null,null,null,null,"8. Постановление Правительства Российской Федерации от 29.07.2013 № 641 \"Об инвестиционных и производственных программах организаций, осуществляющих деятельность в сфере водоснабжения и водоотведения\";"]
[null,null,null,null,"9. Методические указания по расчету регулируемых тарифов в сфере водоснабжения и водоотведения, утвержденные приказом ФСТ России от 27.12.2013 № 1746-э;"]
[null,null,null,null,"10. Регламент установления регулируемых тарифов в сфере водоснабжения и водоотведения, утвержденный приказом ФСТ России от 16.07.2014 № 1154-э;"]
[null,null,null,null,"11. Приказ Минстроя России от 25.12.2014 № 22/пр \"Об утверждении Порядка ведения раздельного учета затрат по видам деятельности организаций, осуществляющих горячее водоснабжение, холодное водоснабжение и (или) водоотведение, и единой системы классификации таких затрат\";"]
[null,null,null,null,"12. Приказ Минстроя России от 04.04.2014 № 162/пр \"Об утверждении перечня показателей надежности, качества, энергетической эффективности объектов централизованных систем горячего водоснабжения, холодного водоснабжения и (или) водоотведения, порядка и правил определения плановых значений и фактических значений таких показателей\";"]
[null,null,null,null,"13. Приказ Минстроя России от 23.03.2020 №154/пр \"Об утверждении типовых отраслевых норм численности работников водопроводно-канализационного хозяйства\";"]
[null,null,null,null,"14. Иные нормативные правовые акты Российской Федерации."]
[null,null,null,null,null,null,{"$f":"COUNTIF(H121:H148,\"Водоснабжение\")-COUNTIF(H121:H148,\"Транспортировка воды\")>0","v":true},{"$f":"COUNTIF(H121:H148,\"Водоотведение\")-COUNTIF(H121:H148,\"Транспортировка сточных вод\")>0","v":true},{"$f":"COUNTIF(H121:H148,\"Транспортировка воды\")>0","v":false},{"$f":"COUNTIF(H121:H148,\"Транспортировка сточных вод\")>0","v":false}]
[null,null,null,null,"2. Информация о рассмотрении дела об установлении тарифов"]
[null,null,null,null,"Реквизиты решения, которым установлены действующие тарифы",null,"Организация регулируется впервые","нет",null,"L6_1"]
[null,null,null,null,null,null,"Вид","постановление",null,"L6_2"]
[null,null,null,null,null,null,"Номер","626",null,"L6_3"]
[null,null,null,null,null,null,"Дата принятия","2022-11-25",null,"L6_4"]
[null,null,null,"0",{"$f":"\"Заявление организации\"","v":"Заявление организации"}]
[null,null,null,"1",null,null,{"$f":"\"Тариф \" & D122","v":"Тариф 1"},"Водоснабжение","О",{"$f":"G122 & \" (\" &H122& \") - \" &H124 & IF(H128=\"\",\"\",\" (\" & H128 & \")\")","v":"Тариф 1 (Водоснабжение) - тариф на питьевую воду"},{"$f":"H127","v":"питьевая вода"},{"$f":"H124","v":"тариф на питьевую воду"},{"$f":"H128","v":0},{"$f":"H125","v":"одноставочный"}]
[null,null,null,null,null,null,"Номер тарифа (идентификатор)","ХВС.42.26356891.0002"]
[null,null,null,null,null,null,"Вид тарифа","тариф на питьевую воду"]
[null,null,null,null,null,null,"Тип тарифа","одноставочный"]
[null,null,null,null,null,null,"Вид(-ы) деятельности","Производство (подъём / добыча) воды :: Очистка воды :: Транспортировка воды :: Сбыт (распределение) воды"]
[null,null,null,null,null,null,{"$f":"IF(H122=\"Водоотведение\",\"Вид сточных вод\",\"Вид воды\")","v":"Вид воды"},"питьевая вода"]
[null,null,null,null,null,null,"Дополнительный признак дифференциации тарифа"]
[null,{"$f":"org_declaration=\"Заявление организации\"","v":true},null,null,null,null,"Номер входящий",2577]
[null,true,null,null,null,null,"Дата регистрации","2023-04-28"]
[null,true,null,null,null,null,"Дополнительные сведения"]
[null,true,null,null,null,null,"Метод регулирования, предложенный организацией","индексации"]
[null,true,null,null,null,null,{"$f":"IF(OR(H132=\"экономически обоснованных расходов (затрат)\",H132=\"сравнения аналогов\"),\"Период регулирования\",\"Первый год долгосрочного периода регулирования, предложенный организацией\")","v":"Первый год долгосрочного периода регулирования, предложенный организацией"},2024]
[null,true,null,null,null,null,"Период долгосрочной индексации (количество лет)",5]
[null,null,null,"2",null,null,{"$f":"\"Тариф \" & D135","v":"Тариф 2"},"Водоотведение","О",{"$f":"G135 & \" (\" &H135& \") - \" &H137 & IF(H141=\"\",\"\",\" (\" & H141 & \")\")","v":"Тариф 2 (Водоотведение) - тариф на водоотведение"},{"$f":"H140","v":"без дифференциации"},{"$f":"H137","v":"тариф на водоотведение"},{"$f":"H141","v":0},{"$f":"H138","v":"одноставочный"}]
[null,null,null,null,null,null,"Номер тарифа (идентификатор)","ВО.42.26356891.0002"]
[null,null,null,null,null,null,"Вид тарифа","тариф на водоотведение"]
[null,null,null,null,null,null,"Тип тарифа","одноставочный"]
[null,null,null,null,null,null,"Вид(-ы) деятельности","Приём сточных вод :: Очистка сточных вод :: Транспортировка сточных вод"]
[null,null,null,null,null,null,{"$f":"IF(H135=\"Водоотведение\",\"Вид сточных вод\",\"Вид воды\")","v":"Вид сточных вод"},"без дифференциации"]
[null,null,null,null,null,null,"Дополнительный признак дифференциации тарифа"]
[null,{"$f":"org_declaration=\"Заявление организации\"","v":true},null,null,null,null,"Номер входящий",{"$f":"IFERROR(IF(H129=\"\",\"\",H129),\"\")","v":2577}]
[null,true,null,null,null,null,"Дата регистрации",{"$f":"IFERROR(IF(H130=\"\",\"\",H130),\"\")","v":"2023-04-28"}]
[null,true,null,null,null,null,"Дополнительные сведения",{"$f":"IFERROR(IF(H131=\"\",\"\",H131),\"\")","v":""}]
[null,true,null,null,null,null,"Метод регулирования, предложенный организацией","индексации"]
[null,true,null,null,null,null,{"$f":"IF(OR(H145=\"экономически обоснованных расходов (затрат)\",H145=\"сравнения аналогов\"),\"Период регулирования\",\"Первый год долгосрочного периода регулирования, предложенный организацией\")","v":"Первый год долгосрочного периода регулирования, предложенный организацией"},2024]
[null,true,null,null,null,null,"Период долгосрочной индексации (количество лет)",5]
[null,null,null,null,null,null,"Добавить тариф"]
[null,null,null,null,"Решение об открытии дела об установлении тарифов",null,"Номер дела об установлении тарифа","39-ВСиВО",null,"L7_2"]
[null,null,null,null,null,null,"ФИО уполномоченного по делу","Белоусова Ирина Анатольевна",null,"L7_3"]
[null,null,null,null,null,null,"Должность уполномоченного по делу","Главный консультант",null,"L7_4"]
[null,null,null,null,null,null,"Контактный телефон уполномоченного по делу","8 (384-2) 34-94-52",null,"L7_5"]
[null,null,null,null,null,null,"e-mail уполномоченного по делу","belousova_ia.71@mail.ru ",null,"L7_6"]
[null,null,null,null,null,null,"Добавить строку"]
[null,null,null,null,null,null,"Выбранный метод регулирования",{"$f":"\"индексации\" & IF(god=first_year,\"\",\" (корректировка)\")","v":"индексации"}]
[null,null,null,null,null,null,"Период регулирования",{"$f":"\"\"&god","v":"2024"}]
[null,null,null,null,null,null,"Первый год долгосрочного периода регулирования",{"$f":"first_year","v":2024}]
[null,null,null,null,null,null,"Период долгосрочной индексации (количество лет)",{"$f":"\"\"&PERIOD_LENGTH","v":"5"}]
[null,null,null,null,"Представленные документы и материалы достаточны и предложение регулируемой организации об установлении тарифов соответствует законодательству Российской Федерации",null,null,"да"]

{"sheet":"Список территорий","index":13,"n_rows":20,"n_cols":17,"rows_kept":20,"cut":false,"hidden":false,"merged":[[11,11,11,16]]}
[null,null,null,null,null,null,null,null,null,null,null,null,"MR_NAME","MO_NAME","OKTMO"]
[]
[]
[]
[]
[]
[]
[]
[]
[]
[null,null,null,null,null,null,null,null,null,null,null,null,{"$f":"tpl_title","v":"Кемеровская область / 2024 / ООО \"ТВК\" (ИНН:4202026697, КПП:420201001) / ДПР: 2024-2028"}]
[null,null,null,null,null,null,null,null,null,null,null,"3. Перечень муниципальных образований, на территории которых организация оказывает услуги холодного водоснабжения / водоотведения"]
[]
[null,null,null,null,null,null,null,null,null,null,null,"№ п/п","Муниципальный район","Муниципальное образование","ОКТМО","Тип муниципального образования ","Дополнительные сведения"]
[{"$f":"'Общие сведения'!$D$122","v":"1"},null,null,null,null,null,null,null,null,null,null,{"$f":"INDEX('Общие сведения'!$J$121:$J$148,MATCH($A15,'Общие сведения'!$D$121:$D$148,0))","v":"Тариф 1 (Водоснабжение) - тариф на питьевую воду"}]
[{"$f":"A15","v":"1"},null,null,null,null,null,null,null,null,null,null,"1","город Белово","город Белово","32707000"]
[{"$f":"A15","v":"1"},null,null,null,null,null,null,null,null,null,null,null,"Добавить территорию"]
[{"$f":"'Общие сведения'!$D$135","v":"2"},null,null,null,null,null,null,null,null,null,null,{"$f":"INDEX('Общие сведения'!$J$121:$J$148,MATCH($A18,'Общие сведения'!$D$121:$D$148,0))","v":"Тариф 2 (Водоотведение) - тариф на водоотведение"}]
[{"$f":"A18","v":"2"},null,null,null,null,null,null,null,null,null,null,"1","город Белово","город Белово","32707000"]
[{"$f":"A18","v":"2"},null,null,null,null,null,null,null,null,null,null,null,"Добавить территорию"]

{"sheet":"Список объектов","index":14,"n_rows":36,"n_cols":19,"rows_kept":36,"cut":false,"hidden":false,"merged":[[22,14,22,18],[28,14,28,18],[11,11,11,18],[13,11,14,11],[12,15,12,16],[13,12,14,12],[13,13,14,13],[13,18,14,18]]}
[null,null,null,null,null,null,null,null,null,null,null,null,null,null,{"$f":"god-2","v":2022},{"$f":"god-1","v":2023},{"$f":"god","v":2024},{"$f":"god","v":2024},{"$f":"god","v":2024}]
[null,null,null,null,null,null,null,null,null,null,null,null,null,null,"Не определено","Принято органом регулирования","Предложение организации","Принято органом регулирования","Не определено"]
[]
[]
[]
[]
[]
[]
[]
[]
[null,null,null,null,null,null,null,null,null,null,null,null,{"$f":"tpl_title","v":"Кемеровская область / 2024 / ООО \"ТВК\" (ИНН:4202026697, КПП:420201001) / ДПР: 2024-2028"}]
[null,null,null,null,null,null,null,null,null,null,null,"4. Перечень объектов организации, с помощью которых организация оказывает услуги холодного водоснабжения/ водоотведения"]
[]
[null,null,null,null,null,null,null,null,null,null,null,"№ п/п","Наименование показателя","Единица измерения",{"$f":"god-2 & \" год\"","v":"2022 год"},{"$f":"god-1 & \" год\"","v":"2023 год"},{"$f":"god & \" год\"","v":"2024 год"},{"$f":"god & \" год\"","v":"2024 год"},"Комментарии"]
["t",null,null,null,null,null,null,null,null,null,null,null,null,null,"Принято органом регулирования","Принято органом регулирования","Предложение организации","Принято органом регулирования"]
[{"$f":"'Общие сведения'!$D$122","v":"1"},null,null,null,null,null,null,null,null,null,null,{"$f":"INDEX('Общие сведения'!$J$121:$J$148,MATCH($A16,'Общие сведения'!$D$121:$D$148,0))","v":"Тариф 1 (Водоснабжение) - тариф на питьевую воду"}]
[{"$f":"A16","v":"1"},"L1","L3",{"$f":"M17&\"::\"&N17","v":"Водонасосные станции (водозаборные узлы)::ед."},null,null,null,null,null,null,null,1,"Водонасосные станции (водозаборные узлы)","ед."]
["1","L1","L3",{"$f":"M18&\"::\"&N18","v":"Скважины::ед."},null,null,null,null,null,null,null,2,"Скважины","ед.",2,2,2,2]
["1","L1","L3",{"$f":"M19&\"::\"&N19","v":"Подкачивающие насосные станции::ед."},null,null,null,null,null,null,null,3,"Подкачивающие насосные станции","ед.",1,1,1,1]
["1","L1","L3",{"$f":"M20&\"::\"&N20","v":"Водонапорные башни::ед."},null,null,null,null,null,null,null,4,"Водонапорные башни","ед."]
["1","L1","L3",{"$f":"M21&\"::\"&N21","v":"Водопроводные сети::км"},null,null,null,null,null,null,null,5,"Водопроводные сети","км",5.4850000000000003,5.4850000000000003,5.4850000000000003,5.4850000000000003]
["1",{"$f":"A22&\"pIns\"","v":"1pIns"},null,null,null,null,null,null,null,null,null,null,"Добавить"]
["1","L2","L3",{"$f":"M23","v":"Краткое описание технологического процесса"},null,null,null,null,null,null,null,null,"Краткое описание технологического процесса",null,"Для хозяйственно-питьевого и производственно-технического водоснабжения предприятий используется подземная вода, добываемая из  2-х артезианских скважин (№ 11 и № 12). Скважины оборудованы погружными центробежными насосами диаметром 8 дюймов, производительностью 40 м3/час. Учет объема добываемых подземных вод ведется по показаниям расходомеров-счетчиков «ВЗЛЕТ ТСРВ-023»).\nИз скважин вода подается на насосную станцию Водоема-2 в подземный резервуар-накопитель (объем – 120 м3), а затем насосами ЦНС 60-125 (ЦНС 105-196) – на гидроузел в 2 подземных резервуара объемом по 2000 м3 каждый, где обеззараживается и далее подается потребителям.\nОбщая протяженность обслуживаемых сетей водоснабжения составляет 5485,0 м.\nДля обеззараживания воды используется антимикробный препарат «БИОПАГ».\nВ настоящее время ООО «Шахта Листвяжная» является единственным потребителем услуг холодного водоснабжения. Питьевая вода из артезианских скважин поставляется также для собственных хозяйственно-бытовых и производственных нужд ООО \"ТВК\" (на очистные сооружения).\nВода для нужд паросилового хозяйства ООО \"ТВК\", в связи с недостаточным дебитом скважин и неподходящими характеристиками артезианской воды, поставляется на котельную ООО «ТВК» по отдельному водоводу из г. Ленинск-Кузнецкий (инвентарные номера арендуемых объектов – № 16186, № 16191, № 18223). Трубопровод, присоединенный к сетям водоснабжения артезианской водой, предназначен для аварийных поставок воды на котельную и фактически не используется.  \nЛицензия на пользование недрами (добычу воды из артезианских скважин) оформлена на организацию-арендодателя."]
[{"$f":"'Общие сведения'!$D$135","v":"2"},null,null,null,null,null,null,null,null,null,null,{"$f":"INDEX('Общие сведения'!$J$121:$J$148,MATCH($A24,'Общие сведения'!$D$121:$D$148,0))","v":"Тариф 2 (Водоотведение) - тариф на водоотведение"}]
[{"$f":"A24","v":"2"},"L1","L3",{"$f":"M25&\"::\"&N25","v":"Биологические очистные сооружения::ед."},null,null,null,null,null,null,null,1,"Биологические очистные сооружения","ед.",1,1,1,1]
[{"$f":"A25","v":"2"},"L1","L3",{"$f":"M26&\"::\"&N26","v":"Канализационные насосные станции::ед."},null,null,null,null,null,null,null,2,"Канализационные насосные станции","ед.",1,1,1,1]
[{"$f":"A26","v":"2"},"L1","L3",{"$f":"M27&\"::\"&N27","v":"Канализационные сети::км"},null,null,null,null,null,null,null,3,"Канализационные сети","км",3.431,3.431,3.431,3.431]
[{"$f":"A27","v":"2"},{"$f":"A28&\"pIns\"","v":"2pIns"},null,null,null,null,null,null,null,null,null,null,"Добавить"]
[{"$f":"A28","v":"2"},"L2","L3",{"$f":"M29","v":"Краткое описание технологического процесса"},null,null,null,null,null,null,null,null,"Краткое описание технологического процесса",null,"Бытовые сточные воды с промплощадок ООО «Шахта Листвяжная»  и  ООО «ТВК» (от котельной и гидроузла)  самотеком отводятся, пройдя очистку от крупных загрязнений на решетках, в приемный резервуар канализационной насосной станции, откуда перекачиваются насосами КН по 2-м напорным трубопроводам на очистные сооружения в 2 резервуара-усреднителя объемом 85 м3; далее – насосами НПСП на тангенсальные песколовки Q=600 м3, где происходит отделение крупных частиц минерального происхождения. Затем стоки самотеком попадают в камеру хлопьеобразования (2 шт.). Раствор коагулянта вводится до песколовки, раствор флокулянта – после песколовки. Далее стоки поступают в отстойники (2 шт.), где происходит выпадение осадка, который эрлифтами подается на блок обезвоживания. После отстойника стоки подаются в камеру реакции (2 шт.), далее – в приемный резервуар, затем насосами НОВ перекачиваются на доочистку в скорые фильтры (3 шт.). После глубокой очистки на фильтрах сточные воды проходят через УФ-стерилизатор и затем попадают в контактный резервуар.\nОбеззараживание стоков производится раствором гипохлорита натрия, получение которого в существующей технологической схеме предусмотрено на электролизной установке. Поваренная соль подается через бункер в растворный бак объемом 4500 л, где смешивается с водопроводной водой; насосами НПСО раствор соли перекачивается в отстойник (V- 4500 л), далее химическими насосами НПСФ -  в расходный бак V- 4500 л, дозировочными насосами НПСЭ подается на электролизер, откуда в расходный бак V – 2000 л поступает полученный раствор гипохлорита натрия, который дозировочными насосами НПГВ подается на первичное и вторичное хлорирование. (Следует отметить, что с 2019-2020 г. ООО «ТВК» использует готовый покупной гипохлорит натрия.) \nДля подачи коагулянта применяется насос НПКХ;  для подачи флокулянта - насос НПФХ; для подачи едкого натрия – насос НПНХ.\nОбщая протяженность канализационных сетей составляет 3431,0 м. \nОчищенная и обеззараженная вода береговым выпуском сбрасывается в лог и далее, совместно со стоками шахтных вод, отводится в р. Иня.\nРазрешение № 1/1вода/Бел на сброс загрязняющих веществ в окружающую среду (водные объекты)»  выдано Управлением Росприроднадзора по Кемеровской области обществу с ограниченной ответственностью «Шахта «Листвяжная»."]
[]
[null,null,null,null,null,null,null,null,null,null,null,"5. Правоустанавливающие и подтверждающие документы на объекты коммунальной инфраструктуры"]
[null,null,null,null,null,null,null,null,null,null,null,null,"L1","L2","L3","L4_1","L4_2","L5"]
["t",null,null,null,null,null,null,null,null,null,null,"№ п/п","Объект коммунальной инфраструктуры","Основание эксплуатации","Вид документа","Номер документа","Дата документа","Срок действия"]
[null,null,null,"ВС",null,"НС с сетями","ООО \"ТВК\"","пгт Грамотеино / мкр Листвяжный / 5, стр 1",null,null,"О",1,{"$f":"F34&\" :: \" &G34&\" :: \" & H34","v":"НС с сетями :: ООО \"ТВК\" :: пгт Грамотеино / мкр Листвяжный / 5, стр 1"},"аренда","договор","35_22","01.07.2022","С 01.07.2022 по 31.05.2023;  представлен также новый Договор аренды имущества (сооружения) от 01.06.2023  № А-63/23 со сроком действия по 30.06.2024. Договоры с арендодателем (ООО \"Шахта \"Листвяжная\") перезаключаются ежегодно.   https://portal.eias.ru/Portal/DownloadPage.aspx?type=12&guid=ef2d0be2-2b7b-4dbc-b792-1d4b3c030a6f"]
[null,null,null,"ВО",null,"КНС с ОС и сетями","ООО \"ТВК\"","пгт Грамотеино / мкр.Листвяжный / 5, стр 1",null,null,"О",2,{"$f":"F35&\" :: \" &G35&\" :: \" & H35","v":"КНС с ОС и сетями :: ООО \"ТВК\" :: пгт Грамотеино / мкр.Листвяжный / 5, стр 1"},"аренда","договор","35-22","01.07.2022","С 01.07.2022 по 31.05.2023;  представлен также новый Договор аренды имущества (сооружения) от 01.06.2023  № А-63/23 со сроком действия по 30.06.2024. Договоры с арендодателем (ООО \"Шахта \"Листвяжная\") перезаключаются ежегодно.  https://portal.eias.ru/Portal/DownloadPage.aspx?type=12&guid=ef2d0be2-2b7b-4dbc-b792-1d4b3c030a6f "]
["t",null,null,null,null,null,null,null,null,null,null,null,"Добавить объект"]

{"sheet":"Сценарии","index":15,"n_rows":52,"n_cols":42,"rows_kept":52,"cut":false,"hidden":false,"merged":[[13,11,14,11],[13,12,14,12],[13,13,14,13]]}
[null,null,null,null,null,null,null,null,null,null,null,null,null,null,{"$f":"god-2","v":2022},{"$f":"god-2","v":2022},{"$f":"god-2","v":2022},{"$f":"god-2","v":2022},{"$f":"god-1","v":2023},{"$f":"god","v":2024},{"$f":"god","v":2024},{"$f":"god","v":2024},{"$f":"god","v":2024},{"$f":"god","v":2024},{"$f":"god+1","v":2025},{"$f":"god+1","v":2025},{"$f":"god+2","v":2026},{"$f":"god+2","v":2026},{"$f":"god+3","v":2027},{"$f":"god+3","v":2027},{"$f":"god+4","v":2028},{"$f":"god+4","v":2028},{"$f":"god+5","v":2029},{"$f":"god+5","v":2029},{"$f":"god+6","v":2030},{"$f":"god+6","v":2030},{"$f":"god+7","v":2031},{"$f":"god+7","v":2031},{"$f":"god+8","v":2032},{"$f":"god+8","v":2032},{"$f":"god+9","v":2033},{"$f":"god+9","v":2033}]
[null,null,null,null,null,null,null,null,null,null,null,null,null,null,{"$f":"O15","v":"Принято органом регулирования"},"Факт по данным организации","Факт, принятый органом регулирования","Комментарии","Принято органом регулирования","Предложение организации",{"$f":"U15","v":"Принято органом регулирования"},"% роста / снижения","Отклонение (принято органом регулирования - заявлено организацией)","Комментарии","Предложение организации","Принято органом регулирования","Предложение организации","Принято органом регулирования","Предложение организации","Принято органом регулирования","Предложение организации","Принято органом регулирования","Предложение организации","Принято органом регулирования","Предложение организации","Принято органом регулирования","Предложение организации","Принято органом регулирования","Предложение организации","Принято органом регулирования","Предложение организации","Принято органом регулирования"]
[null,null,null,null,null,null,null,null,null,null,null,null,null,null,{"$f":"O1&O2","v":"2022Принято органом регулирования"},"2022Факт по данным организации","2022Факт, принятый органом регулирования","2022Комментарии","2023Принято органом регулирования","2024Предложение организации","2024Принято органом регулирования","2024% роста / снижения","2024Отклонение (принято органом регулирования - заявлено организацией)","2024Комментарии","2025Предложение организации","2025Принято органом регулирования","2026Предложение организации","2026Принято органом регулирования","2027Предложение организации","2027Принято органом регулирования","2028Предложение организации","2028Принято органом регулирования","2029Предложение организации","2029Принято органом регулирования","2030Предложение организации","2030Принято органом регулирования","2031Предложение организации","2031Принято органом регулирования","2032Предложение организации","2032Принято органом регулирования","2033Предложение организации","2033Принято органом регулирования"]
[]
[]
[]
[null,null,null,null,null,null,null,null,null,null,null,null,null,null,null,null,null,null,null,null,null,null,null,null,{"$f":"Y1<=last_year_vis","v":true},true,true,true,true,true,true,true,false,false,false,false,false,false,false,false,false,false]
[]
[]
[]
[null,null,null,null,null,null,null,null,null,null,null,null,{"$f":"tpl_title","v":"Кемеровская область / 2024 / ООО \"ТВК\" (ИНН:4202026697, КПП:420201001) / ДПР: 2024-2028"}]
[null,null,null,null,null,null,null,null,null,null,null,"6. Ключевые сценарные показатели"]
[]
[null,null,null,null,null,null,null,null,null,null,null,"№ п/п","Наименование параметра","Единица измерения",{"$f":"god-2 & \" год\"","v":"2022 год"},{"$f":"god-2 & \" год\"","v":"2022 год"},{"$f":"god-2 & \" год\"","v":"2022 год"},{"$f":"god-2 & \" год\"","v":"2022 год"},{"$f":"god-1 & \" год\"","v":"2023 год"},{"$f":"god & \" год\"","v":"2024 год"},{"$f":"god & \" год\"","v":"2024 год"},{"$f":"god & \" год\"","v":"2024 год"},{"$f":"god & \" год\"","v":"2024 год"},{"$f":"god & \" год\"","v":"2024 год"},{"$f":"god+1 & \" год\"","v":"2025 год"},{"$f":"god+1 & \" год\"","v":"2025 год"},{"$f":"god+2 & \" год\"","v":"2026 год"},{"$f":"god+2 & \" год\"","v":"2026 год"},{"$f":"god+3 & \" год\"","v":"2027 год"},{"$f":"god+3 & \" год\"","v":"2027 год"},{"$f":"god+4 & \" год\"","v":"2028 год"},{"$f":"god+4 & \" год\"","v":"2028 год"},{"$f":"god+5 & \" год\"","v":"2029 год"},{"$f":"god+5 & \" год\"","v":"2029 год"},{"$f":"god+6 & \" год\"","v":"2030 год"},{"$f":"god+6 & \" год\"","v":"2030 год"},{"$f":"god+7 & \" год\"","v":"2031 год"},{"$f":"god+7 & \" год\"","v":"2031 год"},{"$f":"god+8 & \" год\"","v":"2032 год"},{"$f":"god+8 & \" год\"","v":"2032 год"},{"$f":"god+9 & \" год\"","v":"2033 год"},{"$f":"god+9 & \" год\"","v":"2033 год"}]
["t",null,null,null,null,null,null,null,null,null,null,null,null,null,"Принято органом регулирования","Факт по данным организации","Факт, принятый органом регулирования","Комментарии","Принято органом регулирования","Предложение организации","Принято органом регулирования","% роста / снижения","Отклонение (принято органом регулирования - заявлено организацией)","Комментарии","Предложение организации","Принято органом регулирования","Предложение организации","Принято органом регулирования","Предложение организации","Принято органом регулирования","Предложение организации","Принято органом регулирования","Предложение организации","Принято органом регулирования","Предложение организации","Принято органом регулирования","Предложение организации","Принято органом регулирования","Предложение организации","Принято органом регулирования","Предложение организации","Принято органом регулирования"]
[{"$f":"'Общие сведения'!$D$122","v":"1"},null,null,null,null,null,null,null,null,null,null,{"$f":"INDEX('Общие сведения'!$J$121:$J$148,MATCH($A16,'Общие сведения'!$D$121:$D$148,0))","v":"Тариф 1 (Водоснабжение) - тариф на питьевую воду"}]
[{"$f":"A16","v":"1"},"ИОР",null,null,null,null,null,null,null,null,null,null,"Индексы",null,null,null,null,null,{"$f":"(1-S18/100)*(1+S19/100)*(1+S21/100)","v":1.04742},{"$f":"(1-T18/100)*(1+T19/100)*(1+T21/100)","v":1},{"$f":"(1-U18/100)*(1+U19/100)*(1+U21/100)","v":1.0720000000000001},null,null,null,{"$f":"(1-Y18/100)*(1+Y19/100)*(1+Y21/100)","v":1.04},{"$f":"(1-Z18/100)*(1+Z19/100)*(1+Z21/100)","v":1.0315799999999999},1.04,1.0296000000000001,1.04,1.0296000000000001,1.04,1.0296000000000001,1,1,1,1,1,1,1,1,1,1]
[{"$f":"A17","v":"1"},"ИЭР","L1_1",null,null,null,null,null,null,null,null,1,"Индекс эффективности операционных расходов","%",1,1,1,"Постановление РЭК Кемеровской области от 11.10.2018 N 254 (ред. от 14.12.2021) \"Об установлении долгосрочных параметров регулирования тарифов в сфере холодного водоснабжения, водоотведения ООО \"ТВК\" (Беловский городской округ)\".",1,null,null,{"$f":"IF(S18<>0,U18/S18,0)","v":0},{"$f":"U18-T18","v":0},null,0,1,0,1,0,1,0,1]
["1","ИПЦ","L1_2",null,null,null,null,null,null,null,null,2,"Индекс потребительских цен","%",4.3,13.9,13.8,"Согласно базовому варианту \"Прогноза соц.-экономического развития Российской Федерации на 2024 год и на плановый период 2025 и 2026 годов\", опубликованному на официальном сайте Минэкономразвития России   22.09.2023.",5.8,null,7.2,{"$f":"IF(S19<>0,U19/S19,0)","v":1.2413793103448276},{"$f":"U19-T19","v":7.2},"Согласно базовому варианту \"Прогноза соц.-экономического развития Российской Федерации на 2024 год и на плановый период 2025 и 2026 годов\", опубликованному на официальном сайте Минэкономразвития России   22.09.2023.",4,4.2,4,4,4,4,4,4]
["1",null,"L1_3",null,null,null,null,null,null,null,null,3,"Индекс роста цен на электроэнергию","%",3.5,4.5,null,"Согласно базовому варианту \"Прогноза соц.-экономического развития Российской Федерации на 2024 год и на плановый период 2025 и 2026 годов\", опубликованному на официальном сайте Минэкономразвития России   22.09.2023.",12,null,5.6,{"$f":"IF(S20<>0,U20/S20,0)","v":0.46666666666666662},{"$f":"U20-T20","v":5.6},"Согласно базовому варианту \"Прогноза соц.-экономического развития Российской Федерации на 2024 год и на плановый период 2025 и 2026 годов\", опубликованному на официальном сайте Минэкономразвития России   22.09.2023.",null,4.9000000000000004,null,3,null,3,null,3]
["1","ИКА","L1_4",null,null,null,null,null,null,null,null,4,"Индекс количества активов","%",0,0,0,null,0,null,null,{"$f":"IF(S21<>0,U21/S21,0)","v":0},{"$f":"U21-T21","v":0},null,null,0,null,0,null,0,null,0]
["1",null,null,null,null,null,null,null,null,null,null,null,"Налоговые ставки"]
["1","СВФОТ","L2_1",null,null,null,null,null,null,null,null,1,"Ставка страховых взносов с ФОТ","%",30.2,30.2,30.2,"1) Глава 34 \"Налогового кодекса РФ\" (ред. от 10.07.2023 № 318-ФЗ); 2) Федеральные законы  от 22.12.2005 № 179-ФЗ,  от 31.12.2017 № 484-ФЗ); от 24.07.1998 № 125-ФЗ; 3) Форма  налоговой отчетности  \"4-ФСС\"  за 2022 год .  ",30.2,30.2,30.2,{"$f":"IF(S23<>0,U23/S23,0)","v":1},{"$f":"U23-T23","v":0},"1) Глава 34 \"Налогового кодекса РФ\" (ред. от 10.07.2023 № 318-ФЗ); 2) Федеральные законы  от 22.12.2005 № 179-ФЗ,  от 31.12.2017 № 484-ФЗ); от 24.07.1998 № 125-ФЗ; 3) Форма  налоговой отчетности  \"4-ФСС\"  за 2022 год .  ",null,30.2,null,30.2,null,30.2,null,30.2]
["1",null,"L2_2",null,null,null,null,null,null,null,null,2,"Ставка НДС","%",20,20,20,"Пункт 3 Статьи 164 Главы 21 \"НАЛОГ НА ДОБАВЛЕННУЮ СТОИМОСТЬ\" \"Налогового кодекса Российской Федерации (часть вторая)\" от 05.08.2000 N 117-ФЗ (в редакции от 10.07.2023 № 318-ФЗ). ",20,20,20,{"$f":"IF(S24<>0,U24/S24,0)","v":1},{"$f":"U24-T24","v":0},"Пункт 3 Статьи 164 Главы 21 \"НАЛОГ НА ДОБАВЛЕННУЮ СТОИМОСТЬ\" \"Налогового кодекса Российской Федерации (часть вторая)\" от 05.08.2000 N 117-ФЗ (в редакции от 10.07.2023 № 318-ФЗ). ",null,20,null,20,null,20,null,20]
["1",null,null,null,null,null,null,null,null,null,null,3,"Ставка водного налога"]
["1",null,"L3_1_1",null,null,null,null,null,null,null,null,"3.1.1","Ставка водного налога из поверхностных источников для населения","руб./тыс.куб.м.",null,null,null,"Плательщиком водного налога является организация-арендодатель",null,null,null,0,0,"Плательщиком водного налога является организация-арендодатель"]
["1",null,"L3_1_2",null,null,null,null,null,null,null,null,"3.1.2","Ставка водного налога из поверхностных источников для прочих потребителей","руб./тыс.куб.м.",null,null,null,null,null,null,null,0,0]
["1",null,"L3_2_1",null,null,null,null,null,null,null,null,"3.2.1","Ставка водного налога из подземных источников для населения","руб./тыс.куб.м.",null,null,null,null,null,null,null,0,0]
["1",null,"L3_2_2",null,null,null,null,null,null,null,null,"3.2.2","Ставка водного налога из подземных источников для прочих потребителей","руб./тыс.куб.м.",null,null,null,null,null,null,null,0,0]
["1",null,"L4",null,null,null,null,null,null,null,null,4,"Ставки налога на имущество","%",null,null,null,null,null,null,null,0,0]
["1",null,"L5",null,null,null,null,null,null,null,null,5,"Ставка налога при УСН","%",null,null,null,null,null,null,null,0,0]
["1",null,"L6",null,null,null,null,null,null,null,null,"6","Доля общехозяйственных расходов",null,null,null,null,null,null,null,null,0,0]
["1",null,"L7",null,null,null,null,null,null,null,null,"7","Доля общепроизводственных расходов",null,null,null,null,null,null,null,null,0,0]
[{"$f":"'Общие сведения'!$D$135","v":"2"},null,null,null,null,null,null,null,null,null,null,{"$f":"INDEX('Общие сведения'!$J$121:$J$148,MATCH($A34,'Общие сведения'!$D$121:$D$148,0))","v":"Тариф 2 (Водоотведение) - тариф на водоотведение"}]
[{"$f":"A34","v":"2"},"ИОР",null,null,null,null,null,null,null,null,null,null,"Индексы",null,null,null,null,null,{"$f":"(1-S36/100)*(1+S37/100)*(1+S39/100)","v":1.04742},{"$f":"(1-T36/100)*(1+T37/100)*(1+T39/100)","v":1},{"$f":"(1-U36/100)*(1+U37/100)*(1+U39/100)","v":1.0720000000000001},null,null,null,{"$f":"(1-Y36/100)*(1+Y37/100)*(1+Y39/100)","v":1.0296000000000001},{"$f":"(1-Z36/100)*(1+Z37/100)*(1+Z39/100)","v":1.0315799999999999},1.0296000000000001,1.0296000000000001,1.0296000000000001,1.0296000000000001,1.0296000000000001,1.0296000000000001,1,1,1,1,1,1,1,1,1,1]
[{"$f":"A35","v":"2"},"ИЭР","L1_1",null,null,null,null,null,null,null,null,1,"Индекс эффективности операционных расходов","%",1,1,1,"Постановление РЭК Кемеровской области от 11.10.2018 N 254 (ред. от 14.12.2021) \"Об установлении долгосрочных параметров регулирования тарифов в сфере холодного водоснабжения, водоотведения ООО \"ТВК\" (Беловский городской округ)\".",1,null,null,{"$f":"IF(S36<>0,U36/S36,0)","v":0},{"$f":"U36-T36","v":0},null,1,1,1,1,1,1,1,1]
["2","ИПЦ","L1_2",null,null,null,null,null,null,null,null,2,"Индекс потребительских цен","%",4.3,13.9,13.8,"Согласно базовому варианту \"Прогноза соц.-экономического развития Российской Федерации на 2024 год и на плановый период 2025 и 2026 годов\", опубликованному на официальном сайте Минэкономразвития России   22.09.2023.",5.8,null,7.2,{"$f":"IF(S37<>0,U37/S37,0)","v":1.2413793103448276},{"$f":"U37-T37","v":7.2},"Согласно базовому варианту \"Прогноза соц.-экономического развития Российской Федерации на 2024 год и на плановый период 2025 и 2026 годов\", опубликованному на официальном сайте Минэкономразвития России   22.09.2023.",4,4.2,4,4,4,4,4,4]
["2",null,"L1_3",null,null,null,null,null,null,null,null,3,"Индекс роста цен на электроэнергию","%",3.5,4.5,null,"Согласно базовому варианту \"Прогноза соц.-экономического развития Российской Федерации на 2024 год и на плановый период 2025 и 2026 годов\", опубликованному на официальном сайте Минэкономразвития России   22.09.2023.",12,null,5.6,{"$f":"IF(S38<>0,U38/S38,0)","v":0.46666666666666662},{"$f":"U38-T38","v":5.6},"Согласно базовому варианту \"Прогноза соц.-экономического развития Российской Федерации на 2024 год и на плановый период 2025 и 2026 годов\", опубликованному на официальном сайте Минэкономразвития России   22.09.2023.",null,4.9000000000000004,null,3,null,3,null,3]
["2","ИКА","L1_4",null,null,null,null,null,null,null,null,4,"Индекс количества активов","%",0,0,0,null,0,null,null,{"$f":"IF(S39<>0,U39/S39,0)","v":0},{"$f":"U39-T39","v":0},null,null,0,null,0,null,0,null,0]
["2",null,null,null,null,null,null,null,null,null,null,null,"Налоговые ставки"]
["2","СВФОТ","L2_1",null,null,null,null,null,null,null,null,1,"Ставка страховых взносов с ФОТ","%",30.2,30.2,30.2,"1) Глава 34 \"Налогового кодекса РФ\" (ред. от 10.07.2023 № 318-ФЗ); 2) Федеральные законы  от 22.12.2005 № 179-ФЗ,  от 31.12.2017 № 484-ФЗ); от 24.07.1998 № 125-ФЗ; 3) Форма  налоговой отчетности  \"4-ФСС\"  за 2022 год .  ",30.2,30.2,30.2,{"$f":"IF(S41<>0,U41/S41,0)","v":1},{"$f":"U41-T41","v":0},"1) Глава 34 \"Налогового кодекса РФ\" (ред. от 10.07.2023 № 318-ФЗ); 2) Федеральные законы  от 22.12.2005 № 179-ФЗ,  от 31.12.2017 № 484-ФЗ); от 24.07.1998 № 125-ФЗ; 3) Форма  налоговой отчетности  \"4-ФСС\"  за 2022 год .  ",null,30.2,null,30.2,null,30.2,null,30.2]
["2",null,"L2_2",null,null,null,null,null,null,null,null,2,"Ставка НДС","%",20,20,20,"Пункт 3 Статьи 164 Главы 21 \"НАЛОГ НА ДОБАВЛЕННУЮ СТОИМОСТЬ\" \"Налогового кодекса Российской Федерации (часть вторая)\" от 05.08.2000 N 117-ФЗ (в редакции от 10.07.2023 № 318-ФЗ). ",20,20,20,{"$f":"IF(S42<>0,U42/S42,0)","v":1},{"$f":"U42-T42","v":0},"Пункт 3 Статьи 164 Главы 21 \"НАЛОГ НА ДОБАВЛЕННУЮ СТОИМОСТЬ\" \"Налогового кодекса Российской Федерации (часть вторая)\" от 05.08.2000 N 117-ФЗ (в редакции от 10.07.2023 № 318-ФЗ). ",null,20,null,20,null,20,null,20]
["2",null,null,null,null,null,null,null,null,null,null,3,"Ставка водного налога"]
["2",null,"L3_1_1",null,null,null,null,null,null,null,null,"3.1.1","Ставка водного налога из поверхностных источников для населения","руб./тыс.куб.м.",null,null,null,null,null,null,null,0,0]
["2",null,"L3_1_2",null,null,null,null,null,null,null,null,"3.1.2","Ставка водного налога из поверхностных источников для прочих потребителей","руб./тыс.куб.м.",null,null,null,null,null,null,null,0,0]
["2",null,"L3_2_1",null,null,null,null,null,null,null,null,"3.2.1","Ставка водного налога из подземных источников для населения","руб./тыс.куб.м.",null,null,null,null,null,null,null,0,0]
["2",null,"L3_2_2",null,null,null,null,null,null,null,null,"3.2.2","Ставка водного налога из подземных источников для прочих потребителей","руб./тыс.куб.м.",null,null,null,null,null,null,null,0,0]
["2",null,"L4",null,null,null,null,null,null,null,null,4,"Ставки налога на имущество","%",null,null,null,null,null,null,null,0,0]
["2",null,"L5",null,null,null,null,null,null,null,null,5,"Ставка налога при УСН","%",null,null,null,null,null,null,null,0,0]
["2",null,"L6",null,null,null,null,null,null,null,null,"6","Доля общехозяйственных расходов",null,null,null,null,null,null,null,null,0,0]
["2",null,"L7",null,null,null,null,null,null,null,null,"7","Доля общепроизводственных расходов",null,null,null,null,null,null,null,null,0,0]
["t"]

{"sheet":"Баланс","index":16,"n_rows":98,"n_cols":39,"rows_kept":98,"cut":false,"hidden":false,"merged":[[92,11,93,11],[92,12,93,12],[55,11,55,38],[56,13,57,13],[97,11,97,12],[95,11,95,38],[96,11,96,38],[92,38,93,38],[56,38,57,38],[56,11,57,11],[56,12,57,12],[91,11,91,38],[92,13,93,13],[59,11,59,38],[60,38,61,38],[60,13,61,13],[60,11,61,11],[60,12,61,12],[13,11,13,38],[14,13,15,13],[14,38,15,38],[14,11,15,11],[14,12,15,12]]}
[null,null,null,null,null,null,null,null,null,null,null,null,null,null,{"$f":"god-2","v":2022},{"$f":"god-2","v":2022},{"$f":"god-2","v":2022},{"$f":"god-1","v":2023},{"$f":"god","v":2024},{"$f":"god+1","v":2025},{"$f":"god+2","v":2026},{"$f":"god+3","v":2027},{"$f":"god+4","v":2028},{"$f":"god+5","v":2029},{"$f":"god+6","v":2030},{"$f":"god+7","v":2031},{"$f":"god+8","v":2032},{"$f":"god+9","v":2033},{"$f":"god","v":2024},{"$f":"god+1","v":2025},{"$f":"god+2","v":2026},{"$f":"god+3","v":2027},{"$f":"god+4","v":2028},{"$f":"god+5","v":2029},{"$f":"god+6","v":2030},{"$f":"god+7","v":2031},{"$f":"god+8","v":2032},{"$f":"god+9","v":2033}]
[null,null,null,null,null,null,null,null,null,null,null,null,null,null,{"$f":"O16","v":"Принято органом регулирования"},{"$f":"P16","v":"Факт по данным организации"},{"$f":"Q16","v":"Факт, принятый органом регулирования"},{"$f":"R16","v":"Принято органом регулирования"},{"$f":"S16","v":"Предложение организации"},{"$f":"T16","v":"Предложение организации"},"Предложение организации","Предложение организации","Предложение организации","Предложение организации","Предложение организации","Предложение организации","Предложение организации","Предложение организации","Принято органом регулирования","Принято органом регулирования","Принято органом регулирования","Принято органом регулирования","Принято органом регулирования","Принято органом регулирования","Принято органом регулирования","Принято органом регулирования","Принято органом регулирования","Принято органом регулирования"]
[null,null,null,null,null,null,null,null,null,null,null,null,null,null,{"$f":"O1&O2","v":"2022Принято органом регулирования"},{"$f":"P1&P2","v":"2022Факт по данным организации"},{"$f":"Q1&Q2","v":"2022Факт, принятый органом регулирования"},{"$f":"R1&R2","v":"2023Принято органом регулирования"},{"$f":"S1&S2","v":"2024Предложение организации"},{"$f":"T1&T2","v":"2025Предложение организации"},"2026Предложение организации","2027Предложение организации","2028Предложение организации","2029Предложение организации","2030Предложение организации","2031Предложение организации","2032Предложение организации","2033Предложение организации","2024Принято органом регулирования","2025Принято органом регулирования","2026Принято органом регулирования","2027Принято органом регулирования","2028Принято органом регулирования","2029Принято органом регулирования","2030Принято органом регулирования","2031Принято органом регулирования","2032Принято органом регулирования","2033Принято органом регулирования"]
[]
[]
[]
[null,null,null,null,null,null,null,null,null,null,null,null,null,null,null,null,null,null,{"$f":"S1<=last_year_vis","v":true},true,true,true,true,false,false,false,false,false,true,true,true,true,true,false,false,false,false,false]
[]
[]
[]
[null,null,null,null,null,null,null,null,null,null,null,null,{"$f":"tpl_title","v":"Кемеровская область / 2024 / ООО \"ТВК\" (ИНН:4202026697, КПП:420201001) / ДПР: 2024-2028"}]
[null,null,null,null,null,null,null,null,null,null,null,"7. Баланс водоснабжения / водоотведения"]
[]
[null,null,null,null,null,null,{"$f":"hasVS","v":true},null,null,null,null,"7.1. Баланс водоснабжения"]
[null,null,null,null,null,null,{"$f":"hasVS","v":true},null,null,null,null,"№ п/п","Наименование показателя","Единица измерения",{"$f":"god-2 & \" год\"","v":"2022 год"},{"$f":"god-2 & \" год\"","v":"2022 год"},{"$f":"god-2 & \" год\"","v":"2022 год"},{"$f":"god-1 & \" год\"","v":"2023 год"},{"$f":"god & \" год\"","v":"2024 год"},{"$f":"god+1 & \" год\"","v":"2025 год"},{"$f":"god+2 & \" год\"","v":"2026 год"},{"$f":"god+3 & \" год\"","v":"2027 год"},{"$f":"god+4 & \" год\"","v":"2028 год"},{"$f":"god+5 & \" год\"","v":"2029 год"},{"$f":"god+6 & \" год\"","v":"2030 год"},{"$f":"god+7 & \" год\"","v":"2031 год"},{"$f":"god+8 & \" год\"","v":"2032 год"},{"$f":"god+9 & \" год\"","v":"2033 год"},{"$f":"god & \" год\"","v":"2024 год"},{"$f":"god+1 & \" год\"","v":"2025 год"},{"$f":"god+2 & \" год\"","v":"2026 год"},{"$f":"god+3 & \" год\"","v":"2027 год"},{"$f":"god+4 & \" год\"","v":"2028 год"},{"$f":"god+5 & \" год\"","v":"2029 год"},{"$f":"god+6 & \" год\"","v":"2030 год"},{"$f":"god+7 & \" год\"","v":"2031 год"},{"$f":"god+8 & \" год\"","v":"2032 год"},{"$f":"god+9 & \" год\"","v":"2033 год"},"Ссылка на правовую норму (основание для принятия показателя в расчет тарифа)"]
[null,null,null,null,null,null,{"$f":"hasVS","v":true},null,null,null,null,null,null,null,"Принято органом регулирования","Факт по данным организации","Факт, принятый органом регулирования","Принято органом регулирования","Предложение организации","Предложение организации","Предложение организации","Предложение организации","Предложение организации","Предложение организации","Предложение организации","Предложение организации","Предложение организации","Предложение организации","Принято органом регулирования","Принято органом регулирования","Принято органом регулирования","Принято органом регулирования","Принято органом регулирования","Принято органом регулирования","Принято органом регулирования","Принято органом регулирования","Принято органом регулирования","Принято органом регулирования"]
[{"$f":"'Общие сведения'!$D$122","v":"1"},null,null,null,null,null,null,null,null,null,null,{"$f":"INDEX('Общие сведения'!$J$121:$J$148,MATCH($A17,'Общие сведения'!$D$121:$D$148,0))","v":"Тариф 1 (Водоснабжение) - тариф на питьевую воду"}]
[{"$f":"A17","v":"1"},null,null,null,null,null,null,null,null,null,null,"1","Вид воды",null,{"$f":"INDEX('Общие сведения'!$K$121:$K$148,MATCH($A18,'Общие сведения'!$D$121:$D$148,0))","v":"питьевая вода"}]
["1",null,"L2",null,null,null,null,null,null,null,null,"2","Установленная мощность","куб.м/час",90,90,90,90,90,90,90,90,90,null,null,null,null,null,90,90,90,90,90]
["1",null,"L3",null,null,null,null,null,null,null,null,"3","Подключённая (фактическая) нагрузка","куб.м/час",{"$f":"O21/365/24*1000","v":84.599468242009138},{"$f":"P21/365/24*1000","v":63.952625570776256},{"$f":"Q21/365/24*1000","v":63.952625570776256},84.436524605022825,68.028652968036525,68.028652968036525,68.028652968036525,68.028652968036525,68.028652968036525,null,null,null,null,null,{"$f":"AC21/365/24*1000","v":63.330990567351598},{"$f":"AD21/365/24*1000","v":63.330990567351598},{"$f":"AE21/365/24*1000","v":63.330990567351598},{"$f":"AF21/365/24*1000","v":63.330990567351598},{"$f":"AG21/365/24*1000","v":63.330990567351598}]
["1",null,"L4",null,null,null,null,null,null,null,null,4,"Объём воды из источников водоснабжения, всего","тыс.куб.м",{"$f":"O30+O25-O28","v":741.0913417999999},560.22500000000002,{"$f":"Q30+Q25-Q28","v":560.22500000000002},739.66395553999996,595.93099999999993,595.93099999999993,595.93099999999993,595.93099999999993,595.93099999999993,0,0,0,0,0,{"$f":"AC30+AC25-AC28","v":554.77947737},554.77947737,554.77947737,554.77947737,554.77947737,0,0,0,0,0]
["1",null,"L4_1",null,null,null,null,null,null,null,null,"4.1","Поднято воды из поверхностных источников","тыс.куб.м"]
["1",null,"L4_2",null,null,null,null,null,null,null,null,"4.2","Поднято воды из подземных источников","тыс.куб.м",{"$f":"O21","v":741.0913417999999},{"$f":"P21","v":560.22500000000002},560.22500000000002,739.66395553999996,595.93099999999993,595.93099999999993,595.93099999999993,595.93099999999993,595.93099999999993,null,null,null,null,null,{"$f":"AC21","v":554.77947737},{"$f":"AD21","v":554.77947737},{"$f":"AE21","v":554.77947737},{"$f":"AF21","v":554.77947737},{"$f":"AG21","v":554.77947737},null,null,null,null,null,"Фактические данные за 2022 г. подтверждены данными представленных \"Журналов учета водопотребления средствами измерений\"."]
["1",null,"L4_3",null,null,null,null,null,null,null,null,"4.3","Доочищенная сточная вода для нужд технического водоснабжения","тыс.куб.м"]
["1",null,"L5",null,null,null,null,null,null,null,null,"5","Расход воды на технологические нужды всего","тыс.куб.м",{"$f":"SUM(O26:O27)","v":0.93400000000000005},0,0,0.93400000000000005,0,0,0,0,0,0,0,0,0,0,0,0,0,0,0,0,0,0,0,0]
["1",null,"L5_1",null,null,null,null,null,null,null,null,"5.1","Расход воды на собственные нужды водоподготовки","тыс.куб.м"]
["1",null,"L5_2",null,null,null,null,null,null,null,null,"5.2","Расход воды на промывку сетей","тыс.куб.м",0.93400000000000005,0,null,0.93400000000000005,0,0,0,0,0,null,null,null,null,null,0,0,0,0,0]
["1",null,"L6",null,null,null,null,null,null,null,null,"6","Получено воды со стороны","тыс.куб.м"]
["1",null,"L7",null,null,null,null,null,null,null,null,"7","Объём воды, прошедшей водоподготовку (справочно)","тыс.куб.м",{"$f":"O30","v":740.15734179999993},null,{"$f":"Q30","v":560.22500000000002},{"$f":"R30","v":738.72995553999999},null,null,null,null,null,null,null,null,null,null,{"$f":"AC30","v":554.77947737},{"$f":"AD30","v":554.77947737},{"$f":"AE30","v":554.77947737},{"$f":"AF30","v":554.77947737},{"$f":"AG30","v":554.77947737}]
["1",null,"L8",null,null,null,null,null,null,null,null,"8","Объём воды, поданной в сеть всего","тыс.куб.м",{"$f":"O36+O34","v":740.15734179999993},560.22500000000002,560.22500000000002,738.72995553999999,595.93099999999993,595.93099999999993,595.93099999999993,595.93099999999993,595.93099999999993,0,0,0,0,0,554.77947737,554.77947737,554.77947737,554.77947737,554.77947737,0,0,0,0,0]
["1",null,"L8_1",null,null,null,null,null,null,null,null,"8.1","Объём воды, поданной в сеть из собственных источников","тыс.куб.м",{"$f":"O30","v":740.15734179999993},{"$f":"P30","v":560.22500000000002},560.22500000000002,738.72995553999999,595.93099999999993,595.93099999999993,595.93099999999993,595.93099999999993,595.93099999999993,null,null,null,null,null,{"$f":"AC30","v":554.77947737},{"$f":"AD30","v":554.77947737},{"$f":"AE30","v":554.77947737},{"$f":"AF30","v":554.77947737},{"$f":"AG30","v":554.77947737}]
["1",null,"L8_2",null,null,null,null,null,null,null,null,"8.2","Объём воды, поданной в сеть от других операторов","тыс.куб.м"]
["1",null,"L8_3",null,null,null,null,null,null,null,null,"8.3","Получено от других территорий, дифференцированных по тарифу","тыс.куб.м"]
["1",null,"L9",null,null,null,null,null,null,null,null,"9","Потери воды","тыс.куб.м"]
["1",null,"L9_1",null,null,null,null,null,null,null,null,"9.1","Уровень потерь воды","%",{"$f":"IF(O30=0,0,O34/O30*100)","v":0},0,0,0,0,0,0,0,0,0,0,0,0,0,0,0,0,0,0,0,0,0,0,0,"Согласно постановлению РЭК Кузбасса от 12.10.2023 № 168  \"Об установлении нормативов потерь питьевой, технической воды в централизованных системах водоснабжения при ее производстве и транспортировке на 2024 - 2028 годы\"."]
["1",null,"L10",null,null,null,null,null,null,null,null,"10","Отпущено воды, всего","тыс.куб.м",{"$f":"O37+O41+O44+O54","v":740.15734179999993},560.22500000000002,560.22500000000002,738.72995553999999,595.93099999999993,595.93099999999993,595.93099999999993,595.93099999999993,595.93099999999993,0,0,0,0,0,554.77947737,554.77947737,554.77947737,554.77947737,554.77947737,0,0,0,0,0,"Пункт 5 \"Методических указаний…\"  ФСТ России от 27.12.2013 № 1746-э."]
["1",{"$f":"IF(OwnNeedsInPO=\"да\",\"ПО\",\"\")","v":"ПО"},"L10_1",null,null,null,null,null,null,null,null,"10.1","Расход воды на нужды предприятия","тыс.куб.м",{"$f":"SUM(O38:O40)","v":3.5486697999999999},3.8490000000000002,3.8490000000000002,2.8273325599999999,4.7709999999999999,4.7709999999999999,4.7709999999999999,4.7709999999999999,4.7709999999999999,0,0,0,0,0,3.9783648899999999,3.9783648899999999,3.9783648899999999,3.9783648899999999,3.9783648899999999,0,0,0,0,0]
["1",null,"L10_1_1",null,null,null,null,null,null,null,null,"10.1.1","хозяйственные нужды","тыс.куб.м"]
["1",null,"L10_1_2",null,null,null,null,null,null,null,null,"10.1.2","на основное производство","тыс.куб.м",3.5486697999999999,3.8490000000000002,3.8490000000000002,2.8273325599999999,4.7709999999999999,4.7709999999999999,4.7709999999999999,4.7709999999999999,4.7709999999999999,null,null,null,null,null,3.9783648899999999,3.9783648899999999,3.9783648899999999,3.9783648899999999,3.9783648899999999,null,null,null,null,null,"Рассчитано в соответствии с Формулами (1) и (1.1), на основании фактических данных о динамике объемов реализации для собственных производственных участков ООО \"ТВК\"  за 2019 - 2022 гг.  При этом объемы потребления  воды собственными производственными участками определяются как разница между общими объемами воды, поднятой из артезианских скважин, и объемами реализации услуги на потребительском рынке. "]
["1",null,"L10_1_3",null,null,null,null,null,null,null,null,"10.1.3","прочие","тыс.куб.м"]
["1","ПО","L10_2",null,null,null,null,null,null,null,null,"10.2","Отпущено воды другим водопроводам","тыс.куб.м",{"$f":"SUM(O42:O43)","v":0},0,0,0,0,0,0,0,0,0,0,0,0,0,0,0,0,0,0,0,0,0,0,0]
["1",null,"L10_2_1",null,null,null,null,null,null,null,null,"10.2.1","по приборам учёта","тыс.куб.м"]
["1",null,"L10_2_2",null,null,null,null,null,null,null,null,"10.2.2","по нормативам","тыс.куб.м"]
["1","ПО","L10_3",null,null,null,null,null,null,null,null,"10.3","Отпущено воды по категориям потребителей","тыс.куб.м",{"$f":"O45+O48+O51","v":736.60867199999996},556.37599999999998,556.37599999999998,735.90262298000005,591.16,591.16,591.16,591.16,591.16,0,0,0,0,0,550.80111248000003,550.80111248000003,550.80111248000003,550.80111248000003,550.80111248000003,0,0,0,0,0]
["1",null,"L10_3_1",null,null,null,null,null,null,null,null,"10.3.1","Финансируемые из бюджетов всех уровней","тыс.куб.м",{"$f":"SUM(O46:O47)","v":0},0,0,0,0,0,0,0,0,0,0,0,0,0,0,0,0,0,0,0,0,0,0,0]
["1",null,"L10_3_1_1",null,null,null,null,null,null,null,null,"10.3.1.1","по приборам учёта","тыс.куб.м"]
["1",null,"L10_3_1_2",null,null,null,null,null,null,null,null,"10.3.1.2","по нормативам","тыс.куб.м"]
["1","население","L10_3_2",null,null,null,null,null,null,null,null,"10.3.2","Население","тыс.куб.м",{"$f":"SUM(O49:O50)","v":0},0,0,0,0,0,0,0,0,0,0,0,0,0,0,0,0,0,0,0,0,0,0,0]
["1",null,"L10_3_2_1",null,null,null,null,null,null,null,null,"10.3.2.1","по приборам учёта","тыс.куб.м"]
["1",null,"L10_3_2_2",null,null,null,null,null,null,null,null,"10.3.2.2","по нормативам","тыс.куб.м"]
["1",null,"L10_3_3",null,null,null,null,null,null,null,null,"10.3.3","Прочие потребители","тыс.куб.м",{"$f":"SUM(O52:O53)","v":736.60867199999996},556.37599999999998,556.37599999999998,735.90262298000005,591.16,591.16,591.16,591.16,591.16,0,0,0,0,0,550.80111248000003,550.80111248000003,550.80111248000003,550.80111248000003,550.80111248000003,0,0,0,0,0]
["1",null,"L10_3_3_1",null,null,null,null,null,null,null,null,"10.3.3.1","по приборам учёта","тыс.куб.м",736.60867199999996,556.37599999999998,556.37599999999998,735.90262298000005,591.16,591.16,591.16,591.16,591.16,null,null,null,null,null,550.80111248000003,550.80111248000003,550.80111248000003,550.80111248000003,550.80111248000003,null,null,null,null,null,"Рассчитано в соответствии с Формулами (1) и (1.1), на основании фактических данных о динамике объемов реализации для нужд ООО \"Шахта \"Листвяжная\", представленных в счетах-фактурах на поставку воды за 2019 - 2022 гг."]
["1",null,"L10_3_3_2",null,null,null,null,null,null,null,null,"10.3.3.2","по нормативам","тыс.куб.м"]
["1",null,"L10_4",null,null,null,null,null,null,null,null,"10.4","Передано на другие территории, дифференцированные по тарифу","тыс.куб.м"]
[null,null,null,null,null,null,{"$f":"hasVS","v":true}]
[null,null,null,null,null,null,{"$f":"hasTranspVS","v":false},null,null,null,null,"7.2. Баланс водоснабжения (транспортировка воды)"]
[null,null,null,null,null,null,{"$f":"hasTranspVS","v":false},null,null,null,null,"№ п/п","Наименование показателя","Единица измерения",{"$f":"god-2 & \" год\"","v":"2022 год"},{"$f":"god-2 & \" год\"","v":"2022 год"},{"$f":"god-2 & \" год\"","v":"2022 год"},{"$f":"god-1 & \" год\"","v":"2023 год"},{"$f":"god & \" год\"","v":"2024 год"},{"$f":"god+1 & \" год\"","v":"2025 год"},{"$f":"god+2 & \" год\"","v":"2026 год"},{"$f":"god+3 & \" год\"","v":"2027 год"},{"$f":"god+4 & \" год\"","v":"2028 год"},{"$f":"god+5 & \" год\"","v":"2029 год"},{"$f":"god+6 & \" год\"","v":"2030 год"},{"$f":"god+7 & \" год\"","v":"2031 год"},{"$f":"god+8 & \" год\"","v":"2032 год"},{"$f":"god+9 & \" год\"","v":"2033 год"},{"$f":"god & \" год\"","v":"2024 год"},{"$f":"god+1 & \" год\"","v":"2025 год"},{"$f":"god+2 & \" год\"","v":"2026 год"},{"$f":"god+3 & \" год\"","v":"2027 год"},{"$f":"god+4 & \" год\"","v":"2028 год"},{"$f":"god+5 & \" год\"","v":"2029 год"},{"$f":"god+6 & \" год\"","v":"2030 год"},{"$f":"god+7 & \" год\"","v":"2031 год"},{"$f":"god+8 & \" год\"","v":"2032 год"},{"$f":"god+9 & \" год\"","v":"2033 год"},"Ссылка на правовую норму (основание для принятия показателя в расчет тарифа)"]
[null,null,null,null,null,null,{"$f":"hasTranspVS","v":false},null,null,null,null,null,null,null,"Принято органом регулирования","Факт по данным организации","Факт, принятый органом регулирования","Принято органом регулирования","Предложение организации","Предложение организации","Предложение организации","Предложение организации","Предложение организации","Предложение организации","Предложение организации","Предложение организации","Предложение организации","Предложение организации","Принято органом регулирования","Принято органом регулирования","Принято органом регулирования","Принято органом регулирования","Принято органом регулирования","Принято органом регулирования","Принято органом регулирования","Принято органом регулирования","Принято органом регулирования","Принято органом регулирования"]
[null,null,null,null,null,null,{"$f":"hasTranspVS","v":false}]
[null,null,null,null,null,null,{"$f":"hasVO","v":true},null,null,null,null,"7.3. Баланс водоотведения"]
[null,null,null,null,null,null,{"$f":"hasVO","v":true},null,null,null,null,"№ п/п","Наименование показателя","Единица измерения",{"$f":"god-2 & \" год\"","v":"2022 год"},{"$f":"god-2 & \" год\"","v":"2022 год"},{"$f":"god-2 & \" год\"","v":"2022 год"},{"$f":"god-1 & \" год\"","v":"2023 год"},{"$f":"god & \" год\"","v":"2024 год"},{"$f":"god+1 & \" год\"","v":"2025 год"},{"$f":"god+2 & \" год\"","v":"2026 год"},{"$f":"god+3 & \" год\"","v":"2027 год"},{"$f":"god+4 & \" год\"","v":"2028 год"},{"$f":"god+5 & \" год\"","v":"2029 год"},{"$f":"god+6 & \" год\"","v":"2030 год"},{"$f":"god+7 & \" год\"","v":"2031 год"},{"$f":"god+8 & \" год\"","v":"2032 год"},{"$f":"god+9 & \" год\"","v":"2033 год"},{"$f":"god & \" год\"","v":"2024 год"},{"$f":"god+1 & \" год\"","v":"2025 год"},{"$f":"god+2 & \" год\"","v":"2026 год"},{"$f":"god+3 & \" год\"","v":"2027 год"},{"$f":"god+4 & \" год\"","v":"2028 год"},{"$f":"god+5 & \" год\"","v":"2029 год"},{"$f":"god+6 & \" год\"","v":"2030 год"},{"$f":"god+7 & \" год\"","v":"2031 год"},{"$f":"god+8 & \" год\"","v":"2032 год"},{"$f":"god+9 & \" год\"","v":"2033 год"},"Ссылка на правовую норму (основание для принятия показателя в расчет тарифа)"]
[null,null,null,null,null,null,{"$f":"hasVO","v":true},null,null,null,null,null,null,null,"Принято органом регулирования","Факт по данным организации","Факт, принятый органом регулирования","Принято органом регулирования","Предложение организации","Предложение организации","Предложение организации","Предложение организации","Предложение организации","Предложение организации","Предложение организации","Предложение организации","Предложение организации","Предложение организации","Принято органом регулирования","Принято органом регулирования","Принято органом регулирования","Принято органом регулирования","Принято органом регулирования","Принято органом регулирования","Принято органом регулирования","Принято органом регулирования","Принято органом регулирования","Принято органом регулирования"]
[{"$f":"'Общие сведения'!$D$135","v":"2"},null,null,null,null,null,null,null,null,null,null,{"$f":"INDEX('Общие сведения'!$J$121:$J$148,MATCH($A63,'Общие сведения'!$D$121:$D$148,0))","v":"Тариф 2 (Водоотведение) - тариф на водоотведение"}]
[{"$f":"A63","v":"2"},null,null,null,null,null,null,null,null,null,null,"1","Вид стоков",null,{"$f":"INDEX('Общие сведения'!$K$121:$K$148,MATCH($A64,'Общие сведения'!$D$121:$D$148,0))","v":"без дифференциации"}]
["2",null,"L2",null,null,null,null,null,null,null,null,"2","Установленная мощность","куб.м/час",25,25,25,25,25,25,25,25,25,null,null,null,null,null,25,25,25,25,25]
["2",null,"L3",null,null,null,null,null,null,null,null,"3","Подключённая (фактическая) нагрузка","куб.м/час",{"$f":"O67/365/24*1000","v":18.079825901826485},{"$f":"P67/365/24*1000","v":19.331050228310502},{"$f":"Q67/365/24*1000","v":19.331050228310502},{"$f":"R67/365/24*1000","v":18.895752462328769},18.838812785388129,18.838812785388129,18.838812785388129,18.838812785388129,18.838812785388129,null,null,null,null,null,{"$f":"AC67/365/24*1000","v":19.25256849315068},{"$f":"AD67/365/24*1000","v":19.25256849315068},{"$f":"AE67/365/24*1000","v":19.25256849315068},{"$f":"AF67/365/24*1000","v":19.25256849315068},{"$f":"AG67/365/24*1000","v":19.25256849315068}]
["2",null,"L4",null,null,null,null,null,null,null,null,"4","Принято сточных вод, всего","тыс.куб.м",{"$f":"O68+O69+O82","v":158.37927490000001},{"$f":"P68+P69+P82","v":169.34},169.34,165.52679157,165.02800000000002,165.02800000000002,165.02800000000002,165.02800000000002,165.02800000000002,0,0,0,0,0,168.65249999999997,168.65249999999997,168.65249999999997,168.65249999999997,168.65249999999997,0,0,0,0,0,"Пункт 8 \"Методических указаний…\"  ФСТ России от 27.12.2013 № 1746-э."]
["2",{"$f":"IF(OwnNeedsInPO=\"да\",\"ПО\",\"\")","v":"ПО"},"L5",null,null,null,null,null,null,null,null,"5","Хозяйственные нужды предприятия","тыс.куб.м",8.6570138199999995,9.2200000000000006,9.2200000000000006,12.142850279999999,6.9779999999999998,6.9779999999999998,6.9779999999999998,6.9779999999999998,6.9779999999999998,null,null,null,null,null,8.9151868000000007,8.9151868000000007,8.9151868000000007,8.9151868000000007,8.9151868000000007,null,null,null,null,null,"Рассчитано в соответствии с Формулами (1) и (1.1), на основании фактических данных о динамике объемов реализации для собственных производственных участков ООО \"ТВК\"  за 2019 - 2022 гг.  При этом объемы отведения сточных вод от  собственных производственных участков определяются как разница между общими объемами сточных вод, пропущенных через очистные сооружения, и объемами реализации услуги на потребительском рынке. "]
["2","ПО","L6",null,null,null,null,null,null,null,null,"6","Принято по категориям потребителей","тыс.куб.м",{"$f":"O70+O73+O76+O79","v":149.72226108000001},{"$f":"P70+P73+P76+P79","v":160.12},160.12,153.38394129,158.05000000000001,158.05000000000001,158.05000000000001,158.05000000000001,158.05000000000001,0,0,0,0,0,159.73731319999999,159.73731319999999,159.73731319999999,159.73731319999999,159.73731319999999,0,0,0,0,0]
["2",null,"L6_1",null,null,null,null,null,null,null,null,"6.1","Финансируемые из бюджетов всех уровней","тыс.куб.м",{"$f":"O71+O72","v":0},0,0,0,0,0,0,0,0,0,0,0,0,0,0,0,0,0,0,0,0,0,0,0]
["2",null,"L6_1_1",null,null,null,null,null,null,null,null,"6.1.1","по приборам учёта","тыс.куб.м"]
["2",null,"L6_1_2",null,null,null,null,null,null,null,null,"6.1.2","по нормативам","тыс.куб.м"]
["2","население","L6_2",null,null,null,null,null,null,null,null,"6.2","Население","тыс.куб.м",{"$f":"O74+O75","v":0},0,0,0,0,0,0,0,0,0,0,0,0,0,0,0,0,0,0,0,0,0,0,0]
["2",null,"L6_2_1",null,null,null,null,null,null,null,null,"6.2.1","по приборам учёта","тыс.куб.м"]
["2",null,"L6_2_2",null,null,null,null,null,null,null,null,"6.2.2","по нормативам","тыс.куб.м"]
["2",null,"L6_3",null,null,null,null,null,null,null,null,"6.3","Прочие потребители","тыс.куб.м",{"$f":"O77+O78","v":0},0,0,0,0,0,0,0,0,0,0,0,0,0,0,0,0,0,0,0,0,0,0,0]
["2",null,"L6_3_1",null,null,null,null,null,null,null,null,"6.3.1","по приборам учёта","тыс.куб.м"]
["2",null,"L6_3_2",null,null,null,null,null,null,null,null,"6.3.2","по нормативам","тыс.куб.м"]
["2",null,"L6_4",null,null,null,null,null,null,null,null,"6.4","Принято сточных вод от других канализационных сетей","тыс.куб.м",{"$f":"O80+O81","v":149.72226108000001},160.12,160.12,153.38394129,158.05000000000001,158.05000000000001,158.05000000000001,158.05000000000001,158.05000000000001,0,0,0,0,0,159.73731319999999,159.73731319999999,159.73731319999999,159.73731319999999,159.73731319999999,0,0,0,0,0]
["2",null,"L6_4_1",null,null,null,null,null,null,null,null,"6.4.1","по приборам учёта","тыс.куб.м",149.72226108000001,160.12,160.12,153.38394129,158.05000000000001,158.05000000000001,158.05000000000001,158.05000000000001,158.05000000000001,null,null,null,null,null,159.73731319999999,159.73731319999999,159.73731319999999,159.73731319999999,159.73731319999999,null,null,null,null,null,"Рассчитано в соответствии с Формулами (1) и (1.1), на основании фактических данных о динамике объемов реализации для нужд ООО \"Шахта \"Листвяжная\", представленных в счетах-фактурах на оказание услуги водоотведения за 2019 - 2022 гг."]
["2",null,"L6_4_2",null,null,null,null,null,null,null,null,"6.4.2","по нормативам","тыс.куб.м"]
[{"$f":"A80","v":"2"},null,"L6_5",null,null,null,null,null,null,null,null,"6.5","Получено от других территорий, дифференцированных по тарифу","тыс.куб.м"]
[{"$f":"A81","v":"2"},null,"L7",null,null,null,null,null,null,null,null,"7","Неучтённый приток сточных вод","тыс.куб.м"]
["2",null,"L8",null,null,null,null,null,null,null,null,"8","Объём сточных вод, прошедших очистку (справочно)","тыс.куб.м",{"$f":"O85","v":158.37927490000001},{"$f":"P85","v":169.34},{"$f":"Q85","v":169.34},{"$f":"R85","v":165.52679157},165.02800000000002,165.02800000000002,165.02800000000002,165.02800000000002,165.02800000000002,null,null,null,null,null,{"$f":"AC85","v":168.65249999999997},{"$f":"AD85","v":168.65249999999997},{"$f":"AE85","v":168.65249999999997},{"$f":"AF85","v":168.65249999999997},{"$f":"AG85","v":168.65249999999997}]
["2",null,"L9",null,null,null,null,null,null,null,null,"9","Пропущено через собственные очистные сооружения","тыс.куб.м",{"$f":"O67","v":158.37927490000001},{"$f":"P67","v":169.34},{"$f":"Q67","v":169.34},{"$f":"R67","v":165.52679157},165.02800000000002,165.02800000000002,165.02800000000002,165.02800000000002,165.02800000000002,null,null,null,null,null,{"$f":"AC67","v":168.65249999999997},{"$f":"AD67","v":168.65249999999997},{"$f":"AE67","v":168.65249999999997},{"$f":"AF67","v":168.65249999999997},{"$f":"AG67","v":168.65249999999997},null,null,null,null,null,"Фактические данные за 2022 г. подтверждены данными представленных \"Журналов учета водоотведения средствами измерений\"."]
["2",null,"L10",null,null,null,null,null,null,null,null,"10","Передано сточных вод другим канализациям","тыс.куб.м",{"$f":"O87+O88","v":0},0,0,0,0,0,0,0,0,0,0,0,0,0,0,0,0,0,0,0,0,0,0,0]
["2",null,"L10_1",null,null,null,null,null,null,null,null,"10.1","На очистные сооружения","тыс.куб.м"]
["2",null,"L10_2",null,null,null,null,null,null,null,null,"10.2","В канализационную сеть","тыс.куб.м"]
[{"$f":"A87","v":"2"},null,"L11",null,null,null,null,null,null,null,null,"11","Передано на другие территории, дифференцированные по тарифу","тыс.куб.м"]
[{"$f":"A88","v":"2"},null,"L12",null,null,null,null,null,null,null,null,"12","Сброшенные воды без очистки","тыс.куб.м"]
[null,null,null,null,null,null,{"$f":"hasVO","v":true}]
[null,null,null,null,null,null,{"$f":"hasTranspVO","v":false},null,null,null,null,"7.4. Баланс водоотведения (транспортировка сточных вод)"]
[null,null,null,null,null,null,{"$f":"hasTranspVO","v":false},null,null,null,null,"№ п/п","Наименование показателя","Единица измерения",{"$f":"god-2 & \" год\"","v":"2022 год"},{"$f":"god-2 & \" год\"","v":"2022 год"},{"$f":"god-2 & \" год\"","v":"2022 год"},{"$f":"god-1 & \" год\"","v":"2023 год"},{"$f":"god & \" год\"","v":"2024 год"},{"$f":"god+1 & \" год\"","v":"2025 год"},{"$f":"god+2 & \" год\"","v":"2026 год"},{"$f":"god+3 & \" год\"","v":"2027 год"},{"$f":"god+4 & \" год\"","v":"2028 год"},{"$f":"god+5 & \" год\"","v":"2029 год"},{"$f":"god+6 & \" год\"","v":"2030 год"},{"$f":"god+7 & \" год\"","v":"2031 год"},{"$f":"god+8 & \" год\"","v":"2032 год"},{"$f":"god+9 & \" год\"","v":"2033 год"},{"$f":"god & \" год\"","v":"2024 год"},{"$f":"god+1 & \" год\"","v":"2025 год"},{"$f":"god+2 & \" год\"","v":"2026 год"},{"$f":"god+3 & \" год\"","v":"2027 год"},{"$f":"god+4 & \" год\"","v":"2028 год"},{"$f":"god+5 & \" год\"","v":"2029 год"},{"$f":"god+6 & \" год\"","v":"2030 год"},{"$f":"god+7 & \" год\"","v":"2031 год"},{"$f":"god+8 & \" год\"","v":"2032 год"},{"$f":"god+9 & \" год\"","v":"2033 год"},"Ссылка на правовую норму (основание для принятия показателя в расчет тарифа)"]
[null,null,null,null,null,null,{"$f":"hasTranspVO","v":false},null,null,null,null,null,null,null,"Принято органом регулирования","Факт по данным организации","Факт, принятый органом регулирования","Принято органом регулирования","Предложение организации","Предложение организации","Предложение организации","Предложение организации","Предложение организации","Предложение организации","Предложение организации","Предложение организации","Предложение организации","Предложение организации","Принято органом регулирования","Принято органом регулирования","Принято органом регулирования","Принято органом регулирования","Принято органом регулирования","Принято органом регулирования","Принято органом регулирования","Принято органом регулирования","Принято органом регулирования","Принято органом регулирования"]
[null,null,null,null,null,null,{"$f":"hasTranspVO","v":false}]
[null,null,null,null,null,null,null,null,null,null,null,"Комментарии и обоснования к разделу"]
[]
[null,null,null,null,null,null,null,null,null,null,null,"Добавить комментарий"]

{"sheet":"Реагенты","index":17,"n_rows":42,"n_cols":39,"rows_kept":42,"cut":false,"hidden":false,"merged":[[39,11,39,38],[40,11,40,38],[41,11,41,12],[29,11,29,38],[30,11,30,38],[32,11,32,38],[33,11,33,38],[34,11,34,38],[35,11,35,38],[36,11,36,38],[37,11,37,38],[38,11,38,38],[13,11,14,11],[13,12,14,12],[13,13,14,13],[13,38,14,38],[31,11,31,38]]}
[null,null,null,null,null,null,null,null,null,null,null,null,null,null,{"$f":"god-2","v":2022},{"$f":"god-2","v":2022},{"$f":"god-2","v":2022},{"$f":"god-1","v":2023},{"$f":"god","v":2024},{"$f":"god+1","v":2025},{"$f":"god+2","v":2026},{"$f":"god+3","v":2027},{"$f":"god+4","v":2028},{"$f":"god+5","v":2029},{"$f":"god+6","v":2030},{"$f":"god+7","v":2031},{"$f":"god+8","v":2032},{"$f":"god+9","v":2033},{"$f":"god","v":2024},{"$f":"god+1","v":2025},{"$f":"god+2","v":2026},{"$f":"god+3","v":2027},{"$f":"god+4","v":2028},{"$f":"god+5","v":2029},{"$f":"god+6","v":2030},{"$f":"god+7","v":2031},{"$f":"god+8","v":2032},{"$f":"god+9","v":2033}]
[null,null,null,null,null,null,null,null,null,null,null,null,null,null,{"$f":"O15","v":"Принято органом регулирования"},{"$f":"P15","v":"Факт по данным организации"},"Факт, принятый органом регулирования","Принято органом регулирования","Предложение организации","Предложение организации","Предложение организации","Предложение организации","Предложение организации","Предложение организации","Предложение организации","Предложение организации","Предложение организации","Предложение организации","Принято органом регулирования","Принято органом регулирования","Принято органом регулирования","Принято органом регулирования","Принято органом регулирования","Принято органом регулирования","Принято органом регулирования","Принято органом регулирования","Принято органом регулирования","Принято органом регулирования"]
[]
[]
[]
[]
[null,null,null,null,null,null,null,null,null,null,null,null,null,null,null,null,null,null,{"$f":"S1<=last_year_vis","v":true},true,true,true,true,false,false,false,false,false,true,true,true,true,true,false,false,false,false,false]
[]
[]
[]
[null,null,null,null,null,null,null,null,null,null,null,null,{"$f":"tpl_title","v":"Кемеровская область / 2024 / ООО \"ТВК\" (ИНН:4202026697, КПП:420201001) / ДПР: 2024-2028"}]
[null,null,null,null,null,null,null,null,null,null,null,"8. Расходы на реагенты"]
[]
[null,null,null,null,null,null,null,null,null,null,null,"№ п/п","Наименование показателя","Единица измерения",{"$f":"god-2 & \" год\"","v":"2022 год"},{"$f":"god-2 & \" год\"","v":"2022 год"},{"$f":"god-2 & \" год\"","v":"2022 год"},{"$f":"god-1 & \" год\"","v":"2023 год"},{"$f":"god & \" год\"","v":"2024 год"},{"$f":"god+1 & \" год\"","v":"2025 год"},{"$f":"god+2 & \" год\"","v":"2026 год"},{"$f":"god+3 & \" год\"","v":"2027 год"},{"$f":"god+4 & \" год\"","v":"2028 год"},{"$f":"god+5 & \" год\"","v":"2029 год"},{"$f":"god+6 & \" год\"","v":"2030 год"},{"$f":"god+7 & \" год\"","v":"2031 год"},{"$f":"god+8 & \" год\"","v":"2032 год"},{"$f":"god+9 & \" год\"","v":"2033 год"},{"$f":"god & \" год\"","v":"2024 год"},{"$f":"god+1 & \" год\"","v":"2025 год"},{"$f":"god+2 & \" год\"","v":"2026 год"},{"$f":"god+3 & \" год\"","v":"2027 год"},{"$f":"god+4 & \" год\"","v":"2028 год"},{"$f":"god+5 & \" год\"","v":"2029 год"},{"$f":"god+6 & \" год\"","v":"2030 год"},{"$f":"god+7 & \" год\"","v":"2031 год"},{"$f":"god+8 & \" год\"","v":"2032 год"},{"$f":"god+9 & \" год\"","v":"2033 год"},"Ссылка на правовую норму (основание для принятия показателя в расчет тарифа)"]
["t",null,null,null,null,null,null,null,null,null,null,null,null,null,"Принято органом регулирования","Факт по данным организации","Факт, принятый органом регулирования","Принято органом регулирования","Предложение организации","Предложение организации","Предложение организации","Предложение организации","Предложение организации","Предложение организации","Предложение организации","Предложение организации","Предложение организации","Предложение организации","Принято органом регулирования","Принято органом регулирования","Принято органом регулирования","Принято органом регулирования","Принято органом регулирования","Принято органом регулирования","Принято органом регулирования","Принято органом регулирования","Принято органом регулирования","Принято органом регулирования"]
[{"$f":"'Общие сведения'!$D$122","v":"1"},null,null,null,null,null,null,null,null,null,null,{"$f":"INDEX('Общие сведения'!$J$121:$J$148,MATCH($A16,'Общие сведения'!$D$121:$D$148,0))","v":"Тариф 1 (Водоснабжение) - тариф на питьевую воду"}]
[{"$f":"A16","v":"1"},"L1","L2",null,null,null,null,null,null,null,null,null,"Всего по тарифу","тыс.руб.",{"$f":"SUM(O18:O20)","v":0},0,0,0,171.16,178,185.12,192.53,200.23,0,0,0,0,0,103.88800353842301,108.251299687037,112.581351674518,117.084605741499,121.767989971159,0,0,0,0,0,"П. 49 (10); В. 16, п. 19  Методических указаний ФСТ № 1746-э (пп. 10 введен Приказом ФАС России от 08.10.2020 N 976/20)."]
[{"$f":"A17","v":"1"},null,null,null,null,null,null,null,null,null,null,"0"]
[{"$f":"OFFSET(A19,-1,0)","v":"1"},"L1","L2",null,null,null,null,null,null,null,"О","1","Препарат антимикробный \"БИОПАГ\" (твердая форма)","тыс.руб.",null,null,null,null,171.16,178,185.12,192.53,200.23,null,null,null,null,null,103.88800353842301,108.251299687037,112.581351674518,117.084605741499,121.767989971159]
[{"$f":"A18","v":"1"},{"$f":"A20&\"pIns\"","v":"1pIns"},null,null,null,null,null,null,null,null,null,null,"Добавить"]
[{"$f":"'Общие сведения'!$D$135","v":"2"},null,null,null,null,null,null,null,null,null,null,{"$f":"INDEX('Общие сведения'!$J$121:$J$148,MATCH($A21,'Общие сведения'!$D$121:$D$148,0))","v":"Тариф 2 (Водоотведение) - тариф на водоотведение"}]
[{"$f":"A21","v":"2"},"L1","L2",null,null,null,null,null,null,null,null,null,"Всего по тарифу","тыс.руб.",{"$f":"SUM(O23:O28)","v":0},0,0,0,717.85020000000009,799.75614140000005,887.06968080000001,980.10537909999994,1079.1527111,0,0,0,0,0,599.46002302012596,624.63734398697125,649.62283774645016,675.60775125630732,702.63206130656056,0,0,0,0,0,"П. 49 (10); В. 16, п. 19  Методических указаний ФСТ № 1746-э (пп. 10 введен Приказом ФАС России от 08.10.2020 N 976/20)."]
[{"$f":"A22","v":"2"},null,null,null,null,null,null,null,null,null,null,"0"]
[{"$f":"OFFSET(A24,-1,0)","v":"2"},"L1","L2",null,null,null,null,null,null,null,"О","1","Коагулянт (оксихлорид алюминия)","тыс.руб.",null,null,null,null,347.64,361.54,376,391.04,406.68,null,null,null,null,null,326.36869490700002,340.07618009309402,353.679227296818,367.82639638869,382.53945224423802]
[{"$f":"OFFSET(A25,-1,0)","v":"2"},"L1","L2",null,null,null,null,null,null,null,"О","2","Флокулянт (\"TECHNOFLOC TN-611\")","тыс.руб.",null,null,null,null,41.831400000000002,96.7073283,155.90184719999999,219.687974,288.31693200000001,null,null,null,null,null,44.962756499999998,46.851192273000002,48.725239963919996,50.674249562476803,52.701219544975899]
[{"$f":"OFFSET(A26,-1,0)","v":"2"},"L1","L2",null,null,null,null,null,null,null,"О","3","Гипохлорит натрия","тыс.руб.",null,null,null,null,160.37,166.78,173.45,180.39,187.61,null,null,null,null,null,166.2864740775,173.27050598875499,180.20132622830499,187.40937927743701,194.90575444853499]
[{"$f":"OFFSET(A27,-1,0)","v":"2"},"L1","L2",null,null,null,null,null,null,null,"О","4","Химические реактивы, химическая посуда","тыс.руб.",null,null,null,null,168.00880000000001,174.7288131,181.71783360000001,188.98740509999999,196.5457791,null,null,null,null,null,61.842097535626003,64.439465632122307,67.017044257407207,69.697726027703496,72.485635068811604]
[{"$f":"A23","v":"2"},{"$f":"A28&\"pIns\"","v":"2pIns"},null,null,null,null,null,null,null,null,null,null,"Добавить"]
[]
[null,null,null,null,null,null,null,null,null,null,null,"Комментарии и обоснования к разделу"]
[null,null,null,null,null,null,null,null,null,null,null,"ПРЕПАРАТ АНТИМИКРОБНЫЙ \"БИОПАГ\" (твердая форма). Организацией плановый объем реагента на 2024 г. (32,58 кг)  определен, исходя из фактического удельного расхода за 2022 г. (0,052 мкг/м3).  Фактические затраты 2022 г. (отражаются в составе Операционных расходов) составили  120,01 тыс. руб. (29,20 т по 4109,35 руб./т, согласно представленным документам). Специалистом РЭК объем реагента на 2024 г. (24,97  кг) рассчитан на основании принятого планового объема добычи воды из скважин (554,779 тыс. м3) и  имеющихся  среднегодовых данных о фактическом удельном расходе за  3 года (2020 -2022 ): (0,048 г/м3 + 0,033 г/м3 + 0,052 г/м3 ) /3 = 0,045 г/м3."]
[null,null,null,null,null,null,null,null,null,null,"О ","Организацией заявлена цена  на БИОПАГ на 2024 год  (5253,52 руб./кг) согласно счету-фактуре № 003136 от 28.07.2022 (ООО \"Шахтоуправление Майское\"). Регулятором плановая цена на 2024 год (4161,33 руб./кг)  учтена на уровне средневзвешенной цены 2022 г. (4109,35 руб./кг), с учетом индексов цен производителей (ИЦП) химических веществ и химических продуктов 94,2% на 2023 год и  107,5% на 2024 год, предусмотренного базовым вариантом \"Прогноза социально-экономического развития Российской Федерации на 2024 год и на плановый период 2025 и 2026 годов\", опубликованного на официальном сайте Минэкономразвития России 22.09.2023. "]
[null,null,null,null,null,null,null,null,null,null,"О ","КОАГУЛЯНТ (ОКСИХЛОРИД АЛЮМИНИЯ).  Нормативный расчет потребности в реагенте организацией не представлен. Фактические затраты 2022 г. (отражаются в составе Операционных расходов) составили  381,04 тыс. руб. (12,18 т по 31281,10 руб./т., согласно представленным документам). Регулятором  плановая потребность на 2024 г. (11,71 т) определена, исходя из принятого планового объема пропуска сточных вод  (168,6525 тыс. м3) и  фактического среднегодового расхода реагента за  3 года (2020 - 2022 гг.): (0,0732 т/м3 + 0,0632 т/м3 + 0,0719 т/м3 ) / 3 = 0,06945 (т / м3)."]
[null,null,null,null,null,null,null,null,null,null,"О ","Плановая цена на 2024 г. на данный реагент (27864,00 руб./т) принята, исходя из  фактической  цены 2023 г. (25920,00 руб./т согласно договора поставки от 06.03.2023 № 03/03-Р2023, заключенного с ООО \"РОСПРОМ\", и счету-фактуре от 06.03.2023 № 14, НДС не облагается), с учетом индекса цен производителей (ИЦП) химических веществ и химических продуктов 107,5% на 2024 год, предусмотренного базовым вариантом  \"Прогноза социально-экономического развития Российской Федерации на 2024 год и на плановый период 2025 и 2026 годов\", опубликованного на официальном сайте Минэкономразвития России 22.09.2023."]
[null,null,null,null,null,null,null,null,null,null,"О ","ФЛОКУЛЯНТ . Нормативный расчет потребности в реагенте организацией не приводится.  Фактические затраты 2022 г.  составили  48,97 тыс. руб. (0,135 т по 353544,46 руб./т, согласно представленным документам). (До 2023 г. использовался  \"TECHNOFLOC TN-611\") . Регулятором  плановая потребность на 2024 г. (0,15 т) определена, исходя из принятого планового объема пропуска сточных вод и  фактического  среднегодового удельного расхода реагента за  3 года (2020 - 2022 гг.): (0,00094 кг/м3 + 0,00082кг/м3 + 0,00082 кг/м3 ) / 3 = 0,00086 (кг / м3). "]
[null,null,null,null,null,null,null,null,null,null,"О ","Плановая цена на 2024 год на данный реагент принята на уровне величины, предложенной организацией, -  310 000,00 руб./т., что соответствует  цене на флокулянт \"WELLFLOC 5665\", без учета НДС, согласно Спецификации № 1 к договору поставки № 3960/2023-ТВК от 09.03.2023 между ООО \"Эко-системы\" и ООО \"ТВК\" (на условиях самовывоза со склада поставщика в г. Кемерово). "]
[null,null,null,null,null,null,null,null,null,null,"О ","ГИПОХЛОРИТ НАТРИЯ.  Нормативный расчет потребности в реагенте организацией не приводится. Фактические затраты 2022 г. составили  147,62 тыс. руб. (8,09 т по 18256,25 руб./т согласно представленным документам).Регулятором  плановая потребность  в данном реагенте на 2024 г. (8,19 т)  определена, исходя из принятого планового объема пропуска сточных вод и  фактического среднегодового удельного расхода реагента за  3 года (2020 - 2022 гг.): (0,0576 кг/м3  + 0,0404 кг/м3+ 0,0478 кг/м3) / 3 = 0,04857 (кг / м3)."]
[null,null,null,null,null,null,null,null,null,null,"О ","Плановая цена на 2024 год на данный реагент принята в размере 20300,00 руб./т, согласно Спецификации № 27 от 10.01.2023 к Договору поставки  № ТД-2-62/18 от 23.01.2018 между ООО \"ТД \"Химпром\" и ООО \"ТВК\"."]
[null,null,null,null,null,null,null,null,null,null,"О ","ХИМИЧЕСКИЕ РЕАКТИВЫ, ХИМИЧЕСКАЯ ПОСУДА. Фактические затраты 2022 г. составили  49,347 тыс. руб. Плановые затраты на 2024 год  приняты  на уровне среднегодовых затрат за 2020-2022 г. (приведенных к ценам 2022 г. с применением ИЦП химической продукции  127,6% на 2021 г. и 118,3% на 2022 г.) - (39,69 тыс. руб. *1,276*1,183 + 62,51 тыс. руб. *1,183 + 49,347 тыс. руб. ) / 3 = 61, 07 тыс. руб., с учетом ИПЦ  94,2% на 2023 г. и 107,5% на 2024 г.  согласно Прогноза Минэкономразвития России  от 22.09.2023. "]
[null,null,null,null,null,null,null,null,null,null,"О ","Плановые годовые показатели  расхода реагентов в натуральном выражении на 2025-2028 годы приняты на уровне соответствующих плановых величин  2024 года. Плановые цены на реагенты определены, исходя из  принятых плановых цен  2024 г. с учетом ИЦП химической продукции  согласно базовому варианту \"Прогноза  социально-экономического развития Российской Федерации на 2024 год и на плановый период 2025 и 2026 годов.\" от 22.09.2023 104,2 % : на  2025 г. - 104,2%, на 2026 - 2028 гг. - 104,0%."]
[null,null,null,null,null,null,null,null,null,null,"О ","До 2024 г. затраты на реагенты учитывались в составе Операционных расходов, так как были учтены при расчете базового уровня Операционных расходов на 2019 год, в соответствии с действовавшей на указанный момент редакцией \"Методических указаний по расчету регулируемых тарифов в сфере водоснабжения и водоотведения\" (приказ ФСТ России от 27.12.2013  № 1746-э)."]
[null,null,null,null,null,null,null,null,null,null,null,"Добавить комментарий"]

{"sheet":"ЭЭ","index":18,"n_rows":48,"n_cols":39,"rows_kept":48,"cut":false,"hidden":false,"merged":[[35,9,37,9],[47,11,47,12],[43,11,43,38],[44,11,44,38],[13,11,14,11],[13,12,14,12],[13,13,14,13],[13,38,14,38],[22,9,24,9],[45,11,45,38],[46,11,46,38]]}
[null,null,null,null,null,null,null,null,null,null,null,null,null,null,{"$f":"god-2","v":2022},{"$f":"god-2","v":2022},{"$f":"god-2","v":2022},{"$f":"god-1","v":2023},{"$f":"god","v":2024},{"$f":"god+1","v":2025},{"$f":"god+2","v":2026},{"$f":"god+3","v":2027},{"$f":"god+4","v":2028},{"$f":"god+5","v":2029},{"$f":"god+6","v":2030},{"$f":"god+7","v":2031},{"$f":"god+8","v":2032},{"$f":"god+9","v":2033},{"$f":"god","v":2024},{"$f":"god+1","v":2025},{"$f":"god+2","v":2026},{"$f":"god+3","v":2027},{"$f":"god+4","v":2028},{"$f":"god+5","v":2029},{"$f":"god+6","v":2030},{"$f":"god+7","v":2031},{"$f":"god+8","v":2032},{"$f":"god+9","v":2033}]
[null,null,null,null,null,null,null,null,null,null,null,null,null,null,{"$f":"O15","v":"Принято органом регулирования"},{"$f":"P15","v":"Факт по данным организации"},{"$f":"Q15","v":"Факт, принятый органом регулирования"},{"$f":"R15","v":"Принято органом регулирования"},{"$f":"$S$15","v":"Предложение организации"},{"$f":"$S$15","v":"Предложение организации"},"Предложение организации","Предложение организации","Предложение организации","Предложение организации","Предложение организации","Предложение организации","Предложение организации","Предложение организации",{"$f":"$AC$15","v":"Принято органом регулирования"},{"$f":"$AC$15","v":"Принято органом регулирования"},"Принято органом регулирования","Принято органом регулирования","Принято органом регулирования","Принято органом регулирования","Принято органом регулирования","Принято органом регулирования","Принято органом регулирования","Принято органом регулирования"]
[null,null,null,null,null,null,null,null,null,null,null,null,null,null,{"$f":"O1&O2","v":"2022Принято органом регулирования"},{"$f":"P1&P2","v":"2022Факт по данным организации"},{"$f":"Q1&Q2","v":"2022Факт, принятый органом регулирования"},{"$f":"R1&R2","v":"2023Принято органом регулирования"},{"$f":"S1&S2","v":"2024Предложение организации"},{"$f":"T1&T2","v":"2025Предложение организации"},"2026Предложение организации","2027Предложение организации","2028Предложение организации","2029Предложение организации","2030Предложение организации","2031Предложение организации","2032Предложение организации","2033Предложение организации","2024Принято органом регулирования",{"$f":"AD1&AD2","v":"2025Принято органом регулирования"},"2026Принято органом регулирования","2027Принято органом регулирования","2028Принято органом регулирования","2029Принято органом регулирования","2030Принято органом регулирования","2031Принято органом регулирования","2032Принято органом регулирования","2033Принято органом регулирования"]
[]
[]
[]
[null,null,null,null,null,null,null,null,null,null,null,null,null,null,null,null,null,null,{"$f":"S1<=last_year_vis","v":true},true,true,true,true,false,false,false,false,false,true,true,true,true,true,false,false,false,false,false]
[]
[]
[]
[null,null,null,null,null,null,null,null,null,null,null,null,{"$f":"tpl_title","v":"Кемеровская область / 2024 / ООО \"ТВК\" (ИНН:4202026697, КПП:420201001) / ДПР: 2024-2028"}]
[null,null,null,null,null,null,null,null,null,null,null,"9. Расходы на электрическую энергию"]
[]
[null,null,null,null,null,null,null,null,null,null,null,"№ п/п","Наименование показателя","Единица измерения",{"$f":"god-2 & \" год\"","v":"2022 год"},{"$f":"god-2 & \" год\"","v":"2022 год"},{"$f":"god-2 & \" год\"","v":"2022 год"},{"$f":"god-1 & \" год\"","v":"2023 год"},{"$f":"god & \" год\"","v":"2024 год"},{"$f":"god+1 & \" год\"","v":"2025 год"},{"$f":"god+2 & \" год\"","v":"2026 год"},{"$f":"god+3 & \" год\"","v":"2027 год"},{"$f":"god+4 & \" год\"","v":"2028 год"},{"$f":"god+5 & \" год\"","v":"2029 год"},{"$f":"god+6 & \" год\"","v":"2030 год"},{"$f":"god+7 & \" год\"","v":"2031 год"},{"$f":"god+8 & \" год\"","v":"2032 год"},{"$f":"god+9 & \" год\"","v":"2033 год"},{"$f":"god & \" год\"","v":"2024 год"},{"$f":"god+1 & \" год\"","v":"2025 год"},{"$f":"god+2 & \" год\"","v":"2026 год"},{"$f":"god+3 & \" год\"","v":"2027 год"},{"$f":"god+4 & \" год\"","v":"2028 год"},{"$f":"god+5 & \" год\"","v":"2029 год"},{"$f":"god+6 & \" год\"","v":"2030 год"},{"$f":"god+7 & \" год\"","v":"2031 год"},{"$f":"god+8 & \" год\"","v":"2032 год"},{"$f":"god+9 & \" год\"","v":"2033 год"},"Ссылка на правовую норму (основание для принятия показателя в расчет тарифа)"]
[null,null,null,null,null,null,null,null,null,null,null,null,null,null,"Принято органом регулирования","Факт по данным организации","Факт, принятый органом регулирования","Принято органом регулирования","Предложение организации","Предложение организации","Предложение организации","Предложение организации","Предложение организации","Предложение организации","Предложение организации","Предложение организации","Предложение организации","Предложение организации","Принято органом регулирования","Принято органом регулирования","Принято органом регулирования","Принято органом регулирования","Принято органом регулирования","Принято органом регулирования","Принято органом регулирования","Принято органом регулирования","Принято органом регулирования","Принято органом регулирования"]
[{"$f":"'Общие сведения'!$D$122","v":"1"},null,null,null,null,null,null,null,null,null,null,{"$f":"INDEX('Общие сведения'!$J$121:$J$148,MATCH($A16,'Общие сведения'!$D$121:$D$148,0))","v":"Тариф 1 (Водоснабжение) - тариф на питьевую воду"}]
[{"$f":"A16","v":"1"},"L1",null,null,null,null,null,null,null,null,null,"1","Всего по тарифу","тыс.руб.",{"$f":"SUMIF(N22:N28,N17,O22:O28)","v":3397.4385362937101},{"$f":"SUMIF(N22:N28,N17,P22:P28)","v":2122.2399999999998},{"$f":"SUMIF(N22:N28,N17,Q22:Q28)","v":2119.2759999999998},{"$f":"SUMIF(N22:N28,N17,R22:R28)","v":3785.0518374274302},{"$f":"SUMIF(N22:N28,N17,S22:S28)","v":4287.9799999999996},{"$f":"SUMIF(N22:N28,N17,T22:T28)","v":4545.26},{"$f":"SUMIF(N22:N28,N17,U22:U28)","v":4772.5200000000004},{"$f":"SUMIF(N22:N28,N17,V22:V28)","v":5011.1499999999996},{"$f":"SUMIF(N22:N28,N17,W22:W28)","v":5261.71},{"$f":"SUMIF(N22:N28,N17,X22:X28)","v":0},{"$f":"SUMIF(N22:N28,N17,Y22:Y28)","v":0},{"$f":"SUMIF(N22:N28,N17,Z22:Z28)","v":0},{"$f":"SUMIF(N22:N28,N17,AA22:AA28)","v":0},{"$f":"SUMIF(N22:N28,N17,AB22:AB28)","v":0},{"$f":"SUMIF(N22:N28,N17,AC22:AC28)","v":2495.62029618017},{"$f":"SUMIF(N22:N28,N17,AD22:AD28)","v":2617.905690693},{"$f":"SUMIF(N22:N28,N17,AE22:AE28)","v":2696.4428614137901},{"$f":"SUMIF(N22:N28,N17,AF22:AF28)","v":2777.3361472562001},{"$f":"SUMIF(N22:N28,N17,AG22:AG28)","v":2860.65623167389},{"$f":"SUMIF(N22:N28,N17,AH22:AH28)","v":0},{"$f":"SUMIF(N22:N28,N17,AI22:AI28)","v":0},{"$f":"SUMIF(N22:N28,N17,AJ22:AJ28)","v":0},{"$f":"SUMIF(N22:N28,N17,AK22:AK28)","v":0},{"$f":"SUMIF(N22:N28,N17,AL22:AL28)","v":0},"П. 20, 84, 88, 43 Методических указаний ФСТ № 1746-э."]
["1","L2",null,null,null,null,null,null,null,null,null,"2","Объём покупаемой электроэнергии всего","тыс.кВтч",{"$f":"SUMIF(N22:N28,N18,O22:O28)","v":918.95326383199995},{"$f":"SUMIF(N22:N28,N18,P22:P28)","v":546.82000000000005},{"$f":"SUMIF(N22:N28,N18,Q22:Q28)","v":546.88},{"$f":"SUMIF(N22:N28,N18,R22:R28)","v":916.02514486960001},{"$f":"SUMIF(N22:N28,N18,S22:S28)","v":834.4},{"$f":"SUMIF(N22:N28,N18,T22:T28)","v":834.4},{"$f":"SUMIF(N22:N28,N18,U22:U28)","v":834.4},{"$f":"SUMIF(N22:N28,N18,V22:V28)","v":834.4},{"$f":"SUMIF(N22:N28,N18,W22:W28)","v":834.4},{"$f":"SUMIF(N22:N28,N18,X22:X28)","v":0},{"$f":"SUMIF(N22:N28,N18,Y22:Y28)","v":0},{"$f":"SUMIF(N22:N28,N18,Z22:Z28)","v":0},{"$f":"SUMIF(N22:N28,N18,AA22:AA28)","v":0},{"$f":"SUMIF(N22:N28,N18,AB22:AB28)","v":0},{"$f":"SUMIF(N22:N28,N18,AC22:AC28)","v":543.68388782260001},{"$f":"SUMIF(N22:N28,N18,AD22:AD28)","v":543.68388782260001},{"$f":"SUMIF(N22:N28,N18,AE22:AE28)","v":543.68388782260001},{"$f":"SUMIF(N22:N28,N18,AF22:AF28)","v":543.68388782260001},{"$f":"SUMIF(N22:N28,N18,AG22:AG28)","v":543.68388782260001},{"$f":"SUMIF(N22:N28,N18,AH22:AH28)","v":0},{"$f":"SUMIF(N22:N28,N18,AI22:AI28)","v":0},{"$f":"SUMIF(N22:N28,N18,AJ22:AJ28)","v":0},{"$f":"SUMIF(N22:N28,N18,AK22:AK28)","v":0},{"$f":"SUMIF(N22:N28,N18,AL22:AL28)","v":0}]
["1","L3",null,null,null,null,null,null,null,null,null,"3","Объём воды/сточных вод","тыс.куб.м.",{"$f":"Баланс!O21","v":741.0913417999999},{"$f":"Баланс!P21","v":560.22500000000002},{"$f":"Баланс!Q21","v":560.22500000000002},{"$f":"Баланс!R21","v":739.66395553999996},{"$f":"Баланс!S21","v":595.93099999999993},{"$f":"Баланс!T21","v":595.93099999999993},{"$f":"Баланс!U21","v":595.93099999999993},{"$f":"Баланс!V21","v":595.93099999999993},{"$f":"Баланс!W21","v":595.93099999999993},{"$f":"Баланс!X21","v":0},{"$f":"Баланс!Y21","v":0},{"$f":"Баланс!Z21","v":0},{"$f":"Баланс!AA21","v":0},{"$f":"Баланс!AB21","v":0},{"$f":"Баланс!AC21","v":554.77947737},{"$f":"Баланс!AD21","v":554.77947737},{"$f":"Баланс!AE21","v":554.77947737},{"$f":"Баланс!AF21","v":554.77947737},{"$f":"Баланс!AG21","v":554.77947737},{"$f":"Баланс!AH21","v":0},{"$f":"Баланс!AI21","v":0},{"$f":"Баланс!AJ21","v":0},{"$f":"Баланс!AK21","v":0},{"$f":"Баланс!AL21","v":0}]
["1","L4",null,null,null,null,null,null,null,null,null,"4","Средний (расчетный) тариф","руб./кВтч",{"$f":"IF(O18=0,0,O17/O18)","v":3.697074345355194},{"$f":"IF(P18=0,0,P17/P18)","v":3.8810577520939242},3.875212112346401,4.1320392334494791,5.1389980824544583,5.4473394055608821,5.7197027804410361,6.0056927133269413,6.3059803451581979,0,0,0,0,0,4.5902046245565256,4.8151246511597989,4.9595783906945927,5.1083657424154234,5.2616167146878938,0,0,0,0,0]
["1","L5",null,null,null,null,null,null,null,null,null,"5","Удельный расход электроэнергии","кВтч/куб.м.",{"$f":"IF(O19=0,0,O18/O19)","v":1.2400000000000002},{"$f":"IF(P19=0,0,P18/P19)","v":0.97607211388281501},{"$f":"IF(Q19=0,0,Q18/Q19)","v":0.97617921370877769},1.2384342078705803,1.4001620993034429,1.4001620993034429,1.4001620993034429,1.4001620993034429,1.4001620993034429,0,0,0,0,0,0.98,0.98,0.98,0.98,0.98,0,0,0,0,0,"В соответствии с долгосрочным параметром регулирования тарифов на 2024-2028 гг., определенным на уровне фактического показателя  удельного расхода электроэнергии  за 2022 г. "]
["1",null,null,null,null,null,null,null,null,"6.0",null,null,"Одноставочный тариф"]
[{"$f":"OFFSET(A23,-1,0)","v":"1"},"L6",{"$f":"M23","v":"НН"},null,null,null,null,null,null,"6.1","О",{"$f":"J23","v":"6.1"},"НН","тыс.руб.",3397.4385362937101,2122.2399999999998,2119.2759999999998,3785.0518374274302,4287.9799999999996,4545.26,4772.5200000000004,5011.1499999999996,5261.71,null,null,null,null,null,2495.62029618017,2617.905690693,2696.4428614137901,2777.3361472562001,2860.65623167389]
[{"$f":"A23","v":"1"},"L6_1",{"$f":"C23","v":"НН"},null,null,null,null,null,null,null,null,{"$f":"L23&\".1\"","v":"6.1.1"},"Тариф на электроэнергию","руб./кВтч",{"$f":"IF(OR(AND(O23<>0,O25=0),AND(O23=0,O25<>0)),\"Ошибка\",IF(O25=0,0,O23/O25))","v":3.697074345355194},3.8810577520939242,3.875212112346401,4.1320392334494791,5.1389980824544583,5.4473394055608821,5.7197027804410361,6.0056927133269413,6.3059803451581979,0,0,0,0,0,4.5902046245565256,4.8151246511597989,4.9595783906945927,5.1083657424154234,5.2616167146878938,0,0,0,0,0]
[{"$f":"A24","v":"1"},"L6_2",{"$f":"C24","v":"НН"},null,null,null,null,null,null,null,null,{"$f":"L23&\".2\"","v":"6.1.2"},"Объём покупной электроэнергии","тыс.кВтч",918.95326383199995,546.82000000000005,546.88,916.02514486960001,834.4,834.4,834.4,834.4,834.4,null,null,null,null,null,543.68388782260001,543.68388782260001,543.68388782260001,543.68388782260001,543.68388782260001,null,null,null,null,null,"Рассчитано как  произведение утвержденного удельного расхода электроэнергии и планового  годового объема  забора воды из скважин"]
[{"$f":"A22","v":"1"},{"$f":"A26&\"pIns1\"","v":"1pIns1"},null,null,null,null,null,null,null,null,null,null,"Добавить"]
["1",null,null,null,null,null,null,null,null,"7.0",null,null,"Двухставочный тариф"]
["1",{"$f":"A28&\"pIns2\"","v":"1pIns2"},null,null,null,null,null,null,null,null,null,null,"Добавить "]
[{"$f":"'Общие сведения'!$D$135","v":"2"},null,null,null,null,null,null,null,null,null,null,{"$f":"INDEX('Общие сведения'!$J$121:$J$148,MATCH($A29,'Общие сведения'!$D$121:$D$148,0))","v":"Тариф 2 (Водоотведение) - тариф на водоотведение"}]
[{"$f":"A29","v":"2"},"L1",null,null,null,null,null,null,null,null,null,"1","Всего по тарифу","тыс.руб.",{"$f":"SUMIF(N35:N41,N30,O35:O41)","v":785.10550739065695},{"$f":"SUMIF(N35:N41,N30,P35:P41)","v":721.08},{"$f":"SUMIF(N35:N41,N30,Q35:Q41)","v":710.38},{"$f":"SUMIF(N35:N41,N30,R35:R41)","v":903.15938513850199},{"$f":"SUMIF(N35:N41,N30,S35:S41)","v":1565.61},{"$f":"SUMIF(N35:N41,N30,T35:T41)","v":1639.19},{"$f":"SUMIF(N35:N41,N30,U35:U41)","v":1704.76},{"$f":"SUMIF(N35:N41,N30,V35:V41)","v":1772.95},{"$f":"SUMIF(N35:N41,N30,W35:W41)","v":1843.87},{"$f":"SUMIF(N35:N41,N30,X35:X41)","v":0},{"$f":"SUMIF(N35:N41,N30,Y35:Y41)","v":0},{"$f":"SUMIF(N35:N41,N30,Z35:Z41)","v":0},{"$f":"SUMIF(N35:N41,N30,AA35:AA41)","v":0},{"$f":"SUMIF(N35:N41,N30,AB35:AB41)","v":0},{"$f":"SUMIF(N35:N41,N30,AC35:AC41)","v":835.67405496959998},{"$f":"SUMIF(N35:N41,N30,AD35:AD41)","v":876.62208366311097},{"$f":"SUMIF(N35:N41,N30,AE35:AE41)","v":902.92074617300398},{"$f":"SUMIF(N35:N41,N30,AF35:AF41)","v":930.00836855819398},{"$f":"SUMIF(N35:N41,N30,AG35:AG41)","v":957.90861961493999},{"$f":"SUMIF(N35:N41,N30,AH35:AH41)","v":0},{"$f":"SUMIF(N35:N41,N30,AI35:AI41)","v":0},{"$f":"SUMIF(N35:N41,N30,AJ35:AJ41)","v":0},{"$f":"SUMIF(N35:N41,N30,AK35:AK41)","v":0},{"$f":"SUMIF(N35:N41,N30,AL35:AL41)","v":0},"П. 20, 84, 88, 43 Методических указаний ФСТ № 1746-э."]
["2","L2",null,null,null,null,null,null,null,null,null,"2","Объём покупаемой электроэнергии всего","тыс.кВтч",{"$f":"SUMIF(N35:N41,N31,O35:O41)","v":210.644435617},{"$f":"SUMIF(N35:N41,N31,P35:P41)","v":178},{"$f":"SUMIF(N35:N41,N31,Q35:Q41)","v":177.82},{"$f":"SUMIF(N35:N41,N31,R35:R41)","v":220.15063278810001},{"$f":"SUMIF(N35:N41,N31,S35:S41)","v":278.33},{"$f":"SUMIF(N35:N41,N31,T35:T41)","v":278.33},{"$f":"SUMIF(N35:N41,N31,U35:U41)","v":278.33},{"$f":"SUMIF(N35:N41,N31,V35:V41)","v":278.33},{"$f":"SUMIF(N35:N41,N31,W35:W41)","v":278.33},{"$f":"SUMIF(N35:N41,N31,X35:X41)","v":0},{"$f":"SUMIF(N35:N41,N31,Y35:Y41)","v":0},{"$f":"SUMIF(N35:N41,N31,Z35:Z41)","v":0},{"$f":"SUMIF(N35:N41,N31,AA35:AA41)","v":0},{"$f":"SUMIF(N35:N41,N31,AB35:AB41)","v":0},{"$f":"SUMIF(N35:N41,N31,AC35:AC41)","v":177.08512500000001},{"$f":"SUMIF(N35:N41,N31,AD35:AD41)","v":177.08512500000001},{"$f":"SUMIF(N35:N41,N31,AE35:AE41)","v":177.08512500000001},{"$f":"SUMIF(N35:N41,N31,AF35:AF41)","v":177.08512500000001},{"$f":"SUMIF(N35:N41,N31,AG35:AG41)","v":177.08512500000001},{"$f":"SUMIF(N35:N41,N31,AH35:AH41)","v":0},{"$f":"SUMIF(N35:N41,N31,AI35:AI41)","v":0},{"$f":"SUMIF(N35:N41,N31,AJ35:AJ41)","v":0},{"$f":"SUMIF(N35:N41,N31,AK35:AK41)","v":0},{"$f":"SUMIF(N35:N41,N31,AL35:AL41)","v":0}]
["2","L3",null,null,null,null,null,null,null,null,null,"3","Объём воды/сточных вод","тыс.куб.м.",{"$f":"Баланс!O67","v":158.37927490000001},{"$f":"Баланс!P67","v":169.34},{"$f":"Баланс!Q67","v":169.34},{"$f":"Баланс!R67","v":165.52679157},{"$f":"Баланс!S67","v":165.02800000000002},{"$f":"Баланс!T67","v":165.02800000000002},{"$f":"Баланс!U67","v":165.02800000000002},{"$f":"Баланс!V67","v":165.02800000000002},{"$f":"Баланс!W67","v":165.02800000000002},null,null,null,null,null,{"$f":"Баланс!AC67","v":168.65249999999997},{"$f":"Баланс!AD67","v":168.65249999999997},{"$f":"Баланс!AE67","v":168.65249999999997},{"$f":"Баланс!AF67","v":168.65249999999997},{"$f":"Баланс!AG67","v":168.65249999999997}]
["2","L4",null,null,null,null,null,null,null,null,null,"4","Средний (расчетный) тариф","руб./кВтч",{"$f":"IF(O31=0,0,O30/O31)","v":3.7271599655172434},{"$f":"IF(P31=0,0,P30/P31)","v":4.0510112359550563},3.9949387020582612,4.1024610000000017,5.6250134732152484,5.8893759206697087,6.1249595803542558,6.3699565264254669,6.624761973197284,0,0,0,0,0,4.7190528,4.9502863872000029,5.0987949788160014,5.2517588281804803,5.4093115930258966,0,0,0,0,0]
["2","L5",null,null,null,null,null,null,null,null,null,"5","Удельный расход электроэнергии","кВтч/куб.м.",{"$f":"IF(O32=0,0,O31/O32)","v":1.3299999999999998},1.0511397189087044,1.0500767686311563,1.33,1.6865622803403055,1.6865622803403055,1.6865622803403055,1.6865622803403055,1.6865622803403055,0,0,0,0,0,1.0500000000000003,1.0500000000000003,1.0500000000000003,1.0500000000000003,1.0500000000000003,0,0,0,0,0,"В соответствии с долгосрочным параметром регулирования тарифов на 2024-2028 гг., определенным на уровне фактического показателя  удельного расхода электроэнергии  за 2022 г. "]
["2",null,null,null,null,null,null,null,null,"6.0",null,null,"Одноставочный тариф"]
[{"$f":"OFFSET(A36,-1,0)","v":"2"},"L6",{"$f":"M36","v":"НН"},null,null,null,null,null,null,"6.1","О",{"$f":"J36","v":"6.1"},"НН","тыс.руб.",785.10550739065695,721.08,710.38,903.15938513850199,1565.61,1639.19,1704.76,1772.95,1843.87,null,null,null,null,null,835.67405496959998,876.62208366311097,902.92074617300398,930.00836855819398,957.90861961493999]
[{"$f":"A36","v":"2"},"L6_1",{"$f":"C36","v":"НН"},null,null,null,null,null,null,null,null,{"$f":"L36&\".1\"","v":"6.1.1"},"Тариф на электроэнергию","руб./кВтч",{"$f":"IF(OR(AND(O36<>0,O38=0),AND(O36=0,O38<>0)),\"Ошибка\",IF(O38=0,0,O36/O38))","v":3.7271599655172434},4.0510112359550563,3.9949387020582612,4.1024610000000017,5.6250134732152484,5.8893759206697087,6.1249595803542558,6.3699565264254669,6.624761973197284,0,0,0,0,0,4.7190528,4.9502863872000029,5.0987949788160014,5.2517588281804803,5.4093115930258966,0,0,0,0,0]
[{"$f":"A37","v":"2"},"L6_2",{"$f":"C37","v":"НН"},null,null,null,null,null,null,null,null,{"$f":"L36&\".2\"","v":"6.1.2"},"Объём покупной электроэнергии","тыс.кВтч",210.644435617,178,177.82,220.15063278810001,278.33,278.33,278.33,278.33,278.33,null,null,null,null,null,177.08512500000001,177.08512500000001,177.08512500000001,177.08512500000001,177.08512500000001,null,null,null,null,null,"Рассчитано как  произведение утвержденного удельного расхода электроэнергии и планового  годового объема  пропуска сточных вод через очистные сооружения."]
[{"$f":"A35","v":"2"},{"$f":"A39&\"pIns1\"","v":"2pIns1"},null,null,null,null,null,null,null,null,null,null,"Добавить"]
["2",null,null,null,null,null,null,null,null,"7.0",null,null,"Двухставочный тариф"]
["2",{"$f":"A41&\"pIns2\"","v":"2pIns2"},null,null,null,null,null,null,null,null,null,null,"Добавить "]
[]
[]
[null,null,null,null,null,null,null,null,null,null,null,"Комментарии и обоснования к разделу"]
[null,null,null,null,null,null,null,null,null,null,null,"Поставку электрической энергии для нужд  холодного водоснабжения и водоотведения  ООО \"ТВК\"  обеспечивает  ПАО \"Кузбассэнергосбыт\", по Договору  энергоснабжения от 01.07.2022 № 601181. Поставка  осуществляется через посредничество ООО \"Шахта \"Листвяжная\" (Агентский договор № АГ-01/2022 от 01.08.2022),  при этом  цены поставки  при расчетах между ООО \"ТВК\" и агентом  остаются идентичными ценам, указанным  в счетах-фактурах энергоснабжающей организации. "]
[null,null,null,null,null,null,null,null,null,null,"О ","Плановые цены на электроэнергию на 2024 год по обеим регулируемым услугам приняты специалистом РЭК, исходя из фактических средневзвешенных цен 2022 года  (цена по ВОДООТВЕДЕНИЮ уточнена согласно представленным документам:  710,38 тыс. руб. / 177,82 кВт*ч = 3,99 руб./кВт*ч), с учетом ИЦП (индекса цен производителей) электроэнергии 112,0% на 2023 г. и 105,6% на 2024 г., согласно базовому варианту \"Прогноза соц.-экономического развития Российской Федерации на 2024 год и на плановый период 2025 и 2026 годов.\" от 22.09.2023."]
[null,null,null,null,null,null,null,null,null,null,"О ","При установлении плановых цен на 2025-2028 гг. к плановым ценам каждого предыдущего года применены ИЦП электроэнергии Минэкономразвития России: на 2025 г. - 104,9%, на 2026 - 2028 гг. - 103,0%."]
[null,null,null,null,null,null,null,null,null,null,null,"Добавить комментарий"]

{"sheet":"Амортизация","index":19,"n_rows":119,"n_cols":39,"rows_kept":119,"cut":false,"hidden":false,"merged":[[118,11,118,12],[115,11,115,38],[12,11,12,37],[13,11,14,11],[13,12,14,12],[13,13,14,13],[13,38,14,38],[114,11,114,38],[116,11,116,38],[117,11,117,38]]}
[null,null,null,null,null,null,null,null,null,null,null,null,null,null,{"$f":"god-2","v":2022},{"$f":"god-2","v":2022},{"$f":"god-2","v":2022},{"$f":"god-1","v":2023},{"$f":"god","v":2024},{"$f":"god+1","v":2025},{"$f":"god+2","v":2026},{"$f":"god+3","v":2027},{"$f":"god+4","v":2028},{"$f":"god+5","v":2029},{"$f":"god+6","v":2030},{"$f":"god+7","v":2031},{"$f":"god+8","v":2032},{"$f":"god+9","v":2033},{"$f":"god","v":2024},{"$f":"god+1","v":2025},{"$f":"god+2","v":2026},{"$f":"god+3","v":2027},{"$f":"god+4","v":2028},{"$f":"god+5","v":2029},{"$f":"god+6","v":2030},{"$f":"god+7","v":2031},{"$f":"god+8","v":2032},{"$f":"god+9","v":2033}]
[null,null,null,null,null,null,null,null,null,null,null,null,null,null,{"$f":"O15","v":"Принято органом регулирования"},{"$f":"P15","v":"Факт по данным организации"},"Факт, принятый органом регулирования","Принято органом регулирования","Предложение организации","Предложение организации","Предложение организации","Предложение организации","Предложение организации","Предложение организации","Предложение организации","Предложение организации","Предложение организации","Предложение организации","Принято органом регулирования","Принято органом регулирования","Принято органом регулирования","Принято органом регулирования","Принято органом регулирования","Принято органом регулирования","Принято органом регулирования","Принято органом регулирования","Принято органом регулирования","Принято органом регулирования"]
[]
[]
[]
[]
[null,null,null,null,null,null,null,null,null,null,null,null,null,null,null,null,null,null,{"$f":"S1<=last_year_vis","v":true},true,true,true,true,false,false,false,false,false,true,true,true,true,true,false,false,false,false,false]
[]
[]
[]
[null,null,null,null,null,null,null,null,null,null,null,null,{"$f":"tpl_title","v":"Кемеровская область / 2024 / ООО \"ТВК\" (ИНН:4202026697, КПП:420201001) / ДПР: 2024-2028"}]
[null,null,null,null,null,null,null,null,null,null,null,"10. Амортизация основных средств и нематериальных активов, относимых к объектам централизованной системы водоснабжения/водоотведения"]
[]
[null,null,null,null,null,null,null,null,null,null,null,"№\nп/п","Наименование","Единица измерения",{"$f":"god-2 & \" год\"","v":"2022 год"},{"$f":"god-2 & \" год\"","v":"2022 год"},{"$f":"god-2 & \" год\"","v":"2022 год"},{"$f":"god-1 & \" год\"","v":"2023 год"},{"$f":"god & \" год\"","v":"2024 год"},{"$f":"god+1 & \" год\"","v":"2025 год"},{"$f":"god+2 & \" год\"","v":"2026 год"},{"$f":"god+3 & \" год\"","v":"2027 год"},{"$f":"god+4 & \" год\"","v":"2028 год"},{"$f":"god+5 & \" год\"","v":"2029 год"},{"$f":"god+6 & \" год\"","v":"2030 год"},{"$f":"god+7 & \" год\"","v":"2031 год"},{"$f":"god+8 & \" год\"","v":"2032 год"},{"$f":"god+9 & \" год\"","v":"2033 год"},{"$f":"god & \" год\"","v":"2024 год"},{"$f":"god+1 & \" год\"","v":"2025 год"},{"$f":"god+2 & \" год\"","v":"2026 год"},{"$f":"god+3 & \" год\"","v":"2027 год"},{"$f":"god+4 & \" год\"","v":"2028 год"},{"$f":"god+5 & \" год\"","v":"2029 год"},{"$f":"god+6 & \" год\"","v":"2030 год"},{"$f":"god+7 & \" год\"","v":"2031 год"},{"$f":"god+8 & \" год\"","v":"2032 год"},{"$f":"god+9 & \" год\"","v":"2033 год"},"Ссылка на правовую норму (основание для принятия показателя в расчет тарифа)"]
[null,null,null,null,null,null,null,null,null,null,null,null,null,null,"Принято органом регулирования","Факт по данным организации","Факт, принятый органом регулирования","Принято органом регулирования","Предложение организации","Предложение организации","Предложение организации","Предложение организации","Предложение организации","Предложение организации","Предложение организации","Предложение организации","Предложение организации","Предложение организации","Принято органом регулирования","Принято органом регулирования","Принято органом регулирования","Принято органом регулирования","Принято органом регулирования","Принято органом регулирования","Принято органом регулирования","Принято органом регулирования","Принято органом регулирования","Принято органом регулирования"]
[{"$f":"'Общие сведения'!$D$122","v":"1"},null,null,null,null,null,null,null,null,null,null,{"$f":"INDEX('Общие сведения'!$J$121:$J$148,MATCH($A16,'Общие сведения'!$D$121:$D$148,0))","v":"Тариф 1 (Водоснабжение) - тариф на питьевую воду"}]
[{"$f":"A16","v":"1"},"L1",null,null,null,null,null,null,null,null,null,1,"Первоначальная (восстановительная) стоимость на начало периода","тыс.руб.",{"$f":"SUM(O18:O22)","v":1400.6788300000001},{"$f":"SUM(P18:P22)","v":1400.6788300000001},{"$f":"SUM(Q18:Q22)","v":1400.6788300000001},{"$f":"SUM(R18:R22)","v":1400.6788300000001},{"$f":"SUM(S18:S22)","v":573.03},0,0,0,0,0,0,0,{"$f":"SUM(AA18:AA22)","v":0},{"$f":"SUM(AB18:AB22)","v":0},414.96499999999997,414.96499999999997,0,0,0,0,0,0,0,0,"1) П. 89, п. 28, п 18(7)  Методических указаний ФСТ № 1746-э. 2) Постановление Правительства РФ от 01.01.2002 N 1 (ред. от 18.11.2022) \"О Классификации основных средств, включаемых в амортизационные группы\". 3) Приказ Минфина России от 17.09.2020 N 204н (ред. от 30.05.2022) \"Об утверждении Федеральных стандартов бухгалтерского учета ФСБУ 6/2020 \"Основные средства\" и ФСБУ 26/2020 \"Капитальные вложения\" (Зарегистрировано в Минюсте России 15.10.2020 N 60399). 4) Письмо> ФАС России от 05.08.2022 N МШ/74227/22 \"О новых стандартах бухгалтерского учета, подлежащих применению начиная с бухгалтерской (финансовой) отчетности за 2022 год\". 5) \"Положение об Учетной политике для целей бухгалтерского учета ООО \"ТВК\" на 2022 год\" (Приказ от 10.01.2022 № 57)."]
[{"$f":"A17","v":"1"},"L1_1",null,null,null,null,null,null,null,null,null,"1.1","Здания","тыс.руб."]
["1","L1_2",null,null,null,null,null,null,null,null,null,"1.2","Сооружения и передаточные устройства","тыс.руб."]
["1","L1_3",null,null,null,null,null,null,null,null,null,"1.3","Машины и оборудование","тыс.руб.",{"$f":"1196.631+204.04783","v":1400.6788300000001},{"$f":"1196.631+204.04783","v":1400.6788300000001},{"$f":"1196.631+204.04783","v":1400.6788300000001},{"$f":"1196.631+204.04783","v":1400.6788300000001},{"$f":"414.965+158.065","v":573.03},0,0,0,0,null,null,null,null,null,414.96499999999997,{"$f":"AC35","v":414.96499999999997},0,0,0,null,null,null,null,null,"Стоимость электронасоса скважинного JETEX C6 SS3, приобретенного в 2022 г., к учету по данной статье не принята,  так как расходы на его приобретение  учтены в составе фактических затрат на КАПИТАЛЬНЫЙ РЕМОНТ 2022 г. "]
["1","L1_4",null,null,null,null,null,null,null,null,null,"1.4","Транспорт","тыс.руб."]
["1","L1_5",null,null,null,null,null,null,null,null,null,"1.5","Прочее","тыс.руб."]
["1","L2",null,null,null,null,null,null,null,null,null,2,"Ввод основных фондов","тыс.руб.",{"$f":"SUM(O24:O28)","v":0},158.065,0,0,0,0,0,0,0,0,0,0,{"$f":"SUM(AA24:AA28)","v":0},{"$f":"SUM(AB24:AB28)","v":0},0,0,0,0,0,0,0,0,0,0]
["1","L2_1",null,null,null,null,null,null,null,null,null,"2.1","Здания","тыс.руб."]
["1","L2_2",null,null,null,null,null,null,null,null,null,"2.2","Сооружения и передаточные устройства","тыс.руб."]
["1","L2_3",null,null,null,null,null,null,null,null,null,"2.3","Машины и оборудование","тыс.руб.",null,158.065,0,0,0,0,0,0,0,0,0,0,0,0,0,0,0,0,0,null,null,null,null,null,"Стоимость электронасоса скважинного JETEX C6 SS3, приобретенного в 2022 г., к учету по данной статье не принята,  так как расходы на его приобретение  учтены в составе фактических затрат на КАПИТАЛЬНЫЙ РЕМОНТ 2022 г. "]
["1","L2_4",null,null,null,null,null,null,null,null,null,"2.4","Транспорт","тыс.руб."]
["1","L2_5",null,null,null,null,null,null,null,null,null,"2.5","Прочее","тыс.руб."]
["1","L3",null,null,null,null,null,null,null,null,null,3,"Выбытие основных фондов","тыс.руб.",{"$f":"SUM(O30:O34)","v":0},0,0,0,0,573.03,0,0,0,0,0,0,{"$f":"SUM(AA30:AA34)","v":0},{"$f":"SUM(AB30:AB34)","v":0},0,414.96499999999997,0,0,0,0,0,0,0,{"$f":"SUM(AL30:AL34)","v":0}]
["1","L3_1",null,null,null,null,null,null,null,null,null,"3.1","Здания","тыс.руб."]
["1","L3_2",null,null,null,null,null,null,null,null,null,"3.2","Сооружения и передаточные устройства","тыс.руб."]
["1","L3_3",null,null,null,null,null,null,null,null,null,"3.3","Машины и оборудование","тыс.руб.",null,null,null,null,null,{"$f":"S20","v":573.03},0,0,0,null,null,null,null,null,0,{"$f":"AC20","v":414.96499999999997},0,0,0,null,null,null,null,null,"В соответствии с нормативными сроками полезного использования."]
["1","L3_4",null,null,null,null,null,null,null,null,null,"3.4","Транспорт","тыс.руб."]
["1","L3_5",null,null,null,null,null,null,null,null,null,"3.5","Прочее","тыс.руб."]
["1","L4",null,null,null,null,null,null,null,null,null,4,"Первоначальная (восстановительная) стоимость на конец периода","тыс.руб.",{"$f":"SUM(O36:O40)","v":1400.6788300000001},1558.7438300000001,{"$f":"SUM(Q36:Q40)","v":1400.6788300000001},1400.6788300000001,573.03,-573.03,0,0,0,0,0,0,{"$f":"SUM(AA36:AA40)","v":0},{"$f":"SUM(AB36:AB40)","v":0},414.96499999999997,0,0,0,0,0,0,0,0,0]
["1","L4_1",null,null,null,null,null,null,null,null,null,"4.1","Здания","тыс.руб.",{"$f":"O18+O24-O30","v":0},{"$f":"P18+P24-P30","v":0},{"$f":"Q18+Q24-Q30","v":0},0,0,0,0,0,0,0,0,0,0,0,0,0,0,0,0,0,0,0,0,0]
["1","L4_2",null,null,null,null,null,null,null,null,null,"4.2","Сооружения и передаточные устройства","тыс.руб.",{"$f":"O19+O25-O31","v":0},{"$f":"P19+P25-P31","v":0},{"$f":"Q19+Q25-Q31","v":0},{"$f":"R19+R25-R31","v":0},0,0,0,0,0,0,0,0,0,0,0,0,0,0,0,0,0,0,0,0]
["1","L4_3",null,null,null,null,null,null,null,null,null,"4.3","Машины и оборудование","тыс.руб.",{"$f":"O20+O26-O32","v":1400.6788300000001},{"$f":"P20+P26-P32","v":1558.7438300000001},{"$f":"Q20+Q26-Q32","v":1400.6788300000001},{"$f":"R20+R26-R32","v":1400.6788300000001},{"$f":"S20+S26-S32","v":573.03},-573.03,0,0,0,0,0,0,0,0,414.96499999999997,0,0,0,0,0,0,0,0,{"$f":"AL20+AL26-AL32","v":0}]
["1","L4_4",null,null,null,null,null,null,null,null,null,"4.4","Транспорт","тыс.руб.",{"$f":"O21+O27-O33","v":0},{"$f":"P21+P27-P33","v":0},{"$f":"Q21+Q27-Q33","v":0},{"$f":"R21+R27-R33","v":0},{"$f":"S21+S27-S33","v":0},0,0,0,0,0,0,0,0,0,0,0,0,0,0,0,0,0,0,{"$f":"AL21+AL27-AL33","v":0}]
["1","L4_5",null,null,null,null,null,null,null,null,null,"4.5","Прочее","тыс.руб.",{"$f":"O22+O28-O34","v":0},{"$f":"P22+P28-P34","v":0},{"$f":"Q22+Q28-Q34","v":0},{"$f":"R22+R28-R34","v":0},{"$f":"S22+S28-S34","v":0},0,0,0,0,0,0,0,0,0,0,0,0,0,0,0,0,0,0,{"$f":"AL22+AL28-AL34","v":0}]
["1","L5",null,null,null,null,null,null,null,null,null,5,"Среднегодовая стоимость","тыс.руб.",{"$f":"SUM(O42:O46)","v":1400.6788300000001},{"$f":"SUM(P42:P46)","v":1479.7113300000001},{"$f":"SUM(Q42:Q46)","v":1400.6788300000001},1400.6788300000001,573.03,-286.51499999999999,0,0,0,0,0,0,{"$f":"SUM(AA42:AA46)","v":0},{"$f":"SUM(AB42:AB46)","v":0},414.96499999999997,207.48249999999999,0,0,0,0,0,0,0,0]
["1","L5_1",null,null,null,null,null,null,null,null,null,"5.1","Здания","тыс.руб.",{"$f":"(O36+O18)/2","v":0},{"$f":"(P36+P18)/2","v":0},{"$f":"(Q36+Q18)/2","v":0},0,0,0,0,0,0,0,0,0,0,0,0,0,0,0,0,0,0,0,0,0]
["1","L5_2",null,null,null,null,null,null,null,null,null,"5.2","Сооружения и передаточные устройства","тыс.руб.",{"$f":"(O37+O19)/2","v":0},0,{"$f":"(Q37+Q19)/2","v":0},0,0,0,0,0,0,0,0,0,0,0,0,0,0,0,0,0,0,0,0,0]
["1","L5_3",null,null,null,null,null,null,null,null,null,"5.3","Машины и оборудование","тыс.руб.",{"$f":"(O38+O20)/2","v":1400.6788300000001},1479.7113300000001,{"$f":"(Q38+Q20)/2","v":1400.6788300000001},1400.6788300000001,573.03,-286.51499999999999,0,0,0,0,0,0,0,0,414.96499999999997,207.48249999999999,0,0,0,0,0,0,0,0]
["1","L5_4",null,null,null,null,null,null,null,null,null,"5.4","Транспорт","тыс.руб.",{"$f":"(O39+O21)/2","v":0},0,{"$f":"(Q39+Q21)/2","v":0},0,0,0,0,0,0,0,0,0,0,0,0,0,0,0,0,0,0,0,0,0]
["1","L5_5",null,null,null,null,null,null,null,null,null,"5.5","Прочее","тыс.руб.",{"$f":"(O40+O22)/2","v":0},0,{"$f":"(Q40+Q22)/2","v":0},0,0,0,0,0,0,0,0,0,0,0,0,0,0,0,0,0,0,0,0,0]
["1","L6",null,null,null,null,null,null,null,null,null,6,"Средняя норма амортизационных отчислений"]
["1","L6_1",null,null,null,null,null,null,null,null,null,"6.1","Здания","%",{"$f":"IF(O42=0,0,O54/O42*100)","v":0},0,0,0,0,0,0,0,0,0,0,0,0,0,0,0,0,0,0,0,0,0,0,0]
["1","L6_2",null,null,null,null,null,null,null,null,null,"6.2","Сооружения и передаточные устройства","%",{"$f":"IF(O43=0,0,O55/O43*100)","v":0},0,0,0,0,0,0,0,0,0,0,0,0,0,0,0,0,0,0,0,0,0,0,0]
["1","L6_3",null,null,null,null,null,null,null,null,null,"6.3","Машины и оборудование","%",{"$f":"IF(O44=0,0,O56/O44*100)","v":24.701594154885598},2.2571970169343775E-2,16.790462950025454,5.9828133477251164,2.4712493237701347E-2,0,0,0,0,0,0,0,0,0,16.667314110828631,0,0,0,0,0,0,0,0,0]
["1","L6_4",null,null,null,null,null,null,null,null,null,"6.4","Транспорт","%",{"$f":"IF(O45=0,0,O57/O45*100)","v":0},0,0,0,0,0,0,0,0,0,0,0,0,0,0,0,0,0,0,0,0,0,0,0]
["1","L6_5",null,null,null,null,null,null,null,null,null,"6.5","Прочее","%",{"$f":"IF(O46=0,0,O58/O46*100)","v":0},0,0,0,0,0,0,0,0,0,0,0,0,0,0,0,0,0,0,0,0,0,0,0]
["1","L7",null,null,null,null,null,null,null,null,null,7,"Сумма амортизационных отчислений","тыс.руб.",{"$f":"SUM(O54:O58)","v":345.99},0.33400000000000002,{"$f":"SUM(Q54:Q58)","v":235.18046000000001},83.8,0.14161000000000001,0,0,0,0,0,0,0,{"$f":"SUM(AA54:AA58)","v":0},{"$f":"SUM(AB54:AB58)","v":0},69.16352000000002,0,0,0,0,0,0,0,0,0]
["1","L7_1",null,null,null,null,null,null,null,null,null,"7.1","Здания","тыс.руб."]
["1","L7_2",null,null,null,null,null,null,null,null,null,"7.2","Сооружения и передаточные устройства","тыс.руб.",null,null,null,null,null,null,null,null,null,null,null,null,null,null,null,null,null,null,null,null,null,null,null,null,"В цифрах, отражающих Факт 2022 г. и Предложение на 2024 г., допущен а ошибка в разрядности (значения показателей некорректно разделены на 1000)."]
["1","L7_3",null,null,null,null,null,null,null,null,null,"7.3","Машины и оборудование","тыс.руб.",345.99,{"$f":"334/1000","v":0.33400000000000002},{"$f":"241.7665-6.58604","v":235.18046000000001},83.8,{"$f":"141.61/1000","v":0.14161000000000001},0,0,0,0,null,null,null,null,null,{"$f":"141.61-72.44648","v":69.16352000000002},0,0,0,0,null,null,null,null,null,"Не принята к учету амортизация электронасоса скважинного JETEX C6 SS3, так как расходы на его приобретение  учтены в составе фактических затрат на КАПИТАЛЬНЫЙ РЕМОНТ 2022 г. "]
["1","L7_4",null,null,null,null,null,null,null,null,null,"7.4","Транспорт","тыс.руб."]
["1","L7_5",null,null,null,null,null,null,null,null,null,"7.5","Прочее","тыс.руб."]
["1","L8",null,null,null,null,null,null,null,null,null,8,"Переоценка на 31.12.XX","тыс.руб.",{"$f":"SUM(O60:O64)","v":0},0,{"$f":"SUM(Q60:Q64)","v":0},0,0,0,0,0,0,0,0,0,{"$f":"SUM(AA60:AA64)","v":0},{"$f":"SUM(AB60:AB64)","v":0},0,0,0,0,0,0,0,0,0,0]
["1","L8_1",null,null,null,null,null,null,null,null,null,"8.1","Здания","тыс.руб."]
["1","L8_2",null,null,null,null,null,null,null,null,null,"8.2","Сооружения и передаточные устройства","тыс.руб."]
["1","L8_3",null,null,null,null,null,null,null,null,null,"8.3","Машины и оборудование","тыс.руб."]
["1","L8_4",null,null,null,null,null,null,null,null,null,"8.4","Транспорт","тыс.руб."]
["1","L8_5",null,null,null,null,null,null,null,null,null,"8.5","Прочее","тыс.руб."]
[{"$f":"'Общие сведения'!$D$135","v":"2"},null,null,null,null,null,null,null,null,null,null,{"$f":"INDEX('Общие сведения'!$J$121:$J$148,MATCH($A65,'Общие сведения'!$D$121:$D$148,0))","v":"Тариф 2 (Водоотведение) - тариф на водоотведение"}]
[{"$f":"A65","v":"2"},"L1",null,null,null,null,null,null,null,null,null,1,"Первоначальная (восстановительная) стоимость на начало периода","тыс.руб.",{"$f":"SUM(O67:O71)","v":454.56200000000001},{"$f":"SUM(P67:P71)","v":454.56200000000001},{"$f":"SUM(Q67:Q71)","v":454.56200000000001},{"$f":"SUM(R67:R71)","v":1113.2048600000001},{"$f":"SUM(S67:S71)","v":658.64286000000004},658.64286000000004,165.25620000000001,0,0,0,0,0,{"$f":"SUM(AA67:AA71)","v":0},{"$f":"SUM(AB67:AB71)","v":0},658.64286000000004,658.64286000000004,165.25620000000001,0,0,0,0,0,0,0,"1) П. 89, п. 28, п 18(7)  Методических указаний ФСТ № 1746-э. 2) Постановление Правительства РФ от 01.01.2002 N 1 (ред. от 18.11.2022) \"О Классификации основных средств, включаемых в амортизационные группы\". 3) Приказ Минфина России от 17.09.2020 N 204н (ред. от 30.05.2022) \"Об утверждении Федеральных стандартов бухгалтерского учета ФСБУ 6/2020 \"Основные средства\" и ФСБУ 26/2020 \"Капитальные вложения\" (Зарегистрировано в Минюсте России 15.10.2020 N 60399). 4) Письмо> ФАС России от 05.08.2022 N МШ/74227/22 \"О новых стандартах бухгалтерского учета, подлежащих применению начиная с бухгалтерской (финансовой) отчетности за 2022 год\". 5) \"Положение об Учетной политике для целей бухгалтерского учета ООО \"ТВК\" на 2022 год\" (Приказ от 10.01.2022 № 57)."]
[{"$f":"A66","v":"2"},"L1_1",null,null,null,null,null,null,null,null,null,"1.1","Здания","тыс.руб."]
["2","L1_2",null,null,null,null,null,null,null,null,null,"1.2","Сооружения и передаточные устройства","тыс.руб."]
["2","L1_3",null,null,null,null,null,null,null,null,null,"1.3","Машины и оборудование","тыс.руб.",454.56200000000001,454.56200000000001,454.56200000000001,{"$f":"Q87","v":1113.2048600000001},658.64286000000004,{"$f":"S84","v":658.64286000000004},165.25620000000001,0,0,null,null,null,null,null,658.64286000000004,658.64286000000004,165.25620000000001,0,0]
["2","L1_4",null,null,null,null,null,null,null,null,null,"1.4","Транспорт","тыс.руб."]
["2","L1_5",null,null,null,null,null,null,null,null,null,"1.5","Прочее","тыс.руб."]
["2","L2",null,null,null,null,null,null,null,null,null,2,"Ввод основных фондов","тыс.руб.",{"$f":"SUM(O73:O77)","v":0},658.64286000000004,658.64286000000004,0,0,493.38666000000001,165.25620000000001,0,0,0,0,0,{"$f":"SUM(AA73:AA77)","v":0},{"$f":"SUM(AB73:AB77)","v":0},0,493.38666000000001,165.25620000000001,0,0,0,0,0,0,0]
["2","L2_1",null,null,null,null,null,null,null,null,null,"2.1","Здания","тыс.руб."]
["2","L2_2",null,null,null,null,null,null,null,null,null,"2.2","Сооружения и передаточные устройства","тыс.руб."]
["2","L2_3",null,null,null,null,null,null,null,null,null,"2.3","Машины и оборудование","тыс.руб.",null,658.64286000000004,658.64286000000004,null,0,493.38666000000001,{"$f":"U69","v":165.25620000000001},0,0,null,null,null,null,null,0,493.38666000000001,165.25620000000001,0,0]
["2","L2_4",null,null,null,null,null,null,null,null,null,"2.4","Транспорт","тыс.руб."]
["2","L2_5",null,null,null,null,null,null,null,null,null,"2.5","Прочее","тыс.руб."]
["2","L3",null,null,null,null,null,null,null,null,null,3,"Выбытие основных фондов","тыс.руб.",{"$f":"SUM(O79:O83)","v":0},0,0,0,0,0,0,0,0,0,0,0,{"$f":"SUM(AA79:AA83)","v":0},{"$f":"SUM(AB79:AB83)","v":0},0,0,0,0,0,0,0,0,0,{"$f":"SUM(AL79:AL83)","v":0}]
["2","L3_1",null,null,null,null,null,null,null,null,null,"3.1","Здания","тыс.руб."]
["2","L3_2",null,null,null,null,null,null,null,null,null,"3.2","Сооружения и передаточные устройства","тыс.руб."]
["2","L3_3",null,null,null,null,null,null,null,null,null,"3.3","Машины и оборудование","тыс.руб."]
["2","L3_4",null,null,null,null,null,null,null,null,null,"3.4","Транспорт","тыс.руб."]
["2","L3_5",null,null,null,null,null,null,null,null,null,"3.5","Прочее","тыс.руб."]
["2","L4",null,null,null,null,null,null,null,null,null,4,"Первоначальная (восстановительная) стоимость на конец периода","тыс.руб.",{"$f":"SUM(O85:O89)","v":454.56200000000001},1113.2048600000001,{"$f":"SUM(Q85:Q89)","v":1113.2048600000001},1113.2048600000001,658.64286000000004,1152.02952,330.51240000000001,0,0,0,0,0,{"$f":"SUM(AA85:AA89)","v":0},{"$f":"SUM(AB85:AB89)","v":0},658.64286000000004,1152.02952,330.51240000000001,0,0,0,0,0,0,0]
["2","L4_1",null,null,null,null,null,null,null,null,null,"4.1","Здания","тыс.руб.",{"$f":"O67+O73-O79","v":0},{"$f":"P67+P73-P79","v":0},{"$f":"Q67+Q73-Q79","v":0},0,0,0,0,0,0,0,0,0,0,0,0,0,0,0,0,0,0,0,0,0]
["2","L4_2",null,null,null,null,null,null,null,null,null,"4.2","Сооружения и передаточные устройства","тыс.руб.",{"$f":"O68+O74-O80","v":0},{"$f":"P68+P74-P80","v":0},{"$f":"Q68+Q74-Q80","v":0},{"$f":"R68+R74-R80","v":0},0,0,0,0,0,0,0,0,0,0,0,0,0,0,0,0,0,0,0,0]
["2","L4_3",null,null,null,null,null,null,null,null,null,"4.3","Машины и оборудование","тыс.руб.",{"$f":"O69+O75-O81","v":454.56200000000001},{"$f":"P69+P75-P81","v":1113.2048600000001},{"$f":"Q69+Q75-Q81","v":1113.2048600000001},{"$f":"R69+R75-R81","v":1113.2048600000001},{"$f":"S69+S75-S81","v":658.64286000000004},1152.02952,330.51240000000001,0,0,0,0,0,0,0,658.64286000000004,1152.02952,330.51240000000001,0,0,0,0,0,0,{"$f":"AL69+AL75-AL81","v":0}]
["2","L4_4",null,null,null,null,null,null,null,null,null,"4.4","Транспорт","тыс.руб.",{"$f":"O70+O76-O82","v":0},{"$f":"P70+P76-P82","v":0},{"$f":"Q70+Q76-Q82","v":0},{"$f":"R70+R76-R82","v":0},{"$f":"S70+S76-S82","v":0},0,0,0,0,0,0,0,0,0,0,0,0,0,0,0,0,0,0,{"$f":"AL70+AL76-AL82","v":0}]
["2","L4_5",null,null,null,null,null,null,null,null,null,"4.5","Прочее","тыс.руб.",{"$f":"O71+O77-O83","v":0},{"$f":"P71+P77-P83","v":0},{"$f":"Q71+Q77-Q83","v":0},{"$f":"R71+R77-R83","v":0},{"$f":"S71+S77-S83","v":0},0,0,0,0,0,0,0,0,0,0,0,0,0,0,0,0,0,0,{"$f":"AL71+AL77-AL83","v":0}]
["2","L5",null,null,null,null,null,null,null,null,null,5,"Среднегодовая стоимость","тыс.руб.",{"$f":"SUM(O91:O95)","v":454.56200000000001},{"$f":"SUM(P91:P95)","v":783.88343000000009},{"$f":"SUM(Q91:Q95)","v":783.88343000000009},1113.2048600000001,658.64286000000004,905.33618999999999,247.8843,0,0,0,0,0,{"$f":"SUM(AA91:AA95)","v":0},{"$f":"SUM(AB91:AB95)","v":0},658.64286000000004,905.33618999999999,247.8843,0,0,0,0,0,0,0]
["2","L5_1",null,null,null,null,null,null,null,null,null,"5.1","Здания","тыс.руб.",{"$f":"(O85+O67)/2","v":0},{"$f":"(P85+P67)/2","v":0},{"$f":"(Q85+Q67)/2","v":0},0,0,0,0,0,0,0,0,0,0,0,0,0,0,0,0,0,0,0,0,0]
["2","L5_2",null,null,null,null,null,null,null,null,null,"5.2","Сооружения и передаточные устройства","тыс.руб.",{"$f":"(O86+O68)/2","v":0},0,{"$f":"(Q86+Q68)/2","v":0},0,0,0,0,0,0,0,0,0,0,0,0,0,0,0,0,0,0,0,0,0]
["2","L5_3",null,null,null,null,null,null,null,null,null,"5.3","Машины и оборудование","тыс.руб.",{"$f":"(O87+O69)/2","v":454.56200000000001},783.88343000000009,{"$f":"(Q87+Q69)/2","v":783.88343000000009},1113.2048600000001,658.64286000000004,905.33618999999999,247.8843,0,0,0,0,0,0,0,658.64286000000004,905.33618999999999,247.8843,0,0,0,0,0,0,0]
["2","L5_4",null,null,null,null,null,null,null,null,null,"5.4","Транспорт","тыс.руб.",{"$f":"(O88+O70)/2","v":0},0,{"$f":"(Q88+Q70)/2","v":0},0,0,0,0,0,0,0,0,0,0,0,0,0,0,0,0,0,0,0,0,0]
["2","L5_5",null,null,null,null,null,null,null,null,null,"5.5","Прочее","тыс.руб.",{"$f":"(O89+O71)/2","v":0},0,{"$f":"(Q89+Q71)/2","v":0},0,0,0,0,0,0,0,0,0,0,0,0,0,0,0,0,0,0,0,0,0]
["2","L6",null,null,null,null,null,null,null,null,null,6,"Средняя норма амортизационных отчислений"]
["2","L6_1",null,null,null,null,null,null,null,null,null,"6.1","Здания","%",{"$f":"IF(O91=0,0,O103/O91*100)","v":0},0,0,0,0,0,0,0,0,0,0,0,0,0,0,0,0,0,0,0,0,0,0,0]
["2","L6_2",null,null,null,null,null,null,null,null,null,"6.2","Сооружения и передаточные устройства","%",{"$f":"IF(O92=0,0,O104/O92*100)","v":0},0,0,0,0,0,0,0,0,0,0,0,0,0,0,0,0,0,0,0,0,0,0,0]
["2","L6_3",null,null,null,null,null,null,null,null,null,"6.3","Машины и оборудование","%",{"$f":"IF(O93=0,0,O105/O93*100)","v":32.803005970582674},0,14.024219136766291,4.2849255976119256,31.243032073558041,21.215323337510675,8.3345334900193357,0,0,0,0,0,0,0,31.242461202722215,21.215460303205155,8.3390396245345109,0,0,0,0,0,0,0]
["2","L6_4",null,null,null,null,null,null,null,null,null,"6.4","Транспорт","%",{"$f":"IF(O94=0,0,O106/O94*100)","v":0},0,0,0,0,0,0,0,0,0,0,0,0,0,0,0,0,0,0,0,0,0,0,0]
["2","L6_5",null,null,null,null,null,null,null,null,null,"6.5","Прочее","%",{"$f":"IF(O95=0,0,O107/O95*100)","v":0},0,0,0,0,0,0,0,0,0,0,0,0,0,0,0,0,0,0,0,0,0,0,0]
["2","L7",null,null,null,null,null,null,null,null,null,7,"Сумма амортизационных отчислений","тыс.руб.",{"$f":"SUM(O103:O107)","v":149.11000000000001},0,{"$f":"SUM(Q103:Q107)","v":109.93353},47.7,205.78,192.07,20.66,0,0,0,0,0,{"$f":"SUM(AA103:AA107)","v":0},{"$f":"SUM(AB103:AB107)","v":0},205.77624,192.07123999999999,20.67117,0,0,0,0,0,0,0]
["2","L7_1",null,null,null,null,null,null,null,null,null,"7.1","Здания","тыс.руб."]
["2","L7_2",null,null,null,null,null,null,null,null,null,"7.2","Сооружения и передаточные устройства","тыс.руб."]
["2","L7_3",null,null,null,null,null,null,null,null,null,"7.3","Машины и оборудование","тыс.руб.",149.11000000000001,null,109.93353,47.7,205.78,192.07,20.66,0,0,null,null,null,null,null,205.77624,192.07123999999999,20.67117,0,0,null,null,null,null,null,"Фактические затраты 2022 года  составили 109,93 тыс. руб. (не отражены организацией ошибочно)."]
["2","L7_4",null,null,null,null,null,null,null,null,null,"7.4","Транспорт","тыс.руб."]
["2","L7_5",null,null,null,null,null,null,null,null,null,"7.5","Прочее","тыс.руб."]
["2","L8",null,null,null,null,null,null,null,null,null,8,"Переоценка на 31.12.XX","тыс.руб.",{"$f":"SUM(O109:O113)","v":0},0,{"$f":"SUM(Q109:Q113)","v":0},0,0,0,0,0,0,0,0,0,{"$f":"SUM(AA109:AA113)","v":0},{"$f":"SUM(AB109:AB113)","v":0},0,0,0,0,0,0,0,0,0,0]
["2","L8_1",null,null,null,null,null,null,null,null,null,"8.1","Здания","тыс.руб."]
["2","L8_2",null,null,null,null,null,null,null,null,null,"8.2","Сооружения и передаточные устройства","тыс.руб."]
["2","L8_3",null,null,null,null,null,null,null,null,null,"8.3","Машины и оборудование","тыс.руб."]
["2","L8_4",null,null,null,null,null,null,null,null,null,"8.4","Транспорт","тыс.руб."]
["2","L8_5",null,null,null,null,null,null,null,null,null,"8.5","Прочее","тыс.руб."]
[]
[null,null,null,null,null,null,null,null,null,null,null,"Комментарии и обоснования к разделу"]
[null,null,null,null,null,null,null,null,null,null,null,"ПИТЬЕВАЯ ВОДА. Плановая величина амортизационных отчислений  на 2024 год  (69,16 тыс. руб.) в части основных средств (насосное оборудование), закрепленных за участком \"ВОДОЕМ-2\",  определена на основании: 1)  \"Аналитического отчета с 01.01.2022 по 31.12.2022\" сч. 20-19 \"Водоснабжение питьевой водой\";  2)  \"Ведомости износа основных средств по состоянию на 31.12.2022\" (по участку \"Водоем-2\"); 3) инвентарных карт. При этом  ИСКЛЮЧЕНА амортизация электронасоса скважинного JETEX C6 SS3, приобретенного в 2022 г., так как расходы на его приобретение  учтены специалистом РЭК в составе фактических затрат на КАПИТАЛЬНЫЙ РЕМОНТ 2022 г. "]
[null,null,null,null,null,null,null,null,null,null,"О ","Плановые затраты на 2024-2028 годы определены в размере 0,00 тыс. руб., так как, по расчету регулятора, остаточная стоимость осноных средств на участке Водоем-2 по состоянию на 31.12.2024 составит  0,00 тыс. руб."]
[null,null,null,null,null,null,null,null,null,null,"О ","ВОДООТВЕДЕНИЕ.  Плановые амортизационные отчисления  на 2024-2028 гг. в части основных средств, числящихся на участке  \"ОСВ\" (насосное оборудование, лабораторные весы), приняты в размерах, предлагаемых организацией.  Расчеты соотвествуют данным представленных  инвентарных карт,  \"Аналитического отчета с 01.01.2022 по 31.12.2022\"  по сч. 20-21 \"Водоотведение\", а также данным \"Ведомости износа основных средств по состоянию на 31.12.2022\" (по участку \"Участок очистки сточных вод\").  Используемые организацией сроки полезного использования  соответствуют  нормативным срокам, указанным  в  \"Классификации основных средств, включаемых в амортизационные группы\" (Постановление Правительства РФ от 01.01.2002 N 1, ред. от 18.11.2022))."]
[null,null,null,null,null,null,null,null,null,null,null,"Добавить комментарий"]

{"sheet":"Аренда","index":20,"n_rows":37,"n_cols":39,"rows_kept":37,"cut":false,"hidden":false,"merged":[[36,11,36,12],[32,11,32,38],[33,11,33,38],[13,38,14,38],[13,11,14,11],[13,12,14,12],[13,13,14,13],[34,11,34,38],[35,11,35,38]]}
[null,null,null,null,null,null,null,null,null,null,null,null,null,null,{"$f":"god-2","v":2022},{"$f":"god-2","v":2022},{"$f":"god-2","v":2022},{"$f":"god-1","v":2023},{"$f":"god","v":2024},{"$f":"god+1","v":2025},{"$f":"god+2","v":2026},{"$f":"god+3","v":2027},{"$f":"god+4","v":2028},{"$f":"god+5","v":2029},{"$f":"god+6","v":2030},{"$f":"god+7","v":2031},{"$f":"god+8","v":2032},{"$f":"god+9","v":2033},{"$f":"god","v":2024},{"$f":"god+1","v":2025},{"$f":"god+2","v":2026},{"$f":"god+3","v":2027},{"$f":"god+4","v":2028},{"$f":"god+5","v":2029},{"$f":"god+6","v":2030},{"$f":"god+7","v":2031},{"$f":"god+8","v":2032},{"$f":"god+9","v":2033}]
[null,null,null,null,null,null,null,null,null,null,null,null,null,null,{"$f":"O15","v":"Принято органом регулирования"},{"$f":"P15","v":"Факт по данным организации"},"Факт, принятый органом регулирования","Принято органом регулирования","Предложение организации","Предложение организации","Предложение организации","Предложение организации","Предложение организации","Предложение организации","Предложение организации","Предложение организации","Предложение организации","Предложение организации","Принято органом регулирования","Принято органом регулирования","Принято органом регулирования","Принято органом регулирования","Принято органом регулирования","Принято органом регулирования","Принято органом регулирования","Принято органом регулирования","Принято органом регулирования","Принято органом регулирования"]
[]
[]
[]
[]
[null,null,null,null,null,null,null,null,null,null,null,null,null,null,null,null,null,null,{"$f":"S1<=last_year_vis","v":true},true,true,true,true,false,false,false,false,false,true,true,true,true,true,false,false,false,false,false]
[]
[]
[]
[null,null,null,null,null,null,null,null,null,null,null,null,{"$f":"tpl_title","v":"Кемеровская область / 2024 / ООО \"ТВК\" (ИНН:4202026697, КПП:420201001) / ДПР: 2024-2028"}]
[null,null,null,null,null,null,null,null,null,null,null,"11. Аренда"]
[]
[null,null,null,null,null,null,null,null,null,null,null,"№ п/п","Наименование показателя","Единица измерений",{"$f":"god-2 & \" год\"","v":"2022 год"},{"$f":"god-2 & \" год\"","v":"2022 год"},{"$f":"god-2 & \" год\"","v":"2022 год"},{"$f":"god-1 & \" год\"","v":"2023 год"},{"$f":"god & \" год\"","v":"2024 год"},{"$f":"god+1 & \" год\"","v":"2025 год"},{"$f":"god+2 & \" год\"","v":"2026 год"},{"$f":"god+3 & \" год\"","v":"2027 год"},{"$f":"god+4 & \" год\"","v":"2028 год"},{"$f":"god+5 & \" год\"","v":"2029 год"},{"$f":"god+6 & \" год\"","v":"2030 год"},{"$f":"god+7 & \" год\"","v":"2031 год"},{"$f":"god+8 & \" год\"","v":"2032 год"},{"$f":"god+9 & \" год\"","v":"2033 год"},{"$f":"god & \" год\"","v":"2024 год"},{"$f":"god+1 & \" год\"","v":"2025 год"},{"$f":"god+2 & \" год\"","v":"2026 год"},{"$f":"god+3 & \" год\"","v":"2027 год"},{"$f":"god+4 & \" год\"","v":"2028 год"},{"$f":"god+5 & \" год\"","v":"2029 год"},{"$f":"god+6 & \" год\"","v":"2030 год"},{"$f":"god+7 & \" год\"","v":"2031 год"},{"$f":"god+8 & \" год\"","v":"2032 год"},{"$f":"god+9 & \" год\"","v":"2033 год"},"Ссылка на правовую норму (основание для принятия показателя в расчет тарифа)"]
[null,null,null,null,null,null,null,null,null,null,null,null,null,null,"Принято органом регулирования","Факт по данным организации","Факт, принятый органом регулирования","Принято органом регулирования","Предложение организации","Предложение организации","Предложение организации","Предложение организации","Предложение организации","Предложение организации","Предложение организации","Предложение организации","Предложение организации","Предложение организации","Принято органом регулирования","Принято органом регулирования","Принято органом регулирования","Принято органом регулирования","Принято органом регулирования","Принято органом регулирования","Принято органом регулирования","Принято органом регулирования","Принято органом регулирования","Принято органом регулирования"]
[{"$f":"'Общие сведения'!$D$122","v":"1"},null,null,null,null,null,null,null,null,null,null,{"$f":"INDEX('Общие сведения'!$J$121:$J$148,MATCH($A16,'Общие сведения'!$D$121:$D$148,0))","v":"Тариф 1 (Водоснабжение) - тариф на питьевую воду"}]
[{"$f":"A16","v":"1"},"L1",null,null,null,null,null,null,null,null,null,"1","Арендная и концессионная плата. Лизинговые платежи","тыс.руб.",{"$f":"O18+O21+O22+O23","v":4.3753200000000003},{"$f":"P18+P21+P22+P23","v":0},6.8,0,0,0,0,0,0,0,0,0,0,0,0,0,0,0,0,0,0,0,0,0,"1) Пункты 49 (3), 51, 29 Методических указаний ФСТ № 1746-э. 2) Пункт 28 абз. 4 Методических указаний ФСТ № 1746-э. 3) Постановление Правительства РФ от 01.01.2002 N 1 (ред. от 18.11.2022) \"О Классификации основных средств, включаемых в амортизационные группы\".  Постановлением Правительства РФ от 01.01.2002 N 1.  "]
["1","L1_1",null,null,null,null,null,null,null,null,null,"1.1","Аренда имущества","тыс.руб.",{"$f":"SUM(O19:O20)","v":4.3753200000000003},0,6.8,0,0,0,0,0,0,0,0,0,0,0,0,0,0,0,0,0,0,0,0,0]
["1","L1_1_1",null,null,null,null,null,null,null,null,null,"1.1.1","Аренда муниципальной или государственной собственности","тыс.руб."]
["1","L1_1_2",null,null,null,null,null,null,null,null,null,"1.1.2","Аренда частной собственности","тыс.руб.",4.3753200000000003,0,6.8,0,0,0,0,0,0,null,null,null,null,null,0,0,0,0,0,null,null,null,null,null,"Остаточная стоимость  имущества (объекты системы холодного водоснабжения), арендуемого по Договору № А-63/23 от 01.06.2023, по состоянию на 01.12.2023 - 0,00 тыс. руб."]
["1","L1_2",null,null,null,null,null,null,null,null,null,"1.2","Концессионная плата","тыс.руб."]
["1","L1_3",null,null,null,null,null,null,null,null,null,"1.3","Лизинговые платежи","тыс.руб."]
["1","L1_4",null,null,null,null,null,null,null,null,null,"1.4","Аренда земельных участков","тыс.руб."]
[{"$f":"'Общие сведения'!$D$135","v":"2"},null,null,null,null,null,null,null,null,null,null,{"$f":"INDEX('Общие сведения'!$J$121:$J$148,MATCH($A24,'Общие сведения'!$D$121:$D$148,0))","v":"Тариф 2 (Водоотведение) - тариф на водоотведение"}]
[{"$f":"A24","v":"2"},"L1",null,null,null,null,null,null,null,null,null,"1","Арендная и концессионная плата. Лизинговые платежи","тыс.руб.",{"$f":"O26+O29+O30+O31","v":2942.9044100000001},{"$f":"P26+P29+P30+P31","v":3358},2953.2374100000002,2908.48,3698.7599999999998,3698.7599999999998,3698.7599999999998,3698.75,3698.7599999999998,0,0,0,0,0,2848.0619999999999,2796.6936999999998,2745.31,2693.9436999999998,2642.56,0,0,0,0,0,"1) Пункты 49 (3), 51, 29 Методических указаний ФСТ № 1746-э. 2) Пункт 28 абз. 4 Методических указаний ФСТ № 1746-э. 3) Постановление Правительства РФ от 01.01.2002 N 1 (ред. от 18.11.2022) \"О Классификации основных средств, включаемых в амортизационные группы\".  Постановлением Правительства РФ от 01.01.2002 N 1.  "]
["2","L1_1",null,null,null,null,null,null,null,null,null,"1.1","Аренда имущества","тыс.руб.",{"$f":"SUM(O27:O28)","v":2886.6544100000001},3358,2886.6544100000001,2852.23,3565.6,3565.6,3565.6,3565.6,3565.6,0,0,0,0,0,2791.8119999999999,2740.4436999999998,2689.06,2637.6936999999998,2586.31,0,0,0,0,0]
["2","L1_1_1",null,null,null,null,null,null,null,null,null,"1.1.1","Аренда муниципальной или государственной собственности","тыс.руб."]
["2","L1_1_2",null,null,null,null,null,null,null,null,null,"1.1.2","Аренда частной собственности","тыс.руб.",2886.6544100000001,3358,2886.6544100000001,2852.23,3565.6,3565.6,3565.6,3565.6,3565.6,null,null,null,null,null,2791.8119999999999,2740.4436999999998,2689.06,2637.6936999999998,2586.31,null,null,null,null,null,"Расходы по Договору аренды имущества (сооружения) № А-63/23 от 01.06.2023"]
["2","L1_2",null,null,null,null,null,null,null,null,null,"1.2","Концессионная плата","тыс.руб."]
["2","L1_3",null,null,null,null,null,null,null,null,null,"1.3","Лизинговые платежи","тыс.руб.",null,null,null,null,null,null,null,null,null,null,null,null,null,null,null,null,null,null,null,null,null,null,null,null,"Заявлены расходы по договору субаренды от 01.12.2022 № 38/2022. Фактические затраты 2022 г. (66,58 тыс. руб.) не отражены организацией ошибочно.  "]
["2","L1_4",null,null,null,null,null,null,null,null,null,"1.4","Аренда земельных участков","тыс.руб.",56.25,null,66.582999999999998,56.25,133.16,133.16,133.16,133.15,133.16,null,null,null,null,null,56.25,56.25,56.25,56.25,56.25,null,null,null,null,null,"1) Пункт 4 статьи 39.7, подпункт 2 статьи 49 \"Земельного кодекса Российской Федерации\" от 25.10.2001 N 136-ФЗ (ред. от 04.08.2023). 2) Пункт 5 «Правил определения размера арендной платы, а также порядка, условий и сроков внесения арендной платы за земли, находящиеся в собственности Российской Федерации» (утверждены Постановлением Правительства РФ от 16.07.2009 N 582 (ред. от 10.02.2023). 3) Приказ Минэкономразвития России от 23.04.2013 N 217 . 4) Приказ Минфина России от 16.10.2018 N 208н (ред. от 29.06.2022). 5) Письмо ФАС России от 05.08.2022 N МШ/74227/22. "]
[]
[null,null,null,null,null,null,null,null,null,null,null,"Комментарии и обоснования к разделу"]
[null,null,null,null,null,null,null,null,null,null,null,"ВОДОСНАБЖЕНИЕ.  Плановые расходы на 2024-2028 гг. приняты в размере 0,00 тыс. руб, так как остаточная стоимость арендуемого имущества (в части объектов системы холодного водоснабжения), арендуемого по Договору № А-63/23 от 01.06.2023, по состоянию на 01.12.2023 составляет  0,00 тыс. руб."]
[null,null,null,null,null,null,null,null,null,null,"О ","ВОДООТВЕДЕНИЕ. Расходы на  АРЕНДУ ЗДАНИЙ и СООРУЖЕНИЙ  определены  в соответствии с абз. 1-2 пункта 29 Методических указаний ФСТ № 1746-э -  в размере расчетной суммы амортизационных отчислений по объектам участка \"ОСВ\" (194,603 тыс. руб./мес.* 12мес. =  2335,23 тыс. руб. в год)  и налога на имущество  ( 2024 год - 456,58 тыс. руб.; 2025 год - 405,21 тыс. руб.; 2026 год - 353,83 тыс. руб., 2027 год - 302,46 тыс. руб., 2028 год - 251,08 тыс. руб.).  РЕНТАБЕЛЬНОСТЬ  и НАКЛАДНЫЕ РАСХОДЫ исключены .    Данные рассчитаны на основании \"Ведомости наличия объектов по месту нахождения, эксплуатации (непром. группа)\" , в том числе:  остаточная стоимость имущества на 01.01.2024 - 21 921,344 тыс. руб.; остаточная стоимость на 01.01.2025 - 19 586,113 тыс. руб.; среднегодовая стоимость за 2024 год - 20 753,728 тыс. руб.     "]
[null,null,null,null,null,null,null,null,null,null,"О ","АРЕНДА ЗЕМЛИ (Расходы по договору субаренды от 01.12.2022 № 38/2022). Согласно имеющимся у регулятора материалам тарифных дел прошлых периодов,  земельный участок с кадастровым номером 42:21:0702027:58 площадью 4845,0 м2 предоставлен под очистные сооружения, кадастровая стоимость по состоянию на 21.11.2022 составляла 8035,09 тыс. руб. Экономически обоснованный размер арендной платы  на  2024 - 2028 гг. принят в размере  56,25 тыс. руб./год, что составляет 0,7% от кадастровой стоимости  земельного участка (см. \"Обзор судебной практики Верховного суда РФ № 1 (2018)\" (вопрос № 18)."]
[null,null,null,null,null,null,null,null,null,null,null,"Добавить комментарий"]

{"sheet":"Покупка","index":21,"n_rows":57,"n_cols":39,"rows_kept":57,"cut":false,"hidden":false,"merged":[[56,11,56,12],[54,11,54,38],[55,11,55,38],[13,11,14,11],[13,12,14,12],[13,13,14,13],[13,38,14,38]]}
[null,null,null,null,null,null,null,null,null,null,null,null,null,null,{"$f":"god-2","v":2022},{"$f":"god-2","v":2022},{"$f":"god-2","v":2022},{"$f":"god-1","v":2023},{"$f":"god","v":2024},{"$f":"god+1","v":2025},{"$f":"god+2","v":2026},{"$f":"god+3","v":2027},{"$f":"god+4","v":2028},{"$f":"god+5","v":2029},{"$f":"god+6","v":2030},{"$f":"god+7","v":2031},{"$f":"god+8","v":2032},{"$f":"god+9","v":2033},{"$f":"god","v":2024},{"$f":"god+1","v":2025},{"$f":"god+2","v":2026},{"$f":"god+3","v":2027},{"$f":"god+4","v":2028},{"$f":"god+5","v":2029},{"$f":"god+6","v":2030},{"$f":"god+7","v":2031},{"$f":"god+8","v":2032},{"$f":"god+9","v":2033}]
[null,null,null,null,null,null,null,null,null,null,null,null,null,null,{"$f":"O15","v":"Принято органом регулирования"},{"$f":"P15","v":"Факт по данным организации"},"Факт, принятый органом регулирования","Принято органом регулирования","Предложение организации","Предложение организации","Предложение организации","Предложение организации","Предложение организации","Предложение организации","Предложение организации","Предложение организации","Предложение организации","Предложение организации","Принято органом регулирования","Принято органом регулирования","Принято органом регулирования","Принято органом регулирования","Принято органом регулирования","Принято органом регулирования","Принято органом регулирования","Принято органом регулирования","Принято органом регулирования","Принято органом регулирования"]
[]
[]
[]
[]
[null,null,null,null,null,null,null,null,null,null,null,null,null,null,null,null,null,null,{"$f":"S1<=last_year_vis","v":true},true,true,true,true,false,false,false,false,false,true,true,true,true,true,false,false,false,false,false]
[]
[]
[]
[null,null,null,null,null,null,null,null,null,null,null,null,{"$f":"tpl_title","v":"Кемеровская область / 2024 / ООО \"ТВК\" (ИНН:4202026697, КПП:420201001) / ДПР: 2024-2028"}]
[null,null,null,null,null,null,null,null,null,null,null,"12. Расходы на оплату товаров (услуг, работ), приобретаемых у других организаций"]
[]
[null,null,null,null,null,null,null,null,null,null,null,"№\nп/п","Наименование","Единица измерения",{"$f":"god-2 & \" год\"","v":"2022 год"},{"$f":"god-2 & \" год\"","v":"2022 год"},{"$f":"god-2 & \" год\"","v":"2022 год"},{"$f":"god-1 & \" год\"","v":"2023 год"},{"$f":"god & \" год\"","v":"2024 год"},{"$f":"god+1 & \" год\"","v":"2025 год"},{"$f":"god+2 & \" год\"","v":"2026 год"},{"$f":"god+3 & \" год\"","v":"2027 год"},{"$f":"god+4 & \" год\"","v":"2028 год"},{"$f":"god+5 & \" год\"","v":"2029 год"},{"$f":"god+6 & \" год\"","v":"2030 год"},{"$f":"god+7 & \" год\"","v":"2031 год"},{"$f":"god+8 & \" год\"","v":"2032 год"},{"$f":"god+9 & \" год\"","v":"2033 год"},{"$f":"god & \" год\"","v":"2024 год"},{"$f":"god+1 & \" год\"","v":"2025 год"},{"$f":"god+2 & \" год\"","v":"2026 год"},{"$f":"god+3 & \" год\"","v":"2027 год"},{"$f":"god+4 & \" год\"","v":"2028 год"},{"$f":"god+5 & \" год\"","v":"2029 год"},{"$f":"god+6 & \" год\"","v":"2030 год"},{"$f":"god+7 & \" год\"","v":"2031 год"},{"$f":"god+8 & \" год\"","v":"2032 год"},{"$f":"god+9 & \" год\"","v":"2033 год"},"Ссылка на правовую норму (основание для принятия показателя в расчет тарифа)"]
[null,null,null,null,null,null,null,null,null,null,null,null,null,null,"Принято органом регулирования","Факт по данным организации","Факт, принятый органом регулирования","Принято органом регулирования","Предложение организации","Предложение организации","Предложение организации","Предложение организации","Предложение организации","Предложение организации","Предложение организации","Предложение организации","Предложение организации","Предложение организации","Принято органом регулирования","Принято органом регулирования","Принято органом регулирования","Принято органом регулирования","Принято органом регулирования","Принято органом регулирования","Принято органом регулирования","Принято органом регулирования","Принято органом регулирования","Принято органом регулирования"]
[{"$f":"'Общие сведения'!$D$122","v":"1"},"Итого",null,null,null,null,null,null,null,null,null,{"$f":"INDEX('Общие сведения'!$J$121:$J$148,MATCH($A16,'Общие сведения'!$D$121:$D$148,0))","v":"Тариф 1 (Водоснабжение) - тариф на питьевую воду"},null,null,{"$f":"O17+O20+O23+O26+O29+O32+O33+O34","v":0},{"$f":"P17+P20+P23+P26+P29+P32+P33+P34","v":0},0,0,0,0,0,0,0,0,0,0,0,0,0,0,0,0,0,0,0,0,0,0]
[{"$f":"A16","v":"1"},"L1",null,null,null,null,null,null,null,null,null,1,"Затраты на холодную воду","тыс.руб.",{"$f":"SUMIF(N18:N19,N17,O18:O19)","v":0},{"$f":"SUMIF(N18:N19,N17,P18:P19)","v":0},{"$f":"SUMIF(N18:N19,N17,Q18:Q19)","v":0},{"$f":"SUMIF(N18:N19,N17,R18:R19)","v":0},{"$f":"SUMIF(N18:N19,N17,S18:S19)","v":0},{"$f":"SUMIF(N18:N19,N17,T18:T19)","v":0},{"$f":"SUMIF(N18:N19,N17,U18:U19)","v":0},{"$f":"SUMIF(N18:N19,N17,V18:V19)","v":0},{"$f":"SUMIF(N18:N19,N17,W18:W19)","v":0},{"$f":"SUMIF(N18:N19,N17,X18:X19)","v":0},{"$f":"SUMIF(N18:N19,N17,Y18:Y19)","v":0},{"$f":"SUMIF(N18:N19,N17,Z18:Z19)","v":0},{"$f":"SUMIF(N18:N19,N17,AA18:AA19)","v":0},{"$f":"SUMIF(N18:N19,N17,AB18:AB19)","v":0},{"$f":"SUMIF(N18:N19,N17,AC18:AC19)","v":0},{"$f":"SUMIF(N18:N19,N17,AD18:AD19)","v":0},{"$f":"SUMIF(N18:N19,N17,AE18:AE19)","v":0},{"$f":"SUMIF(N18:N19,N17,AF18:AF19)","v":0},{"$f":"SUMIF(N18:N19,N17,AG18:AG19)","v":0},{"$f":"SUMIF(N18:N19,N17,AH18:AH19)","v":0},{"$f":"SUMIF(N18:N19,N17,AI18:AI19)","v":0},{"$f":"SUMIF(N18:N19,N17,AJ18:AJ19)","v":0},{"$f":"SUMIF(N18:N19,N17,AK18:AK19)","v":0},{"$f":"SUMIF(N18:N19,N17,AL18:AL19)","v":0}]
["1",null,null,null,null,null,null,null,null,"1.0"]
["1",{"$f":"A19&\"pIns1\"","v":"1pIns1"},null,null,null,null,null,null,null,null,null,null,"Добавить поставщика"]
["1","L2",null,null,null,null,null,null,null,null,null,2,"Затраты на транспортировку холодной воды","тыс.руб.",{"$f":"SUMIF(N21:N22,N20,O21:O22)","v":0},{"$f":"SUMIF(N21:N22,N20,P21:P22)","v":0},{"$f":"SUMIF(N21:N22,N20,Q21:Q22)","v":0},{"$f":"SUMIF(N21:N22,N20,R21:R22)","v":0},{"$f":"SUMIF(N21:N22,N20,S21:S22)","v":0},{"$f":"SUMIF(N21:N22,N20,T21:T22)","v":0},{"$f":"SUMIF(N21:N22,N20,U21:U22)","v":0},{"$f":"SUMIF(N21:N22,N20,V21:V22)","v":0},{"$f":"SUMIF(N21:N22,N20,W21:W22)","v":0},{"$f":"SUMIF(N21:N22,N20,X21:X22)","v":0},{"$f":"SUMIF(N21:N22,N20,Y21:Y22)","v":0},{"$f":"SUMIF(N21:N22,N20,Z21:Z22)","v":0},{"$f":"SUMIF(N21:N22,N20,AA21:AA22)","v":0},{"$f":"SUMIF(N21:N22,N20,AB21:AB22)","v":0},{"$f":"SUMIF(N21:N22,N20,AC21:AC22)","v":0},{"$f":"SUMIF(N21:N22,N20,AD21:AD22)","v":0},{"$f":"SUMIF(N21:N22,N20,AE21:AE22)","v":0},{"$f":"SUMIF(N21:N22,N20,AF21:AF22)","v":0},{"$f":"SUMIF(N21:N22,N20,AG21:AG22)","v":0},{"$f":"SUMIF(N21:N22,N20,AH21:AH22)","v":0},{"$f":"SUMIF(N21:N22,N20,AI21:AI22)","v":0},{"$f":"SUMIF(N21:N22,N20,AJ21:AJ22)","v":0},{"$f":"SUMIF(N21:N22,N20,AK21:AK22)","v":0},{"$f":"SUMIF(N21:N22,N20,AL21:AL22)","v":0}]
["1",null,null,null,null,null,null,null,null,"2.0"]
["1",{"$f":"A22&\"pIns2\"","v":"1pIns2"},null,null,null,null,null,null,null,null,null,null,"Добавить поставщика"]
["1","L3",null,null,null,null,null,null,null,null,null,3,"Затраты на водоотведение","тыс.руб.",{"$f":"SUMIF(N24:N25,N23,O24:O25)","v":0},{"$f":"SUMIF(N24:N25,N23,P24:P25)","v":0},{"$f":"SUMIF(N24:N25,N23,Q24:Q25)","v":0},{"$f":"SUMIF(N24:N25,N23,R24:R25)","v":0},{"$f":"SUMIF(N24:N25,N23,S24:S25)","v":0},{"$f":"SUMIF(N24:N25,N23,T24:T25)","v":0},{"$f":"SUMIF(N24:N25,N23,U24:U25)","v":0},{"$f":"SUMIF(N24:N25,N23,V24:V25)","v":0},{"$f":"SUMIF(N24:N25,N23,W24:W25)","v":0},{"$f":"SUMIF(N24:N25,N23,X24:X25)","v":0},{"$f":"SUMIF(N24:N25,N23,Y24:Y25)","v":0},{"$f":"SUMIF(N24:N25,N23,Z24:Z25)","v":0},{"$f":"SUMIF(N24:N25,N23,AA24:AA25)","v":0},{"$f":"SUMIF(N24:N25,N23,AB24:AB25)","v":0},{"$f":"SUMIF(N24:N25,N23,AC24:AC25)","v":0},{"$f":"SUMIF(N24:N25,N23,AD24:AD25)","v":0},{"$f":"SUMIF(N24:N25,N23,AE24:AE25)","v":0},{"$f":"SUMIF(N24:N25,N23,AF24:AF25)","v":0},{"$f":"SUMIF(N24:N25,N23,AG24:AG25)","v":0},{"$f":"SUMIF(N24:N25,N23,AH24:AH25)","v":0},{"$f":"SUMIF(N24:N25,N23,AI24:AI25)","v":0},{"$f":"SUMIF(N24:N25,N23,AJ24:AJ25)","v":0},{"$f":"SUMIF(N24:N25,N23,AK24:AK25)","v":0},{"$f":"SUMIF(N24:N25,N23,AL24:AL25)","v":0}]
["1",null,null,null,null,null,null,null,null,"3.0"]
["1",{"$f":"A25&\"pIns3\"","v":"1pIns3"},null,null,null,null,null,null,null,null,null,null,"Добавить поставщика"]
["1","L4",null,null,null,null,null,null,null,null,null,4,"Затраты на транспортировку сточных вод","тыс.руб.",{"$f":"SUMIF(N27:N28,N26,O27:O28)","v":0},{"$f":"SUMIF(N27:N28,N26,P27:P28)","v":0},{"$f":"SUMIF(N27:N28,N26,Q27:Q28)","v":0},{"$f":"SUMIF(N27:N28,N26,R27:R28)","v":0},{"$f":"SUMIF(N27:N28,N26,S27:S28)","v":0},{"$f":"SUMIF(N27:N28,N26,T27:T28)","v":0},{"$f":"SUMIF(N27:N28,N26,U27:U28)","v":0},{"$f":"SUMIF(N27:N28,N26,V27:V28)","v":0},{"$f":"SUMIF(N27:N28,N26,W27:W28)","v":0},{"$f":"SUMIF(N27:N28,N26,X27:X28)","v":0},{"$f":"SUMIF(N27:N28,N26,Y27:Y28)","v":0},{"$f":"SUMIF(N27:N28,N26,Z27:Z28)","v":0},{"$f":"SUMIF(N27:N28,N26,AA27:AA28)","v":0},{"$f":"SUMIF(N27:N28,N26,AB27:AB28)","v":0},{"$f":"SUMIF(N27:N28,N26,AC27:AC28)","v":0},{"$f":"SUMIF(N27:N28,N26,AD27:AD28)","v":0},{"$f":"SUMIF(N27:N28,N26,AE27:AE28)","v":0},{"$f":"SUMIF(N27:N28,N26,AF27:AF28)","v":0},{"$f":"SUMIF(N27:N28,N26,AG27:AG28)","v":0},{"$f":"SUMIF(N27:N28,N26,AH27:AH28)","v":0},{"$f":"SUMIF(N27:N28,N26,AI27:AI28)","v":0},{"$f":"SUMIF(N27:N28,N26,AJ27:AJ28)","v":0},{"$f":"SUMIF(N27:N28,N26,AK27:AK28)","v":0},{"$f":"SUMIF(N27:N28,N26,AL27:AL28)","v":0}]
["1",null,null,null,null,null,null,null,null,"4.0"]
["1",{"$f":"A28&\"pIns5\"","v":"1pIns5"},null,null,null,null,null,null,null,null,null,null,"Добавить поставщика"]
["1","L5",null,null,null,null,null,null,null,null,null,5,"Затраты на очистку сточных вод","тыс.руб.",{"$f":"SUMIF(N30:N31,N29,O30:O31)","v":0},{"$f":"SUMIF(N30:N31,N29,P30:P31)","v":0},{"$f":"SUMIF(N30:N31,N29,Q30:Q31)","v":0},{"$f":"SUMIF(N30:N31,N29,R30:R31)","v":0},{"$f":"SUMIF(N30:N31,N29,S30:S31)","v":0},{"$f":"SUMIF(N30:N31,N29,T30:T31)","v":0},{"$f":"SUMIF(N30:N31,N29,U30:U31)","v":0},{"$f":"SUMIF(N30:N31,N29,V30:V31)","v":0},{"$f":"SUMIF(N30:N31,N29,W30:W31)","v":0},{"$f":"SUMIF(N30:N31,N29,X30:X31)","v":0},{"$f":"SUMIF(N30:N31,N29,Y30:Y31)","v":0},{"$f":"SUMIF(N30:N31,N29,Z30:Z31)","v":0},{"$f":"SUMIF(N30:N31,N29,AA30:AA31)","v":0},{"$f":"SUMIF(N30:N31,N29,AB30:AB31)","v":0},{"$f":"SUMIF(N30:N31,N29,AC30:AC31)","v":0},{"$f":"SUMIF(N30:N31,N29,AD30:AD31)","v":0},{"$f":"SUMIF(N30:N31,N29,AE30:AE31)","v":0},{"$f":"SUMIF(N30:N31,N29,AF30:AF31)","v":0},{"$f":"SUMIF(N30:N31,N29,AG30:AG31)","v":0},{"$f":"SUMIF(N30:N31,N29,AH30:AH31)","v":0},{"$f":"SUMIF(N30:N31,N29,AI30:AI31)","v":0},{"$f":"SUMIF(N30:N31,N29,AJ30:AJ31)","v":0},{"$f":"SUMIF(N30:N31,N29,AK30:AK31)","v":0},{"$f":"SUMIF(N30:N31,N29,AL30:AL31)","v":0}]
["1",null,null,null,null,null,null,null,null,"5.0"]
["1",{"$f":"A31&\"pIns5\"","v":"1pIns5"},null,null,null,null,null,null,null,null,null,null,"Добавить поставщика"]
[{"$f":"A28","v":"1"},"L6",null,null,null,null,null,null,null,null,null,6,"Затраты на тепловую энергию","тыс.руб."]
["1","L7",null,null,null,null,null,null,null,null,null,7,"Затраты на теплоноситель","тыс.руб."]
["1","L8",null,null,null,null,null,null,null,null,null,8,"Затраты на горячую воду","тыс.руб."]
[{"$f":"'Общие сведения'!$D$135","v":"2"},"Итого",null,null,null,null,null,null,null,null,null,{"$f":"INDEX('Общие сведения'!$J$121:$J$148,MATCH($A35,'Общие сведения'!$D$121:$D$148,0))","v":"Тариф 2 (Водоотведение) - тариф на водоотведение"},null,null,{"$f":"O36+O39+O42+O45+O48+O51+O52+O53","v":0},{"$f":"P36+P39+P42+P45+P48+P51+P52+P53","v":0},0,0,0,0,0,0,0,0,0,0,0,0,0,0,0,0,0,0,0,0,0,0]
[{"$f":"A35","v":"2"},"L1",null,null,null,null,null,null,null,null,null,1,"Затраты на холодную воду","тыс.руб.",{"$f":"SUMIF(N37:N38,N36,O37:O38)","v":0},{"$f":"SUMIF(N37:N38,N36,P37:P38)","v":0},{"$f":"SUMIF(N37:N38,N36,Q37:Q38)","v":0},{"$f":"SUMIF(N37:N38,N36,R37:R38)","v":0},{"$f":"SUMIF(N37:N38,N36,S37:S38)","v":0},{"$f":"SUMIF(N37:N38,N36,T37:T38)","v":0},{"$f":"SUMIF(N37:N38,N36,U37:U38)","v":0},{"$f":"SUMIF(N37:N38,N36,V37:V38)","v":0},{"$f":"SUMIF(N37:N38,N36,W37:W38)","v":0},{"$f":"SUMIF(N37:N38,N36,X37:X38)","v":0},{"$f":"SUMIF(N37:N38,N36,Y37:Y38)","v":0},{"$f":"SUMIF(N37:N38,N36,Z37:Z38)","v":0},{"$f":"SUMIF(N37:N38,N36,AA37:AA38)","v":0},{"$f":"SUMIF(N37:N38,N36,AB37:AB38)","v":0},{"$f":"SUMIF(N37:N38,N36,AC37:AC38)","v":0},{"$f":"SUMIF(N37:N38,N36,AD37:AD38)","v":0},{"$f":"SUMIF(N37:N38,N36,AE37:AE38)","v":0},{"$f":"SUMIF(N37:N38,N36,AF37:AF38)","v":0},{"$f":"SUMIF(N37:N38,N36,AG37:AG38)","v":0},{"$f":"SUMIF(N37:N38,N36,AH37:AH38)","v":0},{"$f":"SUMIF(N37:N38,N36,AI37:AI38)","v":0},{"$f":"SUMIF(N37:N38,N36,AJ37:AJ38)","v":0},{"$f":"SUMIF(N37:N38,N36,AK37:AK38)","v":0},{"$f":"SUMIF(N37:N38,N36,AL37:AL38)","v":0}]
["2",null,null,null,null,null,null,null,null,"1.0"]
["2",{"$f":"A38&\"pIns1\"","v":"2pIns1"},null,null,null,null,null,null,null,null,null,null,"Добавить поставщика"]
["2","L2",null,null,null,null,null,null,null,null,null,2,"Затраты на транспортировку холодной воды","тыс.руб.",{"$f":"SUMIF(N40:N41,N39,O40:O41)","v":0},{"$f":"SUMIF(N40:N41,N39,P40:P41)","v":0},{"$f":"SUMIF(N40:N41,N39,Q40:Q41)","v":0},{"$f":"SUMIF(N40:N41,N39,R40:R41)","v":0},{"$f":"SUMIF(N40:N41,N39,S40:S41)","v":0},{"$f":"SUMIF(N40:N41,N39,T40:T41)","v":0},{"$f":"SUMIF(N40:N41,N39,U40:U41)","v":0},{"$f":"SUMIF(N40:N41,N39,V40:V41)","v":0},{"$f":"SUMIF(N40:N41,N39,W40:W41)","v":0},{"$f":"SUMIF(N40:N41,N39,X40:X41)","v":0},{"$f":"SUMIF(N40:N41,N39,Y40:Y41)","v":0},{"$f":"SUMIF(N40:N41,N39,Z40:Z41)","v":0},{"$f":"SUMIF(N40:N41,N39,AA40:AA41)","v":0},{"$f":"SUMIF(N40:N41,N39,AB40:AB41)","v":0},{"$f":"SUMIF(N40:N41,N39,AC40:AC41)","v":0},{"$f":"SUMIF(N40:N41,N39,AD40:AD41)","v":0},{"$f":"SUMIF(N40:N41,N39,AE40:AE41)","v":0},{"$f":"SUMIF(N40:N41,N39,AF40:AF41)","v":0},{"$f":"SUMIF(N40:N41,N39,AG40:AG41)","v":0},{"$f":"SUMIF(N40:N41,N39,AH40:AH41)","v":0},{"$f":"SUMIF(N40:N41,N39,AI40:AI41)","v":0},{"$f":"SUMIF(N40:N41,N39,AJ40:AJ41)","v":0},{"$f":"SUMIF(N40:N41,N39,AK40:AK41)","v":0},{"$f":"SUMIF(N40:N41,N39,AL40:AL41)","v":0}]
["2",null,null,null,null,null,null,null,null,"2.0"]
["2",{"$f":"A41&\"pIns2\"","v":"2pIns2"},null,null,null,null,null,null,null,null,null,null,"Добавить поставщика"]
["2","L3",null,null,null,null,null,null,null,null,null,3,"Затраты на водоотведение","тыс.руб.",{"$f":"SUMIF(N43:N44,N42,O43:O44)","v":0},{"$f":"SUMIF(N43:N44,N42,P43:P44)","v":0},{"$f":"SUMIF(N43:N44,N42,Q43:Q44)","v":0},{"$f":"SUMIF(N43:N44,N42,R43:R44)","v":0},{"$f":"SUMIF(N43:N44,N42,S43:S44)","v":0},{"$f":"SUMIF(N43:N44,N42,T43:T44)","v":0},{"$f":"SUMIF(N43:N44,N42,U43:U44)","v":0},{"$f":"SUMIF(N43:N44,N42,V43:V44)","v":0},{"$f":"SUMIF(N43:N44,N42,W43:W44)","v":0},{"$f":"SUMIF(N43:N44,N42,X43:X44)","v":0},{"$f":"SUMIF(N43:N44,N42,Y43:Y44)","v":0},{"$f":"SUMIF(N43:N44,N42,Z43:Z44)","v":0},{"$f":"SUMIF(N43:N44,N42,AA43:AA44)","v":0},{"$f":"SUMIF(N43:N44,N42,AB43:AB44)","v":0},{"$f":"SUMIF(N43:N44,N42,AC43:AC44)","v":0},{"$f":"SUMIF(N43:N44,N42,AD43:AD44)","v":0},{"$f":"SUMIF(N43:N44,N42,AE43:AE44)","v":0},{"$f":"SUMIF(N43:N44,N42,AF43:AF44)","v":0},{"$f":"SUMIF(N43:N44,N42,AG43:AG44)","v":0},{"$f":"SUMIF(N43:N44,N42,AH43:AH44)","v":0},{"$f":"SUMIF(N43:N44,N42,AI43:AI44)","v":0},{"$f":"SUMIF(N43:N44,N42,AJ43:AJ44)","v":0},{"$f":"SUMIF(N43:N44,N42,AK43:AK44)","v":0},{"$f":"SUMIF(N43:N44,N42,AL43:AL44)","v":0}]
["2",null,null,null,null,null,null,null,null,"3.0"]
["2",{"$f":"A44&\"pIns3\"","v":"2pIns3"},null,null,null,null,null,null,null,null,null,null,"Добавить поставщика"]
["2","L4",null,null,null,null,null,null,null,null,null,4,"Затраты на транспортировку сточных вод","тыс.руб.",{"$f":"SUMIF(N46:N47,N45,O46:O47)","v":0},{"$f":"SUMIF(N46:N47,N45,P46:P47)","v":0},{"$f":"SUMIF(N46:N47,N45,Q46:Q47)","v":0},{"$f":"SUMIF(N46:N47,N45,R46:R47)","v":0},{"$f":"SUMIF(N46:N47,N45,S46:S47)","v":0},{"$f":"SUMIF(N46:N47,N45,T46:T47)","v":0},{"$f":"SUMIF(N46:N47,N45,U46:U47)","v":0},{"$f":"SUMIF(N46:N47,N45,V46:V47)","v":0},{"$f":"SUMIF(N46:N47,N45,W46:W47)","v":0},{"$f":"SUMIF(N46:N47,N45,X46:X47)","v":0},{"$f":"SUMIF(N46:N47,N45,Y46:Y47)","v":0},{"$f":"SUMIF(N46:N47,N45,Z46:Z47)","v":0},{"$f":"SUMIF(N46:N47,N45,AA46:AA47)","v":0},{"$f":"SUMIF(N46:N47,N45,AB46:AB47)","v":0},{"$f":"SUMIF(N46:N47,N45,AC46:AC47)","v":0},{"$f":"SUMIF(N46:N47,N45,AD46:AD47)","v":0},{"$f":"SUMIF(N46:N47,N45,AE46:AE47)","v":0},{"$f":"SUMIF(N46:N47,N45,AF46:AF47)","v":0},{"$f":"SUMIF(N46:N47,N45,AG46:AG47)","v":0},{"$f":"SUMIF(N46:N47,N45,AH46:AH47)","v":0},{"$f":"SUMIF(N46:N47,N45,AI46:AI47)","v":0},{"$f":"SUMIF(N46:N47,N45,AJ46:AJ47)","v":0},{"$f":"SUMIF(N46:N47,N45,AK46:AK47)","v":0},{"$f":"SUMIF(N46:N47,N45,AL46:AL47)","v":0}]
["2",null,null,null,null,null,null,null,null,"4.0"]
["2",{"$f":"A47&\"pIns5\"","v":"2pIns5"},null,null,null,null,null,null,null,null,null,null,"Добавить поставщика"]
["2","L5",null,null,null,null,null,null,null,null,null,5,"Затраты на очистку сточных вод","тыс.руб.",{"$f":"SUMIF(N49:N50,N48,O49:O50)","v":0},{"$f":"SUMIF(N49:N50,N48,P49:P50)","v":0},{"$f":"SUMIF(N49:N50,N48,Q49:Q50)","v":0},{"$f":"SUMIF(N49:N50,N48,R49:R50)","v":0},{"$f":"SUMIF(N49:N50,N48,S49:S50)","v":0},{"$f":"SUMIF(N49:N50,N48,T49:T50)","v":0},{"$f":"SUMIF(N49:N50,N48,U49:U50)","v":0},{"$f":"SUMIF(N49:N50,N48,V49:V50)","v":0},{"$f":"SUMIF(N49:N50,N48,W49:W50)","v":0},{"$f":"SUMIF(N49:N50,N48,X49:X50)","v":0},{"$f":"SUMIF(N49:N50,N48,Y49:Y50)","v":0},{"$f":"SUMIF(N49:N50,N48,Z49:Z50)","v":0},{"$f":"SUMIF(N49:N50,N48,AA49:AA50)","v":0},{"$f":"SUMIF(N49:N50,N48,AB49:AB50)","v":0},{"$f":"SUMIF(N49:N50,N48,AC49:AC50)","v":0},{"$f":"SUMIF(N49:N50,N48,AD49:AD50)","v":0},{"$f":"SUMIF(N49:N50,N48,AE49:AE50)","v":0},{"$f":"SUMIF(N49:N50,N48,AF49:AF50)","v":0},{"$f":"SUMIF(N49:N50,N48,AG49:AG50)","v":0},{"$f":"SUMIF(N49:N50,N48,AH49:AH50)","v":0},{"$f":"SUMIF(N49:N50,N48,AI49:AI50)","v":0},{"$f":"SUMIF(N49:N50,N48,AJ49:AJ50)","v":0},{"$f":"SUMIF(N49:N50,N48,AK49:AK50)","v":0},{"$f":"SUMIF(N49:N50,N48,AL49:AL50)","v":0}]
["2",null,null,null,null,null,null,null,null,"5.0"]
["2",{"$f":"A50&\"pIns5\"","v":"2pIns5"},null,null,null,null,null,null,null,null,null,null,"Добавить поставщика"]
[{"$f":"A47","v":"2"},"L6",null,null,null,null,null,null,null,null,null,6,"Затраты на тепловую энергию","тыс.руб."]
["2","L7",null,null,null,null,null,null,null,null,null,7,"Затраты на теплоноситель","тыс.руб."]
["2","L8",null,null,null,null,null,null,null,null,null,8,"Затраты на горячую воду","тыс.руб."]
[]
[null,null,null,null,null,null,null,null,null,null,null,"Комментарии и обоснования к разделу"]
[]
[null,null,null,null,null,null,null,null,null,null,null,"Добавить комментарий"]

{"sheet":"ФОТ","index":22,"n_rows":68,"n_cols":21,"rows_kept":68,"cut":false,"hidden":false,"merged":[[65,11,65,20],[66,11,66,20],[67,11,67,12],[13,11,14,11],[13,12,14,12],[13,13,14,13],[13,20,14,20],[18,9,20,9],[21,9,23,9],[32,9,34,9],[44,9,46,9],[55,9,57,9]]}
[null,null,null,null,null,null,null,null,null,null,null,null,null,null,{"$f":"god-2","v":2022},{"$f":"god-2","v":2022},{"$f":"god-2","v":2022},{"$f":"god-1","v":2023},{"$f":"god","v":2024},{"$f":"god","v":2024}]
[null,null,null,null,null,null,null,null,null,null,null,null,null,null,{"$f":"O15","v":"Принято органом регулирования"},"Факт по данным организации","Факт, принятый органом регулирования","Принято органом регулирования","Предложение организации","Принято органом регулирования"]
[null,null,null,null,null,null,null,null,null,null,null,null,null,null,{"$f":"O1&O2","v":"2022Принято органом регулирования"},"2022Факт по данным организации","2022Факт, принятый органом регулирования","2023Принято органом регулирования","2024Предложение организации","2024Принято органом регулирования"]
[]
[]
[]
[null,null,null,null,null,null,null,null,null,null,null,null,null,null,null,null,null,null,{"$f":"S1<=last_year_vis","v":true},{"$f":"T1<=last_year_vis","v":true}]
[]
[]
[]
[null,null,null,null,null,null,null,null,null,null,null,null,{"$f":"tpl_title","v":"Кемеровская область / 2024 / ООО \"ТВК\" (ИНН:4202026697, КПП:420201001) / ДПР: 2024-2028"}]
[null,null,null,null,null,null,null,null,null,null,null,"13. Расходы на оплату труда и страховые взносы на обязательное социальное страхование основного производственного персонала, в том числе налоги и сборы с фонда оплаты труда"]
[]
[null,null,null,null,null,null,null,null,null,null,null,"№\nп/п","Наименование","Единица измерения",{"$f":"god-2 & \" год\"","v":"2022 год"},{"$f":"god-2 & \" год\"","v":"2022 год"},{"$f":"god-2 & \" год\"","v":"2022 год"},{"$f":"god-1 & \" год\"","v":"2023 год"},{"$f":"god & \" год\"","v":"2024 год"},{"$f":"god & \" год\"","v":"2024 год"},"Ссылка на правовую норму (основание для принятия показателя в расчет тарифа)"]
[null,null,null,null,null,null,null,null,null,null,null,null,null,null,"Принято органом регулирования","Факт по данным организации","Факт, принятый органом регулирования","Принято органом регулирования","Предложение организации","Принято органом регулирования"]
[{"$f":"'Общие сведения'!$D$122","v":"1"},null,null,null,null,null,null,null,null,null,null,{"$f":"INDEX('Общие сведения'!$J$121:$J$148,MATCH($A16,'Общие сведения'!$D$121:$D$148,0))","v":"Тариф 1 (Водоснабжение) - тариф на питьевую воду"},null,null,{"$f":"O17+O26+O27+O30+O31+O37+O38+O41","v":3137.1525837586082},4923.2265600000001,5426.5537199999999,3618.8840794296952,5866.1695744511999,5244.437208939371]
[{"$f":"A16","v":"1"},"ПП","L1",null,null,null,null,null,null,null,null,1,"Расходы на оплату труда основного производственного персонала","тыс.руб.",1833.2346633891941,{"$f":"2643.98+675.64","v":3319.62},{"$f":"1900.37+675.64","v":2576.0099999999998},2114.7405362251552,{"$f":"SUMIFS(S18:S25,$N18:$N25,$N17)","v":3916.6455999999998},{"$f":"SUMIFS(T18:T25,$N18:$N25,$N17)","v":3439.1245819417604},"СПРАВОЧНО:  Плановые расходы на 2024 год по данной статье, принятые регулирующим органом, НЕ ПРЕВЫШАЮТ фактическую величину ФОТ 2022 года (3319,62 тыс. руб.), увеличенную на ИПЦ Минэкономразвития России 105,8% на 2023 г. и 107,2% на 2024 г. (3765,03 тыс. руб.)."]
[{"$f":"A17","v":"1"},null,null,null,null,null,null,null,null,"1.0"]
[{"$f":"OFFSET(A19,-1,0)","v":"1"},null,"L1",{"$f":"M19","v":"Основной производственный персонал"},null,null,null,null,null,"1.1","О",{"$f":"J19","v":"1.1"},"Основной производственный персонал","тыс.руб.",null,null,null,null,{"$f":"S20*S21*12/1000","v":3063.9455999999996},{"$f":"T20*T21*12/1000","v":2586.4245819417602},"1) П. 17 \"Методических указаний\" (приказ ФСТ от 27.12.2013 № 1746-э).  2)  Приказ Министерства строительства и ЖКХ Российской Федерации от 23.03.2020 № 154/пр \"Об утверждении Типовых отраслевых норм численности работников водопроводно-канализационного хозяйства\"."]
[{"$f":"A19","v":"1"},null,{"$f":"C19&\"_1\"","v":"L1_1"},{"$f":"D19","v":"Основной производственный персонал"},null,null,null,null,null,null,null,{"$f":"L19&\".1\"","v":"1.1.1"},"численность","чел.",null,null,null,null,{"$f":"3063.9456/12/S21*1000","v":5.9999999999999991},{"$f":"2586.42458194176/12/T21*1000","v":5.9999999999999991},"Принято согласно  \"Штатного расписания рабочих\",  утвержденного на 2022 и на  2023 гг., по участку \"Внешние инженерные сети\" (\"ВИС\") -  \"ВОДОЕМ-2\":  машинисты насосных установок - 4,0 чел., слесарь АВР - 1 чел., машинист экскаватора - 1,0 чел."]
[{"$f":"A20","v":"1"},null,{"$f":"C19&\"_2\"","v":"L1_2"},{"$f":"D20","v":"Основной производственный персонал"},null,null,null,null,null,null,null,{"$f":"L19&\".2\"","v":"1.1.2"},"среднемесячная заработная плата","руб./чел.",null,null,null,null,42554.8,35922.563638080006,"Фактический ФОТ участка \"ВОДОЕМ-2\" за 2022 год согласно Аналитического отчета по сч. 20.19 составил: 1629,46+152,01+118,9 = 1900,37 (тыс. руб.). Средняя заработная плата:  1900,37 тыс. руб.  / 12 мес.  / 5 чел. *1000 = 31 672,83 руб./чел./мес.  Принято с учетом  ИПЦ 105,8% на 2023 г. и 107,2% на 2024 г. (согласно Прогноза Минэкономразвития России от 22.09.2023)."]
[{"$f":"OFFSET(A22,-1,0)","v":"1"},null,"L1",{"$f":"M22","v":"Цеховый песонал"},null,null,null,null,null,"1.2","О",{"$f":"J22","v":"1.2"},"Цеховый песонал","тыс.руб.",null,null,null,null,{"$f":"S23*S24*12/1000","v":852.70000000000016},{"$f":"T23*T24*12/1000","v":852.70000000000016}]
[{"$f":"A22","v":"1"},null,{"$f":"C22&\"_1\"","v":"L1_1"},{"$f":"D22","v":"Цеховый песонал"},null,null,null,null,null,null,null,{"$f":"L22&\".1\"","v":"1.2.1"},"численность","чел.",null,null,null,null,1,1,"Начальник участка ВИС (\"Внешние инженерные сети\"). Принято на основании  \"Штатного расписания руководителей, специалистов и служащих\",  утвержденного на 2022 и на  2023 гг."]
[{"$f":"A23","v":"1"},null,{"$f":"C22&\"_2\"","v":"L1_2"},{"$f":"D23","v":"Цеховый песонал"},null,null,null,null,null,null,null,{"$f":"L22&\".2\"","v":"1.2.2"},"среднемесячная заработная плата","руб./чел.",null,null,null,null,71058.333333333343,71058.333333333343,"(Принято на уровне, предложенном организацией. СПРАВОЧНО:  Фактический ФОТ АУП  за 2022 г. (согласно данным Аналитического отчета по сч. 26) - 26145,26 тыс. руб.;  штатная численность -  28 человек. Фактический уровень средней заработной платы в отчетном периоде: 26145,26 тыс. руб. / 12 мес. / 28 чел. *1000 = 77813,27 руб./чел./мес.)."]
[{"$f":"A18","v":"1"},null,{"$f":"A25&\"pIns1\"","v":"1pIns1"},null,null,null,null,null,null,null,null,null,"Добавить"]
["1","СОЦ_ПП","L2",null,null,null,null,null,null,null,null,"2","Страховые взносы на обязательное социальное страхование основного производственного персонала","тыс.руб.",{"$f":"O17*SUMIFS(INDEX(Сценарии!$O$15:$AP$53,,MATCH(O$3,Сценарии!$O$3:$AP$3,0)),Сценарии!$A$15:$A$53,$A26,Сценарии!$B$15:$B$53,\"СВФОТ\")/100","v":553.63686834353666},{"$f":"P17*SUMIFS(INDEX(Сценарии!$O$15:$AP$53,,MATCH(P$3,Сценарии!$O$3:$AP$3,0)),Сценарии!$A$15:$A$53,$A26,Сценарии!$B$15:$B$53,\"СВФОТ\")/100","v":1002.5252399999999},{"$f":"Q17*SUMIFS(INDEX(Сценарии!$O$15:$AP$53,,MATCH(Q$3,Сценарии!$O$3:$AP$3,0)),Сценарии!$A$15:$A$53,$A26,Сценарии!$B$15:$B$53,\"СВФОТ\")/100","v":777.95501999999988},{"$f":"R17*SUMIFS(INDEX(Сценарии!$O$15:$AP$53,,MATCH(R$3,Сценарии!$O$3:$AP$3,0)),Сценарии!$A$15:$A$53,$A26,Сценарии!$B$15:$B$53,\"СВФОТ\")/100","v":638.65164193999681},{"$f":"S17*SUMIFS(INDEX(Сценарии!$O$15:$AP$53,,MATCH(S$3,Сценарии!$O$3:$AP$3,0)),Сценарии!$A$15:$A$53,$A26,Сценарии!$B$15:$B$53,\"СВФОТ\")/100","v":1182.8269711999999},{"$f":"T17*SUMIFS(INDEX(Сценарии!$O$15:$AP$53,,MATCH(T$3,Сценарии!$O$3:$AP$3,0)),Сценарии!$A$15:$A$53,$A26,Сценарии!$B$15:$B$53,\"СВФОТ\")/100","v":1038.6156237464115},"1)  Глава 34 \"СТРАХОВЫЕ ВЗНОСЫ\" \"Налогового кодекса Российской Федерации (Часть вторая)\" (в ред. от 10.07.2023 № 318-ФЗ); 2) Федеральные законы  от 22.12.2005 № 179-ФЗ,  от 31.12.2017 № 484-ФЗ;   от 24.07.1998 № 125-ФЗ); 3) \"Уведомление о страховом тарифе на обязательное социальное страхование от несчастных случаев на производстве и профессиональных заболеваний\" от 22.03.2022."]
["1","РП","L3",null,null,null,null,null,null,null,null,"3","Расходы на оплату труда ремонтного персонала","тыс.руб.",null,null,null,null,{"$f":"SUMIFS(S28:S29,$N28:$N29,$N27)","v":0},{"$f":"SUMIFS(T28:T29,$N28:$N29,$N27)","v":0}]
["1",null,null,null,null,null,null,null,null,"3.0"]
["1",null,{"$f":"A29&\"pIns2\"","v":"1pIns2"},null,null,null,null,null,null,null,null,null,"Добавить"]
["1","СОЦ_РП","L4",null,null,null,null,null,null,null,null,"4","Страховые взносы на обязательное социальное страхование ремонтного персонала","тыс.руб.",{"$f":"O27*SUMIFS(INDEX(Сценарии!$O$15:$AP$53,,MATCH(O$3,Сценарии!$O$3:$AP$3,0)),Сценарии!$A$15:$A$53,$A30,Сценарии!$B$15:$B$53,\"СВФОТ\")/100","v":0},{"$f":"P27*SUMIFS(INDEX(Сценарии!$O$15:$AP$53,,MATCH(P$3,Сценарии!$O$3:$AP$3,0)),Сценарии!$A$15:$A$53,$A30,Сценарии!$B$15:$B$53,\"СВФОТ\")/100","v":0},{"$f":"Q27*SUMIFS(INDEX(Сценарии!$O$15:$AP$53,,MATCH(Q$3,Сценарии!$O$3:$AP$3,0)),Сценарии!$A$15:$A$53,$A30,Сценарии!$B$15:$B$53,\"СВФОТ\")/100","v":0},{"$f":"R27*SUMIFS(INDEX(Сценарии!$O$15:$AP$53,,MATCH(R$3,Сценарии!$O$3:$AP$3,0)),Сценарии!$A$15:$A$53,$A30,Сценарии!$B$15:$B$53,\"СВФОТ\")/100","v":0},{"$f":"S27*SUMIFS(INDEX(Сценарии!$O$15:$AP$53,,MATCH(S$3,Сценарии!$O$3:$AP$3,0)),Сценарии!$A$15:$A$53,$A30,Сценарии!$B$15:$B$53,\"СВФОТ\")/100","v":0},{"$f":"T27*SUMIFS(INDEX(Сценарии!$O$15:$AP$53,,MATCH(T$3,Сценарии!$O$3:$AP$3,0)),Сценарии!$A$15:$A$53,$A30,Сценарии!$B$15:$B$53,\"СВФОТ\")/100","v":0}]
["1","АУП","L5",null,null,null,null,null,null,null,null,"5","Расходы на оплату труда административно-управленческого персонала","тыс.руб.",576.25272813047434,461.66,1591.85,664.74032355187637,{"$f":"SUMIFS(S32:S36,$N32:$N36,$N31)","v":588.86098559999982},{"$f":"SUMIFS(T32:T36,$N32:$N36,$N31)","v":588.86098559999982}]
["1",null,null,null,null,null,null,null,null,"5.0"]
[{"$f":"OFFSET(A33,-1,0)","v":"1"},null,"L5",{"$f":"M33","v":"Административно-управленческий персонал"},null,null,null,null,null,"5.1","О",{"$f":"J33","v":"5.1"},"Административно-управленческий персонал","тыс.руб.",null,null,null,null,{"$f":"S34*S35*12/1000","v":588.86098559999982},{"$f":"T34*T35*12/1000","v":588.86098559999982},"Принято на уровне, предложенном организацией. СПРАВОЧНО:  Фактический ФОТ АУП  за 2022 г. (согласно данным Аналитического отчета по сч. 26) - 26145,26 тыс. руб., за вычетом  фактического ФОТ начальника ВИС  (675,64 тыс. руб.) - 25469,62 тыс. руб. Распределение ФОТ АУП пропорционально численности основного производственного персонала:  25469,62 тыс. руб. / 96 чел. (штатная численность рабочих ВСЕГО) * 6 чел. (штатная численность участка ВИС)  = 1591,85 тыс. руб. "]
[{"$f":"A33","v":"1"},null,{"$f":"C33&\"_1\"","v":"L5_1"},{"$f":"D33","v":"Административно-управленческий персонал"},null,null,null,null,null,null,null,{"$f":"L33&\".1\"","v":"5.1.1"},"численность","чел.",null,null,null,null,0.48,0.48,"Принято на уровне, предложенном организацией. СПРАВОЧНО: Распределение штатной численности  АУП  (исключая начальника участка ВИС)  пропорционально численности основного производственного персонала:  (28 чел. - 1 чел.)  / 96 чел. (штатная численность рабочих ВСЕГО) * 6 чел. (штатнаячисленность участка ВИС)  = 1,69 чел."]
[{"$f":"A34","v":"1"},null,{"$f":"C33&\"_2\"","v":"L5_2"},{"$f":"D34","v":"Административно-управленческий персонал"},null,null,null,null,null,null,null,{"$f":"L33&\".2\"","v":"5.1.2"},"среднемесячная заработная плата","руб./чел.",null,null,null,null,102232.80999999998,102232.80999999998]
[{"$f":"A32","v":"1"},null,{"$f":"A36&\"pIns3\"","v":"1pIns3"},null,null,null,null,null,null,null,null,null,"Добавить"]
["1","СОЦ_АУП","L6",null,null,null,null,null,null,null,null,"6","Страховые взносы на обязательное социальное страхование административно-управленческого персонала","тыс.руб.",{"$f":"O31*SUMIFS(INDEX(Сценарии!$O$15:$AP$53,,MATCH(O$3,Сценарии!$O$3:$AP$3,0)),Сценарии!$A$15:$A$53,$A37,Сценарии!$B$15:$B$53,\"СВФОТ\")/100","v":174.02832389540328},{"$f":"P31*SUMIFS(INDEX(Сценарии!$O$15:$AP$53,,MATCH(P$3,Сценарии!$O$3:$AP$3,0)),Сценарии!$A$15:$A$53,$A37,Сценарии!$B$15:$B$53,\"СВФОТ\")/100","v":139.42132000000001},{"$f":"Q31*SUMIFS(INDEX(Сценарии!$O$15:$AP$53,,MATCH(Q$3,Сценарии!$O$3:$AP$3,0)),Сценарии!$A$15:$A$53,$A37,Сценарии!$B$15:$B$53,\"СВФОТ\")/100","v":480.73869999999994},{"$f":"R31*SUMIFS(INDEX(Сценарии!$O$15:$AP$53,,MATCH(R$3,Сценарии!$O$3:$AP$3,0)),Сценарии!$A$15:$A$53,$A37,Сценарии!$B$15:$B$53,\"СВФОТ\")/100","v":200.75157771266666},{"$f":"S31*SUMIFS(INDEX(Сценарии!$O$15:$AP$53,,MATCH(S$3,Сценарии!$O$3:$AP$3,0)),Сценарии!$A$15:$A$53,$A37,Сценарии!$B$15:$B$53,\"СВФОТ\")/100","v":177.83601765119994},{"$f":"T31*SUMIFS(INDEX(Сценарии!$O$15:$AP$53,,MATCH(T$3,Сценарии!$O$3:$AP$3,0)),Сценарии!$A$15:$A$53,$A37,Сценарии!$B$15:$B$53,\"СВФОТ\")/100","v":177.83601765119994},"1)  Глава 34 \"СТРАХОВЫЕ ВЗНОСЫ\" \"Налогового кодекса Российской Федерации (Часть вторая)\" (в ред. от 10.07.2023 № 318-ФЗ); 2) Федеральные законы  от 22.12.2005 № 179-ФЗ,  от 31.12.2017 № 484-ФЗ;   от 24.07.1998 № 125-ФЗ); 3) \"Уведомление о страховом тарифе на обязательное социальное страхование от несчастных случаев на производстве и профессиональных заболеваний\" от 22.03.2022."]
["1","СП","L7",null,null,null,null,null,null,null,null,"7","Расходы на оплату труда сбытового персонала","тыс.руб.",null,null,null,null,{"$f":"SUMIFS(S39:S40,$N39:$N40,$N38)","v":0},{"$f":"SUMIFS(T39:T40,$N39:$N40,$N38)","v":0}]
["1",null,null,null,null,null,null,null,null,"7.0"]
["1",null,{"$f":"A40&\"pIns4\"","v":"1pIns4"},null,null,null,null,null,null,null,null,null,"Добавить"]
["1","СОЦ_СП","L8",null,null,null,null,null,null,null,null,"8","Страховые взносы на обязательное социальное страхование сбытового персонала","тыс.руб.",{"$f":"O38*SUMIFS(INDEX(Сценарии!$O$15:$AP$53,,MATCH(O$3,Сценарии!$O$3:$AP$3,0)),Сценарии!$A$15:$A$53,$A41,Сценарии!$B$15:$B$53,\"СВФОТ\")/100","v":0},{"$f":"P38*SUMIFS(INDEX(Сценарии!$O$15:$AP$53,,MATCH(P$3,Сценарии!$O$3:$AP$3,0)),Сценарии!$A$15:$A$53,$A41,Сценарии!$B$15:$B$53,\"СВФОТ\")/100","v":0},{"$f":"Q38*SUMIFS(INDEX(Сценарии!$O$15:$AP$53,,MATCH(Q$3,Сценарии!$O$3:$AP$3,0)),Сценарии!$A$15:$A$53,$A41,Сценарии!$B$15:$B$53,\"СВФОТ\")/100","v":0},{"$f":"R38*SUMIFS(INDEX(Сценарии!$O$15:$AP$53,,MATCH(R$3,Сценарии!$O$3:$AP$3,0)),Сценарии!$A$15:$A$53,$A41,Сценарии!$B$15:$B$53,\"СВФОТ\")/100","v":0},{"$f":"S38*SUMIFS(INDEX(Сценарии!$O$15:$AP$53,,MATCH(S$3,Сценарии!$O$3:$AP$3,0)),Сценарии!$A$15:$A$53,$A41,Сценарии!$B$15:$B$53,\"СВФОТ\")/100","v":0},{"$f":"T38*SUMIFS(INDEX(Сценарии!$O$15:$AP$53,,MATCH(T$3,Сценарии!$O$3:$AP$3,0)),Сценарии!$A$15:$A$53,$A41,Сценарии!$B$15:$B$53,\"СВФОТ\")/100","v":0}]
[{"$f":"'Общие сведения'!$D$135","v":"2"},null,null,null,null,null,null,null,null,null,null,{"$f":"INDEX('Общие сведения'!$J$121:$J$148,MATCH($A42,'Общие сведения'!$D$121:$D$148,0))","v":"Тариф 2 (Водоотведение) - тариф на водоотведение"},null,null,{"$f":"O43+O49+O50+O53+O54+O60+O61+O64","v":6431.4225775724999},10200.33196,14750.65746,7419.0120348487017,12979.312499999996,10955.648491119358]
[{"$f":"A42","v":"2"},"ПП","L1",null,null,null,null,null,null,null,null,1,"Расходы на оплату труда основного производственного персонала","тыс.руб.",4623.8358832932909,7274.84,{"$f":"641.04+462.29+5450.35","v":6553.68},5333.8578909343159,{"$f":"SUMIFS(S44:S48,$N44:$N48,$N43)","v":8987.2999999999975},{"$f":"SUMIFS(T44:T48,$N44:$N48,$N43)","v":7433.0265676799991},"1) П. 17 \"Методических указаний\" (приказ ФСТ от 27.12.2013 № 1746-э).  2)  Приказ Министерства строительства и ЖКХ Российской Федерации от 23.03.2020 № 154/пр \"Об утверждении Типовых отраслевых норм численности работников водопроводно-канализационного хозяйства\"."]
[{"$f":"A43","v":"2"},null,null,null,null,null,null,null,null,"1.0"]
[{"$f":"OFFSET(A45,-1,0)","v":"2"},null,"L1",{"$f":"M45","v":"Основной производственный персонал"},null,null,null,null,null,"1.1","О",{"$f":"J45","v":"1.1"},"Основной производственный персонал","тыс.руб.",null,null,null,null,{"$f":"S46*S47*12/1000","v":8987.2999999999975},{"$f":"T46*T47*12/1000","v":7433.0265676799991},"Фактический ФОТ участка \"ОСВ\" за 2022 год согласно Аналитического отчета по сч. 20.21  (641,04 + 462,29 +           + 5450,35 =  6553,68 тыс. руб.), с учетом ИПЦ  105,8% на 2023 г. и 107,2% на 2024 г. согласно Прогноза Минэкономразвития России от 22.09.2023."]
[{"$f":"A45","v":"2"},null,{"$f":"C45&\"_1\"","v":"L1_1"},{"$f":"D45","v":"Основной производственный персонал"},null,null,null,null,null,null,null,{"$f":"L45&\".1\"","v":"1.1.1"},"численность","чел.",null,null,null,null,18.000000160226097,18.000000160226097,"Принято на уровне штатной численности Участка ОЧИСТКИ СТОЧНЫХ ВОД (\"ОСВ\") согласно \"Штатного расписания рабочих\", утвержденного на 2022 и на 2023 годы (операторы очистных сооружений - 9 чел., слесари АВР - 2 чел., электрослесарь -1 чел., электрогазосварщик - 1 чел., лаборанты химического анализа - 5 чел.)"]
[{"$f":"A46","v":"2"},null,{"$f":"C45&\"_2\"","v":"L1_2"},{"$f":"D46","v":"Основной производственный персонал"},null,null,null,null,null,null,null,{"$f":"L45&\".2\"","v":"1.1.2"},"среднемесячная заработная плата","руб./чел.",null,null,null,null,41607.869999999995,34412.159729237443]
[{"$f":"A44","v":"2"},null,{"$f":"A48&\"pIns1\"","v":"2pIns1"},null,null,null,null,null,null,null,null,null,"Добавить"]
["2","СОЦ_ПП","L2",null,null,null,null,null,null,null,null,"2","Страховые взносы на обязательное социальное страхование основного производственного персонала","тыс.руб.",{"$f":"O43*SUMIFS(INDEX(Сценарии!$O$15:$AP$53,,MATCH(O$3,Сценарии!$O$3:$AP$3,0)),Сценарии!$A$15:$A$53,$A49,Сценарии!$B$15:$B$53,\"СВФОТ\")/100","v":1396.3984367545738},2184.6799999999998,{"$f":"Q43*SUMIFS(INDEX(Сценарии!$O$15:$AP$53,,MATCH(Q$3,Сценарии!$O$3:$AP$3,0)),Сценарии!$A$15:$A$53,$A49,Сценарии!$B$15:$B$53,\"СВФОТ\")/100","v":1979.21136},{"$f":"R43*SUMIFS(INDEX(Сценарии!$O$15:$AP$53,,MATCH(R$3,Сценарии!$O$3:$AP$3,0)),Сценарии!$A$15:$A$53,$A49,Сценарии!$B$15:$B$53,\"СВФОТ\")/100","v":1610.8250830621632},{"$f":"S43*SUMIFS(INDEX(Сценарии!$O$15:$AP$53,,MATCH(S$3,Сценарии!$O$3:$AP$3,0)),Сценарии!$A$15:$A$53,$A49,Сценарии!$B$15:$B$53,\"СВФОТ\")/100","v":2714.1645999999992},{"$f":"T43*SUMIFS(INDEX(Сценарии!$O$15:$AP$53,,MATCH(T$3,Сценарии!$O$3:$AP$3,0)),Сценарии!$A$15:$A$53,$A49,Сценарии!$B$15:$B$53,\"СВФОТ\")/100","v":2244.7740234393596},"1)  Глава 34 \"СТРАХОВЫЕ ВЗНОСЫ\" \"Налогового кодекса Российской Федерации (Часть вторая)\" (в ред. от 10.07.2023 № 318-ФЗ); 2) Федеральные законы  от 22.12.2005 № 179-ФЗ,  от 31.12.2017 № 484-ФЗ;   от 24.07.1998 № 125-ФЗ); 3) \"Уведомление о страховом тарифе на обязательное социальное страхование от несчастных случаев на производстве и профессиональных заболеваний\" от 22.03.2022."]
["2","РП","L3",null,null,null,null,null,null,null,null,"3","Расходы на оплату труда ремонтного персонала","тыс.руб.",null,null,null,null,{"$f":"SUMIFS(S51:S52,$N51:$N52,$N50)","v":0},{"$f":"SUMIFS(T51:T52,$N51:$N52,$N50)","v":0}]
["2",null,null,null,null,null,null,null,null,"3.0"]
["2",null,{"$f":"A52&\"pIns2\"","v":"2pIns2"},null,null,null,null,null,null,null,null,null,"Добавить"]
["2","СОЦ_РП","L4",null,null,null,null,null,null,null,null,"4","Страховые взносы на обязательное социальное страхование ремонтного персонала","тыс.руб.",{"$f":"O50*SUMIFS(INDEX(Сценарии!$O$15:$AP$53,,MATCH(O$3,Сценарии!$O$3:$AP$3,0)),Сценарии!$A$15:$A$53,$A53,Сценарии!$B$15:$B$53,\"СВФОТ\")/100","v":0},{"$f":"P50*SUMIFS(INDEX(Сценарии!$O$15:$AP$53,,MATCH(P$3,Сценарии!$O$3:$AP$3,0)),Сценарии!$A$15:$A$53,$A53,Сценарии!$B$15:$B$53,\"СВФОТ\")/100","v":0},{"$f":"Q50*SUMIFS(INDEX(Сценарии!$O$15:$AP$53,,MATCH(Q$3,Сценарии!$O$3:$AP$3,0)),Сценарии!$A$15:$A$53,$A53,Сценарии!$B$15:$B$53,\"СВФОТ\")/100","v":0},{"$f":"R50*SUMIFS(INDEX(Сценарии!$O$15:$AP$53,,MATCH(R$3,Сценарии!$O$3:$AP$3,0)),Сценарии!$A$15:$A$53,$A53,Сценарии!$B$15:$B$53,\"СВФОТ\")/100","v":0},{"$f":"S50*SUMIFS(INDEX(Сценарии!$O$15:$AP$53,,MATCH(S$3,Сценарии!$O$3:$AP$3,0)),Сценарии!$A$15:$A$53,$A53,Сценарии!$B$15:$B$53,\"СВФОТ\")/100","v":0},{"$f":"T50*SUMIFS(INDEX(Сценарии!$O$15:$AP$53,,MATCH(T$3,Сценарии!$O$3:$AP$3,0)),Сценарии!$A$15:$A$53,$A53,Сценарии!$B$15:$B$53,\"СВФОТ\")/100","v":0}]
["2","АУП","L5",null,null,null,null,null,null,null,null,"5","Расходы на оплату труда административно-управленческого персонала","тыс.руб.",315.81279379772337,568.98,4775.55,364.30803444871117,{"$f":"SUMIFS(S55:S59,$N55:$N59,$N54)","v":981.45},{"$f":"SUMIFS(T55:T59,$N55:$N59,$N54)","v":981.45}]
["2",null,null,null,null,null,null,null,null,"5.0"]
[{"$f":"OFFSET(A56,-1,0)","v":"2"},null,"L5",{"$f":"M56","v":"Административно-управленческий персонал"},null,null,null,null,null,"5.1","О",{"$f":"J56","v":"5.1"},"Административно-управленческий персонал","тыс.руб.",null,null,null,null,{"$f":"S57*S58*12/1000","v":981.45},{"$f":"T57*T58*12/1000","v":981.45},"Принято на уровне, предложенном организацией. СПРАВОЧНО:  Фактический ФОТ АУП  за 2022 г. (согласно данным Аналитического отчета по сч. 26) - 26145,26 тыс. руб., за вычетом  фактического ФОТ начальника ВИС  (675,64 тыс. руб.) - 25469,62 тыс. руб. Распределение ФОТ АУП пропорционально численности основного производственного персонала:  25469,62 тыс. руб. / 96 чел. (штатная численность рабочих ВСЕГО) * 18 чел. (штатнаячисленность участка ОСВ)  = 4775,55 тыс. руб. "]
[{"$f":"A56","v":"2"},null,{"$f":"C56&\"_1\"","v":"L5_1"},{"$f":"D56","v":"Административно-управленческий персонал"},null,null,null,null,null,null,null,{"$f":"L56&\".1\"","v":"5.1.1"},"численность","чел.",null,null,null,null,0.79999996087421865,0.79999996087421865,"Принято на уровне, предложенном организацией. СПРАВОЧНО: Распределение штатной численности  АУП  (исключая начальника участка ВИС)  пропорционально численности основного производственного персонала:  (28 чел. - 1 чел.)  / 96 чел. (штатная численность рабочих ВСЕГО) * 18 чел. (штатная численность участка ВИС)  = 5,06 чел."]
[{"$f":"A57","v":"2"},null,{"$f":"C56&\"_2\"","v":"L5_2"},{"$f":"D57","v":"Административно-управленческий персонал"},null,null,null,null,null,null,null,{"$f":"L56&\".2\"","v":"5.1.2"},"среднемесячная заработная плата","руб./чел.",null,null,null,null,102234.38,102234.38]
[{"$f":"A55","v":"2"},null,{"$f":"A59&\"pIns3\"","v":"2pIns3"},null,null,null,null,null,null,null,null,null,"Добавить"]
["2","СОЦ_АУП","L6",null,null,null,null,null,null,null,null,"6","Страховые взносы на обязательное социальное страхование административно-управленческого персонала","тыс.руб.",{"$f":"O54*SUMIFS(INDEX(Сценарии!$O$15:$AP$53,,MATCH(O$3,Сценарии!$O$3:$AP$3,0)),Сценарии!$A$15:$A$53,$A60,Сценарии!$B$15:$B$53,\"СВФОТ\")/100","v":95.375463726912457},{"$f":"P54*SUMIFS(INDEX(Сценарии!$O$15:$AP$53,,MATCH(P$3,Сценарии!$O$3:$AP$3,0)),Сценарии!$A$15:$A$53,$A60,Сценарии!$B$15:$B$53,\"СВФОТ\")/100","v":171.83196000000001},{"$f":"Q54*SUMIFS(INDEX(Сценарии!$O$15:$AP$53,,MATCH(Q$3,Сценарии!$O$3:$AP$3,0)),Сценарии!$A$15:$A$53,$A60,Сценарии!$B$15:$B$53,\"СВФОТ\")/100","v":1442.2161000000001},{"$f":"R54*SUMIFS(INDEX(Сценарии!$O$15:$AP$53,,MATCH(R$3,Сценарии!$O$3:$AP$3,0)),Сценарии!$A$15:$A$53,$A60,Сценарии!$B$15:$B$53,\"СВФОТ\")/100","v":110.02102640351077},{"$f":"S54*SUMIFS(INDEX(Сценарии!$O$15:$AP$53,,MATCH(S$3,Сценарии!$O$3:$AP$3,0)),Сценарии!$A$15:$A$53,$A60,Сценарии!$B$15:$B$53,\"СВФОТ\")/100","v":296.39789999999999},{"$f":"T54*SUMIFS(INDEX(Сценарии!$O$15:$AP$53,,MATCH(T$3,Сценарии!$O$3:$AP$3,0)),Сценарии!$A$15:$A$53,$A60,Сценарии!$B$15:$B$53,\"СВФОТ\")/100","v":296.39789999999999},"1)  Глава 34 \"СТРАХОВЫЕ ВЗНОСЫ\" \"Налогового кодекса Российской Федерации (Часть вторая)\" (в ред. от 10.07.2023 № 318-ФЗ); 2) Федеральные законы  от 22.12.2005 № 179-ФЗ,  от 31.12.2017 № 484-ФЗ;   от 24.07.1998 № 125-ФЗ); 3) \"Уведомление о страховом тарифе на обязательное социальное страхование от несчастных случаев на производстве и профессиональных заболеваний\" от 22.03.2022."]
["2","СП","L7",null,null,null,null,null,null,null,null,"7","Расходы на оплату труда сбытового персонала","тыс.руб.",null,null,null,null,{"$f":"SUMIFS(S62:S63,$N62:$N63,$N61)","v":0},{"$f":"SUMIFS(T62:T63,$N62:$N63,$N61)","v":0}]
["2",null,null,null,null,null,null,null,null,"7.0"]
["2",null,{"$f":"A63&\"pIns4\"","v":"2pIns4"},null,null,null,null,null,null,null,null,null,"Добавить"]
["2","СОЦ_СП","L8",null,null,null,null,null,null,null,null,"8","Страховые взносы на обязательное социальное страхование сбытового персонала","тыс.руб.",{"$f":"O61*SUMIFS(INDEX(Сценарии!$O$15:$AP$53,,MATCH(O$3,Сценарии!$O$3:$AP$3,0)),Сценарии!$A$15:$A$53,$A64,Сценарии!$B$15:$B$53,\"СВФОТ\")/100","v":0},{"$f":"P61*SUMIFS(INDEX(Сценарии!$O$15:$AP$53,,MATCH(P$3,Сценарии!$O$3:$AP$3,0)),Сценарии!$A$15:$A$53,$A64,Сценарии!$B$15:$B$53,\"СВФОТ\")/100","v":0},{"$f":"Q61*SUMIFS(INDEX(Сценарии!$O$15:$AP$53,,MATCH(Q$3,Сценарии!$O$3:$AP$3,0)),Сценарии!$A$15:$A$53,$A64,Сценарии!$B$15:$B$53,\"СВФОТ\")/100","v":0},{"$f":"R61*SUMIFS(INDEX(Сценарии!$O$15:$AP$53,,MATCH(R$3,Сценарии!$O$3:$AP$3,0)),Сценарии!$A$15:$A$53,$A64,Сценарии!$B$15:$B$53,\"СВФОТ\")/100","v":0},{"$f":"S61*SUMIFS(INDEX(Сценарии!$O$15:$AP$53,,MATCH(S$3,Сценарии!$O$3:$AP$3,0)),Сценарии!$A$15:$A$53,$A64,Сценарии!$B$15:$B$53,\"СВФОТ\")/100","v":0},{"$f":"T61*SUMIFS(INDEX(Сценарии!$O$15:$AP$53,,MATCH(T$3,Сценарии!$O$3:$AP$3,0)),Сценарии!$A$15:$A$53,$A64,Сценарии!$B$15:$B$53,\"СВФОТ\")/100","v":0}]
[]
[null,null,null,null,null,null,null,null,null,null,null,"Комментарии и обоснования к разделу"]
[]
[null,null,null,null,null,null,null,null,null,null,null,"Добавить комментарий"]

{"sheet":"Административные","index":23,"n_rows":57,"n_cols":21,"rows_kept":57,"cut":false,"hidden":false,"merged":[[54,11,54,20],[55,11,55,20],[56,11,56,12],[13,11,14,11],[13,12,14,12],[13,13,14,13],[13,20,14,20]]}
[null,null,null,null,null,null,null,null,null,null,null,null,null,null,{"$f":"god-2","v":2022},{"$f":"god-2","v":2022},{"$f":"god-2","v":2022},{"$f":"god-1","v":2023},{"$f":"god","v":2024},{"$f":"god","v":2024}]
[null,null,null,null,null,null,null,null,null,null,null,null,null,null,{"$f":"O15","v":"Принято органом регулирования"},"Факт по данным организации","Факт, принятый органом регулирования","Принято органом регулирования","Предложение организации","Принято органом регулирования"]
[]
[]
[]
[]
[null,null,null,null,null,null,null,null,null,null,null,null,null,null,null,null,null,null,{"$f":"S1<=last_year_vis","v":true},{"$f":"T1<=last_year_vis","v":true}]
[]
[]
[]
[null,null,null,null,null,null,null,null,null,null,null,null,{"$f":"tpl_title","v":"Кемеровская область / 2024 / ООО \"ТВК\" (ИНН:4202026697, КПП:420201001) / ДПР: 2024-2028"}]
[null,null,null,null,null,null,null,null,null,null,null,"14. Административные расходы"]
[]
[null,null,null,null,null,null,null,null,null,null,null,"№\nп/п","Наименование","Единица измерения",{"$f":"god-2 & \" год\"","v":"2022 год"},{"$f":"god-2 & \" год\"","v":"2022 год"},{"$f":"god-2 & \" год\"","v":"2022 год"},{"$f":"god-1 & \" год\"","v":"2023 год"},{"$f":"god & \" год\"","v":"2024 год"},{"$f":"god & \" год\"","v":"2024 год"},"Ссылка на правовую норму (основание для принятия показателя в расчет тарифа)"]
[null,null,null,null,null,null,null,null,null,null,null,null,null,null,"Принято органом регулирования","Факт по данным организации","Факт, принятый органом регулирования","Принято органом регулирования","Предложение организации","Принято органом регулирования"]
[{"$f":"'Общие сведения'!$D$122","v":"1"},null,null,null,null,null,null,null,null,null,null,{"$f":"INDEX('Общие сведения'!$J$121:$J$148,MATCH($A16,'Общие сведения'!$D$121:$D$148,0))","v":"Тариф 1 (Водоснабжение) - тариф на питьевую воду"},null,null,{"$f":"O17+O18+O19+O27+O28+O29+O30+O31","v":981.27820792522436},937.81131999999991,2249.5542419999997,1131.9602694929492,1125.3370032511996,1014.6972313553197]
[{"$f":"A16","v":"1"},null,"L1",null,null,null,null,null,null,null,null,1,"Расходы на оплату труда административно-управленческого персонала","тыс.руб.",{"$f":"SUMIFS(ФОТ!O$15:O$65,ФОТ!$A$15:$A$65,$A17,ФОТ!$M$15:$M$65,$M17)","v":576.25272813047434},{"$f":"SUMIFS(ФОТ!P$15:P$65,ФОТ!$A$15:$A$65,$A17,ФОТ!$M$15:$M$65,$M17)","v":461.66},{"$f":"SUMIFS(ФОТ!Q$15:Q$65,ФОТ!$A$15:$A$65,$A17,ФОТ!$M$15:$M$65,$M17)","v":1591.85},{"$f":"SUMIFS(ФОТ!R$15:R$65,ФОТ!$A$15:$A$65,$A17,ФОТ!$M$15:$M$65,$M17)","v":664.74032355187637},{"$f":"SUMIFS(ФОТ!S$15:S$65,ФОТ!$A$15:$A$65,$A17,ФОТ!$M$15:$M$65,$M17)","v":588.86098559999982},{"$f":"SUMIFS(ФОТ!T$15:T$65,ФОТ!$A$15:$A$65,$A17,ФОТ!$M$15:$M$65,$M17)","v":588.86098559999982},"Приказ Министерства строительства и ЖКХ Российской Федерации от 23.03.2020 № 154/пр \"Об утверждении Типовых отраслевых норм численности работников водопроводно-канализационного хозяйства\"."]
[{"$f":"A17","v":"1"},null,"L2",null,null,null,null,null,null,null,null,"2","Страховые взносы на обязательное социальное страхование административно-управленческого персонала","тыс.руб.",{"$f":"SUMIFS(ФОТ!O$15:O$65,ФОТ!$A$15:$A$65,$A18,ФОТ!$M$15:$M$65,$M18)","v":174.02832389540328},{"$f":"SUMIFS(ФОТ!P$15:P$65,ФОТ!$A$15:$A$65,$A18,ФОТ!$M$15:$M$65,$M18)","v":139.42132000000001},{"$f":"SUMIFS(ФОТ!Q$15:Q$65,ФОТ!$A$15:$A$65,$A18,ФОТ!$M$15:$M$65,$M18)","v":480.73869999999994},{"$f":"SUMIFS(ФОТ!R$15:R$65,ФОТ!$A$15:$A$65,$A18,ФОТ!$M$15:$M$65,$M18)","v":200.75157771266666},{"$f":"SUMIFS(ФОТ!S$15:S$65,ФОТ!$A$15:$A$65,$A18,ФОТ!$M$15:$M$65,$M18)","v":177.83601765119994},{"$f":"SUMIFS(ФОТ!T$15:T$65,ФОТ!$A$15:$A$65,$A18,ФОТ!$M$15:$M$65,$M18)","v":177.83601765119994}]
["1","p3","L3",null,null,null,null,null,null,null,null,"3","Оплата работ и (или) услуг, выполняемых по договорам сторонними организациями или индивидуальными предпринимателями:","тыс.руб.",{"$f":"SUM(O20:O26)","v":0},293.38,0,0,264.34999999999997,47.119919991479989]
["1","p3_1","L3_1",null,null,null,null,null,null,null,null,"3.1","услуги связи и интернет","тыс.руб.",null,1.59,null,null,1.95,null,"Учтено в составе прочих затрат (пункт 8)."]
["1","p3_2","L3_2",null,null,null,null,null,null,null,null,"3.2","юридические услуги","тыс.руб.",null,105.54,null,null,115.11,47.119919991479989,"Согласно Приказа Минстроя России от 23.03.2020 N 154/пр, нормативная численность  специалистов по правовому обслуживанию при численности основного персонала до 100 чел. (Таблица 1) составляет  1 чел.  Затраты приняты, исходя из численности 1 чел., плановой средней заработной платы  АУП  102 232,81 руб./чел./мес., отчислений на социальные нужды в размере 30,2% от ФОТ, итого -            1 597,29 тыс. руб./год. На ВС распределено пропорционально фактической доле регулируемого вида деятельности в общем объеме выручки за 2022 г. (2,95%)."]
["1","p3_3","L3_3",null,null,null,null,null,null,null,null,"3.3","аудиторские услуги","тыс.руб.",null,5.22]
["1","p3_4","L3_4",null,null,null,null,null,null,null,null,"3.4","консультационные услуги","тыс.руб."]
["1","p3_5","L3_5",null,null,null,null,null,null,null,null,"3.5","услуги по вневедомственной охране объектов и территорий","тыс.руб.",null,118.62,null,null,5.63,null,"Учтено в составе прочих затрат (пункт 8)."]
["1","p3_6","L3_6",null,null,null,null,null,null,null,null,"3.6","информационные услуги","тыс.руб.",null,62.41,null,null,126.96,null,"Учтено в составе прочих затрат (пункт 8)."]
["1","p3_7","L3_7",null,null,null,null,null,null,null,null,"3.7","иные работы и (или) услуги","тыс.руб.",null,null,null,null,14.7,null,"Учтено в составе прочих затрат (пункт 8)."]
["1","p4","L4",null,null,null,null,null,null,null,null,"4","Арендная плата, лизинговые платежи, не связанные с арендой (лизингом) централизованных систем водоснабжения (водоотведения) либо объектов, входящих в состав таких систем","тыс.руб."]
["1","p5","L5",null,null,null,null,null,null,null,null,"5","Служебные командировки","тыс.руб."]
["1","p6","L6",null,null,null,null,null,null,null,null,"6","Обучение персонала","тыс.руб.",null,8.31]
["1","p7","L7",null,null,null,null,null,null,null,null,"7","Страхование производственных объектов","тыс.руб.",null,4.99]
["1","p8","L8",null,null,null,null,null,null,null,null,"8","Прочие расходы, всего:","тыс.руб.",{"$f":"SUM(O32:O34)","v":230.99715589934669},30.05,176.965542,266.46836822840629,94.29,200.88030811263999]
["1","p8_1","L8_1",null,null,null,null,null,null,null,null,"8.1","амортизация непроизводственных активов","тыс.руб."]
["1","p8_2","L8_2",null,null,null,null,null,null,null,null,"8.2","оплата услуг сторонних организаций по обеспечению безопасности функционирования объектов централизованных систем водоснабжения (водоотведения), в том числе расходы на защиту от террористических угроз","тыс.руб."]
["1","p8_3","L8_3",null,null,null,null,null,null,null,null,"8.3","иные расходы","тыс.руб.",230.99715589934669,30.05,{"$f":"6003.92*0.029475","v":176.965542},266.46836822840629,{"$f":"26.28+68.01","v":94.29},{"$f":"6003.92*1.058*1.072*0.0295","v":200.88030811263999},"Общая величина прочих административных расходов  К РАСПРЕДЕЛЕНИЮ по видам услуг определена в размере фактических затрат 2022 г. - 6003,92 тыс. руб.:  43456,82 тыс. руб. (всего по сч. 26 согласно Аналитического отчета по сч. 26) - 6 127,37 (сч. 69) -                -  21 877,97 (сч. 70) - 5 391,38 (сч. 96) - 3 877,39 (услуги ООО \"ЛЕКС-СЕРВИС\") - 178,80 (ДМС);  что с учетом ИПЦ Минэкономразвития России 105,8% на 2023 г. и 107,2% на 2024 г. составит 6809,50 тыс. руб. На ВОДОСНАБЖЕНИЕ распределено пропорционально фактической доле регулируемого вида деятельности в общем объеме выручки за 2022 г. (2,95%)."]
[{"$f":"'Общие сведения'!$D$135","v":"2"},null,null,null,null,null,null,null,null,null,null,{"$f":"INDEX('Общие сведения'!$J$121:$J$148,MATCH($A35,'Общие сведения'!$D$121:$D$148,0))","v":"Тариф 2 (Водоотведение) - тариф на водоотведение"},null,null,{"$f":"O36+O37+O38+O46+O47+O48+O49+O50","v":726.25045700542751},828.06196,6217.7661000000007,837.77124203076778,1875.5979000000002,1741.0632369595039]
[{"$f":"A35","v":"2"},null,"L1",null,null,null,null,null,null,null,null,1,"Расходы на оплату труда административно-управленческого персонала","тыс.руб.",{"$f":"SUMIFS(ФОТ!O$15:O$65,ФОТ!$A$15:$A$65,$A36,ФОТ!$M$15:$M$65,$M36)","v":315.81279379772337},{"$f":"SUMIFS(ФОТ!P$15:P$65,ФОТ!$A$15:$A$65,$A36,ФОТ!$M$15:$M$65,$M36)","v":568.98},{"$f":"SUMIFS(ФОТ!Q$15:Q$65,ФОТ!$A$15:$A$65,$A36,ФОТ!$M$15:$M$65,$M36)","v":4775.55},{"$f":"SUMIFS(ФОТ!R$15:R$65,ФОТ!$A$15:$A$65,$A36,ФОТ!$M$15:$M$65,$M36)","v":364.30803444871117},{"$f":"SUMIFS(ФОТ!S$15:S$65,ФОТ!$A$15:$A$65,$A36,ФОТ!$M$15:$M$65,$M36)","v":981.45},{"$f":"SUMIFS(ФОТ!T$15:T$65,ФОТ!$A$15:$A$65,$A36,ФОТ!$M$15:$M$65,$M36)","v":981.45}]
[{"$f":"A36","v":"2"},null,"L2",null,null,null,null,null,null,null,null,"2","Страховые взносы на обязательное социальное страхование административно-управленческого персонала","тыс.руб.",{"$f":"SUMIFS(ФОТ!O$15:O$65,ФОТ!$A$15:$A$65,$A37,ФОТ!$M$15:$M$65,$M37)","v":95.375463726912457},{"$f":"SUMIFS(ФОТ!P$15:P$65,ФОТ!$A$15:$A$65,$A37,ФОТ!$M$15:$M$65,$M37)","v":171.83196000000001},{"$f":"SUMIFS(ФОТ!Q$15:Q$65,ФОТ!$A$15:$A$65,$A37,ФОТ!$M$15:$M$65,$M37)","v":1442.2161000000001},{"$f":"SUMIFS(ФОТ!R$15:R$65,ФОТ!$A$15:$A$65,$A37,ФОТ!$M$15:$M$65,$M37)","v":110.02102640351077},{"$f":"SUMIFS(ФОТ!S$15:S$65,ФОТ!$A$15:$A$65,$A37,ФОТ!$M$15:$M$65,$M37)","v":296.39789999999999},{"$f":"SUMIFS(ФОТ!T$15:T$65,ФОТ!$A$15:$A$65,$A37,ФОТ!$M$15:$M$65,$M37)","v":296.39789999999999}]
["2","p3","L3",null,null,null,null,null,null,null,null,"3","Оплата работ и (или) услуг, выполняемых по договорам сторонними организациями или индивидуальными предпринимателями:","тыс.руб.",{"$f":"SUM(O39:O45)","v":0},0,0,0,406.69,88.011778416912009]
["2","p3_1","L3_1",null,null,null,null,null,null,null,null,"3.1","услуги связи и интернет","тыс.руб.",null,null,null,null,3.24,null,"Учтено в составе прочих затрат (пункт 8)."]
["2","p3_2","L3_2",null,null,null,null,null,null,null,null,"3.2","юридические услуги","тыс.руб.",null,null,null,null,191.85,88.011778416912009,"Согласно Приказа Минстроя России от 23.03.2020 N 154/пр, нормативная численность  специалистов по правовому обслуживанию при численности основного персонала до 100 чел. (Таблица 1) составляет  1 чел.  Затраты приняты, исходя из численности 1 чел., плановой средней заработной платы  АУП  102 232,81  руб./чел./мес., отчислений на социальные нужды в размере 30,2% от ФОТ, итого - 1 597,29 тыс. руб./год. На ВОДООТВЕДЕНИЕ распределено пропорционально фактической доле регулируемого вида деятельности в общем объеме выручки за 2022 г. (5,51%)."]
["2","p3_3","L3_3",null,null,null,null,null,null,null,null,"3.3","аудиторские услуги","тыс.руб."]
["2","p3_4","L3_4",null,null,null,null,null,null,null,null,"3.4","консультационные услуги","тыс.руб."]
["2","p3_5","L3_5",null,null,null,null,null,null,null,null,"3.5","услуги по вневедомственной охране объектов и территорий","тыс.руб."]
["2","p3_6","L3_6",null,null,null,null,null,null,null,null,"3.6","информационные услуги","тыс.руб.",null,null,null,null,211.6,null,"Учтено в составе прочих затрат (пункт 8)."]
["2","p3_7","L3_7",null,null,null,null,null,null,null,null,"3.7","иные работы и (или) услуги","тыс.руб."]
["2","p4","L4",null,null,null,null,null,null,null,null,"4","Арендная плата, лизинговые платежи, не связанные с арендой (лизингом) централизованных систем водоснабжения (водоотведения) либо объектов, входящих в состав таких систем","тыс.руб."]
["2","p5","L5",null,null,null,null,null,null,null,null,"5","Служебные командировки","тыс.руб.",null,null,null,null,4.6500000000000004,null,"Учтено в составе прочих затрат (пункт 8)."]
["2","p6","L6",null,null,null,null,null,null,null,null,"6","Обучение персонала","тыс.руб.",null,9.16,null,null,18.45,null,"Учтено в составе прочих затрат (пункт 8)."]
["2","p7","L7",null,null,null,null,null,null,null,null,"7","Страхование производственных объектов","тыс.руб.",null,5.5,null,null,9.6,null,"Учтено в составе прочих затрат (пункт 8)."]
["2","p8","L8",null,null,null,null,null,null,null,null,"8","Прочие расходы, всего:","тыс.руб.",{"$f":"SUM(O51:O53)","v":315.06219948079166},72.59,0,363.44218117854592,158.36000000000001,375.20355854259202]
["2","p8_1","L8_1",null,null,null,null,null,null,null,null,"8.1","амортизация непроизводственных активов","тыс.руб.",null,null,null,null,9.4600000000000009,null,"Учтено в составе прочих затрат (пункт 8.3)."]
["2","p8_2","L8_2",null,null,null,null,null,null,null,null,"8.2","оплата услуг сторонних организаций по обеспечению безопасности функционирования объектов централизованных систем водоснабжения (водоотведения), в том числе расходы на защиту от террористических угроз","тыс.руб."]
["2","p8_3","L8_3",null,null,null,null,null,null,null,null,"8.3","иные расходы","тыс.руб.",315.06219948079166,{"$f":"33.12+39.47","v":72.59},null,363.44218117854592,{"$f":"80.62+68.28","v":148.9},{"$f":"6003.92*1.058*1.072*0.0551","v":375.20355854259202},"Общая величина прочих административных расходов  К РАСПРЕДЕЛЕНИЮ по видам услуг определена в размере СКОРРЕКТИРОВАННЫХ фактических затрат 2022 г. - 6003,92 тыс. руб.:  43456,82 тыс. руб. (всего по сч. 26 согласно Аналитического отчета по сч. 26) - 6 127,37 (сч. 69) - 21 877,97 (сч. 70) - 5 391,38 (сч. 96) - 3 877,39 (услуги ООО \"ЛЕКС-СЕРВИС\") - 178,80 (ДМС);  что с учетом ИПЦ Минэкономразвития России 105,8% на 2023 г. и 107,2% на 2024 г. составит 6809,50 тыс. руб. На ВОДООТВЕДЕНИЕ распределено пропорционально фактической доле регулируемого вида деятельности в общем объеме выручки за 2022 г. (5,51%)."]
[]
[null,null,null,null,null,null,null,null,null,null,null,"Комментарии и обоснования к разделу"]
[]
[null,null,null,null,null,null,null,null,null,null,null,"Добавить комментарий"]

{"sheet":"Сбытовые расходы ГО","index":24,"n_rows":43,"n_cols":21,"rows_kept":43,"cut":false,"hidden":false,"merged":[[40,11,40,20],[41,11,41,20],[42,11,42,12],[13,11,14,11],[13,12,14,12],[13,13,14,13],[13,20,14,20]]}
[null,null,null,null,null,null,null,null,null,null,null,null,null,null,{"$f":"god-2","v":2022},{"$f":"god-2","v":2022},{"$f":"god-2","v":2022},{"$f":"god-1","v":2023},{"$f":"god","v":2024},{"$f":"god","v":2024}]
[null,null,null,null,null,null,null,null,null,null,null,null,null,null,{"$f":"O15","v":"Принято органом регулирования"},"Факт по данным организации","Факт, принятый органом регулирования","Принято органом регулирования","Предложение организации","Принято органом регулирования"]
[]
[]
[]
[]
[null,null,null,null,null,null,null,null,null,null,null,null,null,null,null,null,null,null,{"$f":"S1<=last_year_vis","v":true},{"$f":"T1<=last_year_vis","v":true}]
[]
[]
[]
[null,null,null,null,null,null,null,null,null,null,null,null,{"$f":"tpl_title","v":"Кемеровская область / 2024 / ООО \"ТВК\" (ИНН:4202026697, КПП:420201001) / ДПР: 2024-2028"}]
[null,null,null,null,null,null,null,null,null,null,null,"15. Сбытовые расходы гарантирующей организации"]
[]
[null,null,null,null,null,null,null,null,null,null,null,"№ п/п","Наименование показателя","Единица измерений",{"$f":"god-2 & \" год\"","v":"2022 год"},{"$f":"god-2 & \" год\"","v":"2022 год"},{"$f":"god-2 & \" год\"","v":"2022 год"},{"$f":"god-1 & \" год\"","v":"2023 год"},{"$f":"god & \" год\"","v":"2024 год"},{"$f":"god & \" год\"","v":"2024 год"},"Ссылка на правовую норму (основание для принятия показателя в расчет тарифа)"]
[null,null,null,null,null,null,null,null,null,null,null,null,null,null,"Принято органом регулирования","Факт по данным организации","Факт, принятый органом регулирования","Принято органом регулирования","Предложение организации","Принято органом регулирования"]
[{"$f":"'Общие сведения'!$D$122","v":"1"},"L0",null,null,null,null,null,null,null,null,null,{"$f":"INDEX('Общие сведения'!$J$121:$J$148,MATCH($A16,'Общие сведения'!$D$121:$D$148,0))","v":"Тариф 1 (Водоснабжение) - тариф на питьевую воду"},null,null,{"$f":"SUM(O17:O25)","v":0},0,0,0,0,0]
[{"$f":"A16","v":"1"},"L1",null,null,null,null,null,null,null,null,null,"1","Расходы на формирование резервов по сомнительным долгам (дебиторской задолженности)","тыс.руб."]
[{"$f":"A17","v":"1"},"L2",null,null,null,null,null,null,null,null,null,"2","Расходы на приобретение материалов, связанные со сбытовой деятельностью","тыс.руб."]
["1","L3",null,null,null,null,null,null,null,null,null,"3","Расходы на содержание помещений, используемых при осуществлении сбытовой деятельности","тыс.руб."]
["1","L4",null,null,null,null,null,null,null,null,null,4,"Расходы на оплату труда, страховые взносы на обязательное социальное страхование, выплачиваемые из фонда оплаты труда сбытового персонала","тыс.руб.",{"$f":"SUMIFS(ФОТ!O$15:O$65,ФОТ!$A$15:$A$65,$A20,ФОТ!$B$15:$B$65,\"СП\")+SUMIFS(ФОТ!O$15:O$65,ФОТ!$A$15:$A$65,$A20,ФОТ!$B$15:$B$65,\"СОЦ_СП\")","v":0},{"$f":"SUMIFS(ФОТ!P$15:P$65,ФОТ!$A$15:$A$65,$A20,ФОТ!$B$15:$B$65,\"СП\")+SUMIFS(ФОТ!P$15:P$65,ФОТ!$A$15:$A$65,$A20,ФОТ!$B$15:$B$65,\"СОЦ_СП\")","v":0},{"$f":"SUMIFS(ФОТ!Q$15:Q$65,ФОТ!$A$15:$A$65,$A20,ФОТ!$B$15:$B$65,\"СП\")+SUMIFS(ФОТ!Q$15:Q$65,ФОТ!$A$15:$A$65,$A20,ФОТ!$B$15:$B$65,\"СОЦ_СП\")","v":0},{"$f":"SUMIFS(ФОТ!R$15:R$65,ФОТ!$A$15:$A$65,$A20,ФОТ!$B$15:$B$65,\"СП\")+SUMIFS(ФОТ!R$15:R$65,ФОТ!$A$15:$A$65,$A20,ФОТ!$B$15:$B$65,\"СОЦ_СП\")","v":0},{"$f":"SUMIFS(ФОТ!S$15:S$65,ФОТ!$A$15:$A$65,$A20,ФОТ!$B$15:$B$65,\"СП\")+SUMIFS(ФОТ!S$15:S$65,ФОТ!$A$15:$A$65,$A20,ФОТ!$B$15:$B$65,\"СОЦ_СП\")","v":0},{"$f":"SUMIFS(ФОТ!T$15:T$65,ФОТ!$A$15:$A$65,$A20,ФОТ!$B$15:$B$65,\"СП\")+SUMIFS(ФОТ!T$15:T$65,ФОТ!$A$15:$A$65,$A20,ФОТ!$B$15:$B$65,\"СОЦ_СП\")","v":0}]
["1","L5",null,null,null,null,null,null,null,null,null,"5","Расходы на амортизацию основных средств и нематериальных активов, используемых при осуществлении сбытовой деятельности","тыс.руб."]
["1","L6",null,null,null,null,null,null,null,null,null,"6","Расходы на аренду, лизинг имущества, используемого при осуществлении сбытовой деятельности","тыс.руб."]
["1","L7",null,null,null,null,null,null,null,null,null,"7","Расходы на уплату процентов по займам и кредитам, привлечение которых обосновано ростом дебиторской задолженности абонентов за регулируемые услуги водоснабжения (водоотведения)","тыс.руб."]
["1","L8",null,null,null,null,null,null,null,null,null,"8","Расходы на оплату работ и (или) услуг, выполняемых сторонними организациями или индивидуальными предпринимателями, связанных со сбытовой деятельностью","тыс.руб."]
["1","L9",null,null,null,null,null,null,null,null,null,9,"Прочие расходы, связанные со сбытовой деятельностью","тыс.руб.",{"$f":"SUM(O26:O27)","v":0},0,0,0,0,0]
["1",null,null,null,null,null,null,null,null,null,null,"9.0"]
["1",{"$f":"A27&\"pIns\"","v":"1pIns"},null,null,null,null,null,null,null,null,null,null,"Добавить"]
[{"$f":"'Общие сведения'!$D$135","v":"2"},"L0",null,null,null,null,null,null,null,null,null,{"$f":"INDEX('Общие сведения'!$J$121:$J$148,MATCH($A28,'Общие сведения'!$D$121:$D$148,0))","v":"Тариф 2 (Водоотведение) - тариф на водоотведение"},null,null,{"$f":"SUM(O29:O37)","v":0},0,0,0,0,0]
[{"$f":"A28","v":"2"},"L1",null,null,null,null,null,null,null,null,null,"1","Расходы на формирование резервов по сомнительным долгам (дебиторской задолженности)","тыс.руб."]
[{"$f":"A29","v":"2"},"L2",null,null,null,null,null,null,null,null,null,"2","Расходы на приобретение материалов, связанные со сбытовой деятельностью","тыс.руб."]
["2","L3",null,null,null,null,null,null,null,null,null,"3","Расходы на содержание помещений, используемых при осуществлении сбытовой деятельности","тыс.руб."]
["2","L4",null,null,null,null,null,null,null,null,null,4,"Расходы на оплату труда, страховые взносы на обязательное социальное страхование, выплачиваемые из фонда оплаты труда сбытового персонала","тыс.руб.",{"$f":"SUMIFS(ФОТ!O$15:O$65,ФОТ!$A$15:$A$65,$A32,ФОТ!$B$15:$B$65,\"СП\")+SUMIFS(ФОТ!O$15:O$65,ФОТ!$A$15:$A$65,$A32,ФОТ!$B$15:$B$65,\"СОЦ_СП\")","v":0},{"$f":"SUMIFS(ФОТ!P$15:P$65,ФОТ!$A$15:$A$65,$A32,ФОТ!$B$15:$B$65,\"СП\")+SUMIFS(ФОТ!P$15:P$65,ФОТ!$A$15:$A$65,$A32,ФОТ!$B$15:$B$65,\"СОЦ_СП\")","v":0},{"$f":"SUMIFS(ФОТ!Q$15:Q$65,ФОТ!$A$15:$A$65,$A32,ФОТ!$B$15:$B$65,\"СП\")+SUMIFS(ФОТ!Q$15:Q$65,ФОТ!$A$15:$A$65,$A32,ФОТ!$B$15:$B$65,\"СОЦ_СП\")","v":0},{"$f":"SUMIFS(ФОТ!R$15:R$65,ФОТ!$A$15:$A$65,$A32,ФОТ!$B$15:$B$65,\"СП\")+SUMIFS(ФОТ!R$15:R$65,ФОТ!$A$15:$A$65,$A32,ФОТ!$B$15:$B$65,\"СОЦ_СП\")","v":0},{"$f":"SUMIFS(ФОТ!S$15:S$65,ФОТ!$A$15:$A$65,$A32,ФОТ!$B$15:$B$65,\"СП\")+SUMIFS(ФОТ!S$15:S$65,ФОТ!$A$15:$A$65,$A32,ФОТ!$B$15:$B$65,\"СОЦ_СП\")","v":0},{"$f":"SUMIFS(ФОТ!T$15:T$65,ФОТ!$A$15:$A$65,$A32,ФОТ!$B$15:$B$65,\"СП\")+SUMIFS(ФОТ!T$15:T$65,ФОТ!$A$15:$A$65,$A32,ФОТ!$B$15:$B$65,\"СОЦ_СП\")","v":0}]
["2","L5",null,null,null,null,null,null,null,null,null,"5","Расходы на амортизацию основных средств и нематериальных активов, используемых при осуществлении сбытовой деятельности","тыс.руб."]
["2","L6",null,null,null,null,null,null,null,null,null,"6","Расходы на аренду, лизинг имущества, используемого при осуществлении сбытовой деятельности","тыс.руб."]
["2","L7",null,null,null,null,null,null,null,null,null,"7","Расходы на уплату процентов по займам и кредитам, привлечение которых обосновано ростом дебиторской задолженности абонентов за регулируемые услуги водоснабжения (водоотведения)","тыс.руб."]
["2","L8",null,null,null,null,null,null,null,null,null,"8","Расходы на оплату работ и (или) услуг, выполняемых сторонними организациями или индивидуальными предпринимателями, связанных со сбытовой деятельностью","тыс.руб."]
["2","L9",null,null,null,null,null,null,null,null,null,9,"Прочие расходы, связанные со сбытовой деятельностью","тыс.руб.",{"$f":"SUM(O38:O39)","v":0},0,0,0,0,0]
["2",null,null,null,null,null,null,null,null,null,null,"9.0"]
["2",{"$f":"A39&\"pIns\"","v":"2pIns"},null,null,null,null,null,null,null,null,null,null,"Добавить"]
[]
[null,null,null,null,null,null,null,null,null,null,null,"Комментарии и обоснования к разделу"]
[]
[null,null,null,null,null,null,null,null,null,null,null,"Добавить комментарий"]

{"sheet":"Налоги","index":25,"n_rows":46,"n_cols":39,"rows_kept":46,"cut":false,"hidden":false,"merged":[[45,11,45,12],[42,11,42,38],[43,11,43,38],[13,11,14,11],[13,12,14,12],[13,13,14,13],[13,38,14,38],[44,11,44,38]]}
[null,null,null,null,null,null,null,null,null,null,null,null,null,null,{"$f":"god-2","v":2022},{"$f":"god-2","v":2022},{"$f":"god-2","v":2022},{"$f":"god-1","v":2023},{"$f":"god","v":2024},{"$f":"god+1","v":2025},{"$f":"god+2","v":2026},{"$f":"god+3","v":2027},{"$f":"god+4","v":2028},{"$f":"god+5","v":2029},{"$f":"god+6","v":2030},{"$f":"god+7","v":2031},{"$f":"god+8","v":2032},{"$f":"god+9","v":2033},{"$f":"god","v":2024},{"$f":"god+1","v":2025},{"$f":"god+2","v":2026},{"$f":"god+3","v":2027},{"$f":"god+4","v":2028},{"$f":"god+5","v":2029},{"$f":"god+6","v":2030},{"$f":"god+7","v":2031},{"$f":"god+8","v":2032},{"$f":"god+9","v":2033}]
[null,null,null,null,null,null,null,null,null,null,null,null,null,null,{"$f":"O15","v":"Принято органом регулирования"},{"$f":"P15","v":"Факт по данным организации"},"Факт, принятый органом регулирования","Принято органом регулирования","Предложение организации","Предложение организации","Предложение организации","Предложение организации","Предложение организации","Предложение организации","Предложение организации","Предложение организации","Предложение организации","Предложение организации","Принято органом регулирования","Принято органом регулирования","Принято органом регулирования","Принято органом регулирования","Принято органом регулирования","Принято органом регулирования","Принято органом регулирования","Принято органом регулирования","Принято органом регулирования","Принято органом регулирования"]
[]
[]
[]
[]
[null,null,null,null,null,null,null,null,null,null,null,null,null,null,null,null,null,null,{"$f":"S1<=last_year_vis","v":true},true,true,true,true,false,false,false,false,false,true,true,true,true,true,false,false,false,false,false]
[]
[]
[]
[null,null,null,null,null,null,null,null,null,null,null,null,{"$f":"tpl_title","v":"Кемеровская область / 2024 / ООО \"ТВК\" (ИНН:4202026697, КПП:420201001) / ДПР: 2024-2028"}]
[null,null,null,null,null,null,null,null,null,null,null,"16. Расшифровка по налогам и платежам"]
[]
[null,null,null,null,null,null,null,null,null,null,null,"№ п/п","Наименование показателя","Единица измерений",{"$f":"god-2 & \" год\"","v":"2022 год"},{"$f":"god-2 & \" год\"","v":"2022 год"},{"$f":"god-2 & \" год\"","v":"2022 год"},{"$f":"god-1 & \" год\"","v":"2023 год"},{"$f":"god & \" год\"","v":"2024 год"},{"$f":"god+1 & \" год\"","v":"2025 год"},{"$f":"god+2 & \" год\"","v":"2026 год"},{"$f":"god+3 & \" год\"","v":"2027 год"},{"$f":"god+4 & \" год\"","v":"2028 год"},{"$f":"god+5 & \" год\"","v":"2029 год"},{"$f":"god+6 & \" год\"","v":"2030 год"},{"$f":"god+7 & \" год\"","v":"2031 год"},{"$f":"god+8 & \" год\"","v":"2032 год"},{"$f":"god+9 & \" год\"","v":"2033 год"},{"$f":"god & \" год\"","v":"2024 год"},{"$f":"god+1 & \" год\"","v":"2025 год"},{"$f":"god+2 & \" год\"","v":"2026 год"},{"$f":"god+3 & \" год\"","v":"2027 год"},{"$f":"god+4 & \" год\"","v":"2028 год"},{"$f":"god+5 & \" год\"","v":"2029 год"},{"$f":"god+6 & \" год\"","v":"2030 год"},{"$f":"god+7 & \" год\"","v":"2031 год"},{"$f":"god+8 & \" год\"","v":"2032 год"},{"$f":"god+9 & \" год\"","v":"2033 год"},"Ссылка на правовую норму (основание для принятия показателя в расчет тарифа)"]
[null,null,null,null,null,null,null,null,null,null,null,null,null,null,"Принято органом регулирования","Факт по данным организации","Факт, принятый органом регулирования","Принято органом регулирования","Предложение организации","Предложение организации","Предложение организации","Предложение организации","Предложение организации","Предложение организации","Предложение организации","Предложение организации","Предложение организации","Предложение организации","Принято органом регулирования","Принято органом регулирования","Принято органом регулирования","Принято органом регулирования","Принято органом регулирования","Принято органом регулирования","Принято органом регулирования","Принято органом регулирования","Принято органом регулирования","Принято органом регулирования"]
[{"$f":"'Общие сведения'!$D$122","v":"1"},null,null,null,null,null,null,null,null,null,null,{"$f":"INDEX('Общие сведения'!$J$121:$J$148,MATCH($A16,'Общие сведения'!$D$121:$D$148,0))","v":"Тариф 1 (Водоснабжение) - тариф на питьевую воду"}]
[{"$f":"A16","v":"1"},"L0",null,null,null,null,null,null,null,null,null,0,"Налоги и платежи, относимые на указанный вид деятельности","тыс.руб.",{"$f":"SUM(O18:O26)","v":1.5},{"$f":"SUM(P18:P26)","v":1.5},1.5,1.496,1.496,0,0,0,0,0,0,0,0,0,1.496,1.496,1.496,1.496,1.496,0,0,0,0,0]
["1","L1",null,null,null,null,null,null,null,null,null,"1","Транспортный налог","тыс.руб.",1.5,1.5,1.5,1.496,1.496,null,null,null,null,null,null,null,null,null,1.496,1.496,1.496,1.496,1.496,null,null,null,null,null,"1) Глава 28 \"ТРАНСПОРТНЫЙ НАЛОГ\" \"Налогового кодекса Российской Федерации (Часть вторая)\" (ред. от 10.07.2023 № 318-ФЗ). 2) Закон Кемеровской области от 28.11.2002 N 95-ОЗ \"О транспортном налоге\". "]
["1","L2",null,null,null,null,null,null,null,null,null,"2","Земельный налог","тыс.руб."]
["1","L3",null,null,null,null,null,null,null,null,null,"3","Плата за негативное воздействие на окружающую среду","тыс.руб."]
["1","L4",null,null,null,null,null,null,null,null,null,4,"Водный налог","тыс.руб."]
["1","L5",null,null,null,null,null,null,null,null,null,"5","Плата за пользование водным объектом","тыс.руб."]
["1","L6",null,null,null,null,null,null,null,null,null,"6","Налог на имущество","тыс.руб."]
["1","L7",null,null,null,null,null,null,null,null,null,"7","Налог на прибыль","тыс.руб."]
["1","L8",null,null,null,null,null,null,null,null,null,"8","Единый налог при упрощенной системе налогообложения","тыс.руб."]
[{"$f":"A24","v":"1"},"L9",null,null,null,null,null,null,null,null,null,9,"Прочие налоги и сборы","тыс.руб.",{"$f":"SUM(O27:O28)","v":0},{"$f":"SUM(P27:P28)","v":0},0,0,0,0,0,0,0,0,0,0,0,0,0,0,0,0,0,0,0,0,0,0]
["1",null,null,null,null,null,null,null,null,null,null,"9.0"]
["1",{"$f":"A28&\"pIns\"","v":"1pIns"},null,null,null,null,null,null,null,null,null,null,"Добавить"]
[{"$f":"'Общие сведения'!$D$135","v":"2"},null,null,null,null,null,null,null,null,null,null,{"$f":"INDEX('Общие сведения'!$J$121:$J$148,MATCH($A29,'Общие сведения'!$D$121:$D$148,0))","v":"Тариф 2 (Водоотведение) - тариф на водоотведение"}]
[{"$f":"A29","v":"2"},"L0",null,null,null,null,null,null,null,null,null,0,"Налоги и платежи, относимые на указанный вид деятельности","тыс.руб.",{"$f":"SUM(O31:O39)","v":1.25},{"$f":"SUM(P31:P39)","v":0},0,1.26,7.11,2.46,0.12,0,0,0,0,0,0,0,0,0,0,0,0,0,0,0,0,0]
["2","L1",null,null,null,null,null,null,null,null,null,"1","Транспортный налог","тыс.руб.",1.25,null,null,1.26]
["2","L2",null,null,null,null,null,null,null,null,null,"2","Земельный налог","тыс.руб."]
["2","L3",null,null,null,null,null,null,null,null,null,"3","Плата за негативное воздействие на окружающую среду","тыс.руб."]
["2","L4",null,null,null,null,null,null,null,null,null,4,"Водный налог","тыс.руб."]
["2","L5",null,null,null,null,null,null,null,null,null,"5","Плата за пользование водным объектом","тыс.руб."]
["2","L6",null,null,null,null,null,null,null,null,null,"6","Налог на имущество","тыс.руб.",null,null,null,null,7.11,2.46,0.12,0,0,null,null,null,null,null,0,0,0,0,0,null,null,null,null,null,"1) Глава 30. \"НАЛОГ НА ИМУЩЕСТВО ОРГАНИЗАЦИЙ\"  \"Налогового кодекса Российской Федерации (Часть вторая)\" (ред. от 10.07.2023 № 318-ФЗ). 2) Письмо ФНС России от 25.11.2021 N БС-4-21/16452@ \"О критериях разграничения движимого и недвижимого имущества в целях применения главы 30 Налогового кодекса Российской Федерации\" 3) \"ОК 013-2014 (СНС 2008). Общероссийский классификатор основных фондов\" (введен Приказом Росстандарта от 12.12.2014 N 2018-ст) (ред. от 19.09.2023). "]
["2","L7",null,null,null,null,null,null,null,null,null,"7","Налог на прибыль","тыс.руб."]
["2","L8",null,null,null,null,null,null,null,null,null,"8","Единый налог при упрощенной системе налогообложения","тыс.руб."]
[{"$f":"A37","v":"2"},"L9",null,null,null,null,null,null,null,null,null,9,"Прочие налоги и сборы","тыс.руб.",{"$f":"SUM(O40:O41)","v":0},{"$f":"SUM(P40:P41)","v":0},0,0,0,0,0,0,0,0,0,0,0,0,0,0,0,0,0,0,0,0,0,0]
["2",null,null,null,null,null,null,null,null,null,null,"9.0"]
["2",{"$f":"A41&\"pIns\"","v":"2pIns"},null,null,null,null,null,null,null,null,null,null,"Добавить"]
[]
[null,null,null,null,null,null,null,null,null,null,null,"Комментарии и обоснования к разделу"]
[null,null,null,null,null,null,null,null,null,null,null,"ТРАНСПОРТНЫЙ НАЛОГ (\"ПИТЬЕВАЯ ВОДА\").  СПециалистом РЭК учтены  на 2024-2028 гг. суммы налога, исчисленные в отношении Экскаватора одноковшового (\"ку 05-81\") (закреплен за участком \"ВОДОЕМ-2\", см. \"Ведомость амортизации\" за 2022 год), согласно данным  представленного \"Сообщения об исчисленной налоговым органом сумме транспортного налога\"  № 3348851 от 20.04.2023."]
[null,null,null,null,null,null,null,null,null,null,"О ","НАЛОГ НА ИМУЩЕСТВО (\"ВОДООТВЕДЕНИЕ\").  Заявленные организацией суммы налога на имущество к учету не приняты, так как амортизируемые основные средства, закрепленные за участком \"ВИС\" (\"ОСВ\") - насосное оборудование и лабораторные весы -  не являются недвижимым имуществом."]
[null,null,null,null,null,null,null,null,null,null,null,"Добавить комментарий"]

{"sheet":"ИП + источники","index":26,"n_rows":92,"n_cols":41,"rows_kept":92,"cut":false,"hidden":false,"merged":[[13,11,13,12],[91,11,91,12],[15,40,16,40],[89,11,89,40],[90,11,90,40],[15,11,16,11],[15,12,16,12],[15,13,16,13]]}
[null,null,null,null,null,null,null,null,null,null,null,null,null,null,{"$f":"god-2","v":2022},{"$f":"god-2","v":2022},{"$f":"god-2","v":2022},{"$f":"god-2","v":2022},{"$f":"god-1","v":2023},{"$f":"god-1","v":2023},{"$f":"god","v":2024},{"$f":"god+1","v":2025},{"$f":"god+2","v":2026},{"$f":"god+3","v":2027},{"$f":"god+4","v":2028},{"$f":"god+5","v":2029},{"$f":"god+6","v":2030},{"$f":"god+7","v":2031},{"$f":"god+8","v":2032},{"$f":"god+9","v":2033},{"$f":"god","v":2024},{"$f":"god+1","v":2025},{"$f":"god+2","v":2026},{"$f":"god+3","v":2027},{"$f":"god+4","v":2028},{"$f":"god+5","v":2029},{"$f":"god+6","v":2030},{"$f":"god+7","v":2031},{"$f":"god+8","v":2032},{"$f":"god+9","v":2033}]
[null,null,null,null,null,null,null,null,null,null,null,null,null,null,{"$f":"O17","v":"Плановый размер финансирования ИП, установленной в установленном порядке"},{"$f":"P17","v":"Принято органом регулирования"},"Объем фактического ввода объектов системы водоснабжения и водоотведения в эксплуатацию по данным организации","Объем фактического ввода объектов системы водоснабжения и водоотведения в эксплуатацию, принятый органом регулирования","Плановый размер финансирования ИП, установленной в установленном порядке","Принято органом регулирования","Предложение организации","Предложение организации","Предложение организации","Предложение организации","Предложение организации","Предложение организации","Предложение организации","Предложение организации","Предложение организации","Предложение организации","Принято органом регулирования","Принято органом регулирования","Принято органом регулирования","Принято органом регулирования","Принято органом регулирования","Принято органом регулирования","Принято органом регулирования","Принято органом регулирования","Принято органом регулирования","Принято органом регулирования"]
[]
[]
[]
[]
[null,null,null,null,null,null,null,null,null,null,null,null,null,null,null,null,null,null,null,null,{"$f":"U1<=last_year_vis","v":true},true,true,true,true,false,false,false,false,false,true,true,true,true,true,false,false,false,false,false]
[]
[]
[]
[null,null,null,null,null,null,null,null,null,null,null,null,{"$f":"tpl_title","v":"Кемеровская область / 2024 / ООО \"ТВК\" (ИНН:4202026697, КПП:420201001) / ДПР: 2024-2028"}]
[null,null,null,null,null,null,null,null,null,null,null,"17. План и факт по источникам финансирования инвестиционной программы"]
[]
[null,null,null,null,null,null,null,null,null,null,null,"Заполняется в целом по организации в случае утверждения для такой организации единой инвестиционной программы по всем видам тарифов",null,{"$f":"\"нет\"","v":"нет"}]
[]
[null,null,null,null,null,null,null,null,null,null,null,"№ п/п","Источник финансирования, без НДС","Единица измерения",{"$f":"god-2 & \" год\"","v":"2022 год"},{"$f":"god-2 & \" год\"","v":"2022 год"},{"$f":"god-2 & \" год\"","v":"2022 год"},{"$f":"god-2 & \" год\"","v":"2022 год"},{"$f":"god-1 & \" год\"","v":"2023 год"},{"$f":"god-1 & \" год\"","v":"2023 год"},{"$f":"god & \" год\"","v":"2024 год"},{"$f":"god+1 & \" год\"","v":"2025 год"},{"$f":"god+2 & \" год\"","v":"2026 год"},{"$f":"god+3 & \" год\"","v":"2027 год"},{"$f":"god+4 & \" год\"","v":"2028 год"},{"$f":"god+5 & \" год\"","v":"2029 год"},{"$f":"god+6 & \" год\"","v":"2030 год"},{"$f":"god+7 & \" год\"","v":"2031 год"},{"$f":"god+8 & \" год\"","v":"2032 год"},{"$f":"god+9 & \" год\"","v":"2033 год"},{"$f":"god & \" год\"","v":"2024 год"},{"$f":"god+1 & \" год\"","v":"2025 год"},{"$f":"god+2 & \" год\"","v":"2026 год"},{"$f":"god+3 & \" год\"","v":"2027 год"},{"$f":"god+4 & \" год\"","v":"2028 год"},{"$f":"god+5 & \" год\"","v":"2029 год"},{"$f":"god+6 & \" год\"","v":"2030 год"},{"$f":"god+7 & \" год\"","v":"2031 год"},{"$f":"god+8 & \" год\"","v":"2032 год"},{"$f":"god+9 & \" год\"","v":"2033 год"},"Ссылка на правовую норму (основание для принятия показателя в расчет тарифа)"]
[null,null,null,null,null,null,null,null,null,null,null,null,null,null,"Плановый размер финансирования ИП, установленной в установленном порядке","Принято органом регулирования","Объем фактического ввода объектов системы водоснабжения и водоотведения в эксплуатацию по данным организации","Объем фактического ввода объектов системы водоснабжения и водоотведения в эксплуатацию, принятый органом регулирования","Плановый размер финансирования ИП, установленной в установленном порядке","Принято органом регулирования","Предложение организации","Предложение организации","Предложение организации","Предложение организации","Предложение организации","Предложение организации","Предложение организации","Предложение организации","Предложение организации","Предложение организации","Принято органом регулирования","Принято органом регулирования","Принято органом регулирования","Принято органом регулирования","Принято органом регулирования","Принято органом регулирования","Принято органом регулирования","Принято органом регулирования","Принято органом регулирования","Принято органом регулирования"]
[null,{"$f":"$N$14=\"да\"","v":false},"L1",null,null,null,null,null,null,null,null,1,"Источники финансирования инвестиционной программы, всего","тыс.руб.",{"$f":"O19+O24+O28+O32","v":0},{"$f":"P19+P24+P28+P32","v":0},0,0,0,0,0,0,0,0,0,0,0,0,0,0,0,0,0,0,0,0,0,0,0,0]
[null,{"$f":"$N$14=\"да\"","v":false},"L1_1",null,null,null,null,null,null,null,null,"1.1","Собственные средства","тыс.руб.",{"$f":"O20+O21+O22+O23","v":0},{"$f":"P20+P21+P22+P23","v":0},0,0,0,0,0,0,0,0,0,0,0,0,0,0,0,0,0,0,0,0,0,0,0,0]
[null,false,"L1_1_1",null,null,null,null,null,null,null,null,"1.1.1","Амортизационные отчисления","тыс.руб."]
[null,false,"L1_1_2",null,null,null,null,null,null,null,null,"1.1.2","Прибыль на капвложения","тыс.руб."]
[null,false,"L1_1_3",null,null,null,null,null,null,null,null,"1.1.3","Прочие собственные средства","тыс.руб."]
[null,false,"L1_1_4",null,null,null,null,null,null,null,null,"1.1.4","За счет платы за технологическое присоединение","тыс.руб."]
[null,false,"L1_2",null,null,null,null,null,null,null,null,"1.2","Привлеченные средства","тыс.руб.",{"$f":"O25+O26+O27","v":0},{"$f":"P25+P26+P27","v":0},0,0,0,0,0,0,0,0,0,0,0,0,0,0,0,0,0,0,0,0,0,0,0,0]
[null,false,"L1_2_1",null,null,null,null,null,null,null,null,"1.2.1","Кредиты","тыс.руб."]
[null,false,"L1_2_2",null,null,null,null,null,null,null,null,"1.2.2","Займы","тыс.руб."]
[null,false,"L1_2_3",null,null,null,null,null,null,null,null,"1.2.3","Прочие привлеченные средства","тыс.руб."]
[null,false,"L1_3",null,null,null,null,null,null,null,null,"1.3","Бюджетное финансирование","тыс.руб.",{"$f":"O29+O30+O31","v":0},{"$f":"P29+P30+P31","v":0},0,0,0,0,0,0,0,0,0,0,0,0,0,0,0,0,0,0,0,0,0,0,0,0]
[null,false,"L1_3_1",null,null,null,null,null,null,null,null,"1.3.1","Федеральный бюджет","тыс.руб."]
[null,false,"L1_3_2",null,null,null,null,null,null,null,null,"1.3.2","Бюджет субъекта РФ","тыс.руб."]
[null,false,"L1_3_3",null,null,null,null,null,null,null,null,"1.3.3","Бюджет муниципального образования","тыс.руб."]
[null,false,"L1_4",null,null,null,null,null,null,null,null,"1.4","Прочие источники финансирования","тыс.руб.",{"$f":"O33+O34+O35+O36","v":0},{"$f":"P33+P34+P35+P36","v":0},0,0,0,0,0,0,0,0,0,0,0,0,0,0,0,0,0,0,0,0,0,0,0,0]
[null,false,"L1_4_1",null,null,null,null,null,null,null,null,"1.4.1","Лизинг","тыс.руб."]
[null,false,"L1_4_2",null,null,null,null,null,null,null,null,"1.4.2","Доход от взимания платы за нарушение нормативов по объёму и (или) составу сточных вод","тыс.руб."]
[null,false,"L1_4_3",null,null,null,null,null,null,null,null,"1.4.3","Доход от взимания платы за негативное воздействие на работу централизованной системы водоотведения","тыс.руб."]
[null,false,"L1_4_4",null,null,null,null,null,null,null,null,"1.4.4","Прочие","тыс.руб."]
[null,false,"L2",null,null,null,null,null,null,null,null,"2","График возврата и обслуживания заемных средств из тарифной выручки","тыс.руб.",{"$f":"O38+O39+O40","v":0},{"$f":"P38+P39+P40","v":0},0,0,0,0,0,0,0,0,0,0,0,0,0,0,0,0,0,0,0,0,0,0,0,0]
[null,false,"L2_1",null,null,null,null,null,null,null,null,"2.1","погашение займов и кредитов из нормативной прибыли","тыс.руб."]
[null,false,"L2_2",null,null,null,null,null,null,null,null,"2.2","уплата процентов по кредитам из нормативной прибыли","тыс.руб."]
[null,false,"L2_3",null,null,null,null,null,null,null,null,"2.3","погашение займов и кредитов из амортизации","тыс.руб."]
[{"$f":"'Общие сведения'!$D$122","v":"1"},{"$f":"'ИП + источники'!$N$14<>\"да\"","v":true},null,null,null,null,null,null,null,null,null,{"$f":"INDEX('Общие сведения'!$J$121:$J$148,MATCH($A41,'Общие сведения'!$D$121:$D$148,0))","v":"Тариф 1 (Водоснабжение) - тариф на питьевую воду"}]
[{"$f":"A41","v":"1"},{"$f":"'ИП + источники'!$N$14<>\"да\"","v":true},"L1",null,null,null,null,null,null,null,null,1,"Источники финансирования инвестиционной программы, всего","тыс.руб.",{"$f":"O43+O48+O52+O56","v":0},{"$f":"P43+P48+P52+P56","v":0},0,0,0,0,0,0,0,0,0,0,0,0,0,0,0,0,0,0,0,0,0,0,0,0]
["1",{"$f":"'ИП + источники'!$N$14<>\"да\"","v":true},"L1_1",null,null,null,null,null,null,null,null,"1.1","Собственные средства","тыс.руб.",{"$f":"O44+O45+O46+O47","v":0},{"$f":"P44+P45+P46+P47","v":0},0,0,0,0,0,0,0,0,0,0,0,0,0,0,0,0,0,0,0,0,0,0,0,0]
["1",{"$f":"'ИП + источники'!$N$14<>\"да\"","v":true},"L1_1_1",null,null,null,null,null,null,null,null,"1.1.1","Амортизационные отчисления","тыс.руб."]
["1",{"$f":"'ИП + источники'!$N$14<>\"да\"","v":true},"L1_1_2",null,null,null,null,null,null,null,null,"1.1.2","Прибыль на капвложения","тыс.руб."]
["1",{"$f":"'ИП + источники'!$N$14<>\"да\"","v":true},"L1_1_3",null,null,null,null,null,null,null,null,"1.1.3","Прочие собственные средства","тыс.руб."]
["1",{"$f":"'ИП + источники'!$N$14<>\"да\"","v":true},"L1_1_4",null,null,null,null,null,null,null,null,"1.1.4","За счет платы за технологическое присоединение","тыс.руб."]
["1",{"$f":"'ИП + источники'!$N$14<>\"да\"","v":true},"L1_2",null,null,null,null,null,null,null,null,"1.2","Привлеченные средства","тыс.руб.",{"$f":"O49+O50+O51","v":0},{"$f":"P49+P50+P51","v":0},0,0,0,0,0,0,0,0,0,0,0,0,0,0,0,0,0,0,0,0,0,0,0,0]
["1",{"$f":"'ИП + источники'!$N$14<>\"да\"","v":true},"L1_2_1",null,null,null,null,null,null,null,null,"1.2.1","Кредиты","тыс.руб."]
["1",{"$f":"'ИП + источники'!$N$14<>\"да\"","v":true},"L1_2_2",null,null,null,null,null,null,null,null,"1.2.2","Займы","тыс.руб."]
["1",{"$f":"'ИП + источники'!$N$14<>\"да\"","v":true},"L1_2_3",null,null,null,null,null,null,null,null,"1.2.3","Прочие привлеченные средства","тыс.руб."]
["1",{"$f":"'ИП + источники'!$N$14<>\"да\"","v":true},"L1_3",null,null,null,null,null,null,null,null,"1.3","Бюджетное финансирование","тыс.руб.",{"$f":"O53+O54+O55","v":0},{"$f":"P53+P54+P55","v":0},0,0,0,0,0,0,0,0,0,0,0,0,0,0,0,0,0,0,0,0,0,0,0,0]
["1",{"$f":"'ИП + источники'!$N$14<>\"да\"","v":true},"L1_3_1",null,null,null,null,null,null,null,null,"1.3.1","Федеральный бюджет","тыс.руб."]
["1",{"$f":"'ИП + источники'!$N$14<>\"да\"","v":true},"L1_3_2",null,null,null,null,null,null,null,null,"1.3.2","Бюджет субъекта РФ","тыс.руб."]
["1",{"$f":"'ИП + источники'!$N$14<>\"да\"","v":true},"L1_3_3",null,null,null,null,null,null,null,null,"1.3.3","Бюджет муниципального образования","тыс.руб."]
["1",{"$f":"'ИП + источники'!$N$14<>\"да\"","v":true},"L1_4",null,null,null,null,null,null,null,null,"1.4","Прочие источники финансирования","тыс.руб.",{"$f":"O57+O58+O59+O60","v":0},{"$f":"P57+P58+P59+P60","v":0},0,0,0,0,0,0,0,0,0,0,0,0,0,0,0,0,0,0,0,0,0,0,0,0]
["1",{"$f":"'ИП + источники'!$N$14<>\"да\"","v":true},"L1_4_1",null,null,null,null,null,null,null,null,"1.4.1","Лизинг","тыс.руб."]
["1",{"$f":"'ИП + источники'!$N$14<>\"да\"","v":true},"L1_4_2",null,null,null,null,null,null,null,null,"1.4.2","Доход от взимания платы за нарушение нормативов по объёму и (или) составу сточных вод","тыс.руб."]
["1",{"$f":"'ИП + источники'!$N$14<>\"да\"","v":true},"L1_4_3",null,null,null,null,null,null,null,null,"1.4.3","Доход от взимания платы за негативное воздействие на работу централизованной системы водоотведения","тыс.руб."]
["1",{"$f":"'ИП + источники'!$N$14<>\"да\"","v":true},"L1_4_4",null,null,null,null,null,null,null,null,"1.4.4","Прочие","тыс.руб."]
["1",{"$f":"'ИП + источники'!$N$14<>\"да\"","v":true},"L2",null,null,null,null,null,null,null,null,"2","График возврата и обслуживания заемных средств из тарифной выручки","тыс.руб.",{"$f":"O62+O63+O64","v":0},{"$f":"P62+P63+P64","v":0},0,0,0,0,0,0,0,0,0,0,0,0,0,0,0,0,0,0,0,0,0,0,0,0]
["1",{"$f":"'ИП + источники'!$N$14<>\"да\"","v":true},"L2_1",null,null,null,null,null,null,null,null,"2.1","погашение займов и кредитов из нормативной прибыли","тыс.руб."]
["1",{"$f":"'ИП + источники'!$N$14<>\"да\"","v":true},"L2_2",null,null,null,null,null,null,null,null,"2.2","уплата процентов по кредитам из нормативной прибыли","тыс.руб."]
["1",{"$f":"'ИП + источники'!$N$14<>\"да\"","v":true},"L2_3",null,null,null,null,null,null,null,null,"2.3","погашение займов и кредитов из амортизации","тыс.руб."]
[{"$f":"'Общие сведения'!$D$135","v":"2"},{"$f":"'ИП + источники'!$N$14<>\"да\"","v":true},null,null,null,null,null,null,null,null,null,{"$f":"INDEX('Общие сведения'!$J$121:$J$148,MATCH($A65,'Общие сведения'!$D$121:$D$148,0))","v":"Тариф 2 (Водоотведение) - тариф на водоотведение"}]
[{"$f":"A65","v":"2"},{"$f":"'ИП + источники'!$N$14<>\"да\"","v":true},"L1",null,null,null,null,null,null,null,null,1,"Источники финансирования инвестиционной программы, всего","тыс.руб.",{"$f":"O67+O72+O76+O80","v":0},{"$f":"P67+P72+P76+P80","v":0},0,0,0,0,0,0,0,0,0,0,0,0,0,0,0,0,0,0,0,0,0,0,0,0]
["2",{"$f":"'ИП + источники'!$N$14<>\"да\"","v":true},"L1_1",null,null,null,null,null,null,null,null,"1.1","Собственные средства","тыс.руб.",{"$f":"O68+O69+O70+O71","v":0},{"$f":"P68+P69+P70+P71","v":0},0,0,0,0,0,0,0,0,0,0,0,0,0,0,0,0,0,0,0,0,0,0,0,0]
["2",{"$f":"'ИП + источники'!$N$14<>\"да\"","v":true},"L1_1_1",null,null,null,null,null,null,null,null,"1.1.1","Амортизационные отчисления","тыс.руб."]
["2",{"$f":"'ИП + источники'!$N$14<>\"да\"","v":true},"L1_1_2",null,null,null,null,null,null,null,null,"1.1.2","Прибыль на капвложения","тыс.руб."]
["2",{"$f":"'ИП + источники'!$N$14<>\"да\"","v":true},"L1_1_3",null,null,null,null,null,null,null,null,"1.1.3","Прочие собственные средства","тыс.руб."]
["2",{"$f":"'ИП + источники'!$N$14<>\"да\"","v":true},"L1_1_4",null,null,null,null,null,null,null,null,"1.1.4","За счет платы за технологическое присоединение","тыс.руб."]
["2",{"$f":"'ИП + источники'!$N$14<>\"да\"","v":true},"L1_2",null,null,null,null,null,null,null,null,"1.2","Привлеченные средства","тыс.руб.",{"$f":"O73+O74+O75","v":0},{"$f":"P73+P74+P75","v":0},0,0,0,0,0,0,0,0,0,0,0,0,0,0,0,0,0,0,0,0,0,0,0,0]
["2",{"$f":"'ИП + источники'!$N$14<>\"да\"","v":true},"L1_2_1",null,null,null,null,null,null,null,null,"1.2.1","Кредиты","тыс.руб."]
["2",{"$f":"'ИП + источники'!$N$14<>\"да\"","v":true},"L1_2_2",null,null,null,null,null,null,null,null,"1.2.2","Займы","тыс.руб."]
["2",{"$f":"'ИП + источники'!$N$14<>\"да\"","v":true},"L1_2_3",null,null,null,null,null,null,null,null,"1.2.3","Прочие привлеченные средства","тыс.руб."]
["2",{"$f":"'ИП + источники'!$N$14<>\"да\"","v":true},"L1_3",null,null,null,null,null,null,null,null,"1.3","Бюджетное финансирование","тыс.руб.",{"$f":"O77+O78+O79","v":0},{"$f":"P77+P78+P79","v":0},0,0,0,0,0,0,0,0,0,0,0,0,0,0,0,0,0,0,0,0,0,0,0,0]
["2",{"$f":"'ИП + источники'!$N$14<>\"да\"","v":true},"L1_3_1",null,null,null,null,null,null,null,null,"1.3.1","Федеральный бюджет","тыс.руб."]
["2",{"$f":"'ИП + источники'!$N$14<>\"да\"","v":true},"L1_3_2",null,null,null,null,null,null,null,null,"1.3.2","Бюджет субъекта РФ","тыс.руб."]
["2",{"$f":"'ИП + источники'!$N$14<>\"да\"","v":true},"L1_3_3",null,null,null,null,null,null,null,null,"1.3.3","Бюджет муниципального образования","тыс.руб."]
["2",{"$f":"'ИП + источники'!$N$14<>\"да\"","v":true},"L1_4",null,null,null,null,null,null,null,null,"1.4","Прочие источники финансирования","тыс.руб.",{"$f":"O81+O82+O83+O84","v":0},{"$f":"P81+P82+P83+P84","v":0},0,0,0,0,0,0,0,0,0,0,0,0,0,0,0,0,0,0,0,0,0,0,0,0]
["2",{"$f":"'ИП + источники'!$N$14<>\"да\"","v":true},"L1_4_1",null,null,null,null,null,null,null,null,"1.4.1","Лизинг","тыс.руб."]
["2",{"$f":"'ИП + источники'!$N$14<>\"да\"","v":true},"L1_4_2",null,null,null,null,null,null,null,null,"1.4.2","Доход от взимания платы за нарушение нормативов по объёму и (или) составу сточных вод","тыс.руб."]
["2",{"$f":"'ИП + источники'!$N$14<>\"да\"","v":true},"L1_4_3",null,null,null,null,null,null,null,null,"1.4.3","Доход от взимания платы за негативное воздействие на работу централизованной системы водоотведения","тыс.руб."]
["2",{"$f":"'ИП + источники'!$N$14<>\"да\"","v":true},"L1_4_4",null,null,null,null,null,null,null,null,"1.4.4","Прочие","тыс.руб."]
["2",{"$f":"'ИП + источники'!$N$14<>\"да\"","v":true},"L2",null,null,null,null,null,null,null,null,"2","График возврата и обслуживания заемных средств из тарифной выручки","тыс.руб.",{"$f":"O86+O87+O88","v":0},{"$f":"P86+P87+P88","v":0},0,0,0,0,0,0,0,0,0,0,0,0,0,0,0,0,0,0,0,0,0,0,0,0]
["2",{"$f":"'ИП + источники'!$N$14<>\"да\"","v":true},"L2_1",null,null,null,null,null,null,null,null,"2.1","погашение займов и кредитов из нормативной прибыли","тыс.руб."]
["2",{"$f":"'ИП + источники'!$N$14<>\"да\"","v":true},"L2_2",null,null,null,null,null,null,null,null,"2.2","уплата процентов по кредитам из нормативной прибыли","тыс.руб."]
["2",{"$f":"'ИП + источники'!$N$14<>\"да\"","v":true},"L2_3",null,null,null,null,null,null,null,null,"2.3","погашение займов и кредитов из амортизации","тыс.руб."]
[null,null,null,null,null,null,null,null,null,null,null,null,"* данные без НДС"]
[null,null,null,null,null,null,null,null,null,null,null,"Комментарии и обоснования к разделу"]
[]
[null,null,null,null,null,null,null,null,null,null,null,"Добавить комментарий"]

{"sheet":"Экономия_корр","index":27,"n_rows":35,"n_cols":35,"rows_kept":35,"cut":false,"hidden":false,"merged":[[34,11,34,12],[32,11,32,34],[33,11,33,34],[13,11,14,11],[13,12,14,12],[13,13,14,13],[13,34,14,34]]}
[null,null,null,null,null,null,null,null,null,null,null,null,null,null,{"$f":"god","v":2024},{"$f":"god+1","v":2025},{"$f":"god+2","v":2026},{"$f":"god+3","v":2027},{"$f":"god+4","v":2028},{"$f":"god+5","v":2029},{"$f":"god+6","v":2030},{"$f":"god+7","v":2031},{"$f":"god+8","v":2032},{"$f":"god+9","v":2033},{"$f":"god","v":2024},{"$f":"god+1","v":2025},{"$f":"god+2","v":2026},{"$f":"god+3","v":2027},{"$f":"god+4","v":2028},{"$f":"god+5","v":2029},{"$f":"god+6","v":2030},{"$f":"god+7","v":2031},{"$f":"god+8","v":2032},{"$f":"god+9","v":2033}]
[null,null,null,null,null,null,null,null,null,null,null,null,null,null,{"$f":"O15","v":"Предложения организации"},{"$f":"P15","v":"Предложения организации"},"Предложения организации","Предложения организации","Предложения организации","Предложения организации","Предложения организации","Предложения организации","Предложения организации","Предложения организации","Принято органом регулирования","Принято органом регулирования","Принято органом регулирования","Принято органом регулирования","Принято органом регулирования","Принято органом регулирования","Принято органом регулирования","Принято органом регулирования","Принято органом регулирования","Принято органом регулирования"]
[]
[]
[]
[]
[null,null,null,null,null,null,null,null,null,null,null,null,null,null,{"$f":"O1<=last_year_vis","v":true},true,true,true,true,false,false,false,false,false,true,true,true,true,true,false,false,false,false,false]
[]
[]
[]
[null,null,null,null,null,null,null,null,null,null,null,null,{"$f":"tpl_title","v":"Кемеровская область / 2024 / ООО \"ТВК\" (ИНН:4202026697, КПП:420201001) / ДПР: 2024-2028"}]
[null,null,null,null,null,null,null,null,null,null,null,"18. Расчет экономии средств, достигнутой в результате снижения расходов предыдущего долгосрочного периода регулирования"]
[]
[null,null,null,null,null,null,null,null,null,null,null,"№ п/п","Показатели","Единица измерения",{"$f":"god & \" год\"","v":"2024 год"},{"$f":"god+1 & \" год\"","v":"2025 год"},{"$f":"god+2 & \" год\"","v":"2026 год"},{"$f":"god+3 & \" год\"","v":"2027 год"},{"$f":"god+4 & \" год\"","v":"2028 год"},{"$f":"god+5 & \" год\"","v":"2029 год"},{"$f":"god+6 & \" год\"","v":"2030 год"},{"$f":"god+7 & \" год\"","v":"2031 год"},{"$f":"god+8 & \" год\"","v":"2032 год"},{"$f":"god+9 & \" год\"","v":"2033 год"},{"$f":"god & \" год\"","v":"2024 год"},{"$f":"god+1 & \" год\"","v":"2025 год"},{"$f":"god+2 & \" год\"","v":"2026 год"},{"$f":"god+3 & \" год\"","v":"2027 год"},{"$f":"god+4 & \" год\"","v":"2028 год"},{"$f":"god+5 & \" год\"","v":"2029 год"},{"$f":"god+6 & \" год\"","v":"2030 год"},{"$f":"god+7 & \" год\"","v":"2031 год"},{"$f":"god+8 & \" год\"","v":"2032 год"},{"$f":"god+9 & \" год\"","v":"2033 год"},"Ссылка на правовую норму (основание для принятия показателя в расчет тарифа)"]
[null,null,null,null,null,null,null,null,null,null,null,null,null,null,"Предложения организации","Предложения организации","Предложения организации","Предложения организации","Предложения организации","Предложения организации","Предложения организации","Предложения организации","Предложения организации","Предложения организации","Принято органом регулирования","Принято органом регулирования","Принято органом регулирования","Принято органом регулирования","Принято органом регулирования","Принято органом регулирования","Принято органом регулирования","Принято органом регулирования","Принято органом регулирования","Принято органом регулирования"]
[{"$f":"'Общие сведения'!$D$122","v":"1"},null,null,null,null,null,null,null,null,null,null,{"$f":"INDEX('Общие сведения'!$J$121:$J$148,MATCH($A16,'Общие сведения'!$D$121:$D$148,0))","v":"Тариф 1 (Водоснабжение) - тариф на питьевую воду"}]
[{"$f":"A16","v":"1"},"L1",null,null,null,null,null,null,null,null,null,"1","Экономия расходов всего","тыс.руб.",{"$f":"O18+O19+O20","v":0},0,0,0,0,0,0,0,0,0,0,0,0,0,0,0,0,0,0,0]
["1","L1_1",null,null,null,null,null,null,null,null,null,"1.1","Экономия операционных расходов","тыс.руб."]
["1","L1_2",null,null,null,null,null,null,null,null,null,"1.2","Экономия от снижения потребления электрической энергии (мощности)","тыс.руб."]
["1","L1_3",null,null,null,null,null,null,null,null,null,"1.3","Экономия от снижения потребления прочих энергетических ресурсов, холодной воды, теплоносителя","тыс.руб."]
["1","L2",null,null,null,null,null,null,null,null,null,"2","Значение индекса потребительских цен","%",{"$f":"SUMIFS(Сценарии!$T$15:$T$53,Сценарии!$A$15:$A$53,$A21,Сценарии!$M$15:$M$53,\"Индекс потребительских цен\")","v":0},{"$f":"SUMIFS(Сценарии!$Y$15:$Y$53,Сценарии!$A$15:$A$53,$A21,Сценарии!$M$15:$M$53,\"Индекс потребительских цен\")","v":4},{"$f":"SUMIFS(Сценарии!$AA$15:$AA$53,Сценарии!$A$15:$A$53,$A21,Сценарии!$M$15:$M$53,\"Индекс потребительских цен\")","v":4},{"$f":"SUMIFS(Сценарии!$AC$15:$AC$53,Сценарии!$A$15:$A$53,$A21,Сценарии!$M$15:$M$53,\"Индекс потребительских цен\")","v":4},{"$f":"SUMIFS(Сценарии!$AE$15:$AE$53,Сценарии!$A$15:$A$53,$A21,Сценарии!$M$15:$M$53,\"Индекс потребительских цен\")","v":4},{"$f":"SUMIFS(Сценарии!$AG$15:$AG$53,Сценарии!$A$15:$A$53,$A21,Сценарии!$M$15:$M$53,\"Индекс потребительских цен\")","v":0},{"$f":"SUMIFS(Сценарии!$AI$15:$AI$53,Сценарии!$A$15:$A$53,$A21,Сценарии!$M$15:$M$53,\"Индекс потребительских цен\")","v":0},{"$f":"SUMIFS(Сценарии!$AK$15:$AK$53,Сценарии!$A$15:$A$53,$A21,Сценарии!$M$15:$M$53,\"Индекс потребительских цен\")","v":0},{"$f":"SUMIFS(Сценарии!$AM$15:$AM$53,Сценарии!$A$15:$A$53,$A21,Сценарии!$M$15:$M$53,\"Индекс потребительских цен\")","v":0},{"$f":"SUMIFS(Сценарии!$AO$15:$AO$53,Сценарии!$A$15:$A$53,$A21,Сценарии!$M$15:$M$53,\"Индекс потребительских цен\")","v":0},{"$f":"SUMIFS(Сценарии!$U$15:$U$53,Сценарии!$A$15:$A$53,$A21,Сценарии!$M$15:$M$53,\"Индекс потребительских цен\")","v":7.2},{"$f":"SUMIFS(Сценарии!$Z$15:$Z$53,Сценарии!$A$15:$A$53,$A21,Сценарии!$M$15:$M$53,\"Индекс потребительских цен\")","v":4.2},{"$f":"SUMIFS(Сценарии!$AB$15:$AB$53,Сценарии!$A$15:$A$53,$A21,Сценарии!$M$15:$M$53,\"Индекс потребительских цен\")","v":4},{"$f":"SUMIFS(Сценарии!$AD$15:$AD$53,Сценарии!$A$15:$A$53,$A21,Сценарии!$M$15:$M$53,\"Индекс потребительских цен\")","v":4},{"$f":"SUMIFS(Сценарии!$AF$15:$AF$53,Сценарии!$A$15:$A$53,$A21,Сценарии!$M$15:$M$53,\"Индекс потребительских цен\")","v":4},{"$f":"SUMIFS(Сценарии!$AH$15:$AH$53,Сценарии!$A$15:$A$53,$A21,Сценарии!$M$15:$M$53,\"Индекс потребительских цен\")","v":0},{"$f":"SUMIFS(Сценарии!$AJ$15:$AJ$53,Сценарии!$A$15:$A$53,$A21,Сценарии!$M$15:$M$53,\"Индекс потребительских цен\")","v":0},{"$f":"SUMIFS(Сценарии!$AL$15:$AL$53,Сценарии!$A$15:$A$53,$A21,Сценарии!$M$15:$M$53,\"Индекс потребительских цен\")","v":0},{"$f":"SUMIFS(Сценарии!$AN$15:$AN$53,Сценарии!$A$15:$A$53,$A21,Сценарии!$M$15:$M$53,\"Индекс потребительских цен\")","v":0},{"$f":"SUMIFS(Сценарии!$AP$15:$AP$53,Сценарии!$A$15:$A$53,$A21,Сценарии!$M$15:$M$53,\"Индекс потребительских цен\")","v":0}]
["1","L3",null,null,null,null,null,null,null,null,null,3,"Кумулятивное значение индекса потребительских цен","%",{"$f":"O21","v":0},{"$f":"O22*P21/100","v":0},{"$f":"P22*Q21/100","v":0},0,0,0,0,0,0,0,0,0,0,0,0,0,0,0,0,0]
["1","L4",null,null,null,null,null,null,null,null,null,"4","Экономия расходов с учетом ИПЦ","тыс.руб.",{"$f":"O17*O22/100","v":0},{"$f":"P17*P22/100","v":0},0,0,0,0,0,0,0,0,0,0,0,0,0,0,0,0,0,0]
[{"$f":"'Общие сведения'!$D$135","v":"2"},null,null,null,null,null,null,null,null,null,null,{"$f":"INDEX('Общие сведения'!$J$121:$J$148,MATCH($A24,'Общие сведения'!$D$121:$D$148,0))","v":"Тариф 2 (Водоотведение) - тариф на водоотведение"}]
[{"$f":"A24","v":"2"},"L1",null,null,null,null,null,null,null,null,null,"1","Экономия расходов всего","тыс.руб.",{"$f":"O26+O27+O28","v":0},0,0,0,0,0,0,0,0,0,0,0,0,0,0,0,0,0,0,0]
["2","L1_1",null,null,null,null,null,null,null,null,null,"1.1","Экономия операционных расходов","тыс.руб."]
["2","L1_2",null,null,null,null,null,null,null,null,null,"1.2","Экономия от снижения потребления электрической энергии (мощности)","тыс.руб."]
["2","L1_3",null,null,null,null,null,null,null,null,null,"1.3","Экономия от снижения потребления прочих энергетических ресурсов, холодной воды, теплоносителя","тыс.руб."]
["2","L2",null,null,null,null,null,null,null,null,null,"2","Значение индекса потребительских цен","%",{"$f":"SUMIFS(Сценарии!$T$15:$T$53,Сценарии!$A$15:$A$53,$A29,Сценарии!$M$15:$M$53,\"Индекс потребительских цен\")","v":0},{"$f":"SUMIFS(Сценарии!$Y$15:$Y$53,Сценарии!$A$15:$A$53,$A29,Сценарии!$M$15:$M$53,\"Индекс потребительских цен\")","v":4},{"$f":"SUMIFS(Сценарии!$AA$15:$AA$53,Сценарии!$A$15:$A$53,$A29,Сценарии!$M$15:$M$53,\"Индекс потребительских цен\")","v":4},{"$f":"SUMIFS(Сценарии!$AC$15:$AC$53,Сценарии!$A$15:$A$53,$A29,Сценарии!$M$15:$M$53,\"Индекс потребительских цен\")","v":4},{"$f":"SUMIFS(Сценарии!$AE$15:$AE$53,Сценарии!$A$15:$A$53,$A29,Сценарии!$M$15:$M$53,\"Индекс потребительских цен\")","v":4},{"$f":"SUMIFS(Сценарии!$AG$15:$AG$53,Сценарии!$A$15:$A$53,$A29,Сценарии!$M$15:$M$53,\"Индекс потребительских цен\")","v":0},{"$f":"SUMIFS(Сценарии!$AI$15:$AI$53,Сценарии!$A$15:$A$53,$A29,Сценарии!$M$15:$M$53,\"Индекс потребительских цен\")","v":0},{"$f":"SUMIFS(Сценарии!$AK$15:$AK$53,Сценарии!$A$15:$A$53,$A29,Сценарии!$M$15:$M$53,\"Индекс потребительских цен\")","v":0},{"$f":"SUMIFS(Сценарии!$AM$15:$AM$53,Сценарии!$A$15:$A$53,$A29,Сценарии!$M$15:$M$53,\"Индекс потребительских цен\")","v":0},{"$f":"SUMIFS(Сценарии!$AO$15:$AO$53,Сценарии!$A$15:$A$53,$A29,Сценарии!$M$15:$M$53,\"Индекс потребительских цен\")","v":0},{"$f":"SUMIFS(Сценарии!$U$15:$U$53,Сценарии!$A$15:$A$53,$A29,Сценарии!$M$15:$M$53,\"Индекс потребительских цен\")","v":7.2},{"$f":"SUMIFS(Сценарии!$Z$15:$Z$53,Сценарии!$A$15:$A$53,$A29,Сценарии!$M$15:$M$53,\"Индекс потребительских цен\")","v":4.2},{"$f":"SUMIFS(Сценарии!$AB$15:$AB$53,Сценарии!$A$15:$A$53,$A29,Сценарии!$M$15:$M$53,\"Индекс потребительских цен\")","v":4},{"$f":"SUMIFS(Сценарии!$AD$15:$AD$53,Сценарии!$A$15:$A$53,$A29,Сценарии!$M$15:$M$53,\"Индекс потребительских цен\")","v":4},{"$f":"SUMIFS(Сценарии!$AF$15:$AF$53,Сценарии!$A$15:$A$53,$A29,Сценарии!$M$15:$M$53,\"Индекс потребительских цен\")","v":4},{"$f":"SUMIFS(Сценарии!$AH$15:$AH$53,Сценарии!$A$15:$A$53,$A29,Сценарии!$M$15:$M$53,\"Индекс потребительских цен\")","v":0},{"$f":"SUMIFS(Сценарии!$AJ$15:$AJ$53,Сценарии!$A$15:$A$53,$A29,Сценарии!$M$15:$M$53,\"Индекс потребительских цен\")","v":0},{"$f":"SUMIFS(Сценарии!$AL$15:$AL$53,Сценарии!$A$15:$A$53,$A29,Сценарии!$M$15:$M$53,\"Индекс потребительских цен\")","v":0},{"$f":"SUMIFS(Сценарии!$AN$15:$AN$53,Сценарии!$A$15:$A$53,$A29,Сценарии!$M$15:$M$53,\"Индекс потребительских цен\")","v":0},{"$f":"SUMIFS(Сценарии!$AP$15:$AP$53,Сценарии!$A$15:$A$53,$A29,Сценарии!$M$15:$M$53,\"Индекс потребительских цен\")","v":0}]
["2","L3",null,null,null,null,null,null,null,null,null,3,"Кумулятивное значение индекса потребительских цен","%",{"$f":"O29","v":0},{"$f":"O30*P29/100","v":0},{"$f":"P30*Q29/100","v":0},0,0,0,0,0,0,0,0,0,0,0,0,0,0,0,0,0]
["2","L4",null,null,null,null,null,null,null,null,null,"4","Экономия расходов с учетом ИПЦ","тыс.руб.",{"$f":"O25*O30/100","v":0},{"$f":"P25*P30/100","v":0},0,0,0,0,0,0,0,0,0,0,0,0,0,0,0,0,0,0]
[]
[null,null,null,null,null,null,null,null,null,null,null,"Комментарии и обоснования к разделу"]
[]
[null,null,null,null,null,null,null,null,null,null,null,"Добавить комментарий"]

{"sheet":"Плата за негативное возд","index":28,"n_rows":22,"n_cols":22,"rows_kept":22,"cut":false,"hidden":false,"merged":[[19,11,19,21],[20,11,20,21],[21,11,21,12]]}
[]
[]
[]
[]
[]
[]
[]
[]
[]
[]
[]
[null,null,null,null,null,null,null,null,null,null,null,"19. Плата за негативное воздействие на работу централизованных систем водоотведения (принято органом регулирования)"]
[]
[null,null,null,null,null,null,null,null,null,null,null,"№","Показатели","Единица измерения","Начислено в соответствии с пунктом 26(1) Основ ценообразования в сфере водоснабжения и водоотведения","Направлено на внесение платы за негативное воздействие на окружающую среду","Направлено на компенсацию вреда, причиненного водному объекту","Предусмотрено на финансирование мероприятий инвестиционной программы по строительству, реконструкции и модернизации объектов централизованной системы водоотведения","Предусмотрено на финансирование мероприятий производственной программы регулируемой организации","Направлено на возврат займов и кредитов, в том числе процентов по займам и кредитам, привлекаемым на реализацию производственной программы и (или) инвестиционной программы (не более 50% от начисленной платы за негативное воздействие на работу ЦСВ)","Налог на прибыль","Подлежит к исключению"]
[{"$f":"'Общие сведения'!$D$135","v":"2"},null,null,null,null,null,null,null,null,null,null,{"$f":"INDEX('Общие сведения'!$J$121:$J$148,MATCH($A15,'Общие сведения'!$D$121:$D$148,0))","v":"Тариф 2 (Водоотведение) - тариф на водоотведение"},null,null,{"$f":"O16+O17","v":0},0,0,0,0,0,0,0]
[{"$f":"A15","v":"2"},"L1",null,null,null,null,null,null,null,null,null,"1","Доходы регулируемой организации от взимания платы за нарушение нормативов по объёму и (или) составу сточных вод","тыс.руб.",null,null,null,null,null,null,null,{"$f":"O16-P16-Q16-R16-S16-T16-U16","v":0}]
[{"$f":"A16","v":"2"},"L2",null,null,null,null,null,null,null,null,null,"2","Доходы от взимания платы за негативное воздействие на работу централизованной системы водоотведения","тыс.руб.",null,null,null,null,null,null,null,{"$f":"O17-P17-Q17-R17-S17-T17-U17","v":0}]
[]
[]
[null,null,null,null,null,null,null,null,null,null,null,"Комментарии и обоснования к разделу"]
[]
[null,null,null,null,null,null,null,null,null,null,null,"Добавить комментарий"]

{"sheet":"Корректировка НВВ","index":29,"n_rows":107,"n_cols":18,"rows_kept":107,"cut":false,"hidden":false,"merged":[[106,11,106,12],[13,17,14,17],[13,11,14,11],[13,12,14,12],[13,13,14,13],[13,14,14,14],[104,11,104,17],[105,11,105,17]]}
[null,null,null,null,null,null,null,null,null,null,null,null,null,null,null,{"$f":"god-2","v":2022},{"$f":"god-2","v":2022}]
[null,null,null,null,null,null,null,null,null,null,null,null,null,null,null,{"$f":"P15","v":"Факт по данным организации"},{"$f":"Q15","v":"Принято органом регулирования"}]
[]
[]
[]
[]
[]
[]
[]
[]
[null,null,null,null,null,null,null,null,null,null,null,null,{"$f":"tpl_title","v":"Кемеровская область / 2024 / ООО \"ТВК\" (ИНН:4202026697, КПП:420201001) / ДПР: 2024-2028"}]
[null,null,null,null,null,null,null,null,null,null,null,"20. Расчет показателей корректировки необходимой валовой выручки"]
[]
[null,null,null,null,null,null,null,null,null,null,null,"№ п/п","Наименование показателя","Условное обозначение","Единица измерений",{"$f":"god-2 & \" год\"","v":"2022 год"},{"$f":"god-2 & \" год\"","v":"2022 год"},"Комментарии"]
[null,null,null,null,null,null,null,null,null,null,null,null,null,null,null,"Факт по данным организации","Принято органом регулирования"]
[{"$f":"'Общие сведения'!$D$122","v":"1"},{"$f":"INDEX('Общие сведения'!$H$121:$H$148,MATCH($A16,'Общие сведения'!$D$121:$D$148,0))","v":"Водоснабжение"},null,null,null,null,null,null,null,null,null,{"$f":"INDEX('Общие сведения'!$J$121:$J$148,MATCH($A16,'Общие сведения'!$D$121:$D$148,0))","v":"Тариф 1 (Водоснабжение) - тариф на питьевую воду"}]
[{"$f":"A16","v":"1"},null,null,"L1",null,null,null,null,null,null,null,"I","Расчет размера корректировки необходимой валовой выручки по результатам деятельности прошлых периодов регулирования, а также осуществляемой с целью учета отклонения фактических значений параметров расчета тарифов от значений, учтенных при установлении","ΔHBBKi-2","тыс.руб.",{"$f":"P19-P18","v":0},{"$f":"Q19-Q18","v":0}]
[{"$f":"A17","v":"1"},null,null,"L1_1",null,null,null,null,null,null,null,"1","Товарная выручка","ТВФi-2","тыс.руб."]
["1",null,null,"L1_2",null,null,null,null,null,null,null,"2","Скорректированная фактическая величина необходимой валовой выручки","HBBФi-2","тыс.руб.",{"$f":"P20+P21+P33+P37+P38+P39+P40+P44","v":0},{"$f":"Q20+Q21+Q33+Q37+Q38+Q39+Q40+Q44","v":0}]
["1",null,null,"L1_2_1",null,null,null,null,null,null,null,"2.1","Операционные расходы, определенные на (i-2)-й год исходя из фактических значений параметров расчета тарифов","ОРФi-2","тыс.руб."]
["1",null,null,"L1_2_2",null,null,null,null,null,null,null,"2.2","фактические документально подтвержденные неподконтрольные расходы, в том числе:","Н РФi-2","тыс.руб.",{"$f":"SUM(P22:P32)","v":0},{"$f":"SUM(Q22:Q32)","v":0}]
["1",null,null,"L1_2_2_1",null,null,null,null,null,null,null,"2.2.1","расходы на оплату товаров (услуг, работ), приобретаемых у других организаций, осуществляющих регулируемые виды деятельности;",null,"тыс.руб.",{"$f":"SUMIFS(Покупка!P$15:P$54,Покупка!$A$15:$A$54,$A22,Покупка!$B$15:$B$54,\"Итого\")","v":0},{"$f":"SUMIFS(Покупка!Q$15:Q$54,Покупка!$A$15:$A$54,$A22,Покупка!$B$15:$B$54,\"Итого\")","v":0}]
["1",null,null,"L1_2_2_2",null,null,null,null,null,null,null,"2.2.2","расходы на реагенты",null,"тыс.руб.",null,{"$f":"SUMIFS(Реагенты!Q$15:Q$29,Реагенты!$A$15:$A$29,$A23,Реагенты!$M$15:$M$29,\"Всего по тарифу\")","v":0}]
["1",null,null,"L1_2_2_3",null,null,null,null,null,null,null,"2.2.3","расходы на уплату налогов, сборов и других обязательных платежей",null,"тыс.руб."]
["1","Расходы на мероприятия по защите централизованных систем водоснабжения",null,"L1_2_2_4",null,null,null,null,null,null,null,"2.2.4","Расходы на мероприятия по защите централизованных систем водоснабжения и (или) водоотведения и их отдельных объектов от угроз техногенного, природного характера и террористических актов, по предотвращению возникновения аварийных ситуаций, снижению риска и смягчению последствий чрезвычайных ситуаций (за исключением мероприятий, включенных в инвестиционную программу)",null,"тыс.руб."]
["1","Арендная и концессионная плата, лизинговые платежи",null,"L1_2_2_5",null,null,null,null,null,null,null,"2.2.5","расходы на арендную и концессионную плату, лизинговые платежи",null,"тыс.руб."]
["1","резерв по сомнительным долгам гарантирующей организации",null,"L1_2_2_6",null,null,null,null,null,null,null,"2.2.6","расходы по сомнительным долгам для гарантирующей организации",null,"тыс.руб."]
["1","Экономия расходов",null,"L1_2_2_7",null,null,null,null,null,null,null,"2.2.7","экономия средств, достигнутая в результате снижения расходов предыдущего долгосрочного периода регулирования",null,"тыс.руб."]
["1","Расходы на обслуживание бесхозяйных сетей",null,"L1_2_2_8",null,null,null,null,null,null,null,"2.2.8","расходы на обслуживание бесхозяйных сетей, эксплуатируемых регулируемой организацией",null,"тыс.руб."]
["1","Расходы на компенсацию экономически обоснованных расходов",null,"L1_2_2_9",null,null,null,null,null,null,null,"2.2.9","расходы на компенсацию экономически обоснованных расходов (выпадающих доходов прошлых периодов)",null,"тыс.руб."]
["1","Займы и кредиты (для метода индексации)",null,"L1_2_2_10",null,null,null,null,null,null,null,"2.2.10","расходы на займы и кредиты (для метода индексации)",null,"тыс.руб."]
["1","Расходы концессионера на осуществление государственного кадастрового учета",null,"L1_2_2_11",null,null,null,null,null,null,null,"2.2.11","расходы концессионера на осуществление государственного кадастрового учета и (или) государственной регистрации права собственности концедента",null,"тыс.руб."]
["1",null,null,"L1_2_3",null,null,null,null,null,null,null,"2.3","расходы на электрическую энергию","РТФi-2","тыс.руб."]
["1",null,null,"L1_2_3_1",null,null,null,null,null,null,null,"2.3.1","удельное потребление электрической энергии, установленное на соответствующий год","УПЭФi-2","кВтч/куб.м."]
["1",null,null,"L1_2_3_2",null,null,null,null,null,null,null,"2.3.2","фактический объём поданной воды (принятых сточных вод)","Q ф i-2","тыс.куб.м."]
["1",null,null,"L1_2_3_3",null,null,null,null,null,null,null,"2.3.3","фактическая (расчетная) цена на электрическую энергию, определяемая в i-2 году","ЦТ ф i-2","руб./кВтч"]
["1","амортизация",null,"L1_2_4",null,null,null,null,null,null,null,"2.4","расходы на амортизацию в (i-2)-м году, определенные исходя из фактического состава имущества в (i-2)-м году","АФi-2","тыс.руб."]
["1",null,null,"L1_2_5",null,null,null,null,null,null,null,"2.5","величина нормативной прибыли","ПРi-2","тыс.руб."]
["1","Расчетная предпринимательская прибыль гарантирующей организации",null,"L1_2_6",null,null,null,null,null,null,null,"2.6","расчетная предпринимательская прибыль гарантирующей организации","ПРГО Фi-2","тыс.руб."]
["1",null,null,"L1_2_7_0",null,null,null,null,null,null,null,"2.7","размер корректировки необходимой валовой выручки, учтенной при регулирования на год i-2",null,"тыс.руб."]
["1",null,null,"L1_2_7",null,null,null,null,null,null,null,"2.7.1","величина отклонения показателя ввода объектов системы водоснабжения и (или) водоотведения в эксплуатацию и изменения инвестиционной программы","ΔИi-4","тыс.руб."]
["1",null,null,"L1_2_8",null,null,null,null,null,null,null,"2.7.2","степень исполнения регулируемой организацией производственной программы","ΔЦПi-4","тыс.руб."]
["1",null,null,"L1_2_10",null,null,null,null,null,null,null,"2.7.3","размер корректировки необходимой валовой выручки по результатам деятельности прошлых периодов регулирования, а также осуществляемой с целью учета отклонения фактических значений параметров расчета тарифов от значений, учтенных при установлении","ΔHBBKi-4","тыс.руб."]
["1",null,null,"L1_2_9",null,null,null,null,null,null,null,"2.9","величина изменения необходимой валовой выручки в году i-2, проводимого в целях сглаживания"," ΔHBBСi-2","тыс.руб."]
["1",null,null,"L2",null,null,null,null,null,null,null,"II","Расчет размера корректировки необходимой валовой выручки, в случае если на i-2 год применялся метод экономически обоснованных расходов","ΔHBBKi-2","тыс.руб.",{"$f":"P46","v":0},{"$f":"Q46","v":0}]
["1",null,null,"L2_1",null,null,null,null,null,null,null,"1","Величина, определяющая результаты деятельности регулируемой организации до перехода к регулированию цен (тарифов) на основе долгосрочных параметров регулирования","ΔРЕЗi-2","тыс.руб.",{"$f":"P47+P48","v":0},{"$f":"Q47+Q48","v":0}]
["1",null,null,"L2_1_1",null,null,null,null,null,null,null,"1.1","экономически обоснованные расходы регулируемой организации, понесенные в периоды регулирования, предшествовавшие переходу к регулированию цен (тарифов) на основе долгосрочных параметров регулирования и не возмещенные регулируемой организации (не учтенные в тарифах)","ΔРЕЗ+i-2","тыс.руб."]
["1",null,null,"L2_1_2",null,null,null,null,null,null,null,"1.2","доходы регулируемой организации, необоснованно полученные в периоды регулирования, предшествовавшие переходу к регулированию цен (тарифов) на основе долгосрочных параметров регулирования","ΔРЕЗ-i-2","тыс.руб."]
["1",null,null,"L3",null,null,null,null,null,null,null,"III","Величина отклонения показателя ввода объектов системы водоснабжения и (или) водоотведения в эксплуатацию и изменения инвестиционной программы","ΔИi-2","тыс.руб."]
["1",null,null,"L4",null,null,null,null,null,null,null,"IV","Степень исполнения регулируемой организацией обязательств по созданию и (или) реконструкции объектов концессионного соглашения, по эксплуатации объектов по договору аренды централизованных систем горячего водоснабжения, холодного водоснабжения и (или) водоотведения, отдельных объектов таких систем, находящихся в государственной или муниципальной собственности, по реализации инвестиционной программы, производственной программы при недостижении регулируемой организацией утверждённых плановых значений показателей надежности и качества объектов централизованных систем водоснабжения и (или) водоотведения (корректировка по показателям надежности и качества)","ΔЦПi-2","тыс.руб."]
["1",null,{"$f":"B16=\"Водоотведение\"","v":false},"L5",null,null,null,null,null,null,null,"V","Доходы от взимания платы за нарушение нормативов по объёму и (или) составу сточных вод, за исключением направленных целевым образом на внесение платы за негативное воздействие на окружающую среду, компенсацию вреда, причиненного водному объекту, и финансирование мероприятий инвестиционной программы по строительству, реконструкции и модернизации объектов централизованной системы водоотведения (в соответствии с п.14 Методических указаний)",null,"тыс.руб.",null,{"$f":"IFERROR(SUMIFS('Плата за негативное возд'!$V$14:$V$18,'Плата за негативное возд'!$A$14:$A$18,A51,'Плата за негативное возд'!$L$14:$L$18,\"1\"),0)","v":0}]
["1",null,{"$f":"B16=\"Водоотведение\"","v":false},"L6",null,null,null,null,null,null,null,"VI","Доходы от взимания платы за негативное воздействие на централизованную систему водоотведения, за исключением направленных целевым образом на финансирование мероприятий инвестиционной и (или) производственной программы регулируемой организации (в соответствии с п.14 Методических указаний)",null,"тыс.руб.",null,{"$f":"IFERROR(SUMIFS('Плата за негативное возд'!$V$14:$V$18,'Плата за негативное возд'!$A$14:$A$18,A52,'Плата за негативное возд'!$L$14:$L$18,\"2\"),0)","v":0}]
["1",null,null,"L7",null,null,null,null,null,null,null,"VII","Недополученные доходы / Выпадающие расходы",null,"тыс.руб."]
["1",null,null,"L8",null,null,null,null,null,null,null,"VIII","Избыток средств, полученный за отчётные периоды регулирования",null,"тыс.руб.",{"$f":"P55+P56","v":0},{"$f":"Q55+Q56","v":0}]
["1",null,null,"L8_1",null,null,null,null,null,null,null,1,"Экономически не обоснованные доходы / расходы прошлых периодов регулирования",null,"тыс.руб."]
["1",null,null,"L8_2",null,null,null,null,null,null,null,2,"Бюджетные субсидии, полученные на финансирование расходов, учтенных в тарифах",null,"тыс.руб."]
["1",null,null,"L9",null,null,null,null,null,null,null,"IX","Величина отклонения по результатам досудебного рассмотрения споров",null,"тыс.руб."]
["1",null,null,"L10",null,null,null,null,null,null,null,"X","Величина отклонения по результатам рассмотрения разногласий",null,"тыс.руб."]
["1",null,null,"L11",null,null,null,null,null,null,null,"XI","Корректировка НВВ всего",null,"тыс.руб.",{"$f":"P17+P49+P50+P51+P52+P53+P54+P57+P58","v":0},{"$f":"Q17+Q49+Q50+Q51+Q52+Q53+Q54+Q57+Q58","v":0}]
[{"$f":"'Общие сведения'!$D$135","v":"2"},{"$f":"INDEX('Общие сведения'!$H$121:$H$148,MATCH($A60,'Общие сведения'!$D$121:$D$148,0))","v":"Водоотведение"},null,null,null,null,null,null,null,null,null,{"$f":"INDEX('Общие сведения'!$J$121:$J$148,MATCH($A60,'Общие сведения'!$D$121:$D$148,0))","v":"Тариф 2 (Водоотведение) - тариф на водоотведение"}]
[{"$f":"A60","v":"2"},null,null,"L1",null,null,null,null,null,null,null,"I","Расчет размера корректировки необходимой валовой выручки по результатам деятельности прошлых периодов регулирования, а также осуществляемой с целью учета отклонения фактических значений параметров расчета тарифов от значений, учтенных при установлении","ΔHBBKi-2","тыс.руб.",{"$f":"P63-P62","v":0},{"$f":"Q63-Q62","v":0}]
[{"$f":"A61","v":"2"},null,null,"L1_1",null,null,null,null,null,null,null,"1","Товарная выручка","ТВФi-2","тыс.руб."]
["2",null,null,"L1_2",null,null,null,null,null,null,null,"2","Скорректированная фактическая величина необходимой валовой выручки","HBBФi-2","тыс.руб.",{"$f":"P64+P65+P77+P81+P82+P83+P84+P88","v":0},{"$f":"Q64+Q65+Q77+Q81+Q82+Q83+Q84+Q88","v":0}]
["2",null,null,"L1_2_1",null,null,null,null,null,null,null,"2.1","Операционные расходы, определенные на (i-2)-й год исходя из фактических значений параметров расчета тарифов","ОРФi-2","тыс.руб."]
["2",null,null,"L1_2_2",null,null,null,null,null,null,null,"2.2","фактические документально подтвержденные неподконтрольные расходы, в том числе:","Н РФi-2","тыс.руб.",{"$f":"SUM(P66:P76)","v":0},{"$f":"SUM(Q66:Q76)","v":0}]
["2",null,null,"L1_2_2_1",null,null,null,null,null,null,null,"2.2.1","расходы на оплату товаров (услуг, работ), приобретаемых у других организаций, осуществляющих регулируемые виды деятельности;",null,"тыс.руб."]
["2",null,null,"L1_2_2_2",null,null,null,null,null,null,null,"2.2.2","расходы на реагенты",null,"тыс.руб."]
["2",null,null,"L1_2_2_3",null,null,null,null,null,null,null,"2.2.3","расходы на уплату налогов, сборов и других обязательных платежей",null,"тыс.руб."]
["2","Расходы на мероприятия по защите централизованных систем водоснабжения",null,"L1_2_2_4",null,null,null,null,null,null,null,"2.2.4","Расходы на мероприятия по защите централизованных систем водоснабжения и (или) водоотведения и их отдельных объектов от угроз техногенного, природного характера и террористических актов, по предотвращению возникновения аварийных ситуаций, снижению риска и смягчению последствий чрезвычайных ситуаций (за исключением мероприятий, включенных в инвестиционную программу)",null,"тыс.руб."]
["2","Арендная и концессионная плата, лизинговые платежи",null,"L1_2_2_5",null,null,null,null,null,null,null,"2.2.5","расходы на арендную и концессионную плату, лизинговые платежи",null,"тыс.руб."]
["2","резерв по сомнительным долгам гарантирующей организации",null,"L1_2_2_6",null,null,null,null,null,null,null,"2.2.6","расходы по сомнительным долгам для гарантирующей организации",null,"тыс.руб."]
["2","Экономия расходов",null,"L1_2_2_7",null,null,null,null,null,null,null,"2.2.7","экономия средств, достигнутая в результате снижения расходов предыдущего долгосрочного периода регулирования",null,"тыс.руб."]
["2","Расходы на обслуживание бесхозяйных сетей",null,"L1_2_2_8",null,null,null,null,null,null,null,"2.2.8","расходы на обслуживание бесхозяйных сетей, эксплуатируемых регулируемой организацией",null,"тыс.руб."]
["2","Расходы на компенсацию экономически обоснованных расходов",null,"L1_2_2_9",null,null,null,null,null,null,null,"2.2.9","расходы на компенсацию экономически обоснованных расходов (выпадающих доходов прошлых периодов)",null,"тыс.руб."]
["2","Займы и кредиты (для метода индексации)",null,"L1_2_2_10",null,null,null,null,null,null,null,"2.2.10","расходы на займы и кредиты (для метода индексации)",null,"тыс.руб."]
["2","Расходы концессионера на осуществление государственного кадастрового учета",null,"L1_2_2_11",null,null,null,null,null,null,null,"2.2.11","расходы концессионера на осуществление государственного кадастрового учета и (или) государственной регистрации права собственности концедента",null,"тыс.руб."]
["2",null,null,"L1_2_3",null,null,null,null,null,null,null,"2.3","расходы на электрическую энергию","РТФi-2","тыс.руб."]
["2",null,null,"L1_2_3_1",null,null,null,null,null,null,null,"2.3.1","удельное потребление электрической энергии, установленное на соответствующий год","УПЭФi-2","кВтч/куб.м."]
["2",null,null,"L1_2_3_2",null,null,null,null,null,null,null,"2.3.2","фактический объём поданной воды (принятых сточных вод)","Q ф i-2","тыс.куб.м."]
["2",null,null,"L1_2_3_3",null,null,null,null,null,null,null,"2.3.3","фактическая (расчетная) цена на электрическую энергию, определяемая в i-2 году","ЦТ ф i-2","руб./кВтч"]
["2","амортизация",null,"L1_2_4",null,null,null,null,null,null,null,"2.4","расходы на амортизацию в (i-2)-м году, определенные исходя из фактического состава имущества в (i-2)-м году","АФi-2","тыс.руб."]
["2",null,null,"L1_2_5",null,null,null,null,null,null,null,"2.5","величина нормативной прибыли","ПРi-2","тыс.руб."]
["2","Расчетная предпринимательская прибыль гарантирующей организации",null,"L1_2_6",null,null,null,null,null,null,null,"2.6","расчетная предпринимательская прибыль гарантирующей организации","ПРГО Фi-2","тыс.руб."]
["2",null,null,"L1_2_7_0",null,null,null,null,null,null,null,"2.7","размер корректировки необходимой валовой выручки, учтенной при регулирования на год i-2",null,"тыс.руб."]
["2",null,null,"L1_2_7",null,null,null,null,null,null,null,"2.7.1","величина отклонения показателя ввода объектов системы водоснабжения и (или) водоотведения в эксплуатацию и изменения инвестиционной программы","ΔИi-4","тыс.руб."]
["2",null,null,"L1_2_8",null,null,null,null,null,null,null,"2.7.2","степень исполнения регулируемой организацией производственной программы","ΔЦПi-4","тыс.руб."]
["2",null,null,"L1_2_10",null,null,null,null,null,null,null,"2.7.3","размер корректировки необходимой валовой выручки по результатам деятельности прошлых периодов регулирования, а также осуществляемой с целью учета отклонения фактических значений параметров расчета тарифов от значений, учтенных при установлении","ΔHBBKi-4","тыс.руб."]
["2",null,null,"L1_2_9",null,null,null,null,null,null,null,"2.9","величина изменения необходимой валовой выручки в году i-2, проводимого в целях сглаживания"," ΔHBBСi-2","тыс.руб."]
["2",null,null,"L2",null,null,null,null,null,null,null,"II","Расчет размера корректировки необходимой валовой выручки, в случае если на i-2 год применялся метод экономически обоснованных расходов","ΔHBBKi-2","тыс.руб.",{"$f":"P90","v":0},{"$f":"Q90","v":0}]
["2",null,null,"L2_1",null,null,null,null,null,null,null,"1","Величина, определяющая результаты деятельности регулируемой организации до перехода к регулированию цен (тарифов) на основе долгосрочных параметров регулирования","ΔРЕЗi-2","тыс.руб.",{"$f":"P91+P92","v":0},{"$f":"Q91+Q92","v":0}]
["2",null,null,"L2_1_1",null,null,null,null,null,null,null,"1.1","экономически обоснованные расходы регулируемой организации, понесенные в периоды регулирования, предшествовавшие переходу к регулированию цен (тарифов) на основе долгосрочных параметров регулирования и не возмещенные регулируемой организации (не учтенные в тарифах)","ΔРЕЗ+i-2","тыс.руб."]
["2",null,null,"L2_1_2",null,null,null,null,null,null,null,"1.2","доходы регулируемой организации, необоснованно полученные в периоды регулирования, предшествовавшие переходу к регулированию цен (тарифов) на основе долгосрочных параметров регулирования","ΔРЕЗ-i-2","тыс.руб."]
["2",null,null,"L3",null,null,null,null,null,null,null,"III","Величина отклонения показателя ввода объектов системы водоснабжения и (или) водоотведения в эксплуатацию и изменения инвестиционной программы","ΔИi-2","тыс.руб."]
["2",null,null,"L4",null,null,null,null,null,null,null,"IV","Степень исполнения регулируемой организацией обязательств по созданию и (или) реконструкции объектов концессионного соглашения, по эксплуатации объектов по договору аренды централизованных систем горячего водоснабжения, холодного водоснабжения и (или) водоотведения, отдельных объектов таких систем, находящихся в государственной или муниципальной собственности, по реализации инвестиционной программы, производственной программы при недостижении регулируемой организацией утверждённых плановых значений показателей надежности и качества объектов централизованных систем водоснабжения и (или) водоотведения (корректировка по показателям надежности и качества)","ΔЦПi-2","тыс.руб."]
["2",null,{"$f":"B60=\"Водоотведение\"","v":true},"L5",null,null,null,null,null,null,null,"V","Доходы от взимания платы за нарушение нормативов по объёму и (или) составу сточных вод, за исключением направленных целевым образом на внесение платы за негативное воздействие на окружающую среду, компенсацию вреда, причиненного водному объекту, и финансирование мероприятий инвестиционной программы по строительству, реконструкции и модернизации объектов централизованной системы водоотведения (в соответствии с п.14 Методических указаний)",null,"тыс.руб.",null,{"$f":"IFERROR(SUMIFS('Плата за негативное возд'!$V$14:$V$18,'Плата за негативное возд'!$A$14:$A$18,A95,'Плата за негативное возд'!$L$14:$L$18,\"1\"),0)","v":0}]
["2",null,{"$f":"B60=\"Водоотведение\"","v":true},"L6",null,null,null,null,null,null,null,"VI","Доходы от взимания платы за негативное воздействие на централизованную систему водоотведения, за исключением направленных целевым образом на финансирование мероприятий инвестиционной и (или) производственной программы регулируемой организации (в соответствии с п.14 Методических указаний)",null,"тыс.руб.",null,{"$f":"IFERROR(SUMIFS('Плата за негативное возд'!$V$14:$V$18,'Плата за негативное возд'!$A$14:$A$18,A96,'Плата за негативное возд'!$L$14:$L$18,\"2\"),0)","v":0}]
["2",null,null,"L7",null,null,null,null,null,null,null,"VII","Недополученные доходы / Выпадающие расходы",null,"тыс.руб."]
["2",null,null,"L8",null,null,null,null,null,null,null,"VIII","Избыток средств, полученный за отчётные периоды регулирования",null,"тыс.руб.",{"$f":"P99+P100","v":0},{"$f":"Q99+Q100","v":0}]
["2",null,null,"L8_1",null,null,null,null,null,null,null,1,"Экономически не обоснованные доходы / расходы прошлых периодов регулирования",null,"тыс.руб."]
["2",null,null,"L8_2",null,null,null,null,null,null,null,2,"Бюджетные субсидии, полученные на финансирование расходов, учтенных в тарифах",null,"тыс.руб."]
["2",null,null,"L9",null,null,null,null,null,null,null,"IX","Величина отклонения по результатам досудебного рассмотрения споров",null,"тыс.руб."]
["2",null,null,"L10",null,null,null,null,null,null,null,"X","Величина отклонения по результатам рассмотрения разногласий",null,"тыс.руб."]
["2",null,null,"L11",null,null,null,null,null,null,null,"XI","Корректировка НВВ всего",null,"тыс.руб.",{"$f":"P61+P93+P94+P95+P96+P97+P98+P101+P102","v":0},{"$f":"Q61+Q93+Q94+Q95+Q96+Q97+Q98+Q101+Q102","v":0}]
[]
[null,null,null,null,null,null,null,null,null,null,null,"Комментарии и обоснования к разделу"]
[]
[null,null,null,null,null,null,null,null,null,null,null,"Добавить комментарий"]

{"sheet":"Калькуляция","index":30,"n_rows":273,"n_cols":52,"rows_kept":273,"cut":false,"hidden":false,"merged":[[272,11,272,12],[269,11,269,51],[13,51,14,51],[13,49,14,49],[13,50,14,50],[268,11,268,51],[13,11,14,11],[13,12,14,12],[13,13,14,13],[14,39,14,48],[270,11,270,51],[271,11,271,51]]}
[null,null,null,null,null,null,null,null,null,null,null,null,null,null,{"$f":"god-2","v":2022},{"$f":"god-2","v":2022},{"$f":"god-2","v":2022},{"$f":"god-2","v":2022},{"$f":"god-1","v":2023},{"$f":"god","v":2024},{"$f":"god+1","v":2025},{"$f":"god+2","v":2026},{"$f":"god+3","v":2027},{"$f":"god+4","v":2028},{"$f":"god+5","v":2029},{"$f":"god+6","v":2030},{"$f":"god+7","v":2031},{"$f":"god+8","v":2032},{"$f":"god+9","v":2033},{"$f":"god","v":2024},{"$f":"god+1","v":2025},{"$f":"god+2","v":2026},{"$f":"god+3","v":2027},{"$f":"god+4","v":2028},{"$f":"god+5","v":2029},{"$f":"god+6","v":2030},{"$f":"god+7","v":2031},{"$f":"god+8","v":2032},{"$f":"god+9","v":2033},{"$f":"god","v":2024},{"$f":"god+1","v":2025},{"$f":"god+2","v":2026},{"$f":"god+3","v":2027},{"$f":"god+4","v":2028},{"$f":"god+5","v":2029},{"$f":"god+6","v":2030},{"$f":"god+7","v":2031},{"$f":"god+8","v":2032},{"$f":"god+9","v":2033}]
[null,null,null,null,null,null,null,null,null,null,null,null,null,null,{"$f":"O15","v":"Принято органом регулирования"},{"$f":"P15","v":"Факт по данным организации"},{"$f":"Q15","v":"Факт, принятый органом регулирования"},{"$f":"R15","v":"отклонение факта по данным организации к факту принятому органом регулирования"},{"$f":"S15","v":"Принято органом регулирования"},{"$f":"$T$15","v":"Предложение организации"},{"$f":"$T$15","v":"Предложение организации"},"Предложение организации","Предложение организации","Предложение организации","Предложение организации","Предложение организации","Предложение организации","Предложение организации","Предложение организации",{"$f":"$AD$15","v":"Принято органом регулирования"},{"$f":"$AD$15","v":"Принято органом регулирования"},"Принято органом регулирования","Принято органом регулирования","Принято органом регулирования","Принято органом регулирования","Принято органом регулирования","Принято органом регулирования","Принято органом регулирования","Принято органом регулирования"]
[null,null,null,null,null,null,null,null,null,null,null,null,null,null,{"$f":"O1&O2","v":"2022Принято органом регулирования"},"2022Факт по данным организации","2022Факт, принятый органом регулирования","2022отклонение факта по данным организации к факту принятому органом регулирования","2023Принято органом регулирования","2024Предложение организации",{"$f":"U1&U2","v":"2025Предложение организации"},"2026Предложение организации","2027Предложение организации","2028Предложение организации","2029Предложение организации","2030Предложение организации","2031Предложение организации","2032Предложение организации","2033Предложение организации","2024Принято органом регулирования","2025Принято органом регулирования","2026Принято органом регулирования","2027Принято органом регулирования","2028Принято органом регулирования","2029Принято органом регулирования","2030Принято органом регулирования","2031Принято органом регулирования","2032Принято органом регулирования","2033Принято органом регулирования"]
[]
[]
[]
[null,null,null,null,null,null,null,null,null,null,null,null,null,null,null,null,null,null,null,{"$f":"T1<=last_year_vis","v":true},true,true,true,true,false,false,false,false,false,true,true,true,true,true,false,false,false,false,false,true,true,true,true,true,false,false,false,false,false]
[]
[]
[]
[null,null,null,null,null,null,null,null,null,null,null,null,{"$f":"tpl_title","v":"Кемеровская область / 2024 / ООО \"ТВК\" (ИНН:4202026697, КПП:420201001) / ДПР: 2024-2028"}]
[null,null,null,null,null,null,null,null,null,null,null,"21. Расчет тарифа методом индексации"]
[]
[null,null,null,null,null,null,null,null,null,null,null,"№ п/п","Наименование показателя","Единица измерения",{"$f":"god-2 & \" год\"","v":"2022 год"},{"$f":"god-2 & \" год\"","v":"2022 год"},{"$f":"god-2 & \" год\"","v":"2022 год"},{"$f":"god-2 & \" год\"","v":"2022 год"},{"$f":"god-1 & \" год\"","v":"2023 год"},{"$f":"god & \" год\"","v":"2024 год"},{"$f":"god+1 & \" год\"","v":"2025 год"},{"$f":"god+2 & \" год\"","v":"2026 год"},{"$f":"god+3 & \" год\"","v":"2027 год"},{"$f":"god+4 & \" год\"","v":"2028 год"},{"$f":"god+5 & \" год\"","v":"2029 год"},{"$f":"god+6 & \" год\"","v":"2030 год"},{"$f":"god+7 & \" год\"","v":"2031 год"},{"$f":"god+8 & \" год\"","v":"2032 год"},{"$f":"god+9 & \" год\"","v":"2033 год"},{"$f":"god & \" год\"","v":"2024 год"},{"$f":"god+1 & \" год\"","v":"2025 год"},{"$f":"god+2 & \" год\"","v":"2026 год"},{"$f":"god+3 & \" год\"","v":"2027 год"},{"$f":"god+4 & \" год\"","v":"2028 год"},{"$f":"god+5 & \" год\"","v":"2029 год"},{"$f":"god+6 & \" год\"","v":"2030 год"},{"$f":"god+7 & \" год\"","v":"2031 год"},{"$f":"god+8 & \" год\"","v":"2032 год"},{"$f":"god+9 & \" год\"","v":"2033 год"},{"$f":"god & \" год\"","v":"2024 год"},{"$f":"god+1 & \" год\"","v":"2025 год"},{"$f":"god+2 & \" год\"","v":"2026 год"},{"$f":"god+3 & \" год\"","v":"2027 год"},{"$f":"god+4 & \" год\"","v":"2028 год"},{"$f":"god+5 & \" год\"","v":"2029 год"},{"$f":"god+6 & \" год\"","v":"2030 год"},{"$f":"god+7 & \" год\"","v":"2031 год"},{"$f":"god+8 & \" год\"","v":"2032 год"},{"$f":"god+9 & \" год\"","v":"2033 год"},"Указание на подтверждающие документы / URL-ссылка на копии подтверждающих документов","Ссылка на правовую норму (основание для принятия показателя в расчет тарифа)","Обоснование причин, на основании которых принято решение об исключении из расчета тарифов экономически не обоснованных расходов, учтенных регулируемой организацией в предложении об установлении тарифов"]
[null,null,null,null,null,null,null,null,null,null,null,null,null,null,"Принято органом регулирования","Факт по данным организации","Факт, принятый органом регулирования","отклонение факта по данным организации к факту принятому органом регулирования","Принято органом регулирования","Предложение организации","Предложение организации","Предложение организации","Предложение организации","Предложение организации","Предложение организации","Предложение организации","Предложение организации","Предложение организации","Предложение организации","Принято органом регулирования","Принято органом регулирования","Принято органом регулирования","Принято органом регулирования","Принято органом регулирования","Принято органом регулирования","Принято органом регулирования","Принято органом регулирования","Принято органом регулирования","Принято органом регулирования","Сравнительный анализ динамики НВВ, в том числе расходов по отдельным статьям (группам расходов), прибыли и их величины по отношению к предыдущим периодам регулирования, %"]
[{"$f":"'Общие сведения'!$D$122","v":"1"},{"$f":"INDEX('Общие сведения'!$N$121:$N$148,MATCH($A16,'Общие сведения'!$D$121:$D$148,0))","v":"одноставочный"},null,{"$f":"INDEX('Общие сведения'!$H$121:$H$148,MATCH($A16,'Общие сведения'!$D$121:$D$148,0))","v":"Водоснабжение"},null,null,null,null,null,null,null,{"$f":"INDEX('Общие сведения'!$J$121:$J$148,MATCH($A16,'Общие сведения'!$D$121:$D$148,0))","v":"Тариф 1 (Водоснабжение) - тариф на питьевую воду"}]
[{"$f":"A16","v":"1"},null,null,"L1",null,null,null,null,null,null,null,"1","Операционные расходы","тыс.руб.",{"$f":"SUM(O19,O36,O42,O62,O63,O64)","v":5302.4699293646263},{"$f":"SUM(P19,P36,P42,P62,P63,P64)","v":6418.2065599999996},{"$f":"SUM(Q19,Q36,Q42,Q62,Q63,Q64)","v":5900.8022619999992},{"$f":"Q17-P17","v":-517.40429800000038},{"$f":"SUM(S19,S36,S42,S62,S63,S64)","v":6116.700892515104},{"$f":"SUM(T19,T36,T42,T62,T63,T64)","v":8938.0795744511997},{"$f":"T17*U18","v":9295.6027574292475},9667.4268677264172,10054.123942435474,10456.288900132893,10456.288900132893,10456.288900132893,10456.288900132893,10456.288900132893,10456.288900132893,{"$f":"SUM(AD19,AD36,AD42,AD62,AD63,AD64)","v":6219.4017696687306},{"$f":"AD17*AE18","v":6415.8104775548691},6605.7184676904935,6801.2477343341325,7002.5646672704233,7002.5646672704233,7002.5646672704233,7002.5646672704233,7002.5646672704233,7002.5646672704233,{"$f":"IF(S17=0,0,(AD17-S17)/S17*100)","v":1.6790240189658416},{"$f":"IF(AD17=0,0,(AE17-AD17)/AD17*100)","v":3.1579999999999995},2.9600000000000053,2.9600000000000048,2.960000000000008,0,0,0,0,0,null,"П. 88, 44 - 48, 17 -26 Методических указаний ФСТ № 1746-э.","Плановые расходы на 2024 год (Базовый уровень Операционных расходов) рассчитаны методом экономически обоснованных расходов в соответствии с пунктами 17 -26 Методических указаний. Плановые расходы на 2024-2028 гг. - в соответствии с Формулой (8) (пункт 45 Методических указаний), исходя из Базового уровня Операционных расходов, индексов эффективности Операционных расходов на 2024-2028 гг. в размере 1;  индексов изменения количества активов на 2024-2028 гг. в размере 0;  индексов потребительских цен (ИПЦ) Минэкономразвития России  104,2% на 2025 г., 104,0% на 2026-2028 гг."]
[{"$f":"A17","v":"1"},null,null,"L1_1",null,null,null,null,null,null,null,"1.1","коэффициент индекса операционных расходов",null,null,null,null,0,null,null,{"$f":"SUMIFS(INDEX(Сценарии!$O$15:$AP$53,,MATCH(U$3,Сценарии!$O$3:$AP$3,0)),Сценарии!$A$15:$A$53,$A18,Сценарии!$B$15:$B$53,\"ИОР\")","v":1.04},{"$f":"SUMIFS(INDEX(Сценарии!$O$15:$AP$53,,MATCH(V$3,Сценарии!$O$3:$AP$3,0)),Сценарии!$A$15:$A$53,$A18,Сценарии!$B$15:$B$53,\"ИОР\")","v":1.04},{"$f":"SUMIFS(INDEX(Сценарии!$O$15:$AP$53,,MATCH(W$3,Сценарии!$O$3:$AP$3,0)),Сценарии!$A$15:$A$53,$A18,Сценарии!$B$15:$B$53,\"ИОР\")","v":1.04},{"$f":"SUMIFS(INDEX(Сценарии!$O$15:$AP$53,,MATCH(X$3,Сценарии!$O$3:$AP$3,0)),Сценарии!$A$15:$A$53,$A18,Сценарии!$B$15:$B$53,\"ИОР\")","v":1.04},{"$f":"SUMIFS(INDEX(Сценарии!$O$15:$AP$53,,MATCH(Y$3,Сценарии!$O$3:$AP$3,0)),Сценарии!$A$15:$A$53,$A18,Сценарии!$B$15:$B$53,\"ИОР\")","v":1},{"$f":"SUMIFS(INDEX(Сценарии!$O$15:$AP$53,,MATCH(Z$3,Сценарии!$O$3:$AP$3,0)),Сценарии!$A$15:$A$53,$A18,Сценарии!$B$15:$B$53,\"ИОР\")","v":1},{"$f":"SUMIFS(INDEX(Сценарии!$O$15:$AP$53,,MATCH(AA$3,Сценарии!$O$3:$AP$3,0)),Сценарии!$A$15:$A$53,$A18,Сценарии!$B$15:$B$53,\"ИОР\")","v":1},{"$f":"SUMIFS(INDEX(Сценарии!$O$15:$AP$53,,MATCH(AB$3,Сценарии!$O$3:$AP$3,0)),Сценарии!$A$15:$A$53,$A18,Сценарии!$B$15:$B$53,\"ИОР\")","v":1},{"$f":"SUMIFS(INDEX(Сценарии!$O$15:$AP$53,,MATCH(AC$3,Сценарии!$O$3:$AP$3,0)),Сценарии!$A$15:$A$53,$A18,Сценарии!$B$15:$B$53,\"ИОР\")","v":1},null,{"$f":"SUMIFS(INDEX(Сценарии!$O$15:$AP$53,,MATCH(AE$3,Сценарии!$O$3:$AP$3,0)),Сценарии!$A$15:$A$53,$A18,Сценарии!$B$15:$B$53,\"ИОР\")","v":1.0315799999999999},{"$f":"SUMIFS(INDEX(Сценарии!$O$15:$AP$53,,MATCH(AF$3,Сценарии!$O$3:$AP$3,0)),Сценарии!$A$15:$A$53,$A18,Сценарии!$B$15:$B$53,\"ИОР\")","v":1.0296000000000001},{"$f":"SUMIFS(INDEX(Сценарии!$O$15:$AP$53,,MATCH(AG$3,Сценарии!$O$3:$AP$3,0)),Сценарии!$A$15:$A$53,$A18,Сценарии!$B$15:$B$53,\"ИОР\")","v":1.0296000000000001},{"$f":"SUMIFS(INDEX(Сценарии!$O$15:$AP$53,,MATCH(AH$3,Сценарии!$O$3:$AP$3,0)),Сценарии!$A$15:$A$53,$A18,Сценарии!$B$15:$B$53,\"ИОР\")","v":1.0296000000000001},{"$f":"SUMIFS(INDEX(Сценарии!$O$15:$AP$53,,MATCH(AI$3,Сценарии!$O$3:$AP$3,0)),Сценарии!$A$15:$A$53,$A18,Сценарии!$B$15:$B$53,\"ИОР\")","v":1},{"$f":"SUMIFS(INDEX(Сценарии!$O$15:$AP$53,,MATCH(AJ$3,Сценарии!$O$3:$AP$3,0)),Сценарии!$A$15:$A$53,$A18,Сценарии!$B$15:$B$53,\"ИОР\")","v":1},{"$f":"SUMIFS(INDEX(Сценарии!$O$15:$AP$53,,MATCH(AK$3,Сценарии!$O$3:$AP$3,0)),Сценарии!$A$15:$A$53,$A18,Сценарии!$B$15:$B$53,\"ИОР\")","v":1},{"$f":"SUMIFS(INDEX(Сценарии!$O$15:$AP$53,,MATCH(AL$3,Сценарии!$O$3:$AP$3,0)),Сценарии!$A$15:$A$53,$A18,Сценарии!$B$15:$B$53,\"ИОР\")","v":1},{"$f":"SUMIFS(INDEX(Сценарии!$O$15:$AP$53,,MATCH(AM$3,Сценарии!$O$3:$AP$3,0)),Сценарии!$A$15:$A$53,$A18,Сценарии!$B$15:$B$53,\"ИОР\")","v":1},{"$f":"IF(S18=0,0,(AD18-S18)/S18*100)","v":0}]
["1",null,null,"L1_2",null,null,null,null,null,null,null,"1.2","Производственные расходы:","тыс.руб.",{"$f":"SUM(O20,O23,O24,O27,O28)","v":2623.4883268463341},{"$f":"SUM(P20,P23,P24,P27,P28)","v":5160.3852399999996},{"$f":"SUM(Q20,Q23,Q24,Q27,Q28)","v":3531.2550199999996},-1629.13022,{"$f":"SUM(S20,S23,S24,S27,S28)","v":3026.3431201102139},{"$f":"SUM(T20,T23,T24,T27,T28)","v":5643.5825711999996},null,null,null,null,null,null,null,null,null,{"$f":"SUM(AD20,AD23,AD24,AD27,AD28)","v":4701.7951083045336},null,null,null,null,null,null,null,null,null,{"$f":"IF(S19=0,0,(AD19-S19)/S19*100)","v":55.362261372838084},null,null,null,null,null,null,null,null,null,null,"П. 18 Методических указаний ФСТ № 1746-э."]
["1",null,null,"L1_2_1",null,null,null,null,null,null,null,"1.2.1","расходы на приобретение сырья и материалов и их хранение, в том числе:","тыс.руб.",{"$f":"SUM(O21,O22)","v":0},{"$f":"SUM(P21,P22)","v":0},{"$f":"SUM(Q21,Q22)","v":0},0,{"$f":"SUM(S21,S22)","v":0},{"$f":"SUM(T21,T22)","v":70.48},null,null,null,null,null,null,null,null,null,{"$f":"SUM(AD21,AD22)","v":22.976839576361595},null,null,null,null,null,null,null,null,null,{"$f":"IF(S20=0,0,(AD20-S20)/S20*100)","v":0},null,null,null,null,null,null,null,null,null,null,"П 16, 19 Методических указаний ФСТ № 1746-э."]
["1",null,null,"L1_2_1_1",null,null,null,null,null,null,null,"1.2.1.1","горюче-смазочные материалы","тыс.руб.",null,null,null,0,null,70.48,null,null,null,null,null,null,null,null,null,22.976839576361595,null,null,null,null,null,null,null,null,null,0,null,null,null,null,null,null,null,null,null,null,null,"Среднегодовые фактические расходы  ГСМ за 2020 г. ( 47,55 тыс. руб.), за 2021 г. ( 2,67 тыс. руб.) и за 2022 г. ( 0,00 тыс. руб.),  приведенные к ценам 2022 г. с применением ИПЦ Минэкономразвития России 106,7% на 2021 г. и 113,8% на 2022 г.:  ( 47,55 * 1,067 * 1,138 + 2,67 * 1,138 + 0,00 ) / 3 = 20,26 тыс. руб.   С учетом ИПЦ Минэкономразвития России 105,8% на 2023 г. и 107,2% на 2024 г.:  20,26 тыс. руб. * 1,058 * 1,072 = 22,98 тыс. руб."]
["1",null,null,"L1_2_1_2",null,null,null,null,null,null,null,"1.2.1.2","материалы и малоценные основные средства","тыс.руб.",null,null,null,0,null,null,null,null,null,null,null,null,null,null,null,null,null,null,null,null,null,null,null,null,null,0]
["1",null,null,"L1_2_2",null,null,null,null,null,null,null,"1.2.2","расходы на оплату регулируемыми организациями выполняемых сторонними организациями работ и (или) услуг","тыс.руб.",117.03710059034469,838.24,{"$f":"(177.29-104)","v":73.289999999999992},-764.95,135.00895755652547,473.63,null,null,null,null,null,null,null,null,null,{"$f":"(177.29-104)*1.058*1.072","v":83.123759039999996},null,null,null,null,null,null,null,null,null,-38.430930403119525,null,null,null,null,null,null,null,null,null,null,"П. 18 (3) Методических указаний ФСТ № 1746-э.","В размере фактических затрат 2022 г. на услуги производственного характера (за вычетом услуг лабораторий, учтенных по  п. 1.2.5.5), с учетом ИПЦ Минэкономразвития Россиии 105,8% на 2023 г. и 107,2% на 2024 г."]
["1",null,null,"L1_2_3",null,null,null,null,null,null,null,"1.2.3","расходы на оплату труда и страховые взносы на обязательное социальное страхование основного производственного персонала, в том числе:","тыс.руб.",{"$f":"O25+O26","v":2386.8715317327305},{"$f":"P25+P26","v":4322.1452399999998},{"$f":"Q25+Q26","v":3353.9650199999996},-968.18022000000019,{"$f":"S25+S26","v":2753.392178165152},{"$f":"T25+T26","v":5099.4725711999999},null,null,null,null,null,null,null,null,null,{"$f":"AD25+AD26","v":4477.740205688172},null,null,null,null,null,null,null,null,null,{"$f":"IF(S24=0,0,(AD24-S24)/S24*100)","v":62.626313868303264},null,null,null,null,null,null,null,null,null,null," П. 17 \"Методических указаний\" (приказ ФСТ от 27.12.2013 № 1746-э).  "]
["1","ПП",null,"L1_2_3_1",null,null,null,null,null,null,null,"1.2.3.1","расходы на оплату труда основного производственного персонала","тыс.руб.",{"$f":"SUMIFS(ФОТ!O$15:O$65,ФОТ!$A$15:$A$65,$A25,ФОТ!$B$15:$B$65,$B25)","v":1833.2346633891941},{"$f":"SUMIFS(ФОТ!P$15:P$65,ФОТ!$A$15:$A$65,$A25,ФОТ!$B$15:$B$65,$B25)","v":3319.62},{"$f":"SUMIFS(ФОТ!Q$15:Q$65,ФОТ!$A$15:$A$65,$A25,ФОТ!$B$15:$B$65,$B25)","v":2576.0099999999998},-743.61000000000013,{"$f":"SUMIFS(ФОТ!R$15:R$65,ФОТ!$A$15:$A$65,$A25,ФОТ!$B$15:$B$65,$B25)","v":2114.7405362251552},{"$f":"SUMIFS(ФОТ!S$15:S$65,ФОТ!$A$15:$A$65,$A25,ФОТ!$B$15:$B$65,$B25)","v":3916.6455999999998},null,null,null,null,null,null,null,null,null,{"$f":"SUMIFS(ФОТ!T$15:T$65,ФОТ!$A$15:$A$65,$A25,ФОТ!$B$15:$B$65,$B25)","v":3439.1245819417604},null,null,null,null,null,null,null,null,null,{"$f":"IF(S25=0,0,(AD25-S25)/S25*100)","v":62.626313868303264},null,null,null,null,null,null,null,null,null,null,"1) \"Федеральное отраслевое тарифное соглашение в жилищно-коммунальном хозяйстве Российской Федерации на 2023 - 2025 годы\" (утв. Общероссийским отраслевым объединением работодателей сферы жизнеобеспечения, Общероссийским профсоюзом работников жизнеобеспечения 12.05.2022) (ред. от 05.12.2022). 2)  \"Кузбасское региональное соглашение между Кемеровским областным союзом организаций профсоюзов \"Федерация профсоюзных организаций Кузбасса\", Правительством Кемеровской области - Кузбасса и работодателями Кемеровской области - Кузбасса на 2022 - 2024 годы\" (Подписано 07.10.2021). 3) Приказ Министерства строительства и ЖКХ Российской Федерации от 23.03.2020 № 154/пр \"Об утверждении Типовых отраслевых норм численности работников водопроводно-канализационного хозяйства\". ","См. Лист \"ФОТ\"."]
["1","СОЦ_ПП",null,"L1_2_3_2",null,null,null,null,null,null,null,"1.2.3.2","страховые взносы на обязательное социальное страхование основного производственного персонала","тыс.руб.",{"$f":"SUMIFS(ФОТ!O$15:O$65,ФОТ!$A$15:$A$65,$A26,ФОТ!$B$15:$B$65,$B26)","v":553.63686834353666},{"$f":"SUMIFS(ФОТ!P$15:P$65,ФОТ!$A$15:$A$65,$A26,ФОТ!$B$15:$B$65,$B26)","v":1002.5252399999999},{"$f":"SUMIFS(ФОТ!Q$15:Q$65,ФОТ!$A$15:$A$65,$A26,ФОТ!$B$15:$B$65,$B26)","v":777.95501999999988},-224.57022000000006,{"$f":"SUMIFS(ФОТ!R$15:R$65,ФОТ!$A$15:$A$65,$A26,ФОТ!$B$15:$B$65,$B26)","v":638.65164193999681},{"$f":"SUMIFS(ФОТ!S$15:S$65,ФОТ!$A$15:$A$65,$A26,ФОТ!$B$15:$B$65,$B26)","v":1182.8269711999999},null,null,null,null,null,null,null,null,null,{"$f":"SUMIFS(ФОТ!T$15:T$65,ФОТ!$A$15:$A$65,$A26,ФОТ!$B$15:$B$65,$B26)","v":1038.6156237464115},null,null,null,null,null,null,null,null,null,{"$f":"IF(S26=0,0,(AD26-S26)/S26*100)","v":62.626313868303264},null,null,null,null,null,null,null,null,null,null,"1)  Глава 34 \"СТРАХОВЫЕ ВЗНОСЫ\" \"Налогового кодекса Российской Федерации (Часть вторая)\" (в ред. от 10.07.2023 № 318-ФЗ); 2) Федеральные законы  от 22.12.2005 № 179-ФЗ,  от 31.12.2017 № 484-ФЗ;   от 24.07.1998 № 125-ФЗ); 3) \"Уведомление о страховом тарифе на обязательное социальное страхование от несчастных случаев на производстве и профессиональных заболеваний\" от 22.03.2022.","Рассчитано: 1) отчисления  на обязательное пенсионное страхование – 22,0%; на обязательное социальное страхование на случай временной нетрудоспособности и в связи с материнством - 2,9%;  на обязательное медицинское страхование - 5,1%; 2) на обязаельное социальное страхование от несчастных случаев на производстве и профессиональных заболеваний – 0,2% в соответствии с  федеральным законом от 24.07.1998 № 125-ФЗ, а также с представленной формой отчетности  \"4-ФСС\" за 2022 год .  "]
["1",null,null,"L1_2_4",null,null,null,null,null,null,null,"1.2.4","общехозяйственные расходы","тыс.руб.",null,null,null,0,null,null,null,null,null,null,null,null,null,null,null,null,null,null,null,null,null,null,null,null,null,0]
["1",null,null,"L1_2_5",null,null,null,null,null,null,null,"1.2.5","прочие производственные расходы","тыс.руб.",{"$f":"SUM(O29:O35)","v":119.57969452325872},{"$f":"SUM(P29:P35)","v":0},{"$f":"SUM(Q29:Q35)","v":104},104,{"$f":"SUM(S29:S35)","v":137.94198438853664},{"$f":"SUM(T29:T35)","v":0},null,null,null,null,null,null,null,null,null,{"$f":"SUM(AD29:AD35)","v":117.95430400000002},null,null,null,null,null,null,null,null,null,-14.489917973224149]
["1",null,null,"L1_2_5_1",null,null,null,null,null,null,null,"1.2.5.1","амортизация автотранспорта","тыс.руб.",null,null,null,0,null,null,null,null,null,null,null,null,null,null,null,null,null,null,null,null,null,null,null,null,null,0]
["1",null,null,"L1_2_5_2",null,null,null,null,null,null,null,"1.2.5.2","расходы на обезвоживание, обезвреживание и захоронение осадка сточных вод","тыс.руб.",null,null,null,0,null,null,null,null,null,null,null,null,null,null,null,null,null,null,null,null,null,null,null,null,null,0]
["1",null,null,"L1_2_5_3",null,null,null,null,null,null,null,"1.2.5.3","расходы на приобретение (использование) вспомогательных материалов, запасных частей","тыс.руб.",null,null,null,0,null,null,null,null,null,null,null,null,null,null,null,null,null,null,null,null,null,null,null,null,null,0]
["1",null,null,"L1_2_5_4",null,null,null,null,null,null,null,"1.2.5.4","расходы на эксплуатацию, техническое обслуживание и ремонт автотранспорта","тыс.руб.",null,null,null,0,null,null,null,null,null,null,null,null,null,null,null,null,null,null,null,null,null,null,null,null,null,0]
["1",null,null,"L1_2_5_5",null,null,null,null,null,null,null,"1.2.5.5","расходы на осуществление производственного контроля качества воды и производственного контроля состава и свойств сточных вод расходы на осуществление производственного контроля качества воды и производственного контроля состава и свойств сточных вод","тыс.руб.",119.57969452325872,null,104,104,137.94198438853664,null,null,null,null,null,null,null,null,null,null,117.95430400000002,null,null,null,null,null,null,null,null,null,-14.489917973224149,null,null,null,null,null,null,null,null,null,null,"П. 18(7) Методических указаний ФСТ № 1746-э.","Выделено из расходов, предложенных организацией в составе затрат по п. 1.2.2. Принято в размере фактических затрат 2022 г. (104,0 тыс. руб., не отражено организацией ошибочно), с учетом ИПЦ Минэкономразвития Россиии 105,8% на 2023 г. и 107,2% на 2024 г."]
["1",null,null,"L1_2_5_6",null,null,null,null,null,null,null,"1.2.5.6","расходы на аварийно-диспетчерское обслуживание","тыс.руб.",null,null,null,0,null,null,null,null,null,null,null,null,null,null,null,null,null,null,null,null,null,null,null,null,null,0]
["1",null,null,"L1_2_5_7",null,null,null,null,null,null,null,"1.2.5.7","иные производственные расходы","тыс.руб.",null,null,null,0,null,null,null,null,null,null,null,null,null,null,null,null,null,null,null,null,null,null,null,null,null,{"$f":"IF(S35=0,0,(AD35-S35)/S35*100)","v":0}]
["1",null,null,"L1_3",null,null,null,null,null,null,null,"1.3","Ремонтные расходы:","тыс.руб.",{"$f":"O37+O38+O39","v":1622.8166341788187},{"$f":"P37+P38+P39","v":200},{"$f":"Q37+Q38+Q39","v":0},-200,{"$f":"S37+S38+S39","v":1872.0113620445115},{"$f":"T37+T38+T39","v":2169.16},null,null,null,null,null,null,null,null,null,{"$f":"AD37+AD38+AD39","v":502.909430008877},null,null,null,null,null,null,null,null,null,{"$f":"IF(S36=0,0,(AD36-S36)/S36*100)","v":-73.135343075074815},null,null,null,null,null,null,null,null,null,null,"П. 19, 23, 24  Методических указаний ФСТ № 1746-э."]
["1",null,null,"L1_3_1",null,null,null,null,null,null,null,"1.3.1","расходы на текущий ремонт централизованных систем водоснабжения и (или) водоотведения либо объектов, входящих в состав таких систем","тыс.руб.",791.37017797229021,200,0,-200,912.89054693290291,1862.37,null,null,null,null,null,null,null,null,null,209.60943000887698,null,null,null,null,null,null,null,null,null,-77.038930821102781,null,null,null,null,null,null,null,null,null,null,null,"Расходы по данной статье включают, в том числе, запасные части для транспортных средств, малоценные ТМЦ  и материалы для охраны труда и техники безопасности. Среднегодовые фактические расходы на материалы (сч. 10  без ГСМ и реагентов) за 2020 г. ( 338,99 тыс. руб.), за 2021 г. (125,50 тыс. руб.) и за 2022 г. ( 0,00 тыс. руб.),  приведенные к ценам 2022 г. с применением ИПЦ Минэкономразвития России 106,7% на 2021 г. и 113,8% на 2022 г.:  (338,99 * 1,067 * 1,138 + 125,50 * 1,138 + 0,00) / 3 = 184,81 тыс. руб.   С учетом ИПЦ Минэкономразвития России 105,8% на 2023 г. и 107,2% на 2024 г.:  184,81 тыс. руб. * 1,058 * 1,072 = 209,61 тыс. руб."]
["1",null,null,"L1_3_2",null,null,null,null,null,null,null,"1.3.2","расходы на капитальный ремонт централизованных систем водоснабжения и (или) водоотведения либо объектов, входящих в состав таких систем","тыс.руб.",831.44645620652852,0,0,0,959.12081511160864,306.79000000000002,null,null,null,null,null,null,null,null,null,293.3,null,null,null,null,null,null,null,null,null,-69.419910883086203,null,null,null,null,null,null,null,null,null,null,"1) \"Заключение по анализу материалов ООО \"ТВК\"  (г. Белово), ИНН 4202026697, представленных для подтверждения фактических расходов ремонтной программы в сфере водоснабжения за 2022 год (в рамках госконтракта от 29.05.2023 № 5к)\" (ОАО \"Агентство энергетических экспертиз\", г. Кемерово, 2023); 2) \"Заключение по анализу материалов ООО \"ТВК\"  (г. Белово), ИНН 4202026697, представленных для подтверждения планируемых расходов ремонтной программы на 2024 год (в рамках госконтракта от 29.05.2023 № 5к)\" (ОАО \"Агентство энергетических экспертиз\", г. Кемерово, 2023).","Плановые затраты на 2024 год приняты в размере величины, согласованной  ОАО \"Агентство энергетических экспертиз\", в соответствии с представленными документами."]
["1",null,null,"L1_3_3",null,null,null,null,null,null,null,"1.3.3","расходы на оплату труда и страховые взносы на обязательное социальное страхование ремонтного персонала, в том числе:","тыс.руб.",{"$f":"O40+O41","v":0},{"$f":"P40+P41","v":0},{"$f":"Q40+Q41","v":0},0,{"$f":"S40+S41","v":0},{"$f":"T40+T41","v":0},null,null,null,null,null,null,null,null,null,{"$f":"AD40+AD41","v":0},null,null,null,null,null,null,null,null,null,{"$f":"IF(S39=0,0,(AD39-S39)/S39*100)","v":0}]
["1","РП",null,"L1_3_3_1",null,null,null,null,null,null,null,"1.3.3.1","расходы на оплату труда ремонтного персонала","тыс.руб.",{"$f":"SUMIFS(ФОТ!O$15:O$65,ФОТ!$A$15:$A$65,$A40,ФОТ!$B$15:$B$65,$B40)","v":0},{"$f":"SUMIFS(ФОТ!P$15:P$65,ФОТ!$A$15:$A$65,$A40,ФОТ!$B$15:$B$65,$B40)","v":0},{"$f":"SUMIFS(ФОТ!Q$15:Q$65,ФОТ!$A$15:$A$65,$A40,ФОТ!$B$15:$B$65,$B40)","v":0},0,{"$f":"SUMIFS(ФОТ!R$15:R$65,ФОТ!$A$15:$A$65,$A40,ФОТ!$B$15:$B$65,$B40)","v":0},{"$f":"SUMIFS(ФОТ!S$15:S$65,ФОТ!$A$15:$A$65,$A40,ФОТ!$B$15:$B$65,$B40)","v":0},null,null,null,null,null,null,null,null,null,{"$f":"SUMIFS(ФОТ!T$15:T$65,ФОТ!$A$15:$A$65,$A40,ФОТ!$B$15:$B$65,$B40)","v":0},null,null,null,null,null,null,null,null,null,{"$f":"IF(S40=0,0,(AD40-S40)/S40*100)","v":0}]
["1","СОЦ_РП",null,"L1_3_3_2",null,null,null,null,null,null,null,"1.3.3.2","страховые взносы на обязательное социальное страхование ремонтного персонала","тыс.руб.",{"$f":"SUMIFS(ФОТ!O$15:O$65,ФОТ!$A$15:$A$65,$A41,ФОТ!$B$15:$B$65,$B41)","v":0},{"$f":"SUMIFS(ФОТ!P$15:P$65,ФОТ!$A$15:$A$65,$A41,ФОТ!$B$15:$B$65,$B41)","v":0},{"$f":"SUMIFS(ФОТ!Q$15:Q$65,ФОТ!$A$15:$A$65,$A41,ФОТ!$B$15:$B$65,$B41)","v":0},0,{"$f":"SUMIFS(ФОТ!R$15:R$65,ФОТ!$A$15:$A$65,$A41,ФОТ!$B$15:$B$65,$B41)","v":0},{"$f":"SUMIFS(ФОТ!S$15:S$65,ФОТ!$A$15:$A$65,$A41,ФОТ!$B$15:$B$65,$B41)","v":0},null,null,null,null,null,null,null,null,null,{"$f":"SUMIFS(ФОТ!T$15:T$65,ФОТ!$A$15:$A$65,$A41,ФОТ!$B$15:$B$65,$B41)","v":0},null,null,null,null,null,null,null,null,null,{"$f":"IF(S41=0,0,(AD41-S41)/S41*100)","v":0}]
["1",null,null,"L1_4",null,null,null,null,null,null,null,"1.4","Административные расходы","тыс.руб.",{"$f":"O43+O51+O54+O55+O56+O57+O58","v":981.27820792522436},{"$f":"P43+P51+P54+P55+P56+P57+P58","v":937.81131999999991},{"$f":"Q43+Q51+Q54+Q55+Q56+Q57+Q58","v":2249.5542419999997},1311.7429219999999,{"$f":"S43+S51+S54+S55+S56+S57+S58","v":1131.9602694929492},{"$f":"T43+T51+T54+T55+T56+T57+T58","v":1125.3370032511996},null,null,null,null,null,null,null,null,null,{"$f":"AD43+AD51+AD54+AD55+AD56+AD57+AD58","v":1014.6972313553197},null,null,null,null,null,null,null,null,null,{"$f":"IF(S42=0,0,(AD42-S42)/S42*100)","v":-10.359289216940134},null,null,null,null,null,null,null,null,null,null,"П. 25 Методических указаний ФСТ РФ № 1746-э.","См. Лист \"Административные\"."]
["1","p3",null,"L1_4_1",null,null,null,null,null,null,null,"1.4.1","расходы на оплату работ и услуг, выполняемых сторонними организациями, в том числе:","тыс.руб.",{"$f":"SUMIFS(Административные!O$15:O$54,Административные!$A$15:$A$54,$A43,Административные!$B$15:$B$54,$B43)","v":0},{"$f":"SUMIFS(Административные!P$15:P$54,Административные!$A$15:$A$54,$A43,Административные!$B$15:$B$54,$B43)","v":293.38},{"$f":"SUMIFS(Административные!Q$15:Q$54,Административные!$A$15:$A$54,$A43,Административные!$B$15:$B$54,$B43)","v":0},-293.38,{"$f":"SUMIFS(Административные!R$15:R$54,Административные!$A$15:$A$54,$A43,Административные!$B$15:$B$54,$B43)","v":0},{"$f":"SUMIFS(Административные!S$15:S$54,Административные!$A$15:$A$54,$A43,Административные!$B$15:$B$54,$B43)","v":264.34999999999997},null,null,null,null,null,null,null,null,null,{"$f":"SUMIFS(Административные!T$15:T$54,Административные!$A$15:$A$54,$A43,Административные!$B$15:$B$54,$B43)","v":47.119919991479989},null,null,null,null,null,null,null,null,null,0]
["1","p3_1",null,"L1_4_1_1",null,null,null,null,null,null,null,"1.4.1.1","услуги связи и интернет","тыс.руб.",{"$f":"SUMIFS(Административные!O$15:O$54,Административные!$A$15:$A$54,$A44,Административные!$B$15:$B$54,$B44)","v":0},{"$f":"SUMIFS(Административные!P$15:P$54,Административные!$A$15:$A$54,$A44,Административные!$B$15:$B$54,$B44)","v":1.59},{"$f":"SUMIFS(Административные!Q$15:Q$54,Административные!$A$15:$A$54,$A44,Административные!$B$15:$B$54,$B44)","v":0},-1.59,{"$f":"SUMIFS(Административные!R$15:R$54,Административные!$A$15:$A$54,$A44,Административные!$B$15:$B$54,$B44)","v":0},{"$f":"SUMIFS(Административные!S$15:S$54,Административные!$A$15:$A$54,$A44,Административные!$B$15:$B$54,$B44)","v":1.95},null,null,null,null,null,null,null,null,null,{"$f":"SUMIFS(Административные!T$15:T$54,Административные!$A$15:$A$54,$A44,Административные!$B$15:$B$54,$B44)","v":0},null,null,null,null,null,null,null,null,null,0]
["1","p3_2",null,"L1_4_1_2",null,null,null,null,null,null,null,"1.4.1.2","юридические услуги","тыс.руб.",{"$f":"SUMIFS(Административные!O$15:O$54,Административные!$A$15:$A$54,$A45,Административные!$B$15:$B$54,$B45)","v":0},{"$f":"SUMIFS(Административные!P$15:P$54,Административные!$A$15:$A$54,$A45,Административные!$B$15:$B$54,$B45)","v":105.54},{"$f":"SUMIFS(Административные!Q$15:Q$54,Административные!$A$15:$A$54,$A45,Административные!$B$15:$B$54,$B45)","v":0},-105.54,{"$f":"SUMIFS(Административные!R$15:R$54,Административные!$A$15:$A$54,$A45,Административные!$B$15:$B$54,$B45)","v":0},{"$f":"SUMIFS(Административные!S$15:S$54,Административные!$A$15:$A$54,$A45,Административные!$B$15:$B$54,$B45)","v":115.11},null,null,null,null,null,null,null,null,null,{"$f":"SUMIFS(Административные!T$15:T$54,Административные!$A$15:$A$54,$A45,Административные!$B$15:$B$54,$B45)","v":47.119919991479989},null,null,null,null,null,null,null,null,null,0,null,null,null,null,null,null,null,null,null,null,null,"См. Лист \"Административные\"."]
["1","p3_3",null,"L1_4_1_3",null,null,null,null,null,null,null,"1.4.1.3","аудиторские услуги","тыс.руб.",{"$f":"SUMIFS(Административные!O$15:O$54,Административные!$A$15:$A$54,$A46,Административные!$B$15:$B$54,$B46)","v":0},{"$f":"SUMIFS(Административные!P$15:P$54,Административные!$A$15:$A$54,$A46,Административные!$B$15:$B$54,$B46)","v":5.22},{"$f":"SUMIFS(Административные!Q$15:Q$54,Административные!$A$15:$A$54,$A46,Административные!$B$15:$B$54,$B46)","v":0},-5.22,{"$f":"SUMIFS(Административные!R$15:R$54,Административные!$A$15:$A$54,$A46,Административные!$B$15:$B$54,$B46)","v":0},{"$f":"SUMIFS(Административные!S$15:S$54,Административные!$A$15:$A$54,$A46,Административные!$B$15:$B$54,$B46)","v":0},null,null,null,null,null,null,null,null,null,{"$f":"SUMIFS(Административные!T$15:T$54,Административные!$A$15:$A$54,$A46,Административные!$B$15:$B$54,$B46)","v":0},null,null,null,null,null,null,null,null,null,0]
["1","p3_4",null,"L1_4_1_4",null,null,null,null,null,null,null,"1.4.1.4","консультационные услуги","тыс.руб.",{"$f":"SUMIFS(Административные!O$15:O$54,Административные!$A$15:$A$54,$A47,Административные!$B$15:$B$54,$B47)","v":0},{"$f":"SUMIFS(Административные!P$15:P$54,Административные!$A$15:$A$54,$A47,Административные!$B$15:$B$54,$B47)","v":0},{"$f":"SUMIFS(Административные!Q$15:Q$54,Административные!$A$15:$A$54,$A47,Административные!$B$15:$B$54,$B47)","v":0},0,{"$f":"SUMIFS(Административные!R$15:R$54,Административные!$A$15:$A$54,$A47,Административные!$B$15:$B$54,$B47)","v":0},{"$f":"SUMIFS(Административные!S$15:S$54,Административные!$A$15:$A$54,$A47,Административные!$B$15:$B$54,$B47)","v":0},null,null,null,null,null,null,null,null,null,{"$f":"SUMIFS(Административные!T$15:T$54,Административные!$A$15:$A$54,$A47,Административные!$B$15:$B$54,$B47)","v":0},null,null,null,null,null,null,null,null,null,0]
["1","p3_5",null,"L1_4_1_5",null,null,null,null,null,null,null,"1.4.1.5","услуги по вневедомственной охране объектов и территорий","тыс.руб.",{"$f":"SUMIFS(Административные!O$15:O$54,Административные!$A$15:$A$54,$A48,Административные!$B$15:$B$54,$B48)","v":0},{"$f":"SUMIFS(Административные!P$15:P$54,Административные!$A$15:$A$54,$A48,Административные!$B$15:$B$54,$B48)","v":118.62},{"$f":"SUMIFS(Административные!Q$15:Q$54,Административные!$A$15:$A$54,$A48,Административные!$B$15:$B$54,$B48)","v":0},-118.62,{"$f":"SUMIFS(Административные!R$15:R$54,Административные!$A$15:$A$54,$A48,Административные!$B$15:$B$54,$B48)","v":0},{"$f":"SUMIFS(Административные!S$15:S$54,Административные!$A$15:$A$54,$A48,Административные!$B$15:$B$54,$B48)","v":5.63},null,null,null,null,null,null,null,null,null,{"$f":"SUMIFS(Административные!T$15:T$54,Административные!$A$15:$A$54,$A48,Административные!$B$15:$B$54,$B48)","v":0},null,null,null,null,null,null,null,null,null,0]
["1","p3_6",null,"L1_4_1_6",null,null,null,null,null,null,null,"1.4.1.6","информационные услуги","тыс.руб.",{"$f":"SUMIFS(Административные!O$15:O$54,Административные!$A$15:$A$54,$A49,Административные!$B$15:$B$54,$B49)","v":0},{"$f":"SUMIFS(Административные!P$15:P$54,Административные!$A$15:$A$54,$A49,Административные!$B$15:$B$54,$B49)","v":62.41},{"$f":"SUMIFS(Административные!Q$15:Q$54,Административные!$A$15:$A$54,$A49,Административные!$B$15:$B$54,$B49)","v":0},-62.41,{"$f":"SUMIFS(Административные!R$15:R$54,Административные!$A$15:$A$54,$A49,Административные!$B$15:$B$54,$B49)","v":0},{"$f":"SUMIFS(Административные!S$15:S$54,Административные!$A$15:$A$54,$A49,Административные!$B$15:$B$54,$B49)","v":126.96},null,null,null,null,null,null,null,null,null,{"$f":"SUMIFS(Административные!T$15:T$54,Административные!$A$15:$A$54,$A49,Административные!$B$15:$B$54,$B49)","v":0},null,null,null,null,null,null,null,null,null,0]
["1","p3_7",null,"L1_4_1_7",null,null,null,null,null,null,null,"1.4.1.7","иные работы и (или) услуги","тыс.руб.",{"$f":"SUMIFS(Административные!O$15:O$54,Административные!$A$15:$A$54,$A50,Административные!$B$15:$B$54,$B50)","v":0},{"$f":"SUMIFS(Административные!P$15:P$54,Административные!$A$15:$A$54,$A50,Административные!$B$15:$B$54,$B50)","v":0},{"$f":"SUMIFS(Административные!Q$15:Q$54,Административные!$A$15:$A$54,$A50,Административные!$B$15:$B$54,$B50)","v":0},0,{"$f":"SUMIFS(Административные!R$15:R$54,Административные!$A$15:$A$54,$A50,Административные!$B$15:$B$54,$B50)","v":0},{"$f":"SUMIFS(Административные!S$15:S$54,Административные!$A$15:$A$54,$A50,Административные!$B$15:$B$54,$B50)","v":14.7},null,null,null,null,null,null,null,null,null,{"$f":"SUMIFS(Административные!T$15:T$54,Административные!$A$15:$A$54,$A50,Административные!$B$15:$B$54,$B50)","v":0},null,null,null,null,null,null,null,null,null,{"$f":"IF(S50=0,0,(AD50-S50)/S50*100)","v":0}]
["1",null,null,"L1_4_2",null,null,null,null,null,null,null,"1.4.2","расходы на оплату труда и страховые взносы на обязательное социальное страхование административно-управленческого персонала, в том числе:","тыс.руб.",{"$f":"O52+O53","v":750.28105202587767},{"$f":"P52+P53","v":601.08132000000001},{"$f":"Q52+Q53","v":2072.5886999999998},1471.5073799999998,{"$f":"S52+S53","v":865.491901264543},{"$f":"T52+T53","v":766.6970032511997},null,null,null,null,null,null,null,null,null,{"$f":"AD52+AD53","v":766.6970032511997},null,null,null,null,null,null,null,null,null,{"$f":"IF(S51=0,0,(AD51-S51)/S51*100)","v":-11.414884168066413},null,null,null,null,null,null,null,null,null,null," 1) П. 17 \"Методических указаний\" (приказ ФСТ от 27.12.2013 № 1746-э).  2) Приказ Министерства строительства и ЖКХ Российской Федерации от 23.03.2020 № 154/пр \"Об утверждении Типовых отраслевых норм численности работников водопроводно-канализационного хозяйства\". "]
["1","АУП",null,"L1_4_2_1",null,null,null,null,null,null,null,"1.4.2.1","расходы на оплату труда административно-управленческого персонала","тыс.руб.",{"$f":"SUMIFS(ФОТ!O$15:O$65,ФОТ!$A$15:$A$65,$A52,ФОТ!$B$15:$B$65,$B52)","v":576.25272813047434},{"$f":"SUMIFS(ФОТ!P$15:P$65,ФОТ!$A$15:$A$65,$A52,ФОТ!$B$15:$B$65,$B52)","v":461.66},{"$f":"SUMIFS(ФОТ!Q$15:Q$65,ФОТ!$A$15:$A$65,$A52,ФОТ!$B$15:$B$65,$B52)","v":1591.85},1130.1899999999998,{"$f":"SUMIFS(ФОТ!R$15:R$65,ФОТ!$A$15:$A$65,$A52,ФОТ!$B$15:$B$65,$B52)","v":664.74032355187637},{"$f":"SUMIFS(ФОТ!S$15:S$65,ФОТ!$A$15:$A$65,$A52,ФОТ!$B$15:$B$65,$B52)","v":588.86098559999982},null,null,null,null,null,null,null,null,null,{"$f":"SUMIFS(ФОТ!T$15:T$65,ФОТ!$A$15:$A$65,$A52,ФОТ!$B$15:$B$65,$B52)","v":588.86098559999982},null,null,null,null,null,null,null,null,null,{"$f":"IF(S52=0,0,(AD52-S52)/S52*100)","v":-11.414884168066408},null,null,null,null,null,null,null,null,null,null,"1) \"Федеральное отраслевое тарифное соглашение в жилищно-коммунальном хозяйстве Российской Федерации на 2023 - 2025 годы\" (утв. Общероссийским отраслевым объединением работодателей сферы жизнеобеспечения, Общероссийским профсоюзом работников жизнеобеспечения 12.05.2022) (ред. от 05.12.2022). 2)  \"Кузбасское региональное соглашение между Кемеровским областным союзом организаций профсоюзов \"Федерация профсоюзных организаций Кузбасса\", Правительством Кемеровской области - Кузбасса и работодателями Кемеровской области - Кузбасса на 2022 - 2024 годы\" (Подписано 07.10.2021). ","См. Лист \"ФОТ\"."]
["1","СОЦ_АУП",null,"L1_4_2_2",null,null,null,null,null,null,null,"1.4.2.2","страховые взносы на обязательное социальное страхование административно-управленческого персонала","тыс.руб.",{"$f":"SUMIFS(ФОТ!O$15:O$65,ФОТ!$A$15:$A$65,$A53,ФОТ!$B$15:$B$65,$B53)","v":174.02832389540328},{"$f":"SUMIFS(ФОТ!P$15:P$65,ФОТ!$A$15:$A$65,$A53,ФОТ!$B$15:$B$65,$B53)","v":139.42132000000001},{"$f":"SUMIFS(ФОТ!Q$15:Q$65,ФОТ!$A$15:$A$65,$A53,ФОТ!$B$15:$B$65,$B53)","v":480.73869999999994},341.31737999999996,{"$f":"SUMIFS(ФОТ!R$15:R$65,ФОТ!$A$15:$A$65,$A53,ФОТ!$B$15:$B$65,$B53)","v":200.75157771266666},{"$f":"SUMIFS(ФОТ!S$15:S$65,ФОТ!$A$15:$A$65,$A53,ФОТ!$B$15:$B$65,$B53)","v":177.83601765119994},null,null,null,null,null,null,null,null,null,{"$f":"SUMIFS(ФОТ!T$15:T$65,ФОТ!$A$15:$A$65,$A53,ФОТ!$B$15:$B$65,$B53)","v":177.83601765119994},null,null,null,null,null,null,null,null,null,{"$f":"IF(S53=0,0,(AD53-S53)/S53*100)","v":-11.414884168066409},null,null,null,null,null,null,null,null,null,null,"1)  Глава 34 \"СТРАХОВЫЕ ВЗНОСЫ\" \"Налогового кодекса Российской Федерации (Часть вторая)\" (в ред. от 10.07.2023 № 318-ФЗ); 2) Федеральные законы  от 22.12.2005 № 179-ФЗ,  от 31.12.2017 № 484-ФЗ;   от 24.07.1998 № 125-ФЗ); 3) \"Уведомление о страховом тарифе на обязательное социальное страхование от несчастных случаев на производстве и профессиональных заболеваний\" от 22.03.2022.","Рассчитано: 1) отчисления  на обязательное пенсионное страхование – 22,0%; на обязательное социальное страхование на случай временной нетрудоспособности и в связи с материнством - 2,9%;  на обязательное медицинское страхование - 5,1%; 2) на обязаельное социальное страхование от несчастных случаев на производстве и профессиональных заболеваний – 0,2% в соответствии с  федеральным законом от 24.07.1998 № 125-ФЗ, а также с представленной формой отчетности  \"4-ФСС\" за 2022 год .  "]
["1","p4",null,"L1_4_3",null,null,null,null,null,null,null,"1.4.3","арендная плата, лизинговые платежи, не связанные с арендой (лизингом) централизованных систем водоснабжения и (или) водоотведения либо объектов, входящих в состав таких систем","тыс.руб.",{"$f":"SUMIFS(Административные!O$15:O$54,Административные!$A$15:$A$54,$A54,Административные!$B$15:$B$54,$B54)","v":0},{"$f":"SUMIFS(Административные!P$15:P$54,Административные!$A$15:$A$54,$A54,Административные!$B$15:$B$54,$B54)","v":0},{"$f":"SUMIFS(Административные!Q$15:Q$54,Административные!$A$15:$A$54,$A54,Административные!$B$15:$B$54,$B54)","v":0},0,{"$f":"SUMIFS(Административные!R$15:R$54,Административные!$A$15:$A$54,$A54,Административные!$B$15:$B$54,$B54)","v":0},{"$f":"SUMIFS(Административные!S$15:S$54,Административные!$A$15:$A$54,$A54,Административные!$B$15:$B$54,$B54)","v":0},null,null,null,null,null,null,null,null,null,{"$f":"SUMIFS(Административные!T$15:T$54,Административные!$A$15:$A$54,$A54,Административные!$B$15:$B$54,$B54)","v":0},null,null,null,null,null,null,null,null,null,0]
["1","p5",null,"L1_4_4",null,null,null,null,null,null,null,"1.4.4","служебные командировки","тыс.руб.",{"$f":"SUMIFS(Административные!O$15:O$54,Административные!$A$15:$A$54,$A55,Административные!$B$15:$B$54,$B55)","v":0},{"$f":"SUMIFS(Административные!P$15:P$54,Административные!$A$15:$A$54,$A55,Административные!$B$15:$B$54,$B55)","v":0},{"$f":"SUMIFS(Административные!Q$15:Q$54,Административные!$A$15:$A$54,$A55,Административные!$B$15:$B$54,$B55)","v":0},0,{"$f":"SUMIFS(Административные!R$15:R$54,Административные!$A$15:$A$54,$A55,Административные!$B$15:$B$54,$B55)","v":0},{"$f":"SUMIFS(Административные!S$15:S$54,Административные!$A$15:$A$54,$A55,Административные!$B$15:$B$54,$B55)","v":0},null,null,null,null,null,null,null,null,null,{"$f":"SUMIFS(Административные!T$15:T$54,Административные!$A$15:$A$54,$A55,Административные!$B$15:$B$54,$B55)","v":0},null,null,null,null,null,null,null,null,null,0]
["1","p6",null,"L1_4_5",null,null,null,null,null,null,null,"1.4.5","обучение персонала","тыс.руб.",{"$f":"SUMIFS(Административные!O$15:O$54,Административные!$A$15:$A$54,$A56,Административные!$B$15:$B$54,$B56)","v":0},{"$f":"SUMIFS(Административные!P$15:P$54,Административные!$A$15:$A$54,$A56,Административные!$B$15:$B$54,$B56)","v":8.31},{"$f":"SUMIFS(Административные!Q$15:Q$54,Административные!$A$15:$A$54,$A56,Административные!$B$15:$B$54,$B56)","v":0},-8.31,{"$f":"SUMIFS(Административные!R$15:R$54,Административные!$A$15:$A$54,$A56,Административные!$B$15:$B$54,$B56)","v":0},{"$f":"SUMIFS(Административные!S$15:S$54,Административные!$A$15:$A$54,$A56,Административные!$B$15:$B$54,$B56)","v":0},null,null,null,null,null,null,null,null,null,{"$f":"SUMIFS(Административные!T$15:T$54,Административные!$A$15:$A$54,$A56,Административные!$B$15:$B$54,$B56)","v":0},null,null,null,null,null,null,null,null,null,0]
["1","p7",null,"L1_4_6",null,null,null,null,null,null,null,"1.4.6","страхование производственных объектов","тыс.руб.",{"$f":"SUMIFS(Административные!O$15:O$54,Административные!$A$15:$A$54,$A57,Административные!$B$15:$B$54,$B57)","v":0},{"$f":"SUMIFS(Административные!P$15:P$54,Административные!$A$15:$A$54,$A57,Административные!$B$15:$B$54,$B57)","v":4.99},{"$f":"SUMIFS(Административные!Q$15:Q$54,Административные!$A$15:$A$54,$A57,Административные!$B$15:$B$54,$B57)","v":0},-4.99,{"$f":"SUMIFS(Административные!R$15:R$54,Административные!$A$15:$A$54,$A57,Административные!$B$15:$B$54,$B57)","v":0},{"$f":"SUMIFS(Административные!S$15:S$54,Административные!$A$15:$A$54,$A57,Административные!$B$15:$B$54,$B57)","v":0},null,null,null,null,null,null,null,null,null,{"$f":"SUMIFS(Административные!T$15:T$54,Административные!$A$15:$A$54,$A57,Административные!$B$15:$B$54,$B57)","v":0},null,null,null,null,null,null,null,null,null,0]
["1","p8",null,"L1_4_7",null,null,null,null,null,null,null,"1.4.7","прочие административные расходы","тыс.руб.",{"$f":"SUMIFS(Административные!O$15:O$54,Административные!$A$15:$A$54,$A58,Административные!$B$15:$B$54,$B58)","v":230.99715589934669},{"$f":"SUMIFS(Административные!P$15:P$54,Административные!$A$15:$A$54,$A58,Административные!$B$15:$B$54,$B58)","v":30.05},{"$f":"SUMIFS(Административные!Q$15:Q$54,Административные!$A$15:$A$54,$A58,Административные!$B$15:$B$54,$B58)","v":176.965542},146.91554199999999,{"$f":"SUMIFS(Административные!R$15:R$54,Административные!$A$15:$A$54,$A58,Административные!$B$15:$B$54,$B58)","v":266.46836822840629},{"$f":"SUMIFS(Административные!S$15:S$54,Административные!$A$15:$A$54,$A58,Административные!$B$15:$B$54,$B58)","v":94.29},null,null,null,null,null,null,null,null,null,{"$f":"SUMIFS(Административные!T$15:T$54,Административные!$A$15:$A$54,$A58,Административные!$B$15:$B$54,$B58)","v":200.88030811263999},null,null,null,null,null,null,null,null,null,-24.613825855512715]
["1","p8_1",null,"L1_4_7_1",null,null,null,null,null,null,null,"1.4.7.1","расходы на амортизацию непроизводственных активов","тыс.руб.",{"$f":"SUMIFS(Административные!O$15:O$54,Административные!$A$15:$A$54,$A59,Административные!$B$15:$B$54,$B59)","v":0},{"$f":"SUMIFS(Административные!P$15:P$54,Административные!$A$15:$A$54,$A59,Административные!$B$15:$B$54,$B59)","v":0},{"$f":"SUMIFS(Административные!Q$15:Q$54,Административные!$A$15:$A$54,$A59,Административные!$B$15:$B$54,$B59)","v":0},0,{"$f":"SUMIFS(Административные!R$15:R$54,Административные!$A$15:$A$54,$A59,Административные!$B$15:$B$54,$B59)","v":0},{"$f":"SUMIFS(Административные!S$15:S$54,Административные!$A$15:$A$54,$A59,Административные!$B$15:$B$54,$B59)","v":0},null,null,null,null,null,null,null,null,null,{"$f":"SUMIFS(Административные!T$15:T$54,Административные!$A$15:$A$54,$A59,Административные!$B$15:$B$54,$B59)","v":0},null,null,null,null,null,null,null,null,null,0]
["1","p8_2",null,"L1_4_7_2",null,null,null,null,null,null,null,"1.4.7.2","расходы по охране объектов и территорий","тыс.руб.",{"$f":"SUMIFS(Административные!O$15:O$54,Административные!$A$15:$A$54,$A60,Административные!$B$15:$B$54,$B60)","v":0},{"$f":"SUMIFS(Административные!P$15:P$54,Административные!$A$15:$A$54,$A60,Административные!$B$15:$B$54,$B60)","v":0},{"$f":"SUMIFS(Административные!Q$15:Q$54,Административные!$A$15:$A$54,$A60,Административные!$B$15:$B$54,$B60)","v":0},0,{"$f":"SUMIFS(Административные!R$15:R$54,Административные!$A$15:$A$54,$A60,Административные!$B$15:$B$54,$B60)","v":0},{"$f":"SUMIFS(Административные!S$15:S$54,Административные!$A$15:$A$54,$A60,Административные!$B$15:$B$54,$B60)","v":0},null,null,null,null,null,null,null,null,null,{"$f":"SUMIFS(Административные!T$15:T$54,Административные!$A$15:$A$54,$A60,Административные!$B$15:$B$54,$B60)","v":0},null,null,null,null,null,null,null,null,null,0]
["1","p8_3",null,"L1_4_7_3",null,null,null,null,null,null,null,"1.4.7.3","иные расходы","тыс.руб.",{"$f":"SUMIFS(Административные!O$15:O$54,Административные!$A$15:$A$54,$A61,Административные!$B$15:$B$54,$B61)","v":230.99715589934669},{"$f":"SUMIFS(Административные!P$15:P$54,Административные!$A$15:$A$54,$A61,Административные!$B$15:$B$54,$B61)","v":30.05},{"$f":"SUMIFS(Административные!Q$15:Q$54,Административные!$A$15:$A$54,$A61,Административные!$B$15:$B$54,$B61)","v":176.965542},146.91554199999999,{"$f":"SUMIFS(Административные!R$15:R$54,Административные!$A$15:$A$54,$A61,Административные!$B$15:$B$54,$B61)","v":266.46836822840629},{"$f":"SUMIFS(Административные!S$15:S$54,Административные!$A$15:$A$54,$A61,Административные!$B$15:$B$54,$B61)","v":94.29},null,null,null,null,null,null,null,null,null,{"$f":"SUMIFS(Административные!T$15:T$54,Административные!$A$15:$A$54,$A61,Административные!$B$15:$B$54,$B61)","v":200.88030811263999},null,null,null,null,null,null,null,null,null,{"$f":"IF(S61=0,0,(AD61-S61)/S61*100)","v":-24.613825855512715},null,null,null,null,null,null,null,null,null,null,null,"См. Лист \"Административные\"."]
["1",null,null,"L1_5",null,null,null,null,null,null,null,"1.5","Сбытовые расходы гарантирующих организаций (за исключением указанных в п.2.6)","тыс.руб.",{"$f":"SUMIFS('Сбытовые расходы ГО'!O$15:O$40,'Сбытовые расходы ГО'!$A$15:$A$40,$A62,'Сбытовые расходы ГО'!$B$15:$B$40,\"L0\")-SUMIFS('Сбытовые расходы ГО'!O$15:O$40,'Сбытовые расходы ГО'!$A$15:$A$40,$A62,'Сбытовые расходы ГО'!$B$15:$B$40,\"L1\")","v":0},{"$f":"SUMIFS('Сбытовые расходы ГО'!P$15:P$40,'Сбытовые расходы ГО'!$A$15:$A$40,$A62,'Сбытовые расходы ГО'!$B$15:$B$40,\"L0\")-SUMIFS('Сбытовые расходы ГО'!P$15:P$40,'Сбытовые расходы ГО'!$A$15:$A$40,$A62,'Сбытовые расходы ГО'!$B$15:$B$40,\"L1\")","v":0},{"$f":"SUMIFS('Сбытовые расходы ГО'!Q$15:Q$40,'Сбытовые расходы ГО'!$A$15:$A$40,$A62,'Сбытовые расходы ГО'!$B$15:$B$40,\"L0\")-SUMIFS('Сбытовые расходы ГО'!Q$15:Q$40,'Сбытовые расходы ГО'!$A$15:$A$40,$A62,'Сбытовые расходы ГО'!$B$15:$B$40,\"L1\")","v":0},0,{"$f":"SUMIFS('Сбытовые расходы ГО'!R$15:R$40,'Сбытовые расходы ГО'!$A$15:$A$40,$A62,'Сбытовые расходы ГО'!$B$15:$B$40,\"L0\")-SUMIFS('Сбытовые расходы ГО'!R$15:R$40,'Сбытовые расходы ГО'!$A$15:$A$40,$A62,'Сбытовые расходы ГО'!$B$15:$B$40,\"L1\")","v":0},{"$f":"SUMIFS('Сбытовые расходы ГО'!S$15:S$40,'Сбытовые расходы ГО'!$A$15:$A$40,$A62,'Сбытовые расходы ГО'!$B$15:$B$40,\"L0\")-SUMIFS('Сбытовые расходы ГО'!S$15:S$40,'Сбытовые расходы ГО'!$A$15:$A$40,$A62,'Сбытовые расходы ГО'!$B$15:$B$40,\"L1\")","v":0},null,null,null,null,null,null,null,null,null,{"$f":"SUMIFS('Сбытовые расходы ГО'!T$15:T$40,'Сбытовые расходы ГО'!$A$15:$A$40,$A62,'Сбытовые расходы ГО'!$B$15:$B$40,\"L0\")-SUMIFS('Сбытовые расходы ГО'!T$15:T$40,'Сбытовые расходы ГО'!$A$15:$A$40,$A62,'Сбытовые расходы ГО'!$B$15:$B$40,\"L1\")","v":0},null,null,null,null,null,null,null,null,null,{"$f":"IF(S62=0,0,(AD62-S62)/S62*100)","v":0}]
["1",null,null,"L1_6",null,null,null,null,null,null,null,"1.6","Реагенты до 2020 года","тыс.руб.",74.88676041424911,120.01,119.99299999999999,-1.7000000000010118E-2,86.386140867429631,null,null,null,null,null,null,null,null,null,null,null,null,null,null,null,null,null,null,null,null,-100]
["1",null,null,"L1_7",null,null,null,null,null,null,null,"1.7","Операционные расходы по концессионным соглашениям","тыс.руб.",{"$f":"SUM(O65:O66)","v":0},{"$f":"SUM(P65:P66)","v":0},{"$f":"SUM(Q65:Q66)","v":0},0,{"$f":"SUM(S65:S66)","v":0},{"$f":"SUM(T65:T66)","v":0},null,null,null,null,null,null,null,null,null,{"$f":"SUM(AD65:AD66)","v":0},null,null,null,null,null,null,null,null,null,{"$f":"IF(S64=0,0,(AD64-S64)/S64*100)","v":0}]
["1",null,null,null,null,null,null,null,null,null,null,"1.7.0"]
["1",null,null,{"$f":"A66&\"pIns1\"","v":"1pIns1"},null,null,null,null,null,null,null,null,"Добавить"]
["1",null,null,"L2",null,null,null,null,null,null,null,"2","Неподконтрольные расходы","тыс.руб.",{"$f":"O68+O79+O80++O90+O91+O92+O94+O95+O96+O97+O100","v":5.8753200000000003},{"$f":"P68+P79+P80++P90+P91+P92+P94+P95+P96+P97+P100","v":1.5},{"$f":"Q68+Q79+Q80++Q90+Q91+Q92+Q94+Q95+Q96+Q97+Q100","v":8.3000000000000007},{"$f":"Q67-P67","v":6.8000000000000007},{"$f":"S68+S79+S80++S90+S91+S92+S94+S95+S96+S97+S100","v":1.496},172.65600000000001,178,185.12,192.53,200.23,0,0,0,0,0,105.384003538423,109.747299687037,114.077351674518,118.580605741499,123.26398997115899,0,0,0,0,0,{"$f":"IF(S67=0,0,(AD67-S67)/S67*100)","v":6944.3852632635699},{"$f":"IF(AD67=0,0,(AE67-AD67)/AD67*100)","v":4.140378048005303},3.9454747404527271,3.947544364309532,3.9495364358903542,-100,0,0,0,0,null,"П. 49 Методических указаний ФСТ № 1746-э."]
["1",null,null,"L2_1",null,null,null,null,null,null,null,"2.1","Расходы на оплату товаров (услуг, работ), приобретаемых у других организаций","тыс.руб.",{"$f":"SUM(O69:O78)","v":0},{"$f":"SUM(P69:P78)","v":0},{"$f":"SUM(Q69:Q78)","v":0},0,{"$f":"SUM(S69:S78)","v":0},0,0,0,0,0,0,0,0,0,0,0,0,0,0,0,0,0,0,0,0,0,0,0,0,0,0,0,0,0,0]
["1","Затраты на тепловую энергию",null,"L2_1_1",null,null,null,null,null,null,null,"2.1.1","расходы на тепловую энергию","тыс.руб.",{"$f":"SUMIFS(Покупка!O$15:O$54,Покупка!$A$15:$A$54,$A69,Покупка!$M$15:$M$54,$B69)","v":0},{"$f":"SUMIFS(Покупка!P$15:P$54,Покупка!$A$15:$A$54,$A69,Покупка!$M$15:$M$54,$B69)","v":0},{"$f":"SUMIFS(Покупка!Q$15:Q$54,Покупка!$A$15:$A$54,$A69,Покупка!$M$15:$M$54,$B69)","v":0},0,{"$f":"SUMIFS(Покупка!R$15:R$54,Покупка!$A$15:$A$54,$A69,Покупка!$M$15:$M$54,$B69)","v":0},{"$f":"SUMIFS(Покупка!S$15:S$54,Покупка!$A$15:$A$54,$A69,Покупка!$M$15:$M$54,$B69)","v":0},{"$f":"SUMIFS(Покупка!T$15:T$54,Покупка!$A$15:$A$54,$A69,Покупка!$M$15:$M$54,$B69)","v":0},{"$f":"SUMIFS(Покупка!U$15:U$54,Покупка!$A$15:$A$54,$A69,Покупка!$M$15:$M$54,$B69)","v":0},{"$f":"SUMIFS(Покупка!V$15:V$54,Покупка!$A$15:$A$54,$A69,Покупка!$M$15:$M$54,$B69)","v":0},{"$f":"SUMIFS(Покупка!W$15:W$54,Покупка!$A$15:$A$54,$A69,Покупка!$M$15:$M$54,$B69)","v":0},{"$f":"SUMIFS(Покупка!X$15:X$54,Покупка!$A$15:$A$54,$A69,Покупка!$M$15:$M$54,$B69)","v":0},{"$f":"SUMIFS(Покупка!Y$15:Y$54,Покупка!$A$15:$A$54,$A69,Покупка!$M$15:$M$54,$B69)","v":0},{"$f":"SUMIFS(Покупка!Z$15:Z$54,Покупка!$A$15:$A$54,$A69,Покупка!$M$15:$M$54,$B69)","v":0},{"$f":"SUMIFS(Покупка!AA$15:AA$54,Покупка!$A$15:$A$54,$A69,Покупка!$M$15:$M$54,$B69)","v":0},{"$f":"SUMIFS(Покупка!AB$15:AB$54,Покупка!$A$15:$A$54,$A69,Покупка!$M$15:$M$54,$B69)","v":0},{"$f":"SUMIFS(Покупка!AC$15:AC$54,Покупка!$A$15:$A$54,$A69,Покупка!$M$15:$M$54,$B69)","v":0},{"$f":"SUMIFS(Покупка!AD$15:AD$54,Покупка!$A$15:$A$54,$A69,Покупка!$M$15:$M$54,$B69)","v":0},{"$f":"SUMIFS(Покупка!AE$15:AE$54,Покупка!$A$15:$A$54,$A69,Покупка!$M$15:$M$54,$B69)","v":0},{"$f":"SUMIFS(Покупка!AF$15:AF$54,Покупка!$A$15:$A$54,$A69,Покупка!$M$15:$M$54,$B69)","v":0},{"$f":"SUMIFS(Покупка!AG$15:AG$54,Покупка!$A$15:$A$54,$A69,Покупка!$M$15:$M$54,$B69)","v":0},{"$f":"SUMIFS(Покупка!AH$15:AH$54,Покупка!$A$15:$A$54,$A69,Покупка!$M$15:$M$54,$B69)","v":0},{"$f":"SUMIFS(Покупка!AI$15:AI$54,Покупка!$A$15:$A$54,$A69,Покупка!$M$15:$M$54,$B69)","v":0},{"$f":"SUMIFS(Покупка!AJ$15:AJ$54,Покупка!$A$15:$A$54,$A69,Покупка!$M$15:$M$54,$B69)","v":0},{"$f":"SUMIFS(Покупка!AK$15:AK$54,Покупка!$A$15:$A$54,$A69,Покупка!$M$15:$M$54,$B69)","v":0},{"$f":"SUMIFS(Покупка!AL$15:AL$54,Покупка!$A$15:$A$54,$A69,Покупка!$M$15:$M$54,$B69)","v":0},0,0,0,0,0,0,0,0,0,0]
["1","Затраты на теплоноситель",null,"L2_1_2",null,null,null,null,null,null,null,"2.1.2","расходы на теплоноситель","тыс.руб.",{"$f":"SUMIFS(Покупка!O$15:O$54,Покупка!$A$15:$A$54,$A70,Покупка!$M$15:$M$54,$B70)","v":0},{"$f":"SUMIFS(Покупка!P$15:P$54,Покупка!$A$15:$A$54,$A70,Покупка!$M$15:$M$54,$B70)","v":0},{"$f":"SUMIFS(Покупка!Q$15:Q$54,Покупка!$A$15:$A$54,$A70,Покупка!$M$15:$M$54,$B70)","v":0},0,{"$f":"SUMIFS(Покупка!R$15:R$54,Покупка!$A$15:$A$54,$A70,Покупка!$M$15:$M$54,$B70)","v":0},{"$f":"SUMIFS(Покупка!S$15:S$54,Покупка!$A$15:$A$54,$A70,Покупка!$M$15:$M$54,$B70)","v":0},{"$f":"SUMIFS(Покупка!T$15:T$54,Покупка!$A$15:$A$54,$A70,Покупка!$M$15:$M$54,$B70)","v":0},{"$f":"SUMIFS(Покупка!U$15:U$54,Покупка!$A$15:$A$54,$A70,Покупка!$M$15:$M$54,$B70)","v":0},{"$f":"SUMIFS(Покупка!V$15:V$54,Покупка!$A$15:$A$54,$A70,Покупка!$M$15:$M$54,$B70)","v":0},{"$f":"SUMIFS(Покупка!W$15:W$54,Покупка!$A$15:$A$54,$A70,Покупка!$M$15:$M$54,$B70)","v":0},{"$f":"SUMIFS(Покупка!X$15:X$54,Покупка!$A$15:$A$54,$A70,Покупка!$M$15:$M$54,$B70)","v":0},{"$f":"SUMIFS(Покупка!Y$15:Y$54,Покупка!$A$15:$A$54,$A70,Покупка!$M$15:$M$54,$B70)","v":0},{"$f":"SUMIFS(Покупка!Z$15:Z$54,Покупка!$A$15:$A$54,$A70,Покупка!$M$15:$M$54,$B70)","v":0},{"$f":"SUMIFS(Покупка!AA$15:AA$54,Покупка!$A$15:$A$54,$A70,Покупка!$M$15:$M$54,$B70)","v":0},{"$f":"SUMIFS(Покупка!AB$15:AB$54,Покупка!$A$15:$A$54,$A70,Покупка!$M$15:$M$54,$B70)","v":0},{"$f":"SUMIFS(Покупка!AC$15:AC$54,Покупка!$A$15:$A$54,$A70,Покупка!$M$15:$M$54,$B70)","v":0},{"$f":"SUMIFS(Покупка!AD$15:AD$54,Покупка!$A$15:$A$54,$A70,Покупка!$M$15:$M$54,$B70)","v":0},{"$f":"SUMIFS(Покупка!AE$15:AE$54,Покупка!$A$15:$A$54,$A70,Покупка!$M$15:$M$54,$B70)","v":0},{"$f":"SUMIFS(Покупка!AF$15:AF$54,Покупка!$A$15:$A$54,$A70,Покупка!$M$15:$M$54,$B70)","v":0},{"$f":"SUMIFS(Покупка!AG$15:AG$54,Покупка!$A$15:$A$54,$A70,Покупка!$M$15:$M$54,$B70)","v":0},{"$f":"SUMIFS(Покупка!AH$15:AH$54,Покупка!$A$15:$A$54,$A70,Покупка!$M$15:$M$54,$B70)","v":0},{"$f":"SUMIFS(Покупка!AI$15:AI$54,Покупка!$A$15:$A$54,$A70,Покупка!$M$15:$M$54,$B70)","v":0},{"$f":"SUMIFS(Покупка!AJ$15:AJ$54,Покупка!$A$15:$A$54,$A70,Покупка!$M$15:$M$54,$B70)","v":0},{"$f":"SUMIFS(Покупка!AK$15:AK$54,Покупка!$A$15:$A$54,$A70,Покупка!$M$15:$M$54,$B70)","v":0},{"$f":"SUMIFS(Покупка!AL$15:AL$54,Покупка!$A$15:$A$54,$A70,Покупка!$M$15:$M$54,$B70)","v":0},0,0,0,0,0,0,0,0,0,0]
["1","Затраты на транспортировку холодной воды",null,"L2_1_3",null,null,null,null,null,null,null,"2.1.3","расходы на транспортировку воды","тыс.руб.",{"$f":"SUMIFS(Покупка!O$15:O$54,Покупка!$A$15:$A$54,$A71,Покупка!$M$15:$M$54,$B71)","v":0},{"$f":"SUMIFS(Покупка!P$15:P$54,Покупка!$A$15:$A$54,$A71,Покупка!$M$15:$M$54,$B71)","v":0},{"$f":"SUMIFS(Покупка!Q$15:Q$54,Покупка!$A$15:$A$54,$A71,Покупка!$M$15:$M$54,$B71)","v":0},0,{"$f":"SUMIFS(Покупка!R$15:R$54,Покупка!$A$15:$A$54,$A71,Покупка!$M$15:$M$54,$B71)","v":0},{"$f":"SUMIFS(Покупка!S$15:S$54,Покупка!$A$15:$A$54,$A71,Покупка!$M$15:$M$54,$B71)","v":0},{"$f":"SUMIFS(Покупка!T$15:T$54,Покупка!$A$15:$A$54,$A71,Покупка!$M$15:$M$54,$B71)","v":0},{"$f":"SUMIFS(Покупка!U$15:U$54,Покупка!$A$15:$A$54,$A71,Покупка!$M$15:$M$54,$B71)","v":0},{"$f":"SUMIFS(Покупка!V$15:V$54,Покупка!$A$15:$A$54,$A71,Покупка!$M$15:$M$54,$B71)","v":0},{"$f":"SUMIFS(Покупка!W$15:W$54,Покупка!$A$15:$A$54,$A71,Покупка!$M$15:$M$54,$B71)","v":0},{"$f":"SUMIFS(Покупка!X$15:X$54,Покупка!$A$15:$A$54,$A71,Покупка!$M$15:$M$54,$B71)","v":0},{"$f":"SUMIFS(Покупка!Y$15:Y$54,Покупка!$A$15:$A$54,$A71,Покупка!$M$15:$M$54,$B71)","v":0},{"$f":"SUMIFS(Покупка!Z$15:Z$54,Покупка!$A$15:$A$54,$A71,Покупка!$M$15:$M$54,$B71)","v":0},{"$f":"SUMIFS(Покупка!AA$15:AA$54,Покупка!$A$15:$A$54,$A71,Покупка!$M$15:$M$54,$B71)","v":0},{"$f":"SUMIFS(Покупка!AB$15:AB$54,Покупка!$A$15:$A$54,$A71,Покупка!$M$15:$M$54,$B71)","v":0},{"$f":"SUMIFS(Покупка!AC$15:AC$54,Покупка!$A$15:$A$54,$A71,Покупка!$M$15:$M$54,$B71)","v":0},{"$f":"SUMIFS(Покупка!AD$15:AD$54,Покупка!$A$15:$A$54,$A71,Покупка!$M$15:$M$54,$B71)","v":0},{"$f":"SUMIFS(Покупка!AE$15:AE$54,Покупка!$A$15:$A$54,$A71,Покупка!$M$15:$M$54,$B71)","v":0},{"$f":"SUMIFS(Покупка!AF$15:AF$54,Покупка!$A$15:$A$54,$A71,Покупка!$M$15:$M$54,$B71)","v":0},{"$f":"SUMIFS(Покупка!AG$15:AG$54,Покупка!$A$15:$A$54,$A71,Покупка!$M$15:$M$54,$B71)","v":0},{"$f":"SUMIFS(Покупка!AH$15:AH$54,Покупка!$A$15:$A$54,$A71,Покупка!$M$15:$M$54,$B71)","v":0},{"$f":"SUMIFS(Покупка!AI$15:AI$54,Покупка!$A$15:$A$54,$A71,Покупка!$M$15:$M$54,$B71)","v":0},{"$f":"SUMIFS(Покупка!AJ$15:AJ$54,Покупка!$A$15:$A$54,$A71,Покупка!$M$15:$M$54,$B71)","v":0},{"$f":"SUMIFS(Покупка!AK$15:AK$54,Покупка!$A$15:$A$54,$A71,Покупка!$M$15:$M$54,$B71)","v":0},{"$f":"SUMIFS(Покупка!AL$15:AL$54,Покупка!$A$15:$A$54,$A71,Покупка!$M$15:$M$54,$B71)","v":0},0,0,0,0,0,0,0,0,0,0]
["1","Затраты на холодную воду",null,"L2_1_4",null,null,null,null,null,null,null,"2.1.4","расходы на покупку воды","тыс.руб.",{"$f":"SUMIFS(Покупка!O$15:O$54,Покупка!$A$15:$A$54,$A72,Покупка!$M$15:$M$54,$B72)","v":0},{"$f":"SUMIFS(Покупка!P$15:P$54,Покупка!$A$15:$A$54,$A72,Покупка!$M$15:$M$54,$B72)","v":0},{"$f":"SUMIFS(Покупка!Q$15:Q$54,Покупка!$A$15:$A$54,$A72,Покупка!$M$15:$M$54,$B72)","v":0},0,{"$f":"SUMIFS(Покупка!R$15:R$54,Покупка!$A$15:$A$54,$A72,Покупка!$M$15:$M$54,$B72)","v":0},{"$f":"SUMIFS(Покупка!S$15:S$54,Покупка!$A$15:$A$54,$A72,Покупка!$M$15:$M$54,$B72)","v":0},{"$f":"SUMIFS(Покупка!T$15:T$54,Покупка!$A$15:$A$54,$A72,Покупка!$M$15:$M$54,$B72)","v":0},{"$f":"SUMIFS(Покупка!U$15:U$54,Покупка!$A$15:$A$54,$A72,Покупка!$M$15:$M$54,$B72)","v":0},{"$f":"SUMIFS(Покупка!V$15:V$54,Покупка!$A$15:$A$54,$A72,Покупка!$M$15:$M$54,$B72)","v":0},{"$f":"SUMIFS(Покупка!W$15:W$54,Покупка!$A$15:$A$54,$A72,Покупка!$M$15:$M$54,$B72)","v":0},{"$f":"SUMIFS(Покупка!X$15:X$54,Покупка!$A$15:$A$54,$A72,Покупка!$M$15:$M$54,$B72)","v":0},{"$f":"SUMIFS(Покупка!Y$15:Y$54,Покупка!$A$15:$A$54,$A72,Покупка!$M$15:$M$54,$B72)","v":0},{"$f":"SUMIFS(Покупка!Z$15:Z$54,Покупка!$A$15:$A$54,$A72,Покупка!$M$15:$M$54,$B72)","v":0},{"$f":"SUMIFS(Покупка!AA$15:AA$54,Покупка!$A$15:$A$54,$A72,Покупка!$M$15:$M$54,$B72)","v":0},{"$f":"SUMIFS(Покупка!AB$15:AB$54,Покупка!$A$15:$A$54,$A72,Покупка!$M$15:$M$54,$B72)","v":0},{"$f":"SUMIFS(Покупка!AC$15:AC$54,Покупка!$A$15:$A$54,$A72,Покупка!$M$15:$M$54,$B72)","v":0},{"$f":"SUMIFS(Покупка!AD$15:AD$54,Покупка!$A$15:$A$54,$A72,Покупка!$M$15:$M$54,$B72)","v":0},{"$f":"SUMIFS(Покупка!AE$15:AE$54,Покупка!$A$15:$A$54,$A72,Покупка!$M$15:$M$54,$B72)","v":0},{"$f":"SUMIFS(Покупка!AF$15:AF$54,Покупка!$A$15:$A$54,$A72,Покупка!$M$15:$M$54,$B72)","v":0},{"$f":"SUMIFS(Покупка!AG$15:AG$54,Покупка!$A$15:$A$54,$A72,Покупка!$M$15:$M$54,$B72)","v":0},{"$f":"SUMIFS(Покупка!AH$15:AH$54,Покупка!$A$15:$A$54,$A72,Покупка!$M$15:$M$54,$B72)","v":0},{"$f":"SUMIFS(Покупка!AI$15:AI$54,Покупка!$A$15:$A$54,$A72,Покупка!$M$15:$M$54,$B72)","v":0},{"$f":"SUMIFS(Покупка!AJ$15:AJ$54,Покупка!$A$15:$A$54,$A72,Покупка!$M$15:$M$54,$B72)","v":0},{"$f":"SUMIFS(Покупка!AK$15:AK$54,Покупка!$A$15:$A$54,$A72,Покупка!$M$15:$M$54,$B72)","v":0},{"$f":"SUMIFS(Покупка!AL$15:AL$54,Покупка!$A$15:$A$54,$A72,Покупка!$M$15:$M$54,$B72)","v":0},0,0,0,0,0,0,0,0,0,0]
["1","Затраты на горячую воду",null,"L2_1_5",null,null,null,null,null,null,null,"2.1.5","услуги по горячему водоснабжению","тыс.руб.",{"$f":"SUMIFS(Покупка!O$15:O$54,Покупка!$A$15:$A$54,$A73,Покупка!$M$15:$M$54,$B73)","v":0},{"$f":"SUMIFS(Покупка!P$15:P$54,Покупка!$A$15:$A$54,$A73,Покупка!$M$15:$M$54,$B73)","v":0},{"$f":"SUMIFS(Покупка!Q$15:Q$54,Покупка!$A$15:$A$54,$A73,Покупка!$M$15:$M$54,$B73)","v":0},0,{"$f":"SUMIFS(Покупка!R$15:R$54,Покупка!$A$15:$A$54,$A73,Покупка!$M$15:$M$54,$B73)","v":0},{"$f":"SUMIFS(Покупка!S$15:S$54,Покупка!$A$15:$A$54,$A73,Покупка!$M$15:$M$54,$B73)","v":0},{"$f":"SUMIFS(Покупка!T$15:T$54,Покупка!$A$15:$A$54,$A73,Покупка!$M$15:$M$54,$B73)","v":0},{"$f":"SUMIFS(Покупка!U$15:U$54,Покупка!$A$15:$A$54,$A73,Покупка!$M$15:$M$54,$B73)","v":0},{"$f":"SUMIFS(Покупка!V$15:V$54,Покупка!$A$15:$A$54,$A73,Покупка!$M$15:$M$54,$B73)","v":0},{"$f":"SUMIFS(Покупка!W$15:W$54,Покупка!$A$15:$A$54,$A73,Покупка!$M$15:$M$54,$B73)","v":0},{"$f":"SUMIFS(Покупка!X$15:X$54,Покупка!$A$15:$A$54,$A73,Покупка!$M$15:$M$54,$B73)","v":0},{"$f":"SUMIFS(Покупка!Y$15:Y$54,Покупка!$A$15:$A$54,$A73,Покупка!$M$15:$M$54,$B73)","v":0},{"$f":"SUMIFS(Покупка!Z$15:Z$54,Покупка!$A$15:$A$54,$A73,Покупка!$M$15:$M$54,$B73)","v":0},{"$f":"SUMIFS(Покупка!AA$15:AA$54,Покупка!$A$15:$A$54,$A73,Покупка!$M$15:$M$54,$B73)","v":0},{"$f":"SUMIFS(Покупка!AB$15:AB$54,Покупка!$A$15:$A$54,$A73,Покупка!$M$15:$M$54,$B73)","v":0},{"$f":"SUMIFS(Покупка!AC$15:AC$54,Покупка!$A$15:$A$54,$A73,Покупка!$M$15:$M$54,$B73)","v":0},{"$f":"SUMIFS(Покупка!AD$15:AD$54,Покупка!$A$15:$A$54,$A73,Покупка!$M$15:$M$54,$B73)","v":0},{"$f":"SUMIFS(Покупка!AE$15:AE$54,Покупка!$A$15:$A$54,$A73,Покупка!$M$15:$M$54,$B73)","v":0},{"$f":"SUMIFS(Покупка!AF$15:AF$54,Покупка!$A$15:$A$54,$A73,Покупка!$M$15:$M$54,$B73)","v":0},{"$f":"SUMIFS(Покупка!AG$15:AG$54,Покупка!$A$15:$A$54,$A73,Покупка!$M$15:$M$54,$B73)","v":0},{"$f":"SUMIFS(Покупка!AH$15:AH$54,Покупка!$A$15:$A$54,$A73,Покупка!$M$15:$M$54,$B73)","v":0},{"$f":"SUMIFS(Покупка!AI$15:AI$54,Покупка!$A$15:$A$54,$A73,Покупка!$M$15:$M$54,$B73)","v":0},{"$f":"SUMIFS(Покупка!AJ$15:AJ$54,Покупка!$A$15:$A$54,$A73,Покупка!$M$15:$M$54,$B73)","v":0},{"$f":"SUMIFS(Покупка!AK$15:AK$54,Покупка!$A$15:$A$54,$A73,Покупка!$M$15:$M$54,$B73)","v":0},{"$f":"SUMIFS(Покупка!AL$15:AL$54,Покупка!$A$15:$A$54,$A73,Покупка!$M$15:$M$54,$B73)","v":0},0,0,0,0,0,0,0,0,0,0]
["1",null,null,"L2_1_6",null,null,null,null,null,null,null,"2.1.6","услуги по приготовлению воды на нужды горячего водоснабжения","тыс.руб.",null,null,null,0,null,null,null,null,null,null,null,null,null,null,null,null,null,null,null,null,null,null,null,null,null,0,0,0,0,0,0,0,0,0,0]
["1",null,null,"L2_1_7",null,null,null,null,null,null,null,"2.1.7","услуги по транспортировке горячей воды","тыс.руб.",null,null,null,0,null,null,null,null,null,null,null,null,null,null,null,null,null,null,null,null,null,null,null,null,null,0,0,0,0,0,0,0,0,0,0]
["1","Затраты на водоотведение",null,"L2_1_8",null,null,null,null,null,null,null,"2.1.8","услуги по водоотведению","тыс.руб.",{"$f":"SUMIFS(Покупка!O$15:O$54,Покупка!$A$15:$A$54,$A76,Покупка!$M$15:$M$54,$B76)","v":0},{"$f":"SUMIFS(Покупка!P$15:P$54,Покупка!$A$15:$A$54,$A76,Покупка!$M$15:$M$54,$B76)","v":0},{"$f":"SUMIFS(Покупка!Q$15:Q$54,Покупка!$A$15:$A$54,$A76,Покупка!$M$15:$M$54,$B76)","v":0},0,{"$f":"SUMIFS(Покупка!R$15:R$54,Покупка!$A$15:$A$54,$A76,Покупка!$M$15:$M$54,$B76)","v":0},{"$f":"SUMIFS(Покупка!S$15:S$54,Покупка!$A$15:$A$54,$A76,Покупка!$M$15:$M$54,$B76)","v":0},{"$f":"SUMIFS(Покупка!T$15:T$54,Покупка!$A$15:$A$54,$A76,Покупка!$M$15:$M$54,$B76)","v":0},{"$f":"SUMIFS(Покупка!U$15:U$54,Покупка!$A$15:$A$54,$A76,Покупка!$M$15:$M$54,$B76)","v":0},{"$f":"SUMIFS(Покупка!V$15:V$54,Покупка!$A$15:$A$54,$A76,Покупка!$M$15:$M$54,$B76)","v":0},{"$f":"SUMIFS(Покупка!W$15:W$54,Покупка!$A$15:$A$54,$A76,Покупка!$M$15:$M$54,$B76)","v":0},{"$f":"SUMIFS(Покупка!X$15:X$54,Покупка!$A$15:$A$54,$A76,Покупка!$M$15:$M$54,$B76)","v":0},{"$f":"SUMIFS(Покупка!Y$15:Y$54,Покупка!$A$15:$A$54,$A76,Покупка!$M$15:$M$54,$B76)","v":0},{"$f":"SUMIFS(Покупка!Z$15:Z$54,Покупка!$A$15:$A$54,$A76,Покупка!$M$15:$M$54,$B76)","v":0},{"$f":"SUMIFS(Покупка!AA$15:AA$54,Покупка!$A$15:$A$54,$A76,Покупка!$M$15:$M$54,$B76)","v":0},{"$f":"SUMIFS(Покупка!AB$15:AB$54,Покупка!$A$15:$A$54,$A76,Покупка!$M$15:$M$54,$B76)","v":0},{"$f":"SUMIFS(Покупка!AC$15:AC$54,Покупка!$A$15:$A$54,$A76,Покупка!$M$15:$M$54,$B76)","v":0},{"$f":"SUMIFS(Покупка!AD$15:AD$54,Покупка!$A$15:$A$54,$A76,Покупка!$M$15:$M$54,$B76)","v":0},{"$f":"SUMIFS(Покупка!AE$15:AE$54,Покупка!$A$15:$A$54,$A76,Покупка!$M$15:$M$54,$B76)","v":0},{"$f":"SUMIFS(Покупка!AF$15:AF$54,Покупка!$A$15:$A$54,$A76,Покупка!$M$15:$M$54,$B76)","v":0},{"$f":"SUMIFS(Покупка!AG$15:AG$54,Покупка!$A$15:$A$54,$A76,Покупка!$M$15:$M$54,$B76)","v":0},{"$f":"SUMIFS(Покупка!AH$15:AH$54,Покупка!$A$15:$A$54,$A76,Покупка!$M$15:$M$54,$B76)","v":0},{"$f":"SUMIFS(Покупка!AI$15:AI$54,Покупка!$A$15:$A$54,$A76,Покупка!$M$15:$M$54,$B76)","v":0},{"$f":"SUMIFS(Покупка!AJ$15:AJ$54,Покупка!$A$15:$A$54,$A76,Покупка!$M$15:$M$54,$B76)","v":0},{"$f":"SUMIFS(Покупка!AK$15:AK$54,Покупка!$A$15:$A$54,$A76,Покупка!$M$15:$M$54,$B76)","v":0},{"$f":"SUMIFS(Покупка!AL$15:AL$54,Покупка!$A$15:$A$54,$A76,Покупка!$M$15:$M$54,$B76)","v":0},{"$f":"IF(S76=0,0,(AD76-S76)/S76*100)","v":0},0,0,0,0,0,0,0,0,0]
["1","Затраты на транспортировку сточных вод",null,"L2_1_9",null,null,null,null,null,null,null,"2.1.9","услуги по транспортировке сточных вод","тыс.руб.",{"$f":"SUMIFS(Покупка!O$15:O$54,Покупка!$A$15:$A$54,$A77,Покупка!$M$15:$M$54,$B77)","v":0},{"$f":"SUMIFS(Покупка!P$15:P$54,Покупка!$A$15:$A$54,$A77,Покупка!$M$15:$M$54,$B77)","v":0},{"$f":"SUMIFS(Покупка!Q$15:Q$54,Покупка!$A$15:$A$54,$A77,Покупка!$M$15:$M$54,$B77)","v":0},0,{"$f":"SUMIFS(Покупка!R$15:R$54,Покупка!$A$15:$A$54,$A77,Покупка!$M$15:$M$54,$B77)","v":0},{"$f":"SUMIFS(Покупка!S$15:S$54,Покупка!$A$15:$A$54,$A77,Покупка!$M$15:$M$54,$B77)","v":0},{"$f":"SUMIFS(Покупка!T$15:T$54,Покупка!$A$15:$A$54,$A77,Покупка!$M$15:$M$54,$B77)","v":0},{"$f":"SUMIFS(Покупка!U$15:U$54,Покупка!$A$15:$A$54,$A77,Покупка!$M$15:$M$54,$B77)","v":0},{"$f":"SUMIFS(Покупка!V$15:V$54,Покупка!$A$15:$A$54,$A77,Покупка!$M$15:$M$54,$B77)","v":0},{"$f":"SUMIFS(Покупка!W$15:W$54,Покупка!$A$15:$A$54,$A77,Покупка!$M$15:$M$54,$B77)","v":0},{"$f":"SUMIFS(Покупка!X$15:X$54,Покупка!$A$15:$A$54,$A77,Покупка!$M$15:$M$54,$B77)","v":0},{"$f":"SUMIFS(Покупка!Y$15:Y$54,Покупка!$A$15:$A$54,$A77,Покупка!$M$15:$M$54,$B77)","v":0},{"$f":"SUMIFS(Покупка!Z$15:Z$54,Покупка!$A$15:$A$54,$A77,Покупка!$M$15:$M$54,$B77)","v":0},{"$f":"SUMIFS(Покупка!AA$15:AA$54,Покупка!$A$15:$A$54,$A77,Покупка!$M$15:$M$54,$B77)","v":0},{"$f":"SUMIFS(Покупка!AB$15:AB$54,Покупка!$A$15:$A$54,$A77,Покупка!$M$15:$M$54,$B77)","v":0},{"$f":"SUMIFS(Покупка!AC$15:AC$54,Покупка!$A$15:$A$54,$A77,Покупка!$M$15:$M$54,$B77)","v":0},{"$f":"SUMIFS(Покупка!AD$15:AD$54,Покупка!$A$15:$A$54,$A77,Покупка!$M$15:$M$54,$B77)","v":0},{"$f":"SUMIFS(Покупка!AE$15:AE$54,Покупка!$A$15:$A$54,$A77,Покупка!$M$15:$M$54,$B77)","v":0},{"$f":"SUMIFS(Покупка!AF$15:AF$54,Покупка!$A$15:$A$54,$A77,Покупка!$M$15:$M$54,$B77)","v":0},{"$f":"SUMIFS(Покупка!AG$15:AG$54,Покупка!$A$15:$A$54,$A77,Покупка!$M$15:$M$54,$B77)","v":0},{"$f":"SUMIFS(Покупка!AH$15:AH$54,Покупка!$A$15:$A$54,$A77,Покупка!$M$15:$M$54,$B77)","v":0},{"$f":"SUMIFS(Покупка!AI$15:AI$54,Покупка!$A$15:$A$54,$A77,Покупка!$M$15:$M$54,$B77)","v":0},{"$f":"SUMIFS(Покупка!AJ$15:AJ$54,Покупка!$A$15:$A$54,$A77,Покупка!$M$15:$M$54,$B77)","v":0},{"$f":"SUMIFS(Покупка!AK$15:AK$54,Покупка!$A$15:$A$54,$A77,Покупка!$M$15:$M$54,$B77)","v":0},{"$f":"SUMIFS(Покупка!AL$15:AL$54,Покупка!$A$15:$A$54,$A77,Покупка!$M$15:$M$54,$B77)","v":0},{"$f":"IF(S77=0,0,(AD77-S77)/S77*100)","v":0},0,0,0,0,0,0,0,0,0]
["1","Затраты на очистку сточных вод",null,"L2_1_10",null,null,null,null,null,null,null,"2.1.10","услуги по очистке сточных вод","тыс.руб.",{"$f":"SUMIFS(Покупка!O$15:O$54,Покупка!$A$15:$A$54,$A78,Покупка!$M$15:$M$54,$B78)","v":0},{"$f":"SUMIFS(Покупка!P$15:P$54,Покупка!$A$15:$A$54,$A78,Покупка!$M$15:$M$54,$B78)","v":0},{"$f":"SUMIFS(Покупка!Q$15:Q$54,Покупка!$A$15:$A$54,$A78,Покупка!$M$15:$M$54,$B78)","v":0},0,{"$f":"SUMIFS(Покупка!R$15:R$54,Покупка!$A$15:$A$54,$A78,Покупка!$M$15:$M$54,$B78)","v":0},{"$f":"SUMIFS(Покупка!S$15:S$54,Покупка!$A$15:$A$54,$A78,Покупка!$M$15:$M$54,$B78)","v":0},{"$f":"SUMIFS(Покупка!T$15:T$54,Покупка!$A$15:$A$54,$A78,Покупка!$M$15:$M$54,$B78)","v":0},{"$f":"SUMIFS(Покупка!U$15:U$54,Покупка!$A$15:$A$54,$A78,Покупка!$M$15:$M$54,$B78)","v":0},{"$f":"SUMIFS(Покупка!V$15:V$54,Покупка!$A$15:$A$54,$A78,Покупка!$M$15:$M$54,$B78)","v":0},{"$f":"SUMIFS(Покупка!W$15:W$54,Покупка!$A$15:$A$54,$A78,Покупка!$M$15:$M$54,$B78)","v":0},{"$f":"SUMIFS(Покупка!X$15:X$54,Покупка!$A$15:$A$54,$A78,Покупка!$M$15:$M$54,$B78)","v":0},{"$f":"SUMIFS(Покупка!Y$15:Y$54,Покупка!$A$15:$A$54,$A78,Покупка!$M$15:$M$54,$B78)","v":0},{"$f":"SUMIFS(Покупка!Z$15:Z$54,Покупка!$A$15:$A$54,$A78,Покупка!$M$15:$M$54,$B78)","v":0},{"$f":"SUMIFS(Покупка!AA$15:AA$54,Покупка!$A$15:$A$54,$A78,Покупка!$M$15:$M$54,$B78)","v":0},{"$f":"SUMIFS(Покупка!AB$15:AB$54,Покупка!$A$15:$A$54,$A78,Покупка!$M$15:$M$54,$B78)","v":0},{"$f":"SUMIFS(Покупка!AC$15:AC$54,Покупка!$A$15:$A$54,$A78,Покупка!$M$15:$M$54,$B78)","v":0},{"$f":"SUMIFS(Покупка!AD$15:AD$54,Покупка!$A$15:$A$54,$A78,Покупка!$M$15:$M$54,$B78)","v":0},{"$f":"SUMIFS(Покупка!AE$15:AE$54,Покупка!$A$15:$A$54,$A78,Покупка!$M$15:$M$54,$B78)","v":0},{"$f":"SUMIFS(Покупка!AF$15:AF$54,Покупка!$A$15:$A$54,$A78,Покупка!$M$15:$M$54,$B78)","v":0},{"$f":"SUMIFS(Покупка!AG$15:AG$54,Покупка!$A$15:$A$54,$A78,Покупка!$M$15:$M$54,$B78)","v":0},{"$f":"SUMIFS(Покупка!AH$15:AH$54,Покупка!$A$15:$A$54,$A78,Покупка!$M$15:$M$54,$B78)","v":0},{"$f":"SUMIFS(Покупка!AI$15:AI$54,Покупка!$A$15:$A$54,$A78,Покупка!$M$15:$M$54,$B78)","v":0},{"$f":"SUMIFS(Покупка!AJ$15:AJ$54,Покупка!$A$15:$A$54,$A78,Покупка!$M$15:$M$54,$B78)","v":0},{"$f":"SUMIFS(Покупка!AK$15:AK$54,Покупка!$A$15:$A$54,$A78,Покупка!$M$15:$M$54,$B78)","v":0},{"$f":"SUMIFS(Покупка!AL$15:AL$54,Покупка!$A$15:$A$54,$A78,Покупка!$M$15:$M$54,$B78)","v":0},{"$f":"IF(S78=0,0,(AD78-S78)/S78*100)","v":0},0,0,0,0,0,0,0,0,0]
["1",null,null,"L2_2",null,null,null,null,null,null,null,"2.2","Расходы на реагенты","тыс.руб.",{"$f":"SUMIFS(Реагенты!O$15:O$29,Реагенты!$A$15:$A$29,$A79,Реагенты!$M$15:$M$29,\"Всего по тарифу\")","v":0},{"$f":"SUMIFS(Реагенты!P$15:P$29,Реагенты!$A$15:$A$29,$A79,Реагенты!$M$15:$M$29,\"Всего по тарифу\")","v":0},{"$f":"SUMIFS(Реагенты!Q$15:Q$29,Реагенты!$A$15:$A$29,$A79,Реагенты!$M$15:$M$29,\"Всего по тарифу\")","v":0},0,{"$f":"SUMIFS(Реагенты!R$15:R$29,Реагенты!$A$15:$A$29,$A79,Реагенты!$M$15:$M$29,\"Всего по тарифу\")","v":0},{"$f":"SUMIFS(Реагенты!S$15:S$29,Реагенты!$A$15:$A$29,$A79,Реагенты!$M$15:$M$29,\"Всего по тарифу\")","v":171.16},{"$f":"SUMIFS(Реагенты!T$15:T$29,Реагенты!$A$15:$A$29,$A79,Реагенты!$M$15:$M$29,\"Всего по тарифу\")","v":178},{"$f":"SUMIFS(Реагенты!U$15:U$29,Реагенты!$A$15:$A$29,$A79,Реагенты!$M$15:$M$29,\"Всего по тарифу\")","v":185.12},{"$f":"SUMIFS(Реагенты!V$15:V$29,Реагенты!$A$15:$A$29,$A79,Реагенты!$M$15:$M$29,\"Всего по тарифу\")","v":192.53},{"$f":"SUMIFS(Реагенты!W$15:W$29,Реагенты!$A$15:$A$29,$A79,Реагенты!$M$15:$M$29,\"Всего по тарифу\")","v":200.23},{"$f":"SUMIFS(Реагенты!X$15:X$29,Реагенты!$A$15:$A$29,$A79,Реагенты!$M$15:$M$29,\"Всего по тарифу\")","v":0},{"$f":"SUMIFS(Реагенты!Y$15:Y$29,Реагенты!$A$15:$A$29,$A79,Реагенты!$M$15:$M$29,\"Всего по тарифу\")","v":0},{"$f":"SUMIFS(Реагенты!Z$15:Z$29,Реагенты!$A$15:$A$29,$A79,Реагенты!$M$15:$M$29,\"Всего по тарифу\")","v":0},{"$f":"SUMIFS(Реагенты!AA$15:AA$29,Реагенты!$A$15:$A$29,$A79,Реагенты!$M$15:$M$29,\"Всего по тарифу\")","v":0},{"$f":"SUMIFS(Реагенты!AB$15:AB$29,Реагенты!$A$15:$A$29,$A79,Реагенты!$M$15:$M$29,\"Всего по тарифу\")","v":0},{"$f":"SUMIFS(Реагенты!AC$15:AC$29,Реагенты!$A$15:$A$29,$A79,Реагенты!$M$15:$M$29,\"Всего по тарифу\")","v":103.88800353842301},{"$f":"SUMIFS(Реагенты!AD$15:AD$29,Реагенты!$A$15:$A$29,$A79,Реагенты!$M$15:$M$29,\"Всего по тарифу\")","v":108.251299687037},{"$f":"SUMIFS(Реагенты!AE$15:AE$29,Реагенты!$A$15:$A$29,$A79,Реагенты!$M$15:$M$29,\"Всего по тарифу\")","v":112.581351674518},{"$f":"SUMIFS(Реагенты!AF$15:AF$29,Реагенты!$A$15:$A$29,$A79,Реагенты!$M$15:$M$29,\"Всего по тарифу\")","v":117.084605741499},{"$f":"SUMIFS(Реагенты!AG$15:AG$29,Реагенты!$A$15:$A$29,$A79,Реагенты!$M$15:$M$29,\"Всего по тарифу\")","v":121.767989971159},{"$f":"SUMIFS(Реагенты!AH$15:AH$29,Реагенты!$A$15:$A$29,$A79,Реагенты!$M$15:$M$29,\"Всего по тарифу\")","v":0},{"$f":"SUMIFS(Реагенты!AI$15:AI$29,Реагенты!$A$15:$A$29,$A79,Реагенты!$M$15:$M$29,\"Всего по тарифу\")","v":0},{"$f":"SUMIFS(Реагенты!AJ$15:AJ$29,Реагенты!$A$15:$A$29,$A79,Реагенты!$M$15:$M$29,\"Всего по тарифу\")","v":0},{"$f":"SUMIFS(Реагенты!AK$15:AK$29,Реагенты!$A$15:$A$29,$A79,Реагенты!$M$15:$M$29,\"Всего по тарифу\")","v":0},{"$f":"SUMIFS(Реагенты!AL$15:AL$29,Реагенты!$A$15:$A$29,$A79,Реагенты!$M$15:$M$29,\"Всего по тарифу\")","v":0},{"$f":"IF(S79=0,0,(AD79-S79)/S79*100)","v":0},4.2000000000002231,3.9999999999995559,4.0000000000002496,4.0000000000000275,-100,0,0,0,0,null,"П. 49 (10); В. 16, п. 19  Методических указаний ФСТ № 1746-э (пп. 10 введен Приказом ФАС России от 08.10.2020 N 976/20).","Учтены расходы на покупку Препарата антимикробный \"БИОПАГ\" (твердая форма). См. Лист \"Реагенты\".  (Фактические затраты отчетного 2022 г. - см. пункт 1.6)."]
["1",null,null,"L2_3",null,null,null,null,null,null,null,"2.3","Налоги и сборы","тыс.руб.",{"$f":"SUM(O81:O89)","v":1.5},{"$f":"SUM(P81:P89)","v":1.5},1.5,0,1.496,1.496,0,0,0,0,0,0,0,0,0,1.496,1.496,1.496,1.496,1.496,0,0,0,0,0,0,0,0,0,0,-100,0,0,0,0,null,"П. 49(2), п. 30 Методических указаний ФСТ № 1746-э."]
["1","Налог на прибыль",null,"L2_3_1",null,null,null,null,null,null,null,"2.3.1","налог на прибыль","тыс.руб.",{"$f":"SUMIFS(Налоги!O$15:O$42,Налоги!$A$15:$A$42,$A81,Налоги!$M$15:$M$42,$B81)","v":0},{"$f":"SUMIFS(Налоги!P$15:P$42,Налоги!$A$15:$A$42,$A81,Налоги!$M$15:$M$42,$B81)","v":0},{"$f":"SUMIFS(Налоги!Q$15:Q$42,Налоги!$A$15:$A$42,$A81,Налоги!$M$15:$M$42,$B81)","v":0},0,{"$f":"SUMIFS(Налоги!R$15:R$42,Налоги!$A$15:$A$42,$A81,Налоги!$M$15:$M$42,$B81)","v":0},{"$f":"SUMIFS(Налоги!S$15:S$42,Налоги!$A$15:$A$42,$A81,Налоги!$M$15:$M$42,$B81)","v":0},{"$f":"SUMIFS(Налоги!T$15:T$42,Налоги!$A$15:$A$42,$A81,Налоги!$M$15:$M$42,$B81)","v":0},{"$f":"SUMIFS(Налоги!U$15:U$42,Налоги!$A$15:$A$42,$A81,Налоги!$M$15:$M$42,$B81)","v":0},{"$f":"SUMIFS(Налоги!V$15:V$42,Налоги!$A$15:$A$42,$A81,Налоги!$M$15:$M$42,$B81)","v":0},{"$f":"SUMIFS(Налоги!W$15:W$42,Налоги!$A$15:$A$42,$A81,Налоги!$M$15:$M$42,$B81)","v":0},{"$f":"SUMIFS(Налоги!X$15:X$42,Налоги!$A$15:$A$42,$A81,Налоги!$M$15:$M$42,$B81)","v":0},{"$f":"SUMIFS(Налоги!Y$15:Y$42,Налоги!$A$15:$A$42,$A81,Налоги!$M$15:$M$42,$B81)","v":0},{"$f":"SUMIFS(Налоги!Z$15:Z$42,Налоги!$A$15:$A$42,$A81,Налоги!$M$15:$M$42,$B81)","v":0},{"$f":"SUMIFS(Налоги!AA$15:AA$42,Налоги!$A$15:$A$42,$A81,Налоги!$M$15:$M$42,$B81)","v":0},{"$f":"SUMIFS(Налоги!AB$15:AB$42,Налоги!$A$15:$A$42,$A81,Налоги!$M$15:$M$42,$B81)","v":0},{"$f":"SUMIFS(Налоги!AC$15:AC$42,Налоги!$A$15:$A$42,$A81,Налоги!$M$15:$M$42,$B81)","v":0},{"$f":"SUMIFS(Налоги!AD$15:AD$42,Налоги!$A$15:$A$42,$A81,Налоги!$M$15:$M$42,$B81)","v":0},{"$f":"SUMIFS(Налоги!AE$15:AE$42,Налоги!$A$15:$A$42,$A81,Налоги!$M$15:$M$42,$B81)","v":0},{"$f":"SUMIFS(Налоги!AF$15:AF$42,Налоги!$A$15:$A$42,$A81,Налоги!$M$15:$M$42,$B81)","v":0},{"$f":"SUMIFS(Налоги!AG$15:AG$42,Налоги!$A$15:$A$42,$A81,Налоги!$M$15:$M$42,$B81)","v":0},{"$f":"SUMIFS(Налоги!AH$15:AH$42,Налоги!$A$15:$A$42,$A81,Налоги!$M$15:$M$42,$B81)","v":0},{"$f":"SUMIFS(Налоги!AI$15:AI$42,Налоги!$A$15:$A$42,$A81,Налоги!$M$15:$M$42,$B81)","v":0},{"$f":"SUMIFS(Налоги!AJ$15:AJ$42,Налоги!$A$15:$A$42,$A81,Налоги!$M$15:$M$42,$B81)","v":0},{"$f":"SUMIFS(Налоги!AK$15:AK$42,Налоги!$A$15:$A$42,$A81,Налоги!$M$15:$M$42,$B81)","v":0},{"$f":"SUMIFS(Налоги!AL$15:AL$42,Налоги!$A$15:$A$42,$A81,Налоги!$M$15:$M$42,$B81)","v":0},0,0,0,0,0,0,0,0,0,0]
[{"$f":"A81","v":"1"},"Налог на имущество",null,"L2_3_2",null,null,null,null,null,null,null,"2.3.2","налог на имущество организаций","тыс.руб.",{"$f":"SUMIFS(Налоги!O$15:O$42,Налоги!$A$15:$A$42,$A82,Налоги!$M$15:$M$42,$B82)","v":0},{"$f":"SUMIFS(Налоги!P$15:P$42,Налоги!$A$15:$A$42,$A82,Налоги!$M$15:$M$42,$B82)","v":0},{"$f":"SUMIFS(Налоги!Q$15:Q$42,Налоги!$A$15:$A$42,$A82,Налоги!$M$15:$M$42,$B82)","v":0},0,{"$f":"SUMIFS(Налоги!R$15:R$42,Налоги!$A$15:$A$42,$A82,Налоги!$M$15:$M$42,$B82)","v":0},{"$f":"SUMIFS(Налоги!S$15:S$42,Налоги!$A$15:$A$42,$A82,Налоги!$M$15:$M$42,$B82)","v":0},{"$f":"SUMIFS(Налоги!T$15:T$42,Налоги!$A$15:$A$42,$A82,Налоги!$M$15:$M$42,$B82)","v":0},{"$f":"SUMIFS(Налоги!U$15:U$42,Налоги!$A$15:$A$42,$A82,Налоги!$M$15:$M$42,$B82)","v":0},{"$f":"SUMIFS(Налоги!V$15:V$42,Налоги!$A$15:$A$42,$A82,Налоги!$M$15:$M$42,$B82)","v":0},{"$f":"SUMIFS(Налоги!W$15:W$42,Налоги!$A$15:$A$42,$A82,Налоги!$M$15:$M$42,$B82)","v":0},{"$f":"SUMIFS(Налоги!X$15:X$42,Налоги!$A$15:$A$42,$A82,Налоги!$M$15:$M$42,$B82)","v":0},{"$f":"SUMIFS(Налоги!Y$15:Y$42,Налоги!$A$15:$A$42,$A82,Налоги!$M$15:$M$42,$B82)","v":0},{"$f":"SUMIFS(Налоги!Z$15:Z$42,Налоги!$A$15:$A$42,$A82,Налоги!$M$15:$M$42,$B82)","v":0},{"$f":"SUMIFS(Налоги!AA$15:AA$42,Налоги!$A$15:$A$42,$A82,Налоги!$M$15:$M$42,$B82)","v":0},{"$f":"SUMIFS(Налоги!AB$15:AB$42,Налоги!$A$15:$A$42,$A82,Налоги!$M$15:$M$42,$B82)","v":0},{"$f":"SUMIFS(Налоги!AC$15:AC$42,Налоги!$A$15:$A$42,$A82,Налоги!$M$15:$M$42,$B82)","v":0},{"$f":"SUMIFS(Налоги!AD$15:AD$42,Налоги!$A$15:$A$42,$A82,Налоги!$M$15:$M$42,$B82)","v":0},{"$f":"SUMIFS(Налоги!AE$15:AE$42,Налоги!$A$15:$A$42,$A82,Налоги!$M$15:$M$42,$B82)","v":0},{"$f":"SUMIFS(Налоги!AF$15:AF$42,Налоги!$A$15:$A$42,$A82,Налоги!$M$15:$M$42,$B82)","v":0},{"$f":"SUMIFS(Налоги!AG$15:AG$42,Налоги!$A$15:$A$42,$A82,Налоги!$M$15:$M$42,$B82)","v":0},{"$f":"SUMIFS(Налоги!AH$15:AH$42,Налоги!$A$15:$A$42,$A82,Налоги!$M$15:$M$42,$B82)","v":0},{"$f":"SUMIFS(Налоги!AI$15:AI$42,Налоги!$A$15:$A$42,$A82,Налоги!$M$15:$M$42,$B82)","v":0},{"$f":"SUMIFS(Налоги!AJ$15:AJ$42,Налоги!$A$15:$A$42,$A82,Налоги!$M$15:$M$42,$B82)","v":0},{"$f":"SUMIFS(Налоги!AK$15:AK$42,Налоги!$A$15:$A$42,$A82,Налоги!$M$15:$M$42,$B82)","v":0},{"$f":"SUMIFS(Налоги!AL$15:AL$42,Налоги!$A$15:$A$42,$A82,Налоги!$M$15:$M$42,$B82)","v":0},0,0,0,0,0,0,0,0,0,0]
["1","Земельный налог",null,"L2_3_3",null,null,null,null,null,null,null,"2.3.3","земельный налог и арендная плата за землю","тыс.руб.",{"$f":"SUMIFS(Налоги!O$15:O$42,Налоги!$A$15:$A$42,$A83,Налоги!$M$15:$M$42,$B83)","v":0},{"$f":"SUMIFS(Налоги!P$15:P$42,Налоги!$A$15:$A$42,$A83,Налоги!$M$15:$M$42,$B83)","v":0},{"$f":"SUMIFS(Налоги!Q$15:Q$42,Налоги!$A$15:$A$42,$A83,Налоги!$M$15:$M$42,$B83)","v":0},0,{"$f":"SUMIFS(Налоги!R$15:R$42,Налоги!$A$15:$A$42,$A83,Налоги!$M$15:$M$42,$B83)","v":0},{"$f":"SUMIFS(Налоги!S$15:S$42,Налоги!$A$15:$A$42,$A83,Налоги!$M$15:$M$42,$B83)","v":0},{"$f":"SUMIFS(Налоги!T$15:T$42,Налоги!$A$15:$A$42,$A83,Налоги!$M$15:$M$42,$B83)","v":0},{"$f":"SUMIFS(Налоги!U$15:U$42,Налоги!$A$15:$A$42,$A83,Налоги!$M$15:$M$42,$B83)","v":0},{"$f":"SUMIFS(Налоги!V$15:V$42,Налоги!$A$15:$A$42,$A83,Налоги!$M$15:$M$42,$B83)","v":0},{"$f":"SUMIFS(Налоги!W$15:W$42,Налоги!$A$15:$A$42,$A83,Налоги!$M$15:$M$42,$B83)","v":0},{"$f":"SUMIFS(Налоги!X$15:X$42,Налоги!$A$15:$A$42,$A83,Налоги!$M$15:$M$42,$B83)","v":0},{"$f":"SUMIFS(Налоги!Y$15:Y$42,Налоги!$A$15:$A$42,$A83,Налоги!$M$15:$M$42,$B83)","v":0},{"$f":"SUMIFS(Налоги!Z$15:Z$42,Налоги!$A$15:$A$42,$A83,Налоги!$M$15:$M$42,$B83)","v":0},{"$f":"SUMIFS(Налоги!AA$15:AA$42,Налоги!$A$15:$A$42,$A83,Налоги!$M$15:$M$42,$B83)","v":0},{"$f":"SUMIFS(Налоги!AB$15:AB$42,Налоги!$A$15:$A$42,$A83,Налоги!$M$15:$M$42,$B83)","v":0},{"$f":"SUMIFS(Налоги!AC$15:AC$42,Налоги!$A$15:$A$42,$A83,Налоги!$M$15:$M$42,$B83)","v":0},{"$f":"SUMIFS(Налоги!AD$15:AD$42,Налоги!$A$15:$A$42,$A83,Налоги!$M$15:$M$42,$B83)","v":0},{"$f":"SUMIFS(Налоги!AE$15:AE$42,Налоги!$A$15:$A$42,$A83,Налоги!$M$15:$M$42,$B83)","v":0},{"$f":"SUMIFS(Налоги!AF$15:AF$42,Налоги!$A$15:$A$42,$A83,Налоги!$M$15:$M$42,$B83)","v":0},{"$f":"SUMIFS(Налоги!AG$15:AG$42,Налоги!$A$15:$A$42,$A83,Налоги!$M$15:$M$42,$B83)","v":0},{"$f":"SUMIFS(Налоги!AH$15:AH$42,Налоги!$A$15:$A$42,$A83,Налоги!$M$15:$M$42,$B83)","v":0},{"$f":"SUMIFS(Налоги!AI$15:AI$42,Налоги!$A$15:$A$42,$A83,Налоги!$M$15:$M$42,$B83)","v":0},{"$f":"SUMIFS(Налоги!AJ$15:AJ$42,Налоги!$A$15:$A$42,$A83,Налоги!$M$15:$M$42,$B83)","v":0},{"$f":"SUMIFS(Налоги!AK$15:AK$42,Налоги!$A$15:$A$42,$A83,Налоги!$M$15:$M$42,$B83)","v":0},{"$f":"SUMIFS(Налоги!AL$15:AL$42,Налоги!$A$15:$A$42,$A83,Налоги!$M$15:$M$42,$B83)","v":0},0,{"$f":"IF(AD83=0,0,(AE83-AD83)/AD83*100)","v":0},0,0,0,0,0,0,0,0]
["1","Водный налог",null,"L2_3_4",null,null,null,null,null,null,null,"2.3.4","водный налог","тыс.руб.",{"$f":"SUMIFS(Налоги!O$15:O$42,Налоги!$A$15:$A$42,$A84,Налоги!$M$15:$M$42,$B84)","v":0},{"$f":"SUMIFS(Налоги!P$15:P$42,Налоги!$A$15:$A$42,$A84,Налоги!$M$15:$M$42,$B84)","v":0},{"$f":"SUMIFS(Налоги!Q$15:Q$42,Налоги!$A$15:$A$42,$A84,Налоги!$M$15:$M$42,$B84)","v":0},0,{"$f":"SUMIFS(Налоги!R$15:R$42,Налоги!$A$15:$A$42,$A84,Налоги!$M$15:$M$42,$B84)","v":0},{"$f":"SUMIFS(Налоги!S$15:S$42,Налоги!$A$15:$A$42,$A84,Налоги!$M$15:$M$42,$B84)","v":0},{"$f":"SUMIFS(Налоги!T$15:T$42,Налоги!$A$15:$A$42,$A84,Налоги!$M$15:$M$42,$B84)","v":0},{"$f":"SUMIFS(Налоги!U$15:U$42,Налоги!$A$15:$A$42,$A84,Налоги!$M$15:$M$42,$B84)","v":0},{"$f":"SUMIFS(Налоги!V$15:V$42,Налоги!$A$15:$A$42,$A84,Налоги!$M$15:$M$42,$B84)","v":0},{"$f":"SUMIFS(Налоги!W$15:W$42,Налоги!$A$15:$A$42,$A84,Налоги!$M$15:$M$42,$B84)","v":0},{"$f":"SUMIFS(Налоги!X$15:X$42,Налоги!$A$15:$A$42,$A84,Налоги!$M$15:$M$42,$B84)","v":0},{"$f":"SUMIFS(Налоги!Y$15:Y$42,Налоги!$A$15:$A$42,$A84,Налоги!$M$15:$M$42,$B84)","v":0},{"$f":"SUMIFS(Налоги!Z$15:Z$42,Налоги!$A$15:$A$42,$A84,Налоги!$M$15:$M$42,$B84)","v":0},{"$f":"SUMIFS(Налоги!AA$15:AA$42,Налоги!$A$15:$A$42,$A84,Налоги!$M$15:$M$42,$B84)","v":0},{"$f":"SUMIFS(Налоги!AB$15:AB$42,Налоги!$A$15:$A$42,$A84,Налоги!$M$15:$M$42,$B84)","v":0},{"$f":"SUMIFS(Налоги!AC$15:AC$42,Налоги!$A$15:$A$42,$A84,Налоги!$M$15:$M$42,$B84)","v":0},{"$f":"SUMIFS(Налоги!AD$15:AD$42,Налоги!$A$15:$A$42,$A84,Налоги!$M$15:$M$42,$B84)","v":0},{"$f":"SUMIFS(Налоги!AE$15:AE$42,Налоги!$A$15:$A$42,$A84,Налоги!$M$15:$M$42,$B84)","v":0},{"$f":"SUMIFS(Налоги!AF$15:AF$42,Налоги!$A$15:$A$42,$A84,Налоги!$M$15:$M$42,$B84)","v":0},{"$f":"SUMIFS(Налоги!AG$15:AG$42,Налоги!$A$15:$A$42,$A84,Налоги!$M$15:$M$42,$B84)","v":0},{"$f":"SUMIFS(Налоги!AH$15:AH$42,Налоги!$A$15:$A$42,$A84,Налоги!$M$15:$M$42,$B84)","v":0},{"$f":"SUMIFS(Налоги!AI$15:AI$42,Налоги!$A$15:$A$42,$A84,Налоги!$M$15:$M$42,$B84)","v":0},{"$f":"SUMIFS(Налоги!AJ$15:AJ$42,Налоги!$A$15:$A$42,$A84,Налоги!$M$15:$M$42,$B84)","v":0},{"$f":"SUMIFS(Налоги!AK$15:AK$42,Налоги!$A$15:$A$42,$A84,Налоги!$M$15:$M$42,$B84)","v":0},{"$f":"SUMIFS(Налоги!AL$15:AL$42,Налоги!$A$15:$A$42,$A84,Налоги!$M$15:$M$42,$B84)","v":0},0,0,0,0,0,0,0,0,0,0]
["1","Плата за пользование водным объектом",null,"L2_3_5",null,null,null,null,null,null,null,"2.3.5","плата за пользование водным объектом","тыс.руб.",{"$f":"SUMIFS(Налоги!O$15:O$42,Налоги!$A$15:$A$42,$A85,Налоги!$M$15:$M$42,$B85)","v":0},{"$f":"SUMIFS(Налоги!P$15:P$42,Налоги!$A$15:$A$42,$A85,Налоги!$M$15:$M$42,$B85)","v":0},{"$f":"SUMIFS(Налоги!Q$15:Q$42,Налоги!$A$15:$A$42,$A85,Налоги!$M$15:$M$42,$B85)","v":0},0,{"$f":"SUMIFS(Налоги!R$15:R$42,Налоги!$A$15:$A$42,$A85,Налоги!$M$15:$M$42,$B85)","v":0},{"$f":"SUMIFS(Налоги!S$15:S$42,Налоги!$A$15:$A$42,$A85,Налоги!$M$15:$M$42,$B85)","v":0},{"$f":"SUMIFS(Налоги!T$15:T$42,Налоги!$A$15:$A$42,$A85,Налоги!$M$15:$M$42,$B85)","v":0},{"$f":"SUMIFS(Налоги!U$15:U$42,Налоги!$A$15:$A$42,$A85,Налоги!$M$15:$M$42,$B85)","v":0},{"$f":"SUMIFS(Налоги!V$15:V$42,Налоги!$A$15:$A$42,$A85,Налоги!$M$15:$M$42,$B85)","v":0},{"$f":"SUMIFS(Налоги!W$15:W$42,Налоги!$A$15:$A$42,$A85,Налоги!$M$15:$M$42,$B85)","v":0},{"$f":"SUMIFS(Налоги!X$15:X$42,Налоги!$A$15:$A$42,$A85,Налоги!$M$15:$M$42,$B85)","v":0},{"$f":"SUMIFS(Налоги!Y$15:Y$42,Налоги!$A$15:$A$42,$A85,Налоги!$M$15:$M$42,$B85)","v":0},{"$f":"SUMIFS(Налоги!Z$15:Z$42,Налоги!$A$15:$A$42,$A85,Налоги!$M$15:$M$42,$B85)","v":0},{"$f":"SUMIFS(Налоги!AA$15:AA$42,Налоги!$A$15:$A$42,$A85,Налоги!$M$15:$M$42,$B85)","v":0},{"$f":"SUMIFS(Налоги!AB$15:AB$42,Налоги!$A$15:$A$42,$A85,Налоги!$M$15:$M$42,$B85)","v":0},{"$f":"SUMIFS(Налоги!AC$15:AC$42,Налоги!$A$15:$A$42,$A85,Налоги!$M$15:$M$42,$B85)","v":0},{"$f":"SUMIFS(Налоги!AD$15:AD$42,Налоги!$A$15:$A$42,$A85,Налоги!$M$15:$M$42,$B85)","v":0},{"$f":"SUMIFS(Налоги!AE$15:AE$42,Налоги!$A$15:$A$42,$A85,Налоги!$M$15:$M$42,$B85)","v":0},{"$f":"SUMIFS(Налоги!AF$15:AF$42,Налоги!$A$15:$A$42,$A85,Налоги!$M$15:$M$42,$B85)","v":0},{"$f":"SUMIFS(Налоги!AG$15:AG$42,Налоги!$A$15:$A$42,$A85,Налоги!$M$15:$M$42,$B85)","v":0},{"$f":"SUMIFS(Налоги!AH$15:AH$42,Налоги!$A$15:$A$42,$A85,Налоги!$M$15:$M$42,$B85)","v":0},{"$f":"SUMIFS(Налоги!AI$15:AI$42,Налоги!$A$15:$A$42,$A85,Налоги!$M$15:$M$42,$B85)","v":0},{"$f":"SUMIFS(Налоги!AJ$15:AJ$42,Налоги!$A$15:$A$42,$A85,Налоги!$M$15:$M$42,$B85)","v":0},{"$f":"SUMIFS(Налоги!AK$15:AK$42,Налоги!$A$15:$A$42,$A85,Налоги!$M$15:$M$42,$B85)","v":0},{"$f":"SUMIFS(Налоги!AL$15:AL$42,Налоги!$A$15:$A$42,$A85,Налоги!$M$15:$M$42,$B85)","v":0},0,0,0,0,0,0,0,0,0,0]
["1","Транспортный налог",null,"L2_3_6",null,null,null,null,null,null,null,"2.3.6","транспортный налог","тыс.руб.",{"$f":"SUMIFS(Налоги!O$15:O$42,Налоги!$A$15:$A$42,$A86,Налоги!$M$15:$M$42,$B86)","v":1.5},{"$f":"SUMIFS(Налоги!P$15:P$42,Налоги!$A$15:$A$42,$A86,Налоги!$M$15:$M$42,$B86)","v":1.5},{"$f":"SUMIFS(Налоги!Q$15:Q$42,Налоги!$A$15:$A$42,$A86,Налоги!$M$15:$M$42,$B86)","v":1.5},0,{"$f":"SUMIFS(Налоги!R$15:R$42,Налоги!$A$15:$A$42,$A86,Налоги!$M$15:$M$42,$B86)","v":1.496},{"$f":"SUMIFS(Налоги!S$15:S$42,Налоги!$A$15:$A$42,$A86,Налоги!$M$15:$M$42,$B86)","v":1.496},{"$f":"SUMIFS(Налоги!T$15:T$42,Налоги!$A$15:$A$42,$A86,Налоги!$M$15:$M$42,$B86)","v":0},{"$f":"SUMIFS(Налоги!U$15:U$42,Налоги!$A$15:$A$42,$A86,Налоги!$M$15:$M$42,$B86)","v":0},{"$f":"SUMIFS(Налоги!V$15:V$42,Налоги!$A$15:$A$42,$A86,Налоги!$M$15:$M$42,$B86)","v":0},{"$f":"SUMIFS(Налоги!W$15:W$42,Налоги!$A$15:$A$42,$A86,Налоги!$M$15:$M$42,$B86)","v":0},{"$f":"SUMIFS(Налоги!X$15:X$42,Налоги!$A$15:$A$42,$A86,Налоги!$M$15:$M$42,$B86)","v":0},{"$f":"SUMIFS(Налоги!Y$15:Y$42,Налоги!$A$15:$A$42,$A86,Налоги!$M$15:$M$42,$B86)","v":0},{"$f":"SUMIFS(Налоги!Z$15:Z$42,Налоги!$A$15:$A$42,$A86,Налоги!$M$15:$M$42,$B86)","v":0},{"$f":"SUMIFS(Налоги!AA$15:AA$42,Налоги!$A$15:$A$42,$A86,Налоги!$M$15:$M$42,$B86)","v":0},{"$f":"SUMIFS(Налоги!AB$15:AB$42,Налоги!$A$15:$A$42,$A86,Налоги!$M$15:$M$42,$B86)","v":0},{"$f":"SUMIFS(Налоги!AC$15:AC$42,Налоги!$A$15:$A$42,$A86,Налоги!$M$15:$M$42,$B86)","v":1.496},{"$f":"SUMIFS(Налоги!AD$15:AD$42,Налоги!$A$15:$A$42,$A86,Налоги!$M$15:$M$42,$B86)","v":1.496},{"$f":"SUMIFS(Налоги!AE$15:AE$42,Налоги!$A$15:$A$42,$A86,Налоги!$M$15:$M$42,$B86)","v":1.496},{"$f":"SUMIFS(Налоги!AF$15:AF$42,Налоги!$A$15:$A$42,$A86,Налоги!$M$15:$M$42,$B86)","v":1.496},{"$f":"SUMIFS(Налоги!AG$15:AG$42,Налоги!$A$15:$A$42,$A86,Налоги!$M$15:$M$42,$B86)","v":1.496},{"$f":"SUMIFS(Налоги!AH$15:AH$42,Налоги!$A$15:$A$42,$A86,Налоги!$M$15:$M$42,$B86)","v":0},{"$f":"SUMIFS(Налоги!AI$15:AI$42,Налоги!$A$15:$A$42,$A86,Налоги!$M$15:$M$42,$B86)","v":0},{"$f":"SUMIFS(Налоги!AJ$15:AJ$42,Налоги!$A$15:$A$42,$A86,Налоги!$M$15:$M$42,$B86)","v":0},{"$f":"SUMIFS(Налоги!AK$15:AK$42,Налоги!$A$15:$A$42,$A86,Налоги!$M$15:$M$42,$B86)","v":0},{"$f":"SUMIFS(Налоги!AL$15:AL$42,Налоги!$A$15:$A$42,$A86,Налоги!$M$15:$M$42,$B86)","v":0},0,0,0,0,0,-100,0,0,0,0,null,"1) Глава 28 \"ТРАНСПОРТНЫЙ НАЛОГ\" \"Налогового кодекса Российской Федерации (Часть вторая)\" (ред. от 10.07.2023 № 318-ФЗ). 2) Закон Кемеровской области от 28.11.2002 N 95-ОЗ \"О транспортном налоге\". ","Учтены суммы налога, исчисленные в отношении Экскаватора одноковшового (\"ку 05-81\") (закреплен за участком \"ВОДОЕМ-2\", см. \"Ведомость амортизации\" за 2022 год), согласно данным  представленного \"Сообщения об исчисленной налоговым органом сумме транспортного налога\"  № 3348851 от 20.04.2023."]
["1","Плата за негативное воздействие на окружающую среду",null,"L2_3_7",null,null,null,null,null,null,null,"2.3.7","плата за негативное воздействие на окружающую среду","тыс.руб.",{"$f":"SUMIFS(Налоги!O$15:O$42,Налоги!$A$15:$A$42,$A87,Налоги!$M$15:$M$42,$B87)","v":0},{"$f":"SUMIFS(Налоги!P$15:P$42,Налоги!$A$15:$A$42,$A87,Налоги!$M$15:$M$42,$B87)","v":0},{"$f":"SUMIFS(Налоги!Q$15:Q$42,Налоги!$A$15:$A$42,$A87,Налоги!$M$15:$M$42,$B87)","v":0},0,{"$f":"SUMIFS(Налоги!R$15:R$42,Налоги!$A$15:$A$42,$A87,Налоги!$M$15:$M$42,$B87)","v":0},{"$f":"SUMIFS(Налоги!S$15:S$42,Налоги!$A$15:$A$42,$A87,Налоги!$M$15:$M$42,$B87)","v":0},{"$f":"SUMIFS(Налоги!T$15:T$42,Налоги!$A$15:$A$42,$A87,Налоги!$M$15:$M$42,$B87)","v":0},{"$f":"SUMIFS(Налоги!U$15:U$42,Налоги!$A$15:$A$42,$A87,Налоги!$M$15:$M$42,$B87)","v":0},{"$f":"SUMIFS(Налоги!V$15:V$42,Налоги!$A$15:$A$42,$A87,Налоги!$M$15:$M$42,$B87)","v":0},{"$f":"SUMIFS(Налоги!W$15:W$42,Налоги!$A$15:$A$42,$A87,Налоги!$M$15:$M$42,$B87)","v":0},{"$f":"SUMIFS(Налоги!X$15:X$42,Налоги!$A$15:$A$42,$A87,Налоги!$M$15:$M$42,$B87)","v":0},{"$f":"SUMIFS(Налоги!Y$15:Y$42,Налоги!$A$15:$A$42,$A87,Налоги!$M$15:$M$42,$B87)","v":0},{"$f":"SUMIFS(Налоги!Z$15:Z$42,Налоги!$A$15:$A$42,$A87,Налоги!$M$15:$M$42,$B87)","v":0},{"$f":"SUMIFS(Налоги!AA$15:AA$42,Налоги!$A$15:$A$42,$A87,Налоги!$M$15:$M$42,$B87)","v":0},{"$f":"SUMIFS(Налоги!AB$15:AB$42,Налоги!$A$15:$A$42,$A87,Налоги!$M$15:$M$42,$B87)","v":0},{"$f":"SUMIFS(Налоги!AC$15:AC$42,Налоги!$A$15:$A$42,$A87,Налоги!$M$15:$M$42,$B87)","v":0},{"$f":"SUMIFS(Налоги!AD$15:AD$42,Налоги!$A$15:$A$42,$A87,Налоги!$M$15:$M$42,$B87)","v":0},{"$f":"SUMIFS(Налоги!AE$15:AE$42,Налоги!$A$15:$A$42,$A87,Налоги!$M$15:$M$42,$B87)","v":0},{"$f":"SUMIFS(Налоги!AF$15:AF$42,Налоги!$A$15:$A$42,$A87,Налоги!$M$15:$M$42,$B87)","v":0},{"$f":"SUMIFS(Налоги!AG$15:AG$42,Налоги!$A$15:$A$42,$A87,Налоги!$M$15:$M$42,$B87)","v":0},{"$f":"SUMIFS(Налоги!AH$15:AH$42,Налоги!$A$15:$A$42,$A87,Налоги!$M$15:$M$42,$B87)","v":0},{"$f":"SUMIFS(Налоги!AI$15:AI$42,Налоги!$A$15:$A$42,$A87,Налоги!$M$15:$M$42,$B87)","v":0},{"$f":"SUMIFS(Налоги!AJ$15:AJ$42,Налоги!$A$15:$A$42,$A87,Налоги!$M$15:$M$42,$B87)","v":0},{"$f":"SUMIFS(Налоги!AK$15:AK$42,Налоги!$A$15:$A$42,$A87,Налоги!$M$15:$M$42,$B87)","v":0},{"$f":"SUMIFS(Налоги!AL$15:AL$42,Налоги!$A$15:$A$42,$A87,Налоги!$M$15:$M$42,$B87)","v":0},0,0,0,0,0,0,0,0,0,0]
["1","Единый налог при упрощенной системе налогообложения",null,"L2_3_8",null,null,null,null,null,null,null,"2.3.8","единый налог при УСН","тыс.руб.",{"$f":"SUMIFS(Налоги!O$15:O$42,Налоги!$A$15:$A$42,$A88,Налоги!$M$15:$M$42,$B88)","v":0},{"$f":"SUMIFS(Налоги!P$15:P$42,Налоги!$A$15:$A$42,$A88,Налоги!$M$15:$M$42,$B88)","v":0},{"$f":"SUMIFS(Налоги!Q$15:Q$42,Налоги!$A$15:$A$42,$A88,Налоги!$M$15:$M$42,$B88)","v":0},{"$f":"Q88-P88","v":0},{"$f":"SUMIFS(Налоги!R$15:R$42,Налоги!$A$15:$A$42,$A88,Налоги!$M$15:$M$42,$B88)","v":0},{"$f":"SUMIFS(Налоги!S$15:S$42,Налоги!$A$15:$A$42,$A88,Налоги!$M$15:$M$42,$B88)","v":0},{"$f":"SUMIFS(Налоги!T$15:T$42,Налоги!$A$15:$A$42,$A88,Налоги!$M$15:$M$42,$B88)","v":0},{"$f":"SUMIFS(Налоги!U$15:U$42,Налоги!$A$15:$A$42,$A88,Налоги!$M$15:$M$42,$B88)","v":0},{"$f":"SUMIFS(Налоги!V$15:V$42,Налоги!$A$15:$A$42,$A88,Налоги!$M$15:$M$42,$B88)","v":0},{"$f":"SUMIFS(Налоги!W$15:W$42,Налоги!$A$15:$A$42,$A88,Налоги!$M$15:$M$42,$B88)","v":0},{"$f":"SUMIFS(Налоги!X$15:X$42,Налоги!$A$15:$A$42,$A88,Налоги!$M$15:$M$42,$B88)","v":0},{"$f":"SUMIFS(Налоги!Y$15:Y$42,Налоги!$A$15:$A$42,$A88,Налоги!$M$15:$M$42,$B88)","v":0},{"$f":"SUMIFS(Налоги!Z$15:Z$42,Налоги!$A$15:$A$42,$A88,Налоги!$M$15:$M$42,$B88)","v":0},{"$f":"SUMIFS(Налоги!AA$15:AA$42,Налоги!$A$15:$A$42,$A88,Налоги!$M$15:$M$42,$B88)","v":0},{"$f":"SUMIFS(Налоги!AB$15:AB$42,Налоги!$A$15:$A$42,$A88,Налоги!$M$15:$M$42,$B88)","v":0},{"$f":"SUMIFS(Налоги!AC$15:AC$42,Налоги!$A$15:$A$42,$A88,Налоги!$M$15:$M$42,$B88)","v":0},{"$f":"SUMIFS(Налоги!AD$15:AD$42,Налоги!$A$15:$A$42,$A88,Налоги!$M$15:$M$42,$B88)","v":0},{"$f":"SUMIFS(Налоги!AE$15:AE$42,Налоги!$A$15:$A$42,$A88,Налоги!$M$15:$M$42,$B88)","v":0},{"$f":"SUMIFS(Налоги!AF$15:AF$42,Налоги!$A$15:$A$42,$A88,Налоги!$M$15:$M$42,$B88)","v":0},{"$f":"SUMIFS(Налоги!AG$15:AG$42,Налоги!$A$15:$A$42,$A88,Налоги!$M$15:$M$42,$B88)","v":0},{"$f":"SUMIFS(Налоги!AH$15:AH$42,Налоги!$A$15:$A$42,$A88,Налоги!$M$15:$M$42,$B88)","v":0},{"$f":"SUMIFS(Налоги!AI$15:AI$42,Налоги!$A$15:$A$42,$A88,Налоги!$M$15:$M$42,$B88)","v":0},{"$f":"SUMIFS(Налоги!AJ$15:AJ$42,Налоги!$A$15:$A$42,$A88,Налоги!$M$15:$M$42,$B88)","v":0},{"$f":"SUMIFS(Налоги!AK$15:AK$42,Налоги!$A$15:$A$42,$A88,Налоги!$M$15:$M$42,$B88)","v":0},{"$f":"SUMIFS(Налоги!AL$15:AL$42,Налоги!$A$15:$A$42,$A88,Налоги!$M$15:$M$42,$B88)","v":0},0,0,0,0,0,0,0,0,0,0]
["1","Прочие налоги и сборы",null,"L2_3_9",null,null,null,null,null,null,null,"2.3.9","прочие налоги и сборы","тыс.руб.",{"$f":"SUMIFS(Налоги!O$15:O$42,Налоги!$A$15:$A$42,$A89,Налоги!$M$15:$M$42,$B89)","v":0},{"$f":"SUMIFS(Налоги!P$15:P$42,Налоги!$A$15:$A$42,$A89,Налоги!$M$15:$M$42,$B89)","v":0},{"$f":"SUMIFS(Налоги!Q$15:Q$42,Налоги!$A$15:$A$42,$A89,Налоги!$M$15:$M$42,$B89)","v":0},0,{"$f":"SUMIFS(Налоги!R$15:R$42,Налоги!$A$15:$A$42,$A89,Налоги!$M$15:$M$42,$B89)","v":0},{"$f":"SUMIFS(Налоги!S$15:S$42,Налоги!$A$15:$A$42,$A89,Налоги!$M$15:$M$42,$B89)","v":0},{"$f":"SUMIFS(Налоги!T$15:T$42,Налоги!$A$15:$A$42,$A89,Налоги!$M$15:$M$42,$B89)","v":0},{"$f":"SUMIFS(Налоги!U$15:U$42,Налоги!$A$15:$A$42,$A89,Налоги!$M$15:$M$42,$B89)","v":0},{"$f":"SUMIFS(Налоги!V$15:V$42,Налоги!$A$15:$A$42,$A89,Налоги!$M$15:$M$42,$B89)","v":0},{"$f":"SUMIFS(Налоги!W$15:W$42,Налоги!$A$15:$A$42,$A89,Налоги!$M$15:$M$42,$B89)","v":0},{"$f":"SUMIFS(Налоги!X$15:X$42,Налоги!$A$15:$A$42,$A89,Налоги!$M$15:$M$42,$B89)","v":0},{"$f":"SUMIFS(Налоги!Y$15:Y$42,Налоги!$A$15:$A$42,$A89,Налоги!$M$15:$M$42,$B89)","v":0},{"$f":"SUMIFS(Налоги!Z$15:Z$42,Налоги!$A$15:$A$42,$A89,Налоги!$M$15:$M$42,$B89)","v":0},{"$f":"SUMIFS(Налоги!AA$15:AA$42,Налоги!$A$15:$A$42,$A89,Налоги!$M$15:$M$42,$B89)","v":0},{"$f":"SUMIFS(Налоги!AB$15:AB$42,Налоги!$A$15:$A$42,$A89,Налоги!$M$15:$M$42,$B89)","v":0},{"$f":"SUMIFS(Налоги!AC$15:AC$42,Налоги!$A$15:$A$42,$A89,Налоги!$M$15:$M$42,$B89)","v":0},{"$f":"SUMIFS(Налоги!AD$15:AD$42,Налоги!$A$15:$A$42,$A89,Налоги!$M$15:$M$42,$B89)","v":0},{"$f":"SUMIFS(Налоги!AE$15:AE$42,Налоги!$A$15:$A$42,$A89,Налоги!$M$15:$M$42,$B89)","v":0},{"$f":"SUMIFS(Налоги!AF$15:AF$42,Налоги!$A$15:$A$42,$A89,Налоги!$M$15:$M$42,$B89)","v":0},{"$f":"SUMIFS(Налоги!AG$15:AG$42,Налоги!$A$15:$A$42,$A89,Налоги!$M$15:$M$42,$B89)","v":0},{"$f":"SUMIFS(Налоги!AH$15:AH$42,Налоги!$A$15:$A$42,$A89,Налоги!$M$15:$M$42,$B89)","v":0},{"$f":"SUMIFS(Налоги!AI$15:AI$42,Налоги!$A$15:$A$42,$A89,Налоги!$M$15:$M$42,$B89)","v":0},{"$f":"SUMIFS(Налоги!AJ$15:AJ$42,Налоги!$A$15:$A$42,$A89,Налоги!$M$15:$M$42,$B89)","v":0},{"$f":"SUMIFS(Налоги!AK$15:AK$42,Налоги!$A$15:$A$42,$A89,Налоги!$M$15:$M$42,$B89)","v":0},{"$f":"SUMIFS(Налоги!AL$15:AL$42,Налоги!$A$15:$A$42,$A89,Налоги!$M$15:$M$42,$B89)","v":0},0,0,0,0,0,0,0,0,0,0]
["1","Расходы на мероприятия по защите централизованных систем водоснабжения",null,"L2_4",null,null,null,null,null,null,null,"2.4","Расходы на мероприятия по защите централизованных систем водоснабжения и (или) водоотведения и их отдельных объектов от угроз техногенного, природного характера и террористических актов, по предотвращению возникновения аварийных ситуаций, снижению риска и смягчению последствий чрезвычайных ситуаций (за исключением мероприятий, включенных в инвестиционную программу)","тыс.руб.",null,null,null,0,null,null,null,null,null,null,null,null,null,null,null,null,null,null,null,null,null,null,null,null,null,0,0,0,0,0,0,0,0,0,0]
["1","Арендная и концессионная плата, лизинговые платежи",null,"L2_5",null,null,null,null,null,null,null,"2.5","Арендная и концессионная плата, лизинговые платежи","тыс.руб.",{"$f":"SUMIFS(Аренда!O$15:O$32,Аренда!$A$15:$A$32,$A91,Аренда!$M$15:$M$32,\"Арендная и концессионная плата. Лизинговые платежи\")","v":4.3753200000000003},{"$f":"SUMIFS(Аренда!P$15:P$32,Аренда!$A$15:$A$32,$A91,Аренда!$M$15:$M$32,\"Арендная и концессионная плата. Лизинговые платежи\")","v":0},{"$f":"SUMIFS(Аренда!Q$15:Q$32,Аренда!$A$15:$A$32,$A91,Аренда!$M$15:$M$32,\"Арендная и концессионная плата. Лизинговые платежи\")","v":6.8},6.8,{"$f":"SUMIFS(Аренда!R$15:R$32,Аренда!$A$15:$A$32,$A91,Аренда!$M$15:$M$32,\"Арендная и концессионная плата. Лизинговые платежи\")","v":0},{"$f":"SUMIFS(Аренда!S$15:S$32,Аренда!$A$15:$A$32,$A91,Аренда!$M$15:$M$32,\"Арендная и концессионная плата. Лизинговые платежи\")","v":0},{"$f":"SUMIFS(Аренда!T$15:T$32,Аренда!$A$15:$A$32,$A91,Аренда!$M$15:$M$32,\"Арендная и концессионная плата. Лизинговые платежи\")","v":0},{"$f":"SUMIFS(Аренда!U$15:U$32,Аренда!$A$15:$A$32,$A91,Аренда!$M$15:$M$32,\"Арендная и концессионная плата. Лизинговые платежи\")","v":0},{"$f":"SUMIFS(Аренда!V$15:V$32,Аренда!$A$15:$A$32,$A91,Аренда!$M$15:$M$32,\"Арендная и концессионная плата. Лизинговые платежи\")","v":0},{"$f":"SUMIFS(Аренда!W$15:W$32,Аренда!$A$15:$A$32,$A91,Аренда!$M$15:$M$32,\"Арендная и концессионная плата. Лизинговые платежи\")","v":0},{"$f":"SUMIFS(Аренда!X$15:X$32,Аренда!$A$15:$A$32,$A91,Аренда!$M$15:$M$32,\"Арендная и концессионная плата. Лизинговые платежи\")","v":0},{"$f":"SUMIFS(Аренда!Y$15:Y$32,Аренда!$A$15:$A$32,$A91,Аренда!$M$15:$M$32,\"Арендная и концессионная плата. Лизинговые платежи\")","v":0},{"$f":"SUMIFS(Аренда!Z$15:Z$32,Аренда!$A$15:$A$32,$A91,Аренда!$M$15:$M$32,\"Арендная и концессионная плата. Лизинговые платежи\")","v":0},{"$f":"SUMIFS(Аренда!AA$15:AA$32,Аренда!$A$15:$A$32,$A91,Аренда!$M$15:$M$32,\"Арендная и концессионная плата. Лизинговые платежи\")","v":0},{"$f":"SUMIFS(Аренда!AB$15:AB$32,Аренда!$A$15:$A$32,$A91,Аренда!$M$15:$M$32,\"Арендная и концессионная плата. Лизинговые платежи\")","v":0},{"$f":"SUMIFS(Аренда!AC$15:AC$32,Аренда!$A$15:$A$32,$A91,Аренда!$M$15:$M$32,\"Арендная и концессионная плата. Лизинговые платежи\")","v":0},{"$f":"SUMIFS(Аренда!AD$15:AD$32,Аренда!$A$15:$A$32,$A91,Аренда!$M$15:$M$32,\"Арендная и концессионная плата. Лизинговые платежи\")","v":0},{"$f":"SUMIFS(Аренда!AE$15:AE$32,Аренда!$A$15:$A$32,$A91,Аренда!$M$15:$M$32,\"Арендная и концессионная плата. Лизинговые платежи\")","v":0},{"$f":"SUMIFS(Аренда!AF$15:AF$32,Аренда!$A$15:$A$32,$A91,Аренда!$M$15:$M$32,\"Арендная и концессионная плата. Лизинговые платежи\")","v":0},{"$f":"SUMIFS(Аренда!AG$15:AG$32,Аренда!$A$15:$A$32,$A91,Аренда!$M$15:$M$32,\"Арендная и концессионная плата. Лизинговые платежи\")","v":0},{"$f":"SUMIFS(Аренда!AH$15:AH$32,Аренда!$A$15:$A$32,$A91,Аренда!$M$15:$M$32,\"Арендная и концессионная плата. Лизинговые платежи\")","v":0},{"$f":"SUMIFS(Аренда!AI$15:AI$32,Аренда!$A$15:$A$32,$A91,Аренда!$M$15:$M$32,\"Арендная и концессионная плата. Лизинговые платежи\")","v":0},{"$f":"SUMIFS(Аренда!AJ$15:AJ$32,Аренда!$A$15:$A$32,$A91,Аренда!$M$15:$M$32,\"Арендная и концессионная плата. Лизинговые платежи\")","v":0},{"$f":"SUMIFS(Аренда!AK$15:AK$32,Аренда!$A$15:$A$32,$A91,Аренда!$M$15:$M$32,\"Арендная и концессионная плата. Лизинговые платежи\")","v":0},{"$f":"SUMIFS(Аренда!AL$15:AL$32,Аренда!$A$15:$A$32,$A91,Аренда!$M$15:$M$32,\"Арендная и концессионная плата. Лизинговые платежи\")","v":0},{"$f":"IF(S91=0,0,(AD91-S91)/S91*100)","v":0},0,0,0,0,0,0,0,0,0,null,"1) Пункты 49 (3), 51, 29 Методических указаний ФСТ № 1746-э. 2) Пункт 28 абз. 4 Методических указаний ФСТ № 1746-э. 3) Постановление Правительства РФ от 01.01.2002 N 1 (ред. от 18.11.2022) \"О Классификации основных средств, включаемых в амортизационные группы\".  Постановлением Правительства РФ от 01.01.2002 N 1.  ","Плановые расходы на 2024-2028 гг. приняты в размере 0,00 тыс. руб, так как остаточная стоимость арендуемого имущества (в части объектов системы холодного водоснабжения), арендуемого по Договору № А-63/23 от 01.06.2023, по состоянию на 01.12.2023 составляет  0,00 тыс. руб."]
["1",null,null,"L2_6",null,null,null,null,null,null,null,"2.6","Сбытовые расходы гарантирующей организации","тыс.руб.",{"$f":"O93","v":0},{"$f":"P93","v":0},{"$f":"Q93","v":0},0,{"$f":"S93","v":0},0,0,0,0,0,0,0,0,0,0,0,0,0,0,0,0,0,0,0,0,0,0,0,0,0,0,0,0,0,0]
["1","резерв по сомнительным долгам гарантирующей организации",null,"L2_6_1",null,null,null,null,null,null,null,"2.6.1","резерв по сомнительным долгам гарантирующей организации","тыс.руб.",{"$f":"SUMIFS('Сбытовые расходы ГО'!O$15:O$40,'Сбытовые расходы ГО'!$A$15:$A$40,$A93,'Сбытовые расходы ГО'!$B$15:$B$40,\"L1\")","v":0},{"$f":"SUMIFS('Сбытовые расходы ГО'!P$15:P$40,'Сбытовые расходы ГО'!$A$15:$A$40,$A93,'Сбытовые расходы ГО'!$B$15:$B$40,\"L1\")","v":0},{"$f":"SUMIFS('Сбытовые расходы ГО'!Q$15:Q$40,'Сбытовые расходы ГО'!$A$15:$A$40,$A93,'Сбытовые расходы ГО'!$B$15:$B$40,\"L1\")","v":0},0,{"$f":"SUMIFS('Сбытовые расходы ГО'!R$15:R$40,'Сбытовые расходы ГО'!$A$15:$A$40,$A93,'Сбытовые расходы ГО'!$B$15:$B$40,\"L1\")","v":0},{"$f":"SUMIFS('Сбытовые расходы ГО'!S$15:S$40,'Сбытовые расходы ГО'!$A$15:$A$40,$A93,'Сбытовые расходы ГО'!$B$15:$B$40,\"L1\")","v":0},null,null,null,null,null,null,null,null,null,{"$f":"SUMIFS('Сбытовые расходы ГО'!T$15:T$40,'Сбытовые расходы ГО'!$A$15:$A$40,$A93,'Сбытовые расходы ГО'!$B$15:$B$40,\"L1\")","v":0},null,null,null,null,null,null,null,null,null,0,0,0,0,0,0,0,0,0,0]
["1","Экономия расходов",null,"L2_7",null,null,null,null,null,null,null,"2.7","Экономия расходов","тыс.руб.",null,null,null,0,null,{"$f":"SUMIFS(Экономия_корр!O$15:O$32,Экономия_корр!$A$15:$A$32,$A94,Экономия_корр!$M$15:$M$32,\"Экономия расходов с учетом ИПЦ\")","v":0},{"$f":"SUMIFS(Экономия_корр!P$15:P$32,Экономия_корр!$A$15:$A$32,$A94,Экономия_корр!$M$15:$M$32,\"Экономия расходов с учетом ИПЦ\")","v":0},{"$f":"SUMIFS(Экономия_корр!Q$15:Q$32,Экономия_корр!$A$15:$A$32,$A94,Экономия_корр!$M$15:$M$32,\"Экономия расходов с учетом ИПЦ\")","v":0},{"$f":"SUMIFS(Экономия_корр!R$15:R$32,Экономия_корр!$A$15:$A$32,$A94,Экономия_корр!$M$15:$M$32,\"Экономия расходов с учетом ИПЦ\")","v":0},{"$f":"SUMIFS(Экономия_корр!S$15:S$32,Экономия_корр!$A$15:$A$32,$A94,Экономия_корр!$M$15:$M$32,\"Экономия расходов с учетом ИПЦ\")","v":0},{"$f":"SUMIFS(Экономия_корр!T$15:T$32,Экономия_корр!$A$15:$A$32,$A94,Экономия_корр!$M$15:$M$32,\"Экономия расходов с учетом ИПЦ\")","v":0},{"$f":"SUMIFS(Экономия_корр!U$15:U$32,Экономия_корр!$A$15:$A$32,$A94,Экономия_корр!$M$15:$M$32,\"Экономия расходов с учетом ИПЦ\")","v":0},{"$f":"SUMIFS(Экономия_корр!V$15:V$32,Экономия_корр!$A$15:$A$32,$A94,Экономия_корр!$M$15:$M$32,\"Экономия расходов с учетом ИПЦ\")","v":0},{"$f":"SUMIFS(Экономия_корр!W$15:W$32,Экономия_корр!$A$15:$A$32,$A94,Экономия_корр!$M$15:$M$32,\"Экономия расходов с учетом ИПЦ\")","v":0},{"$f":"SUMIFS(Экономия_корр!X$15:X$32,Экономия_корр!$A$15:$A$32,$A94,Экономия_корр!$M$15:$M$32,\"Экономия расходов с учетом ИПЦ\")","v":0},{"$f":"SUMIFS(Экономия_корр!Y$15:Y$32,Экономия_корр!$A$15:$A$32,$A94,Экономия_корр!$M$15:$M$32,\"Экономия расходов с учетом ИПЦ\")","v":0},{"$f":"SUMIFS(Экономия_корр!Z$15:Z$32,Экономия_корр!$A$15:$A$32,$A94,Экономия_корр!$M$15:$M$32,\"Экономия расходов с учетом ИПЦ\")","v":0},{"$f":"SUMIFS(Экономия_корр!AA$15:AA$32,Экономия_корр!$A$15:$A$32,$A94,Экономия_корр!$M$15:$M$32,\"Экономия расходов с учетом ИПЦ\")","v":0},{"$f":"SUMIFS(Экономия_корр!AB$15:AB$32,Экономия_корр!$A$15:$A$32,$A94,Экономия_корр!$M$15:$M$32,\"Экономия расходов с учетом ИПЦ\")","v":0},{"$f":"SUMIFS(Экономия_корр!AC$15:AC$32,Экономия_корр!$A$15:$A$32,$A94,Экономия_корр!$M$15:$M$32,\"Экономия расходов с учетом ИПЦ\")","v":0},{"$f":"SUMIFS(Экономия_корр!AD$15:AD$32,Экономия_корр!$A$15:$A$32,$A94,Экономия_корр!$M$15:$M$32,\"Экономия расходов с учетом ИПЦ\")","v":0},{"$f":"SUMIFS(Экономия_корр!AE$15:AE$32,Экономия_корр!$A$15:$A$32,$A94,Экономия_корр!$M$15:$M$32,\"Экономия расходов с учетом ИПЦ\")","v":0},{"$f":"SUMIFS(Экономия_корр!AF$15:AF$32,Экономия_корр!$A$15:$A$32,$A94,Экономия_корр!$M$15:$M$32,\"Экономия расходов с учетом ИПЦ\")","v":0},{"$f":"SUMIFS(Экономия_корр!AG$15:AG$32,Экономия_корр!$A$15:$A$32,$A94,Экономия_корр!$M$15:$M$32,\"Экономия расходов с учетом ИПЦ\")","v":0},{"$f":"SUMIFS(Экономия_корр!AH$15:AH$32,Экономия_корр!$A$15:$A$32,$A94,Экономия_корр!$M$15:$M$32,\"Экономия расходов с учетом ИПЦ\")","v":0},0,0,0,0,0,0,0,0,0,0]
["1","Расходы на обслуживание бесхозяйных сетей",null,"L2_8",null,null,null,null,null,null,null,"2.8","Расходы на обслуживание бесхозяйных сетей","тыс.руб.",null,null,null,0,null,null,null,null,null,null,null,null,null,null,null,null,null,null,null,null,null,null,null,null,null,0,0,0,0,0,0,0,0,0,0]
["1","Расходы на компенсацию экономически обоснованных расходов",null,"L2_9",null,null,null,null,null,null,null,"2.9","Расходы на компенсацию экономически обоснованных расходов","тыс.руб.",null,null,null,0,null,null,null,null,null,null,null,null,null,null,null,null,null,null,null,null,null,null,null,null,null,0,0,0,0,0,0,0,0,0,0]
["1","Займы и кредиты (для метода индексации)",null,"L2_10",null,null,null,null,null,null,null,"2.10","Займы и кредиты (для метода индексации)","тыс.руб.",{"$f":"SUM(O98,O99)","v":0},{"$f":"SUM(P98,P99)","v":0},0,0,0,0,0,0,0,0,0,0,0,0,0,0,0,0,0,0,0,0,0,0,0,0,0,0,0,0,0,0,0,0,0]
["1",null,null,"L2_10_1",null,null,null,null,null,null,null,"2.10.1","возврат займов и кредитов","тыс.руб.",null,null,null,0,null,null,null,null,null,null,null,null,null,null,null,null,null,null,null,null,null,null,null,null,null,0,0,0,0,0,0,0,0,0,0]
["1",null,null,"L2_10_2",null,null,null,null,null,null,null,"2.10.2","проценты по займам и кредитам","тыс.руб.",null,null,null,0,null,null,null,null,null,null,null,null,null,null,null,null,null,null,null,null,null,null,null,null,null,0,{"$f":"IF(AD99=0,0,(AE99-AD99)/AD99*100)","v":0},0,0,0,0,0,0,0,0]
["1","Расходы концессионера на осуществление государственного кадастрового учета",null,"L2_11",null,null,null,null,null,null,null,"2.11","Расходы концессионера на осуществление государственного кадастрового учета и (или) государственной регистрации права собственности концедента","тыс.руб.",null,null,null,0,null,null,null,null,null,null,null,null,null,null,null,null,null,null,null,null,null,null,null,null,null,0,0,0,0,0,0,0,0,0,0]
["1","ээ",null,"L3",null,null,null,null,null,null,null,"3","Расходы на электрическую энергию","тыс.руб.",{"$f":"SUMIFS(ЭЭ!O$15:O$42,ЭЭ!$A$15:$A$42,$A101,ЭЭ!$M$15:$M$42,\"Всего по тарифу\")","v":3397.4385362937101},{"$f":"SUMIFS(ЭЭ!P$15:P$42,ЭЭ!$A$15:$A$42,$A101,ЭЭ!$M$15:$M$42,\"Всего по тарифу\")","v":2122.2399999999998},{"$f":"SUMIFS(ЭЭ!Q$15:Q$42,ЭЭ!$A$15:$A$42,$A101,ЭЭ!$M$15:$M$42,\"Всего по тарифу\")","v":2119.2759999999998},{"$f":"Q101-P101","v":-2.9639999999999418},{"$f":"SUMIFS(ЭЭ!R$15:R$42,ЭЭ!$A$15:$A$42,$A101,ЭЭ!$M$15:$M$42,\"Всего по тарифу\")","v":3785.0518374274302},{"$f":"SUMIFS(ЭЭ!S$15:S$42,ЭЭ!$A$15:$A$42,$A101,ЭЭ!$M$15:$M$42,\"Всего по тарифу\")","v":4287.9799999999996},{"$f":"SUMIFS(ЭЭ!T$15:T$42,ЭЭ!$A$15:$A$42,$A101,ЭЭ!$M$15:$M$42,\"Всего по тарифу\")","v":4545.26},{"$f":"SUMIFS(ЭЭ!U$15:U$42,ЭЭ!$A$15:$A$42,$A101,ЭЭ!$M$15:$M$42,\"Всего по тарифу\")","v":4772.5200000000004},{"$f":"SUMIFS(ЭЭ!V$15:V$42,ЭЭ!$A$15:$A$42,$A101,ЭЭ!$M$15:$M$42,\"Всего по тарифу\")","v":5011.1499999999996},{"$f":"SUMIFS(ЭЭ!W$15:W$42,ЭЭ!$A$15:$A$42,$A101,ЭЭ!$M$15:$M$42,\"Всего по тарифу\")","v":5261.71},{"$f":"SUMIFS(ЭЭ!X$15:X$42,ЭЭ!$A$15:$A$42,$A101,ЭЭ!$M$15:$M$42,\"Всего по тарифу\")","v":0},{"$f":"SUMIFS(ЭЭ!Y$15:Y$42,ЭЭ!$A$15:$A$42,$A101,ЭЭ!$M$15:$M$42,\"Всего по тарифу\")","v":0},{"$f":"SUMIFS(ЭЭ!Z$15:Z$42,ЭЭ!$A$15:$A$42,$A101,ЭЭ!$M$15:$M$42,\"Всего по тарифу\")","v":0},{"$f":"SUMIFS(ЭЭ!AA$15:AA$42,ЭЭ!$A$15:$A$42,$A101,ЭЭ!$M$15:$M$42,\"Всего по тарифу\")","v":0},{"$f":"SUMIFS(ЭЭ!AB$15:AB$42,ЭЭ!$A$15:$A$42,$A101,ЭЭ!$M$15:$M$42,\"Всего по тарифу\")","v":0},{"$f":"SUMIFS(ЭЭ!AC$15:AC$42,ЭЭ!$A$15:$A$42,$A101,ЭЭ!$M$15:$M$42,\"Всего по тарифу\")","v":2495.62029618017},{"$f":"SUMIFS(ЭЭ!AD$15:AD$42,ЭЭ!$A$15:$A$42,$A101,ЭЭ!$M$15:$M$42,\"Всего по тарифу\")","v":2617.905690693},{"$f":"SUMIFS(ЭЭ!AE$15:AE$42,ЭЭ!$A$15:$A$42,$A101,ЭЭ!$M$15:$M$42,\"Всего по тарифу\")","v":2696.4428614137901},{"$f":"SUMIFS(ЭЭ!AF$15:AF$42,ЭЭ!$A$15:$A$42,$A101,ЭЭ!$M$15:$M$42,\"Всего по тарифу\")","v":2777.3361472562001},{"$f":"SUMIFS(ЭЭ!AG$15:AG$42,ЭЭ!$A$15:$A$42,$A101,ЭЭ!$M$15:$M$42,\"Всего по тарифу\")","v":2860.65623167389},{"$f":"SUMIFS(ЭЭ!AH$15:AH$42,ЭЭ!$A$15:$A$42,$A101,ЭЭ!$M$15:$M$42,\"Всего по тарифу\")","v":0},{"$f":"SUMIFS(ЭЭ!AI$15:AI$42,ЭЭ!$A$15:$A$42,$A101,ЭЭ!$M$15:$M$42,\"Всего по тарифу\")","v":0},{"$f":"SUMIFS(ЭЭ!AJ$15:AJ$42,ЭЭ!$A$15:$A$42,$A101,ЭЭ!$M$15:$M$42,\"Всего по тарифу\")","v":0},{"$f":"SUMIFS(ЭЭ!AK$15:AK$42,ЭЭ!$A$15:$A$42,$A101,ЭЭ!$M$15:$M$42,\"Всего по тарифу\")","v":0},{"$f":"SUMIFS(ЭЭ!AL$15:AL$42,ЭЭ!$A$15:$A$42,$A101,ЭЭ!$M$15:$M$42,\"Всего по тарифу\")","v":0},{"$f":"IF(S101=0,0,(AD101-S101)/S101*100)","v":-34.066416964150285},4.9000000000000643,3.0000000000000027,2.9999999999998637,3.0000000000001417,-100,0,0,0,0,null,"П. 20, 84, 88, 43 Методических указаний ФСТ № 1746-э.","Поставку электрической энергии для нужд  холодного водоснабжения и водоотведения  ООО \"ТВК\"  обеспечивает  ПАО \"Кузбассэнергосбыт\", через посредничество ООО \"Шахта \"Листвяжная\".  См. Лист \"ЭЭ\". "]
["1","амортизация",null,"L4",null,null,null,null,null,null,null,"4","Амортизация основных средств и нематериальных активов, относимых к объектам централизованной системы водоснабжения (водоотведения)","тыс.руб.",{"$f":"SUMIFS(Амортизация!O$15:O$114,Амортизация!$A$15:$A$114,$A102,Амортизация!$M$15:$M$114,\"Сумма амортизационных отчислений\")","v":345.99},{"$f":"SUMIFS(Амортизация!P$15:P$114,Амортизация!$A$15:$A$114,$A102,Амортизация!$M$15:$M$114,\"Сумма амортизационных отчислений\")","v":0.33400000000000002},{"$f":"SUMIFS(Амортизация!Q$15:Q$114,Амортизация!$A$15:$A$114,$A102,Амортизация!$M$15:$M$114,\"Сумма амортизационных отчислений\")","v":235.18046000000001},234.84646000000001,{"$f":"SUMIFS(Амортизация!R$15:R$114,Амортизация!$A$15:$A$114,$A102,Амортизация!$M$15:$M$114,\"Сумма амортизационных отчислений\")","v":83.8},{"$f":"SUMIFS(Амортизация!S$15:S$114,Амортизация!$A$15:$A$114,$A102,Амортизация!$M$15:$M$114,\"Сумма амортизационных отчислений\")","v":0.14161000000000001},{"$f":"SUMIFS(Амортизация!T$15:T$114,Амортизация!$A$15:$A$114,$A102,Амортизация!$M$15:$M$114,\"Сумма амортизационных отчислений\")","v":0},{"$f":"SUMIFS(Амортизация!U$15:U$114,Амортизация!$A$15:$A$114,$A102,Амортизация!$M$15:$M$114,\"Сумма амортизационных отчислений\")","v":0},{"$f":"SUMIFS(Амортизация!V$15:V$114,Амортизация!$A$15:$A$114,$A102,Амортизация!$M$15:$M$114,\"Сумма амортизационных отчислений\")","v":0},{"$f":"SUMIFS(Амортизация!W$15:W$114,Амортизация!$A$15:$A$114,$A102,Амортизация!$M$15:$M$114,\"Сумма амортизационных отчислений\")","v":0},{"$f":"SUMIFS(Амортизация!X$15:X$114,Амортизация!$A$15:$A$114,$A102,Амортизация!$M$15:$M$114,\"Сумма амортизационных отчислений\")","v":0},{"$f":"SUMIFS(Амортизация!Y$15:Y$114,Амортизация!$A$15:$A$114,$A102,Амортизация!$M$15:$M$114,\"Сумма амортизационных отчислений\")","v":0},{"$f":"SUMIFS(Амортизация!Z$15:Z$114,Амортизация!$A$15:$A$114,$A102,Амортизация!$M$15:$M$114,\"Сумма амортизационных отчислений\")","v":0},{"$f":"SUMIFS(Амортизация!AA$15:AA$114,Амортизация!$A$15:$A$114,$A102,Амортизация!$M$15:$M$114,\"Сумма амортизационных отчислений\")","v":0},{"$f":"SUMIFS(Амортизация!AB$15:AB$114,Амортизация!$A$15:$A$114,$A102,Амортизация!$M$15:$M$114,\"Сумма амортизационных отчислений\")","v":0},{"$f":"SUMIFS(Амортизация!AC$15:AC$114,Амортизация!$A$15:$A$114,$A102,Амортизация!$M$15:$M$114,\"Сумма амортизационных отчислений\")","v":69.16352000000002},{"$f":"SUMIFS(Амортизация!AD$15:AD$114,Амортизация!$A$15:$A$114,$A102,Амортизация!$M$15:$M$114,\"Сумма амортизационных отчислений\")","v":0},{"$f":"SUMIFS(Амортизация!AE$15:AE$114,Амортизация!$A$15:$A$114,$A102,Амортизация!$M$15:$M$114,\"Сумма амортизационных отчислений\")","v":0},{"$f":"SUMIFS(Амортизация!AF$15:AF$114,Амортизация!$A$15:$A$114,$A102,Амортизация!$M$15:$M$114,\"Сумма амортизационных отчислений\")","v":0},{"$f":"SUMIFS(Амортизация!AG$15:AG$114,Амортизация!$A$15:$A$114,$A102,Амортизация!$M$15:$M$114,\"Сумма амортизационных отчислений\")","v":0},{"$f":"SUMIFS(Амортизация!AH$15:AH$114,Амортизация!$A$15:$A$114,$A102,Амортизация!$M$15:$M$114,\"Сумма амортизационных отчислений\")","v":0},{"$f":"SUMIFS(Амортизация!AI$15:AI$114,Амортизация!$A$15:$A$114,$A102,Амортизация!$M$15:$M$114,\"Сумма амортизационных отчислений\")","v":0},{"$f":"SUMIFS(Амортизация!AJ$15:AJ$114,Амортизация!$A$15:$A$114,$A102,Амортизация!$M$15:$M$114,\"Сумма амортизационных отчислений\")","v":0},{"$f":"SUMIFS(Амортизация!AK$15:AK$114,Амортизация!$A$15:$A$114,$A102,Амортизация!$M$15:$M$114,\"Сумма амортизационных отчислений\")","v":0},{"$f":"SUMIFS(Амортизация!AL$15:AL$114,Амортизация!$A$15:$A$114,$A102,Амортизация!$M$15:$M$114,\"Сумма амортизационных отчислений\")","v":0},-17.465966587112145,-100,0,0,0,0,0,0,0,0,null,"1) П. 89, п. 28, п 18(7)  Методических указаний ФСТ № 1746-э. 2) Постановление Правительства РФ от 01.01.2002 N 1 (ред. от 18.11.2022) \"О Классификации основных средств, включаемых в амортизационные группы\". 3) Приказ Минфина России от 17.09.2020 N 204н (ред. от 30.05.2022) \"Об утверждении Федеральных стандартов бухгалтерского учета ФСБУ 6/2020 \"Основные средства\" и ФСБУ 26/2020 \"Капитальные вложения\" (Зарегистрировано в Минюсте России 15.10.2020 N 60399). 4) Письмо> ФАС России от 05.08.2022 N МШ/74227/22 \"О новых стандартах бухгалтерского учета, подлежащих применению начиная с бухгалтерской (финансовой) отчетности за 2022 год\". 5) \"Положение об Учетной политике для целей бухгалтерского учета ООО \"ТВК\" на 2022 год\" (Приказ от 10.01.2022 № 57).","Плановая величина амортизационных отчислений  на 2024 год  в части основных средств (насосное оборудование), закрепленных за участком \"ВОДОЕМ-2\",  определена на основании: 1)  \"Аналитического отчета с 01.01.2022 по 31.12.2022\" сч. 20-19 \"Водоснабжение питьевой водой\";  2)  \"Ведомости износа основных средств по состоянию на 31.12.2022\"; 3) инвентарных карт. При этом  ИСКЛЮЧЕНА амортизация электронасоса скважинного JETEX C6 SS3, приобретенного в 2022 г., так как расходы на его приобретение  учтены специалистом РЭК в составе фактических затрат на КАПИТАЛЬНЫЙ РЕМОНТ 2022 г. "]
["1",null,null,"L4_1",null,null,null,null,null,null,null,"4.1","в том числе инвестиционная (справочно)","тыс.руб.",{"$f":"SUMIFS('ИП + источники'!P$17:P$89,'ИП + источники'!$A$17:$A$89,$A103,'ИП + источники'!$M$17:$M$89,\"Амортизационные отчисления\")+SUMIFS('ИП + источники'!P$17:P$89,'ИП + источники'!$A$17:$A$89,$A103,'ИП + источники'!$M$17:$M$89,\"погашение займов и кредитов из амортизации\")","v":0},{"$f":"SUMIFS('ИП + источники'!Q$17:Q$89,'ИП + источники'!$A$17:$A$89,$A103,'ИП + источники'!$M$17:$M$89,\"Амортизационные отчисления\")+SUMIFS('ИП + источники'!Q$17:Q$89,'ИП + источники'!$A$17:$A$89,$A103,'ИП + источники'!$M$17:$M$89,\"погашение займов и кредитов из амортизации\")","v":0},{"$f":"SUMIFS('ИП + источники'!R$17:R$89,'ИП + источники'!$A$17:$A$89,$A103,'ИП + источники'!$M$17:$M$89,\"Амортизационные отчисления\")+SUMIFS('ИП + источники'!R$17:R$89,'ИП + источники'!$A$17:$A$89,$A103,'ИП + источники'!$M$17:$M$89,\"погашение займов и кредитов из амортизации\")","v":0},0,{"$f":"SUMIFS('ИП + источники'!T$17:T$89,'ИП + источники'!$A$17:$A$89,$A103,'ИП + источники'!$M$17:$M$89,\"Амортизационные отчисления\")+SUMIFS('ИП + источники'!T$17:T$89,'ИП + источники'!$A$17:$A$89,$A103,'ИП + источники'!$M$17:$M$89,\"погашение займов и кредитов из амортизации\")","v":0},{"$f":"SUMIFS('ИП + источники'!U$17:U$89,'ИП + источники'!$A$17:$A$89,$A103,'ИП + источники'!$M$17:$M$89,\"Амортизационные отчисления\")+SUMIFS('ИП + источники'!U$17:U$89,'ИП + источники'!$A$17:$A$89,$A103,'ИП + источники'!$M$17:$M$89,\"погашение займов и кредитов из амортизации\")","v":0},{"$f":"SUMIFS('ИП + источники'!V$17:V$89,'ИП + источники'!$A$17:$A$89,$A103,'ИП + источники'!$M$17:$M$89,\"Амортизационные отчисления\")+SUMIFS('ИП + источники'!V$17:V$89,'ИП + источники'!$A$17:$A$89,$A103,'ИП + источники'!$M$17:$M$89,\"погашение займов и кредитов из амортизации\")","v":0},{"$f":"SUMIFS('ИП + источники'!W$17:W$89,'ИП + источники'!$A$17:$A$89,$A103,'ИП + источники'!$M$17:$M$89,\"Амортизационные отчисления\")+SUMIFS('ИП + источники'!W$17:W$89,'ИП + источники'!$A$17:$A$89,$A103,'ИП + источники'!$M$17:$M$89,\"погашение займов и кредитов из амортизации\")","v":0},{"$f":"SUMIFS('ИП + источники'!X$17:X$89,'ИП + источники'!$A$17:$A$89,$A103,'ИП + источники'!$M$17:$M$89,\"Амортизационные отчисления\")+SUMIFS('ИП + источники'!X$17:X$89,'ИП + источники'!$A$17:$A$89,$A103,'ИП + источники'!$M$17:$M$89,\"погашение займов и кредитов из амортизации\")","v":0},{"$f":"SUMIFS('ИП + источники'!Y$17:Y$89,'ИП + источники'!$A$17:$A$89,$A103,'ИП + источники'!$M$17:$M$89,\"Амортизационные отчисления\")+SUMIFS('ИП + источники'!Y$17:Y$89,'ИП + источники'!$A$17:$A$89,$A103,'ИП + источники'!$M$17:$M$89,\"погашение займов и кредитов из амортизации\")","v":0},{"$f":"SUMIFS('ИП + источники'!Z$17:Z$89,'ИП + источники'!$A$17:$A$89,$A103,'ИП + источники'!$M$17:$M$89,\"Амортизационные отчисления\")+SUMIFS('ИП + источники'!Z$17:Z$89,'ИП + источники'!$A$17:$A$89,$A103,'ИП + источники'!$M$17:$M$89,\"погашение займов и кредитов из амортизации\")","v":0},{"$f":"SUMIFS('ИП + источники'!AA$17:AA$89,'ИП + источники'!$A$17:$A$89,$A103,'ИП + источники'!$M$17:$M$89,\"Амортизационные отчисления\")+SUMIFS('ИП + источники'!AA$17:AA$89,'ИП + источники'!$A$17:$A$89,$A103,'ИП + источники'!$M$17:$M$89,\"погашение займов и кредитов из амортизации\")","v":0},{"$f":"SUMIFS('ИП + источники'!AB$17:AB$89,'ИП + источники'!$A$17:$A$89,$A103,'ИП + источники'!$M$17:$M$89,\"Амортизационные отчисления\")+SUMIFS('ИП + источники'!AB$17:AB$89,'ИП + источники'!$A$17:$A$89,$A103,'ИП + источники'!$M$17:$M$89,\"погашение займов и кредитов из амортизации\")","v":0},{"$f":"SUMIFS('ИП + источники'!AC$17:AC$89,'ИП + источники'!$A$17:$A$89,$A103,'ИП + источники'!$M$17:$M$89,\"Амортизационные отчисления\")+SUMIFS('ИП + источники'!AC$17:AC$89,'ИП + источники'!$A$17:$A$89,$A103,'ИП + источники'!$M$17:$M$89,\"погашение займов и кредитов из амортизации\")","v":0},{"$f":"SUMIFS('ИП + источники'!AD$17:AD$89,'ИП + источники'!$A$17:$A$89,$A103,'ИП + источники'!$M$17:$M$89,\"Амортизационные отчисления\")+SUMIFS('ИП + источники'!AD$17:AD$89,'ИП + источники'!$A$17:$A$89,$A103,'ИП + источники'!$M$17:$M$89,\"погашение займов и кредитов из амортизации\")","v":0},{"$f":"SUMIFS('ИП + источники'!AE$17:AE$89,'ИП + источники'!$A$17:$A$89,$A103,'ИП + источники'!$M$17:$M$89,\"Амортизационные отчисления\")+SUMIFS('ИП + источники'!AE$17:AE$89,'ИП + источники'!$A$17:$A$89,$A103,'ИП + источники'!$M$17:$M$89,\"погашение займов и кредитов из амортизации\")","v":0},{"$f":"SUMIFS('ИП + источники'!AF$17:AF$89,'ИП + источники'!$A$17:$A$89,$A103,'ИП + источники'!$M$17:$M$89,\"Амортизационные отчисления\")+SUMIFS('ИП + источники'!AF$17:AF$89,'ИП + источники'!$A$17:$A$89,$A103,'ИП + источники'!$M$17:$M$89,\"погашение займов и кредитов из амортизации\")","v":0},{"$f":"SUMIFS('ИП + источники'!AG$17:AG$89,'ИП + источники'!$A$17:$A$89,$A103,'ИП + источники'!$M$17:$M$89,\"Амортизационные отчисления\")+SUMIFS('ИП + источники'!AG$17:AG$89,'ИП + источники'!$A$17:$A$89,$A103,'ИП + источники'!$M$17:$M$89,\"погашение займов и кредитов из амортизации\")","v":0},{"$f":"SUMIFS('ИП + источники'!AH$17:AH$89,'ИП + источники'!$A$17:$A$89,$A103,'ИП + источники'!$M$17:$M$89,\"Амортизационные отчисления\")+SUMIFS('ИП + источники'!AH$17:AH$89,'ИП + источники'!$A$17:$A$89,$A103,'ИП + источники'!$M$17:$M$89,\"погашение займов и кредитов из амортизации\")","v":0},{"$f":"SUMIFS('ИП + источники'!AI$17:AI$89,'ИП + источники'!$A$17:$A$89,$A103,'ИП + источники'!$M$17:$M$89,\"Амортизационные отчисления\")+SUMIFS('ИП + источники'!AI$17:AI$89,'ИП + источники'!$A$17:$A$89,$A103,'ИП + источники'!$M$17:$M$89,\"погашение займов и кредитов из амортизации\")","v":0},{"$f":"SUMIFS('ИП + источники'!AJ$17:AJ$89,'ИП + источники'!$A$17:$A$89,$A103,'ИП + источники'!$M$17:$M$89,\"Амортизационные отчисления\")+SUMIFS('ИП + источники'!AJ$17:AJ$89,'ИП + источники'!$A$17:$A$89,$A103,'ИП + источники'!$M$17:$M$89,\"погашение займов и кредитов из амортизации\")","v":0},{"$f":"SUMIFS('ИП + источники'!AK$17:AK$89,'ИП + источники'!$A$17:$A$89,$A103,'ИП + источники'!$M$17:$M$89,\"Амортизационные отчисления\")+SUMIFS('ИП + источники'!AK$17:AK$89,'ИП + источники'!$A$17:$A$89,$A103,'ИП + источники'!$M$17:$M$89,\"погашение займов и кредитов из амортизации\")","v":0},{"$f":"SUMIFS('ИП + источники'!AL$17:AL$89,'ИП + источники'!$A$17:$A$89,$A103,'ИП + источники'!$M$17:$M$89,\"Амортизационные отчисления\")+SUMIFS('ИП + источники'!AL$17:AL$89,'ИП + источники'!$A$17:$A$89,$A103,'ИП + источники'!$M$17:$M$89,\"погашение займов и кредитов из амортизации\")","v":0},{"$f":"SUMIFS('ИП + источники'!AM$17:AM$89,'ИП + источники'!$A$17:$A$89,$A103,'ИП + источники'!$M$17:$M$89,\"Амортизационные отчисления\")+SUMIFS('ИП + источники'!AM$17:AM$89,'ИП + источники'!$A$17:$A$89,$A103,'ИП + источники'!$M$17:$M$89,\"погашение займов и кредитов из амортизации\")","v":0},{"$f":"SUMIFS('ИП + источники'!AN$17:AN$89,'ИП + источники'!$A$17:$A$89,$A103,'ИП + источники'!$M$17:$M$89,\"Амортизационные отчисления\")+SUMIFS('ИП + источники'!AN$17:AN$89,'ИП + источники'!$A$17:$A$89,$A103,'ИП + источники'!$M$17:$M$89,\"погашение займов и кредитов из амортизации\")","v":0},0,0,0,0,0,0,0,0,0,0]
["1","Нормативная прибыль",null,"L5",null,null,null,null,null,null,null,"5","Нормативная прибыль","тыс.руб.",{"$f":"O105+O106+O107+O108","v":56.68},{"$f":"P105+P106+P107+P108","v":0},209,209,123.11,297,310.67,323.08999999999997,336.01,349.45,0,0,0,0,0,216.04,224.66,234.37,244.08,254.69,0,0,0,0,0,75.485338315327752,3.9900018515089819,4.3220867088044193,4.1430217177966497,4.3469354310062212,-100,0,0,0,0]
["1",null,null,"L5_1",null,null,null,null,null,null,null,"5.1","средства на возврат инвестиционных займов","тыс.руб.",{"$f":"SUMIFS('ИП + источники'!P$15:P$89,'ИП + источники'!$A$15:$A$89,$A105,'ИП + источники'!$M$15:$M$89,\"погашение займов и кредитов из нормативной прибыли\")","v":0},{"$f":"SUMIFS('ИП + источники'!Q$15:Q$89,'ИП + источники'!$A$15:$A$89,$A105,'ИП + источники'!$M$15:$M$89,\"погашение займов и кредитов из нормативной прибыли\")","v":0},{"$f":"SUMIFS('ИП + источники'!R$15:R$89,'ИП + источники'!$A$15:$A$89,$A105,'ИП + источники'!$M$15:$M$89,\"погашение займов и кредитов из нормативной прибыли\")","v":0},0,{"$f":"SUMIFS('ИП + источники'!T$15:T$89,'ИП + источники'!$A$15:$A$89,$A105,'ИП + источники'!$M$15:$M$89,\"погашение займов и кредитов из нормативной прибыли\")","v":0},{"$f":"SUMIFS('ИП + источники'!U$15:U$89,'ИП + источники'!$A$15:$A$89,$A105,'ИП + источники'!$M$15:$M$89,\"погашение займов и кредитов из нормативной прибыли\")","v":0},{"$f":"SUMIFS('ИП + источники'!V$15:V$89,'ИП + источники'!$A$15:$A$89,$A105,'ИП + источники'!$M$15:$M$89,\"погашение займов и кредитов из нормативной прибыли\")","v":0},{"$f":"SUMIFS('ИП + источники'!W$15:W$89,'ИП + источники'!$A$15:$A$89,$A105,'ИП + источники'!$M$15:$M$89,\"погашение займов и кредитов из нормативной прибыли\")","v":0},{"$f":"SUMIFS('ИП + источники'!X$15:X$89,'ИП + источники'!$A$15:$A$89,$A105,'ИП + источники'!$M$15:$M$89,\"погашение займов и кредитов из нормативной прибыли\")","v":0},{"$f":"SUMIFS('ИП + источники'!Y$15:Y$89,'ИП + источники'!$A$15:$A$89,$A105,'ИП + источники'!$M$15:$M$89,\"погашение займов и кредитов из нормативной прибыли\")","v":0},{"$f":"SUMIFS('ИП + источники'!Z$15:Z$89,'ИП + источники'!$A$15:$A$89,$A105,'ИП + источники'!$M$15:$M$89,\"погашение займов и кредитов из нормативной прибыли\")","v":0},{"$f":"SUMIFS('ИП + источники'!AA$15:AA$89,'ИП + источники'!$A$15:$A$89,$A105,'ИП + источники'!$M$15:$M$89,\"погашение займов и кредитов из нормативной прибыли\")","v":0},{"$f":"SUMIFS('ИП + источники'!AB$15:AB$89,'ИП + источники'!$A$15:$A$89,$A105,'ИП + источники'!$M$15:$M$89,\"погашение займов и кредитов из нормативной прибыли\")","v":0},{"$f":"SUMIFS('ИП + источники'!AC$15:AC$89,'ИП + источники'!$A$15:$A$89,$A105,'ИП + источники'!$M$15:$M$89,\"погашение займов и кредитов из нормативной прибыли\")","v":0},{"$f":"SUMIFS('ИП + источники'!AD$15:AD$89,'ИП + источники'!$A$15:$A$89,$A105,'ИП + источники'!$M$15:$M$89,\"погашение займов и кредитов из нормативной прибыли\")","v":0},{"$f":"SUMIFS('ИП + источники'!AE$15:AE$89,'ИП + источники'!$A$15:$A$89,$A105,'ИП + источники'!$M$15:$M$89,\"погашение займов и кредитов из нормативной прибыли\")","v":0},{"$f":"SUMIFS('ИП + источники'!AF$15:AF$89,'ИП + источники'!$A$15:$A$89,$A105,'ИП + источники'!$M$15:$M$89,\"погашение займов и кредитов из нормативной прибыли\")","v":0},{"$f":"SUMIFS('ИП + источники'!AG$15:AG$89,'ИП + источники'!$A$15:$A$89,$A105,'ИП + источники'!$M$15:$M$89,\"погашение займов и кредитов из нормативной прибыли\")","v":0},{"$f":"SUMIFS('ИП + источники'!AH$15:AH$89,'ИП + источники'!$A$15:$A$89,$A105,'ИП + источники'!$M$15:$M$89,\"погашение займов и кредитов из нормативной прибыли\")","v":0},{"$f":"SUMIFS('ИП + источники'!AI$15:AI$89,'ИП + источники'!$A$15:$A$89,$A105,'ИП + источники'!$M$15:$M$89,\"погашение займов и кредитов из нормативной прибыли\")","v":0},{"$f":"SUMIFS('ИП + источники'!AJ$15:AJ$89,'ИП + источники'!$A$15:$A$89,$A105,'ИП + источники'!$M$15:$M$89,\"погашение займов и кредитов из нормативной прибыли\")","v":0},{"$f":"SUMIFS('ИП + источники'!AK$15:AK$89,'ИП + источники'!$A$15:$A$89,$A105,'ИП + источники'!$M$15:$M$89,\"погашение займов и кредитов из нормативной прибыли\")","v":0},{"$f":"SUMIFS('ИП + источники'!AL$15:AL$89,'ИП + источники'!$A$15:$A$89,$A105,'ИП + источники'!$M$15:$M$89,\"погашение займов и кредитов из нормативной прибыли\")","v":0},{"$f":"SUMIFS('ИП + источники'!AM$15:AM$89,'ИП + источники'!$A$15:$A$89,$A105,'ИП + источники'!$M$15:$M$89,\"погашение займов и кредитов из нормативной прибыли\")","v":0},{"$f":"SUMIFS('ИП + источники'!AN$15:AN$89,'ИП + источники'!$A$15:$A$89,$A105,'ИП + источники'!$M$15:$M$89,\"погашение займов и кредитов из нормативной прибыли\")","v":0},0,0,0,0,0,0,0,0,0,0]
["1",null,null,"L5_2",null,null,null,null,null,null,null,"5.2","средства на уплату процентов по инвестиционным займам","тыс.руб.",{"$f":"SUMIFS('ИП + источники'!P$15:P$89,'ИП + источники'!$A$15:$A$89,$A106,'ИП + источники'!$M$15:$M$89,\"уплата процентов по кредитам из нормативной прибыли\")","v":0},{"$f":"SUMIFS('ИП + источники'!Q$15:Q$89,'ИП + источники'!$A$15:$A$89,$A106,'ИП + источники'!$M$15:$M$89,\"уплата процентов по кредитам из нормативной прибыли\")","v":0},{"$f":"SUMIFS('ИП + источники'!R$15:R$89,'ИП + источники'!$A$15:$A$89,$A106,'ИП + источники'!$M$15:$M$89,\"уплата процентов по кредитам из нормативной прибыли\")","v":0},0,{"$f":"SUMIFS('ИП + источники'!T$15:T$89,'ИП + источники'!$A$15:$A$89,$A106,'ИП + источники'!$M$15:$M$89,\"уплата процентов по кредитам из нормативной прибыли\")","v":0},{"$f":"SUMIFS('ИП + источники'!U$15:U$89,'ИП + источники'!$A$15:$A$89,$A106,'ИП + источники'!$M$15:$M$89,\"уплата процентов по кредитам из нормативной прибыли\")","v":0},{"$f":"SUMIFS('ИП + источники'!V$15:V$89,'ИП + источники'!$A$15:$A$89,$A106,'ИП + источники'!$M$15:$M$89,\"уплата процентов по кредитам из нормативной прибыли\")","v":0},{"$f":"SUMIFS('ИП + источники'!W$15:W$89,'ИП + источники'!$A$15:$A$89,$A106,'ИП + источники'!$M$15:$M$89,\"уплата процентов по кредитам из нормативной прибыли\")","v":0},{"$f":"SUMIFS('ИП + источники'!X$15:X$89,'ИП + источники'!$A$15:$A$89,$A106,'ИП + источники'!$M$15:$M$89,\"уплата процентов по кредитам из нормативной прибыли\")","v":0},{"$f":"SUMIFS('ИП + источники'!Y$15:Y$89,'ИП + источники'!$A$15:$A$89,$A106,'ИП + источники'!$M$15:$M$89,\"уплата процентов по кредитам из нормативной прибыли\")","v":0},{"$f":"SUMIFS('ИП + источники'!Z$15:Z$89,'ИП + источники'!$A$15:$A$89,$A106,'ИП + источники'!$M$15:$M$89,\"уплата процентов по кредитам из нормативной прибыли\")","v":0},{"$f":"SUMIFS('ИП + источники'!AA$15:AA$89,'ИП + источники'!$A$15:$A$89,$A106,'ИП + источники'!$M$15:$M$89,\"уплата процентов по кредитам из нормативной прибыли\")","v":0},{"$f":"SUMIFS('ИП + источники'!AB$15:AB$89,'ИП + источники'!$A$15:$A$89,$A106,'ИП + источники'!$M$15:$M$89,\"уплата процентов по кредитам из нормативной прибыли\")","v":0},{"$f":"SUMIFS('ИП + источники'!AC$15:AC$89,'ИП + источники'!$A$15:$A$89,$A106,'ИП + источники'!$M$15:$M$89,\"уплата процентов по кредитам из нормативной прибыли\")","v":0},{"$f":"SUMIFS('ИП + источники'!AD$15:AD$89,'ИП + источники'!$A$15:$A$89,$A106,'ИП + источники'!$M$15:$M$89,\"уплата процентов по кредитам из нормативной прибыли\")","v":0},{"$f":"SUMIFS('ИП + источники'!AE$15:AE$89,'ИП + источники'!$A$15:$A$89,$A106,'ИП + источники'!$M$15:$M$89,\"уплата процентов по кредитам из нормативной прибыли\")","v":0},{"$f":"SUMIFS('ИП + источники'!AF$15:AF$89,'ИП + источники'!$A$15:$A$89,$A106,'ИП + источники'!$M$15:$M$89,\"уплата процентов по кредитам из нормативной прибыли\")","v":0},{"$f":"SUMIFS('ИП + источники'!AG$15:AG$89,'ИП + источники'!$A$15:$A$89,$A106,'ИП + источники'!$M$15:$M$89,\"уплата процентов по кредитам из нормативной прибыли\")","v":0},{"$f":"SUMIFS('ИП + источники'!AH$15:AH$89,'ИП + источники'!$A$15:$A$89,$A106,'ИП + источники'!$M$15:$M$89,\"уплата процентов по кредитам из нормативной прибыли\")","v":0},{"$f":"SUMIFS('ИП + источники'!AI$15:AI$89,'ИП + источники'!$A$15:$A$89,$A106,'ИП + источники'!$M$15:$M$89,\"уплата процентов по кредитам из нормативной прибыли\")","v":0},{"$f":"SUMIFS('ИП + источники'!AJ$15:AJ$89,'ИП + источники'!$A$15:$A$89,$A106,'ИП + источники'!$M$15:$M$89,\"уплата процентов по кредитам из нормативной прибыли\")","v":0},{"$f":"SUMIFS('ИП + источники'!AK$15:AK$89,'ИП + источники'!$A$15:$A$89,$A106,'ИП + источники'!$M$15:$M$89,\"уплата процентов по кредитам из нормативной прибыли\")","v":0},{"$f":"SUMIFS('ИП + источники'!AL$15:AL$89,'ИП + источники'!$A$15:$A$89,$A106,'ИП + источники'!$M$15:$M$89,\"уплата процентов по кредитам из нормативной прибыли\")","v":0},{"$f":"SUMIFS('ИП + источники'!AM$15:AM$89,'ИП + источники'!$A$15:$A$89,$A106,'ИП + источники'!$M$15:$M$89,\"уплата процентов по кредитам из нормативной прибыли\")","v":0},{"$f":"SUMIFS('ИП + источники'!AN$15:AN$89,'ИП + источники'!$A$15:$A$89,$A106,'ИП + источники'!$M$15:$M$89,\"уплата процентов по кредитам из нормативной прибыли\")","v":0},0,0,0,0,0,0,0,0,0,0]
["1",null,null,"L5_3",null,null,null,null,null,null,null,"5.3","капитальные расходы","тыс.руб.",{"$f":"SUMIFS('ИП + источники'!P$15:P$89,'ИП + источники'!$A$15:$A$89,$A107,'ИП + источники'!$M$15:$M$89,\"Прибыль на капвложения\")","v":0},{"$f":"SUMIFS('ИП + источники'!Q$15:Q$89,'ИП + источники'!$A$15:$A$89,$A107,'ИП + источники'!$M$15:$M$89,\"Прибыль на капвложения\")","v":0},{"$f":"SUMIFS('ИП + источники'!R$15:R$89,'ИП + источники'!$A$15:$A$89,$A107,'ИП + источники'!$M$15:$M$89,\"Прибыль на капвложения\")","v":0},0,{"$f":"SUMIFS('ИП + источники'!T$15:T$89,'ИП + источники'!$A$15:$A$89,$A107,'ИП + источники'!$M$15:$M$89,\"Прибыль на капвложения\")","v":0},{"$f":"SUMIFS('ИП + источники'!U$15:U$89,'ИП + источники'!$A$15:$A$89,$A107,'ИП + источники'!$M$15:$M$89,\"Прибыль на капвложения\")","v":0},{"$f":"SUMIFS('ИП + источники'!V$15:V$89,'ИП + источники'!$A$15:$A$89,$A107,'ИП + источники'!$M$15:$M$89,\"Прибыль на капвложения\")","v":0},{"$f":"SUMIFS('ИП + источники'!W$15:W$89,'ИП + источники'!$A$15:$A$89,$A107,'ИП + источники'!$M$15:$M$89,\"Прибыль на капвложения\")","v":0},{"$f":"SUMIFS('ИП + источники'!X$15:X$89,'ИП + источники'!$A$15:$A$89,$A107,'ИП + источники'!$M$15:$M$89,\"Прибыль на капвложения\")","v":0},{"$f":"SUMIFS('ИП + источники'!Y$15:Y$89,'ИП + источники'!$A$15:$A$89,$A107,'ИП + источники'!$M$15:$M$89,\"Прибыль на капвложения\")","v":0},{"$f":"SUMIFS('ИП + источники'!Z$15:Z$89,'ИП + источники'!$A$15:$A$89,$A107,'ИП + источники'!$M$15:$M$89,\"Прибыль на капвложения\")","v":0},{"$f":"SUMIFS('ИП + источники'!AA$15:AA$89,'ИП + источники'!$A$15:$A$89,$A107,'ИП + источники'!$M$15:$M$89,\"Прибыль на капвложения\")","v":0},{"$f":"SUMIFS('ИП + источники'!AB$15:AB$89,'ИП + источники'!$A$15:$A$89,$A107,'ИП + источники'!$M$15:$M$89,\"Прибыль на капвложения\")","v":0},{"$f":"SUMIFS('ИП + источники'!AC$15:AC$89,'ИП + источники'!$A$15:$A$89,$A107,'ИП + источники'!$M$15:$M$89,\"Прибыль на капвложения\")","v":0},{"$f":"SUMIFS('ИП + источники'!AD$15:AD$89,'ИП + источники'!$A$15:$A$89,$A107,'ИП + источники'!$M$15:$M$89,\"Прибыль на капвложения\")","v":0},{"$f":"SUMIFS('ИП + источники'!AE$15:AE$89,'ИП + источники'!$A$15:$A$89,$A107,'ИП + источники'!$M$15:$M$89,\"Прибыль на капвложения\")","v":0},{"$f":"SUMIFS('ИП + источники'!AF$15:AF$89,'ИП + источники'!$A$15:$A$89,$A107,'ИП + источники'!$M$15:$M$89,\"Прибыль на капвложения\")","v":0},{"$f":"SUMIFS('ИП + источники'!AG$15:AG$89,'ИП + источники'!$A$15:$A$89,$A107,'ИП + источники'!$M$15:$M$89,\"Прибыль на капвложения\")","v":0},{"$f":"SUMIFS('ИП + источники'!AH$15:AH$89,'ИП + источники'!$A$15:$A$89,$A107,'ИП + источники'!$M$15:$M$89,\"Прибыль на капвложения\")","v":0},{"$f":"SUMIFS('ИП + источники'!AI$15:AI$89,'ИП + источники'!$A$15:$A$89,$A107,'ИП + источники'!$M$15:$M$89,\"Прибыль на капвложения\")","v":0},{"$f":"SUMIFS('ИП + источники'!AJ$15:AJ$89,'ИП + источники'!$A$15:$A$89,$A107,'ИП + источники'!$M$15:$M$89,\"Прибыль на капвложения\")","v":0},{"$f":"SUMIFS('ИП + источники'!AK$15:AK$89,'ИП + источники'!$A$15:$A$89,$A107,'ИП + источники'!$M$15:$M$89,\"Прибыль на капвложения\")","v":0},{"$f":"SUMIFS('ИП + источники'!AL$15:AL$89,'ИП + источники'!$A$15:$A$89,$A107,'ИП + источники'!$M$15:$M$89,\"Прибыль на капвложения\")","v":0},{"$f":"SUMIFS('ИП + источники'!AM$15:AM$89,'ИП + источники'!$A$15:$A$89,$A107,'ИП + источники'!$M$15:$M$89,\"Прибыль на капвложения\")","v":0},{"$f":"SUMIFS('ИП + источники'!AN$15:AN$89,'ИП + источники'!$A$15:$A$89,$A107,'ИП + источники'!$M$15:$M$89,\"Прибыль на капвложения\")","v":0},0,0,0,0,0,0,0,0,0,0]
["1","иные экономически обоснованные расходы на социальные нужды",null,"L5_4",null,null,null,null,null,null,null,"5.4","иные экономически обоснованные расходы на социальные нужды в соответствии с пунктом 86 настоящих Методических указаний","тыс.руб.",56.68,null,209,209,123.11,297,310.67,323.08999999999997,336.01,349.45,null,null,null,null,null,{"$f":"60.9+68.05+3.1+84-0.01","v":216.04},224.66,234.37,244.08,254.69,null,null,null,null,null,75.485338315327752,3.9900018515089819,4.3220867088044193,4.1430217177966497,4.3469354310062212,-100,0,0,0,0,null," Пункт 86 Методических указаний ФСТ № 1746-э (Формула 30.1).","Фактические затраты 2022 г. (составили 209,00 тыс. руб. согласно оборотам по  Дт сч. 91-02) не отражены организацией ошибочно. Плановые затраты на 2024 год приняты  регулирующим органом в  размере затрат, предложенных организацией,  по ШТАТНЫМ сотрудникам: 1) пособие при выходе на пенсию (из расчета на 1 чел., по 15% от среднемесячного планового ФОТ на 2024 г. за каждый год стажа) - 60,90 тыс. руб.;  бесплатный  пайковый уголь - 68,05 тыс. руб. (из расчета  по 7,8 тонн на 1 чел. по цене 1454,10 руб./т,  6 чел.);  компенсация коммунальных услуг (отопление) - 3,10 тыс. руб. (1 чел., из расчета 775,00 руб./чел. в квартал); отдых в санатории \"ТАНАЙ\" - 84,00 тыс. руб. (1 путевка по 84000,00 руб. /шт.)  Затраты на 2025-2028 гг. - исходя из плана каждого предыдущего года с учетом ИПЦ Минэкономразвития России на 2025 г. - 104,2%,  на 2025-2028 гг. - 104,0%."]
["1","Расчетная предпринимательская прибыль гарантирующей организации",null,"L6",null,null,null,null,null,null,null,"6","Расчетная предпринимательская прибыль гарантирующей организации","тыс.руб.",null,null,null,0,null,null,null,null,null,null,null,null,null,null,null,null,null,null,null,null,null,null,null,null,null,0,0,0,0,0,0,0,0,0,0]
["1","L11",null,"L7_0",null,null,null,null,null,null,null,"7","Корректировка НВВ всего","тыс.руб.",{"$f":"O112+O113+O114+O117-O118","v":-1577},{"$f":"P112+P113+P114+P117-P118","v":0},0,0,-636.05999999999995,0,0,0,0,0,0,0,0,0,0,-673.38,0,0,0,0,null,null,null,null,null,5.8673710027355996,-100,0,0,0,0,0,0,0,0]
["1",null,null,null,null,null,null,null,null,null,null,null,"Справочно в том числе:"]
["1","L3",null,"L7",null,null,null,null,null,null,null,"7.1","Ввод объектов системы водоснабжения и (или) водоотведения в эксплуатацию и изменение утверждённой инвестиционной программы","тыс.руб.",null,null,null,0,null,{"$f":"SUMIFS('Корректировка НВВ'!$P$15:$P$104,'Корректировка НВВ'!$A$15:$A$104,$A112,'Корректировка НВВ'!$D$15:$D$104,$B112)","v":0},null,null,null,null,null,null,null,null,null,{"$f":"SUMIFS('Корректировка НВВ'!$Q$15:$Q$104,'Корректировка НВВ'!$A$15:$A$104,$A112,'Корректировка НВВ'!$D$15:$D$104,$B112)","v":0}]
["1","L4",null,"L8",null,null,null,null,null,null,null,"7.2","Степень исполнения регулируемой организацией обязательств по созданию и (или) реконструкции объектов концессионного соглашения, по эксплуатации объектов по договору аренды централизованных систем горячего водоснабжения, холодного водоснабжения и (или) водоотведения, отдельных объектов таких систем, находящихся в государственной или муниципальной собственности, по реализации инвестиционной программы, производственной программы при недостижении регулируемой организацией утверждённых плановых значений показателей надежности и качества объектов централизованных систем водоснабжения и (или) водоотведения","тыс.руб.",-233.69,null,null,0,-276.14999999999998,{"$f":"SUMIFS('Корректировка НВВ'!$P$15:$P$104,'Корректировка НВВ'!$A$15:$A$104,$A113,'Корректировка НВВ'!$D$15:$D$104,$B113)","v":0},null,null,null,null,null,null,null,null,null,{"$f":"SUMIFS('Корректировка НВВ'!$Q$15:$Q$104,'Корректировка НВВ'!$A$15:$A$104,$A113,'Корректировка НВВ'!$D$15:$D$104,$B113)","v":0}]
["1",null,null,"L9",null,null,null,null,null,null,null,"7.3","Размер корректировки НВВ по результатам деятельности прошлых периодов регулирования, а также осуществляемой с целью учета отклонения фактических значений параметров расчета тарифов от значений, учтенных при установлении тарифов","тыс.руб.",-578.97,null,null,0,425.56,{"$f":"SUMIFS('Корректировка НВВ'!$P$15:$P$104,'Корректировка НВВ'!$A$15:$A$104,$A114,'Корректировка НВВ'!$D$15:$D$104,\"L1\")+SUMIFS('Корректировка НВВ'!$P$15:$P$104,'Корректировка НВВ'!$A$15:$A$104,$A114,'Корректировка НВВ'!$D$15:$D$104,\"L2\")","v":0},null,null,null,null,null,null,null,null,null,{"$f":"SUMIFS('Корректировка НВВ'!$Q$15:$Q$104,'Корректировка НВВ'!$A$15:$A$104,$A114,'Корректировка НВВ'!$D$15:$D$104,\"L1\")+SUMIFS('Корректировка НВВ'!$Q$15:$Q$104,'Корректировка НВВ'!$A$15:$A$104,$A114,'Корректировка НВВ'!$D$15:$D$104,\"L2\")","v":0}]
["1","L5",{"$f":"D16=\"Водоотведение\"","v":false},"L12",null,null,null,null,null,null,null,"7.4","Доходы от взимания платы за нарушение нормативов по объёму и (или) составу сточных вод, за исключением направленных целевым образом на внесение платы за негативное воздействие на окружающую среду, компенсацию вреда, причиненного водному объекту, и финансирование мероприятий инвестиционной программы по строительству, реконструкции и модернизации объектов централизованной системы водоотведения (в соответствии с пунктом 26(1) Основ ценообразования в сфере водоснабжения и водоотведения)","тыс.руб.",null,null,null,0,null,{"$f":"SUMIFS('Корректировка НВВ'!$P$15:$P$104,'Корректировка НВВ'!$A$15:$A$104,$A115,'Корректировка НВВ'!$D$15:$D$104,$B115)","v":0},null,null,null,null,null,null,null,null,null,{"$f":"SUMIFS('Корректировка НВВ'!$Q$15:$Q$104,'Корректировка НВВ'!$A$15:$A$104,$A115,'Корректировка НВВ'!$D$15:$D$104,$B115)","v":0}]
["1","L6",{"$f":"D16=\"Водоотведение\"","v":false},"L13",null,null,null,null,null,null,null,"7.5","Доходы от взимания платы за негативное воздействие на централизован-ную систему водоотведения, за исключением направленных целевым образом на финансирование мероприятий инвестиционной и (или) производственной программы организации (в соответствии с пунктом 26(1) Основ ценообразования в сфере водоснабжения и водоотведения)","тыс.руб.",null,null,null,0,null,{"$f":"SUMIFS('Корректировка НВВ'!$P$15:$P$104,'Корректировка НВВ'!$A$15:$A$104,$A116,'Корректировка НВВ'!$D$15:$D$104,$B116)","v":0},null,null,null,null,null,null,null,null,null,{"$f":"SUMIFS('Корректировка НВВ'!$Q$15:$Q$104,'Корректировка НВВ'!$A$15:$A$104,$A116,'Корректировка НВВ'!$D$15:$D$104,$B116)","v":0}]
["1","L7",null,"L14",null,null,null,null,null,null,null,"7.6","Недополученные доходы / Выпадающие расходы","тыс.руб.",null,null,null,0,null,{"$f":"SUMIFS('Корректировка НВВ'!$P$15:$P$104,'Корректировка НВВ'!$A$15:$A$104,$A117,'Корректировка НВВ'!$D$15:$D$104,$B117)","v":0},null,null,null,null,null,null,null,null,null,{"$f":"SUMIFS('Корректировка НВВ'!$Q$15:$Q$104,'Корректировка НВВ'!$A$15:$A$104,$A117,'Корректировка НВВ'!$D$15:$D$104,$B117)","v":0}]
["1","L8",null,"L15",null,null,null,null,null,null,null,"7.7","Избыток средств, полученный за отчётные периоды регулирования","тыс.руб.",{"$f":"O119+O120","v":764.34},{"$f":"P119+P120","v":0},{"$f":"Q119+Q120","v":0},0,{"$f":"S119+S120","v":785.47},{"$f":"SUMIFS('Корректировка НВВ'!$P$15:$P$104,'Корректировка НВВ'!$A$15:$A$104,$A118,'Корректировка НВВ'!$D$15:$D$104,$B118)","v":0},0,0,0,0,0,0,0,0,0,{"$f":"AD119","v":673.38},0,0,0,0,0,0,0,0,0,{"$f":"IF(S118=0,0,(AD118-S118)/S118*100)","v":-14.27043680853502},{"$f":"IF(AD118=0,0,(AE118-AD118)/AD118*100)","v":-100},0,0,0,0,0,0,0,0]
["1","L8_1",null,"L15_1",null,null,null,null,null,null,null,"7.7.1","Экономически не обоснованные доходы / расходы прошлых периодов регулирования","тыс.руб.",764.34,null,null,0,785.47,{"$f":"SUMIFS('Корректировка НВВ'!$P$15:$P$104,'Корректировка НВВ'!$A$15:$A$104,$A119,'Корректировка НВВ'!$D$15:$D$104,$B119)","v":0},null,null,null,null,null,null,null,null,null,673.38,null,null,null,null,null,null,null,null,null,null,null,null,null,null,null,null,null,null,null,null,"1) П. 16 \"Основ ценообразования в сфере водоснабжения и водоотведения\" (Постановление Правительства РФ от 13.05.2013 № 406). 2) Постановление РЭК Кемеровской области от 11.10.2018   № 255 «Об утверждении производственной программы в сфере холодного водоснабжения, водоотведения и об установлении тарифов на питьевую воду, водоотведение ООО «ТВК» (Беловский городской округ)» (в редакции постановления РЭК Кемеровской области от 20.12.2019 № 685, постановлений РЭК Кузбасса от 05.11.2020 № 326,  от 26.10.2021 № 444). 3) \"Заключение по анализу материалов ООО \"ТВК\"  (г. Белово), ИНН 4202026697, представленных для подтверждения фактических расходов ремонтной программы в сфере водоснабжения за 2022 год (в рамках госконтракта от 29.05.2023 № 5к)\" (ОАО \"Агентство энергетических экспертиз\", г. Кемерово, 2023).","Сумма неисполнения утвержденной на 2022 год  Производственной программы в части КАПИТАЛЬНОГО РЕМОНТА объектов системы холодного водоснабжения (831,45 тыс. руб.), уменьшенная на величину стоимости приобретения электронасоса скважинного JETEX C6 SS3  (158,065 тыс. руб.)."]
["1","L8_2",null,"L15_2",null,null,null,null,null,null,null,"7.7.2","Бюджетные субсидии, полученные на финансирование расходов, учтенных в тарифах","тыс.руб.",null,null,null,0,null,{"$f":"SUMIFS('Корректировка НВВ'!$P$15:$P$104,'Корректировка НВВ'!$A$15:$A$104,$A120,'Корректировка НВВ'!$D$15:$D$104,$B120)","v":0},null,null,null,null,null,null,null,null,null,{"$f":"SUMIFS('Корректировка НВВ'!$Q$15:$Q$104,'Корректировка НВВ'!$A$15:$A$104,$A120,'Корректировка НВВ'!$D$15:$D$104,$B120)","v":0}]
["1","L9",null,"L16",null,null,null,null,null,null,null,"7.8","Величина отклонения по результатам досудебного рассмотрения споров","тыс.руб.",null,null,null,0,null,{"$f":"SUMIFS('Корректировка НВВ'!$P$15:$P$104,'Корректировка НВВ'!$A$15:$A$104,$A121,'Корректировка НВВ'!$D$15:$D$104,$B121)","v":0},null,null,null,null,null,null,null,null,null,{"$f":"SUMIFS('Корректировка НВВ'!$Q$15:$Q$104,'Корректировка НВВ'!$A$15:$A$104,$A121,'Корректировка НВВ'!$D$15:$D$104,$B121)","v":0}]
["1","L10",null,"L17",null,null,null,null,null,null,null,"7.9","Величина отклонения по результатам рассмотрения разногласий","тыс.руб.",null,null,null,0,null,{"$f":"SUMIFS('Корректировка НВВ'!$P$15:$P$104,'Корректировка НВВ'!$A$15:$A$104,$A122,'Корректировка НВВ'!$D$15:$D$104,$B122)","v":0},null,null,null,null,null,null,null,null,null,{"$f":"SUMIFS('Корректировка НВВ'!$Q$15:$Q$104,'Корректировка НВВ'!$A$15:$A$104,$A122,'Корректировка НВВ'!$D$15:$D$104,$B122)","v":0}]
["1",null,null,"L10",null,null,null,null,null,null,null,"8","Величина сглаживания НВВ","тыс.руб.",806.42,null,null,0,868.12,null,null,null,null,null,null,null,null,null,null,-293.61,-549.91,-150,300,693.52,null,null,null,null,null,null,null,null,null,null,null,null,null,null,null,null,"П. 42 Методических указаний № 1746-э."]
["1",null,null,"L10_1",null,null,null,null,null,null,null,"8.1","% сглаживания НВВ","%",{"$f":"IF(O125=0,0,O123/O125*100)","v":8.8535334204554452},{"$f":"IF(P125=0,0,P123/P125*100)","v":0},{"$f":"IF(Q125=0,0,Q123/Q125*100)","v":0},{"$f":"Q124-P124","v":0},{"$f":"IF(S125=0,0,S123/S125*100)","v":8.5866109839497486},0,0,0,0,0,0,0,0,0,0,-3.224495813462124,-5.8700123016335652,-1.5543061060879639,3.0177308322141276,6.7718792767676561,0,0,0,0,0]
["1",null,null,"L11",null,null,null,null,null,null,null,"9","Необходимая валовая выручка","тыс.руб.",{"$f":"O17+O67+O101+O102+O104+O109","v":9108.4537856583356},{"$f":"P17+P67+P101+P102+P104+P109","v":8542.2805600000011},{"$f":"Q17+Q67+Q101+Q102+Q104+Q109","v":8472.5587219999998},{"$f":"Q125-P125","v":-69.721838000001298},{"$f":"S17+S67+S101+S102+S104+S109","v":10110.158729942534},13695.857184451201,14329.532757429248,14948.156867726419,15593.813942435474,16267.678900132894,10456.288900132893,10456.288900132893,10456.288900132893,10456.288900132893,10456.288900132893,9105.6095893873244,9368.1234679349072,9650.6086807788015,9941.2444873318327,10241.174888915473,7002.5646672704233,7002.5646672704233,7002.5646672704233,7002.5646672704233,7002.5646672704233,{"$f":"IF(S125=0,0,(AD125-S125)/S125*100)","v":-9.9360372808006261},{"$f":"IF(AD125=0,0,(AE125-AD125)/AD125*100)","v":2.8829907099635075},3.0153873805226952,3.0115800584878443,3.017030734591057,-31.623424624359821,0,0,0,0]
["1",null,null,"L18",null,null,null,null,null,null,null,"10","Итого НВВ для расчёта тарифа","тыс.руб.",{"$f":"O125+O110+O123","v":8337.8737856583357},8542.2805600000011,8472.5587219999998,-69.721838000001298,10342.218729942535,13695.857184451201,14329.532757429248,14948.156867726419,15593.813942435474,16267.678900132894,10456.288900132893,10456.288900132893,10456.288900132893,10456.288900132893,10456.288900132893,8138.6195893873255,8818.2134679349074,9500.6086807788015,10241.244487331833,10934.694888915474,7002.5646672704233,7002.5646672704233,7002.5646672704233,7002.5646672704233,7002.5646672704233,{"$f":"IF(S126=0,0,(AD126-S126)/S126*100)","v":-21.306831716635465},8.350235209835402,7.7384746391686159,7.7956669034422168,6.7711536663480896,-35.960127480384116,0,0,0,0]
["1",null,{"$f":"B16=\"двухставочный\"","v":false},"L18_1",null,null,null,null,null,null,null,"10.1","в части условно-переменных расходов","тыс.руб.",null,null,null,{"$f":"Q127-P127","v":0}]
["1",null,{"$f":"B16=\"двухставочный\"","v":false},"L18_2",null,null,null,null,null,null,null,"10.2","в части условно-постоянных расходов","тыс.руб.",null,null,null,{"$f":"Q128-P128","v":0}]
["1","ПО.прочие",null,"L19",null,null,null,null,null,null,null,"11","Полезный отпуск без разбивки по группам потребителей","тыс.куб.м",{"$f":"SUMIFS(Баланс!O$16:O$95,Баланс!$A$16:$A$95,$A129,Баланс!$B$16:$B$95,\"ПО\")","v":740.15734179999993},{"$f":"SUMIFS(Баланс!P$16:P$95,Баланс!$A$16:$A$95,$A129,Баланс!$B$16:$B$95,\"ПО\")","v":560.22500000000002},{"$f":"SUMIFS(Баланс!Q$16:Q$95,Баланс!$A$16:$A$95,$A129,Баланс!$B$16:$B$95,\"ПО\")","v":560.22500000000002},{"$f":"Q129-P129","v":0},{"$f":"SUMIFS(Баланс!R$16:R$95,Баланс!$A$16:$A$95,$A129,Баланс!$B$16:$B$95,\"ПО\")","v":738.72995553999999},{"$f":"SUMIFS(Баланс!S$16:S$95,Баланс!$A$16:$A$95,$A129,Баланс!$B$16:$B$95,\"ПО\")","v":595.93099999999993},{"$f":"SUMIFS(Баланс!T$16:T$95,Баланс!$A$16:$A$95,$A129,Баланс!$B$16:$B$95,\"ПО\")","v":595.93099999999993},{"$f":"SUMIFS(Баланс!U$16:U$95,Баланс!$A$16:$A$95,$A129,Баланс!$B$16:$B$95,\"ПО\")","v":595.93099999999993},{"$f":"SUMIFS(Баланс!V$16:V$95,Баланс!$A$16:$A$95,$A129,Баланс!$B$16:$B$95,\"ПО\")","v":595.93099999999993},{"$f":"SUMIFS(Баланс!W$16:W$95,Баланс!$A$16:$A$95,$A129,Баланс!$B$16:$B$95,\"ПО\")","v":595.93099999999993},{"$f":"SUMIFS(Баланс!X$16:X$95,Баланс!$A$16:$A$95,$A129,Баланс!$B$16:$B$95,\"ПО\")","v":0},{"$f":"SUMIFS(Баланс!Y$16:Y$95,Баланс!$A$16:$A$95,$A129,Баланс!$B$16:$B$95,\"ПО\")","v":0},{"$f":"SUMIFS(Баланс!Z$16:Z$95,Баланс!$A$16:$A$95,$A129,Баланс!$B$16:$B$95,\"ПО\")","v":0},{"$f":"SUMIFS(Баланс!AA$16:AA$95,Баланс!$A$16:$A$95,$A129,Баланс!$B$16:$B$95,\"ПО\")","v":0},{"$f":"SUMIFS(Баланс!AB$16:AB$95,Баланс!$A$16:$A$95,$A129,Баланс!$B$16:$B$95,\"ПО\")","v":0},{"$f":"SUMIFS(Баланс!AC$16:AC$95,Баланс!$A$16:$A$95,$A129,Баланс!$B$16:$B$95,\"ПО\")","v":554.77947737},{"$f":"SUMIFS(Баланс!AD$16:AD$95,Баланс!$A$16:$A$95,$A129,Баланс!$B$16:$B$95,\"ПО\")","v":554.77947737},{"$f":"SUMIFS(Баланс!AE$16:AE$95,Баланс!$A$16:$A$95,$A129,Баланс!$B$16:$B$95,\"ПО\")","v":554.77947737},{"$f":"SUMIFS(Баланс!AF$16:AF$95,Баланс!$A$16:$A$95,$A129,Баланс!$B$16:$B$95,\"ПО\")","v":554.77947737},{"$f":"SUMIFS(Баланс!AG$16:AG$95,Баланс!$A$16:$A$95,$A129,Баланс!$B$16:$B$95,\"ПО\")","v":554.77947737},{"$f":"SUMIFS(Баланс!AH$16:AH$95,Баланс!$A$16:$A$95,$A129,Баланс!$B$16:$B$95,\"ПО\")","v":0},{"$f":"SUMIFS(Баланс!AI$16:AI$95,Баланс!$A$16:$A$95,$A129,Баланс!$B$16:$B$95,\"ПО\")","v":0},{"$f":"SUMIFS(Баланс!AJ$16:AJ$95,Баланс!$A$16:$A$95,$A129,Баланс!$B$16:$B$95,\"ПО\")","v":0},{"$f":"SUMIFS(Баланс!AK$16:AK$95,Баланс!$A$16:$A$95,$A129,Баланс!$B$16:$B$95,\"ПО\")","v":0},{"$f":"SUMIFS(Баланс!AL$16:AL$95,Баланс!$A$16:$A$95,$A129,Баланс!$B$16:$B$95,\"ПО\")","v":0}]
["1","ПО.прочие.I",null,"L19_1",null,null,null,null,null,null,null,"11.1","I полугодие: объём реализации","тыс.куб.м",{"$f":"O129/2","v":370.07867089999996},{"$f":"P129/2","v":280.11250000000001},{"$f":"Q129/2","v":280.11250000000001},0,{"$f":"S129/2","v":369.36497777},297.96549999999996,297.96549999999996,297.96549999999996,297.96549999999996,297.96549999999996,0,0,0,0,0,277.389738685,277.389738685,277.389738685,277.389738685,277.389738685,0,0,0,0,0,null,null,null,null,null,null,null,null,null,null,null,"Пункт 9 \"Основ ценообразования в сфере водоснабжения и водоотведения\" (Постановление Правительства РФ от 13.05.203 № 406)."]
["1","тариф.прочие.I",null,"L19_2",null,null,null,null,null,null,null,"11.2","I полугодие: тариф","руб./куб.м",10.45,{"$f":"P135","v":15.247946021687715},{"$f":"Q135","v":15.123492743094291},{"$f":"Q131-P131","v":-0.1244532785934247},14,14,24.05,24.04,26.13,26.2,null,null,null,null,null,14,15.34,16.45,17.8,19.12]
["1","ПО.прочие.II",null,"L19_3",null,null,null,null,null,null,null,"11.3","II полугодие: объём реализации","тыс.куб.м",{"$f":"O129-O130","v":370.07867089999996},{"$f":"P129-P130","v":280.11250000000001},{"$f":"Q129-Q130","v":280.11250000000001},{"$f":"Q132-P132","v":0},{"$f":"S129-S130","v":369.36497777},297.96549999999996,297.96549999999996,297.96549999999996,297.96549999999996,297.96549999999996,0,0,0,0,0,277.389738685,277.389738685,277.389738685,277.389738685,277.389738685,0,0,0,0,0]
["1","тариф.прочие.II",null,"L19_4",null,null,null,null,null,null,null,"11.4","II полугодие: тариф","руб./куб.м",{"$f":"IF(O132=0,0,(O126-O130*O131)/O132)","v":12.080003594590668},{"$f":"IF(P132=0,0,(P126-P130*P131)/P132)","v":15.247946021687715},{"$f":"IF(Q132=0,0,(Q126-Q130*Q131)/Q132)","v":15.123492743094291},{"$f":"Q133-P133","v":-0.1244532785934247},{"$f":"IF(S132=0,0,(S126-S130*S131)/S132)","v":13.999998246673336},{"$f":"IF(T132=0,0,(T126-T130*T131)/T132)","v":31.964573698804735},24.041248004984634,26.127408199024451,26.204293542156648,28.395847170672095,0,0,0,0,0,{"$f":"IF(AD132=0,0,(AD126-AD130*AD131)/AD132)","v":15.340016786379509},{"$f":"IF(AE132=0,0,(AE126-AE130*AE131)/AE132)","v":16.449977198647389},{"$f":"IF(AF132=0,0,(AF126-AF130*AF131)/AF132)","v":17.800036521962205},19.12005528352168,20.299968960469599,0,0,0,0,0]
["1",null,null,"L19_5",null,null,null,null,null,null,null,"11.5","темп роста тарифа","%",{"$f":"IF(O131=0,0,O133/O131*100)","v":115.59812052239874},{"$f":"IF(P131=0,0,P133/P131*100)","v":100},{"$f":"IF(Q131=0,0,Q133/Q131*100)","v":100},null,{"$f":"IF(S131=0,0,S133/S131*100)","v":99.999987476238118},228.31838356289097,99.963609168335282,108.68306239194862,100.28432277901511,108.38109607126754,0,0,0,0,0,109.57154847413935,107.2358357147809,108.20690894809853,107.41604091866112,106.17138577651464,0,0,0,0,0]
["1",null,null,"L19_6",null,null,null,null,null,null,null,"11.6","средневзвешенный тариф","руб./куб.м",{"$f":"IF(O129=0,0,O126/O129)","v":11.265001797295334},{"$f":"IF(P129=0,0,P126/P129)","v":15.247946021687715},{"$f":"IF(Q129=0,0,Q126/Q129)","v":15.123492743094291},{"$f":"Q135-P135","v":-0.1244532785934247},{"$f":"IF(S129=0,0,S126/S129)","v":13.999999123336668},{"$f":"IF(T129=0,0,T126/T129)","v":22.982286849402367},{"$f":"IF(U129=0,0,U126/U129)","v":24.045624002492318},25.083704099512225,26.167146771078322,27.297923585336047,0,0,0,0,0,{"$f":"IF(AD129=0,0,AD126/AD129)","v":14.670008393189756},{"$f":"IF(AE129=0,0,AE126/AE129)","v":15.894988599323694},{"$f":"IF(AF129=0,0,AF126/AF129)","v":17.125018260981101},18.460027641760842,19.709984480234802,0,0,0,0,0]
["1",null,null,"L20",null,null,null,null,null,null,null,"12","Итого НВВ для населения","тыс.руб.",{"$f":"IF(O129=0,0,O126/O129*O137)","v":0},{"$f":"IF(P129=0,0,P126/P129*P137)","v":0},{"$f":"IF(Q129=0,0,Q126/Q129*Q137)","v":0},{"$f":"R138*R139+R140*R141","v":0},{"$f":"IF(S129=0,0,S126/S129*S137)","v":0},{"$f":"IF(T129=0,0,T126/T129*T137)","v":0},{"$f":"IF(U129=0,0,U126/U129*U137)","v":0},0,0,0,0,0,0,0,0,{"$f":"IF(AD129=0,0,AD126/AD129*AD137)","v":0},{"$f":"IF(AE129=0,0,AE126/AE129*AE137)","v":0},{"$f":"IF(AF129=0,0,AF126/AF129*AF137)","v":0},0,0,0,0,0,0,0,{"$f":"IF(S136=0,0,(AD136-S136)/S136*100)","v":0},{"$f":"IF(AD136=0,0,(AE136-AD136)/AD136*100)","v":0},{"$f":"IF(AE136=0,0,(AF136-AE136)/AE136*100)","v":0},{"$f":"IF(AF136=0,0,(AG136-AF136)/AF136*100)","v":0},{"$f":"IF(AG136=0,0,(AH136-AG136)/AG136*100)","v":0},0,0,0,0,0]
["1","ПО.население",null,"L21",null,null,null,null,null,null,null,"13","Полезный отпуск для населения:","тыс.куб.м",{"$f":"SUMIFS(Баланс!O$16:O$95,Баланс!$A$16:$A$95,$A137,Баланс!$B$16:$B$95,\"население\")","v":0},{"$f":"SUMIFS(Баланс!P$16:P$95,Баланс!$A$16:$A$95,$A137,Баланс!$B$16:$B$95,\"население\")","v":0},{"$f":"SUMIFS(Баланс!Q$16:Q$95,Баланс!$A$16:$A$95,$A137,Баланс!$B$16:$B$95,\"население\")","v":0},{"$f":"Q137-P137","v":0},{"$f":"SUMIFS(Баланс!R$16:R$95,Баланс!$A$16:$A$95,$A137,Баланс!$B$16:$B$95,\"население\")","v":0},{"$f":"SUMIFS(Баланс!S$16:S$95,Баланс!$A$16:$A$95,$A137,Баланс!$B$16:$B$95,\"население\")","v":0},{"$f":"SUMIFS(Баланс!T$16:T$95,Баланс!$A$16:$A$95,$A137,Баланс!$B$16:$B$95,\"население\")","v":0},{"$f":"SUMIFS(Баланс!U$16:U$95,Баланс!$A$16:$A$95,$A137,Баланс!$B$16:$B$95,\"население\")","v":0},{"$f":"SUMIFS(Баланс!V$16:V$95,Баланс!$A$16:$A$95,$A137,Баланс!$B$16:$B$95,\"население\")","v":0},{"$f":"SUMIFS(Баланс!W$16:W$95,Баланс!$A$16:$A$95,$A137,Баланс!$B$16:$B$95,\"население\")","v":0},{"$f":"SUMIFS(Баланс!X$16:X$95,Баланс!$A$16:$A$95,$A137,Баланс!$B$16:$B$95,\"население\")","v":0},{"$f":"SUMIFS(Баланс!Y$16:Y$95,Баланс!$A$16:$A$95,$A137,Баланс!$B$16:$B$95,\"население\")","v":0},{"$f":"SUMIFS(Баланс!Z$16:Z$95,Баланс!$A$16:$A$95,$A137,Баланс!$B$16:$B$95,\"население\")","v":0},{"$f":"SUMIFS(Баланс!AA$16:AA$95,Баланс!$A$16:$A$95,$A137,Баланс!$B$16:$B$95,\"население\")","v":0},{"$f":"SUMIFS(Баланс!AB$16:AB$95,Баланс!$A$16:$A$95,$A137,Баланс!$B$16:$B$95,\"население\")","v":0},{"$f":"SUMIFS(Баланс!AC$16:AC$95,Баланс!$A$16:$A$95,$A137,Баланс!$B$16:$B$95,\"население\")","v":0},{"$f":"SUMIFS(Баланс!AD$16:AD$95,Баланс!$A$16:$A$95,$A137,Баланс!$B$16:$B$95,\"население\")","v":0},{"$f":"SUMIFS(Баланс!AE$16:AE$95,Баланс!$A$16:$A$95,$A137,Баланс!$B$16:$B$95,\"население\")","v":0},{"$f":"SUMIFS(Баланс!AF$16:AF$95,Баланс!$A$16:$A$95,$A137,Баланс!$B$16:$B$95,\"население\")","v":0},{"$f":"SUMIFS(Баланс!AG$16:AG$95,Баланс!$A$16:$A$95,$A137,Баланс!$B$16:$B$95,\"население\")","v":0},{"$f":"SUMIFS(Баланс!AH$16:AH$95,Баланс!$A$16:$A$95,$A137,Баланс!$B$16:$B$95,\"население\")","v":0},{"$f":"SUMIFS(Баланс!AI$16:AI$95,Баланс!$A$16:$A$95,$A137,Баланс!$B$16:$B$95,\"население\")","v":0},{"$f":"SUMIFS(Баланс!AJ$16:AJ$95,Баланс!$A$16:$A$95,$A137,Баланс!$B$16:$B$95,\"население\")","v":0},{"$f":"SUMIFS(Баланс!AK$16:AK$95,Баланс!$A$16:$A$95,$A137,Баланс!$B$16:$B$95,\"население\")","v":0},{"$f":"SUMIFS(Баланс!AL$16:AL$95,Баланс!$A$16:$A$95,$A137,Баланс!$B$16:$B$95,\"население\")","v":0}]
["1","ПО.население.I",null,"L21_1",null,null,null,null,null,null,null,"13.1","I полугодие: объём реализации по населению","тыс.куб.м",{"$f":"O137/2","v":0},{"$f":"P137/2","v":0},{"$f":"Q137/2","v":0},{"$f":"Q138-P138","v":0},{"$f":"S137/2","v":0},{"$f":"T137/2","v":0},0,0,0,0,0,0,0,0,0,0,0,0,0,0,0,0,0,0,0]
["1","тариф.население.I",null,"L21_2",null,null,null,null,null,null,null,"13.2","I полугодие: тариф для населения","руб./куб.м",{"$f":"IF(O137=0,0,O131*IF(plat_nds=\"да\",1.2,1) )","v":0},{"$f":"IF(P137=0,0,P131*IF(plat_nds=\"да\",1.2,1) )","v":0},{"$f":"IF(Q137=0,0,Q131*IF(plat_nds=\"да\",1.2,1) )","v":0},{"$f":"Q139-P139","v":0},{"$f":"IF(S137=0,0,S131*IF(plat_nds=\"да\",1.2,1) )","v":0},0,0,0,0,0,0,0,0,0,0,0,0,0,0,0,0,0,0,0,0]
["1","ПО.население.II",null,"L21_3",null,null,null,null,null,null,null,"13.3","II полугодие: объём реализации по населению","тыс.куб.м",{"$f":"O137-O138","v":0},{"$f":"P137-P138","v":0},{"$f":"Q137-Q138","v":0},{"$f":"Q140-P140","v":0},{"$f":"S137-S138","v":0},0,0,0,0,0,0,0,0,0,0,0,0,0,0,0,0,0,0,0,0]
["1","тариф.население.II",null,"L21_4",null,null,null,null,null,null,null,"13.4","II полугодие: тариф для населения","руб./куб.м",{"$f":"IF(O137=0,0,O133*IF(plat_nds=\"да\",1.2,1) )","v":0},{"$f":"IF(P137=0,0,P133*IF(plat_nds=\"да\",1.2,1) )","v":0},{"$f":"IF(Q137=0,0,Q133*IF(plat_nds=\"да\",1.2,1) )","v":0},{"$f":"Q141-P141","v":0},{"$f":"IF(S137=0,0,S133*IF(plat_nds=\"да\",1.2,1) )","v":0},0,0,0,0,0,0,0,0,0,0,0,0,0,0,0,0,0,0,0,0]
[{"$f":"'Общие сведения'!$D$135","v":"2"},{"$f":"INDEX('Общие сведения'!$N$121:$N$148,MATCH($A142,'Общие сведения'!$D$121:$D$148,0))","v":"одноставочный"},null,{"$f":"INDEX('Общие сведения'!$H$121:$H$148,MATCH($A142,'Общие сведения'!$D$121:$D$148,0))","v":"Водоотведение"},null,null,null,null,null,null,null,{"$f":"INDEX('Общие сведения'!$J$121:$J$148,MATCH($A142,'Общие сведения'!$D$121:$D$148,0))","v":"Тариф 2 (Водоотведение) - тариф на водоотведение"}]
[{"$f":"A142","v":"2"},null,null,"L1",null,null,null,null,null,null,null,"1","Операционные расходы","тыс.руб.",{"$f":"SUM(O145,O162,O168,O188,O189,O190)","v":8283.5243624366103},{"$f":"SUM(P145,P162,P168,P188,P189,P190)","v":11218.12196},{"$f":"SUM(Q145,Q162,Q168,Q188,Q189,Q190)","v":16423.82547},{"$f":"Q143-P143","v":5205.7035099999994},{"$f":"SUM(S145,S162,S168,S188,S189,S190)","v":9555.5168696558649},{"$f":"SUM(T145,T162,T168,T188,T189,T190)","v":17380.802499999994},{"$f":"T143*U144+1","v":17896.274253999996},{"$f":"U143*V144+1","v":18427.003971918399},{"$f":"V143*W144+1","v":18973.443289487186},{"$f":"W143*X144+0.99","v":19536.04721085601},{"$f":"X143*Y144","v":19536.04721085601},19536.04721085601,19536.04721085601,19536.04721085601,19536.04721085601,{"$f":"SUM(AD145,AD162,AD168,AD188,AD189,AD190)","v":14068.061526318445},{"$f":"AD143*AE144","v":14512.33090931958},14936.757850846599,15374.069975052,15824.326538134001,15824.326538134001,15824.326538134001,15824.326538134001,15824.326538134001,15824.326538134001,{"$f":"IF(S143=0,0,(AD143-S143)/S143*100)","v":47.224495735991475},{"$f":"IF(AD143=0,0,(AE143-AD143)/AD143*100)","v":3.157999999999995},2.9245952575024261,2.9277580086137229,2.9286751251467358,0,0,0,0,0,null,"П. 88, 44 - 48, 17 -26 Методических указаний ФСТ № 1746-э.","Плановые расходы на 2024 год (Базовый уровень Операционных расходов) рассчитаны методом экономически обоснованных расходов в соответствии с пунктами 17 -26 Методических указаний. Плановые расходы на 2024-2028 гг. - в соответствии с Формулой (8) (пункт 45 Методических указаний), исходя из Базового уровня Операционных расходов, индексов эффективности Операционных расходов на 2024-2028 гг. в размере 1;  индексов изменения количества активов на 2024-2028 гг. в размере 0;  индексов потребительских цен (ИПЦ) Минэкономразвития России  104,2% на 2025 г., 104,0% на 2026-2028 гг."]
[{"$f":"A143","v":"2"},null,null,"L1_1",null,null,null,null,null,null,null,"1.1","коэффициент индекса операционных расходов",null,{"$f":"O143/7467.91","v":1.1092158800034562},{"$f":"P143/7467.91","v":1.5021769089343606},{"$f":"Q143/7467.91","v":2.1992532676478427},0.69707635871348206,{"$f":"S143/O143","v":1.1535569223394058},{"$f":"T143/S143","v":1.8189285558370796},{"$f":"SUMIFS(INDEX(Сценарии!$O$15:$AP$53,,MATCH(U$3,Сценарии!$O$3:$AP$3,0)),Сценарии!$A$15:$A$53,$A144,Сценарии!$B$15:$B$53,\"ИОР\")","v":1.0296000000000001},{"$f":"SUMIFS(INDEX(Сценарии!$O$15:$AP$53,,MATCH(V$3,Сценарии!$O$3:$AP$3,0)),Сценарии!$A$15:$A$53,$A144,Сценарии!$B$15:$B$53,\"ИОР\")","v":1.0296000000000001},{"$f":"SUMIFS(INDEX(Сценарии!$O$15:$AP$53,,MATCH(W$3,Сценарии!$O$3:$AP$3,0)),Сценарии!$A$15:$A$53,$A144,Сценарии!$B$15:$B$53,\"ИОР\")","v":1.0296000000000001},{"$f":"SUMIFS(INDEX(Сценарии!$O$15:$AP$53,,MATCH(X$3,Сценарии!$O$3:$AP$3,0)),Сценарии!$A$15:$A$53,$A144,Сценарии!$B$15:$B$53,\"ИОР\")","v":1.0296000000000001},{"$f":"SUMIFS(INDEX(Сценарии!$O$15:$AP$53,,MATCH(Y$3,Сценарии!$O$3:$AP$3,0)),Сценарии!$A$15:$A$53,$A144,Сценарии!$B$15:$B$53,\"ИОР\")","v":1},{"$f":"SUMIFS(INDEX(Сценарии!$O$15:$AP$53,,MATCH(Z$3,Сценарии!$O$3:$AP$3,0)),Сценарии!$A$15:$A$53,$A144,Сценарии!$B$15:$B$53,\"ИОР\")","v":1},{"$f":"SUMIFS(INDEX(Сценарии!$O$15:$AP$53,,MATCH(AA$3,Сценарии!$O$3:$AP$3,0)),Сценарии!$A$15:$A$53,$A144,Сценарии!$B$15:$B$53,\"ИОР\")","v":1},{"$f":"SUMIFS(INDEX(Сценарии!$O$15:$AP$53,,MATCH(AB$3,Сценарии!$O$3:$AP$3,0)),Сценарии!$A$15:$A$53,$A144,Сценарии!$B$15:$B$53,\"ИОР\")","v":1},{"$f":"SUMIFS(INDEX(Сценарии!$O$15:$AP$53,,MATCH(AC$3,Сценарии!$O$3:$AP$3,0)),Сценарии!$A$15:$A$53,$A144,Сценарии!$B$15:$B$53,\"ИОР\")","v":1},null,{"$f":"SUMIFS(INDEX(Сценарии!$O$15:$AP$53,,MATCH(AE$3,Сценарии!$O$3:$AP$3,0)),Сценарии!$A$15:$A$53,$A144,Сценарии!$B$15:$B$53,\"ИОР\")","v":1.0315799999999999},{"$f":"SUMIFS(INDEX(Сценарии!$O$15:$AP$53,,MATCH(AF$3,Сценарии!$O$3:$AP$3,0)),Сценарии!$A$15:$A$53,$A144,Сценарии!$B$15:$B$53,\"ИОР\")","v":1.0296000000000001},{"$f":"SUMIFS(INDEX(Сценарии!$O$15:$AP$53,,MATCH(AG$3,Сценарии!$O$3:$AP$3,0)),Сценарии!$A$15:$A$53,$A144,Сценарии!$B$15:$B$53,\"ИОР\")","v":1.0296000000000001},{"$f":"SUMIFS(INDEX(Сценарии!$O$15:$AP$53,,MATCH(AH$3,Сценарии!$O$3:$AP$3,0)),Сценарии!$A$15:$A$53,$A144,Сценарии!$B$15:$B$53,\"ИОР\")","v":1.0296000000000001},{"$f":"SUMIFS(INDEX(Сценарии!$O$15:$AP$53,,MATCH(AI$3,Сценарии!$O$3:$AP$3,0)),Сценарии!$A$15:$A$53,$A144,Сценарии!$B$15:$B$53,\"ИОР\")","v":1},{"$f":"SUMIFS(INDEX(Сценарии!$O$15:$AP$53,,MATCH(AJ$3,Сценарии!$O$3:$AP$3,0)),Сценарии!$A$15:$A$53,$A144,Сценарии!$B$15:$B$53,\"ИОР\")","v":1},{"$f":"SUMIFS(INDEX(Сценарии!$O$15:$AP$53,,MATCH(AK$3,Сценарии!$O$3:$AP$3,0)),Сценарии!$A$15:$A$53,$A144,Сценарии!$B$15:$B$53,\"ИОР\")","v":1},{"$f":"SUMIFS(INDEX(Сценарии!$O$15:$AP$53,,MATCH(AL$3,Сценарии!$O$3:$AP$3,0)),Сценарии!$A$15:$A$53,$A144,Сценарии!$B$15:$B$53,\"ИОР\")","v":1},{"$f":"SUMIFS(INDEX(Сценарии!$O$15:$AP$53,,MATCH(AM$3,Сценарии!$O$3:$AP$3,0)),Сценарии!$A$15:$A$53,$A144,Сценарии!$B$15:$B$53,\"ИОР\")","v":1},{"$f":"IF(S144=0,0,(AD144-S144)/S144*100)","v":-100},null,null,null,null,null,null,null,null,null,null,"В  графах \"Предложение организации\"  по всем статьям затрат  отражены величины, заявленные организацией  на 2024-2028 гг.  в НОВОМ заявлении  и  скорректированном расчете финансовых потребностей в сфере водоотведения  от  04.12.2023 (исх. № 547)."]
["2",null,null,"L1_2",null,null,null,null,null,null,null,"1.2","Производственные расходы:","тыс.руб.",{"$f":"SUM(O146,O149,O150,O153,O154)","v":6584.6559337690305},{"$f":"SUM(P146,P149,P150,P153,P154)","v":9459.52},{"$f":"SUM(Q146,Q149,Q150,Q153,Q154)","v":8997.1913600000007},-462.32863999999972,{"$f":"SUM(S146,S149,S150,S153,S154)","v":7595.7754336225089},{"$f":"SUM(T146,T149,T150,T153,T154)","v":13193.464599999996},null,null,null,null,null,null,null,null,null,{"$f":"SUM(AD146,AD149,AD150,AD153,AD154)","v":10213.798230044131},null,null,null,null,null,null,null,null,null,{"$f":"IF(S145=0,0,(AD145-S145)/S145*100)","v":34.466827242324854},null,null,null,null,null,null,null,null,null,null,"П. 18 Методических указаний ФСТ № 1746-э."]
["2",null,null,"L1_2_1",null,null,null,null,null,null,null,"1.2.1","расходы на приобретение сырья и материалов и их хранение, в том числе:","тыс.руб.",{"$f":"SUM(O147,O148)","v":102.74468948231301},{"$f":"SUM(P147,P148)","v":0},{"$f":"SUM(Q147,Q148)","v":94.42},94.42,{"$f":"SUM(S147,S148)","v":118.52184778593499},{"$f":"SUM(T147,T148)","v":262.45},null,null,null,null,null,null,null,null,null,{"$f":"SUM(AD147,AD148)","v":116.488620044774},null,null,null,null,null,null,null,null,null,{"$f":"IF(S146=0,0,(AD146-S146)/S146*100)","v":-1.7154877173643617},null,null,null,null,null,null,null,null,null,null,"П 16, 19 Методических указаний ФСТ № 1746-э."]
["2",null,null,"L1_2_1_1",null,null,null,null,null,null,null,"1.2.1.1","горюче-смазочные материалы","тыс.руб.",102.74468948231301,0,94.42,94.42,118.52184778593499,262.45,null,null,null,null,null,null,null,null,null,116.488620044774,null,null,null,null,null,null,null,null,null,-1.7154877173643617,null,null,null,null,null,null,null,null,null,null,null,"Среднегодовые фактические расходы на ГСМ  за 2020 г. ( 81,02 тыс. руб.), за 2021 г. (101,34 тыс. руб.) и за 2022 г. (94,42 тыс. руб., в шаблоне не отражены ошибочно),  приведенные к ценам 2022 г. с применением ИПЦ Минэкономразвития России 106,7% на 2021 г. и 113,8% на 2022 г.:  (81,02 * 1,067 * 1,138 + 101,34 * 1,138 + 94,42) / 3 = 102,71 тыс. руб.   С учетом ИПЦ Минэкономразвития России 105,8% на 2023 г. и 107,2% на 2024 г.:  102,71 * 1,058 * 1,072 = 116,49. "]
["2",null,null,"L1_2_1_2",null,null,null,null,null,null,null,"1.2.1.2","материалы и малоценные основные средства","тыс.руб.",null,null,null,0,null,null,null,null,null,null,null,null,null,null,null,null,null,null,null,null,null,null,null,null,null,0]
["2",null,null,"L1_2_2",null,null,null,null,null,null,null,"1.2.2","расходы на оплату регулируемыми организациями выполняемых сторонними организациями работ и (или) услуг","тыс.руб.",433.09600098804498,null,333.26,333.26,499.60088997727303,1229.55,null,null,null,null,null,null,null,null,null,377.97549376000001,null,null,null,null,null,null,null,null,null,-24.344511520547091,null,null,null,null,null,null,null,null,null,null,"П. 18(3) Методических указаний ФСТ № 1746-э.","Фактические расходы за 2022 г. (333,26 тыс. руб.) не отражены организацией ошибочно.  В состав заявленной  ООО \"ТВК\" на 2024 г. величины (1229,55 тыс. руб.)  включены, в том числе, расходы на лабораторные исследования качества воды в размере 94,51 тыс. руб., которые учтены специалистом РЭК по пункту 1.2.5.5. Плановые затраты на 2024 год по данной статье приняты,  исходя из величины фактических затрат 2022 г. (333,26 тыс. руб., в том числе затраты на охрану труда и технику безопасности - 52,82 тыс. руб., доставка гипохлорита натрия - 85,50 тыс. руб., доставка трудящихся до очистных сооружений - 7,90 тыс. руб., дератизация и вывоз ТКО - 65,77 тыс. руб., поверка приборов - 81,35 тыс. руб., прочие услуги - 39,92 тыс. руб.), с учетом ИПЦ Минэкономразвития России 105,8% на 2023 г. и 107,2% на 2024 г."]
["2",null,null,"L1_2_3",null,null,null,null,null,null,null,"1.2.3","расходы на оплату труда и страховые взносы на обязательное социальное страхование основного производственного персонала, в том числе:","тыс.руб.",{"$f":"O151+O152","v":6020.2343200478645},{"$f":"P151+P152","v":9459.52},{"$f":"Q151+Q152","v":8532.8913599999996},-926.62864000000081,{"$f":"S151+S152","v":6944.6829739964796},{"$f":"T151+T152","v":11701.464599999996},null,null,null,null,null,null,null,null,null,{"$f":"AD151+AD152","v":9677.8005911193577},null,null,null,null,null,null,null,null,null,{"$f":"IF(S150=0,0,(AD150-S150)/S150*100)","v":39.355541892361458},null,null,null,null,null,null,null,null,null,null," П. 17 \"Методических указаний\" (приказ ФСТ от 27.12.2013 № 1746-э).  "]
["2","ПП",null,"L1_2_3_1",null,null,null,null,null,null,null,"1.2.3.1","расходы на оплату труда основного производственного персонала","тыс.руб.",{"$f":"SUMIFS(ФОТ!O$15:O$65,ФОТ!$A$15:$A$65,$A151,ФОТ!$B$15:$B$65,$B151)","v":4623.8358832932909},{"$f":"SUMIFS(ФОТ!P$15:P$65,ФОТ!$A$15:$A$65,$A151,ФОТ!$B$15:$B$65,$B151)","v":7274.84},{"$f":"SUMIFS(ФОТ!Q$15:Q$65,ФОТ!$A$15:$A$65,$A151,ФОТ!$B$15:$B$65,$B151)","v":6553.68},-721.15999999999985,{"$f":"SUMIFS(ФОТ!R$15:R$65,ФОТ!$A$15:$A$65,$A151,ФОТ!$B$15:$B$65,$B151)","v":5333.8578909343159},{"$f":"SUMIFS(ФОТ!S$15:S$65,ФОТ!$A$15:$A$65,$A151,ФОТ!$B$15:$B$65,$B151)","v":8987.2999999999975},null,null,null,null,null,null,null,null,null,{"$f":"SUMIFS(ФОТ!T$15:T$65,ФОТ!$A$15:$A$65,$A151,ФОТ!$B$15:$B$65,$B151)","v":7433.0265676799991},null,null,null,null,null,null,null,null,null,{"$f":"IF(S151=0,0,(AD151-S151)/S151*100)","v":39.355541892361479},null,null,null,null,null,null,null,null,null,null,"1) \"Федеральное отраслевое тарифное соглашение в жилищно-коммунальном хозяйстве Российской Федерации на 2023 - 2025 годы\" (утв. Общероссийским отраслевым объединением работодателей сферы жизнеобеспечения, Общероссийским профсоюзом работников жизнеобеспечения 12.05.2022) (ред. от 05.12.2022). 2)  \"Кузбасское региональное соглашение между Кемеровским областным союзом организаций профсоюзов \"Федерация профсоюзных организаций Кузбасса\", Правительством Кемеровской области - Кузбасса и работодателями Кемеровской области - Кузбасса на 2022 - 2024 годы\" (Подписано 07.10.2021). 3) Приказ Министерства строительства и ЖКХ Российской Федерации от 23.03.2020 № 154/пр \"Об утверждении Типовых отраслевых норм численности работников водопроводно-канализационного хозяйства\". ","См. Лист \"ФОТ\"."]
["2","СОЦ_ПП",null,"L1_2_3_2",null,null,null,null,null,null,null,"1.2.3.2","страховые взносы на обязательное социальное страхование основного производственного персонала","тыс.руб.",{"$f":"SUMIFS(ФОТ!O$15:O$65,ФОТ!$A$15:$A$65,$A152,ФОТ!$B$15:$B$65,$B152)","v":1396.3984367545738},{"$f":"SUMIFS(ФОТ!P$15:P$65,ФОТ!$A$15:$A$65,$A152,ФОТ!$B$15:$B$65,$B152)","v":2184.6799999999998},{"$f":"SUMIFS(ФОТ!Q$15:Q$65,ФОТ!$A$15:$A$65,$A152,ФОТ!$B$15:$B$65,$B152)","v":1979.21136},-205.46863999999982,{"$f":"SUMIFS(ФОТ!R$15:R$65,ФОТ!$A$15:$A$65,$A152,ФОТ!$B$15:$B$65,$B152)","v":1610.8250830621632},{"$f":"SUMIFS(ФОТ!S$15:S$65,ФОТ!$A$15:$A$65,$A152,ФОТ!$B$15:$B$65,$B152)","v":2714.1645999999992},null,null,null,null,null,null,null,null,null,{"$f":"SUMIFS(ФОТ!T$15:T$65,ФОТ!$A$15:$A$65,$A152,ФОТ!$B$15:$B$65,$B152)","v":2244.7740234393596},null,null,null,null,null,null,null,null,null,{"$f":"IF(S152=0,0,(AD152-S152)/S152*100)","v":39.355541892361487},null,null,null,null,null,null,null,null,null,null,"1)  Глава 34 \"СТРАХОВЫЕ ВЗНОСЫ\" \"Налогового кодекса Российской Федерации (Часть вторая)\" (в ред. от 10.07.2023 № 318-ФЗ); 2) Федеральные законы  от 22.12.2005 № 179-ФЗ,  от 31.12.2017 № 484-ФЗ;   от 24.07.1998 № 125-ФЗ); 3) \"Уведомление о страховом тарифе на обязательное социальное страхование от несчастных случаев на производстве и профессиональных заболеваний\" от 22.03.2022.","Рассчитано: 1) отчисления  на обязательное пенсионное страхование – 22,0%; на обязательное социальное страхование на случай временной нетрудоспособности и в связи с материнством - 2,9%;  на обязательное медицинское страхование - 5,1%; 2) на обязаельное социальное страхование от несчастных случаев на производстве и профессиональных заболеваний – 0,2% в соответствии с  федеральным законом от 24.07.1998 № 125-ФЗ, а также с представленной формой отчетности  \"4-ФСС\" за 2022 год .  "]
["2",null,null,"L1_2_4",null,null,null,null,null,null,null,"1.2.4","общехозяйственные расходы","тыс.руб.",null,null,null,0,null,null,null,null,null,null,null,null,null,null,null,null,null,null,null,null,null,null,null,null,null,0]
["2",null,null,"L1_2_5",null,null,null,null,null,null,null,"1.2.5","прочие производственные расходы","тыс.руб.",{"$f":"SUM(O155:O161)","v":28.5809232508085},{"$f":"SUM(P155:P161)","v":0},{"$f":"SUM(Q155:Q161)","v":36.619999999999997},36.619999999999997,{"$f":"SUM(S155:S161)","v":32.969721862821402},{"$f":"SUM(T155:T161)","v":0},null,null,null,null,null,null,null,null,null,{"$f":"SUM(AD155:AD161)","v":41.53352512},null,null,null,null,null,null,null,null,null,25.974751296994249]
["2",null,null,"L1_2_5_1",null,null,null,null,null,null,null,"1.2.5.1","амортизация автотранспорта","тыс.руб.",null,null,null,0,null,null,null,null,null,null,null,null,null,null,null,null,null,null,null,null,null,null,null,null,null,0]
["2",null,null,"L1_2_5_2",null,null,null,null,null,null,null,"1.2.5.2","расходы на обезвоживание, обезвреживание и захоронение осадка сточных вод","тыс.руб.",null,null,null,0,null,null,null,null,null,null,null,null,null,null,null,null,null,null,null,null,null,null,null,null,null,0]
["2",null,null,"L1_2_5_3",null,null,null,null,null,null,null,"1.2.5.3","расходы на приобретение (использование) вспомогательных материалов, запасных частей","тыс.руб.",null,null,null,0,null,null,null,null,null,null,null,null,null,null,null,null,null,null,null,null,null,null,null,null,null,0]
["2",null,null,"L1_2_5_4",null,null,null,null,null,null,null,"1.2.5.4","расходы на эксплуатацию, техническое обслуживание и ремонт автотранспорта","тыс.руб.",null,null,null,0,null,null,null,null,null,null,null,null,null,null,null,null,null,null,null,null,null,null,null,null,null,0]
["2",null,null,"L1_2_5_5",null,null,null,null,null,null,null,"1.2.5.5","расходы на осуществление производственного контроля качества воды и производственного контроля состава и свойств сточных вод расходы на осуществление производственного контроля качества воды и производственного контроля состава и свойств сточных вод","тыс.руб.",28.5809232508085,null,36.619999999999997,36.619999999999997,32.969721862821402,null,null,null,null,null,null,null,null,null,null,41.53352512,null,null,null,null,null,null,null,null,null,25.974751296994249,null,null,null,null,null,null,null,null,null,null,"П. 18(7) Методических указаний ФСТ № 1746-э.","Фактические затраты за 2022 г. (36,62 тыс. руб.) не отражены организацией ошибочно. Плановые затраты  на лабораторные исследования  (94,51 тыс. руб.) заявлены в составе затрат, отраженных по пункту 1.2.2. Регулирующим органом  плановые затраты на 2024 год по данной статье  приняты на уровне факта 2022 г. (36,62 тыс. руб.) с учетом ИПЦ Минэкономразвития России 105,8% на 2023 г. и 107,2% на 2024 г."]
["2",null,null,"L1_2_5_6",null,null,null,null,null,null,null,"1.2.5.6","расходы на аварийно-диспетчерское обслуживание","тыс.руб.",null,null,null,0,null,null,null,null,null,null,null,null,null,null,null,null,null,null,null,null,null,null,null,null,null,0]
["2",null,null,"L1_2_5_7",null,null,null,null,null,null,null,"1.2.5.7","иные производственные расходы","тыс.руб.",null,null,null,0,null,null,null,null,null,null,null,null,null,null,null,null,null,null,null,null,null,null,null,null,null,{"$f":"IF(S161=0,0,(AD161-S161)/S161*100)","v":0}]
["2",null,null,"L1_3",null,null,null,null,null,null,null,"1.3","Ремонтные расходы:","тыс.руб.",{"$f":"O163+O164+O165","v":587.45211674743098},{"$f":"P163+P164+P165","v":930.54},{"$f":"Q163+Q164+Q165","v":581.9},-348.64,{"$f":"S163+S164+S165","v":677.65945581693597},{"$f":"T163+T164+T165","v":2311.7399999999998},null,null,null,null,null,null,null,null,null,{"$f":"AD163+AD164+AD165","v":2113.20005931481},null,null,null,null,null,null,null,null,null,{"$f":"IF(S162=0,0,(AD162-S162)/S162*100)","v":211.8380539333422},null,null,null,null,null,null,null,null,null,null,"П. 19, 23, 24  Методических указаний ФСТ № 1746-э.","Расходы включают, в том числе, запасные части для транспортных средств, малоценные ТМЦ  и материалы для охраны труда и ТБ."]
["2",null,null,"L1_3_1",null,null,null,null,null,null,null,"1.3.1","расходы на текущий ремонт централизованных систем водоснабжения и (или) водоотведения либо объектов, входящих в состав таких систем","тыс.руб.",587.45211674743098,930.54,581.9,-348.64,677.65945581693597,1272.4100000000001,null,null,null,null,null,null,null,null,null,1073.8700593148101,null,null,null,null,null,null,null,null,null,58.467509026378451,null,null,null,null,null,null,null,null,null,null,null,"Среднегодовые фактические расходы на материалы (сч. 10  без ГСМ и реагентов) за 2020 г. ( 1187,12 тыс. руб.), за 2021 г. (718,04 тыс. руб.) и за 2022 г. (581,90 тыс. руб.),  приведенные к ценам 2022 г. с применением ИПЦ Минэкономразвития России 106,7% на 2021 г. и 113,8% на 2022 г.:  (1187,12 * 1,067 * 1,138 + 718,04 * 1,138 + 581,90) / 3 = 946,83 тыс. руб.   С учетом ИПЦ Минэкономразвития России 105,8% на 2023 г. и 107,2% на 2024 г.:  946,83 * 1,058 * 1,072 = 1073,87 тыс. руб."]
["2",null,null,"L1_3_2",null,null,null,null,null,null,null,"1.3.2","расходы на капитальный ремонт централизованных систем водоснабжения и (или) водоотведения либо объектов, входящих в состав таких систем","тыс.руб.",null,null,null,0,null,1039.33,null,null,null,null,null,null,null,null,null,1039.33,null,null,null,null,null,null,null,null,null,0,null,null,null,null,null,null,null,null,null,null,"\"Заключение по анализу материалов ООО \"ТВК\"                  (г. Белово), ИНН 4202026697, представленных для подтверждения планируемых расходов ремонтной программы на 2024 год (в рамках госконтракта от 29.05.2023 № 5к)\" (ОАО \"Агентство энергетических экспертиз\", г. Кемерово, 2023).","Принято в размере величины, согласованной  ОАО \"Агентство энергетических экспертиз\" (затраты на ремонт напорного канализационного коллектора), с учетом динамики фактических затрат за 2020-2022 гг."]
["2",null,null,"L1_3_3",null,null,null,null,null,null,null,"1.3.3","расходы на оплату труда и страховые взносы на обязательное социальное страхование ремонтного персонала, в том числе:","тыс.руб.",{"$f":"O166+O167","v":0},{"$f":"P166+P167","v":0},{"$f":"Q166+Q167","v":0},0,{"$f":"S166+S167","v":0},{"$f":"T166+T167","v":0},null,null,null,null,null,null,null,null,null,{"$f":"AD166+AD167","v":0},null,null,null,null,null,null,null,null,null,{"$f":"IF(S165=0,0,(AD165-S165)/S165*100)","v":0}]
["2","РП",null,"L1_3_3_1",null,null,null,null,null,null,null,"1.3.3.1","расходы на оплату труда ремонтного персонала","тыс.руб.",{"$f":"SUMIFS(ФОТ!O$15:O$65,ФОТ!$A$15:$A$65,$A166,ФОТ!$B$15:$B$65,$B166)","v":0},{"$f":"SUMIFS(ФОТ!P$15:P$65,ФОТ!$A$15:$A$65,$A166,ФОТ!$B$15:$B$65,$B166)","v":0},{"$f":"SUMIFS(ФОТ!Q$15:Q$65,ФОТ!$A$15:$A$65,$A166,ФОТ!$B$15:$B$65,$B166)","v":0},0,{"$f":"SUMIFS(ФОТ!R$15:R$65,ФОТ!$A$15:$A$65,$A166,ФОТ!$B$15:$B$65,$B166)","v":0},{"$f":"SUMIFS(ФОТ!S$15:S$65,ФОТ!$A$15:$A$65,$A166,ФОТ!$B$15:$B$65,$B166)","v":0},null,null,null,null,null,null,null,null,null,{"$f":"SUMIFS(ФОТ!T$15:T$65,ФОТ!$A$15:$A$65,$A166,ФОТ!$B$15:$B$65,$B166)","v":0},null,null,null,null,null,null,null,null,null,{"$f":"IF(S166=0,0,(AD166-S166)/S166*100)","v":0}]
["2","СОЦ_РП",null,"L1_3_3_2",null,null,null,null,null,null,null,"1.3.3.2","страховые взносы на обязательное социальное страхование ремонтного персонала","тыс.руб.",{"$f":"SUMIFS(ФОТ!O$15:O$65,ФОТ!$A$15:$A$65,$A167,ФОТ!$B$15:$B$65,$B167)","v":0},{"$f":"SUMIFS(ФОТ!P$15:P$65,ФОТ!$A$15:$A$65,$A167,ФОТ!$B$15:$B$65,$B167)","v":0},{"$f":"SUMIFS(ФОТ!Q$15:Q$65,ФОТ!$A$15:$A$65,$A167,ФОТ!$B$15:$B$65,$B167)","v":0},0,{"$f":"SUMIFS(ФОТ!R$15:R$65,ФОТ!$A$15:$A$65,$A167,ФОТ!$B$15:$B$65,$B167)","v":0},{"$f":"SUMIFS(ФОТ!S$15:S$65,ФОТ!$A$15:$A$65,$A167,ФОТ!$B$15:$B$65,$B167)","v":0},null,null,null,null,null,null,null,null,null,{"$f":"SUMIFS(ФОТ!T$15:T$65,ФОТ!$A$15:$A$65,$A167,ФОТ!$B$15:$B$65,$B167)","v":0},null,null,null,null,null,null,null,null,null,{"$f":"IF(S167=0,0,(AD167-S167)/S167*100)","v":0}]
["2",null,null,"L1_4",null,null,null,null,null,null,null,"1.4","Административные расходы","тыс.руб.",{"$f":"O169+O177+O180+O181+O182+O183+O184","v":726.25045700542751},{"$f":"P169+P177+P180+P181+P182+P183+P184","v":828.06196},{"$f":"Q169+Q177+Q180+Q181+Q182+Q183+Q184","v":6217.7661000000007},5389.7041400000007,{"$f":"S169+S177+S180+S181+S182+S183+S184","v":837.77124203076778},{"$f":"T169+T177+T180+T181+T182+T183+T184","v":1875.5979000000002},null,null,null,null,null,null,null,null,null,{"$f":"AD169+AD177+AD180+AD181+AD182+AD183+AD184","v":1741.0632369595039},null,null,null,null,null,null,null,null,null,{"$f":"IF(S168=0,0,(AD168-S168)/S168*100)","v":107.82084053627162},null,null,null,null,null,null,null,null,null,null,"П. 25 Методических указаний ФСТ РФ № 1746-э.","См. Лист \"Административные\"."]
["2","p3",null,"L1_4_1",null,null,null,null,null,null,null,"1.4.1","расходы на оплату работ и услуг, выполняемых сторонними организациями, в том числе:","тыс.руб.",{"$f":"SUMIFS(Административные!O$15:O$54,Административные!$A$15:$A$54,$A169,Административные!$B$15:$B$54,$B169)","v":0},{"$f":"SUMIFS(Административные!P$15:P$54,Административные!$A$15:$A$54,$A169,Административные!$B$15:$B$54,$B169)","v":0},{"$f":"SUMIFS(Административные!Q$15:Q$54,Административные!$A$15:$A$54,$A169,Административные!$B$15:$B$54,$B169)","v":0},0,{"$f":"SUMIFS(Административные!R$15:R$54,Административные!$A$15:$A$54,$A169,Административные!$B$15:$B$54,$B169)","v":0},{"$f":"SUMIFS(Административные!S$15:S$54,Административные!$A$15:$A$54,$A169,Административные!$B$15:$B$54,$B169)","v":406.69},null,null,null,null,null,null,null,null,null,{"$f":"SUMIFS(Административные!T$15:T$54,Административные!$A$15:$A$54,$A169,Административные!$B$15:$B$54,$B169)","v":88.011778416912009},null,null,null,null,null,null,null,null,null,0]
["2","p3_1",null,"L1_4_1_1",null,null,null,null,null,null,null,"1.4.1.1","услуги связи и интернет","тыс.руб.",{"$f":"SUMIFS(Административные!O$15:O$54,Административные!$A$15:$A$54,$A170,Административные!$B$15:$B$54,$B170)","v":0},{"$f":"SUMIFS(Административные!P$15:P$54,Административные!$A$15:$A$54,$A170,Административные!$B$15:$B$54,$B170)","v":0},{"$f":"SUMIFS(Административные!Q$15:Q$54,Административные!$A$15:$A$54,$A170,Административные!$B$15:$B$54,$B170)","v":0},0,{"$f":"SUMIFS(Административные!R$15:R$54,Административные!$A$15:$A$54,$A170,Административные!$B$15:$B$54,$B170)","v":0},{"$f":"SUMIFS(Административные!S$15:S$54,Административные!$A$15:$A$54,$A170,Административные!$B$15:$B$54,$B170)","v":3.24},null,null,null,null,null,null,null,null,null,{"$f":"SUMIFS(Административные!T$15:T$54,Административные!$A$15:$A$54,$A170,Административные!$B$15:$B$54,$B170)","v":0},null,null,null,null,null,null,null,null,null,0]
["2","p3_2",null,"L1_4_1_2",null,null,null,null,null,null,null,"1.4.1.2","юридические услуги","тыс.руб.",{"$f":"SUMIFS(Административные!O$15:O$54,Административные!$A$15:$A$54,$A171,Административные!$B$15:$B$54,$B171)","v":0},{"$f":"SUMIFS(Административные!P$15:P$54,Административные!$A$15:$A$54,$A171,Административные!$B$15:$B$54,$B171)","v":0},{"$f":"SUMIFS(Административные!Q$15:Q$54,Административные!$A$15:$A$54,$A171,Административные!$B$15:$B$54,$B171)","v":0},0,{"$f":"SUMIFS(Административные!R$15:R$54,Административные!$A$15:$A$54,$A171,Административные!$B$15:$B$54,$B171)","v":0},{"$f":"SUMIFS(Административные!S$15:S$54,Административные!$A$15:$A$54,$A171,Административные!$B$15:$B$54,$B171)","v":191.85},null,null,null,null,null,null,null,null,null,{"$f":"SUMIFS(Административные!T$15:T$54,Административные!$A$15:$A$54,$A171,Административные!$B$15:$B$54,$B171)","v":88.011778416912009},null,null,null,null,null,null,null,null,null,0,null,null,null,null,null,null,null,null,null,null,null,"См. Лист \"Административные\"."]
["2","p3_3",null,"L1_4_1_3",null,null,null,null,null,null,null,"1.4.1.3","аудиторские услуги","тыс.руб.",{"$f":"SUMIFS(Административные!O$15:O$54,Административные!$A$15:$A$54,$A172,Административные!$B$15:$B$54,$B172)","v":0},{"$f":"SUMIFS(Административные!P$15:P$54,Административные!$A$15:$A$54,$A172,Административные!$B$15:$B$54,$B172)","v":0},{"$f":"SUMIFS(Административные!Q$15:Q$54,Административные!$A$15:$A$54,$A172,Административные!$B$15:$B$54,$B172)","v":0},0,{"$f":"SUMIFS(Административные!R$15:R$54,Административные!$A$15:$A$54,$A172,Административные!$B$15:$B$54,$B172)","v":0},{"$f":"SUMIFS(Административные!S$15:S$54,Административные!$A$15:$A$54,$A172,Административные!$B$15:$B$54,$B172)","v":0},null,null,null,null,null,null,null,null,null,{"$f":"SUMIFS(Административные!T$15:T$54,Административные!$A$15:$A$54,$A172,Административные!$B$15:$B$54,$B172)","v":0},null,null,null,null,null,null,null,null,null,0]
["2","p3_4",null,"L1_4_1_4",null,null,null,null,null,null,null,"1.4.1.4","консультационные услуги","тыс.руб.",{"$f":"SUMIFS(Административные!O$15:O$54,Административные!$A$15:$A$54,$A173,Административные!$B$15:$B$54,$B173)","v":0},{"$f":"SUMIFS(Административные!P$15:P$54,Административные!$A$15:$A$54,$A173,Административные!$B$15:$B$54,$B173)","v":0},{"$f":"SUMIFS(Административные!Q$15:Q$54,Административные!$A$15:$A$54,$A173,Административные!$B$15:$B$54,$B173)","v":0},0,{"$f":"SUMIFS(Административные!R$15:R$54,Административные!$A$15:$A$54,$A173,Административные!$B$15:$B$54,$B173)","v":0},{"$f":"SUMIFS(Административные!S$15:S$54,Административные!$A$15:$A$54,$A173,Административные!$B$15:$B$54,$B173)","v":0},null,null,null,null,null,null,null,null,null,{"$f":"SUMIFS(Административные!T$15:T$54,Административные!$A$15:$A$54,$A173,Административные!$B$15:$B$54,$B173)","v":0},null,null,null,null,null,null,null,null,null,0]
["2","p3_5",null,"L1_4_1_5",null,null,null,null,null,null,null,"1.4.1.5","услуги по вневедомственной охране объектов и территорий","тыс.руб.",{"$f":"SUMIFS(Административные!O$15:O$54,Административные!$A$15:$A$54,$A174,Административные!$B$15:$B$54,$B174)","v":0},{"$f":"SUMIFS(Административные!P$15:P$54,Административные!$A$15:$A$54,$A174,Административные!$B$15:$B$54,$B174)","v":0},{"$f":"SUMIFS(Административные!Q$15:Q$54,Административные!$A$15:$A$54,$A174,Административные!$B$15:$B$54,$B174)","v":0},0,{"$f":"SUMIFS(Административные!R$15:R$54,Административные!$A$15:$A$54,$A174,Административные!$B$15:$B$54,$B174)","v":0},{"$f":"SUMIFS(Административные!S$15:S$54,Административные!$A$15:$A$54,$A174,Административные!$B$15:$B$54,$B174)","v":0},null,null,null,null,null,null,null,null,null,{"$f":"SUMIFS(Административные!T$15:T$54,Административные!$A$15:$A$54,$A174,Административные!$B$15:$B$54,$B174)","v":0},null,null,null,null,null,null,null,null,null,0]
["2","p3_6",null,"L1_4_1_6",null,null,null,null,null,null,null,"1.4.1.6","информационные услуги","тыс.руб.",{"$f":"SUMIFS(Административные!O$15:O$54,Административные!$A$15:$A$54,$A175,Административные!$B$15:$B$54,$B175)","v":0},{"$f":"SUMIFS(Административные!P$15:P$54,Административные!$A$15:$A$54,$A175,Административные!$B$15:$B$54,$B175)","v":0},{"$f":"SUMIFS(Административные!Q$15:Q$54,Административные!$A$15:$A$54,$A175,Административные!$B$15:$B$54,$B175)","v":0},0,{"$f":"SUMIFS(Административные!R$15:R$54,Административные!$A$15:$A$54,$A175,Административные!$B$15:$B$54,$B175)","v":0},{"$f":"SUMIFS(Административные!S$15:S$54,Административные!$A$15:$A$54,$A175,Административные!$B$15:$B$54,$B175)","v":211.6},null,null,null,null,null,null,null,null,null,{"$f":"SUMIFS(Административные!T$15:T$54,Административные!$A$15:$A$54,$A175,Административные!$B$15:$B$54,$B175)","v":0},null,null,null,null,null,null,null,null,null,0]
["2","p3_7",null,"L1_4_1_7",null,null,null,null,null,null,null,"1.4.1.7","иные работы и (или) услуги","тыс.руб.",{"$f":"SUMIFS(Административные!O$15:O$54,Административные!$A$15:$A$54,$A176,Административные!$B$15:$B$54,$B176)","v":0},{"$f":"SUMIFS(Административные!P$15:P$54,Административные!$A$15:$A$54,$A176,Административные!$B$15:$B$54,$B176)","v":0},{"$f":"SUMIFS(Административные!Q$15:Q$54,Административные!$A$15:$A$54,$A176,Административные!$B$15:$B$54,$B176)","v":0},0,{"$f":"SUMIFS(Административные!R$15:R$54,Административные!$A$15:$A$54,$A176,Административные!$B$15:$B$54,$B176)","v":0},{"$f":"SUMIFS(Административные!S$15:S$54,Административные!$A$15:$A$54,$A176,Административные!$B$15:$B$54,$B176)","v":0},null,null,null,null,null,null,null,null,null,{"$f":"SUMIFS(Административные!T$15:T$54,Административные!$A$15:$A$54,$A176,Административные!$B$15:$B$54,$B176)","v":0},null,null,null,null,null,null,null,null,null,{"$f":"IF(S176=0,0,(AD176-S176)/S176*100)","v":0}]
["2",null,null,"L1_4_2",null,null,null,null,null,null,null,"1.4.2","расходы на оплату труда и страховые взносы на обязательное социальное страхование административно-управленческого персонала, в том числе:","тыс.руб.",{"$f":"O178+O179","v":411.18825752463584},{"$f":"P178+P179","v":740.81196},{"$f":"Q178+Q179","v":6217.7661000000007},5476.9541400000007,{"$f":"S178+S179","v":474.32906085222191},{"$f":"T178+T179","v":1277.8479},null,null,null,null,null,null,null,null,null,{"$f":"AD178+AD179","v":1277.8479},null,null,null,null,null,null,null,null,null,{"$f":"IF(S177=0,0,(AD177-S177)/S177*100)","v":169.40114057192795},null,null,null,null,null,null,null,null,null,null," 1) П. 17 \"Методических указаний\" (приказ ФСТ от 27.12.2013 № 1746-э).  2) Приказ Министерства строительства и ЖКХ Российской Федерации от 23.03.2020 № 154/пр \"Об утверждении Типовых отраслевых норм численности работников водопроводно-канализационного хозяйства\". "]
["2","АУП",null,"L1_4_2_1",null,null,null,null,null,null,null,"1.4.2.1","расходы на оплату труда административно-управленческого персонала","тыс.руб.",{"$f":"SUMIFS(ФОТ!O$15:O$65,ФОТ!$A$15:$A$65,$A178,ФОТ!$B$15:$B$65,$B178)","v":315.81279379772337},{"$f":"SUMIFS(ФОТ!P$15:P$65,ФОТ!$A$15:$A$65,$A178,ФОТ!$B$15:$B$65,$B178)","v":568.98},{"$f":"SUMIFS(ФОТ!Q$15:Q$65,ФОТ!$A$15:$A$65,$A178,ФОТ!$B$15:$B$65,$B178)","v":4775.55},4206.57,{"$f":"SUMIFS(ФОТ!R$15:R$65,ФОТ!$A$15:$A$65,$A178,ФОТ!$B$15:$B$65,$B178)","v":364.30803444871117},{"$f":"SUMIFS(ФОТ!S$15:S$65,ФОТ!$A$15:$A$65,$A178,ФОТ!$B$15:$B$65,$B178)","v":981.45},null,null,null,null,null,null,null,null,null,{"$f":"SUMIFS(ФОТ!T$15:T$65,ФОТ!$A$15:$A$65,$A178,ФОТ!$B$15:$B$65,$B178)","v":981.45},null,null,null,null,null,null,null,null,null,{"$f":"IF(S178=0,0,(AD178-S178)/S178*100)","v":169.40114057192795},null,null,null,null,null,null,null,null,null,null,"1) \"Федеральное отраслевое тарифное соглашение в жилищно-коммунальном хозяйстве Российской Федерации на 2023 - 2025 годы\" (утв. Общероссийским отраслевым объединением работодателей сферы жизнеобеспечения, Общероссийским профсоюзом работников жизнеобеспечения 12.05.2022) (ред. от 05.12.2022). 2)  \"Кузбасское региональное соглашение между Кемеровским областным союзом организаций профсоюзов \"Федерация профсоюзных организаций Кузбасса\", Правительством Кемеровской области - Кузбасса и работодателями Кемеровской области - Кузбасса на 2022 - 2024 годы\" (Подписано 07.10.2021). ","См. Лист \"ФОТ\"."]
["2","СОЦ_АУП",null,"L1_4_2_2",null,null,null,null,null,null,null,"1.4.2.2","страховые взносы на обязательное социальное страхование административно-управленческого персонала","тыс.руб.",{"$f":"SUMIFS(ФОТ!O$15:O$65,ФОТ!$A$15:$A$65,$A179,ФОТ!$B$15:$B$65,$B179)","v":95.375463726912457},{"$f":"SUMIFS(ФОТ!P$15:P$65,ФОТ!$A$15:$A$65,$A179,ФОТ!$B$15:$B$65,$B179)","v":171.83196000000001},{"$f":"SUMIFS(ФОТ!Q$15:Q$65,ФОТ!$A$15:$A$65,$A179,ФОТ!$B$15:$B$65,$B179)","v":1442.2161000000001},1270.3841400000001,{"$f":"SUMIFS(ФОТ!R$15:R$65,ФОТ!$A$15:$A$65,$A179,ФОТ!$B$15:$B$65,$B179)","v":110.02102640351077},{"$f":"SUMIFS(ФОТ!S$15:S$65,ФОТ!$A$15:$A$65,$A179,ФОТ!$B$15:$B$65,$B179)","v":296.39789999999999},null,null,null,null,null,null,null,null,null,{"$f":"SUMIFS(ФОТ!T$15:T$65,ФОТ!$A$15:$A$65,$A179,ФОТ!$B$15:$B$65,$B179)","v":296.39789999999999},null,null,null,null,null,null,null,null,null,{"$f":"IF(S179=0,0,(AD179-S179)/S179*100)","v":169.40114057192793},null,null,null,null,null,null,null,null,null,null,"1)  Глава 34 \"СТРАХОВЫЕ ВЗНОСЫ\" \"Налогового кодекса Российской Федерации (Часть вторая)\" (в ред. от 10.07.2023 № 318-ФЗ); 2) Федеральные законы  от 22.12.2005 № 179-ФЗ,  от 31.12.2017 № 484-ФЗ;   от 24.07.1998 № 125-ФЗ); 3) \"Уведомление о страховом тарифе на обязательное социальное страхование от несчастных случаев на производстве и профессиональных заболеваний\" от 22.03.2022.","Рассчитано: 1) отчисления  на обязательное пенсионное страхование – 22,0%; на обязательное социальное страхование на случай временной нетрудоспособности и в связи с материнством - 2,9%;  на обязательное медицинское страхование - 5,1%; 2) на обязаельное социальное страхование от несчастных случаев на производстве и профессиональных заболеваний – 0,2% в соответствии с  федеральным законом от 24.07.1998 № 125-ФЗ, а также с представленной формой отчетности  \"4-ФСС\" за 2022 год .  "]
["2","p4",null,"L1_4_3",null,null,null,null,null,null,null,"1.4.3","арендная плата, лизинговые платежи, не связанные с арендой (лизингом) централизованных систем водоснабжения и (или) водоотведения либо объектов, входящих в состав таких систем","тыс.руб.",{"$f":"SUMIFS(Административные!O$15:O$54,Административные!$A$15:$A$54,$A180,Административные!$B$15:$B$54,$B180)","v":0},{"$f":"SUMIFS(Административные!P$15:P$54,Административные!$A$15:$A$54,$A180,Административные!$B$15:$B$54,$B180)","v":0},{"$f":"SUMIFS(Административные!Q$15:Q$54,Административные!$A$15:$A$54,$A180,Административные!$B$15:$B$54,$B180)","v":0},0,{"$f":"SUMIFS(Административные!R$15:R$54,Административные!$A$15:$A$54,$A180,Административные!$B$15:$B$54,$B180)","v":0},{"$f":"SUMIFS(Административные!S$15:S$54,Административные!$A$15:$A$54,$A180,Административные!$B$15:$B$54,$B180)","v":0},null,null,null,null,null,null,null,null,null,{"$f":"SUMIFS(Административные!T$15:T$54,Административные!$A$15:$A$54,$A180,Административные!$B$15:$B$54,$B180)","v":0},null,null,null,null,null,null,null,null,null,0]
["2","p5",null,"L1_4_4",null,null,null,null,null,null,null,"1.4.4","служебные командировки","тыс.руб.",{"$f":"SUMIFS(Административные!O$15:O$54,Административные!$A$15:$A$54,$A181,Административные!$B$15:$B$54,$B181)","v":0},{"$f":"SUMIFS(Административные!P$15:P$54,Административные!$A$15:$A$54,$A181,Административные!$B$15:$B$54,$B181)","v":0},{"$f":"SUMIFS(Административные!Q$15:Q$54,Административные!$A$15:$A$54,$A181,Административные!$B$15:$B$54,$B181)","v":0},0,{"$f":"SUMIFS(Административные!R$15:R$54,Административные!$A$15:$A$54,$A181,Административные!$B$15:$B$54,$B181)","v":0},{"$f":"SUMIFS(Административные!S$15:S$54,Административные!$A$15:$A$54,$A181,Административные!$B$15:$B$54,$B181)","v":4.6500000000000004},null,null,null,null,null,null,null,null,null,{"$f":"SUMIFS(Административные!T$15:T$54,Административные!$A$15:$A$54,$A181,Административные!$B$15:$B$54,$B181)","v":0},null,null,null,null,null,null,null,null,null,0]
["2","p6",null,"L1_4_5",null,null,null,null,null,null,null,"1.4.5","обучение персонала","тыс.руб.",{"$f":"SUMIFS(Административные!O$15:O$54,Административные!$A$15:$A$54,$A182,Административные!$B$15:$B$54,$B182)","v":0},{"$f":"SUMIFS(Административные!P$15:P$54,Административные!$A$15:$A$54,$A182,Административные!$B$15:$B$54,$B182)","v":9.16},{"$f":"SUMIFS(Административные!Q$15:Q$54,Административные!$A$15:$A$54,$A182,Административные!$B$15:$B$54,$B182)","v":0},-9.16,{"$f":"SUMIFS(Административные!R$15:R$54,Административные!$A$15:$A$54,$A182,Административные!$B$15:$B$54,$B182)","v":0},{"$f":"SUMIFS(Административные!S$15:S$54,Административные!$A$15:$A$54,$A182,Административные!$B$15:$B$54,$B182)","v":18.45},null,null,null,null,null,null,null,null,null,{"$f":"SUMIFS(Административные!T$15:T$54,Административные!$A$15:$A$54,$A182,Административные!$B$15:$B$54,$B182)","v":0},null,null,null,null,null,null,null,null,null,0]
["2","p7",null,"L1_4_6",null,null,null,null,null,null,null,"1.4.6","страхование производственных объектов","тыс.руб.",{"$f":"SUMIFS(Административные!O$15:O$54,Административные!$A$15:$A$54,$A183,Административные!$B$15:$B$54,$B183)","v":0},{"$f":"SUMIFS(Административные!P$15:P$54,Административные!$A$15:$A$54,$A183,Административные!$B$15:$B$54,$B183)","v":5.5},{"$f":"SUMIFS(Административные!Q$15:Q$54,Административные!$A$15:$A$54,$A183,Административные!$B$15:$B$54,$B183)","v":0},-5.5,{"$f":"SUMIFS(Административные!R$15:R$54,Административные!$A$15:$A$54,$A183,Административные!$B$15:$B$54,$B183)","v":0},{"$f":"SUMIFS(Административные!S$15:S$54,Административные!$A$15:$A$54,$A183,Административные!$B$15:$B$54,$B183)","v":9.6},null,null,null,null,null,null,null,null,null,{"$f":"SUMIFS(Административные!T$15:T$54,Административные!$A$15:$A$54,$A183,Административные!$B$15:$B$54,$B183)","v":0},null,null,null,null,null,null,null,null,null,0]
["2","p8",null,"L1_4_7",null,null,null,null,null,null,null,"1.4.7","прочие административные расходы","тыс.руб.",{"$f":"SUMIFS(Административные!O$15:O$54,Административные!$A$15:$A$54,$A184,Административные!$B$15:$B$54,$B184)","v":315.06219948079166},{"$f":"SUMIFS(Административные!P$15:P$54,Административные!$A$15:$A$54,$A184,Административные!$B$15:$B$54,$B184)","v":72.59},{"$f":"SUMIFS(Административные!Q$15:Q$54,Административные!$A$15:$A$54,$A184,Административные!$B$15:$B$54,$B184)","v":0},-72.59,{"$f":"SUMIFS(Административные!R$15:R$54,Административные!$A$15:$A$54,$A184,Административные!$B$15:$B$54,$B184)","v":363.44218117854592},{"$f":"SUMIFS(Административные!S$15:S$54,Административные!$A$15:$A$54,$A184,Административные!$B$15:$B$54,$B184)","v":158.36000000000001},null,null,null,null,null,null,null,null,null,{"$f":"SUMIFS(Административные!T$15:T$54,Административные!$A$15:$A$54,$A184,Административные!$B$15:$B$54,$B184)","v":375.20355854259202},null,null,null,null,null,null,null,null,null,3.236106861869223]
["2","p8_1",null,"L1_4_7_1",null,null,null,null,null,null,null,"1.4.7.1","расходы на амортизацию непроизводственных активов","тыс.руб.",{"$f":"SUMIFS(Административные!O$15:O$54,Административные!$A$15:$A$54,$A185,Административные!$B$15:$B$54,$B185)","v":0},{"$f":"SUMIFS(Административные!P$15:P$54,Административные!$A$15:$A$54,$A185,Административные!$B$15:$B$54,$B185)","v":0},{"$f":"SUMIFS(Административные!Q$15:Q$54,Административные!$A$15:$A$54,$A185,Административные!$B$15:$B$54,$B185)","v":0},0,{"$f":"SUMIFS(Административные!R$15:R$54,Административные!$A$15:$A$54,$A185,Административные!$B$15:$B$54,$B185)","v":0},{"$f":"SUMIFS(Административные!S$15:S$54,Административные!$A$15:$A$54,$A185,Административные!$B$15:$B$54,$B185)","v":9.4600000000000009},null,null,null,null,null,null,null,null,null,{"$f":"SUMIFS(Административные!T$15:T$54,Административные!$A$15:$A$54,$A185,Административные!$B$15:$B$54,$B185)","v":0},null,null,null,null,null,null,null,null,null,0]
["2","p8_2",null,"L1_4_7_2",null,null,null,null,null,null,null,"1.4.7.2","расходы по охране объектов и территорий","тыс.руб.",{"$f":"SUMIFS(Административные!O$15:O$54,Административные!$A$15:$A$54,$A186,Административные!$B$15:$B$54,$B186)","v":0},{"$f":"SUMIFS(Административные!P$15:P$54,Административные!$A$15:$A$54,$A186,Административные!$B$15:$B$54,$B186)","v":0},{"$f":"SUMIFS(Административные!Q$15:Q$54,Административные!$A$15:$A$54,$A186,Административные!$B$15:$B$54,$B186)","v":0},0,{"$f":"SUMIFS(Административные!R$15:R$54,Административные!$A$15:$A$54,$A186,Административные!$B$15:$B$54,$B186)","v":0},{"$f":"SUMIFS(Административные!S$15:S$54,Административные!$A$15:$A$54,$A186,Административные!$B$15:$B$54,$B186)","v":0},null,null,null,null,null,null,null,null,null,{"$f":"SUMIFS(Административные!T$15:T$54,Административные!$A$15:$A$54,$A186,Административные!$B$15:$B$54,$B186)","v":0},null,null,null,null,null,null,null,null,null,0]
["2","p8_3",null,"L1_4_7_3",null,null,null,null,null,null,null,"1.4.7.3","иные расходы","тыс.руб.",{"$f":"SUMIFS(Административные!O$15:O$54,Административные!$A$15:$A$54,$A187,Административные!$B$15:$B$54,$B187)","v":315.06219948079166},{"$f":"SUMIFS(Административные!P$15:P$54,Административные!$A$15:$A$54,$A187,Административные!$B$15:$B$54,$B187)","v":72.59},{"$f":"SUMIFS(Административные!Q$15:Q$54,Административные!$A$15:$A$54,$A187,Административные!$B$15:$B$54,$B187)","v":0},-72.59,{"$f":"SUMIFS(Административные!R$15:R$54,Административные!$A$15:$A$54,$A187,Административные!$B$15:$B$54,$B187)","v":363.44218117854592},{"$f":"SUMIFS(Административные!S$15:S$54,Административные!$A$15:$A$54,$A187,Административные!$B$15:$B$54,$B187)","v":148.9},null,null,null,null,null,null,null,null,null,{"$f":"SUMIFS(Административные!T$15:T$54,Административные!$A$15:$A$54,$A187,Административные!$B$15:$B$54,$B187)","v":375.20355854259202},null,null,null,null,null,null,null,null,null,{"$f":"IF(S187=0,0,(AD187-S187)/S187*100)","v":3.236106861869223},null,null,null,null,null,null,null,null,null,null,null,"См. Лист \"Административные\"."]
["2",null,null,"L1_5",null,null,null,null,null,null,null,"1.5","Сбытовые расходы гарантирующих организаций (за исключением указанных в п.2.6)","тыс.руб.",{"$f":"SUMIFS('Сбытовые расходы ГО'!O$15:O$40,'Сбытовые расходы ГО'!$A$15:$A$40,$A188,'Сбытовые расходы ГО'!$B$15:$B$40,\"L0\")-SUMIFS('Сбытовые расходы ГО'!O$15:O$40,'Сбытовые расходы ГО'!$A$15:$A$40,$A188,'Сбытовые расходы ГО'!$B$15:$B$40,\"L1\")","v":0},{"$f":"SUMIFS('Сбытовые расходы ГО'!P$15:P$40,'Сбытовые расходы ГО'!$A$15:$A$40,$A188,'Сбытовые расходы ГО'!$B$15:$B$40,\"L0\")-SUMIFS('Сбытовые расходы ГО'!P$15:P$40,'Сбытовые расходы ГО'!$A$15:$A$40,$A188,'Сбытовые расходы ГО'!$B$15:$B$40,\"L1\")","v":0},{"$f":"SUMIFS('Сбытовые расходы ГО'!Q$15:Q$40,'Сбытовые расходы ГО'!$A$15:$A$40,$A188,'Сбытовые расходы ГО'!$B$15:$B$40,\"L0\")-SUMIFS('Сбытовые расходы ГО'!Q$15:Q$40,'Сбытовые расходы ГО'!$A$15:$A$40,$A188,'Сбытовые расходы ГО'!$B$15:$B$40,\"L1\")","v":0},0,{"$f":"SUMIFS('Сбытовые расходы ГО'!R$15:R$40,'Сбытовые расходы ГО'!$A$15:$A$40,$A188,'Сбытовые расходы ГО'!$B$15:$B$40,\"L0\")-SUMIFS('Сбытовые расходы ГО'!R$15:R$40,'Сбытовые расходы ГО'!$A$15:$A$40,$A188,'Сбытовые расходы ГО'!$B$15:$B$40,\"L1\")","v":0},{"$f":"SUMIFS('Сбытовые расходы ГО'!S$15:S$40,'Сбытовые расходы ГО'!$A$15:$A$40,$A188,'Сбытовые расходы ГО'!$B$15:$B$40,\"L0\")-SUMIFS('Сбытовые расходы ГО'!S$15:S$40,'Сбытовые расходы ГО'!$A$15:$A$40,$A188,'Сбытовые расходы ГО'!$B$15:$B$40,\"L1\")","v":0},null,null,null,null,null,null,null,null,null,{"$f":"SUMIFS('Сбытовые расходы ГО'!T$15:T$40,'Сбытовые расходы ГО'!$A$15:$A$40,$A188,'Сбытовые расходы ГО'!$B$15:$B$40,\"L0\")-SUMIFS('Сбытовые расходы ГО'!T$15:T$40,'Сбытовые расходы ГО'!$A$15:$A$40,$A188,'Сбытовые расходы ГО'!$B$15:$B$40,\"L1\")","v":0},null,null,null,null,null,null,null,null,null,{"$f":"IF(S188=0,0,(AD188-S188)/S188*100)","v":0}]
["2",null,null,"L1_6",null,null,null,null,null,null,null,"1.6","Реагенты до 2020 года","тыс.руб.",385.16585491472199,null,626.96801000000005,626.96801000000005,444.31073818565301,null,null,null,null,null,null,null,null,null,null,null,null,null,null,null,null,null,null,null,null,-100,null,null,null,null,null,null,null,null,null,null,null,"Фактические расходы за 2022 год  не отражены организацией ОШИБОЧНО (см. Пояснения от 28.11.2023 № 534). Факт в размере  626,97 тыс. руб. подтвержден документально."]
["2",null,null,"L1_7",null,null,null,null,null,null,null,"1.7","Операционные расходы по концессионным соглашениям","тыс.руб.",{"$f":"SUM(O191:O192)","v":0},{"$f":"SUM(P191:P192)","v":0},{"$f":"SUM(Q191:Q192)","v":0},0,{"$f":"SUM(S191:S192)","v":0},{"$f":"SUM(T191:T192)","v":0},null,null,null,null,null,null,null,null,null,{"$f":"SUM(AD191:AD192)","v":0},null,null,null,null,null,null,null,null,null,{"$f":"IF(S190=0,0,(AD190-S190)/S190*100)","v":0}]
["2",null,null,null,null,null,null,null,null,null,null,"1.7.0"]
[{"$f":"A191","v":"2"},null,null,{"$f":"A192&\"pIns1\"","v":"2pIns1"},null,null,null,null,null,null,null,null,"Добавить"]
["2",null,null,"L2",null,null,null,null,null,null,null,"2","Неподконтрольные расходы","тыс.руб.",{"$f":"O194+O205+O206++O216+O217+O218+O220+O221+O222+O223+O226","v":2944.1544100000001},{"$f":"P194+P205+P206++P216+P217+P218+P220+P221+P222+P223+P226","v":3358},{"$f":"Q194+Q205+Q206++Q216+Q217+Q218+Q220+Q221+Q222+Q223+Q226","v":2953.2374100000002},{"$f":"Q193-P193","v":-404.76258999999982},{"$f":"S194+S205+S206++S216+S217+S218+S220+S221+S222+S223+S226","v":2909.7400000000002},4423.7201999999997,4500.9761413999995,4585.9496807999994,4678.8553790999995,4777.9127110999998,0,0,0,0,0,3447.5220230201257,3421.3310439869711,3394.9328377464499,3369.5514512563072,3345.1920613065604,0,0,0,0,0,{"$f":"IF(S193=0,0,(AD193-S193)/S193*100)","v":18.48213321534314},{"$f":"IF(AD193=0,0,(AE193-AD193)/AD193*100)","v":-0.7597044734818158},-0.77157708216854171,-0.747625585046647,-0.72292678423606427,-100,0,0,0,0,null,"П. 49 Методических указаний ФСТ № 1746-э."]
["2",null,null,"L2_1",null,null,null,null,null,null,null,"2.1","Расходы на оплату товаров (услуг, работ), приобретаемых у других организаций","тыс.руб.",{"$f":"SUM(O195:O204)","v":0},{"$f":"SUM(P195:P204)","v":0},{"$f":"SUM(Q195:Q204)","v":0},0,{"$f":"SUM(S195:S204)","v":0},0,0,0,0,0,0,0,0,0,0,0,0,0,0,0,0,0,0,0,0,0,0,0,0,0,0,0,0,0,0]
["2","Затраты на тепловую энергию",null,"L2_1_1",null,null,null,null,null,null,null,"2.1.1","расходы на тепловую энергию","тыс.руб.",{"$f":"SUMIFS(Покупка!O$15:O$54,Покупка!$A$15:$A$54,$A195,Покупка!$M$15:$M$54,$B195)","v":0},{"$f":"SUMIFS(Покупка!P$15:P$54,Покупка!$A$15:$A$54,$A195,Покупка!$M$15:$M$54,$B195)","v":0},{"$f":"SUMIFS(Покупка!Q$15:Q$54,Покупка!$A$15:$A$54,$A195,Покупка!$M$15:$M$54,$B195)","v":0},0,{"$f":"SUMIFS(Покупка!R$15:R$54,Покупка!$A$15:$A$54,$A195,Покупка!$M$15:$M$54,$B195)","v":0},{"$f":"SUMIFS(Покупка!S$15:S$54,Покупка!$A$15:$A$54,$A195,Покупка!$M$15:$M$54,$B195)","v":0},{"$f":"SUMIFS(Покупка!T$15:T$54,Покупка!$A$15:$A$54,$A195,Покупка!$M$15:$M$54,$B195)","v":0},{"$f":"SUMIFS(Покупка!U$15:U$54,Покупка!$A$15:$A$54,$A195,Покупка!$M$15:$M$54,$B195)","v":0},{"$f":"SUMIFS(Покупка!V$15:V$54,Покупка!$A$15:$A$54,$A195,Покупка!$M$15:$M$54,$B195)","v":0},{"$f":"SUMIFS(Покупка!W$15:W$54,Покупка!$A$15:$A$54,$A195,Покупка!$M$15:$M$54,$B195)","v":0},{"$f":"SUMIFS(Покупка!X$15:X$54,Покупка!$A$15:$A$54,$A195,Покупка!$M$15:$M$54,$B195)","v":0},{"$f":"SUMIFS(Покупка!Y$15:Y$54,Покупка!$A$15:$A$54,$A195,Покупка!$M$15:$M$54,$B195)","v":0},{"$f":"SUMIFS(Покупка!Z$15:Z$54,Покупка!$A$15:$A$54,$A195,Покупка!$M$15:$M$54,$B195)","v":0},{"$f":"SUMIFS(Покупка!AA$15:AA$54,Покупка!$A$15:$A$54,$A195,Покупка!$M$15:$M$54,$B195)","v":0},{"$f":"SUMIFS(Покупка!AB$15:AB$54,Покупка!$A$15:$A$54,$A195,Покупка!$M$15:$M$54,$B195)","v":0},{"$f":"SUMIFS(Покупка!AC$15:AC$54,Покупка!$A$15:$A$54,$A195,Покупка!$M$15:$M$54,$B195)","v":0},{"$f":"SUMIFS(Покупка!AD$15:AD$54,Покупка!$A$15:$A$54,$A195,Покупка!$M$15:$M$54,$B195)","v":0},{"$f":"SUMIFS(Покупка!AE$15:AE$54,Покупка!$A$15:$A$54,$A195,Покупка!$M$15:$M$54,$B195)","v":0},{"$f":"SUMIFS(Покупка!AF$15:AF$54,Покупка!$A$15:$A$54,$A195,Покупка!$M$15:$M$54,$B195)","v":0},{"$f":"SUMIFS(Покупка!AG$15:AG$54,Покупка!$A$15:$A$54,$A195,Покупка!$M$15:$M$54,$B195)","v":0},{"$f":"SUMIFS(Покупка!AH$15:AH$54,Покупка!$A$15:$A$54,$A195,Покупка!$M$15:$M$54,$B195)","v":0},{"$f":"SUMIFS(Покупка!AI$15:AI$54,Покупка!$A$15:$A$54,$A195,Покупка!$M$15:$M$54,$B195)","v":0},{"$f":"SUMIFS(Покупка!AJ$15:AJ$54,Покупка!$A$15:$A$54,$A195,Покупка!$M$15:$M$54,$B195)","v":0},{"$f":"SUMIFS(Покупка!AK$15:AK$54,Покупка!$A$15:$A$54,$A195,Покупка!$M$15:$M$54,$B195)","v":0},{"$f":"SUMIFS(Покупка!AL$15:AL$54,Покупка!$A$15:$A$54,$A195,Покупка!$M$15:$M$54,$B195)","v":0},0,0,0,0,0,0,0,0,0,0]
["2","Затраты на теплоноситель",null,"L2_1_2",null,null,null,null,null,null,null,"2.1.2","расходы на теплоноситель","тыс.руб.",{"$f":"SUMIFS(Покупка!O$15:O$54,Покупка!$A$15:$A$54,$A196,Покупка!$M$15:$M$54,$B196)","v":0},{"$f":"SUMIFS(Покупка!P$15:P$54,Покупка!$A$15:$A$54,$A196,Покупка!$M$15:$M$54,$B196)","v":0},{"$f":"SUMIFS(Покупка!Q$15:Q$54,Покупка!$A$15:$A$54,$A196,Покупка!$M$15:$M$54,$B196)","v":0},0,{"$f":"SUMIFS(Покупка!R$15:R$54,Покупка!$A$15:$A$54,$A196,Покупка!$M$15:$M$54,$B196)","v":0},{"$f":"SUMIFS(Покупка!S$15:S$54,Покупка!$A$15:$A$54,$A196,Покупка!$M$15:$M$54,$B196)","v":0},{"$f":"SUMIFS(Покупка!T$15:T$54,Покупка!$A$15:$A$54,$A196,Покупка!$M$15:$M$54,$B196)","v":0},{"$f":"SUMIFS(Покупка!U$15:U$54,Покупка!$A$15:$A$54,$A196,Покупка!$M$15:$M$54,$B196)","v":0},{"$f":"SUMIFS(Покупка!V$15:V$54,Покупка!$A$15:$A$54,$A196,Покупка!$M$15:$M$54,$B196)","v":0},{"$f":"SUMIFS(Покупка!W$15:W$54,Покупка!$A$15:$A$54,$A196,Покупка!$M$15:$M$54,$B196)","v":0},{"$f":"SUMIFS(Покупка!X$15:X$54,Покупка!$A$15:$A$54,$A196,Покупка!$M$15:$M$54,$B196)","v":0},{"$f":"SUMIFS(Покупка!Y$15:Y$54,Покупка!$A$15:$A$54,$A196,Покупка!$M$15:$M$54,$B196)","v":0},{"$f":"SUMIFS(Покупка!Z$15:Z$54,Покупка!$A$15:$A$54,$A196,Покупка!$M$15:$M$54,$B196)","v":0},{"$f":"SUMIFS(Покупка!AA$15:AA$54,Покупка!$A$15:$A$54,$A196,Покупка!$M$15:$M$54,$B196)","v":0},{"$f":"SUMIFS(Покупка!AB$15:AB$54,Покупка!$A$15:$A$54,$A196,Покупка!$M$15:$M$54,$B196)","v":0},{"$f":"SUMIFS(Покупка!AC$15:AC$54,Покупка!$A$15:$A$54,$A196,Покупка!$M$15:$M$54,$B196)","v":0},{"$f":"SUMIFS(Покупка!AD$15:AD$54,Покупка!$A$15:$A$54,$A196,Покупка!$M$15:$M$54,$B196)","v":0},{"$f":"SUMIFS(Покупка!AE$15:AE$54,Покупка!$A$15:$A$54,$A196,Покупка!$M$15:$M$54,$B196)","v":0},{"$f":"SUMIFS(Покупка!AF$15:AF$54,Покупка!$A$15:$A$54,$A196,Покупка!$M$15:$M$54,$B196)","v":0},{"$f":"SUMIFS(Покупка!AG$15:AG$54,Покупка!$A$15:$A$54,$A196,Покупка!$M$15:$M$54,$B196)","v":0},{"$f":"SUMIFS(Покупка!AH$15:AH$54,Покупка!$A$15:$A$54,$A196,Покупка!$M$15:$M$54,$B196)","v":0},{"$f":"SUMIFS(Покупка!AI$15:AI$54,Покупка!$A$15:$A$54,$A196,Покупка!$M$15:$M$54,$B196)","v":0},{"$f":"SUMIFS(Покупка!AJ$15:AJ$54,Покупка!$A$15:$A$54,$A196,Покупка!$M$15:$M$54,$B196)","v":0},{"$f":"SUMIFS(Покупка!AK$15:AK$54,Покупка!$A$15:$A$54,$A196,Покупка!$M$15:$M$54,$B196)","v":0},{"$f":"SUMIFS(Покупка!AL$15:AL$54,Покупка!$A$15:$A$54,$A196,Покупка!$M$15:$M$54,$B196)","v":0},0,0,0,0,0,0,0,0,0,0]
["2","Затраты на транспортировку холодной воды",null,"L2_1_3",null,null,null,null,null,null,null,"2.1.3","расходы на транспортировку воды","тыс.руб.",{"$f":"SUMIFS(Покупка!O$15:O$54,Покупка!$A$15:$A$54,$A197,Покупка!$M$15:$M$54,$B197)","v":0},{"$f":"SUMIFS(Покупка!P$15:P$54,Покупка!$A$15:$A$54,$A197,Покупка!$M$15:$M$54,$B197)","v":0},{"$f":"SUMIFS(Покупка!Q$15:Q$54,Покупка!$A$15:$A$54,$A197,Покупка!$M$15:$M$54,$B197)","v":0},0,{"$f":"SUMIFS(Покупка!R$15:R$54,Покупка!$A$15:$A$54,$A197,Покупка!$M$15:$M$54,$B197)","v":0},{"$f":"SUMIFS(Покупка!S$15:S$54,Покупка!$A$15:$A$54,$A197,Покупка!$M$15:$M$54,$B197)","v":0},{"$f":"SUMIFS(Покупка!T$15:T$54,Покупка!$A$15:$A$54,$A197,Покупка!$M$15:$M$54,$B197)","v":0},{"$f":"SUMIFS(Покупка!U$15:U$54,Покупка!$A$15:$A$54,$A197,Покупка!$M$15:$M$54,$B197)","v":0},{"$f":"SUMIFS(Покупка!V$15:V$54,Покупка!$A$15:$A$54,$A197,Покупка!$M$15:$M$54,$B197)","v":0},{"$f":"SUMIFS(Покупка!W$15:W$54,Покупка!$A$15:$A$54,$A197,Покупка!$M$15:$M$54,$B197)","v":0},{"$f":"SUMIFS(Покупка!X$15:X$54,Покупка!$A$15:$A$54,$A197,Покупка!$M$15:$M$54,$B197)","v":0},{"$f":"SUMIFS(Покупка!Y$15:Y$54,Покупка!$A$15:$A$54,$A197,Покупка!$M$15:$M$54,$B197)","v":0},{"$f":"SUMIFS(Покупка!Z$15:Z$54,Покупка!$A$15:$A$54,$A197,Покупка!$M$15:$M$54,$B197)","v":0},{"$f":"SUMIFS(Покупка!AA$15:AA$54,Покупка!$A$15:$A$54,$A197,Покупка!$M$15:$M$54,$B197)","v":0},{"$f":"SUMIFS(Покупка!AB$15:AB$54,Покупка!$A$15:$A$54,$A197,Покупка!$M$15:$M$54,$B197)","v":0},{"$f":"SUMIFS(Покупка!AC$15:AC$54,Покупка!$A$15:$A$54,$A197,Покупка!$M$15:$M$54,$B197)","v":0},{"$f":"SUMIFS(Покупка!AD$15:AD$54,Покупка!$A$15:$A$54,$A197,Покупка!$M$15:$M$54,$B197)","v":0},{"$f":"SUMIFS(Покупка!AE$15:AE$54,Покупка!$A$15:$A$54,$A197,Покупка!$M$15:$M$54,$B197)","v":0},{"$f":"SUMIFS(Покупка!AF$15:AF$54,Покупка!$A$15:$A$54,$A197,Покупка!$M$15:$M$54,$B197)","v":0},{"$f":"SUMIFS(Покупка!AG$15:AG$54,Покупка!$A$15:$A$54,$A197,Покупка!$M$15:$M$54,$B197)","v":0},{"$f":"SUMIFS(Покупка!AH$15:AH$54,Покупка!$A$15:$A$54,$A197,Покупка!$M$15:$M$54,$B197)","v":0},{"$f":"SUMIFS(Покупка!AI$15:AI$54,Покупка!$A$15:$A$54,$A197,Покупка!$M$15:$M$54,$B197)","v":0},{"$f":"SUMIFS(Покупка!AJ$15:AJ$54,Покупка!$A$15:$A$54,$A197,Покупка!$M$15:$M$54,$B197)","v":0},{"$f":"SUMIFS(Покупка!AK$15:AK$54,Покупка!$A$15:$A$54,$A197,Покупка!$M$15:$M$54,$B197)","v":0},{"$f":"SUMIFS(Покупка!AL$15:AL$54,Покупка!$A$15:$A$54,$A197,Покупка!$M$15:$M$54,$B197)","v":0},0,0,0,0,0,0,0,0,0,0]
["2","Затраты на холодную воду",null,"L2_1_4",null,null,null,null,null,null,null,"2.1.4","расходы на покупку воды","тыс.руб.",{"$f":"SUMIFS(Покупка!O$15:O$54,Покупка!$A$15:$A$54,$A198,Покупка!$M$15:$M$54,$B198)","v":0},{"$f":"SUMIFS(Покупка!P$15:P$54,Покупка!$A$15:$A$54,$A198,Покупка!$M$15:$M$54,$B198)","v":0},{"$f":"SUMIFS(Покупка!Q$15:Q$54,Покупка!$A$15:$A$54,$A198,Покупка!$M$15:$M$54,$B198)","v":0},0,{"$f":"SUMIFS(Покупка!R$15:R$54,Покупка!$A$15:$A$54,$A198,Покупка!$M$15:$M$54,$B198)","v":0},{"$f":"SUMIFS(Покупка!S$15:S$54,Покупка!$A$15:$A$54,$A198,Покупка!$M$15:$M$54,$B198)","v":0},{"$f":"SUMIFS(Покупка!T$15:T$54,Покупка!$A$15:$A$54,$A198,Покупка!$M$15:$M$54,$B198)","v":0},{"$f":"SUMIFS(Покупка!U$15:U$54,Покупка!$A$15:$A$54,$A198,Покупка!$M$15:$M$54,$B198)","v":0},{"$f":"SUMIFS(Покупка!V$15:V$54,Покупка!$A$15:$A$54,$A198,Покупка!$M$15:$M$54,$B198)","v":0},{"$f":"SUMIFS(Покупка!W$15:W$54,Покупка!$A$15:$A$54,$A198,Покупка!$M$15:$M$54,$B198)","v":0},{"$f":"SUMIFS(Покупка!X$15:X$54,Покупка!$A$15:$A$54,$A198,Покупка!$M$15:$M$54,$B198)","v":0},{"$f":"SUMIFS(Покупка!Y$15:Y$54,Покупка!$A$15:$A$54,$A198,Покупка!$M$15:$M$54,$B198)","v":0},{"$f":"SUMIFS(Покупка!Z$15:Z$54,Покупка!$A$15:$A$54,$A198,Покупка!$M$15:$M$54,$B198)","v":0},{"$f":"SUMIFS(Покупка!AA$15:AA$54,Покупка!$A$15:$A$54,$A198,Покупка!$M$15:$M$54,$B198)","v":0},{"$f":"SUMIFS(Покупка!AB$15:AB$54,Покупка!$A$15:$A$54,$A198,Покупка!$M$15:$M$54,$B198)","v":0},{"$f":"SUMIFS(Покупка!AC$15:AC$54,Покупка!$A$15:$A$54,$A198,Покупка!$M$15:$M$54,$B198)","v":0},{"$f":"SUMIFS(Покупка!AD$15:AD$54,Покупка!$A$15:$A$54,$A198,Покупка!$M$15:$M$54,$B198)","v":0},{"$f":"SUMIFS(Покупка!AE$15:AE$54,Покупка!$A$15:$A$54,$A198,Покупка!$M$15:$M$54,$B198)","v":0},{"$f":"SUMIFS(Покупка!AF$15:AF$54,Покупка!$A$15:$A$54,$A198,Покупка!$M$15:$M$54,$B198)","v":0},{"$f":"SUMIFS(Покупка!AG$15:AG$54,Покупка!$A$15:$A$54,$A198,Покупка!$M$15:$M$54,$B198)","v":0},{"$f":"SUMIFS(Покупка!AH$15:AH$54,Покупка!$A$15:$A$54,$A198,Покупка!$M$15:$M$54,$B198)","v":0},{"$f":"SUMIFS(Покупка!AI$15:AI$54,Покупка!$A$15:$A$54,$A198,Покупка!$M$15:$M$54,$B198)","v":0},{"$f":"SUMIFS(Покупка!AJ$15:AJ$54,Покупка!$A$15:$A$54,$A198,Покупка!$M$15:$M$54,$B198)","v":0},{"$f":"SUMIFS(Покупка!AK$15:AK$54,Покупка!$A$15:$A$54,$A198,Покупка!$M$15:$M$54,$B198)","v":0},{"$f":"SUMIFS(Покупка!AL$15:AL$54,Покупка!$A$15:$A$54,$A198,Покупка!$M$15:$M$54,$B198)","v":0},0,0,0,0,0,0,0,0,0,0]
["2","Затраты на горячую воду",null,"L2_1_5",null,null,null,null,null,null,null,"2.1.5","услуги по горячему водоснабжению","тыс.руб.",{"$f":"SUMIFS(Покупка!O$15:O$54,Покупка!$A$15:$A$54,$A199,Покупка!$M$15:$M$54,$B199)","v":0},{"$f":"SUMIFS(Покупка!P$15:P$54,Покупка!$A$15:$A$54,$A199,Покупка!$M$15:$M$54,$B199)","v":0},{"$f":"SUMIFS(Покупка!Q$15:Q$54,Покупка!$A$15:$A$54,$A199,Покупка!$M$15:$M$54,$B199)","v":0},0,{"$f":"SUMIFS(Покупка!R$15:R$54,Покупка!$A$15:$A$54,$A199,Покупка!$M$15:$M$54,$B199)","v":0},{"$f":"SUMIFS(Покупка!S$15:S$54,Покупка!$A$15:$A$54,$A199,Покупка!$M$15:$M$54,$B199)","v":0},{"$f":"SUMIFS(Покупка!T$15:T$54,Покупка!$A$15:$A$54,$A199,Покупка!$M$15:$M$54,$B199)","v":0},{"$f":"SUMIFS(Покупка!U$15:U$54,Покупка!$A$15:$A$54,$A199,Покупка!$M$15:$M$54,$B199)","v":0},{"$f":"SUMIFS(Покупка!V$15:V$54,Покупка!$A$15:$A$54,$A199,Покупка!$M$15:$M$54,$B199)","v":0},{"$f":"SUMIFS(Покупка!W$15:W$54,Покупка!$A$15:$A$54,$A199,Покупка!$M$15:$M$54,$B199)","v":0},{"$f":"SUMIFS(Покупка!X$15:X$54,Покупка!$A$15:$A$54,$A199,Покупка!$M$15:$M$54,$B199)","v":0},{"$f":"SUMIFS(Покупка!Y$15:Y$54,Покупка!$A$15:$A$54,$A199,Покупка!$M$15:$M$54,$B199)","v":0},{"$f":"SUMIFS(Покупка!Z$15:Z$54,Покупка!$A$15:$A$54,$A199,Покупка!$M$15:$M$54,$B199)","v":0},{"$f":"SUMIFS(Покупка!AA$15:AA$54,Покупка!$A$15:$A$54,$A199,Покупка!$M$15:$M$54,$B199)","v":0},{"$f":"SUMIFS(Покупка!AB$15:AB$54,Покупка!$A$15:$A$54,$A199,Покупка!$M$15:$M$54,$B199)","v":0},{"$f":"SUMIFS(Покупка!AC$15:AC$54,Покупка!$A$15:$A$54,$A199,Покупка!$M$15:$M$54,$B199)","v":0},{"$f":"SUMIFS(Покупка!AD$15:AD$54,Покупка!$A$15:$A$54,$A199,Покупка!$M$15:$M$54,$B199)","v":0},{"$f":"SUMIFS(Покупка!AE$15:AE$54,Покупка!$A$15:$A$54,$A199,Покупка!$M$15:$M$54,$B199)","v":0},{"$f":"SUMIFS(Покупка!AF$15:AF$54,Покупка!$A$15:$A$54,$A199,Покупка!$M$15:$M$54,$B199)","v":0},{"$f":"SUMIFS(Покупка!AG$15:AG$54,Покупка!$A$15:$A$54,$A199,Покупка!$M$15:$M$54,$B199)","v":0},{"$f":"SUMIFS(Покупка!AH$15:AH$54,Покупка!$A$15:$A$54,$A199,Покупка!$M$15:$M$54,$B199)","v":0},{"$f":"SUMIFS(Покупка!AI$15:AI$54,Покупка!$A$15:$A$54,$A199,Покупка!$M$15:$M$54,$B199)","v":0},{"$f":"SUMIFS(Покупка!AJ$15:AJ$54,Покупка!$A$15:$A$54,$A199,Покупка!$M$15:$M$54,$B199)","v":0},{"$f":"SUMIFS(Покупка!AK$15:AK$54,Покупка!$A$15:$A$54,$A199,Покупка!$M$15:$M$54,$B199)","v":0},{"$f":"SUMIFS(Покупка!AL$15:AL$54,Покупка!$A$15:$A$54,$A199,Покупка!$M$15:$M$54,$B199)","v":0},0,0,0,0,0,0,0,0,0,0]
["2",null,null,"L2_1_6",null,null,null,null,null,null,null,"2.1.6","услуги по приготовлению воды на нужды горячего водоснабжения","тыс.руб.",null,null,null,0,null,null,null,null,null,null,null,null,null,null,null,null,null,null,null,null,null,null,null,null,null,0,0,0,0,0,0,0,0,0,0]
["2",null,null,"L2_1_7",null,null,null,null,null,null,null,"2.1.7","услуги по транспортировке горячей воды","тыс.руб.",null,null,null,0,null,null,null,null,null,null,null,null,null,null,null,null,null,null,null,null,null,null,null,null,null,0,0,0,0,0,0,0,0,0,0]
["2","Затраты на водоотведение",null,"L2_1_8",null,null,null,null,null,null,null,"2.1.8","услуги по водоотведению","тыс.руб.",{"$f":"SUMIFS(Покупка!O$15:O$54,Покупка!$A$15:$A$54,$A202,Покупка!$M$15:$M$54,$B202)","v":0},{"$f":"SUMIFS(Покупка!P$15:P$54,Покупка!$A$15:$A$54,$A202,Покупка!$M$15:$M$54,$B202)","v":0},{"$f":"SUMIFS(Покупка!Q$15:Q$54,Покупка!$A$15:$A$54,$A202,Покупка!$M$15:$M$54,$B202)","v":0},0,{"$f":"SUMIFS(Покупка!R$15:R$54,Покупка!$A$15:$A$54,$A202,Покупка!$M$15:$M$54,$B202)","v":0},{"$f":"SUMIFS(Покупка!S$15:S$54,Покупка!$A$15:$A$54,$A202,Покупка!$M$15:$M$54,$B202)","v":0},{"$f":"SUMIFS(Покупка!T$15:T$54,Покупка!$A$15:$A$54,$A202,Покупка!$M$15:$M$54,$B202)","v":0},{"$f":"SUMIFS(Покупка!U$15:U$54,Покупка!$A$15:$A$54,$A202,Покупка!$M$15:$M$54,$B202)","v":0},{"$f":"SUMIFS(Покупка!V$15:V$54,Покупка!$A$15:$A$54,$A202,Покупка!$M$15:$M$54,$B202)","v":0},{"$f":"SUMIFS(Покупка!W$15:W$54,Покупка!$A$15:$A$54,$A202,Покупка!$M$15:$M$54,$B202)","v":0},{"$f":"SUMIFS(Покупка!X$15:X$54,Покупка!$A$15:$A$54,$A202,Покупка!$M$15:$M$54,$B202)","v":0},{"$f":"SUMIFS(Покупка!Y$15:Y$54,Покупка!$A$15:$A$54,$A202,Покупка!$M$15:$M$54,$B202)","v":0},{"$f":"SUMIFS(Покупка!Z$15:Z$54,Покупка!$A$15:$A$54,$A202,Покупка!$M$15:$M$54,$B202)","v":0},{"$f":"SUMIFS(Покупка!AA$15:AA$54,Покупка!$A$15:$A$54,$A202,Покупка!$M$15:$M$54,$B202)","v":0},{"$f":"SUMIFS(Покупка!AB$15:AB$54,Покупка!$A$15:$A$54,$A202,Покупка!$M$15:$M$54,$B202)","v":0},{"$f":"SUMIFS(Покупка!AC$15:AC$54,Покупка!$A$15:$A$54,$A202,Покупка!$M$15:$M$54,$B202)","v":0},{"$f":"SUMIFS(Покупка!AD$15:AD$54,Покупка!$A$15:$A$54,$A202,Покупка!$M$15:$M$54,$B202)","v":0},{"$f":"SUMIFS(Покупка!AE$15:AE$54,Покупка!$A$15:$A$54,$A202,Покупка!$M$15:$M$54,$B202)","v":0},{"$f":"SUMIFS(Покупка!AF$15:AF$54,Покупка!$A$15:$A$54,$A202,Покупка!$M$15:$M$54,$B202)","v":0},{"$f":"SUMIFS(Покупка!AG$15:AG$54,Покупка!$A$15:$A$54,$A202,Покупка!$M$15:$M$54,$B202)","v":0},{"$f":"SUMIFS(Покупка!AH$15:AH$54,Покупка!$A$15:$A$54,$A202,Покупка!$M$15:$M$54,$B202)","v":0},{"$f":"SUMIFS(Покупка!AI$15:AI$54,Покупка!$A$15:$A$54,$A202,Покупка!$M$15:$M$54,$B202)","v":0},{"$f":"SUMIFS(Покупка!AJ$15:AJ$54,Покупка!$A$15:$A$54,$A202,Покупка!$M$15:$M$54,$B202)","v":0},{"$f":"SUMIFS(Покупка!AK$15:AK$54,Покупка!$A$15:$A$54,$A202,Покупка!$M$15:$M$54,$B202)","v":0},{"$f":"SUMIFS(Покупка!AL$15:AL$54,Покупка!$A$15:$A$54,$A202,Покупка!$M$15:$M$54,$B202)","v":0},{"$f":"IF(S202=0,0,(AD202-S202)/S202*100)","v":0},0,0,0,0,0,0,0,0,0]
["2","Затраты на транспортировку сточных вод",null,"L2_1_9",null,null,null,null,null,null,null,"2.1.9","услуги по транспортировке сточных вод","тыс.руб.",{"$f":"SUMIFS(Покупка!O$15:O$54,Покупка!$A$15:$A$54,$A203,Покупка!$M$15:$M$54,$B203)","v":0},{"$f":"SUMIFS(Покупка!P$15:P$54,Покупка!$A$15:$A$54,$A203,Покупка!$M$15:$M$54,$B203)","v":0},{"$f":"SUMIFS(Покупка!Q$15:Q$54,Покупка!$A$15:$A$54,$A203,Покупка!$M$15:$M$54,$B203)","v":0},0,{"$f":"SUMIFS(Покупка!R$15:R$54,Покупка!$A$15:$A$54,$A203,Покупка!$M$15:$M$54,$B203)","v":0},{"$f":"SUMIFS(Покупка!S$15:S$54,Покупка!$A$15:$A$54,$A203,Покупка!$M$15:$M$54,$B203)","v":0},{"$f":"SUMIFS(Покупка!T$15:T$54,Покупка!$A$15:$A$54,$A203,Покупка!$M$15:$M$54,$B203)","v":0},{"$f":"SUMIFS(Покупка!U$15:U$54,Покупка!$A$15:$A$54,$A203,Покупка!$M$15:$M$54,$B203)","v":0},{"$f":"SUMIFS(Покупка!V$15:V$54,Покупка!$A$15:$A$54,$A203,Покупка!$M$15:$M$54,$B203)","v":0},{"$f":"SUMIFS(Покупка!W$15:W$54,Покупка!$A$15:$A$54,$A203,Покупка!$M$15:$M$54,$B203)","v":0},{"$f":"SUMIFS(Покупка!X$15:X$54,Покупка!$A$15:$A$54,$A203,Покупка!$M$15:$M$54,$B203)","v":0},{"$f":"SUMIFS(Покупка!Y$15:Y$54,Покупка!$A$15:$A$54,$A203,Покупка!$M$15:$M$54,$B203)","v":0},{"$f":"SUMIFS(Покупка!Z$15:Z$54,Покупка!$A$15:$A$54,$A203,Покупка!$M$15:$M$54,$B203)","v":0},{"$f":"SUMIFS(Покупка!AA$15:AA$54,Покупка!$A$15:$A$54,$A203,Покупка!$M$15:$M$54,$B203)","v":0},{"$f":"SUMIFS(Покупка!AB$15:AB$54,Покупка!$A$15:$A$54,$A203,Покупка!$M$15:$M$54,$B203)","v":0},{"$f":"SUMIFS(Покупка!AC$15:AC$54,Покупка!$A$15:$A$54,$A203,Покупка!$M$15:$M$54,$B203)","v":0},{"$f":"SUMIFS(Покупка!AD$15:AD$54,Покупка!$A$15:$A$54,$A203,Покупка!$M$15:$M$54,$B203)","v":0},{"$f":"SUMIFS(Покупка!AE$15:AE$54,Покупка!$A$15:$A$54,$A203,Покупка!$M$15:$M$54,$B203)","v":0},{"$f":"SUMIFS(Покупка!AF$15:AF$54,Покупка!$A$15:$A$54,$A203,Покупка!$M$15:$M$54,$B203)","v":0},{"$f":"SUMIFS(Покупка!AG$15:AG$54,Покупка!$A$15:$A$54,$A203,Покупка!$M$15:$M$54,$B203)","v":0},{"$f":"SUMIFS(Покупка!AH$15:AH$54,Покупка!$A$15:$A$54,$A203,Покупка!$M$15:$M$54,$B203)","v":0},{"$f":"SUMIFS(Покупка!AI$15:AI$54,Покупка!$A$15:$A$54,$A203,Покупка!$M$15:$M$54,$B203)","v":0},{"$f":"SUMIFS(Покупка!AJ$15:AJ$54,Покупка!$A$15:$A$54,$A203,Покупка!$M$15:$M$54,$B203)","v":0},{"$f":"SUMIFS(Покупка!AK$15:AK$54,Покупка!$A$15:$A$54,$A203,Покупка!$M$15:$M$54,$B203)","v":0},{"$f":"SUMIFS(Покупка!AL$15:AL$54,Покупка!$A$15:$A$54,$A203,Покупка!$M$15:$M$54,$B203)","v":0},{"$f":"IF(S203=0,0,(AD203-S203)/S203*100)","v":0},0,0,0,0,0,0,0,0,0]
["2","Затраты на очистку сточных вод",null,"L2_1_10",null,null,null,null,null,null,null,"2.1.10","услуги по очистке сточных вод","тыс.руб.",{"$f":"SUMIFS(Покупка!O$15:O$54,Покупка!$A$15:$A$54,$A204,Покупка!$M$15:$M$54,$B204)","v":0},{"$f":"SUMIFS(Покупка!P$15:P$54,Покупка!$A$15:$A$54,$A204,Покупка!$M$15:$M$54,$B204)","v":0},{"$f":"SUMIFS(Покупка!Q$15:Q$54,Покупка!$A$15:$A$54,$A204,Покупка!$M$15:$M$54,$B204)","v":0},0,{"$f":"SUMIFS(Покупка!R$15:R$54,Покупка!$A$15:$A$54,$A204,Покупка!$M$15:$M$54,$B204)","v":0},{"$f":"SUMIFS(Покупка!S$15:S$54,Покупка!$A$15:$A$54,$A204,Покупка!$M$15:$M$54,$B204)","v":0},{"$f":"SUMIFS(Покупка!T$15:T$54,Покупка!$A$15:$A$54,$A204,Покупка!$M$15:$M$54,$B204)","v":0},{"$f":"SUMIFS(Покупка!U$15:U$54,Покупка!$A$15:$A$54,$A204,Покупка!$M$15:$M$54,$B204)","v":0},{"$f":"SUMIFS(Покупка!V$15:V$54,Покупка!$A$15:$A$54,$A204,Покупка!$M$15:$M$54,$B204)","v":0},{"$f":"SUMIFS(Покупка!W$15:W$54,Покупка!$A$15:$A$54,$A204,Покупка!$M$15:$M$54,$B204)","v":0},{"$f":"SUMIFS(Покупка!X$15:X$54,Покупка!$A$15:$A$54,$A204,Покупка!$M$15:$M$54,$B204)","v":0},{"$f":"SUMIFS(Покупка!Y$15:Y$54,Покупка!$A$15:$A$54,$A204,Покупка!$M$15:$M$54,$B204)","v":0},{"$f":"SUMIFS(Покупка!Z$15:Z$54,Покупка!$A$15:$A$54,$A204,Покупка!$M$15:$M$54,$B204)","v":0},{"$f":"SUMIFS(Покупка!AA$15:AA$54,Покупка!$A$15:$A$54,$A204,Покупка!$M$15:$M$54,$B204)","v":0},{"$f":"SUMIFS(Покупка!AB$15:AB$54,Покупка!$A$15:$A$54,$A204,Покупка!$M$15:$M$54,$B204)","v":0},{"$f":"SUMIFS(Покупка!AC$15:AC$54,Покупка!$A$15:$A$54,$A204,Покупка!$M$15:$M$54,$B204)","v":0},{"$f":"SUMIFS(Покупка!AD$15:AD$54,Покупка!$A$15:$A$54,$A204,Покупка!$M$15:$M$54,$B204)","v":0},{"$f":"SUMIFS(Покупка!AE$15:AE$54,Покупка!$A$15:$A$54,$A204,Покупка!$M$15:$M$54,$B204)","v":0},{"$f":"SUMIFS(Покупка!AF$15:AF$54,Покупка!$A$15:$A$54,$A204,Покупка!$M$15:$M$54,$B204)","v":0},{"$f":"SUMIFS(Покупка!AG$15:AG$54,Покупка!$A$15:$A$54,$A204,Покупка!$M$15:$M$54,$B204)","v":0},{"$f":"SUMIFS(Покупка!AH$15:AH$54,Покупка!$A$15:$A$54,$A204,Покупка!$M$15:$M$54,$B204)","v":0},{"$f":"SUMIFS(Покупка!AI$15:AI$54,Покупка!$A$15:$A$54,$A204,Покупка!$M$15:$M$54,$B204)","v":0},{"$f":"SUMIFS(Покупка!AJ$15:AJ$54,Покупка!$A$15:$A$54,$A204,Покупка!$M$15:$M$54,$B204)","v":0},{"$f":"SUMIFS(Покупка!AK$15:AK$54,Покупка!$A$15:$A$54,$A204,Покупка!$M$15:$M$54,$B204)","v":0},{"$f":"SUMIFS(Покупка!AL$15:AL$54,Покупка!$A$15:$A$54,$A204,Покупка!$M$15:$M$54,$B204)","v":0},{"$f":"IF(S204=0,0,(AD204-S204)/S204*100)","v":0},0,0,0,0,0,0,0,0,0]
["2",null,null,"L2_2",null,null,null,null,null,null,null,"2.2","Расходы на реагенты","тыс.руб.",{"$f":"SUMIFS(Реагенты!O$15:O$29,Реагенты!$A$15:$A$29,$A205,Реагенты!$M$15:$M$29,\"Всего по тарифу\")","v":0},{"$f":"SUMIFS(Реагенты!P$15:P$29,Реагенты!$A$15:$A$29,$A205,Реагенты!$M$15:$M$29,\"Всего по тарифу\")","v":0},{"$f":"SUMIFS(Реагенты!Q$15:Q$29,Реагенты!$A$15:$A$29,$A205,Реагенты!$M$15:$M$29,\"Всего по тарифу\")","v":0},0,{"$f":"SUMIFS(Реагенты!R$15:R$29,Реагенты!$A$15:$A$29,$A205,Реагенты!$M$15:$M$29,\"Всего по тарифу\")","v":0},{"$f":"SUMIFS(Реагенты!S$15:S$29,Реагенты!$A$15:$A$29,$A205,Реагенты!$M$15:$M$29,\"Всего по тарифу\")","v":717.85020000000009},{"$f":"SUMIFS(Реагенты!T$15:T$29,Реагенты!$A$15:$A$29,$A205,Реагенты!$M$15:$M$29,\"Всего по тарифу\")","v":799.75614140000005},{"$f":"SUMIFS(Реагенты!U$15:U$29,Реагенты!$A$15:$A$29,$A205,Реагенты!$M$15:$M$29,\"Всего по тарифу\")","v":887.06968080000001},{"$f":"SUMIFS(Реагенты!V$15:V$29,Реагенты!$A$15:$A$29,$A205,Реагенты!$M$15:$M$29,\"Всего по тарифу\")","v":980.10537909999994},{"$f":"SUMIFS(Реагенты!W$15:W$29,Реагенты!$A$15:$A$29,$A205,Реагенты!$M$15:$M$29,\"Всего по тарифу\")","v":1079.1527111},{"$f":"SUMIFS(Реагенты!X$15:X$29,Реагенты!$A$15:$A$29,$A205,Реагенты!$M$15:$M$29,\"Всего по тарифу\")","v":0},{"$f":"SUMIFS(Реагенты!Y$15:Y$29,Реагенты!$A$15:$A$29,$A205,Реагенты!$M$15:$M$29,\"Всего по тарифу\")","v":0},{"$f":"SUMIFS(Реагенты!Z$15:Z$29,Реагенты!$A$15:$A$29,$A205,Реагенты!$M$15:$M$29,\"Всего по тарифу\")","v":0},{"$f":"SUMIFS(Реагенты!AA$15:AA$29,Реагенты!$A$15:$A$29,$A205,Реагенты!$M$15:$M$29,\"Всего по тарифу\")","v":0},{"$f":"SUMIFS(Реагенты!AB$15:AB$29,Реагенты!$A$15:$A$29,$A205,Реагенты!$M$15:$M$29,\"Всего по тарифу\")","v":0},{"$f":"SUMIFS(Реагенты!AC$15:AC$29,Реагенты!$A$15:$A$29,$A205,Реагенты!$M$15:$M$29,\"Всего по тарифу\")","v":599.46002302012596},{"$f":"SUMIFS(Реагенты!AD$15:AD$29,Реагенты!$A$15:$A$29,$A205,Реагенты!$M$15:$M$29,\"Всего по тарифу\")","v":624.63734398697125},{"$f":"SUMIFS(Реагенты!AE$15:AE$29,Реагенты!$A$15:$A$29,$A205,Реагенты!$M$15:$M$29,\"Всего по тарифу\")","v":649.62283774645016},{"$f":"SUMIFS(Реагенты!AF$15:AF$29,Реагенты!$A$15:$A$29,$A205,Реагенты!$M$15:$M$29,\"Всего по тарифу\")","v":675.60775125630732},{"$f":"SUMIFS(Реагенты!AG$15:AG$29,Реагенты!$A$15:$A$29,$A205,Реагенты!$M$15:$M$29,\"Всего по тарифу\")","v":702.63206130656056},{"$f":"SUMIFS(Реагенты!AH$15:AH$29,Реагенты!$A$15:$A$29,$A205,Реагенты!$M$15:$M$29,\"Всего по тарифу\")","v":0},{"$f":"SUMIFS(Реагенты!AI$15:AI$29,Реагенты!$A$15:$A$29,$A205,Реагенты!$M$15:$M$29,\"Всего по тарифу\")","v":0},{"$f":"SUMIFS(Реагенты!AJ$15:AJ$29,Реагенты!$A$15:$A$29,$A205,Реагенты!$M$15:$M$29,\"Всего по тарифу\")","v":0},{"$f":"SUMIFS(Реагенты!AK$15:AK$29,Реагенты!$A$15:$A$29,$A205,Реагенты!$M$15:$M$29,\"Всего по тарифу\")","v":0},{"$f":"SUMIFS(Реагенты!AL$15:AL$29,Реагенты!$A$15:$A$29,$A205,Реагенты!$M$15:$M$29,\"Всего по тарифу\")","v":0},{"$f":"IF(S205=0,0,(AD205-S205)/S205*100)","v":0},4.1999999999999993,4.0000000000000107,3.9999999999998703,4.0000000000001394,-100,0,0,0,0,null,"П. 49 (10); В. 16, п. 19  Методических указаний ФСТ № 1746-э (пп. 10 введен Приказом ФАС России от 08.10.2020 N 976/20)."," См. Лист \"Реагенты\". (Фактические затраты отчетного 2022 г. - см. пункт 1.6)."]
["2",null,null,"L2_3",null,null,null,null,null,null,null,"2.3","Налоги и сборы","тыс.руб.",{"$f":"SUM(O207:O215)","v":1.25},{"$f":"SUM(P207:P215)","v":0},0,0,1.26,7.11,2.46,0.12,0,0,0,0,0,0,0,0,0,0,0,0,0,0,0,0,0,-100,0,0,0,0,0,0,0,0,0]
["2","Налог на прибыль",null,"L2_3_1",null,null,null,null,null,null,null,"2.3.1","налог на прибыль","тыс.руб.",{"$f":"SUMIFS(Налоги!O$15:O$42,Налоги!$A$15:$A$42,$A207,Налоги!$M$15:$M$42,$B207)","v":0},{"$f":"SUMIFS(Налоги!P$15:P$42,Налоги!$A$15:$A$42,$A207,Налоги!$M$15:$M$42,$B207)","v":0},{"$f":"SUMIFS(Налоги!Q$15:Q$42,Налоги!$A$15:$A$42,$A207,Налоги!$M$15:$M$42,$B207)","v":0},0,{"$f":"SUMIFS(Налоги!R$15:R$42,Налоги!$A$15:$A$42,$A207,Налоги!$M$15:$M$42,$B207)","v":0},{"$f":"SUMIFS(Налоги!S$15:S$42,Налоги!$A$15:$A$42,$A207,Налоги!$M$15:$M$42,$B207)","v":0},{"$f":"SUMIFS(Налоги!T$15:T$42,Налоги!$A$15:$A$42,$A207,Налоги!$M$15:$M$42,$B207)","v":0},{"$f":"SUMIFS(Налоги!U$15:U$42,Налоги!$A$15:$A$42,$A207,Налоги!$M$15:$M$42,$B207)","v":0},{"$f":"SUMIFS(Налоги!V$15:V$42,Налоги!$A$15:$A$42,$A207,Налоги!$M$15:$M$42,$B207)","v":0},{"$f":"SUMIFS(Налоги!W$15:W$42,Налоги!$A$15:$A$42,$A207,Налоги!$M$15:$M$42,$B207)","v":0},{"$f":"SUMIFS(Налоги!X$15:X$42,Налоги!$A$15:$A$42,$A207,Налоги!$M$15:$M$42,$B207)","v":0},{"$f":"SUMIFS(Налоги!Y$15:Y$42,Налоги!$A$15:$A$42,$A207,Налоги!$M$15:$M$42,$B207)","v":0},{"$f":"SUMIFS(Налоги!Z$15:Z$42,Налоги!$A$15:$A$42,$A207,Налоги!$M$15:$M$42,$B207)","v":0},{"$f":"SUMIFS(Налоги!AA$15:AA$42,Налоги!$A$15:$A$42,$A207,Налоги!$M$15:$M$42,$B207)","v":0},{"$f":"SUMIFS(Налоги!AB$15:AB$42,Налоги!$A$15:$A$42,$A207,Налоги!$M$15:$M$42,$B207)","v":0},{"$f":"SUMIFS(Налоги!AC$15:AC$42,Налоги!$A$15:$A$42,$A207,Налоги!$M$15:$M$42,$B207)","v":0},{"$f":"SUMIFS(Налоги!AD$15:AD$42,Налоги!$A$15:$A$42,$A207,Налоги!$M$15:$M$42,$B207)","v":0},{"$f":"SUMIFS(Налоги!AE$15:AE$42,Налоги!$A$15:$A$42,$A207,Налоги!$M$15:$M$42,$B207)","v":0},{"$f":"SUMIFS(Налоги!AF$15:AF$42,Налоги!$A$15:$A$42,$A207,Налоги!$M$15:$M$42,$B207)","v":0},{"$f":"SUMIFS(Налоги!AG$15:AG$42,Налоги!$A$15:$A$42,$A207,Налоги!$M$15:$M$42,$B207)","v":0},{"$f":"SUMIFS(Налоги!AH$15:AH$42,Налоги!$A$15:$A$42,$A207,Налоги!$M$15:$M$42,$B207)","v":0},{"$f":"SUMIFS(Налоги!AI$15:AI$42,Налоги!$A$15:$A$42,$A207,Налоги!$M$15:$M$42,$B207)","v":0},{"$f":"SUMIFS(Налоги!AJ$15:AJ$42,Налоги!$A$15:$A$42,$A207,Налоги!$M$15:$M$42,$B207)","v":0},{"$f":"SUMIFS(Налоги!AK$15:AK$42,Налоги!$A$15:$A$42,$A207,Налоги!$M$15:$M$42,$B207)","v":0},{"$f":"SUMIFS(Налоги!AL$15:AL$42,Налоги!$A$15:$A$42,$A207,Налоги!$M$15:$M$42,$B207)","v":0},0,0,0,0,0,0,0,0,0,0]
[{"$f":"A207","v":"2"},"Налог на имущество",null,"L2_3_2",null,null,null,null,null,null,null,"2.3.2","налог на имущество организаций","тыс.руб.",{"$f":"SUMIFS(Налоги!O$15:O$42,Налоги!$A$15:$A$42,$A208,Налоги!$M$15:$M$42,$B208)","v":0},{"$f":"SUMIFS(Налоги!P$15:P$42,Налоги!$A$15:$A$42,$A208,Налоги!$M$15:$M$42,$B208)","v":0},{"$f":"SUMIFS(Налоги!Q$15:Q$42,Налоги!$A$15:$A$42,$A208,Налоги!$M$15:$M$42,$B208)","v":0},0,{"$f":"SUMIFS(Налоги!R$15:R$42,Налоги!$A$15:$A$42,$A208,Налоги!$M$15:$M$42,$B208)","v":0},{"$f":"SUMIFS(Налоги!S$15:S$42,Налоги!$A$15:$A$42,$A208,Налоги!$M$15:$M$42,$B208)","v":7.11},{"$f":"SUMIFS(Налоги!T$15:T$42,Налоги!$A$15:$A$42,$A208,Налоги!$M$15:$M$42,$B208)","v":2.46},{"$f":"SUMIFS(Налоги!U$15:U$42,Налоги!$A$15:$A$42,$A208,Налоги!$M$15:$M$42,$B208)","v":0.12},{"$f":"SUMIFS(Налоги!V$15:V$42,Налоги!$A$15:$A$42,$A208,Налоги!$M$15:$M$42,$B208)","v":0},{"$f":"SUMIFS(Налоги!W$15:W$42,Налоги!$A$15:$A$42,$A208,Налоги!$M$15:$M$42,$B208)","v":0},{"$f":"SUMIFS(Налоги!X$15:X$42,Налоги!$A$15:$A$42,$A208,Налоги!$M$15:$M$42,$B208)","v":0},{"$f":"SUMIFS(Налоги!Y$15:Y$42,Налоги!$A$15:$A$42,$A208,Налоги!$M$15:$M$42,$B208)","v":0},{"$f":"SUMIFS(Налоги!Z$15:Z$42,Налоги!$A$15:$A$42,$A208,Налоги!$M$15:$M$42,$B208)","v":0},{"$f":"SUMIFS(Налоги!AA$15:AA$42,Налоги!$A$15:$A$42,$A208,Налоги!$M$15:$M$42,$B208)","v":0},{"$f":"SUMIFS(Налоги!AB$15:AB$42,Налоги!$A$15:$A$42,$A208,Налоги!$M$15:$M$42,$B208)","v":0},{"$f":"SUMIFS(Налоги!AC$15:AC$42,Налоги!$A$15:$A$42,$A208,Налоги!$M$15:$M$42,$B208)","v":0},{"$f":"SUMIFS(Налоги!AD$15:AD$42,Налоги!$A$15:$A$42,$A208,Налоги!$M$15:$M$42,$B208)","v":0},{"$f":"SUMIFS(Налоги!AE$15:AE$42,Налоги!$A$15:$A$42,$A208,Налоги!$M$15:$M$42,$B208)","v":0},{"$f":"SUMIFS(Налоги!AF$15:AF$42,Налоги!$A$15:$A$42,$A208,Налоги!$M$15:$M$42,$B208)","v":0},{"$f":"SUMIFS(Налоги!AG$15:AG$42,Налоги!$A$15:$A$42,$A208,Налоги!$M$15:$M$42,$B208)","v":0},{"$f":"SUMIFS(Налоги!AH$15:AH$42,Налоги!$A$15:$A$42,$A208,Налоги!$M$15:$M$42,$B208)","v":0},{"$f":"SUMIFS(Налоги!AI$15:AI$42,Налоги!$A$15:$A$42,$A208,Налоги!$M$15:$M$42,$B208)","v":0},{"$f":"SUMIFS(Налоги!AJ$15:AJ$42,Налоги!$A$15:$A$42,$A208,Налоги!$M$15:$M$42,$B208)","v":0},{"$f":"SUMIFS(Налоги!AK$15:AK$42,Налоги!$A$15:$A$42,$A208,Налоги!$M$15:$M$42,$B208)","v":0},{"$f":"SUMIFS(Налоги!AL$15:AL$42,Налоги!$A$15:$A$42,$A208,Налоги!$M$15:$M$42,$B208)","v":0},0,0,0,0,0,0,0,0,0,0,null,"1) Глава 30. \"НАЛОГ НА ИМУЩЕСТВО ОРГАНИЗАЦИЙ\"  \"Налогового кодекса Российской Федерации (Часть вторая)\" (ред. от 10.07.2023 № 318-ФЗ). 2) Письмо ФНС России от 25.11.2021 N БС-4-21/16452@ \"О критериях разграничения движимого и недвижимого имущества в целях применения главы 30 Налогового кодекса Российской Федерации\" 3) \"ОК 013-2014 (СНС 2008). Общероссийский классификатор основных фондов\" (введен Приказом Росстандарта от 12.12.2014 N 2018-ст) (ред. от 19.09.2023). ","Заявленные организацией суммы налога на имущество к учету не приняты, так как амортизируемые основные средства, закрепленные за участком \"ВИС\" (\"ОСВ\") - насосное оборудование и лабораторные весы -  не являются недвижимым имуществом."]
["2","Земельный налог",null,"L2_3_3",null,null,null,null,null,null,null,"2.3.3","земельный налог и арендная плата за землю","тыс.руб.",{"$f":"SUMIFS(Налоги!O$15:O$42,Налоги!$A$15:$A$42,$A209,Налоги!$M$15:$M$42,$B209)","v":0},{"$f":"SUMIFS(Налоги!P$15:P$42,Налоги!$A$15:$A$42,$A209,Налоги!$M$15:$M$42,$B209)","v":0},{"$f":"SUMIFS(Налоги!Q$15:Q$42,Налоги!$A$15:$A$42,$A209,Налоги!$M$15:$M$42,$B209)","v":0},0,{"$f":"SUMIFS(Налоги!R$15:R$42,Налоги!$A$15:$A$42,$A209,Налоги!$M$15:$M$42,$B209)","v":0},{"$f":"SUMIFS(Налоги!S$15:S$42,Налоги!$A$15:$A$42,$A209,Налоги!$M$15:$M$42,$B209)","v":0},{"$f":"SUMIFS(Налоги!T$15:T$42,Налоги!$A$15:$A$42,$A209,Налоги!$M$15:$M$42,$B209)","v":0},{"$f":"SUMIFS(Налоги!U$15:U$42,Налоги!$A$15:$A$42,$A209,Налоги!$M$15:$M$42,$B209)","v":0},{"$f":"SUMIFS(Налоги!V$15:V$42,Налоги!$A$15:$A$42,$A209,Налоги!$M$15:$M$42,$B209)","v":0},{"$f":"SUMIFS(Налоги!W$15:W$42,Налоги!$A$15:$A$42,$A209,Налоги!$M$15:$M$42,$B209)","v":0},{"$f":"SUMIFS(Налоги!X$15:X$42,Налоги!$A$15:$A$42,$A209,Налоги!$M$15:$M$42,$B209)","v":0},{"$f":"SUMIFS(Налоги!Y$15:Y$42,Налоги!$A$15:$A$42,$A209,Налоги!$M$15:$M$42,$B209)","v":0},{"$f":"SUMIFS(Налоги!Z$15:Z$42,Налоги!$A$15:$A$42,$A209,Налоги!$M$15:$M$42,$B209)","v":0},{"$f":"SUMIFS(Налоги!AA$15:AA$42,Налоги!$A$15:$A$42,$A209,Налоги!$M$15:$M$42,$B209)","v":0},{"$f":"SUMIFS(Налоги!AB$15:AB$42,Налоги!$A$15:$A$42,$A209,Налоги!$M$15:$M$42,$B209)","v":0},{"$f":"SUMIFS(Налоги!AC$15:AC$42,Налоги!$A$15:$A$42,$A209,Налоги!$M$15:$M$42,$B209)","v":0},{"$f":"SUMIFS(Налоги!AD$15:AD$42,Налоги!$A$15:$A$42,$A209,Налоги!$M$15:$M$42,$B209)","v":0},{"$f":"SUMIFS(Налоги!AE$15:AE$42,Налоги!$A$15:$A$42,$A209,Налоги!$M$15:$M$42,$B209)","v":0},{"$f":"SUMIFS(Налоги!AF$15:AF$42,Налоги!$A$15:$A$42,$A209,Налоги!$M$15:$M$42,$B209)","v":0},{"$f":"SUMIFS(Налоги!AG$15:AG$42,Налоги!$A$15:$A$42,$A209,Налоги!$M$15:$M$42,$B209)","v":0},{"$f":"SUMIFS(Налоги!AH$15:AH$42,Налоги!$A$15:$A$42,$A209,Налоги!$M$15:$M$42,$B209)","v":0},{"$f":"SUMIFS(Налоги!AI$15:AI$42,Налоги!$A$15:$A$42,$A209,Налоги!$M$15:$M$42,$B209)","v":0},{"$f":"SUMIFS(Налоги!AJ$15:AJ$42,Налоги!$A$15:$A$42,$A209,Налоги!$M$15:$M$42,$B209)","v":0},{"$f":"SUMIFS(Налоги!AK$15:AK$42,Налоги!$A$15:$A$42,$A209,Налоги!$M$15:$M$42,$B209)","v":0},{"$f":"SUMIFS(Налоги!AL$15:AL$42,Налоги!$A$15:$A$42,$A209,Налоги!$M$15:$M$42,$B209)","v":0},0,{"$f":"IF(AD209=0,0,(AE209-AD209)/AD209*100)","v":0},0,0,0,0,0,0,0,0]
["2","Водный налог",null,"L2_3_4",null,null,null,null,null,null,null,"2.3.4","водный налог","тыс.руб.",{"$f":"SUMIFS(Налоги!O$15:O$42,Налоги!$A$15:$A$42,$A210,Налоги!$M$15:$M$42,$B210)","v":0},{"$f":"SUMIFS(Налоги!P$15:P$42,Налоги!$A$15:$A$42,$A210,Налоги!$M$15:$M$42,$B210)","v":0},{"$f":"SUMIFS(Налоги!Q$15:Q$42,Налоги!$A$15:$A$42,$A210,Налоги!$M$15:$M$42,$B210)","v":0},0,{"$f":"SUMIFS(Налоги!R$15:R$42,Налоги!$A$15:$A$42,$A210,Налоги!$M$15:$M$42,$B210)","v":0},{"$f":"SUMIFS(Налоги!S$15:S$42,Налоги!$A$15:$A$42,$A210,Налоги!$M$15:$M$42,$B210)","v":0},{"$f":"SUMIFS(Налоги!T$15:T$42,Налоги!$A$15:$A$42,$A210,Налоги!$M$15:$M$42,$B210)","v":0},{"$f":"SUMIFS(Налоги!U$15:U$42,Налоги!$A$15:$A$42,$A210,Налоги!$M$15:$M$42,$B210)","v":0},{"$f":"SUMIFS(Налоги!V$15:V$42,Налоги!$A$15:$A$42,$A210,Налоги!$M$15:$M$42,$B210)","v":0},{"$f":"SUMIFS(Налоги!W$15:W$42,Налоги!$A$15:$A$42,$A210,Налоги!$M$15:$M$42,$B210)","v":0},{"$f":"SUMIFS(Налоги!X$15:X$42,Налоги!$A$15:$A$42,$A210,Налоги!$M$15:$M$42,$B210)","v":0},{"$f":"SUMIFS(Налоги!Y$15:Y$42,Налоги!$A$15:$A$42,$A210,Налоги!$M$15:$M$42,$B210)","v":0},{"$f":"SUMIFS(Налоги!Z$15:Z$42,Налоги!$A$15:$A$42,$A210,Налоги!$M$15:$M$42,$B210)","v":0},{"$f":"SUMIFS(Налоги!AA$15:AA$42,Налоги!$A$15:$A$42,$A210,Налоги!$M$15:$M$42,$B210)","v":0},{"$f":"SUMIFS(Налоги!AB$15:AB$42,Налоги!$A$15:$A$42,$A210,Налоги!$M$15:$M$42,$B210)","v":0},{"$f":"SUMIFS(Налоги!AC$15:AC$42,Налоги!$A$15:$A$42,$A210,Налоги!$M$15:$M$42,$B210)","v":0},{"$f":"SUMIFS(Налоги!AD$15:AD$42,Налоги!$A$15:$A$42,$A210,Налоги!$M$15:$M$42,$B210)","v":0},{"$f":"SUMIFS(Налоги!AE$15:AE$42,Налоги!$A$15:$A$42,$A210,Налоги!$M$15:$M$42,$B210)","v":0},{"$f":"SUMIFS(Налоги!AF$15:AF$42,Налоги!$A$15:$A$42,$A210,Налоги!$M$15:$M$42,$B210)","v":0},{"$f":"SUMIFS(Налоги!AG$15:AG$42,Налоги!$A$15:$A$42,$A210,Налоги!$M$15:$M$42,$B210)","v":0},{"$f":"SUMIFS(Налоги!AH$15:AH$42,Налоги!$A$15:$A$42,$A210,Налоги!$M$15:$M$42,$B210)","v":0},{"$f":"SUMIFS(Налоги!AI$15:AI$42,Налоги!$A$15:$A$42,$A210,Налоги!$M$15:$M$42,$B210)","v":0},{"$f":"SUMIFS(Налоги!AJ$15:AJ$42,Налоги!$A$15:$A$42,$A210,Налоги!$M$15:$M$42,$B210)","v":0},{"$f":"SUMIFS(Налоги!AK$15:AK$42,Налоги!$A$15:$A$42,$A210,Налоги!$M$15:$M$42,$B210)","v":0},{"$f":"SUMIFS(Налоги!AL$15:AL$42,Налоги!$A$15:$A$42,$A210,Налоги!$M$15:$M$42,$B210)","v":0},0,0,0,0,0,0,0,0,0,0]
["2","Плата за пользование водным объектом",null,"L2_3_5",null,null,null,null,null,null,null,"2.3.5","плата за пользование водным объектом","тыс.руб.",{"$f":"SUMIFS(Налоги!O$15:O$42,Налоги!$A$15:$A$42,$A211,Налоги!$M$15:$M$42,$B211)","v":0},{"$f":"SUMIFS(Налоги!P$15:P$42,Налоги!$A$15:$A$42,$A211,Налоги!$M$15:$M$42,$B211)","v":0},{"$f":"SUMIFS(Налоги!Q$15:Q$42,Налоги!$A$15:$A$42,$A211,Налоги!$M$15:$M$42,$B211)","v":0},0,{"$f":"SUMIFS(Налоги!R$15:R$42,Налоги!$A$15:$A$42,$A211,Налоги!$M$15:$M$42,$B211)","v":0},{"$f":"SUMIFS(Налоги!S$15:S$42,Налоги!$A$15:$A$42,$A211,Налоги!$M$15:$M$42,$B211)","v":0},{"$f":"SUMIFS(Налоги!T$15:T$42,Налоги!$A$15:$A$42,$A211,Налоги!$M$15:$M$42,$B211)","v":0},{"$f":"SUMIFS(Налоги!U$15:U$42,Налоги!$A$15:$A$42,$A211,Налоги!$M$15:$M$42,$B211)","v":0},{"$f":"SUMIFS(Налоги!V$15:V$42,Налоги!$A$15:$A$42,$A211,Налоги!$M$15:$M$42,$B211)","v":0},{"$f":"SUMIFS(Налоги!W$15:W$42,Налоги!$A$15:$A$42,$A211,Налоги!$M$15:$M$42,$B211)","v":0},{"$f":"SUMIFS(Налоги!X$15:X$42,Налоги!$A$15:$A$42,$A211,Налоги!$M$15:$M$42,$B211)","v":0},{"$f":"SUMIFS(Налоги!Y$15:Y$42,Налоги!$A$15:$A$42,$A211,Налоги!$M$15:$M$42,$B211)","v":0},{"$f":"SUMIFS(Налоги!Z$15:Z$42,Налоги!$A$15:$A$42,$A211,Налоги!$M$15:$M$42,$B211)","v":0},{"$f":"SUMIFS(Налоги!AA$15:AA$42,Налоги!$A$15:$A$42,$A211,Налоги!$M$15:$M$42,$B211)","v":0},{"$f":"SUMIFS(Налоги!AB$15:AB$42,Налоги!$A$15:$A$42,$A211,Налоги!$M$15:$M$42,$B211)","v":0},{"$f":"SUMIFS(Налоги!AC$15:AC$42,Налоги!$A$15:$A$42,$A211,Налоги!$M$15:$M$42,$B211)","v":0},{"$f":"SUMIFS(Налоги!AD$15:AD$42,Налоги!$A$15:$A$42,$A211,Налоги!$M$15:$M$42,$B211)","v":0},{"$f":"SUMIFS(Налоги!AE$15:AE$42,Налоги!$A$15:$A$42,$A211,Налоги!$M$15:$M$42,$B211)","v":0},{"$f":"SUMIFS(Налоги!AF$15:AF$42,Налоги!$A$15:$A$42,$A211,Налоги!$M$15:$M$42,$B211)","v":0},{"$f":"SUMIFS(Налоги!AG$15:AG$42,Налоги!$A$15:$A$42,$A211,Налоги!$M$15:$M$42,$B211)","v":0},{"$f":"SUMIFS(Налоги!AH$15:AH$42,Налоги!$A$15:$A$42,$A211,Налоги!$M$15:$M$42,$B211)","v":0},{"$f":"SUMIFS(Налоги!AI$15:AI$42,Налоги!$A$15:$A$42,$A211,Налоги!$M$15:$M$42,$B211)","v":0},{"$f":"SUMIFS(Налоги!AJ$15:AJ$42,Налоги!$A$15:$A$42,$A211,Налоги!$M$15:$M$42,$B211)","v":0},{"$f":"SUMIFS(Налоги!AK$15:AK$42,Налоги!$A$15:$A$42,$A211,Налоги!$M$15:$M$42,$B211)","v":0},{"$f":"SUMIFS(Налоги!AL$15:AL$42,Налоги!$A$15:$A$42,$A211,Налоги!$M$15:$M$42,$B211)","v":0},0,0,0,0,0,0,0,0,0,0]
["2","Транспортный налог",null,"L2_3_6",null,null,null,null,null,null,null,"2.3.6","транспортный налог","тыс.руб.",{"$f":"SUMIFS(Налоги!O$15:O$42,Налоги!$A$15:$A$42,$A212,Налоги!$M$15:$M$42,$B212)","v":1.25},{"$f":"SUMIFS(Налоги!P$15:P$42,Налоги!$A$15:$A$42,$A212,Налоги!$M$15:$M$42,$B212)","v":0},{"$f":"SUMIFS(Налоги!Q$15:Q$42,Налоги!$A$15:$A$42,$A212,Налоги!$M$15:$M$42,$B212)","v":0},0,{"$f":"SUMIFS(Налоги!R$15:R$42,Налоги!$A$15:$A$42,$A212,Налоги!$M$15:$M$42,$B212)","v":1.26},{"$f":"SUMIFS(Налоги!S$15:S$42,Налоги!$A$15:$A$42,$A212,Налоги!$M$15:$M$42,$B212)","v":0},{"$f":"SUMIFS(Налоги!T$15:T$42,Налоги!$A$15:$A$42,$A212,Налоги!$M$15:$M$42,$B212)","v":0},{"$f":"SUMIFS(Налоги!U$15:U$42,Налоги!$A$15:$A$42,$A212,Налоги!$M$15:$M$42,$B212)","v":0},{"$f":"SUMIFS(Налоги!V$15:V$42,Налоги!$A$15:$A$42,$A212,Налоги!$M$15:$M$42,$B212)","v":0},{"$f":"SUMIFS(Налоги!W$15:W$42,Налоги!$A$15:$A$42,$A212,Налоги!$M$15:$M$42,$B212)","v":0},{"$f":"SUMIFS(Налоги!X$15:X$42,Налоги!$A$15:$A$42,$A212,Налоги!$M$15:$M$42,$B212)","v":0},{"$f":"SUMIFS(Налоги!Y$15:Y$42,Налоги!$A$15:$A$42,$A212,Налоги!$M$15:$M$42,$B212)","v":0},{"$f":"SUMIFS(Налоги!Z$15:Z$42,Налоги!$A$15:$A$42,$A212,Налоги!$M$15:$M$42,$B212)","v":0},{"$f":"SUMIFS(Налоги!AA$15:AA$42,Налоги!$A$15:$A$42,$A212,Налоги!$M$15:$M$42,$B212)","v":0},{"$f":"SUMIFS(Налоги!AB$15:AB$42,Налоги!$A$15:$A$42,$A212,Налоги!$M$15:$M$42,$B212)","v":0},{"$f":"SUMIFS(Налоги!AC$15:AC$42,Налоги!$A$15:$A$42,$A212,Налоги!$M$15:$M$42,$B212)","v":0},{"$f":"SUMIFS(Налоги!AD$15:AD$42,Налоги!$A$15:$A$42,$A212,Налоги!$M$15:$M$42,$B212)","v":0},{"$f":"SUMIFS(Налоги!AE$15:AE$42,Налоги!$A$15:$A$42,$A212,Налоги!$M$15:$M$42,$B212)","v":0},{"$f":"SUMIFS(Налоги!AF$15:AF$42,Налоги!$A$15:$A$42,$A212,Налоги!$M$15:$M$42,$B212)","v":0},{"$f":"SUMIFS(Налоги!AG$15:AG$42,Налоги!$A$15:$A$42,$A212,Налоги!$M$15:$M$42,$B212)","v":0},{"$f":"SUMIFS(Налоги!AH$15:AH$42,Налоги!$A$15:$A$42,$A212,Налоги!$M$15:$M$42,$B212)","v":0},{"$f":"SUMIFS(Налоги!AI$15:AI$42,Налоги!$A$15:$A$42,$A212,Налоги!$M$15:$M$42,$B212)","v":0},{"$f":"SUMIFS(Налоги!AJ$15:AJ$42,Налоги!$A$15:$A$42,$A212,Налоги!$M$15:$M$42,$B212)","v":0},{"$f":"SUMIFS(Налоги!AK$15:AK$42,Налоги!$A$15:$A$42,$A212,Налоги!$M$15:$M$42,$B212)","v":0},{"$f":"SUMIFS(Налоги!AL$15:AL$42,Налоги!$A$15:$A$42,$A212,Налоги!$M$15:$M$42,$B212)","v":0},-100,0,0,0,0,0,0,0,0,0]
["2","Плата за негативное воздействие на окружающую среду",null,"L2_3_7",null,null,null,null,null,null,null,"2.3.7","плата за негативное воздействие на окружающую среду","тыс.руб.",{"$f":"SUMIFS(Налоги!O$15:O$42,Налоги!$A$15:$A$42,$A213,Налоги!$M$15:$M$42,$B213)","v":0},{"$f":"SUMIFS(Налоги!P$15:P$42,Налоги!$A$15:$A$42,$A213,Налоги!$M$15:$M$42,$B213)","v":0},{"$f":"SUMIFS(Налоги!Q$15:Q$42,Налоги!$A$15:$A$42,$A213,Налоги!$M$15:$M$42,$B213)","v":0},0,{"$f":"SUMIFS(Налоги!R$15:R$42,Налоги!$A$15:$A$42,$A213,Налоги!$M$15:$M$42,$B213)","v":0},{"$f":"SUMIFS(Налоги!S$15:S$42,Налоги!$A$15:$A$42,$A213,Налоги!$M$15:$M$42,$B213)","v":0},{"$f":"SUMIFS(Налоги!T$15:T$42,Налоги!$A$15:$A$42,$A213,Налоги!$M$15:$M$42,$B213)","v":0},{"$f":"SUMIFS(Налоги!U$15:U$42,Налоги!$A$15:$A$42,$A213,Налоги!$M$15:$M$42,$B213)","v":0},{"$f":"SUMIFS(Налоги!V$15:V$42,Налоги!$A$15:$A$42,$A213,Налоги!$M$15:$M$42,$B213)","v":0},{"$f":"SUMIFS(Налоги!W$15:W$42,Налоги!$A$15:$A$42,$A213,Налоги!$M$15:$M$42,$B213)","v":0},{"$f":"SUMIFS(Налоги!X$15:X$42,Налоги!$A$15:$A$42,$A213,Налоги!$M$15:$M$42,$B213)","v":0},{"$f":"SUMIFS(Налоги!Y$15:Y$42,Налоги!$A$15:$A$42,$A213,Налоги!$M$15:$M$42,$B213)","v":0},{"$f":"SUMIFS(Налоги!Z$15:Z$42,Налоги!$A$15:$A$42,$A213,Налоги!$M$15:$M$42,$B213)","v":0},{"$f":"SUMIFS(Налоги!AA$15:AA$42,Налоги!$A$15:$A$42,$A213,Налоги!$M$15:$M$42,$B213)","v":0},{"$f":"SUMIFS(Налоги!AB$15:AB$42,Налоги!$A$15:$A$42,$A213,Налоги!$M$15:$M$42,$B213)","v":0},{"$f":"SUMIFS(Налоги!AC$15:AC$42,Налоги!$A$15:$A$42,$A213,Налоги!$M$15:$M$42,$B213)","v":0},{"$f":"SUMIFS(Налоги!AD$15:AD$42,Налоги!$A$15:$A$42,$A213,Налоги!$M$15:$M$42,$B213)","v":0},{"$f":"SUMIFS(Налоги!AE$15:AE$42,Налоги!$A$15:$A$42,$A213,Налоги!$M$15:$M$42,$B213)","v":0},{"$f":"SUMIFS(Налоги!AF$15:AF$42,Налоги!$A$15:$A$42,$A213,Налоги!$M$15:$M$42,$B213)","v":0},{"$f":"SUMIFS(Налоги!AG$15:AG$42,Налоги!$A$15:$A$42,$A213,Налоги!$M$15:$M$42,$B213)","v":0},{"$f":"SUMIFS(Налоги!AH$15:AH$42,Налоги!$A$15:$A$42,$A213,Налоги!$M$15:$M$42,$B213)","v":0},{"$f":"SUMIFS(Налоги!AI$15:AI$42,Налоги!$A$15:$A$42,$A213,Налоги!$M$15:$M$42,$B213)","v":0},{"$f":"SUMIFS(Налоги!AJ$15:AJ$42,Налоги!$A$15:$A$42,$A213,Налоги!$M$15:$M$42,$B213)","v":0},{"$f":"SUMIFS(Налоги!AK$15:AK$42,Налоги!$A$15:$A$42,$A213,Налоги!$M$15:$M$42,$B213)","v":0},{"$f":"SUMIFS(Налоги!AL$15:AL$42,Налоги!$A$15:$A$42,$A213,Налоги!$M$15:$M$42,$B213)","v":0},0,0,0,0,0,0,0,0,0,0]
["2","Единый налог при упрощенной системе налогообложения",null,"L2_3_8",null,null,null,null,null,null,null,"2.3.8","единый налог при УСН","тыс.руб.",{"$f":"SUMIFS(Налоги!O$15:O$42,Налоги!$A$15:$A$42,$A214,Налоги!$M$15:$M$42,$B214)","v":0},{"$f":"SUMIFS(Налоги!P$15:P$42,Налоги!$A$15:$A$42,$A214,Налоги!$M$15:$M$42,$B214)","v":0},{"$f":"SUMIFS(Налоги!Q$15:Q$42,Налоги!$A$15:$A$42,$A214,Налоги!$M$15:$M$42,$B214)","v":0},{"$f":"Q214-P214","v":0},{"$f":"SUMIFS(Налоги!R$15:R$42,Налоги!$A$15:$A$42,$A214,Налоги!$M$15:$M$42,$B214)","v":0},{"$f":"SUMIFS(Налоги!S$15:S$42,Налоги!$A$15:$A$42,$A214,Налоги!$M$15:$M$42,$B214)","v":0},{"$f":"SUMIFS(Налоги!T$15:T$42,Налоги!$A$15:$A$42,$A214,Налоги!$M$15:$M$42,$B214)","v":0},{"$f":"SUMIFS(Налоги!U$15:U$42,Налоги!$A$15:$A$42,$A214,Налоги!$M$15:$M$42,$B214)","v":0},{"$f":"SUMIFS(Налоги!V$15:V$42,Налоги!$A$15:$A$42,$A214,Налоги!$M$15:$M$42,$B214)","v":0},{"$f":"SUMIFS(Налоги!W$15:W$42,Налоги!$A$15:$A$42,$A214,Налоги!$M$15:$M$42,$B214)","v":0},{"$f":"SUMIFS(Налоги!X$15:X$42,Налоги!$A$15:$A$42,$A214,Налоги!$M$15:$M$42,$B214)","v":0},{"$f":"SUMIFS(Налоги!Y$15:Y$42,Налоги!$A$15:$A$42,$A214,Налоги!$M$15:$M$42,$B214)","v":0},{"$f":"SUMIFS(Налоги!Z$15:Z$42,Налоги!$A$15:$A$42,$A214,Налоги!$M$15:$M$42,$B214)","v":0},{"$f":"SUMIFS(Налоги!AA$15:AA$42,Налоги!$A$15:$A$42,$A214,Налоги!$M$15:$M$42,$B214)","v":0},{"$f":"SUMIFS(Налоги!AB$15:AB$42,Налоги!$A$15:$A$42,$A214,Налоги!$M$15:$M$42,$B214)","v":0},{"$f":"SUMIFS(Налоги!AC$15:AC$42,Налоги!$A$15:$A$42,$A214,Налоги!$M$15:$M$42,$B214)","v":0},{"$f":"SUMIFS(Налоги!AD$15:AD$42,Налоги!$A$15:$A$42,$A214,Налоги!$M$15:$M$42,$B214)","v":0},{"$f":"SUMIFS(Налоги!AE$15:AE$42,Налоги!$A$15:$A$42,$A214,Налоги!$M$15:$M$42,$B214)","v":0},{"$f":"SUMIFS(Налоги!AF$15:AF$42,Налоги!$A$15:$A$42,$A214,Налоги!$M$15:$M$42,$B214)","v":0},{"$f":"SUMIFS(Налоги!AG$15:AG$42,Налоги!$A$15:$A$42,$A214,Налоги!$M$15:$M$42,$B214)","v":0},{"$f":"SUMIFS(Налоги!AH$15:AH$42,Налоги!$A$15:$A$42,$A214,Налоги!$M$15:$M$42,$B214)","v":0},{"$f":"SUMIFS(Налоги!AI$15:AI$42,Налоги!$A$15:$A$42,$A214,Налоги!$M$15:$M$42,$B214)","v":0},{"$f":"SUMIFS(Налоги!AJ$15:AJ$42,Налоги!$A$15:$A$42,$A214,Налоги!$M$15:$M$42,$B214)","v":0},{"$f":"SUMIFS(Налоги!AK$15:AK$42,Налоги!$A$15:$A$42,$A214,Налоги!$M$15:$M$42,$B214)","v":0},{"$f":"SUMIFS(Налоги!AL$15:AL$42,Налоги!$A$15:$A$42,$A214,Налоги!$M$15:$M$42,$B214)","v":0},0,0,0,0,0,0,0,0,0,0]
["2","Прочие налоги и сборы",null,"L2_3_9",null,null,null,null,null,null,null,"2.3.9","прочие налоги и сборы","тыс.руб.",{"$f":"SUMIFS(Налоги!O$15:O$42,Налоги!$A$15:$A$42,$A215,Налоги!$M$15:$M$42,$B215)","v":0},{"$f":"SUMIFS(Налоги!P$15:P$42,Налоги!$A$15:$A$42,$A215,Налоги!$M$15:$M$42,$B215)","v":0},{"$f":"SUMIFS(Налоги!Q$15:Q$42,Налоги!$A$15:$A$42,$A215,Налоги!$M$15:$M$42,$B215)","v":0},0,{"$f":"SUMIFS(Налоги!R$15:R$42,Налоги!$A$15:$A$42,$A215,Налоги!$M$15:$M$42,$B215)","v":0},{"$f":"SUMIFS(Налоги!S$15:S$42,Налоги!$A$15:$A$42,$A215,Налоги!$M$15:$M$42,$B215)","v":0},{"$f":"SUMIFS(Налоги!T$15:T$42,Налоги!$A$15:$A$42,$A215,Налоги!$M$15:$M$42,$B215)","v":0},{"$f":"SUMIFS(Налоги!U$15:U$42,Налоги!$A$15:$A$42,$A215,Налоги!$M$15:$M$42,$B215)","v":0},{"$f":"SUMIFS(Налоги!V$15:V$42,Налоги!$A$15:$A$42,$A215,Налоги!$M$15:$M$42,$B215)","v":0},{"$f":"SUMIFS(Налоги!W$15:W$42,Налоги!$A$15:$A$42,$A215,Налоги!$M$15:$M$42,$B215)","v":0},{"$f":"SUMIFS(Налоги!X$15:X$42,Налоги!$A$15:$A$42,$A215,Налоги!$M$15:$M$42,$B215)","v":0},{"$f":"SUMIFS(Налоги!Y$15:Y$42,Налоги!$A$15:$A$42,$A215,Налоги!$M$15:$M$42,$B215)","v":0},{"$f":"SUMIFS(Налоги!Z$15:Z$42,Налоги!$A$15:$A$42,$A215,Налоги!$M$15:$M$42,$B215)","v":0},{"$f":"SUMIFS(Налоги!AA$15:AA$42,Налоги!$A$15:$A$42,$A215,Налоги!$M$15:$M$42,$B215)","v":0},{"$f":"SUMIFS(Налоги!AB$15:AB$42,Налоги!$A$15:$A$42,$A215,Налоги!$M$15:$M$42,$B215)","v":0},{"$f":"SUMIFS(Налоги!AC$15:AC$42,Налоги!$A$15:$A$42,$A215,Налоги!$M$15:$M$42,$B215)","v":0},{"$f":"SUMIFS(Налоги!AD$15:AD$42,Налоги!$A$15:$A$42,$A215,Налоги!$M$15:$M$42,$B215)","v":0},{"$f":"SUMIFS(Налоги!AE$15:AE$42,Налоги!$A$15:$A$42,$A215,Налоги!$M$15:$M$42,$B215)","v":0},{"$f":"SUMIFS(Налоги!AF$15:AF$42,Налоги!$A$15:$A$42,$A215,Налоги!$M$15:$M$42,$B215)","v":0},{"$f":"SUMIFS(Налоги!AG$15:AG$42,Налоги!$A$15:$A$42,$A215,Налоги!$M$15:$M$42,$B215)","v":0},{"$f":"SUMIFS(Налоги!AH$15:AH$42,Налоги!$A$15:$A$42,$A215,Налоги!$M$15:$M$42,$B215)","v":0},{"$f":"SUMIFS(Налоги!AI$15:AI$42,Налоги!$A$15:$A$42,$A215,Налоги!$M$15:$M$42,$B215)","v":0},{"$f":"SUMIFS(Налоги!AJ$15:AJ$42,Налоги!$A$15:$A$42,$A215,Налоги!$M$15:$M$42,$B215)","v":0},{"$f":"SUMIFS(Налоги!AK$15:AK$42,Налоги!$A$15:$A$42,$A215,Налоги!$M$15:$M$42,$B215)","v":0},{"$f":"SUMIFS(Налоги!AL$15:AL$42,Налоги!$A$15:$A$42,$A215,Налоги!$M$15:$M$42,$B215)","v":0},0,0,0,0,0,0,0,0,0,0]
["2","Расходы на мероприятия по защите централизованных систем водоснабжения",null,"L2_4",null,null,null,null,null,null,null,"2.4","Расходы на мероприятия по защите централизованных систем водоснабжения и (или) водоотведения и их отдельных объектов от угроз техногенного, природного характера и террористических актов, по предотвращению возникновения аварийных ситуаций, снижению риска и смягчению последствий чрезвычайных ситуаций (за исключением мероприятий, включенных в инвестиционную программу)","тыс.руб.",null,null,null,0,null,null,null,null,null,null,null,null,null,null,null,null,null,null,null,null,null,null,null,null,null,0,0,0,0,0,0,0,0,0,0]
["2","Арендная и концессионная плата, лизинговые платежи",null,"L2_5",null,null,null,null,null,null,null,"2.5","Арендная и концессионная плата, лизинговые платежи","тыс.руб.",{"$f":"SUMIFS(Аренда!O$15:O$32,Аренда!$A$15:$A$32,$A217,Аренда!$M$15:$M$32,\"Арендная и концессионная плата. Лизинговые платежи\")","v":2942.9044100000001},{"$f":"SUMIFS(Аренда!P$15:P$32,Аренда!$A$15:$A$32,$A217,Аренда!$M$15:$M$32,\"Арендная и концессионная плата. Лизинговые платежи\")","v":3358},{"$f":"SUMIFS(Аренда!Q$15:Q$32,Аренда!$A$15:$A$32,$A217,Аренда!$M$15:$M$32,\"Арендная и концессионная плата. Лизинговые платежи\")","v":2953.2374100000002},-404.76258999999982,{"$f":"SUMIFS(Аренда!R$15:R$32,Аренда!$A$15:$A$32,$A217,Аренда!$M$15:$M$32,\"Арендная и концессионная плата. Лизинговые платежи\")","v":2908.48},{"$f":"SUMIFS(Аренда!S$15:S$32,Аренда!$A$15:$A$32,$A217,Аренда!$M$15:$M$32,\"Арендная и концессионная плата. Лизинговые платежи\")","v":3698.7599999999998},{"$f":"SUMIFS(Аренда!T$15:T$32,Аренда!$A$15:$A$32,$A217,Аренда!$M$15:$M$32,\"Арендная и концессионная плата. Лизинговые платежи\")","v":3698.7599999999998},{"$f":"SUMIFS(Аренда!U$15:U$32,Аренда!$A$15:$A$32,$A217,Аренда!$M$15:$M$32,\"Арендная и концессионная плата. Лизинговые платежи\")","v":3698.7599999999998},{"$f":"SUMIFS(Аренда!V$15:V$32,Аренда!$A$15:$A$32,$A217,Аренда!$M$15:$M$32,\"Арендная и концессионная плата. Лизинговые платежи\")","v":3698.75},{"$f":"SUMIFS(Аренда!W$15:W$32,Аренда!$A$15:$A$32,$A217,Аренда!$M$15:$M$32,\"Арендная и концессионная плата. Лизинговые платежи\")","v":3698.7599999999998},{"$f":"SUMIFS(Аренда!X$15:X$32,Аренда!$A$15:$A$32,$A217,Аренда!$M$15:$M$32,\"Арендная и концессионная плата. Лизинговые платежи\")","v":0},{"$f":"SUMIFS(Аренда!Y$15:Y$32,Аренда!$A$15:$A$32,$A217,Аренда!$M$15:$M$32,\"Арендная и концессионная плата. Лизинговые платежи\")","v":0},{"$f":"SUMIFS(Аренда!Z$15:Z$32,Аренда!$A$15:$A$32,$A217,Аренда!$M$15:$M$32,\"Арендная и концессионная плата. Лизинговые платежи\")","v":0},{"$f":"SUMIFS(Аренда!AA$15:AA$32,Аренда!$A$15:$A$32,$A217,Аренда!$M$15:$M$32,\"Арендная и концессионная плата. Лизинговые платежи\")","v":0},{"$f":"SUMIFS(Аренда!AB$15:AB$32,Аренда!$A$15:$A$32,$A217,Аренда!$M$15:$M$32,\"Арендная и концессионная плата. Лизинговые платежи\")","v":0},{"$f":"SUMIFS(Аренда!AC$15:AC$32,Аренда!$A$15:$A$32,$A217,Аренда!$M$15:$M$32,\"Арендная и концессионная плата. Лизинговые платежи\")","v":2848.0619999999999},{"$f":"SUMIFS(Аренда!AD$15:AD$32,Аренда!$A$15:$A$32,$A217,Аренда!$M$15:$M$32,\"Арендная и концессионная плата. Лизинговые платежи\")","v":2796.6936999999998},{"$f":"SUMIFS(Аренда!AE$15:AE$32,Аренда!$A$15:$A$32,$A217,Аренда!$M$15:$M$32,\"Арендная и концессионная плата. Лизинговые платежи\")","v":2745.31},{"$f":"SUMIFS(Аренда!AF$15:AF$32,Аренда!$A$15:$A$32,$A217,Аренда!$M$15:$M$32,\"Арендная и концессионная плата. Лизинговые платежи\")","v":2693.9436999999998},{"$f":"SUMIFS(Аренда!AG$15:AG$32,Аренда!$A$15:$A$32,$A217,Аренда!$M$15:$M$32,\"Арендная и концессионная плата. Лизинговые платежи\")","v":2642.56},{"$f":"SUMIFS(Аренда!AH$15:AH$32,Аренда!$A$15:$A$32,$A217,Аренда!$M$15:$M$32,\"Арендная и концессионная плата. Лизинговые платежи\")","v":0},{"$f":"SUMIFS(Аренда!AI$15:AI$32,Аренда!$A$15:$A$32,$A217,Аренда!$M$15:$M$32,\"Арендная и концессионная плата. Лизинговые платежи\")","v":0},{"$f":"SUMIFS(Аренда!AJ$15:AJ$32,Аренда!$A$15:$A$32,$A217,Аренда!$M$15:$M$32,\"Арендная и концессионная плата. Лизинговые платежи\")","v":0},{"$f":"SUMIFS(Аренда!AK$15:AK$32,Аренда!$A$15:$A$32,$A217,Аренда!$M$15:$M$32,\"Арендная и концессионная плата. Лизинговые платежи\")","v":0},{"$f":"SUMIFS(Аренда!AL$15:AL$32,Аренда!$A$15:$A$32,$A217,Аренда!$M$15:$M$32,\"Арендная и концессионная плата. Лизинговые платежи\")","v":0},{"$f":"IF(S217=0,0,(AD217-S217)/S217*100)","v":-2.0773049840466538},-1.8036229548373628,-1.8373016680375067,-1.8710564562836305,-1.9073783910183373,-100,0,0,0,0,null,"1) Пункты 49 (3), 51, 29 Методических указаний ФСТ № 1746-э. 2) Пункт 28 абз. 4 Методических указаний ФСТ № 1746-э. 3) Постановление Правительства РФ от 01.01.2002 N 1 (ред. от 18.11.2022) \"О Классификации основных средств, включаемых в амортизационные группы\" (Постановление Правительства РФ от 01.01.2002 N 1).  4) Пункт 4 статьи 39.7, подпункт 2 статьи 49 \"Земельного кодекса Российской Федерации\" от 25.10.2001 N 136-ФЗ (ред. от 04.08.2023). 5) Пункт 5 «Правил определения размера арендной платы, а также порядка, условий и сроков внесения арендной платы за земли, находящиеся в собственности Российской Федерации» (утверждены Постановлением Правительства РФ от 16.07.2009 N 582 (ред. от 10.02.2023). 6) Приказ Минэкономразвития России от 23.04.2013 N 217 . 7) Приказ Минфина России от 16.10.2018 N 208н (ред. от 29.06.2022). 8) Письмо ФАС России от 05.08.2022 N МШ/74227/22. ","1) АРЕНДА ЗДАНИЙ и СООРУЖЕНИЙ (объекты системы водоотведения) по Договору № А-63/23 от 01.06.2023%  годовые величины затрат приняты в размере нормативных амортизационных отчислений и расчетных величин налога на имущество; НАКЛАДНЫЕ РАСХОДЫ И РЕНТАБЕЛЬНОСТЬ исключены.  2)  АРЕНДА ЗЕМЛИ:  Заявлены к учету расходы по Договору субаренды от 01.12.2022 № 38/2022. Заявлены расходы по договору субаренды от 01.12.2022 № 38/2022. Фактические затраты 2022 г. (66,58 тыс. руб.) не отражены организацией ошибочно.  Специалистом РЭК плановые затраты на 2024-2028 гг. приняты в размере  56,25 тыс. руб./ год, что составляет 0,7% от кадастровой стоимости  земельного участка (см. \"Обзор судебной практики Верховного суда РФ № 1 (2018)\" (вопрос № 18)."]
["2",null,null,"L2_6",null,null,null,null,null,null,null,"2.6","Сбытовые расходы гарантирующей организации","тыс.руб.",{"$f":"O219","v":0},{"$f":"P219","v":0},{"$f":"Q219","v":0},0,{"$f":"S219","v":0},0,0,0,0,0,0,0,0,0,0,0,0,0,0,0,0,0,0,0,0,0,0,0,0,0,0,0,0,0,0]
["2","резерв по сомнительным долгам гарантирующей организации",null,"L2_6_1",null,null,null,null,null,null,null,"2.6.1","резерв по сомнительным долгам гарантирующей организации","тыс.руб.",{"$f":"SUMIFS('Сбытовые расходы ГО'!O$15:O$40,'Сбытовые расходы ГО'!$A$15:$A$40,$A219,'Сбытовые расходы ГО'!$B$15:$B$40,\"L1\")","v":0},{"$f":"SUMIFS('Сбытовые расходы ГО'!P$15:P$40,'Сбытовые расходы ГО'!$A$15:$A$40,$A219,'Сбытовые расходы ГО'!$B$15:$B$40,\"L1\")","v":0},{"$f":"SUMIFS('Сбытовые расходы ГО'!Q$15:Q$40,'Сбытовые расходы ГО'!$A$15:$A$40,$A219,'Сбытовые расходы ГО'!$B$15:$B$40,\"L1\")","v":0},0,{"$f":"SUMIFS('Сбытовые расходы ГО'!R$15:R$40,'Сбытовые расходы ГО'!$A$15:$A$40,$A219,'Сбытовые расходы ГО'!$B$15:$B$40,\"L1\")","v":0},{"$f":"SUMIFS('Сбытовые расходы ГО'!S$15:S$40,'Сбытовые расходы ГО'!$A$15:$A$40,$A219,'Сбытовые расходы ГО'!$B$15:$B$40,\"L1\")","v":0},null,null,null,null,null,null,null,null,null,{"$f":"SUMIFS('Сбытовые расходы ГО'!T$15:T$40,'Сбытовые расходы ГО'!$A$15:$A$40,$A219,'Сбытовые расходы ГО'!$B$15:$B$40,\"L1\")","v":0},null,null,null,null,null,null,null,null,null,0,0,0,0,0,0,0,0,0,0]
["2","Экономия расходов",null,"L2_7",null,null,null,null,null,null,null,"2.7","Экономия расходов","тыс.руб.",null,null,null,0,null,{"$f":"SUMIFS(Экономия_корр!O$15:O$32,Экономия_корр!$A$15:$A$32,$A220,Экономия_корр!$M$15:$M$32,\"Экономия расходов с учетом ИПЦ\")","v":0},{"$f":"SUMIFS(Экономия_корр!P$15:P$32,Экономия_корр!$A$15:$A$32,$A220,Экономия_корр!$M$15:$M$32,\"Экономия расходов с учетом ИПЦ\")","v":0},{"$f":"SUMIFS(Экономия_корр!Q$15:Q$32,Экономия_корр!$A$15:$A$32,$A220,Экономия_корр!$M$15:$M$32,\"Экономия расходов с учетом ИПЦ\")","v":0},{"$f":"SUMIFS(Экономия_корр!R$15:R$32,Экономия_корр!$A$15:$A$32,$A220,Экономия_корр!$M$15:$M$32,\"Экономия расходов с учетом ИПЦ\")","v":0},{"$f":"SUMIFS(Экономия_корр!S$15:S$32,Экономия_корр!$A$15:$A$32,$A220,Экономия_корр!$M$15:$M$32,\"Экономия расходов с учетом ИПЦ\")","v":0},{"$f":"SUMIFS(Экономия_корр!T$15:T$32,Экономия_корр!$A$15:$A$32,$A220,Экономия_корр!$M$15:$M$32,\"Экономия расходов с учетом ИПЦ\")","v":0},{"$f":"SUMIFS(Экономия_корр!U$15:U$32,Экономия_корр!$A$15:$A$32,$A220,Экономия_корр!$M$15:$M$32,\"Экономия расходов с учетом ИПЦ\")","v":0},{"$f":"SUMIFS(Экономия_корр!V$15:V$32,Экономия_корр!$A$15:$A$32,$A220,Экономия_корр!$M$15:$M$32,\"Экономия расходов с учетом ИПЦ\")","v":0},{"$f":"SUMIFS(Экономия_корр!W$15:W$32,Экономия_корр!$A$15:$A$32,$A220,Экономия_корр!$M$15:$M$32,\"Экономия расходов с учетом ИПЦ\")","v":0},{"$f":"SUMIFS(Экономия_корр!X$15:X$32,Экономия_корр!$A$15:$A$32,$A220,Экономия_корр!$M$15:$M$32,\"Экономия расходов с учетом ИПЦ\")","v":0},{"$f":"SUMIFS(Экономия_корр!Y$15:Y$32,Экономия_корр!$A$15:$A$32,$A220,Экономия_корр!$M$15:$M$32,\"Экономия расходов с учетом ИПЦ\")","v":0},{"$f":"SUMIFS(Экономия_корр!Z$15:Z$32,Экономия_корр!$A$15:$A$32,$A220,Экономия_корр!$M$15:$M$32,\"Экономия расходов с учетом ИПЦ\")","v":0},{"$f":"SUMIFS(Экономия_корр!AA$15:AA$32,Экономия_корр!$A$15:$A$32,$A220,Экономия_корр!$M$15:$M$32,\"Экономия расходов с учетом ИПЦ\")","v":0},{"$f":"SUMIFS(Экономия_корр!AB$15:AB$32,Экономия_корр!$A$15:$A$32,$A220,Экономия_корр!$M$15:$M$32,\"Экономия расходов с учетом ИПЦ\")","v":0},{"$f":"SUMIFS(Экономия_корр!AC$15:AC$32,Экономия_корр!$A$15:$A$32,$A220,Экономия_корр!$M$15:$M$32,\"Экономия расходов с учетом ИПЦ\")","v":0},{"$f":"SUMIFS(Экономия_корр!AD$15:AD$32,Экономия_корр!$A$15:$A$32,$A220,Экономия_корр!$M$15:$M$32,\"Экономия расходов с учетом ИПЦ\")","v":0},{"$f":"SUMIFS(Экономия_корр!AE$15:AE$32,Экономия_корр!$A$15:$A$32,$A220,Экономия_корр!$M$15:$M$32,\"Экономия расходов с учетом ИПЦ\")","v":0},{"$f":"SUMIFS(Экономия_корр!AF$15:AF$32,Экономия_корр!$A$15:$A$32,$A220,Экономия_корр!$M$15:$M$32,\"Экономия расходов с учетом ИПЦ\")","v":0},{"$f":"SUMIFS(Экономия_корр!AG$15:AG$32,Экономия_корр!$A$15:$A$32,$A220,Экономия_корр!$M$15:$M$32,\"Экономия расходов с учетом ИПЦ\")","v":0},{"$f":"SUMIFS(Экономия_корр!AH$15:AH$32,Экономия_корр!$A$15:$A$32,$A220,Экономия_корр!$M$15:$M$32,\"Экономия расходов с учетом ИПЦ\")","v":0},0,0,0,0,0,0,0,0,0,0]
["2","Расходы на обслуживание бесхозяйных сетей",null,"L2_8",null,null,null,null,null,null,null,"2.8","Расходы на обслуживание бесхозяйных сетей","тыс.руб.",null,null,null,0,null,null,null,null,null,null,null,null,null,null,null,null,null,null,null,null,null,null,null,null,null,0,0,0,0,0,0,0,0,0,0]
["2","Расходы на компенсацию экономически обоснованных расходов",null,"L2_9",null,null,null,null,null,null,null,"2.9","Расходы на компенсацию экономически обоснованных расходов","тыс.руб.",null,null,null,0,null,null,null,null,null,null,null,null,null,null,null,null,null,null,null,null,null,null,null,null,null,0,0,0,0,0,0,0,0,0,0]
["2","Займы и кредиты (для метода индексации)",null,"L2_10",null,null,null,null,null,null,null,"2.10","Займы и кредиты (для метода индексации)","тыс.руб.",{"$f":"SUM(O224,O225)","v":0},{"$f":"SUM(P224,P225)","v":0},0,0,0,0,0,0,0,0,0,0,0,0,0,0,0,0,0,0,0,0,0,0,0,0,0,0,0,0,0,0,0,0,0]
["2",null,null,"L2_10_1",null,null,null,null,null,null,null,"2.10.1","возврат займов и кредитов","тыс.руб.",null,null,null,0,null,null,null,null,null,null,null,null,null,null,null,null,null,null,null,null,null,null,null,null,null,0,0,0,0,0,0,0,0,0,0]
["2",null,null,"L2_10_2",null,null,null,null,null,null,null,"2.10.2","проценты по займам и кредитам","тыс.руб.",null,null,null,0,null,null,null,null,null,null,null,null,null,null,null,null,null,null,null,null,null,null,null,null,null,0,{"$f":"IF(AD225=0,0,(AE225-AD225)/AD225*100)","v":0},0,0,0,0,0,0,0,0]
["2","Расходы концессионера на осуществление государственного кадастрового учета",null,"L2_11",null,null,null,null,null,null,null,"2.11","Расходы концессионера на осуществление государственного кадастрового учета и (или) государственной регистрации права собственности концедента","тыс.руб.",null,null,null,0,null,null,null,null,null,null,null,null,null,null,null,null,null,null,null,null,null,null,null,null,null,0,0,0,0,0,0,0,0,0,0]
["2","ээ",null,"L3",null,null,null,null,null,null,null,"3","Расходы на электрическую энергию","тыс.руб.",{"$f":"SUMIFS(ЭЭ!O$15:O$42,ЭЭ!$A$15:$A$42,$A227,ЭЭ!$M$15:$M$42,\"Всего по тарифу\")","v":785.10550739065695},{"$f":"SUMIFS(ЭЭ!P$15:P$42,ЭЭ!$A$15:$A$42,$A227,ЭЭ!$M$15:$M$42,\"Всего по тарифу\")","v":721.08},{"$f":"SUMIFS(ЭЭ!Q$15:Q$42,ЭЭ!$A$15:$A$42,$A227,ЭЭ!$M$15:$M$42,\"Всего по тарифу\")","v":710.38},{"$f":"Q227-P227","v":-10.700000000000045},{"$f":"SUMIFS(ЭЭ!R$15:R$42,ЭЭ!$A$15:$A$42,$A227,ЭЭ!$M$15:$M$42,\"Всего по тарифу\")","v":903.15938513850199},{"$f":"SUMIFS(ЭЭ!S$15:S$42,ЭЭ!$A$15:$A$42,$A227,ЭЭ!$M$15:$M$42,\"Всего по тарифу\")","v":1565.61},{"$f":"SUMIFS(ЭЭ!T$15:T$42,ЭЭ!$A$15:$A$42,$A227,ЭЭ!$M$15:$M$42,\"Всего по тарифу\")","v":1639.19},{"$f":"SUMIFS(ЭЭ!U$15:U$42,ЭЭ!$A$15:$A$42,$A227,ЭЭ!$M$15:$M$42,\"Всего по тарифу\")","v":1704.76},{"$f":"SUMIFS(ЭЭ!V$15:V$42,ЭЭ!$A$15:$A$42,$A227,ЭЭ!$M$15:$M$42,\"Всего по тарифу\")","v":1772.95},{"$f":"SUMIFS(ЭЭ!W$15:W$42,ЭЭ!$A$15:$A$42,$A227,ЭЭ!$M$15:$M$42,\"Всего по тарифу\")","v":1843.87},{"$f":"SUMIFS(ЭЭ!X$15:X$42,ЭЭ!$A$15:$A$42,$A227,ЭЭ!$M$15:$M$42,\"Всего по тарифу\")","v":0},{"$f":"SUMIFS(ЭЭ!Y$15:Y$42,ЭЭ!$A$15:$A$42,$A227,ЭЭ!$M$15:$M$42,\"Всего по тарифу\")","v":0},{"$f":"SUMIFS(ЭЭ!Z$15:Z$42,ЭЭ!$A$15:$A$42,$A227,ЭЭ!$M$15:$M$42,\"Всего по тарифу\")","v":0},{"$f":"SUMIFS(ЭЭ!AA$15:AA$42,ЭЭ!$A$15:$A$42,$A227,ЭЭ!$M$15:$M$42,\"Всего по тарифу\")","v":0},{"$f":"SUMIFS(ЭЭ!AB$15:AB$42,ЭЭ!$A$15:$A$42,$A227,ЭЭ!$M$15:$M$42,\"Всего по тарифу\")","v":0},{"$f":"SUMIFS(ЭЭ!AC$15:AC$42,ЭЭ!$A$15:$A$42,$A227,ЭЭ!$M$15:$M$42,\"Всего по тарифу\")","v":835.67405496959998},{"$f":"SUMIFS(ЭЭ!AD$15:AD$42,ЭЭ!$A$15:$A$42,$A227,ЭЭ!$M$15:$M$42,\"Всего по тарифу\")","v":876.62208366311097},{"$f":"SUMIFS(ЭЭ!AE$15:AE$42,ЭЭ!$A$15:$A$42,$A227,ЭЭ!$M$15:$M$42,\"Всего по тарифу\")","v":902.92074617300398},{"$f":"SUMIFS(ЭЭ!AF$15:AF$42,ЭЭ!$A$15:$A$42,$A227,ЭЭ!$M$15:$M$42,\"Всего по тарифу\")","v":930.00836855819398},{"$f":"SUMIFS(ЭЭ!AG$15:AG$42,ЭЭ!$A$15:$A$42,$A227,ЭЭ!$M$15:$M$42,\"Всего по тарифу\")","v":957.90861961493999},{"$f":"SUMIFS(ЭЭ!AH$15:AH$42,ЭЭ!$A$15:$A$42,$A227,ЭЭ!$M$15:$M$42,\"Всего по тарифу\")","v":0},{"$f":"SUMIFS(ЭЭ!AI$15:AI$42,ЭЭ!$A$15:$A$42,$A227,ЭЭ!$M$15:$M$42,\"Всего по тарифу\")","v":0},{"$f":"SUMIFS(ЭЭ!AJ$15:AJ$42,ЭЭ!$A$15:$A$42,$A227,ЭЭ!$M$15:$M$42,\"Всего по тарифу\")","v":0},{"$f":"SUMIFS(ЭЭ!AK$15:AK$42,ЭЭ!$A$15:$A$42,$A227,ЭЭ!$M$15:$M$42,\"Всего по тарифу\")","v":0},{"$f":"SUMIFS(ЭЭ!AL$15:AL$42,ЭЭ!$A$15:$A$42,$A227,ЭЭ!$M$15:$M$42,\"Всего по тарифу\")","v":0},{"$f":"IF(S227=0,0,(AD227-S227)/S227*100)","v":-7.4721396111665213},4.9000000000000714,2.9999999999999631,2.9999999999999871,3.0000000000000209,-100,0,0,0,0,null,"П. 20, 84, 88, 43 Методических указаний ФСТ № 1746-э.","Поставку электрической энергии для нужд  холодного водоснабжения и водоотведения  ООО \"ТВК\"  обеспечивает  ПАО \"Кузбассэнергосбыт\", через посредничество ООО \"Шахта \"Листвяжная\".  См. Лист \"ЭЭ\". "]
["2","амортизация",null,"L4",null,null,null,null,null,null,null,"4","Амортизация основных средств и нематериальных активов, относимых к объектам централизованной системы водоснабжения (водоотведения)","тыс.руб.",{"$f":"SUMIFS(Амортизация!O$15:O$114,Амортизация!$A$15:$A$114,$A228,Амортизация!$M$15:$M$114,\"Сумма амортизационных отчислений\")","v":149.11000000000001},{"$f":"SUMIFS(Амортизация!P$15:P$114,Амортизация!$A$15:$A$114,$A228,Амортизация!$M$15:$M$114,\"Сумма амортизационных отчислений\")","v":0},{"$f":"SUMIFS(Амортизация!Q$15:Q$114,Амортизация!$A$15:$A$114,$A228,Амортизация!$M$15:$M$114,\"Сумма амортизационных отчислений\")","v":109.93353},109.93353,{"$f":"SUMIFS(Амортизация!R$15:R$114,Амортизация!$A$15:$A$114,$A228,Амортизация!$M$15:$M$114,\"Сумма амортизационных отчислений\")","v":47.7},{"$f":"SUMIFS(Амортизация!S$15:S$114,Амортизация!$A$15:$A$114,$A228,Амортизация!$M$15:$M$114,\"Сумма амортизационных отчислений\")","v":205.78},{"$f":"SUMIFS(Амортизация!T$15:T$114,Амортизация!$A$15:$A$114,$A228,Амортизация!$M$15:$M$114,\"Сумма амортизационных отчислений\")","v":192.07},{"$f":"SUMIFS(Амортизация!U$15:U$114,Амортизация!$A$15:$A$114,$A228,Амортизация!$M$15:$M$114,\"Сумма амортизационных отчислений\")","v":20.66},{"$f":"SUMIFS(Амортизация!V$15:V$114,Амортизация!$A$15:$A$114,$A228,Амортизация!$M$15:$M$114,\"Сумма амортизационных отчислений\")","v":0},{"$f":"SUMIFS(Амортизация!W$15:W$114,Амортизация!$A$15:$A$114,$A228,Амортизация!$M$15:$M$114,\"Сумма амортизационных отчислений\")","v":0},{"$f":"SUMIFS(Амортизация!X$15:X$114,Амортизация!$A$15:$A$114,$A228,Амортизация!$M$15:$M$114,\"Сумма амортизационных отчислений\")","v":0},{"$f":"SUMIFS(Амортизация!Y$15:Y$114,Амортизация!$A$15:$A$114,$A228,Амортизация!$M$15:$M$114,\"Сумма амортизационных отчислений\")","v":0},{"$f":"SUMIFS(Амортизация!Z$15:Z$114,Амортизация!$A$15:$A$114,$A228,Амортизация!$M$15:$M$114,\"Сумма амортизационных отчислений\")","v":0},{"$f":"SUMIFS(Амортизация!AA$15:AA$114,Амортизация!$A$15:$A$114,$A228,Амортизация!$M$15:$M$114,\"Сумма амортизационных отчислений\")","v":0},{"$f":"SUMIFS(Амортизация!AB$15:AB$114,Амортизация!$A$15:$A$114,$A228,Амортизация!$M$15:$M$114,\"Сумма амортизационных отчислений\")","v":0},{"$f":"SUMIFS(Амортизация!AC$15:AC$114,Амортизация!$A$15:$A$114,$A228,Амортизация!$M$15:$M$114,\"Сумма амортизационных отчислений\")","v":205.77624},{"$f":"SUMIFS(Амортизация!AD$15:AD$114,Амортизация!$A$15:$A$114,$A228,Амортизация!$M$15:$M$114,\"Сумма амортизационных отчислений\")","v":192.07123999999999},{"$f":"SUMIFS(Амортизация!AE$15:AE$114,Амортизация!$A$15:$A$114,$A228,Амортизация!$M$15:$M$114,\"Сумма амортизационных отчислений\")","v":20.67117},{"$f":"SUMIFS(Амортизация!AF$15:AF$114,Амортизация!$A$15:$A$114,$A228,Амортизация!$M$15:$M$114,\"Сумма амортизационных отчислений\")","v":0},{"$f":"SUMIFS(Амортизация!AG$15:AG$114,Амортизация!$A$15:$A$114,$A228,Амортизация!$M$15:$M$114,\"Сумма амортизационных отчислений\")","v":0},{"$f":"SUMIFS(Амортизация!AH$15:AH$114,Амортизация!$A$15:$A$114,$A228,Амортизация!$M$15:$M$114,\"Сумма амортизационных отчислений\")","v":0},{"$f":"SUMIFS(Амортизация!AI$15:AI$114,Амортизация!$A$15:$A$114,$A228,Амортизация!$M$15:$M$114,\"Сумма амортизационных отчислений\")","v":0},{"$f":"SUMIFS(Амортизация!AJ$15:AJ$114,Амортизация!$A$15:$A$114,$A228,Амортизация!$M$15:$M$114,\"Сумма амортизационных отчислений\")","v":0},{"$f":"SUMIFS(Амортизация!AK$15:AK$114,Амортизация!$A$15:$A$114,$A228,Амортизация!$M$15:$M$114,\"Сумма амортизационных отчислений\")","v":0},{"$f":"SUMIFS(Амортизация!AL$15:AL$114,Амортизация!$A$15:$A$114,$A228,Амортизация!$M$15:$M$114,\"Сумма амортизационных отчислений\")","v":0},331.39672955974839,-6.6601469635172714,-89.237758864887851,-100,0,0,0,0,0,0,null,"1) П. 89, п. 28, п 18(7)  Методических указаний ФСТ № 1746-э. 2) Постановление Правительства РФ от 01.01.2002 N 1 (ред. от 18.11.2022) \"О Классификации основных средств, включаемых в амортизационные группы\". 3) Приказ Минфина России от 17.09.2020 N 204н (ред. от 30.05.2022) \"Об утверждении Федеральных стандартов бухгалтерского учета ФСБУ 6/2020 \"Основные средства\" и ФСБУ 26/2020 \"Капитальные вложения\" (Зарегистрировано в Минюсте России 15.10.2020 N 60399). 4) Письмо> ФАС России от 05.08.2022 N МШ/74227/22 \"О новых стандартах бухгалтерского учета, подлежащих применению начиная с бухгалтерской (финансовой) отчетности за 2022 год\". 5) \"Положение об Учетной политике для целей бухгалтерского учета ООО \"ТВК\" на 2022 год\" (Приказ от 10.01.2022 № 57)."," Фактические затраты 2022 года  составили 109,93 тыс. руб. (не отражены организацией ошибочно). Плановые амортизационные отчисления  на 2024-2028 гг. в части основных средств, числящихся на участке  \"ОСВ\" (насосное оборудование, лабораторные весы), приняты в размерах, предлагаемых организацией.  Расчеты соотвествуют данным представленных  инвентарных карт,  \"Аналитического отчета с 01.01.2022 по 31.12.2022\"  по сч. 20-21 \"Водоотведение\", а также данным \"Ведомости износа основных средств по состоянию на 31.12.2022\" . спользуемые организацией сроки полезного использования  соответствуют  нормативным срокам, указанным  в  \"Классификации основных средств, включаемых в амортизационные группы\"."]
["2",null,null,"L4_1",null,null,null,null,null,null,null,"4.1","в том числе инвестиционная (справочно)","тыс.руб.",{"$f":"SUMIFS('ИП + источники'!P$17:P$89,'ИП + источники'!$A$17:$A$89,$A229,'ИП + источники'!$M$17:$M$89,\"Амортизационные отчисления\")+SUMIFS('ИП + источники'!P$17:P$89,'ИП + источники'!$A$17:$A$89,$A229,'ИП + источники'!$M$17:$M$89,\"погашение займов и кредитов из амортизации\")","v":0},{"$f":"SUMIFS('ИП + источники'!Q$17:Q$89,'ИП + источники'!$A$17:$A$89,$A229,'ИП + источники'!$M$17:$M$89,\"Амортизационные отчисления\")+SUMIFS('ИП + источники'!Q$17:Q$89,'ИП + источники'!$A$17:$A$89,$A229,'ИП + источники'!$M$17:$M$89,\"погашение займов и кредитов из амортизации\")","v":0},{"$f":"SUMIFS('ИП + источники'!R$17:R$89,'ИП + источники'!$A$17:$A$89,$A229,'ИП + источники'!$M$17:$M$89,\"Амортизационные отчисления\")+SUMIFS('ИП + источники'!R$17:R$89,'ИП + источники'!$A$17:$A$89,$A229,'ИП + источники'!$M$17:$M$89,\"погашение займов и кредитов из амортизации\")","v":0},0,{"$f":"SUMIFS('ИП + источники'!T$17:T$89,'ИП + источники'!$A$17:$A$89,$A229,'ИП + источники'!$M$17:$M$89,\"Амортизационные отчисления\")+SUMIFS('ИП + источники'!T$17:T$89,'ИП + источники'!$A$17:$A$89,$A229,'ИП + источники'!$M$17:$M$89,\"погашение займов и кредитов из амортизации\")","v":0},{"$f":"SUMIFS('ИП + источники'!U$17:U$89,'ИП + источники'!$A$17:$A$89,$A229,'ИП + источники'!$M$17:$M$89,\"Амортизационные отчисления\")+SUMIFS('ИП + источники'!U$17:U$89,'ИП + источники'!$A$17:$A$89,$A229,'ИП + источники'!$M$17:$M$89,\"погашение займов и кредитов из амортизации\")","v":0},{"$f":"SUMIFS('ИП + источники'!V$17:V$89,'ИП + источники'!$A$17:$A$89,$A229,'ИП + источники'!$M$17:$M$89,\"Амортизационные отчисления\")+SUMIFS('ИП + источники'!V$17:V$89,'ИП + источники'!$A$17:$A$89,$A229,'ИП + источники'!$M$17:$M$89,\"погашение займов и кредитов из амортизации\")","v":0},{"$f":"SUMIFS('ИП + источники'!W$17:W$89,'ИП + источники'!$A$17:$A$89,$A229,'ИП + источники'!$M$17:$M$89,\"Амортизационные отчисления\")+SUMIFS('ИП + источники'!W$17:W$89,'ИП + источники'!$A$17:$A$89,$A229,'ИП + источники'!$M$17:$M$89,\"погашение займов и кредитов из амортизации\")","v":0},{"$f":"SUMIFS('ИП + источники'!X$17:X$89,'ИП + источники'!$A$17:$A$89,$A229,'ИП + источники'!$M$17:$M$89,\"Амортизационные отчисления\")+SUMIFS('ИП + источники'!X$17:X$89,'ИП + источники'!$A$17:$A$89,$A229,'ИП + источники'!$M$17:$M$89,\"погашение займов и кредитов из амортизации\")","v":0},{"$f":"SUMIFS('ИП + источники'!Y$17:Y$89,'ИП + источники'!$A$17:$A$89,$A229,'ИП + источники'!$M$17:$M$89,\"Амортизационные отчисления\")+SUMIFS('ИП + источники'!Y$17:Y$89,'ИП + источники'!$A$17:$A$89,$A229,'ИП + источники'!$M$17:$M$89,\"погашение займов и кредитов из амортизации\")","v":0},{"$f":"SUMIFS('ИП + источники'!Z$17:Z$89,'ИП + источники'!$A$17:$A$89,$A229,'ИП + источники'!$M$17:$M$89,\"Амортизационные отчисления\")+SUMIFS('ИП + источники'!Z$17:Z$89,'ИП + источники'!$A$17:$A$89,$A229,'ИП + источники'!$M$17:$M$89,\"погашение займов и кредитов из амортизации\")","v":0},{"$f":"SUMIFS('ИП + источники'!AA$17:AA$89,'ИП + источники'!$A$17:$A$89,$A229,'ИП + источники'!$M$17:$M$89,\"Амортизационные отчисления\")+SUMIFS('ИП + источники'!AA$17:AA$89,'ИП + источники'!$A$17:$A$89,$A229,'ИП + источники'!$M$17:$M$89,\"погашение займов и кредитов из амортизации\")","v":0},{"$f":"SUMIFS('ИП + источники'!AB$17:AB$89,'ИП + источники'!$A$17:$A$89,$A229,'ИП + источники'!$M$17:$M$89,\"Амортизационные отчисления\")+SUMIFS('ИП + источники'!AB$17:AB$89,'ИП + источники'!$A$17:$A$89,$A229,'ИП + источники'!$M$17:$M$89,\"погашение займов и кредитов из амортизации\")","v":0},{"$f":"SUMIFS('ИП + источники'!AC$17:AC$89,'ИП + источники'!$A$17:$A$89,$A229,'ИП + источники'!$M$17:$M$89,\"Амортизационные отчисления\")+SUMIFS('ИП + источники'!AC$17:AC$89,'ИП + источники'!$A$17:$A$89,$A229,'ИП + источники'!$M$17:$M$89,\"погашение займов и кредитов из амортизации\")","v":0},{"$f":"SUMIFS('ИП + источники'!AD$17:AD$89,'ИП + источники'!$A$17:$A$89,$A229,'ИП + источники'!$M$17:$M$89,\"Амортизационные отчисления\")+SUMIFS('ИП + источники'!AD$17:AD$89,'ИП + источники'!$A$17:$A$89,$A229,'ИП + источники'!$M$17:$M$89,\"погашение займов и кредитов из амортизации\")","v":0},{"$f":"SUMIFS('ИП + источники'!AE$17:AE$89,'ИП + источники'!$A$17:$A$89,$A229,'ИП + источники'!$M$17:$M$89,\"Амортизационные отчисления\")+SUMIFS('ИП + источники'!AE$17:AE$89,'ИП + источники'!$A$17:$A$89,$A229,'ИП + источники'!$M$17:$M$89,\"погашение займов и кредитов из амортизации\")","v":0},{"$f":"SUMIFS('ИП + источники'!AF$17:AF$89,'ИП + источники'!$A$17:$A$89,$A229,'ИП + источники'!$M$17:$M$89,\"Амортизационные отчисления\")+SUMIFS('ИП + источники'!AF$17:AF$89,'ИП + источники'!$A$17:$A$89,$A229,'ИП + источники'!$M$17:$M$89,\"погашение займов и кредитов из амортизации\")","v":0},{"$f":"SUMIFS('ИП + источники'!AG$17:AG$89,'ИП + источники'!$A$17:$A$89,$A229,'ИП + источники'!$M$17:$M$89,\"Амортизационные отчисления\")+SUMIFS('ИП + источники'!AG$17:AG$89,'ИП + источники'!$A$17:$A$89,$A229,'ИП + источники'!$M$17:$M$89,\"погашение займов и кредитов из амортизации\")","v":0},{"$f":"SUMIFS('ИП + источники'!AH$17:AH$89,'ИП + источники'!$A$17:$A$89,$A229,'ИП + источники'!$M$17:$M$89,\"Амортизационные отчисления\")+SUMIFS('ИП + источники'!AH$17:AH$89,'ИП + источники'!$A$17:$A$89,$A229,'ИП + источники'!$M$17:$M$89,\"погашение займов и кредитов из амортизации\")","v":0},{"$f":"SUMIFS('ИП + источники'!AI$17:AI$89,'ИП + источники'!$A$17:$A$89,$A229,'ИП + источники'!$M$17:$M$89,\"Амортизационные отчисления\")+SUMIFS('ИП + источники'!AI$17:AI$89,'ИП + источники'!$A$17:$A$89,$A229,'ИП + источники'!$M$17:$M$89,\"погашение займов и кредитов из амортизации\")","v":0},{"$f":"SUMIFS('ИП + источники'!AJ$17:AJ$89,'ИП + источники'!$A$17:$A$89,$A229,'ИП + источники'!$M$17:$M$89,\"Амортизационные отчисления\")+SUMIFS('ИП + источники'!AJ$17:AJ$89,'ИП + источники'!$A$17:$A$89,$A229,'ИП + источники'!$M$17:$M$89,\"погашение займов и кредитов из амортизации\")","v":0},{"$f":"SUMIFS('ИП + источники'!AK$17:AK$89,'ИП + источники'!$A$17:$A$89,$A229,'ИП + источники'!$M$17:$M$89,\"Амортизационные отчисления\")+SUMIFS('ИП + источники'!AK$17:AK$89,'ИП + источники'!$A$17:$A$89,$A229,'ИП + источники'!$M$17:$M$89,\"погашение займов и кредитов из амортизации\")","v":0},{"$f":"SUMIFS('ИП + источники'!AL$17:AL$89,'ИП + источники'!$A$17:$A$89,$A229,'ИП + источники'!$M$17:$M$89,\"Амортизационные отчисления\")+SUMIFS('ИП + источники'!AL$17:AL$89,'ИП + источники'!$A$17:$A$89,$A229,'ИП + источники'!$M$17:$M$89,\"погашение займов и кредитов из амортизации\")","v":0},{"$f":"SUMIFS('ИП + источники'!AM$17:AM$89,'ИП + источники'!$A$17:$A$89,$A229,'ИП + источники'!$M$17:$M$89,\"Амортизационные отчисления\")+SUMIFS('ИП + источники'!AM$17:AM$89,'ИП + источники'!$A$17:$A$89,$A229,'ИП + источники'!$M$17:$M$89,\"погашение займов и кредитов из амортизации\")","v":0},{"$f":"SUMIFS('ИП + источники'!AN$17:AN$89,'ИП + источники'!$A$17:$A$89,$A229,'ИП + источники'!$M$17:$M$89,\"Амортизационные отчисления\")+SUMIFS('ИП + источники'!AN$17:AN$89,'ИП + источники'!$A$17:$A$89,$A229,'ИП + источники'!$M$17:$M$89,\"погашение займов и кредитов из амортизации\")","v":0},0,0,0,0,0,0,0,0,0,0]
["2","Нормативная прибыль",null,"L5",null,null,null,null,null,null,null,"5","Нормативная прибыль","тыс.руб.",{"$f":"O231+O232+O233+O234","v":355},{"$f":"P231+P232+P233+P234","v":561},112,-449,569.63,1279,1279,1279,1279,1279,0,0,0,0,0,425.23,443.32,461.43,480.26,499.67,0,0,0,0,0,-25.349788459175247,4.2541683324318544,4.08508526572228,4.0807923195284186,4.0415608212218439,-100,0,0,0,0,null," Пункт 86 Методических указаний ФСТ № 1746-э (Формула 30.1)."]
["2",null,null,"L5_1",null,null,null,null,null,null,null,"5.1","средства на возврат инвестиционных займов","тыс.руб.",{"$f":"SUMIFS('ИП + источники'!P$15:P$89,'ИП + источники'!$A$15:$A$89,$A231,'ИП + источники'!$M$15:$M$89,\"погашение займов и кредитов из нормативной прибыли\")","v":0},{"$f":"SUMIFS('ИП + источники'!Q$15:Q$89,'ИП + источники'!$A$15:$A$89,$A231,'ИП + источники'!$M$15:$M$89,\"погашение займов и кредитов из нормативной прибыли\")","v":0},{"$f":"SUMIFS('ИП + источники'!R$15:R$89,'ИП + источники'!$A$15:$A$89,$A231,'ИП + источники'!$M$15:$M$89,\"погашение займов и кредитов из нормативной прибыли\")","v":0},0,{"$f":"SUMIFS('ИП + источники'!T$15:T$89,'ИП + источники'!$A$15:$A$89,$A231,'ИП + источники'!$M$15:$M$89,\"погашение займов и кредитов из нормативной прибыли\")","v":0},{"$f":"SUMIFS('ИП + источники'!U$15:U$89,'ИП + источники'!$A$15:$A$89,$A231,'ИП + источники'!$M$15:$M$89,\"погашение займов и кредитов из нормативной прибыли\")","v":0},{"$f":"SUMIFS('ИП + источники'!V$15:V$89,'ИП + источники'!$A$15:$A$89,$A231,'ИП + источники'!$M$15:$M$89,\"погашение займов и кредитов из нормативной прибыли\")","v":0},{"$f":"SUMIFS('ИП + источники'!W$15:W$89,'ИП + источники'!$A$15:$A$89,$A231,'ИП + источники'!$M$15:$M$89,\"погашение займов и кредитов из нормативной прибыли\")","v":0},{"$f":"SUMIFS('ИП + источники'!X$15:X$89,'ИП + источники'!$A$15:$A$89,$A231,'ИП + источники'!$M$15:$M$89,\"погашение займов и кредитов из нормативной прибыли\")","v":0},{"$f":"SUMIFS('ИП + источники'!Y$15:Y$89,'ИП + источники'!$A$15:$A$89,$A231,'ИП + источники'!$M$15:$M$89,\"погашение займов и кредитов из нормативной прибыли\")","v":0},{"$f":"SUMIFS('ИП + источники'!Z$15:Z$89,'ИП + источники'!$A$15:$A$89,$A231,'ИП + источники'!$M$15:$M$89,\"погашение займов и кредитов из нормативной прибыли\")","v":0},{"$f":"SUMIFS('ИП + источники'!AA$15:AA$89,'ИП + источники'!$A$15:$A$89,$A231,'ИП + источники'!$M$15:$M$89,\"погашение займов и кредитов из нормативной прибыли\")","v":0},{"$f":"SUMIFS('ИП + источники'!AB$15:AB$89,'ИП + источники'!$A$15:$A$89,$A231,'ИП + источники'!$M$15:$M$89,\"погашение займов и кредитов из нормативной прибыли\")","v":0},{"$f":"SUMIFS('ИП + источники'!AC$15:AC$89,'ИП + источники'!$A$15:$A$89,$A231,'ИП + источники'!$M$15:$M$89,\"погашение займов и кредитов из нормативной прибыли\")","v":0},{"$f":"SUMIFS('ИП + источники'!AD$15:AD$89,'ИП + источники'!$A$15:$A$89,$A231,'ИП + источники'!$M$15:$M$89,\"погашение займов и кредитов из нормативной прибыли\")","v":0},{"$f":"SUMIFS('ИП + источники'!AE$15:AE$89,'ИП + источники'!$A$15:$A$89,$A231,'ИП + источники'!$M$15:$M$89,\"погашение займов и кредитов из нормативной прибыли\")","v":0},{"$f":"SUMIFS('ИП + источники'!AF$15:AF$89,'ИП + источники'!$A$15:$A$89,$A231,'ИП + источники'!$M$15:$M$89,\"погашение займов и кредитов из нормативной прибыли\")","v":0},{"$f":"SUMIFS('ИП + источники'!AG$15:AG$89,'ИП + источники'!$A$15:$A$89,$A231,'ИП + источники'!$M$15:$M$89,\"погашение займов и кредитов из нормативной прибыли\")","v":0},{"$f":"SUMIFS('ИП + источники'!AH$15:AH$89,'ИП + источники'!$A$15:$A$89,$A231,'ИП + источники'!$M$15:$M$89,\"погашение займов и кредитов из нормативной прибыли\")","v":0},{"$f":"SUMIFS('ИП + источники'!AI$15:AI$89,'ИП + источники'!$A$15:$A$89,$A231,'ИП + источники'!$M$15:$M$89,\"погашение займов и кредитов из нормативной прибыли\")","v":0},{"$f":"SUMIFS('ИП + источники'!AJ$15:AJ$89,'ИП + источники'!$A$15:$A$89,$A231,'ИП + источники'!$M$15:$M$89,\"погашение займов и кредитов из нормативной прибыли\")","v":0},{"$f":"SUMIFS('ИП + источники'!AK$15:AK$89,'ИП + источники'!$A$15:$A$89,$A231,'ИП + источники'!$M$15:$M$89,\"погашение займов и кредитов из нормативной прибыли\")","v":0},{"$f":"SUMIFS('ИП + источники'!AL$15:AL$89,'ИП + источники'!$A$15:$A$89,$A231,'ИП + источники'!$M$15:$M$89,\"погашение займов и кредитов из нормативной прибыли\")","v":0},{"$f":"SUMIFS('ИП + источники'!AM$15:AM$89,'ИП + источники'!$A$15:$A$89,$A231,'ИП + источники'!$M$15:$M$89,\"погашение займов и кредитов из нормативной прибыли\")","v":0},{"$f":"SUMIFS('ИП + источники'!AN$15:AN$89,'ИП + источники'!$A$15:$A$89,$A231,'ИП + источники'!$M$15:$M$89,\"погашение займов и кредитов из нормативной прибыли\")","v":0},0,0,0,0,0,0,0,0,0,0]
["2",null,null,"L5_2",null,null,null,null,null,null,null,"5.2","средства на уплату процентов по инвестиционным займам","тыс.руб.",{"$f":"SUMIFS('ИП + источники'!P$15:P$89,'ИП + источники'!$A$15:$A$89,$A232,'ИП + источники'!$M$15:$M$89,\"уплата процентов по кредитам из нормативной прибыли\")","v":0},{"$f":"SUMIFS('ИП + источники'!Q$15:Q$89,'ИП + источники'!$A$15:$A$89,$A232,'ИП + источники'!$M$15:$M$89,\"уплата процентов по кредитам из нормативной прибыли\")","v":0},{"$f":"SUMIFS('ИП + источники'!R$15:R$89,'ИП + источники'!$A$15:$A$89,$A232,'ИП + источники'!$M$15:$M$89,\"уплата процентов по кредитам из нормативной прибыли\")","v":0},0,{"$f":"SUMIFS('ИП + источники'!T$15:T$89,'ИП + источники'!$A$15:$A$89,$A232,'ИП + источники'!$M$15:$M$89,\"уплата процентов по кредитам из нормативной прибыли\")","v":0},{"$f":"SUMIFS('ИП + источники'!U$15:U$89,'ИП + источники'!$A$15:$A$89,$A232,'ИП + источники'!$M$15:$M$89,\"уплата процентов по кредитам из нормативной прибыли\")","v":0},{"$f":"SUMIFS('ИП + источники'!V$15:V$89,'ИП + источники'!$A$15:$A$89,$A232,'ИП + источники'!$M$15:$M$89,\"уплата процентов по кредитам из нормативной прибыли\")","v":0},{"$f":"SUMIFS('ИП + источники'!W$15:W$89,'ИП + источники'!$A$15:$A$89,$A232,'ИП + источники'!$M$15:$M$89,\"уплата процентов по кредитам из нормативной прибыли\")","v":0},{"$f":"SUMIFS('ИП + источники'!X$15:X$89,'ИП + источники'!$A$15:$A$89,$A232,'ИП + источники'!$M$15:$M$89,\"уплата процентов по кредитам из нормативной прибыли\")","v":0},{"$f":"SUMIFS('ИП + источники'!Y$15:Y$89,'ИП + источники'!$A$15:$A$89,$A232,'ИП + источники'!$M$15:$M$89,\"уплата процентов по кредитам из нормативной прибыли\")","v":0},{"$f":"SUMIFS('ИП + источники'!Z$15:Z$89,'ИП + источники'!$A$15:$A$89,$A232,'ИП + источники'!$M$15:$M$89,\"уплата процентов по кредитам из нормативной прибыли\")","v":0},{"$f":"SUMIFS('ИП + источники'!AA$15:AA$89,'ИП + источники'!$A$15:$A$89,$A232,'ИП + источники'!$M$15:$M$89,\"уплата процентов по кредитам из нормативной прибыли\")","v":0},{"$f":"SUMIFS('ИП + источники'!AB$15:AB$89,'ИП + источники'!$A$15:$A$89,$A232,'ИП + источники'!$M$15:$M$89,\"уплата процентов по кредитам из нормативной прибыли\")","v":0},{"$f":"SUMIFS('ИП + источники'!AC$15:AC$89,'ИП + источники'!$A$15:$A$89,$A232,'ИП + источники'!$M$15:$M$89,\"уплата процентов по кредитам из нормативной прибыли\")","v":0},{"$f":"SUMIFS('ИП + источники'!AD$15:AD$89,'ИП + источники'!$A$15:$A$89,$A232,'ИП + источники'!$M$15:$M$89,\"уплата процентов по кредитам из нормативной прибыли\")","v":0},{"$f":"SUMIFS('ИП + источники'!AE$15:AE$89,'ИП + источники'!$A$15:$A$89,$A232,'ИП + источники'!$M$15:$M$89,\"уплата процентов по кредитам из нормативной прибыли\")","v":0},{"$f":"SUMIFS('ИП + источники'!AF$15:AF$89,'ИП + источники'!$A$15:$A$89,$A232,'ИП + источники'!$M$15:$M$89,\"уплата процентов по кредитам из нормативной прибыли\")","v":0},{"$f":"SUMIFS('ИП + источники'!AG$15:AG$89,'ИП + источники'!$A$15:$A$89,$A232,'ИП + источники'!$M$15:$M$89,\"уплата процентов по кредитам из нормативной прибыли\")","v":0},{"$f":"SUMIFS('ИП + источники'!AH$15:AH$89,'ИП + источники'!$A$15:$A$89,$A232,'ИП + источники'!$M$15:$M$89,\"уплата процентов по кредитам из нормативной прибыли\")","v":0},{"$f":"SUMIFS('ИП + источники'!AI$15:AI$89,'ИП + источники'!$A$15:$A$89,$A232,'ИП + источники'!$M$15:$M$89,\"уплата процентов по кредитам из нормативной прибыли\")","v":0},{"$f":"SUMIFS('ИП + источники'!AJ$15:AJ$89,'ИП + источники'!$A$15:$A$89,$A232,'ИП + источники'!$M$15:$M$89,\"уплата процентов по кредитам из нормативной прибыли\")","v":0},{"$f":"SUMIFS('ИП + источники'!AK$15:AK$89,'ИП + источники'!$A$15:$A$89,$A232,'ИП + источники'!$M$15:$M$89,\"уплата процентов по кредитам из нормативной прибыли\")","v":0},{"$f":"SUMIFS('ИП + источники'!AL$15:AL$89,'ИП + источники'!$A$15:$A$89,$A232,'ИП + источники'!$M$15:$M$89,\"уплата процентов по кредитам из нормативной прибыли\")","v":0},{"$f":"SUMIFS('ИП + источники'!AM$15:AM$89,'ИП + источники'!$A$15:$A$89,$A232,'ИП + источники'!$M$15:$M$89,\"уплата процентов по кредитам из нормативной прибыли\")","v":0},{"$f":"SUMIFS('ИП + источники'!AN$15:AN$89,'ИП + источники'!$A$15:$A$89,$A232,'ИП + источники'!$M$15:$M$89,\"уплата процентов по кредитам из нормативной прибыли\")","v":0},0,0,0,0,0,0,0,0,0,0]
["2",null,null,"L5_3",null,null,null,null,null,null,null,"5.3","капитальные расходы","тыс.руб.",{"$f":"SUMIFS('ИП + источники'!P$15:P$89,'ИП + источники'!$A$15:$A$89,$A233,'ИП + источники'!$M$15:$M$89,\"Прибыль на капвложения\")","v":0},{"$f":"SUMIFS('ИП + источники'!Q$15:Q$89,'ИП + источники'!$A$15:$A$89,$A233,'ИП + источники'!$M$15:$M$89,\"Прибыль на капвложения\")","v":0},{"$f":"SUMIFS('ИП + источники'!R$15:R$89,'ИП + источники'!$A$15:$A$89,$A233,'ИП + источники'!$M$15:$M$89,\"Прибыль на капвложения\")","v":0},0,{"$f":"SUMIFS('ИП + источники'!T$15:T$89,'ИП + источники'!$A$15:$A$89,$A233,'ИП + источники'!$M$15:$M$89,\"Прибыль на капвложения\")","v":0},{"$f":"SUMIFS('ИП + источники'!U$15:U$89,'ИП + источники'!$A$15:$A$89,$A233,'ИП + источники'!$M$15:$M$89,\"Прибыль на капвложения\")","v":0},{"$f":"SUMIFS('ИП + источники'!V$15:V$89,'ИП + источники'!$A$15:$A$89,$A233,'ИП + источники'!$M$15:$M$89,\"Прибыль на капвложения\")","v":0},{"$f":"SUMIFS('ИП + источники'!W$15:W$89,'ИП + источники'!$A$15:$A$89,$A233,'ИП + источники'!$M$15:$M$89,\"Прибыль на капвложения\")","v":0},{"$f":"SUMIFS('ИП + источники'!X$15:X$89,'ИП + источники'!$A$15:$A$89,$A233,'ИП + источники'!$M$15:$M$89,\"Прибыль на капвложения\")","v":0},{"$f":"SUMIFS('ИП + источники'!Y$15:Y$89,'ИП + источники'!$A$15:$A$89,$A233,'ИП + источники'!$M$15:$M$89,\"Прибыль на капвложения\")","v":0},{"$f":"SUMIFS('ИП + источники'!Z$15:Z$89,'ИП + источники'!$A$15:$A$89,$A233,'ИП + источники'!$M$15:$M$89,\"Прибыль на капвложения\")","v":0},{"$f":"SUMIFS('ИП + источники'!AA$15:AA$89,'ИП + источники'!$A$15:$A$89,$A233,'ИП + источники'!$M$15:$M$89,\"Прибыль на капвложения\")","v":0},{"$f":"SUMIFS('ИП + источники'!AB$15:AB$89,'ИП + источники'!$A$15:$A$89,$A233,'ИП + источники'!$M$15:$M$89,\"Прибыль на капвложения\")","v":0},{"$f":"SUMIFS('ИП + источники'!AC$15:AC$89,'ИП + источники'!$A$15:$A$89,$A233,'ИП + источники'!$M$15:$M$89,\"Прибыль на капвложения\")","v":0},{"$f":"SUMIFS('ИП + источники'!AD$15:AD$89,'ИП + источники'!$A$15:$A$89,$A233,'ИП + источники'!$M$15:$M$89,\"Прибыль на капвложения\")","v":0},{"$f":"SUMIFS('ИП + источники'!AE$15:AE$89,'ИП + источники'!$A$15:$A$89,$A233,'ИП + источники'!$M$15:$M$89,\"Прибыль на капвложения\")","v":0},{"$f":"SUMIFS('ИП + источники'!AF$15:AF$89,'ИП + источники'!$A$15:$A$89,$A233,'ИП + источники'!$M$15:$M$89,\"Прибыль на капвложения\")","v":0},{"$f":"SUMIFS('ИП + источники'!AG$15:AG$89,'ИП + источники'!$A$15:$A$89,$A233,'ИП + источники'!$M$15:$M$89,\"Прибыль на капвложения\")","v":0},{"$f":"SUMIFS('ИП + источники'!AH$15:AH$89,'ИП + источники'!$A$15:$A$89,$A233,'ИП + источники'!$M$15:$M$89,\"Прибыль на капвложения\")","v":0},{"$f":"SUMIFS('ИП + источники'!AI$15:AI$89,'ИП + источники'!$A$15:$A$89,$A233,'ИП + источники'!$M$15:$M$89,\"Прибыль на капвложения\")","v":0},{"$f":"SUMIFS('ИП + источники'!AJ$15:AJ$89,'ИП + источники'!$A$15:$A$89,$A233,'ИП + источники'!$M$15:$M$89,\"Прибыль на капвложения\")","v":0},{"$f":"SUMIFS('ИП + источники'!AK$15:AK$89,'ИП + источники'!$A$15:$A$89,$A233,'ИП + источники'!$M$15:$M$89,\"Прибыль на капвложения\")","v":0},{"$f":"SUMIFS('ИП + источники'!AL$15:AL$89,'ИП + источники'!$A$15:$A$89,$A233,'ИП + источники'!$M$15:$M$89,\"Прибыль на капвложения\")","v":0},{"$f":"SUMIFS('ИП + источники'!AM$15:AM$89,'ИП + источники'!$A$15:$A$89,$A233,'ИП + источники'!$M$15:$M$89,\"Прибыль на капвложения\")","v":0},{"$f":"SUMIFS('ИП + источники'!AN$15:AN$89,'ИП + источники'!$A$15:$A$89,$A233,'ИП + источники'!$M$15:$M$89,\"Прибыль на капвложения\")","v":0},0,0,0,0,0,0,0,0,0,0]
["2","иные экономически обоснованные расходы на социальные нужды",null,"L5_4",null,null,null,null,null,null,null,"5.4","иные экономически обоснованные расходы на социальные нужды в соответствии с пунктом 86 настоящих Методических указаний","тыс.руб.",355,561,112,-449,569.63,1279,1279,1279,1279,1279,null,null,null,null,null,{"$f":"170.13+3.1+252","v":425.23},443.32,461.43,480.26,499.67,null,null,null,null,null,-25.349788459175247,4.2541683324318544,4.08508526572228,4.0807923195284186,4.0415608212218439,-100,0,0,0,0,null," Пункт 86 Методических указаний ФСТ № 1746-э (Формула 30.1).","Плановые затраты на 2024 год приняты в  размере затрат, предложенных организацией,  по ШТАТНЫМ сотрудникам: 1)  бесплатный  пайковый уголь - 170,13 тыс. руб. (из расчета  по 7,8 тонн на 1 чел. по цене 1454,10 руб./т,  15 чел.);  2) компенсация коммунальных услуг (отопление) - 3,10 тыс. руб. (1 чел., из расчета 775,00 руб./чел. в квартал); 3) отдых в санатории \"ТАНАЙ\" - 252,00 тыс. руб. (3 путевки по 84000,00 руб. /шт.). Выходное пособие в связи с увольнением работников на пенсию будет учтено по факту произведения затрат при корректировке НВВ соответствующего отчетного периода.  Затраты на 2025-2028 гг. - исходя из плана каждого предыдущего года с учетом ИПЦ Минэкономразвития России на 2025 г. - 104,2%,  на 2025-2028 гг. - 104,0%."]
["2","Расчетная предпринимательская прибыль гарантирующей организации",null,"L6",null,null,null,null,null,null,null,"6","Расчетная предпринимательская прибыль гарантирующей организации","тыс.руб.",null,null,null,0,null,null,null,null,null,null,null,null,null,null,null,null,null,null,null,null,null,null,null,null,null,0,0,0,0,0,0,0,0,0,0]
["2","L11",null,"L7_0",null,null,null,null,null,null,null,"7","Корректировка НВВ всего","тыс.руб.",{"$f":"O238+O239+O240-O241-O242+O243-O244","v":-760.4},{"$f":"P238+P239+P240-P241-P242+P243-P244","v":0},0,0,-620.36,0,0,0,0,0,0,0,0,0,0,0,0,0,0,0,null,null,null,null,null,-100,0,0,0,0,0,0,0,0,0]
["2",null,null,null,null,null,null,null,null,null,null,null,"Справочно в том числе:"]
["2","L3",null,"L7",null,null,null,null,null,null,null,"7.1","Ввод объектов системы водоснабжения и (или) водоотведения в эксплуатацию и изменение утверждённой инвестиционной программы","тыс.руб.",null,null,null,0,null,{"$f":"SUMIFS('Корректировка НВВ'!$P$15:$P$104,'Корректировка НВВ'!$A$15:$A$104,$A238,'Корректировка НВВ'!$D$15:$D$104,$B238)","v":0},null,null,null,null,null,null,null,null,null,{"$f":"SUMIFS('Корректировка НВВ'!$Q$15:$Q$104,'Корректировка НВВ'!$A$15:$A$104,$A238,'Корректировка НВВ'!$D$15:$D$104,$B238)","v":0}]
["2","L4",null,"L8",null,null,null,null,null,null,null,"7.2","Степень исполнения регулируемой организацией обязательств по созданию и (или) реконструкции объектов концессионного соглашения, по эксплуатации объектов по договору аренды централизованных систем горячего водоснабжения, холодного водоснабжения и (или) водоотведения, отдельных объектов таких систем, находящихся в государственной или муниципальной собственности, по реализации инвестиционной программы, производственной программы при недостижении регулируемой организацией утверждённых плановых значений показателей надежности и качества объектов централизованных систем водоснабжения и (или) водоотведения","тыс.руб.",-401.87,null,null,0,-421.95,{"$f":"SUMIFS('Корректировка НВВ'!$P$15:$P$104,'Корректировка НВВ'!$A$15:$A$104,$A239,'Корректировка НВВ'!$D$15:$D$104,$B239)","v":0},null,null,null,null,null,null,null,null,null,{"$f":"SUMIFS('Корректировка НВВ'!$Q$15:$Q$104,'Корректировка НВВ'!$A$15:$A$104,$A239,'Корректировка НВВ'!$D$15:$D$104,$B239)","v":0}]
["2",null,null,"L9",null,null,null,null,null,null,null,"7.3","Размер корректировки НВВ по результатам деятельности прошлых периодов регулирования, а также осуществляемой с целью учета отклонения фактических значений параметров расчета тарифов от значений, учтенных при установлении тарифов","тыс.руб.",-358.53,null,null,0,-198.41,{"$f":"SUMIFS('Корректировка НВВ'!$P$15:$P$104,'Корректировка НВВ'!$A$15:$A$104,$A240,'Корректировка НВВ'!$D$15:$D$104,\"L1\")+SUMIFS('Корректировка НВВ'!$P$15:$P$104,'Корректировка НВВ'!$A$15:$A$104,$A240,'Корректировка НВВ'!$D$15:$D$104,\"L2\")","v":0},null,null,null,null,null,null,null,null,null,{"$f":"SUMIFS('Корректировка НВВ'!$Q$15:$Q$104,'Корректировка НВВ'!$A$15:$A$104,$A240,'Корректировка НВВ'!$D$15:$D$104,\"L1\")+SUMIFS('Корректировка НВВ'!$Q$15:$Q$104,'Корректировка НВВ'!$A$15:$A$104,$A240,'Корректировка НВВ'!$D$15:$D$104,\"L2\")","v":0}]
["2","L5",{"$f":"D142=\"Водоотведение\"","v":true},"L12",null,null,null,null,null,null,null,"7.4","Доходы от взимания платы за нарушение нормативов по объёму и (или) составу сточных вод, за исключением направленных целевым образом на внесение платы за негативное воздействие на окружающую среду, компенсацию вреда, причиненного водному объекту, и финансирование мероприятий инвестиционной программы по строительству, реконструкции и модернизации объектов централизованной системы водоотведения (в соответствии с пунктом 26(1) Основ ценообразования в сфере водоснабжения и водоотведения)","тыс.руб.",null,null,null,0,null,{"$f":"SUMIFS('Корректировка НВВ'!$P$15:$P$104,'Корректировка НВВ'!$A$15:$A$104,$A241,'Корректировка НВВ'!$D$15:$D$104,$B241)","v":0},null,null,null,null,null,null,null,null,null,{"$f":"SUMIFS('Корректировка НВВ'!$Q$15:$Q$104,'Корректировка НВВ'!$A$15:$A$104,$A241,'Корректировка НВВ'!$D$15:$D$104,$B241)","v":0}]
["2","L6",{"$f":"D142=\"Водоотведение\"","v":true},"L13",null,null,null,null,null,null,null,"7.5","Доходы от взимания платы за негативное воздействие на централизован-ную систему водоотведения, за исключением направленных целевым образом на финансирование мероприятий инвестиционной и (или) производственной программы организации (в соответствии с пунктом 26(1) Основ ценообразования в сфере водоснабжения и водоотведения)","тыс.руб.",null,null,null,0,null,{"$f":"SUMIFS('Корректировка НВВ'!$P$15:$P$104,'Корректировка НВВ'!$A$15:$A$104,$A242,'Корректировка НВВ'!$D$15:$D$104,$B242)","v":0},null,null,null,null,null,null,null,null,null,{"$f":"SUMIFS('Корректировка НВВ'!$Q$15:$Q$104,'Корректировка НВВ'!$A$15:$A$104,$A242,'Корректировка НВВ'!$D$15:$D$104,$B242)","v":0}]
["2","L7",null,"L14",null,null,null,null,null,null,null,"7.6","Недополученные доходы / Выпадающие расходы","тыс.руб.",null,null,null,0,null,{"$f":"SUMIFS('Корректировка НВВ'!$P$15:$P$104,'Корректировка НВВ'!$A$15:$A$104,$A243,'Корректировка НВВ'!$D$15:$D$104,$B243)","v":0},null,null,null,null,null,null,null,null,null,{"$f":"SUMIFS('Корректировка НВВ'!$Q$15:$Q$104,'Корректировка НВВ'!$A$15:$A$104,$A243,'Корректировка НВВ'!$D$15:$D$104,$B243)","v":0}]
["2","L8",null,"L15",null,null,null,null,null,null,null,"7.7","Избыток средств, полученный за отчётные периоды регулирования","тыс.руб.",{"$f":"O245+O246","v":0},{"$f":"P245+P246","v":0},{"$f":"Q245+Q246","v":0},0,{"$f":"S245+S246","v":0},{"$f":"SUMIFS('Корректировка НВВ'!$P$15:$P$104,'Корректировка НВВ'!$A$15:$A$104,$A244,'Корректировка НВВ'!$D$15:$D$104,$B244)","v":0},0,0,0,0,0,0,0,0,0,{"$f":"SUMIFS('Корректировка НВВ'!$Q$15:$Q$104,'Корректировка НВВ'!$A$15:$A$104,$A244,'Корректировка НВВ'!$D$15:$D$104,$B244)","v":0},0,0,0,0,0,0,0,0,0,{"$f":"IF(S244=0,0,(AD244-S244)/S244*100)","v":0},{"$f":"IF(AD244=0,0,(AE244-AD244)/AD244*100)","v":0},0,0,0,0,0,0,0,0]
["2","L8_1",null,"L15_1",null,null,null,null,null,null,null,"7.7.1","Экономически не обоснованные доходы / расходы прошлых периодов регулирования","тыс.руб.",null,null,null,0,null,{"$f":"SUMIFS('Корректировка НВВ'!$P$15:$P$104,'Корректировка НВВ'!$A$15:$A$104,$A245,'Корректировка НВВ'!$D$15:$D$104,$B245)","v":0}]
["2","L8_2",null,"L15_2",null,null,null,null,null,null,null,"7.7.2","Бюджетные субсидии, полученные на финансирование расходов, учтенных в тарифах","тыс.руб.",null,null,null,0,null,{"$f":"SUMIFS('Корректировка НВВ'!$P$15:$P$104,'Корректировка НВВ'!$A$15:$A$104,$A246,'Корректировка НВВ'!$D$15:$D$104,$B246)","v":0},null,null,null,null,null,null,null,null,null,{"$f":"SUMIFS('Корректировка НВВ'!$Q$15:$Q$104,'Корректировка НВВ'!$A$15:$A$104,$A246,'Корректировка НВВ'!$D$15:$D$104,$B246)","v":0}]
["2","L9",null,"L16",null,null,null,null,null,null,null,"7.8","Величина отклонения по результатам досудебного рассмотрения споров","тыс.руб.",null,null,null,0,null,{"$f":"SUMIFS('Корректировка НВВ'!$P$15:$P$104,'Корректировка НВВ'!$A$15:$A$104,$A247,'Корректировка НВВ'!$D$15:$D$104,$B247)","v":0},null,null,null,null,null,null,null,null,null,{"$f":"SUMIFS('Корректировка НВВ'!$Q$15:$Q$104,'Корректировка НВВ'!$A$15:$A$104,$A247,'Корректировка НВВ'!$D$15:$D$104,$B247)","v":0}]
["2","L10",null,"L17",null,null,null,null,null,null,null,"7.9","Величина отклонения по результатам рассмотрения разногласий","тыс.руб.",null,null,null,0,null,{"$f":"SUMIFS('Корректировка НВВ'!$P$15:$P$104,'Корректировка НВВ'!$A$15:$A$104,$A248,'Корректировка НВВ'!$D$15:$D$104,$B248)","v":0},null,null,null,null,null,null,null,null,null,{"$f":"SUMIFS('Корректировка НВВ'!$Q$15:$Q$104,'Корректировка НВВ'!$A$15:$A$104,$A248,'Корректировка НВВ'!$D$15:$D$104,$B248)","v":0}]
["2",null,null,"L10",null,null,null,null,null,null,null,"8","Величина сглаживания НВВ","тыс.руб.",null,null,null,0,-50.42,null,null,null,null,null,null,null,null,null,null,-2278.08,500,643.86,700,434.22,null,null,null,null,null,null,null,null,null,null,null,null,null,null,null,null,"П. 42 Методических указаний № 1746-э."]
["2",null,null,"L10_1",null,null,null,null,null,null,null,"8.1","% сглаживания НВВ","%",{"$f":"IF(O251=0,0,O249/O251*100)","v":0},{"$f":"IF(P251=0,0,P249/P251*100)","v":0},{"$f":"IF(Q251=0,0,Q249/Q251*100)","v":0},{"$f":"Q250-P250","v":0},{"$f":"IF(S251=0,0,S249/S251*100)","v":-0.36050990116251991},0,0,0,0,0,0,0,0,0,0,-12.001097543921675,2.5712658104096344,3.2655545217226618,3.4732749217389323,2.1050950377974833,0,0,0,0,0]
["2",null,null,"L11",null,null,null,null,null,null,null,"9","Необходимая валовая выручка","тыс.руб.",{"$f":"O143+O193+O227+O228+O230+O235","v":12516.894279827269},{"$f":"P143+P193+P227+P228+P230+P235","v":15858.20196},{"$f":"Q143+Q193+Q227+Q228+Q230+Q235","v":20309.376410000001},{"$f":"Q251-P251","v":4451.1744500000004},{"$f":"S143+S193+S227+S228+S230+S235","v":13985.746254794367},24854.912699999993,25507.510395399993,26017.373652718397,26704.248668587188,27436.82992195601,19536.04721085601,19536.04721085601,19536.04721085601,19536.04721085601,19536.04721085601,18982.263844308171,19445.675276969665,19716.712604766057,20153.8897948665,20627.0972190555,15824.326538134001,15824.326538134001,15824.326538134001,15824.326538134001,15824.326538134001,{"$f":"IF(S251=0,0,(AD251-S251)/S251*100)","v":35.725784655938384},{"$f":"IF(AD251=0,0,(AE251-AD251)/AD251*100)","v":2.4412864369728391},1.3938180286153021,2.217292501361336,2.3479706845947601,-23.283793303134559,0,0,0,0]
["2",null,null,"L18",null,null,null,null,null,null,null,"10","Итого НВВ для расчёта тарифа","тыс.руб.",{"$f":"O251+O236+O249","v":11756.49427982727},15858.20196,20309.376410000001,4451.1744500000004,13314.966254794366,24854.912699999993,25507.510395399993,26017.373652718397,26704.248668587188,27436.82992195601,19536.04721085601,19536.04721085601,19536.04721085601,19536.04721085601,19536.04721085601,16704.183844308172,19945.675276969665,20360.572604766057,20853.8897948665,21061.317219055501,15824.326538134001,15824.326538134001,15824.326538134001,15824.326538134001,15824.326538134001,{"$f":"IF(S252=0,0,(AD252-S252)/S252*100)","v":25.454195862444926},19.405266745588452,2.0801367817085383,2.4229043046901615,0.99467018493625603,-24.865447048977853,0,0,0,0]
["2",null,{"$f":"B142=\"двухставочный\"","v":false},"L18_1",null,null,null,null,null,null,null,"10.1","в части условно-переменных расходов","тыс.руб.",null,null,null,{"$f":"Q253-P253","v":0}]
["2",null,{"$f":"B142=\"двухставочный\"","v":false},"L18_2",null,null,null,null,null,null,null,"10.2","в части условно-постоянных расходов","тыс.руб.",null,null,null,{"$f":"Q254-P254","v":0}]
["2","ПО.прочие",null,"L19",null,null,null,null,null,null,null,"11","Полезный отпуск без разбивки по группам потребителей","тыс.куб.м",{"$f":"SUMIFS(Баланс!O$16:O$95,Баланс!$A$16:$A$95,$A255,Баланс!$B$16:$B$95,\"ПО\")","v":158.37927490000001},{"$f":"SUMIFS(Баланс!P$16:P$95,Баланс!$A$16:$A$95,$A255,Баланс!$B$16:$B$95,\"ПО\")","v":169.34},{"$f":"SUMIFS(Баланс!Q$16:Q$95,Баланс!$A$16:$A$95,$A255,Баланс!$B$16:$B$95,\"ПО\")","v":169.34},{"$f":"Q255-P255","v":0},{"$f":"SUMIFS(Баланс!R$16:R$95,Баланс!$A$16:$A$95,$A255,Баланс!$B$16:$B$95,\"ПО\")","v":165.52679157},{"$f":"SUMIFS(Баланс!S$16:S$95,Баланс!$A$16:$A$95,$A255,Баланс!$B$16:$B$95,\"ПО\")","v":165.02800000000002},{"$f":"SUMIFS(Баланс!T$16:T$95,Баланс!$A$16:$A$95,$A255,Баланс!$B$16:$B$95,\"ПО\")","v":165.02800000000002},{"$f":"SUMIFS(Баланс!U$16:U$95,Баланс!$A$16:$A$95,$A255,Баланс!$B$16:$B$95,\"ПО\")","v":165.02800000000002},{"$f":"SUMIFS(Баланс!V$16:V$95,Баланс!$A$16:$A$95,$A255,Баланс!$B$16:$B$95,\"ПО\")","v":165.02800000000002},{"$f":"SUMIFS(Баланс!W$16:W$95,Баланс!$A$16:$A$95,$A255,Баланс!$B$16:$B$95,\"ПО\")","v":165.02800000000002},{"$f":"SUMIFS(Баланс!X$16:X$95,Баланс!$A$16:$A$95,$A255,Баланс!$B$16:$B$95,\"ПО\")","v":0},{"$f":"SUMIFS(Баланс!Y$16:Y$95,Баланс!$A$16:$A$95,$A255,Баланс!$B$16:$B$95,\"ПО\")","v":0},{"$f":"SUMIFS(Баланс!Z$16:Z$95,Баланс!$A$16:$A$95,$A255,Баланс!$B$16:$B$95,\"ПО\")","v":0},{"$f":"SUMIFS(Баланс!AA$16:AA$95,Баланс!$A$16:$A$95,$A255,Баланс!$B$16:$B$95,\"ПО\")","v":0},{"$f":"SUMIFS(Баланс!AB$16:AB$95,Баланс!$A$16:$A$95,$A255,Баланс!$B$16:$B$95,\"ПО\")","v":0},{"$f":"SUMIFS(Баланс!AC$16:AC$95,Баланс!$A$16:$A$95,$A255,Баланс!$B$16:$B$95,\"ПО\")","v":168.65249999999997},{"$f":"SUMIFS(Баланс!AD$16:AD$95,Баланс!$A$16:$A$95,$A255,Баланс!$B$16:$B$95,\"ПО\")","v":168.65249999999997},{"$f":"SUMIFS(Баланс!AE$16:AE$95,Баланс!$A$16:$A$95,$A255,Баланс!$B$16:$B$95,\"ПО\")","v":168.65249999999997},{"$f":"SUMIFS(Баланс!AF$16:AF$95,Баланс!$A$16:$A$95,$A255,Баланс!$B$16:$B$95,\"ПО\")","v":168.65249999999997},{"$f":"SUMIFS(Баланс!AG$16:AG$95,Баланс!$A$16:$A$95,$A255,Баланс!$B$16:$B$95,\"ПО\")","v":168.65249999999997},{"$f":"SUMIFS(Баланс!AH$16:AH$95,Баланс!$A$16:$A$95,$A255,Баланс!$B$16:$B$95,\"ПО\")","v":0},{"$f":"SUMIFS(Баланс!AI$16:AI$95,Баланс!$A$16:$A$95,$A255,Баланс!$B$16:$B$95,\"ПО\")","v":0},{"$f":"SUMIFS(Баланс!AJ$16:AJ$95,Баланс!$A$16:$A$95,$A255,Баланс!$B$16:$B$95,\"ПО\")","v":0},{"$f":"SUMIFS(Баланс!AK$16:AK$95,Баланс!$A$16:$A$95,$A255,Баланс!$B$16:$B$95,\"ПО\")","v":0},{"$f":"SUMIFS(Баланс!AL$16:AL$95,Баланс!$A$16:$A$95,$A255,Баланс!$B$16:$B$95,\"ПО\")","v":0},null,null,null,null,null,null,null,null,null,null,null,"Пункт 9 \"Основ ценообразования в сфере водоснабжения и водоотведения\" (Постановление Правительства РФ от 13.05.203 № 406)."]
["2","ПО.прочие.I",null,"L19_1",null,null,null,null,null,null,null,"11.1","I полугодие: объём реализации","тыс.куб.м",{"$f":"O255/2","v":79.189637450000006},{"$f":"P255/2","v":84.67},{"$f":"Q255/2","v":84.67},0,{"$f":"S255/2","v":82.763395785},82.51400000000001,82.51400000000001,82.51400000000001,82.51400000000001,82.51400000000001,0,0,0,0,0,84.326249999999987,84.326249999999987,84.326249999999987,84.326249999999987,84.326249999999987,0,0,0,0,0,null,null,null,null,null,null,null,null,null,null,null,"В  графах \"Предложение организации\"  на 2024-2028 гг. отражены величины, заявленные организацией в НОВОМ заявлении  и  скорректированном расчете финансовых потребностей в сфере водоотведения  от  04.12.2023 (исх. № 547)."]
["2","тариф.прочие.I",null,"L19_2",null,null,null,null,null,null,null,"11.2","I полугодие: тариф","руб./куб.м",72.040000000000006,{"$f":"P261","v":93.647112082201488},{"$f":"Q261","v":119.93254051021613},{"$f":"Q257-P257","v":26.28542842801464},80.44,80.44,154.56,154.57,160.74,162.88999999999999,null,null,null,null,null,80.44,117.65,118.88,122.57,124.73]
["2","ПО.прочие.II",null,"L19_3",null,null,null,null,null,null,null,"11.3","II полугодие: объём реализации","тыс.куб.м",{"$f":"O255-O256","v":79.189637450000006},{"$f":"P255-P256","v":84.67},{"$f":"Q255-Q256","v":84.67},{"$f":"Q258-P258","v":0},{"$f":"S255-S256","v":82.763395785},82.51400000000001,82.51400000000001,82.51400000000001,82.51400000000001,82.51400000000001,0,0,0,0,0,84.326249999999987,84.326249999999987,84.326249999999987,84.326249999999987,84.326249999999987,0,0,0,0,0]
["2","тариф.прочие.II",null,"L19_4",null,null,null,null,null,null,null,"11.4","II полугодие: тариф","руб./куб.м",{"$f":"IF(O258=0,0,(O252-O256*O257)/O258)","v":76.420008890055442},{"$f":"IF(P258=0,0,(P252-P256*P257)/P258)","v":93.647112082201488},{"$f":"IF(Q258=0,0,(Q252-Q256*Q257)/Q258)","v":119.93254051021613},{"$f":"Q259-P259","v":26.28542842801464},{"$f":"IF(S258=0,0,(S252-S256*S257)/S258)","v":80.439892958760936},{"$f":"IF(T258=0,0,(T252-T256*T257)/T258)","v":220.78055287587546},154.56948584967387,160.73859796784055,162.89294311980007,169.62120927304466,0,0,0,0,0,{"$f":"IF(AD258=0,0,(AD252-AD256*AD257)/AD258)","v":117.64996420815791},{"$f":"IF(AE258=0,0,(AE252-AE256*AE257)/AE258)","v":118.87985015899163},{"$f":"IF(AF258=0,0,(AF252-AF256*AF257)/AF258)","v":122.56999457186892},124.73009688402487,125.02991721504874,0,0,0,0,0,null,null,null,null,null,null,null,null,null,null,null,"В  графах \"Предложение организации\"  на 2024-2028 гг. отражены величины, заявленные организацией в НОВОМ заявлении  и  скорректированном расчете финансовых потребностей в сфере водоотведения  от  04.12.2023 (исх. № 547)."]
["2",null,null,"L19_5",null,null,null,null,null,null,null,"11.5","темп роста тарифа","%",{"$f":"IF(O257=0,0,O259/O257*100)","v":106.07996792067662},{"$f":"IF(P257=0,0,P259/P257*100)","v":100},{"$f":"IF(Q257=0,0,Q259/Q257*100)","v":100},null,{"$f":"IF(S257=0,0,S259/S257*100)","v":99.999866930334335},274.4661273941764,100.00613732509956,103.99081190906421,101.33939474916016,104.13236495367713,0,0,0,0,0,146.25803606185718,101.04534650148034,103.10396582425044,101.76233734521081,100.24045315084481,0,0,0,0,0]
["2",null,null,"L19_6",null,null,null,null,null,null,null,"11.6","средневзвешенный тариф","руб./куб.м",{"$f":"IF(O255=0,0,O252/O255)","v":74.230004445027731},{"$f":"IF(P255=0,0,P252/P255)","v":93.647112082201488},{"$f":"IF(Q255=0,0,Q252/Q255)","v":119.93254051021613},{"$f":"Q261-P261","v":26.28542842801464},{"$f":"IF(S255=0,0,S252/S255)","v":80.439946479380467},{"$f":"IF(T255=0,0,T252/T255)","v":150.61027643793776},{"$f":"IF(U255=0,0,U252/U255)","v":154.56474292483693},157.65429898392026,161.81647155990004,166.25560463652232,0,0,0,0,0,{"$f":"IF(AD255=0,0,AD252/AD255)","v":99.044982104078954},{"$f":"IF(AE255=0,0,AE252/AE255)","v":118.26492507949581},{"$f":"IF(AF255=0,0,AF252/AF255)","v":120.72499728593445},123.65004844201243,124.87995860752437,0,0,0,0,0]
["2",null,null,"L20",null,null,null,null,null,null,null,"12","Итого НВВ для населения","тыс.руб.",{"$f":"IF(O255=0,0,O252/O255*O263)","v":0},{"$f":"IF(P255=0,0,P252/P255*P263)","v":0},{"$f":"IF(Q255=0,0,Q252/Q255*Q263)","v":0},{"$f":"R264*R265+R266*R267","v":0},{"$f":"IF(S255=0,0,S252/S255*S263)","v":0},{"$f":"IF(T255=0,0,T252/T255*T263)","v":0},{"$f":"IF(U255=0,0,U252/U255*U263)","v":0},0,0,0,0,0,0,0,0,{"$f":"IF(AD255=0,0,AD252/AD255*AD263)","v":0},{"$f":"IF(AE255=0,0,AE252/AE255*AE263)","v":0},{"$f":"IF(AF255=0,0,AF252/AF255*AF263)","v":0},0,0,0,0,0,0,0,{"$f":"IF(S262=0,0,(AD262-S262)/S262*100)","v":0},{"$f":"IF(AD262=0,0,(AE262-AD262)/AD262*100)","v":0},{"$f":"IF(AE262=0,0,(AF262-AE262)/AE262*100)","v":0},{"$f":"IF(AF262=0,0,(AG262-AF262)/AF262*100)","v":0},{"$f":"IF(AG262=0,0,(AH262-AG262)/AG262*100)","v":0},0,0,0,0,0]
["2","ПО.население",null,"L21",null,null,null,null,null,null,null,"13","Полезный отпуск для населения:","тыс.куб.м",{"$f":"SUMIFS(Баланс!O$16:O$95,Баланс!$A$16:$A$95,$A263,Баланс!$B$16:$B$95,\"население\")","v":0},{"$f":"SUMIFS(Баланс!P$16:P$95,Баланс!$A$16:$A$95,$A263,Баланс!$B$16:$B$95,\"население\")","v":0},{"$f":"SUMIFS(Баланс!Q$16:Q$95,Баланс!$A$16:$A$95,$A263,Баланс!$B$16:$B$95,\"население\")","v":0},{"$f":"Q263-P263","v":0},{"$f":"SUMIFS(Баланс!R$16:R$95,Баланс!$A$16:$A$95,$A263,Баланс!$B$16:$B$95,\"население\")","v":0},{"$f":"SUMIFS(Баланс!S$16:S$95,Баланс!$A$16:$A$95,$A263,Баланс!$B$16:$B$95,\"население\")","v":0},{"$f":"SUMIFS(Баланс!T$16:T$95,Баланс!$A$16:$A$95,$A263,Баланс!$B$16:$B$95,\"население\")","v":0},{"$f":"SUMIFS(Баланс!U$16:U$95,Баланс!$A$16:$A$95,$A263,Баланс!$B$16:$B$95,\"население\")","v":0},{"$f":"SUMIFS(Баланс!V$16:V$95,Баланс!$A$16:$A$95,$A263,Баланс!$B$16:$B$95,\"население\")","v":0},{"$f":"SUMIFS(Баланс!W$16:W$95,Баланс!$A$16:$A$95,$A263,Баланс!$B$16:$B$95,\"население\")","v":0},{"$f":"SUMIFS(Баланс!X$16:X$95,Баланс!$A$16:$A$95,$A263,Баланс!$B$16:$B$95,\"население\")","v":0},{"$f":"SUMIFS(Баланс!Y$16:Y$95,Баланс!$A$16:$A$95,$A263,Баланс!$B$16:$B$95,\"население\")","v":0},{"$f":"SUMIFS(Баланс!Z$16:Z$95,Баланс!$A$16:$A$95,$A263,Баланс!$B$16:$B$95,\"население\")","v":0},{"$f":"SUMIFS(Баланс!AA$16:AA$95,Баланс!$A$16:$A$95,$A263,Баланс!$B$16:$B$95,\"население\")","v":0},{"$f":"SUMIFS(Баланс!AB$16:AB$95,Баланс!$A$16:$A$95,$A263,Баланс!$B$16:$B$95,\"население\")","v":0},{"$f":"SUMIFS(Баланс!AC$16:AC$95,Баланс!$A$16:$A$95,$A263,Баланс!$B$16:$B$95,\"население\")","v":0},{"$f":"SUMIFS(Баланс!AD$16:AD$95,Баланс!$A$16:$A$95,$A263,Баланс!$B$16:$B$95,\"население\")","v":0},{"$f":"SUMIFS(Баланс!AE$16:AE$95,Баланс!$A$16:$A$95,$A263,Баланс!$B$16:$B$95,\"население\")","v":0},{"$f":"SUMIFS(Баланс!AF$16:AF$95,Баланс!$A$16:$A$95,$A263,Баланс!$B$16:$B$95,\"население\")","v":0},{"$f":"SUMIFS(Баланс!AG$16:AG$95,Баланс!$A$16:$A$95,$A263,Баланс!$B$16:$B$95,\"население\")","v":0},{"$f":"SUMIFS(Баланс!AH$16:AH$95,Баланс!$A$16:$A$95,$A263,Баланс!$B$16:$B$95,\"население\")","v":0},{"$f":"SUMIFS(Баланс!AI$16:AI$95,Баланс!$A$16:$A$95,$A263,Баланс!$B$16:$B$95,\"население\")","v":0},{"$f":"SUMIFS(Баланс!AJ$16:AJ$95,Баланс!$A$16:$A$95,$A263,Баланс!$B$16:$B$95,\"население\")","v":0},{"$f":"SUMIFS(Баланс!AK$16:AK$95,Баланс!$A$16:$A$95,$A263,Баланс!$B$16:$B$95,\"население\")","v":0},{"$f":"SUMIFS(Баланс!AL$16:AL$95,Баланс!$A$16:$A$95,$A263,Баланс!$B$16:$B$95,\"население\")","v":0}]
["2","ПО.население.I",null,"L21_1",null,null,null,null,null,null,null,"13.1","I полугодие: объём реализации по населению","тыс.куб.м",{"$f":"O263/2","v":0},{"$f":"P263/2","v":0},{"$f":"Q263/2","v":0},{"$f":"Q264-P264","v":0},{"$f":"S263/2","v":0},{"$f":"T263/2","v":0},0,0,0,0,0,0,0,0,0,0,0,0,0,0,0,0,0,0,0]
["2","тариф.население.I",null,"L21_2",null,null,null,null,null,null,null,"13.2","I полугодие: тариф для населения","руб./куб.м",{"$f":"IF(O263=0,0,O257*IF(plat_nds=\"да\",1.2,1) )","v":0},{"$f":"IF(P263=0,0,P257*IF(plat_nds=\"да\",1.2,1) )","v":0},{"$f":"IF(Q263=0,0,Q257*IF(plat_nds=\"да\",1.2,1) )","v":0},{"$f":"Q265-P265","v":0},{"$f":"IF(S263=0,0,S257*IF(plat_nds=\"да\",1.2,1) )","v":0},0,0,0,0,0,0,0,0,0,0,0,0,0,0,0,0,0,0,0,0]
["2","ПО.население.II",null,"L21_3",null,null,null,null,null,null,null,"13.3","II полугодие: объём реализации по населению","тыс.куб.м",{"$f":"O263-O264","v":0},{"$f":"P263-P264","v":0},{"$f":"Q263-Q264","v":0},{"$f":"Q266-P266","v":0},{"$f":"S263-S264","v":0},0,0,0,0,0,0,0,0,0,0,0,0,0,0,0,0,0,0,0,0]
["2","тариф.население.II",null,"L21_4",null,null,null,null,null,null,null,"13.4","II полугодие: тариф для населения","руб./куб.м",{"$f":"IF(O263=0,0,O259*IF(plat_nds=\"да\",1.2,1) )","v":0},{"$f":"IF(P263=0,0,P259*IF(plat_nds=\"да\",1.2,1) )","v":0},{"$f":"IF(Q263=0,0,Q259*IF(plat_nds=\"да\",1.2,1) )","v":0},{"$f":"Q267-P267","v":0},{"$f":"IF(S263=0,0,S259*IF(plat_nds=\"да\",1.2,1) )","v":0},0,0,0,0,0,0,0,0,0,0,0,0,0,0,0,0,0,0,0,0]
[]
[null,null,null,null,null,null,null,null,null,null,null,"Комментарии и обоснования к разделу"]
[null,null,null,null,null,null,null,null,null,null,null,"В графах \"Предложение организации\" на 2024-2028 гг. по ХОЛОДНОМУ ВОДОСНАБЖЕНИЮ  отражены величины, представленные в расчете финансовых потребностей  вместе с Заявлением на установление долгосрочных тарифов на питьевую воду от 28.04.2023 (вх. № 2577, исх. от 27.04.2023 № 204)."]
[null,null,null,null,null,null,null,null,null,null,"О ","В графах \"Предложение организации\" на 2024-2028 гг. по  ВОДООТВЕДЕНИЮ  отражены величины, представленные в СКОРРЕКТИРОВАННОМ  расчете финансовых потребностей  (с изменениями в части Операционных расходов) вместе с Заявлением на установление долгосрочных тарифов на водоотведение, представленном по системе ЕИАС  04.12.2023 (исх. № 547)."]
[null,null,null,null,null,null,null,null,null,null,"О ","Специалистом РЭК расчет финансовых потребностей и тарифов в сфере холодного водоснабжения и водоотведения  на 2024 год выполнен  методом экономически обосованных расходов в соответствии с положениями Главы IV Методических указаний ФСТ № 1746-э;  на 2025-2028 годы - в соответствии с положениями Глав V и VI Методических указаний ФСТ № 1746-э."]
[null,null,null,null,null,null,null,null,null,null,null,"Добавить комментарий"]

{"sheet":"ТМ","index":31,"n_rows":104,"n_cols":163,"rows_kept":104,"cut":false,"hidden":false,"merged":[[98,112,98,114],[98,115,98,117],[98,118,98,120],[98,121,98,123],[98,124,98,126],[98,97,98,99],[98,100,98,102],[98,103,98,105],[98,157,98,159],[98,106,98,108],[98,109,98,111],[98,160,98,162],[98,142,98,144],[98,145,98,147],[98,148,98,150],[98,151,98,153],[98,154,98,156],[98,127,98,129],[98,130,98,132],[98,133,98,135],[98,136,98,138],[98,139,98,141],[98,82,98,84],[98,85,98,87],[98,88,98,90],[98,91,98,93],[98,94,98,96],[98,46,98,48],[98,49,98,51],[98,52,98,54],[98,55,98,57],[98,58,98,60],[98,61,98,63],[98,64,98,66],[98,67,98,69],[98,70,98,72],[98,73,98,75],[98,76,98,78],[98,79,98,81],[14,151,14,153],[14,154,14,156],[14,157,14,159],[14,160,14,162],[14,136,14,138],[14,139,14,141],[14,142,14,144],[14,145,14,147],[14,148,14,150],[14,121,14,123],[14,124,14,126],[14,127,14,129],[14,130,14,132],[14,133,14,135],[14,106,14,108],[14,109,14,111],[14,112,14,114],[14,115,14,117],[14,118,14,120],[14,91,14,93],[14,94,14,96],[14,97,14,99],[14,100,14,102],[14,103,14,105],[14,76,14,78],[14,79,14,81],[14,82,14,84],[14,85,14,87],[14,88,14,90],[14,61,14,63],[14,64,14,66],[14,67,14,69],[14,70,14,72],[14,73,14,75],[14,46,14,48],[14,49,14,51],[14,52,14,54],[14,55,14,57],[14,58,14,60],[103,11,103,12],[102,11,102,42],[98,11,99,11],[98,12,99,12],[98,37,98,39],[98,13,98,15],[98,16,98,18],[98,40,98,42],[101,11,101,42],[98,19,98,21],[98,22,98,24],[98,28,98,30],[98,31,98,33],[98,34,98,36],[98,25,98,27],[14,43,14,45],[98,43,98,45],[14,19,14,21],[14,11,15,11],[14,12,15,12],[14,13,14,15],[14,40,14,42],[14,16,14,18],[14,34,14,36],[14,37,14,39],[14,22,14,24],[14,25,14,27],[14,28,14,30],[14,31,14,33],[16,11,16,12],[17,11,17,12],[18,11,18,12],[19,11,19,12],[56,11,56,12],[57,11,57,12],[58,11,58,12],[59,11,59,12]]}
[null,null,null,null,null,null,null,null,null,null,null,null,null,{"$f":"god","v":2024},{"$f":"god","v":2024},{"$f":"god","v":2024},{"$f":"god+1","v":2025},{"$f":"god+1","v":2025},{"$f":"god+1","v":2025},{"$f":"god+2","v":2026},{"$f":"god+2","v":2026},{"$f":"god+2","v":2026},{"$f":"god+3","v":2027},{"$f":"god+3","v":2027},{"$f":"god+3","v":2027},{"$f":"god+4","v":2028},{"$f":"god+4","v":2028},{"$f":"god+4","v":2028},{"$f":"god+5","v":2029},{"$f":"god+5","v":2029},{"$f":"god+5","v":2029},{"$f":"god+6","v":2030},{"$f":"god+6","v":2030},{"$f":"god+6","v":2030},{"$f":"god+7","v":2031},{"$f":"god+7","v":2031},{"$f":"god+7","v":2031},{"$f":"god+8","v":2032},{"$f":"god+8","v":2032},{"$f":"god+8","v":2032},{"$f":"god+9","v":2033},{"$f":"god+9","v":2033},{"$f":"god+9","v":2033},{"$f":"god+10","v":2034},{"$f":"god+10","v":2034},{"$f":"god+10","v":2034},{"$f":"god+11","v":2035},{"$f":"god+11","v":2035},{"$f":"god+11","v":2035},{"$f":"god+12","v":2036},{"$f":"god+12","v":2036},{"$f":"god+12","v":2036},{"$f":"god+13","v":2037},{"$f":"god+13","v":2037},{"$f":"god+13","v":2037},{"$f":"god+14","v":2038},{"$f":"god+14","v":2038},{"$f":"god+14","v":2038},{"$f":"god+15","v":2039},{"$f":"god+15","v":2039},{"$f":"god+15","v":2039},{"$f":"god+16","v":2040},{"$f":"god+16","v":2040},{"$f":"god+16","v":2040},{"$f":"god+17","v":2041},{"$f":"god+17","v":2041},{"$f":"god+17","v":2041},{"$f":"god+18","v":2042},{"$f":"god+18","v":2042},{"$f":"god+18","v":2042},{"$f":"god+19","v":2043},{"$f":"god+19","v":2043},{"$f":"god+19","v":2043},{"$f":"god+20","v":2044},{"$f":"god+20","v":2044},{"$f":"god+20","v":2044},{"$f":"god+21","v":2045},{"$f":"god+21","v":2045},{"$f":"god+21","v":2045},{"$f":"god+22","v":2046},{"$f":"god+22","v":2046},{"$f":"god+22","v":2046},{"$f":"god+23","v":2047},{"$f":"god+23","v":2047},{"$f":"god+23","v":2047},{"$f":"god+24","v":2048},{"$f":"god+24","v":2048},{"$f":"god+24","v":2048},{"$f":"god+25","v":2049},{"$f":"god+25","v":2049},{"$f":"god+25","v":2049},{"$f":"god+26","v":2050},{"$f":"god+26","v":2050},{"$f":"god+26","v":2050},{"$f":"god+27","v":2051},{"$f":"god+27","v":2051},{"$f":"god+27","v":2051},{"$f":"god+28","v":2052},{"$f":"god+28","v":2052},{"$f":"god+28","v":2052},{"$f":"god+29","v":2053},{"$f":"god+29","v":2053},{"$f":"god+29","v":2053},{"$f":"god+30","v":2054},{"$f":"god+30","v":2054},{"$f":"god+30","v":2054},{"$f":"god+31","v":2055},{"$f":"god+31","v":2055},{"$f":"god+31","v":2055},{"$f":"god+32","v":2056},{"$f":"god+32","v":2056},{"$f":"god+32","v":2056},{"$f":"god+33","v":2057},{"$f":"god+33","v":2057},{"$f":"god+33","v":2057},{"$f":"god+34","v":2058},{"$f":"god+34","v":2058},{"$f":"god+34","v":2058},{"$f":"god+35","v":2059},{"$f":"god+35","v":2059},{"$f":"god+35","v":2059},{"$f":"god+36","v":2060},{"$f":"god+36","v":2060},{"$f":"god+36","v":2060},{"$f":"god+37","v":2061},{"$f":"god+37","v":2061},{"$f":"god+37","v":2061},{"$f":"god+38","v":2062},{"$f":"god+38","v":2062},{"$f":"god+38","v":2062},{"$f":"god+39","v":2063},{"$f":"god+39","v":2063},{"$f":"god+39","v":2063},{"$f":"god+40","v":2064},{"$f":"god+40","v":2064},{"$f":"god+40","v":2064},{"$f":"god+41","v":2065},{"$f":"god+41","v":2065},{"$f":"god+41","v":2065},{"$f":"god+42","v":2066},{"$f":"god+42","v":2066},{"$f":"god+42","v":2066},{"$f":"god+43","v":2067},{"$f":"god+43","v":2067},{"$f":"god+43","v":2067},{"$f":"god+44","v":2068},{"$f":"god+44","v":2068},{"$f":"god+44","v":2068},{"$f":"god+45","v":2069},{"$f":"god+45","v":2069},{"$f":"god+45","v":2069},{"$f":"god+46","v":2070},{"$f":"god+46","v":2070},{"$f":"god+46","v":2070},{"$f":"god+47","v":2071},{"$f":"god+47","v":2071},{"$f":"god+47","v":2071},{"$f":"god+48","v":2072},{"$f":"god+48","v":2072},{"$f":"god+48","v":2072},{"$f":"god+49","v":2073},{"$f":"god+49","v":2073},{"$f":"god+49","v":2073}]
[null,null,null,null,null,null,null,null,null,null,null,null,null,{"$f":"N16","v":"Предложение организации"},{"$f":"O16","v":"Принято органом регулирования"},"Отклонение, %","Предложение организации","Принято органом регулирования","Отклонение, %","Предложение организации","Принято органом регулирования","Отклонение, %","Предложение организации","Принято органом регулирования","Отклонение, %","Предложение организации","Принято органом регулирования","Отклонение, %","Предложение организации","Принято органом регулирования","Отклонение, %","Предложение организации","Принято органом регулирования","Отклонение, %","Предложение организации","Принято органом регулирования","Отклонение, %","Предложение организации","Принято органом регулирования","Отклонение, %","Предложение организации","Принято органом регулирования","Отклонение, %",{"$f":"AR16","v":"Предложение организации"},{"$f":"AS16","v":"Принято органом регулирования"},{"$f":"AT16","v":"Отклонение, %"},{"$f":"AU16","v":"Предложение организации"},"Принято органом регулирования","Отклонение, %","Предложение организации","Принято органом регулирования","Отклонение, %","Предложение организации","Принято органом регулирования","Отклонение, %","Предложение организации","Принято органом регулирования","Отклонение, %","Предложение организации","Принято органом регулирования","Отклонение, %","Предложение организации","Принято органом регулирования","Отклонение, %","Предложение организации","Принято органом регулирования","Отклонение, %","Предложение организации","Принято органом регулирования","Отклонение, %","Предложение организации","Принято органом регулирования","Отклонение, %","Предложение организации","Принято органом регулирования","Отклонение, %","Предложение организации","Принято органом регулирования","Отклонение, %","Предложение организации","Принято органом регулирования","Отклонение, %","Предложение организации","Принято органом регулирования","Отклонение, %","Предложение организации","Принято органом регулирования","Отклонение, %","Предложение организации","Принято органом регулирования","Отклонение, %","Предложение организации","Принято органом регулирования","Отклонение, %","Предложение организации","Принято органом регулирования","Отклонение, %","Предложение организации","Принято органом регулирования","Отклонение, %","Предложение организации","Принято органом регулирования","Отклонение, %","Предложение организации","Принято органом регулирования","Отклонение, %","Предложение организации","Принято органом регулирования","Отклонение, %","Предложение организации",{"$f":"DG16","v":"Принято органом регулирования"},"Отклонение, %","Предложение организации","Принято органом регулирования","Отклонение, %","Предложение организации","Принято органом регулирования","Отклонение, %","Предложение организации","Принято органом регулирования","Отклонение, %","Предложение организации","Принято органом регулирования","Отклонение, %","Предложение организации","Принято органом регулирования","Отклонение, %","Предложение организации","Принято органом регулирования","Отклонение, %","Предложение организации","Принято органом регулирования","Отклонение, %","Предложение организации","Принято органом регулирования","Отклонение, %","Предложение организации","Принято органом регулирования","Отклонение, %","Предложение организации","Принято органом регулирования","Отклонение, %","Предложение организации","Принято органом регулирования","Отклонение, %","Предложение организации","Принято органом регулирования","Отклонение, %","Предложение организации","Принято органом регулирования","Отклонение, %","Предложение организации","Принято органом регулирования","Отклонение, %","Предложение организации","Принято органом регулирования","Отклонение, %","Предложение организации","Принято органом регулирования","Отклонение, %","Предложение организации","Принято органом регулирования","Отклонение, %"]
[null,null,null,null,null,null,null,null,null,null,null,null,null,{"$f":"N1&N2","v":"2024Предложение организации"},{"$f":"O1&O2","v":"2024Принято органом регулирования"},"2024Отклонение, %","2025Предложение организации","2025Принято органом регулирования","2025Отклонение, %","2026Предложение организации","2026Принято органом регулирования","2026Отклонение, %","2027Предложение организации","2027Принято органом регулирования","2027Отклонение, %","2028Предложение организации","2028Принято органом регулирования","2028Отклонение, %","2029Предложение организации","2029Принято органом регулирования","2029Отклонение, %","2030Предложение организации","2030Принято органом регулирования","2030Отклонение, %","2031Предложение организации","2031Принято органом регулирования","2031Отклонение, %","2032Предложение организации","2032Принято органом регулирования","2032Отклонение, %","2033Предложение организации","2033Принято органом регулирования","2033Отклонение, %",{"$f":"AR1&AR2","v":"2034Предложение организации"},{"$f":"AS1&AS2","v":"2034Принято органом регулирования"},{"$f":"AT1&AT2","v":"2034Отклонение, %"},{"$f":"AU1&AU2","v":"2035Предложение организации"},"2035Принято органом регулирования","2035Отклонение, %","2036Предложение организации","2036Принято органом регулирования","2036Отклонение, %","2037Предложение организации","2037Принято органом регулирования","2037Отклонение, %","2038Предложение организации","2038Принято органом регулирования","2038Отклонение, %","2039Предложение организации","2039Принято органом регулирования","2039Отклонение, %","2040Предложение организации","2040Принято органом регулирования","2040Отклонение, %","2041Предложение организации","2041Принято органом регулирования","2041Отклонение, %","2042Предложение организации","2042Принято органом регулирования","2042Отклонение, %","2043Предложение организации","2043Принято органом регулирования","2043Отклонение, %","2044Предложение организации","2044Принято органом регулирования","2044Отклонение, %","2045Предложение организации","2045Принято органом регулирования","2045Отклонение, %","2046Предложение организации","2046Принято органом регулирования","2046Отклонение, %","2047Предложение организации","2047Принято органом регулирования","2047Отклонение, %","2048Предложение организации","2048Принято органом регулирования","2048Отклонение, %","2049Предложение организации","2049Принято органом регулирования","2049Отклонение, %","2050Предложение организации","2050Принято органом регулирования","2050Отклонение, %","2051Предложение организации","2051Принято органом регулирования","2051Отклонение, %","2052Предложение организации","2052Принято органом регулирования","2052Отклонение, %","2053Предложение организации","2053Принято органом регулирования","2053Отклонение, %","2054Предложение организации","2054Принято органом регулирования","2054Отклонение, %","2055Предложение организации","2055Принято органом регулирования","2055Отклонение, %","2056Предложение организации",{"$f":"DG1&DG2","v":"2056Принято органом регулирования"},"2056Отклонение, %","2057Предложение организации","2057Принято органом регулирования","2057Отклонение, %","2058Предложение организации","2058Принято органом регулирования","2058Отклонение, %","2059Предложение организации","2059Принято органом регулирования","2059Отклонение, %","2060Предложение организации","2060Принято органом регулирования","2060Отклонение, %","2061Предложение организации","2061Принято органом регулирования","2061Отклонение, %","2062Предложение организации","2062Принято органом регулирования","2062Отклонение, %","2063Предложение организации","2063Принято органом регулирования","2063Отклонение, %","2064Предложение организации","2064Принято органом регулирования","2064Отклонение, %","2065Предложение организации","2065Принято органом регулирования","2065Отклонение, %","2066Предложение организации","2066Принято органом регулирования","2066Отклонение, %","2067Предложение организации","2067Принято органом регулирования","2067Отклонение, %","2068Предложение организации","2068Принято органом регулирования","2068Отклонение, %","2069Предложение организации","2069Принято органом регулирования","2069Отклонение, %","2070Предложение организации","2070Принято органом регулирования","2070Отклонение, %","2071Предложение организации","2071Принято органом регулирования","2071Отклонение, %","2072Предложение организации","2072Принято органом регулирования","2072Отклонение, %","2073Предложение организации","2073Принято органом регулирования","2073Отклонение, %"]
[]
[]
[]
[null,null,null,null,null,null,null,null,null,null,null,null,null,null,null,null,{"$f":"Q1<=last_year_vis","v":true},true,true,true,true,true,true,true,true,true,true,true,false,false,false,false,false,false,false,false,false,false,false,false,false,false,false,{"$f":"AR1<=last_year_vis","v":false},false,false,false,false,false,false,false,false,false,false,false,false,false,false,false,false,false,false,false,false,false,false,false,false,false,false,false,false,false,false,false,{"$f":"BX1<=last_year_vis","v":false},false,false,false,false,false,false,false,false,false,false,false,false,false,false,false,false,false,false,false,false,false,false,false,false,false,false,false,false,false,false,false,{"$f":"DD1<=last_year_vis","v":false},false,false,false,false,false,false,false,false,false,false,false,false,false,false,false,false,false,false,false,false,false,false,false,false,false,false,false,false,false,false,false,{"$f":"EJ1<=last_year_vis","v":false},false,false,false,false,false,false,false,false,false,false,false,false,false,false,false,false,false,false,false,false,false,false,false]
[]
[]
[]
[null,null,null,null,null,null,null,null,null,null,null,{"$f":"tpl_title","v":"Кемеровская область / 2024 / ООО \"ТВК\" (ИНН:4202026697, КПП:420201001) / ДПР: 2024-2028"}]
[null,null,null,null,null,null,null,null,null,null,null,"22. Тарифное меню"]
[]
[null,null,null,null,null,null,{"$f":"OR(hasVS,hasVO)","v":true},null,null,null,null,"22.1. Тарифное меню (водоснабжение/водоотведение)"]
[null,null,null,null,null,null,{"$f":"OR(hasVS,hasVO)","v":true},null,null,null,null,"Наименование показателя","Единица измерения",{"$f":"N1 & \" год\"","v":"2024 год"},null,null,{"$f":"Q1 & \" год\"","v":"2025 год"},null,null,{"$f":"T1 & \" год\"","v":"2026 год"},null,null,{"$f":"W1 & \" год\"","v":"2027 год"},null,null,{"$f":"Z1 & \" год\"","v":"2028 год"},null,null,{"$f":"AC1 & \" год\"","v":"2029 год"},null,null,{"$f":"AF1 & \" год\"","v":"2030 год"},null,null,{"$f":"AI1 & \" год\"","v":"2031 год"},null,null,{"$f":"AL1 & \" год\"","v":"2032 год"},null,null,{"$f":"AO1 & \" год\"","v":"2033 год"},null,null,{"$f":"AR1 & \" год\"","v":"2034 год"},null,null,{"$f":"AU1 & \" год\"","v":"2035 год"},null,null,{"$f":"AX1 & \" год\"","v":"2036 год"},null,null,{"$f":"BA1 & \" год\"","v":"2037 год"},null,null,{"$f":"BD1 & \" год\"","v":"2038 год"},null,null,{"$f":"BG1 & \" год\"","v":"2039 год"},null,null,{"$f":"BJ1 & \" год\"","v":"2040 год"},null,null,{"$f":"BM1 & \" год\"","v":"2041 год"},null,null,{"$f":"BP1 & \" год\"","v":"2042 год"},null,null,{"$f":"BS1 & \" год\"","v":"2043 год"},null,null,{"$f":"BV1 & \" год\"","v":"2044 год"},null,null,{"$f":"BY1 & \" год\"","v":"2045 год"},null,null,{"$f":"CB1 & \" год\"","v":"2046 год"},null,null,{"$f":"CE1 & \" год\"","v":"2047 год"},null,null,{"$f":"CH1 & \" год\"","v":"2048 год"},null,null,{"$f":"CK1 & \" год\"","v":"2049 год"},null,null,{"$f":"CN1 & \" год\"","v":"2050 год"},null,null,{"$f":"CQ1 & \" год\"","v":"2051 год"},null,null,{"$f":"CT1 & \" год\"","v":"2052 год"},null,null,{"$f":"CW1 & \" год\"","v":"2053 год"},null,null,{"$f":"CZ1 & \" год\"","v":"2054 год"},null,null,{"$f":"DC1 & \" год\"","v":"2055 год"},null,null,{"$f":"DF1 & \" год\"","v":"2056 год"},null,null,{"$f":"DI1 & \" год\"","v":"2057 год"},null,null,{"$f":"DL1 & \" год\"","v":"2058 год"},null,null,{"$f":"DO1 & \" год\"","v":"2059 год"},null,null,{"$f":"DR1 & \" год\"","v":"2060 год"},null,null,{"$f":"DU1 & \" год\"","v":"2061 год"},null,null,{"$f":"DX1 & \" год\"","v":"2062 год"},null,null,{"$f":"EA1 & \" год\"","v":"2063 год"},null,null,{"$f":"ED1 & \" год\"","v":"2064 год"},null,null,{"$f":"EG1 & \" год\"","v":"2065 год"},null,null,{"$f":"EJ1 & \" год\"","v":"2066 год"},null,null,{"$f":"EM1 & \" год\"","v":"2067 год"},null,null,{"$f":"EP1 & \" год\"","v":"2068 год"},null,null,{"$f":"ES1 & \" год\"","v":"2069 год"},null,null,{"$f":"EV1 & \" год\"","v":"2070 год"},null,null,{"$f":"EY1 & \" год\"","v":"2071 год"},null,null,{"$f":"FB1 & \" год\"","v":"2072 год"},null,null,{"$f":"FE1 & \" год\"","v":"2073 год"}]
[null,null,null,null,null,null,{"$f":"OR(hasVS,hasVO)","v":true},null,null,null,null,null,null,"Предложение организации","Принято органом регулирования","Отклонение, %","Предложение организации","Принято органом регулирования","Отклонение, %","Предложение организации","Принято органом регулирования","Отклонение, %","Предложение организации","Принято органом регулирования","Отклонение, %","Предложение организации","Принято органом регулирования","Отклонение, %","Предложение организации","Принято органом регулирования","Отклонение, %","Предложение организации","Принято органом регулирования","Отклонение, %","Предложение организации","Принято органом регулирования","Отклонение, %","Предложение организации","Принято органом регулирования","Отклонение, %","Предложение организации","Принято органом регулирования","Отклонение, %","Предложение организации","Принято органом регулирования","Отклонение, %","Предложение организации","Принято органом регулирования","Отклонение, %","Предложение организации","Принято органом регулирования","Отклонение, %","Предложение организации","Принято органом регулирования","Отклонение, %","Предложение организации","Принято органом регулирования","Отклонение, %","Предложение организации","Принято органом регулирования","Отклонение, %","Предложение организации","Принято органом регулирования","Отклонение, %","Предложение организации","Принято органом регулирования","Отклонение, %","Предложение организации","Принято органом регулирования","Отклонение, %","Предложение организации","Принято органом регулирования","Отклонение, %","Предложение организации","Принято органом регулирования","Отклонение, %","Предложение организации","Принято органом регулирования","Отклонение, %","Предложение организации","Принято органом регулирования","Отклонение, %","Предложение организации","Принято органом регулирования","Отклонение, %","Предложение организации","Принято органом регулирования","Отклонение, %","Предложение организации","Принято органом регулирования","Отклонение, %","Предложение организации","Принято органом регулирования","Отклонение, %","Предложение организации","Принято органом регулирования","Отклонение, %","Предложение организации","Принято органом регулирования","Отклонение, %","Предложение организации","Принято органом регулирования","Отклонение, %","Предложение организации","Принято органом регулирования","Отклонение, %","Предложение организации","Принято органом регулирования","Отклонение, %","Предложение организации","Принято органом регулирования","Отклонение, %","Предложение организации","Принято органом регулирования","Отклонение, %","Предложение организации","Принято органом регулирования","Отклонение, %","Предложение организации","Принято органом регулирования","Отклонение, %","Предложение организации","Принято органом регулирования","Отклонение, %","Предложение организации","Принято органом регулирования","Отклонение, %","Предложение организации","Принято органом регулирования","Отклонение, %","Предложение организации","Принято органом регулирования","Отклонение, %","Предложение организации","Принято органом регулирования","Отклонение, %","Предложение организации","Принято органом регулирования","Отклонение, %","Предложение организации","Принято органом регулирования","Отклонение, %","Предложение организации","Принято органом регулирования","Отклонение, %","Предложение организации","Принято органом регулирования","Отклонение, %","Предложение организации","Принято органом регулирования","Отклонение, %","Предложение организации","Принято органом регулирования","Отклонение, %","Предложение организации","Принято органом регулирования","Отклонение, %","Предложение организации","Принято органом регулирования","Отклонение, %","Предложение организации","Принято органом регулирования","Отклонение, %"]
[{"$f":"'Общие сведения'!$D$122","v":"1"},null,null,null,null,{"$f":"INDEX('Общие сведения'!$N$121:$N$148,MATCH($A17,'Общие сведения'!$D$121:$D$148,0))","v":"одноставочный"},null,null,null,null,null,"№ п/п",null,{"$f":"\"Тариф \" & A17","v":"Тариф 1"}]
[{"$f":"A17","v":"1"},null,null,null,null,null,null,null,null,null,null,"Вид воды / сточных вод",null,{"$f":"INDEX('Общие сведения'!$K$121:$K$148,MATCH($A18,'Общие сведения'!$D$121:$D$148,0))","v":"питьевая вода"}]
[{"$f":"A18","v":"1"},null,null,null,null,null,null,null,null,null,null,"Утверждаемый тариф",null,{"$f":"INDEX('Общие сведения'!$L$121:$L$148,MATCH($A19,'Общие сведения'!$D$121:$D$148,0))","v":"тариф на питьевую воду"}]
["1",null,null,null,null,null,null,null,null,null,null,"Дополнительные признаки дифференциации тарифов",null,{"$f":"INDEX('Общие сведения'!$M$121:$M$148,MATCH($A20,'Общие сведения'!$D$121:$D$148,0))","v":0}]
["1",null,null,null,null,null,{"$f":"F17=\"одноставочный\"","v":true},null,null,null,null,"Одноставочный тариф:"]
["1","тариф.прочие.I","L1_1","для прочих потребителей с 01.01 по 30.06 без НДС",null,null,{"$f":"F17=\"одноставочный\"","v":true},null,null,null,null,"Тариф с 01.01 по 30.06 для прочих потребителей без НДС","руб./куб.м",{"$f":"SUMIFS(INDEX(Калькуляция!$T$15:$AM$268,,MATCH(N$3,Калькуляция!$T$3:$AM$3,0)),Калькуляция!$A$15:$A$268,$A22,Калькуляция!$B$15:$B$268,$B22)","v":14},{"$f":"SUMIFS(INDEX(Калькуляция!$T$15:$AM$268,,MATCH(O$3,Калькуляция!$T$3:$AM$3,0)),Калькуляция!$A$15:$A$268,$A22,Калькуляция!$B$15:$B$268,$B22)","v":14},{"$f":"IF(N22=0,0,(O22-N22)/N22*100)","v":0},{"$f":"SUMIFS(INDEX(Калькуляция!$T$15:$AM$268,,MATCH(Q$3,Калькуляция!$T$3:$AM$3,0)),Калькуляция!$A$15:$A$268,$A22,Калькуляция!$B$15:$B$268,$B22)","v":24.05},{"$f":"SUMIFS(INDEX(Калькуляция!$T$15:$AM$268,,MATCH(R$3,Калькуляция!$T$3:$AM$3,0)),Калькуляция!$A$15:$A$268,$A22,Калькуляция!$B$15:$B$268,$B22)","v":15.34},{"$f":"IF(Q22=0,0,(R22-Q22)/Q22*100)","v":-36.216216216216218},{"$f":"SUMIFS(INDEX(Калькуляция!$T$15:$AM$268,,MATCH(T$3,Калькуляция!$T$3:$AM$3,0)),Калькуляция!$A$15:$A$268,$A22,Калькуляция!$B$15:$B$268,$B22)","v":24.04},{"$f":"SUMIFS(INDEX(Калькуляция!$T$15:$AM$268,,MATCH(U$3,Калькуляция!$T$3:$AM$3,0)),Калькуляция!$A$15:$A$268,$A22,Калькуляция!$B$15:$B$268,$B22)","v":16.45},{"$f":"IF(T22=0,0,(U22-T22)/T22*100)","v":-31.572379367720465},{"$f":"SUMIFS(INDEX(Калькуляция!$T$15:$AM$268,,MATCH(W$3,Калькуляция!$T$3:$AM$3,0)),Калькуляция!$A$15:$A$268,$A22,Калькуляция!$B$15:$B$268,$B22)","v":26.13},{"$f":"SUMIFS(INDEX(Калькуляция!$T$15:$AM$268,,MATCH(X$3,Калькуляция!$T$3:$AM$3,0)),Калькуляция!$A$15:$A$268,$A22,Калькуляция!$B$15:$B$268,$B22)","v":17.8},{"$f":"IF(W22=0,0,(X22-W22)/W22*100)","v":-31.879066207424412},{"$f":"SUMIFS(INDEX(Калькуляция!$T$15:$AM$268,,MATCH(Z$3,Калькуляция!$T$3:$AM$3,0)),Калькуляция!$A$15:$A$268,$A22,Калькуляция!$B$15:$B$268,$B22)","v":26.2},{"$f":"SUMIFS(INDEX(Калькуляция!$T$15:$AM$268,,MATCH(AA$3,Калькуляция!$T$3:$AM$3,0)),Калькуляция!$A$15:$A$268,$A22,Калькуляция!$B$15:$B$268,$B22)","v":19.12},{"$f":"IF(Z22=0,0,(AA22-Z22)/Z22*100)","v":-27.02290076335877},{"$f":"SUMIFS(INDEX(Калькуляция!$T$15:$AM$268,,MATCH(AC$3,Калькуляция!$T$3:$AM$3,0)),Калькуляция!$A$15:$A$268,$A22,Калькуляция!$B$15:$B$268,$B22)","v":0},{"$f":"SUMIFS(INDEX(Калькуляция!$T$15:$AM$268,,MATCH(AD$3,Калькуляция!$T$3:$AM$3,0)),Калькуляция!$A$15:$A$268,$A22,Калькуляция!$B$15:$B$268,$B22)","v":0},{"$f":"IF(AC22=0,0,(AD22-AC22)/AC22*100)","v":0},{"$f":"SUMIFS(INDEX(Калькуляция!$T$15:$AM$268,,MATCH(AF$3,Калькуляция!$T$3:$AM$3,0)),Калькуляция!$A$15:$A$268,$A22,Калькуляция!$B$15:$B$268,$B22)","v":0},{"$f":"SUMIFS(INDEX(Калькуляция!$T$15:$AM$268,,MATCH(AG$3,Калькуляция!$T$3:$AM$3,0)),Калькуляция!$A$15:$A$268,$A22,Калькуляция!$B$15:$B$268,$B22)","v":0},{"$f":"IF(AF22=0,0,(AG22-AF22)/AF22*100)","v":0},{"$f":"SUMIFS(INDEX(Калькуляция!$T$15:$AM$268,,MATCH(AI$3,Калькуляция!$T$3:$AM$3,0)),Калькуляция!$A$15:$A$268,$A22,Калькуляция!$B$15:$B$268,$B22)","v":0},{"$f":"SUMIFS(INDEX(Калькуляция!$T$15:$AM$268,,MATCH(AJ$3,Калькуляция!$T$3:$AM$3,0)),Калькуляция!$A$15:$A$268,$A22,Калькуляция!$B$15:$B$268,$B22)","v":0},{"$f":"IF(AI22=0,0,(AJ22-AI22)/AI22*100)","v":0},{"$f":"SUMIFS(INDEX(Калькуляция!$T$15:$AM$268,,MATCH(AL$3,Калькуляция!$T$3:$AM$3,0)),Калькуляция!$A$15:$A$268,$A22,Калькуляция!$B$15:$B$268,$B22)","v":0},{"$f":"SUMIFS(INDEX(Калькуляция!$T$15:$AM$268,,MATCH(AM$3,Калькуляция!$T$3:$AM$3,0)),Калькуляция!$A$15:$A$268,$A22,Калькуляция!$B$15:$B$268,$B22)","v":0},{"$f":"IF(AL22=0,0,(AM22-AL22)/AL22*100)","v":0},{"$f":"SUMIFS(INDEX(Калькуляция!$T$15:$AM$268,,MATCH(AO$3,Калькуляция!$T$3:$AM$3,0)),Калькуляция!$A$15:$A$268,$A22,Калькуляция!$B$15:$B$268,$B22)","v":0},{"$f":"SUMIFS(INDEX(Калькуляция!$T$15:$AM$268,,MATCH(AP$3,Калькуляция!$T$3:$AM$3,0)),Калькуляция!$A$15:$A$268,$A22,Калькуляция!$B$15:$B$268,$B22)","v":0},{"$f":"IF(AO22=0,0,(AP22-AO22)/AO22*100)","v":0},null,null,{"$f":"IF(AR22=0,0,(AS22-AR22)/AR22*100)","v":0},null,null,{"$f":"IF(AU22=0,0,(AV22-AU22)/AU22*100)","v":0},null,null,{"$f":"IF(AX22=0,0,(AY22-AX22)/AX22*100)","v":0},null,null,{"$f":"IF(BA22=0,0,(BB22-BA22)/BA22*100)","v":0},null,null,{"$f":"IF(BD22=0,0,(BE22-BD22)/BD22*100)","v":0},null,null,{"$f":"IF(BG22=0,0,(BH22-BG22)/BG22*100)","v":0},null,null,{"$f":"IF(BJ22=0,0,(BK22-BJ22)/BJ22*100)","v":0},null,null,{"$f":"IF(BM22=0,0,(BN22-BM22)/BM22*100)","v":0},null,null,{"$f":"IF(BP22=0,0,(BQ22-BP22)/BP22*100)","v":0},null,null,{"$f":"IF(BS22=0,0,(BT22-BS22)/BS22*100)","v":0},null,null,{"$f":"IF(BV22=0,0,(BW22-BV22)/BV22*100)","v":0},null,null,{"$f":"IF(BY22=0,0,(BZ22-BY22)/BY22*100)","v":0},null,null,{"$f":"IF(CB22=0,0,(CC22-CB22)/CB22*100)","v":0},null,null,{"$f":"IF(CE22=0,0,(CF22-CE22)/CE22*100)","v":0},null,null,{"$f":"IF(CH22=0,0,(CI22-CH22)/CH22*100)","v":0},null,null,{"$f":"IF(CK22=0,0,(CL22-CK22)/CK22*100)","v":0},null,null,{"$f":"IF(CN22=0,0,(CO22-CN22)/CN22*100)","v":0},null,null,{"$f":"IF(CQ22=0,0,(CR22-CQ22)/CQ22*100)","v":0},null,null,{"$f":"IF(CT22=0,0,(CU22-CT22)/CT22*100)","v":0},null,null,{"$f":"IF(CW22=0,0,(CX22-CW22)/CW22*100)","v":0},null,null,{"$f":"IF(CZ22=0,0,(DA22-CZ22)/CZ22*100)","v":0},null,null,{"$f":"IF(DC22=0,0,(DD22-DC22)/DC22*100)","v":0},null,null,{"$f":"IF(DF22=0,0,(DG22-DF22)/DF22*100)","v":0},null,null,{"$f":"IF(DI22=0,0,(DJ22-DI22)/DI22*100)","v":0},null,null,{"$f":"IF(DL22=0,0,(DM22-DL22)/DL22*100)","v":0},null,null,{"$f":"IF(DO22=0,0,(DP22-DO22)/DO22*100)","v":0},null,null,{"$f":"IF(DR22=0,0,(DS22-DR22)/DR22*100)","v":0},null,null,{"$f":"IF(DU22=0,0,(DV22-DU22)/DU22*100)","v":0},null,null,{"$f":"IF(DX22=0,0,(DY22-DX22)/DX22*100)","v":0},null,null,{"$f":"IF(EA22=0,0,(EB22-EA22)/EA22*100)","v":0},null,null,{"$f":"IF(ED22=0,0,(EE22-ED22)/ED22*100)","v":0},null,null,{"$f":"IF(EG22=0,0,(EH22-EG22)/EG22*100)","v":0},null,null,{"$f":"IF(EJ22=0,0,(EK22-EJ22)/EJ22*100)","v":0},null,null,{"$f":"IF(EM22=0,0,(EN22-EM22)/EM22*100)","v":0},null,null,{"$f":"IF(EP22=0,0,(EQ22-EP22)/EP22*100)","v":0},null,null,{"$f":"IF(ES22=0,0,(ET22-ES22)/ES22*100)","v":0},null,null,{"$f":"IF(EV22=0,0,(EW22-EV22)/EV22*100)","v":0},null,null,{"$f":"IF(EY22=0,0,(EZ22-EY22)/EY22*100)","v":0},null,null,{"$f":"IF(FB22=0,0,(FC22-FB22)/FB22*100)","v":0},null,null,{"$f":"IF(FE22=0,0,(FF22-FE22)/FE22*100)","v":0}]
["1","тариф.прочие.II","L1_1","для прочих потребителей с 01.07 по 31.12 без НДС",null,null,{"$f":"F17=\"одноставочный\"","v":true},null,null,null,null,"Тариф с 01.07 по 31.12 для прочих потребителей без НДС","руб./куб.м",{"$f":"SUMIFS(INDEX(Калькуляция!$T$15:$AM$268,,MATCH(N$3,Калькуляция!$T$3:$AM$3,0)),Калькуляция!$A$15:$A$268,$A23,Калькуляция!$B$15:$B$268,$B23)","v":31.964573698804735},{"$f":"SUMIFS(INDEX(Калькуляция!$T$15:$AM$268,,MATCH(O$3,Калькуляция!$T$3:$AM$3,0)),Калькуляция!$A$15:$A$268,$A23,Калькуляция!$B$15:$B$268,$B23)","v":15.340016786379509},{"$f":"IF(N23=0,0,(O23-N23)/N23*100)","v":-52.009318406917707},{"$f":"SUMIFS(INDEX(Калькуляция!$T$15:$AM$268,,MATCH(Q$3,Калькуляция!$T$3:$AM$3,0)),Калькуляция!$A$15:$A$268,$A23,Калькуляция!$B$15:$B$268,$B23)","v":24.041248004984634},{"$f":"SUMIFS(INDEX(Калькуляция!$T$15:$AM$268,,MATCH(R$3,Калькуляция!$T$3:$AM$3,0)),Калькуляция!$A$15:$A$268,$A23,Калькуляция!$B$15:$B$268,$B23)","v":16.449977198647389},{"$f":"IF(Q23=0,0,(R23-Q23)/Q23*100)","v":-31.576026355883425},{"$f":"SUMIFS(INDEX(Калькуляция!$T$15:$AM$268,,MATCH(T$3,Калькуляция!$T$3:$AM$3,0)),Калькуляция!$A$15:$A$268,$A23,Калькуляция!$B$15:$B$268,$B23)","v":26.127408199024451},{"$f":"SUMIFS(INDEX(Калькуляция!$T$15:$AM$268,,MATCH(U$3,Калькуляция!$T$3:$AM$3,0)),Калькуляция!$A$15:$A$268,$A23,Калькуляция!$B$15:$B$268,$B23)","v":17.800036521962205},{"$f":"IF(T23=0,0,(U23-T23)/T23*100)","v":-31.872168925554483},{"$f":"SUMIFS(INDEX(Калькуляция!$T$15:$AM$268,,MATCH(W$3,Калькуляция!$T$3:$AM$3,0)),Калькуляция!$A$15:$A$268,$A23,Калькуляция!$B$15:$B$268,$B23)","v":26.204293542156648},{"$f":"SUMIFS(INDEX(Калькуляция!$T$15:$AM$268,,MATCH(X$3,Калькуляция!$T$3:$AM$3,0)),Калькуляция!$A$15:$A$268,$A23,Калькуляция!$B$15:$B$268,$B23)","v":19.12005528352168},{"$f":"IF(W23=0,0,(X23-W23)/W23*100)","v":-27.034647002553484},{"$f":"SUMIFS(INDEX(Калькуляция!$T$15:$AM$268,,MATCH(Z$3,Калькуляция!$T$3:$AM$3,0)),Калькуляция!$A$15:$A$268,$A23,Калькуляция!$B$15:$B$268,$B23)","v":28.395847170672095},{"$f":"SUMIFS(INDEX(Калькуляция!$T$15:$AM$268,,MATCH(AA$3,Калькуляция!$T$3:$AM$3,0)),Калькуляция!$A$15:$A$268,$A23,Калькуляция!$B$15:$B$268,$B23)","v":20.299968960469599},{"$f":"IF(Z23=0,0,(AA23-Z23)/Z23*100)","v":-28.510782444850285},{"$f":"SUMIFS(INDEX(Калькуляция!$T$15:$AM$268,,MATCH(AC$3,Калькуляция!$T$3:$AM$3,0)),Калькуляция!$A$15:$A$268,$A23,Калькуляция!$B$15:$B$268,$B23)","v":0},{"$f":"SUMIFS(INDEX(Калькуляция!$T$15:$AM$268,,MATCH(AD$3,Калькуляция!$T$3:$AM$3,0)),Калькуляция!$A$15:$A$268,$A23,Калькуляция!$B$15:$B$268,$B23)","v":0},{"$f":"IF(AC23=0,0,(AD23-AC23)/AC23*100)","v":0},{"$f":"SUMIFS(INDEX(Калькуляция!$T$15:$AM$268,,MATCH(AF$3,Калькуляция!$T$3:$AM$3,0)),Калькуляция!$A$15:$A$268,$A23,Калькуляция!$B$15:$B$268,$B23)","v":0},{"$f":"SUMIFS(INDEX(Калькуляция!$T$15:$AM$268,,MATCH(AG$3,Калькуляция!$T$3:$AM$3,0)),Калькуляция!$A$15:$A$268,$A23,Калькуляция!$B$15:$B$268,$B23)","v":0},{"$f":"IF(AF23=0,0,(AG23-AF23)/AF23*100)","v":0},{"$f":"SUMIFS(INDEX(Калькуляция!$T$15:$AM$268,,MATCH(AI$3,Калькуляция!$T$3:$AM$3,0)),Калькуляция!$A$15:$A$268,$A23,Калькуляция!$B$15:$B$268,$B23)","v":0},{"$f":"SUMIFS(INDEX(Калькуляция!$T$15:$AM$268,,MATCH(AJ$3,Калькуляция!$T$3:$AM$3,0)),Калькуляция!$A$15:$A$268,$A23,Калькуляция!$B$15:$B$268,$B23)","v":0},{"$f":"IF(AI23=0,0,(AJ23-AI23)/AI23*100)","v":0},{"$f":"SUMIFS(INDEX(Калькуляция!$T$15:$AM$268,,MATCH(AL$3,Калькуляция!$T$3:$AM$3,0)),Калькуляция!$A$15:$A$268,$A23,Калькуляция!$B$15:$B$268,$B23)","v":0},{"$f":"SUMIFS(INDEX(Калькуляция!$T$15:$AM$268,,MATCH(AM$3,Калькуляция!$T$3:$AM$3,0)),Калькуляция!$A$15:$A$268,$A23,Калькуляция!$B$15:$B$268,$B23)","v":0},{"$f":"IF(AL23=0,0,(AM23-AL23)/AL23*100)","v":0},{"$f":"SUMIFS(INDEX(Калькуляция!$T$15:$AM$268,,MATCH(AO$3,Калькуляция!$T$3:$AM$3,0)),Калькуляция!$A$15:$A$268,$A23,Калькуляция!$B$15:$B$268,$B23)","v":0},{"$f":"SUMIFS(INDEX(Калькуляция!$T$15:$AM$268,,MATCH(AP$3,Калькуляция!$T$3:$AM$3,0)),Калькуляция!$A$15:$A$268,$A23,Калькуляция!$B$15:$B$268,$B23)","v":0},{"$f":"IF(AO23=0,0,(AP23-AO23)/AO23*100)","v":0},null,null,{"$f":"IF(AR23=0,0,(AS23-AR23)/AR23*100)","v":0},null,null,{"$f":"IF(AU23=0,0,(AV23-AU23)/AU23*100)","v":0},null,null,{"$f":"IF(AX23=0,0,(AY23-AX23)/AX23*100)","v":0},null,null,{"$f":"IF(BA23=0,0,(BB23-BA23)/BA23*100)","v":0},null,null,{"$f":"IF(BD23=0,0,(BE23-BD23)/BD23*100)","v":0},null,null,{"$f":"IF(BG23=0,0,(BH23-BG23)/BG23*100)","v":0},null,null,{"$f":"IF(BJ23=0,0,(BK23-BJ23)/BJ23*100)","v":0},null,null,{"$f":"IF(BM23=0,0,(BN23-BM23)/BM23*100)","v":0},null,null,{"$f":"IF(BP23=0,0,(BQ23-BP23)/BP23*100)","v":0},null,null,{"$f":"IF(BS23=0,0,(BT23-BS23)/BS23*100)","v":0},null,null,{"$f":"IF(BV23=0,0,(BW23-BV23)/BV23*100)","v":0},null,null,{"$f":"IF(BY23=0,0,(BZ23-BY23)/BY23*100)","v":0},null,null,{"$f":"IF(CB23=0,0,(CC23-CB23)/CB23*100)","v":0},null,null,{"$f":"IF(CE23=0,0,(CF23-CE23)/CE23*100)","v":0},null,null,{"$f":"IF(CH23=0,0,(CI23-CH23)/CH23*100)","v":0},null,null,{"$f":"IF(CK23=0,0,(CL23-CK23)/CK23*100)","v":0},null,null,{"$f":"IF(CN23=0,0,(CO23-CN23)/CN23*100)","v":0},null,null,{"$f":"IF(CQ23=0,0,(CR23-CQ23)/CQ23*100)","v":0},null,null,{"$f":"IF(CT23=0,0,(CU23-CT23)/CT23*100)","v":0},null,null,{"$f":"IF(CW23=0,0,(CX23-CW23)/CW23*100)","v":0},null,null,{"$f":"IF(CZ23=0,0,(DA23-CZ23)/CZ23*100)","v":0},null,null,{"$f":"IF(DC23=0,0,(DD23-DC23)/DC23*100)","v":0},null,null,{"$f":"IF(DF23=0,0,(DG23-DF23)/DF23*100)","v":0},null,null,{"$f":"IF(DI23=0,0,(DJ23-DI23)/DI23*100)","v":0},null,null,{"$f":"IF(DL23=0,0,(DM23-DL23)/DL23*100)","v":0},null,null,{"$f":"IF(DO23=0,0,(DP23-DO23)/DO23*100)","v":0},null,null,{"$f":"IF(DR23=0,0,(DS23-DR23)/DR23*100)","v":0},null,null,{"$f":"IF(DU23=0,0,(DV23-DU23)/DU23*100)","v":0},null,null,{"$f":"IF(DX23=0,0,(DY23-DX23)/DX23*100)","v":0},null,null,{"$f":"IF(EA23=0,0,(EB23-EA23)/EA23*100)","v":0},null,null,{"$f":"IF(ED23=0,0,(EE23-ED23)/ED23*100)","v":0},null,null,{"$f":"IF(EG23=0,0,(EH23-EG23)/EG23*100)","v":0},null,null,{"$f":"IF(EJ23=0,0,(EK23-EJ23)/EJ23*100)","v":0},null,null,{"$f":"IF(EM23=0,0,(EN23-EM23)/EM23*100)","v":0},null,null,{"$f":"IF(EP23=0,0,(EQ23-EP23)/EP23*100)","v":0},null,null,{"$f":"IF(ES23=0,0,(ET23-ES23)/ES23*100)","v":0},null,null,{"$f":"IF(EV23=0,0,(EW23-EV23)/EV23*100)","v":0},null,null,{"$f":"IF(EY23=0,0,(EZ23-EY23)/EY23*100)","v":0},null,null,{"$f":"IF(FB23=0,0,(FC23-FB23)/FB23*100)","v":0},null,null,{"$f":"IF(FE23=0,0,(FF23-FE23)/FE23*100)","v":0}]
["1",null,"L1_2","для прочих потребителей без НДС",null,null,{"$f":"F17=\"одноставочный\"","v":true},null,null,null,null,"Темп роста тарифов с 01.07","%",{"$f":"IF(N22=0,0,N23/N22)*100","v":228.31838356289097},{"$f":"IF(O22=0,0,O23/O22)*100","v":109.57154847413935},null,{"$f":"IF(Q22=0,0,Q23/Q22)*100","v":99.963609168335282},{"$f":"IF(R22=0,0,R23/R22)*100","v":107.2358357147809},null,{"$f":"IF(T22=0,0,T23/T22)*100","v":108.68306239194862},{"$f":"IF(U22=0,0,U23/U22)*100","v":108.20690894809853},null,{"$f":"IF(W22=0,0,W23/W22)*100","v":100.28432277901511},{"$f":"IF(X22=0,0,X23/X22)*100","v":107.41604091866112},null,{"$f":"IF(Z22=0,0,Z23/Z22)*100","v":108.38109607126754},{"$f":"IF(AA22=0,0,AA23/AA22)*100","v":106.17138577651464},null,{"$f":"IF(AC22=0,0,AC23/AC22)*100","v":0},{"$f":"IF(AD22=0,0,AD23/AD22)*100","v":0},null,{"$f":"IF(AF22=0,0,AF23/AF22)*100","v":0},{"$f":"IF(AG22=0,0,AG23/AG22)*100","v":0},null,{"$f":"IF(AI22=0,0,AI23/AI22)*100","v":0},{"$f":"IF(AJ22=0,0,AJ23/AJ22)*100","v":0},null,{"$f":"IF(AL22=0,0,AL23/AL22)*100","v":0},{"$f":"IF(AM22=0,0,AM23/AM22)*100","v":0},null,{"$f":"IF(AO22=0,0,AO23/AO22)*100","v":0},{"$f":"IF(AP22=0,0,AP23/AP22)*100","v":0},null,{"$f":"IF(AR22=0,0,AR23/AR22)*100","v":0},{"$f":"IF(AS22=0,0,AS23/AS22)*100","v":0},null,{"$f":"IF(AU22=0,0,AU23/AU22)*100","v":0},{"$f":"IF(AV22=0,0,AV23/AV22)*100","v":0},null,{"$f":"IF(AX22=0,0,AX23/AX22)*100","v":0},{"$f":"IF(AY22=0,0,AY23/AY22)*100","v":0},null,{"$f":"IF(BA22=0,0,BA23/BA22)*100","v":0},{"$f":"IF(BB22=0,0,BB23/BB22)*100","v":0},null,{"$f":"IF(BD22=0,0,BD23/BD22)*100","v":0},{"$f":"IF(BE22=0,0,BE23/BE22)*100","v":0},null,{"$f":"IF(BG22=0,0,BG23/BG22)*100","v":0},{"$f":"IF(BH22=0,0,BH23/BH22)*100","v":0},null,{"$f":"IF(BJ22=0,0,BJ23/BJ22)*100","v":0},{"$f":"IF(BK22=0,0,BK23/BK22)*100","v":0},null,{"$f":"IF(BM22=0,0,BM23/BM22)*100","v":0},{"$f":"IF(BN22=0,0,BN23/BN22)*100","v":0},null,{"$f":"IF(BP22=0,0,BP23/BP22)*100","v":0},{"$f":"IF(BQ22=0,0,BQ23/BQ22)*100","v":0},null,{"$f":"IF(BS22=0,0,BS23/BS22)*100","v":0},{"$f":"IF(BT22=0,0,BT23/BT22)*100","v":0},null,{"$f":"IF(BV22=0,0,BV23/BV22)*100","v":0},{"$f":"IF(BW22=0,0,BW23/BW22)*100","v":0},null,{"$f":"IF(BY22=0,0,BY23/BY22)*100","v":0},{"$f":"IF(BZ22=0,0,BZ23/BZ22)*100","v":0},null,{"$f":"IF(CB22=0,0,CB23/CB22)*100","v":0},{"$f":"IF(CC22=0,0,CC23/CC22)*100","v":0},null,{"$f":"IF(CE22=0,0,CE23/CE22)*100","v":0},{"$f":"IF(CF22=0,0,CF23/CF22)*100","v":0},null,{"$f":"IF(CH22=0,0,CH23/CH22)*100","v":0},{"$f":"IF(CI22=0,0,CI23/CI22)*100","v":0},null,{"$f":"IF(CK22=0,0,CK23/CK22)*100","v":0},{"$f":"IF(CL22=0,0,CL23/CL22)*100","v":0},null,{"$f":"IF(CN22=0,0,CN23/CN22)*100","v":0},{"$f":"IF(CO22=0,0,CO23/CO22)*100","v":0},null,{"$f":"IF(CQ22=0,0,CQ23/CQ22)*100","v":0},{"$f":"IF(CR22=0,0,CR23/CR22)*100","v":0},null,{"$f":"IF(CT22=0,0,CT23/CT22)*100","v":0},{"$f":"IF(CU22=0,0,CU23/CU22)*100","v":0},null,{"$f":"IF(CW22=0,0,CW23/CW22)*100","v":0},{"$f":"IF(CX22=0,0,CX23/CX22)*100","v":0},null,{"$f":"IF(CZ22=0,0,CZ23/CZ22)*100","v":0},{"$f":"IF(DA22=0,0,DA23/DA22)*100","v":0},null,{"$f":"IF(DC22=0,0,DC23/DC22)*100","v":0},{"$f":"IF(DD22=0,0,DD23/DD22)*100","v":0},null,{"$f":"IF(DF22=0,0,DF23/DF22)*100","v":0},{"$f":"IF(DG22=0,0,DG23/DG22)*100","v":0},null,{"$f":"IF(DI22=0,0,DI23/DI22)*100","v":0},{"$f":"IF(DJ22=0,0,DJ23/DJ22)*100","v":0},null,{"$f":"IF(DL22=0,0,DL23/DL22)*100","v":0},{"$f":"IF(DM22=0,0,DM23/DM22)*100","v":0},null,{"$f":"IF(DO22=0,0,DO23/DO22)*100","v":0},{"$f":"IF(DP22=0,0,DP23/DP22)*100","v":0},null,{"$f":"IF(DR22=0,0,DR23/DR22)*100","v":0},{"$f":"IF(DS22=0,0,DS23/DS22)*100","v":0},null,{"$f":"IF(DU22=0,0,DU23/DU22)*100","v":0},{"$f":"IF(DV22=0,0,DV23/DV22)*100","v":0},null,{"$f":"IF(DX22=0,0,DX23/DX22)*100","v":0},{"$f":"IF(DY22=0,0,DY23/DY22)*100","v":0},null,{"$f":"IF(EA22=0,0,EA23/EA22)*100","v":0},{"$f":"IF(EB22=0,0,EB23/EB22)*100","v":0},null,{"$f":"IF(ED22=0,0,ED23/ED22)*100","v":0},{"$f":"IF(EE22=0,0,EE23/EE22)*100","v":0},null,{"$f":"IF(EG22=0,0,EG23/EG22)*100","v":0},{"$f":"IF(EH22=0,0,EH23/EH22)*100","v":0},null,{"$f":"IF(EJ22=0,0,EJ23/EJ22)*100","v":0},{"$f":"IF(EK22=0,0,EK23/EK22)*100","v":0},null,{"$f":"IF(EM22=0,0,EM23/EM22)*100","v":0},{"$f":"IF(EN22=0,0,EN23/EN22)*100","v":0},null,{"$f":"IF(EP22=0,0,EP23/EP22)*100","v":0},{"$f":"IF(EQ22=0,0,EQ23/EQ22)*100","v":0},null,{"$f":"IF(ES22=0,0,ES23/ES22)*100","v":0},{"$f":"IF(ET22=0,0,ET23/ET22)*100","v":0},null,{"$f":"IF(EV22=0,0,EV23/EV22)*100","v":0},{"$f":"IF(EW22=0,0,EW23/EW22)*100","v":0},null,{"$f":"IF(EY22=0,0,EY23/EY22)*100","v":0},{"$f":"IF(EZ22=0,0,EZ23/EZ22)*100","v":0},null,{"$f":"IF(FB22=0,0,FB23/FB22)*100","v":0},{"$f":"IF(FC22=0,0,FC23/FC22)*100","v":0},null,{"$f":"IF(FE22=0,0,FE23/FE22)*100","v":0},{"$f":"IF(FF22=0,0,FF23/FF22)*100","v":0}]
["1","ПО.прочие","L1_3","для прочих потребителей без НДС",null,null,{"$f":"F17=\"одноставочный\"","v":true},null,null,null,null,"Объём реализации услуги с 01.01 по 31.12","тыс.куб.м",{"$f":"SUMIFS(INDEX(Калькуляция!$T$15:$AM$268,,MATCH(N$3,Калькуляция!$T$3:$AM$3,0)),Калькуляция!$A$15:$A$268,$A25,Калькуляция!$B$15:$B$268,$B25)","v":595.93099999999993},{"$f":"SUMIFS(INDEX(Калькуляция!$T$15:$AM$268,,MATCH(O$3,Калькуляция!$T$3:$AM$3,0)),Калькуляция!$A$15:$A$268,$A25,Калькуляция!$B$15:$B$268,$B25)","v":554.77947737},{"$f":"IF(N25=0,0,(O25-N25)/N25*100)","v":-6.9054173436186295},{"$f":"SUMIFS(INDEX(Калькуляция!$T$15:$AM$268,,MATCH(Q$3,Калькуляция!$T$3:$AM$3,0)),Калькуляция!$A$15:$A$268,$A25,Калькуляция!$B$15:$B$268,$B25)","v":595.93099999999993},{"$f":"SUMIFS(INDEX(Калькуляция!$T$15:$AM$268,,MATCH(R$3,Калькуляция!$T$3:$AM$3,0)),Калькуляция!$A$15:$A$268,$A25,Калькуляция!$B$15:$B$268,$B25)","v":554.77947737},{"$f":"IF(Q25=0,0,(R25-Q25)/Q25*100)","v":-6.9054173436186295},{"$f":"SUMIFS(INDEX(Калькуляция!$T$15:$AM$268,,MATCH(T$3,Калькуляция!$T$3:$AM$3,0)),Калькуляция!$A$15:$A$268,$A25,Калькуляция!$B$15:$B$268,$B25)","v":595.93099999999993},{"$f":"SUMIFS(INDEX(Калькуляция!$T$15:$AM$268,,MATCH(U$3,Калькуляция!$T$3:$AM$3,0)),Калькуляция!$A$15:$A$268,$A25,Калькуляция!$B$15:$B$268,$B25)","v":554.77947737},{"$f":"IF(T25=0,0,(U25-T25)/T25*100)","v":-6.9054173436186295},{"$f":"SUMIFS(INDEX(Калькуляция!$T$15:$AM$268,,MATCH(W$3,Калькуляция!$T$3:$AM$3,0)),Калькуляция!$A$15:$A$268,$A25,Калькуляция!$B$15:$B$268,$B25)","v":595.93099999999993},{"$f":"SUMIFS(INDEX(Калькуляция!$T$15:$AM$268,,MATCH(X$3,Калькуляция!$T$3:$AM$3,0)),Калькуляция!$A$15:$A$268,$A25,Калькуляция!$B$15:$B$268,$B25)","v":554.77947737},{"$f":"IF(W25=0,0,(X25-W25)/W25*100)","v":-6.9054173436186295},{"$f":"SUMIFS(INDEX(Калькуляция!$T$15:$AM$268,,MATCH(Z$3,Калькуляция!$T$3:$AM$3,0)),Калькуляция!$A$15:$A$268,$A25,Калькуляция!$B$15:$B$268,$B25)","v":595.93099999999993},{"$f":"SUMIFS(INDEX(Калькуляция!$T$15:$AM$268,,MATCH(AA$3,Калькуляция!$T$3:$AM$3,0)),Калькуляция!$A$15:$A$268,$A25,Калькуляция!$B$15:$B$268,$B25)","v":554.77947737},{"$f":"IF(Z25=0,0,(AA25-Z25)/Z25*100)","v":-6.9054173436186295},{"$f":"SUMIFS(INDEX(Калькуляция!$T$15:$AM$268,,MATCH(AC$3,Калькуляция!$T$3:$AM$3,0)),Калькуляция!$A$15:$A$268,$A25,Калькуляция!$B$15:$B$268,$B25)","v":0},{"$f":"SUMIFS(INDEX(Калькуляция!$T$15:$AM$268,,MATCH(AD$3,Калькуляция!$T$3:$AM$3,0)),Калькуляция!$A$15:$A$268,$A25,Калькуляция!$B$15:$B$268,$B25)","v":0},{"$f":"IF(AC25=0,0,(AD25-AC25)/AC25*100)","v":0},{"$f":"SUMIFS(INDEX(Калькуляция!$T$15:$AM$268,,MATCH(AF$3,Калькуляция!$T$3:$AM$3,0)),Калькуляция!$A$15:$A$268,$A25,Калькуляция!$B$15:$B$268,$B25)","v":0},{"$f":"SUMIFS(INDEX(Калькуляция!$T$15:$AM$268,,MATCH(AG$3,Калькуляция!$T$3:$AM$3,0)),Калькуляция!$A$15:$A$268,$A25,Калькуляция!$B$15:$B$268,$B25)","v":0},{"$f":"IF(AF25=0,0,(AG25-AF25)/AF25*100)","v":0},{"$f":"SUMIFS(INDEX(Калькуляция!$T$15:$AM$268,,MATCH(AI$3,Калькуляция!$T$3:$AM$3,0)),Калькуляция!$A$15:$A$268,$A25,Калькуляция!$B$15:$B$268,$B25)","v":0},{"$f":"SUMIFS(INDEX(Калькуляция!$T$15:$AM$268,,MATCH(AJ$3,Калькуляция!$T$3:$AM$3,0)),Калькуляция!$A$15:$A$268,$A25,Калькуляция!$B$15:$B$268,$B25)","v":0},{"$f":"IF(AI25=0,0,(AJ25-AI25)/AI25*100)","v":0},{"$f":"SUMIFS(INDEX(Калькуляция!$T$15:$AM$268,,MATCH(AL$3,Калькуляция!$T$3:$AM$3,0)),Калькуляция!$A$15:$A$268,$A25,Калькуляция!$B$15:$B$268,$B25)","v":0},{"$f":"SUMIFS(INDEX(Калькуляция!$T$15:$AM$268,,MATCH(AM$3,Калькуляция!$T$3:$AM$3,0)),Калькуляция!$A$15:$A$268,$A25,Калькуляция!$B$15:$B$268,$B25)","v":0},{"$f":"IF(AL25=0,0,(AM25-AL25)/AL25*100)","v":0},{"$f":"SUMIFS(INDEX(Калькуляция!$T$15:$AM$268,,MATCH(AO$3,Калькуляция!$T$3:$AM$3,0)),Калькуляция!$A$15:$A$268,$A25,Калькуляция!$B$15:$B$268,$B25)","v":0},{"$f":"SUMIFS(INDEX(Калькуляция!$T$15:$AM$268,,MATCH(AP$3,Калькуляция!$T$3:$AM$3,0)),Калькуляция!$A$15:$A$268,$A25,Калькуляция!$B$15:$B$268,$B25)","v":0},{"$f":"IF(AO25=0,0,(AP25-AO25)/AO25*100)","v":0},null,null,{"$f":"IF(AR25=0,0,(AS25-AR25)/AR25*100)","v":0},null,null,{"$f":"IF(AU25=0,0,(AV25-AU25)/AU25*100)","v":0},null,null,{"$f":"IF(AX25=0,0,(AY25-AX25)/AX25*100)","v":0},null,null,{"$f":"IF(BA25=0,0,(BB25-BA25)/BA25*100)","v":0},null,null,{"$f":"IF(BD25=0,0,(BE25-BD25)/BD25*100)","v":0},null,null,{"$f":"IF(BG25=0,0,(BH25-BG25)/BG25*100)","v":0},null,null,{"$f":"IF(BJ25=0,0,(BK25-BJ25)/BJ25*100)","v":0},null,null,{"$f":"IF(BM25=0,0,(BN25-BM25)/BM25*100)","v":0},null,null,{"$f":"IF(BP25=0,0,(BQ25-BP25)/BP25*100)","v":0},null,null,{"$f":"IF(BS25=0,0,(BT25-BS25)/BS25*100)","v":0},null,null,{"$f":"IF(BV25=0,0,(BW25-BV25)/BV25*100)","v":0},null,null,{"$f":"IF(BY25=0,0,(BZ25-BY25)/BY25*100)","v":0},null,null,{"$f":"IF(CB25=0,0,(CC25-CB25)/CB25*100)","v":0},null,null,{"$f":"IF(CE25=0,0,(CF25-CE25)/CE25*100)","v":0},null,null,{"$f":"IF(CH25=0,0,(CI25-CH25)/CH25*100)","v":0},null,null,{"$f":"IF(CK25=0,0,(CL25-CK25)/CK25*100)","v":0},null,null,{"$f":"IF(CN25=0,0,(CO25-CN25)/CN25*100)","v":0},null,null,{"$f":"IF(CQ25=0,0,(CR25-CQ25)/CQ25*100)","v":0},null,null,{"$f":"IF(CT25=0,0,(CU25-CT25)/CT25*100)","v":0},null,null,{"$f":"IF(CW25=0,0,(CX25-CW25)/CW25*100)","v":0},null,null,{"$f":"IF(CZ25=0,0,(DA25-CZ25)/CZ25*100)","v":0},null,null,{"$f":"IF(DC25=0,0,(DD25-DC25)/DC25*100)","v":0},null,null,{"$f":"IF(DF25=0,0,(DG25-DF25)/DF25*100)","v":0},null,null,{"$f":"IF(DI25=0,0,(DJ25-DI25)/DI25*100)","v":0},null,null,{"$f":"IF(DL25=0,0,(DM25-DL25)/DL25*100)","v":0},null,null,{"$f":"IF(DO25=0,0,(DP25-DO25)/DO25*100)","v":0},null,null,{"$f":"IF(DR25=0,0,(DS25-DR25)/DR25*100)","v":0},null,null,{"$f":"IF(DU25=0,0,(DV25-DU25)/DU25*100)","v":0},null,null,{"$f":"IF(DX25=0,0,(DY25-DX25)/DX25*100)","v":0},null,null,{"$f":"IF(EA25=0,0,(EB25-EA25)/EA25*100)","v":0},null,null,{"$f":"IF(ED25=0,0,(EE25-ED25)/ED25*100)","v":0},null,null,{"$f":"IF(EG25=0,0,(EH25-EG25)/EG25*100)","v":0},null,null,{"$f":"IF(EJ25=0,0,(EK25-EJ25)/EJ25*100)","v":0},null,null,{"$f":"IF(EM25=0,0,(EN25-EM25)/EM25*100)","v":0},null,null,{"$f":"IF(EP25=0,0,(EQ25-EP25)/EP25*100)","v":0},null,null,{"$f":"IF(ES25=0,0,(ET25-ES25)/ES25*100)","v":0},null,null,{"$f":"IF(EV25=0,0,(EW25-EV25)/EV25*100)","v":0},null,null,{"$f":"IF(EY25=0,0,(EZ25-EY25)/EY25*100)","v":0},null,null,{"$f":"IF(FB25=0,0,(FC25-FB25)/FB25*100)","v":0},null,null,{"$f":"IF(FE25=0,0,(FF25-FE25)/FE25*100)","v":0}]
["1","тариф.население.I","L1_1","для населения с 01.01 по 30.06 с НДС",null,null,{"$f":"F17=\"одноставочный\"","v":true},null,null,null,null,"Тариф с 01.01 по 30.06 для населения с НДС","руб./куб.м",{"$f":"SUMIFS(INDEX(Калькуляция!$T$15:$AM$268,,MATCH(N$3,Калькуляция!$T$3:$AM$3,0)),Калькуляция!$A$15:$A$268,$A26,Калькуляция!$B$15:$B$268,$B26)","v":0},{"$f":"SUMIFS(INDEX(Калькуляция!$T$15:$AM$268,,MATCH(O$3,Калькуляция!$T$3:$AM$3,0)),Калькуляция!$A$15:$A$268,$A26,Калькуляция!$B$15:$B$268,$B26)","v":0},{"$f":"IF(N26=0,0,(O26-N26)/N26*100)","v":0},{"$f":"SUMIFS(INDEX(Калькуляция!$T$15:$AM$268,,MATCH(Q$3,Калькуляция!$T$3:$AM$3,0)),Калькуляция!$A$15:$A$268,$A26,Калькуляция!$B$15:$B$268,$B26)","v":0},{"$f":"SUMIFS(INDEX(Калькуляция!$T$15:$AM$268,,MATCH(R$3,Калькуляция!$T$3:$AM$3,0)),Калькуляция!$A$15:$A$268,$A26,Калькуляция!$B$15:$B$268,$B26)","v":0},{"$f":"IF(Q26=0,0,(R26-Q26)/Q26*100)","v":0},{"$f":"SUMIFS(INDEX(Калькуляция!$T$15:$AM$268,,MATCH(T$3,Калькуляция!$T$3:$AM$3,0)),Калькуляция!$A$15:$A$268,$A26,Калькуляция!$B$15:$B$268,$B26)","v":0},{"$f":"SUMIFS(INDEX(Калькуляция!$T$15:$AM$268,,MATCH(U$3,Калькуляция!$T$3:$AM$3,0)),Калькуляция!$A$15:$A$268,$A26,Калькуляция!$B$15:$B$268,$B26)","v":0},{"$f":"IF(T26=0,0,(U26-T26)/T26*100)","v":0},{"$f":"SUMIFS(INDEX(Калькуляция!$T$15:$AM$268,,MATCH(W$3,Калькуляция!$T$3:$AM$3,0)),Калькуляция!$A$15:$A$268,$A26,Калькуляция!$B$15:$B$268,$B26)","v":0},{"$f":"SUMIFS(INDEX(Калькуляция!$T$15:$AM$268,,MATCH(X$3,Калькуляция!$T$3:$AM$3,0)),Калькуляция!$A$15:$A$268,$A26,Калькуляция!$B$15:$B$268,$B26)","v":0},{"$f":"IF(W26=0,0,(X26-W26)/W26*100)","v":0},{"$f":"SUMIFS(INDEX(Калькуляция!$T$15:$AM$268,,MATCH(Z$3,Калькуляция!$T$3:$AM$3,0)),Калькуляция!$A$15:$A$268,$A26,Калькуляция!$B$15:$B$268,$B26)","v":0},{"$f":"SUMIFS(INDEX(Калькуляция!$T$15:$AM$268,,MATCH(AA$3,Калькуляция!$T$3:$AM$3,0)),Калькуляция!$A$15:$A$268,$A26,Калькуляция!$B$15:$B$268,$B26)","v":0},{"$f":"IF(Z26=0,0,(AA26-Z26)/Z26*100)","v":0},{"$f":"SUMIFS(INDEX(Калькуляция!$T$15:$AM$268,,MATCH(AC$3,Калькуляция!$T$3:$AM$3,0)),Калькуляция!$A$15:$A$268,$A26,Калькуляция!$B$15:$B$268,$B26)","v":0},{"$f":"SUMIFS(INDEX(Калькуляция!$T$15:$AM$268,,MATCH(AD$3,Калькуляция!$T$3:$AM$3,0)),Калькуляция!$A$15:$A$268,$A26,Калькуляция!$B$15:$B$268,$B26)","v":0},{"$f":"IF(AC26=0,0,(AD26-AC26)/AC26*100)","v":0},{"$f":"SUMIFS(INDEX(Калькуляция!$T$15:$AM$268,,MATCH(AF$3,Калькуляция!$T$3:$AM$3,0)),Калькуляция!$A$15:$A$268,$A26,Калькуляция!$B$15:$B$268,$B26)","v":0},{"$f":"SUMIFS(INDEX(Калькуляция!$T$15:$AM$268,,MATCH(AG$3,Калькуляция!$T$3:$AM$3,0)),Калькуляция!$A$15:$A$268,$A26,Калькуляция!$B$15:$B$268,$B26)","v":0},{"$f":"IF(AF26=0,0,(AG26-AF26)/AF26*100)","v":0},{"$f":"SUMIFS(INDEX(Калькуляция!$T$15:$AM$268,,MATCH(AI$3,Калькуляция!$T$3:$AM$3,0)),Калькуляция!$A$15:$A$268,$A26,Калькуляция!$B$15:$B$268,$B26)","v":0},{"$f":"SUMIFS(INDEX(Калькуляция!$T$15:$AM$268,,MATCH(AJ$3,Калькуляция!$T$3:$AM$3,0)),Калькуляция!$A$15:$A$268,$A26,Калькуляция!$B$15:$B$268,$B26)","v":0},{"$f":"IF(AI26=0,0,(AJ26-AI26)/AI26*100)","v":0},{"$f":"SUMIFS(INDEX(Калькуляция!$T$15:$AM$268,,MATCH(AL$3,Калькуляция!$T$3:$AM$3,0)),Калькуляция!$A$15:$A$268,$A26,Калькуляция!$B$15:$B$268,$B26)","v":0},{"$f":"SUMIFS(INDEX(Калькуляция!$T$15:$AM$268,,MATCH(AM$3,Калькуляция!$T$3:$AM$3,0)),Калькуляция!$A$15:$A$268,$A26,Калькуляция!$B$15:$B$268,$B26)","v":0},{"$f":"IF(AL26=0,0,(AM26-AL26)/AL26*100)","v":0},{"$f":"SUMIFS(INDEX(Калькуляция!$T$15:$AM$268,,MATCH(AO$3,Калькуляция!$T$3:$AM$3,0)),Калькуляция!$A$15:$A$268,$A26,Калькуляция!$B$15:$B$268,$B26)","v":0},{"$f":"SUMIFS(INDEX(Калькуляция!$T$15:$AM$268,,MATCH(AP$3,Калькуляция!$T$3:$AM$3,0)),Калькуляция!$A$15:$A$268,$A26,Калькуляция!$B$15:$B$268,$B26)","v":0},{"$f":"IF(AO26=0,0,(AP26-AO26)/AO26*100)","v":0},null,null,{"$f":"IF(AR26=0,0,(AS26-AR26)/AR26*100)","v":0},null,null,{"$f":"IF(AU26=0,0,(AV26-AU26)/AU26*100)","v":0},null,null,{"$f":"IF(AX26=0,0,(AY26-AX26)/AX26*100)","v":0},null,null,{"$f":"IF(BA26=0,0,(BB26-BA26)/BA26*100)","v":0},null,null,{"$f":"IF(BD26=0,0,(BE26-BD26)/BD26*100)","v":0},null,null,{"$f":"IF(BG26=0,0,(BH26-BG26)/BG26*100)","v":0},null,null,{"$f":"IF(BJ26=0,0,(BK26-BJ26)/BJ26*100)","v":0},null,null,{"$f":"IF(BM26=0,0,(BN26-BM26)/BM26*100)","v":0},null,null,{"$f":"IF(BP26=0,0,(BQ26-BP26)/BP26*100)","v":0},null,null,{"$f":"IF(BS26=0,0,(BT26-BS26)/BS26*100)","v":0},null,null,{"$f":"IF(BV26=0,0,(BW26-BV26)/BV26*100)","v":0},null,null,{"$f":"IF(BY26=0,0,(BZ26-BY26)/BY26*100)","v":0},null,null,{"$f":"IF(CB26=0,0,(CC26-CB26)/CB26*100)","v":0},null,null,{"$f":"IF(CE26=0,0,(CF26-CE26)/CE26*100)","v":0},null,null,{"$f":"IF(CH26=0,0,(CI26-CH26)/CH26*100)","v":0},null,null,{"$f":"IF(CK26=0,0,(CL26-CK26)/CK26*100)","v":0},null,null,{"$f":"IF(CN26=0,0,(CO26-CN26)/CN26*100)","v":0},null,null,{"$f":"IF(CQ26=0,0,(CR26-CQ26)/CQ26*100)","v":0},null,null,{"$f":"IF(CT26=0,0,(CU26-CT26)/CT26*100)","v":0},null,null,{"$f":"IF(CW26=0,0,(CX26-CW26)/CW26*100)","v":0},null,null,{"$f":"IF(CZ26=0,0,(DA26-CZ26)/CZ26*100)","v":0},null,null,{"$f":"IF(DC26=0,0,(DD26-DC26)/DC26*100)","v":0},null,null,{"$f":"IF(DF26=0,0,(DG26-DF26)/DF26*100)","v":0},null,null,{"$f":"IF(DI26=0,0,(DJ26-DI26)/DI26*100)","v":0},null,null,{"$f":"IF(DL26=0,0,(DM26-DL26)/DL26*100)","v":0},null,null,{"$f":"IF(DO26=0,0,(DP26-DO26)/DO26*100)","v":0},null,null,{"$f":"IF(DR26=0,0,(DS26-DR26)/DR26*100)","v":0},null,null,{"$f":"IF(DU26=0,0,(DV26-DU26)/DU26*100)","v":0},null,null,{"$f":"IF(DX26=0,0,(DY26-DX26)/DX26*100)","v":0},null,null,{"$f":"IF(EA26=0,0,(EB26-EA26)/EA26*100)","v":0},null,null,{"$f":"IF(ED26=0,0,(EE26-ED26)/ED26*100)","v":0},null,null,{"$f":"IF(EG26=0,0,(EH26-EG26)/EG26*100)","v":0},null,null,{"$f":"IF(EJ26=0,0,(EK26-EJ26)/EJ26*100)","v":0},null,null,{"$f":"IF(EM26=0,0,(EN26-EM26)/EM26*100)","v":0},null,null,{"$f":"IF(EP26=0,0,(EQ26-EP26)/EP26*100)","v":0},null,null,{"$f":"IF(ES26=0,0,(ET26-ES26)/ES26*100)","v":0},null,null,{"$f":"IF(EV26=0,0,(EW26-EV26)/EV26*100)","v":0},null,null,{"$f":"IF(EY26=0,0,(EZ26-EY26)/EY26*100)","v":0},null,null,{"$f":"IF(FB26=0,0,(FC26-FB26)/FB26*100)","v":0},null,null,{"$f":"IF(FE26=0,0,(FF26-FE26)/FE26*100)","v":0}]
["1","тариф.население.II","L1_1","для населения с 01.07 по 31.12 с НДС",null,null,{"$f":"F17=\"одноставочный\"","v":true},null,null,null,null,"Тариф с 01.07 по 31.12 для населения с НДС","руб./куб.м",{"$f":"SUMIFS(INDEX(Калькуляция!$T$15:$AM$268,,MATCH(N$3,Калькуляция!$T$3:$AM$3,0)),Калькуляция!$A$15:$A$268,$A27,Калькуляция!$B$15:$B$268,$B27)","v":0},{"$f":"SUMIFS(INDEX(Калькуляция!$T$15:$AM$268,,MATCH(O$3,Калькуляция!$T$3:$AM$3,0)),Калькуляция!$A$15:$A$268,$A27,Калькуляция!$B$15:$B$268,$B27)","v":0},{"$f":"IF(N27=0,0,(O27-N27)/N27*100)","v":0},{"$f":"SUMIFS(INDEX(Калькуляция!$T$15:$AM$268,,MATCH(Q$3,Калькуляция!$T$3:$AM$3,0)),Калькуляция!$A$15:$A$268,$A27,Калькуляция!$B$15:$B$268,$B27)","v":0},{"$f":"SUMIFS(INDEX(Калькуляция!$T$15:$AM$268,,MATCH(R$3,Калькуляция!$T$3:$AM$3,0)),Калькуляция!$A$15:$A$268,$A27,Калькуляция!$B$15:$B$268,$B27)","v":0},{"$f":"IF(Q27=0,0,(R27-Q27)/Q27*100)","v":0},{"$f":"SUMIFS(INDEX(Калькуляция!$T$15:$AM$268,,MATCH(T$3,Калькуляция!$T$3:$AM$3,0)),Калькуляция!$A$15:$A$268,$A27,Калькуляция!$B$15:$B$268,$B27)","v":0},{"$f":"SUMIFS(INDEX(Калькуляция!$T$15:$AM$268,,MATCH(U$3,Калькуляция!$T$3:$AM$3,0)),Калькуляция!$A$15:$A$268,$A27,Калькуляция!$B$15:$B$268,$B27)","v":0},{"$f":"IF(T27=0,0,(U27-T27)/T27*100)","v":0},{"$f":"SUMIFS(INDEX(Калькуляция!$T$15:$AM$268,,MATCH(W$3,Калькуляция!$T$3:$AM$3,0)),Калькуляция!$A$15:$A$268,$A27,Калькуляция!$B$15:$B$268,$B27)","v":0},{"$f":"SUMIFS(INDEX(Калькуляция!$T$15:$AM$268,,MATCH(X$3,Калькуляция!$T$3:$AM$3,0)),Калькуляция!$A$15:$A$268,$A27,Калькуляция!$B$15:$B$268,$B27)","v":0},{"$f":"IF(W27=0,0,(X27-W27)/W27*100)","v":0},{"$f":"SUMIFS(INDEX(Калькуляция!$T$15:$AM$268,,MATCH(Z$3,Калькуляция!$T$3:$AM$3,0)),Калькуляция!$A$15:$A$268,$A27,Калькуляция!$B$15:$B$268,$B27)","v":0},{"$f":"SUMIFS(INDEX(Калькуляция!$T$15:$AM$268,,MATCH(AA$3,Калькуляция!$T$3:$AM$3,0)),Калькуляция!$A$15:$A$268,$A27,Калькуляция!$B$15:$B$268,$B27)","v":0},{"$f":"IF(Z27=0,0,(AA27-Z27)/Z27*100)","v":0},{"$f":"SUMIFS(INDEX(Калькуляция!$T$15:$AM$268,,MATCH(AC$3,Калькуляция!$T$3:$AM$3,0)),Калькуляция!$A$15:$A$268,$A27,Калькуляция!$B$15:$B$268,$B27)","v":0},{"$f":"SUMIFS(INDEX(Калькуляция!$T$15:$AM$268,,MATCH(AD$3,Калькуляция!$T$3:$AM$3,0)),Калькуляция!$A$15:$A$268,$A27,Калькуляция!$B$15:$B$268,$B27)","v":0},{"$f":"IF(AC27=0,0,(AD27-AC27)/AC27*100)","v":0},{"$f":"SUMIFS(INDEX(Калькуляция!$T$15:$AM$268,,MATCH(AF$3,Калькуляция!$T$3:$AM$3,0)),Калькуляция!$A$15:$A$268,$A27,Калькуляция!$B$15:$B$268,$B27)","v":0},{"$f":"SUMIFS(INDEX(Калькуляция!$T$15:$AM$268,,MATCH(AG$3,Калькуляция!$T$3:$AM$3,0)),Калькуляция!$A$15:$A$268,$A27,Калькуляция!$B$15:$B$268,$B27)","v":0},{"$f":"IF(AF27=0,0,(AG27-AF27)/AF27*100)","v":0},{"$f":"SUMIFS(INDEX(Калькуляция!$T$15:$AM$268,,MATCH(AI$3,Калькуляция!$T$3:$AM$3,0)),Калькуляция!$A$15:$A$268,$A27,Калькуляция!$B$15:$B$268,$B27)","v":0},{"$f":"SUMIFS(INDEX(Калькуляция!$T$15:$AM$268,,MATCH(AJ$3,Калькуляция!$T$3:$AM$3,0)),Калькуляция!$A$15:$A$268,$A27,Калькуляция!$B$15:$B$268,$B27)","v":0},{"$f":"IF(AI27=0,0,(AJ27-AI27)/AI27*100)","v":0},{"$f":"SUMIFS(INDEX(Калькуляция!$T$15:$AM$268,,MATCH(AL$3,Калькуляция!$T$3:$AM$3,0)),Калькуляция!$A$15:$A$268,$A27,Калькуляция!$B$15:$B$268,$B27)","v":0},{"$f":"SUMIFS(INDEX(Калькуляция!$T$15:$AM$268,,MATCH(AM$3,Калькуляция!$T$3:$AM$3,0)),Калькуляция!$A$15:$A$268,$A27,Калькуляция!$B$15:$B$268,$B27)","v":0},{"$f":"IF(AL27=0,0,(AM27-AL27)/AL27*100)","v":0},{"$f":"SUMIFS(INDEX(Калькуляция!$T$15:$AM$268,,MATCH(AO$3,Калькуляция!$T$3:$AM$3,0)),Калькуляция!$A$15:$A$268,$A27,Калькуляция!$B$15:$B$268,$B27)","v":0},{"$f":"SUMIFS(INDEX(Калькуляция!$T$15:$AM$268,,MATCH(AP$3,Калькуляция!$T$3:$AM$3,0)),Калькуляция!$A$15:$A$268,$A27,Калькуляция!$B$15:$B$268,$B27)","v":0},{"$f":"IF(AO27=0,0,(AP27-AO27)/AO27*100)","v":0},null,null,{"$f":"IF(AR27=0,0,(AS27-AR27)/AR27*100)","v":0},null,null,{"$f":"IF(AU27=0,0,(AV27-AU27)/AU27*100)","v":0},null,null,{"$f":"IF(AX27=0,0,(AY27-AX27)/AX27*100)","v":0},null,null,{"$f":"IF(BA27=0,0,(BB27-BA27)/BA27*100)","v":0},null,null,{"$f":"IF(BD27=0,0,(BE27-BD27)/BD27*100)","v":0},null,null,{"$f":"IF(BG27=0,0,(BH27-BG27)/BG27*100)","v":0},null,null,{"$f":"IF(BJ27=0,0,(BK27-BJ27)/BJ27*100)","v":0},null,null,{"$f":"IF(BM27=0,0,(BN27-BM27)/BM27*100)","v":0},null,null,{"$f":"IF(BP27=0,0,(BQ27-BP27)/BP27*100)","v":0},null,null,{"$f":"IF(BS27=0,0,(BT27-BS27)/BS27*100)","v":0},null,null,{"$f":"IF(BV27=0,0,(BW27-BV27)/BV27*100)","v":0},null,null,{"$f":"IF(BY27=0,0,(BZ27-BY27)/BY27*100)","v":0},null,null,{"$f":"IF(CB27=0,0,(CC27-CB27)/CB27*100)","v":0},null,null,{"$f":"IF(CE27=0,0,(CF27-CE27)/CE27*100)","v":0},null,null,{"$f":"IF(CH27=0,0,(CI27-CH27)/CH27*100)","v":0},null,null,{"$f":"IF(CK27=0,0,(CL27-CK27)/CK27*100)","v":0},null,null,{"$f":"IF(CN27=0,0,(CO27-CN27)/CN27*100)","v":0},null,null,{"$f":"IF(CQ27=0,0,(CR27-CQ27)/CQ27*100)","v":0},null,null,{"$f":"IF(CT27=0,0,(CU27-CT27)/CT27*100)","v":0},null,null,{"$f":"IF(CW27=0,0,(CX27-CW27)/CW27*100)","v":0},null,null,{"$f":"IF(CZ27=0,0,(DA27-CZ27)/CZ27*100)","v":0},null,null,{"$f":"IF(DC27=0,0,(DD27-DC27)/DC27*100)","v":0},null,null,{"$f":"IF(DF27=0,0,(DG27-DF27)/DF27*100)","v":0},null,null,{"$f":"IF(DI27=0,0,(DJ27-DI27)/DI27*100)","v":0},null,null,{"$f":"IF(DL27=0,0,(DM27-DL27)/DL27*100)","v":0},null,null,{"$f":"IF(DO27=0,0,(DP27-DO27)/DO27*100)","v":0},null,null,{"$f":"IF(DR27=0,0,(DS27-DR27)/DR27*100)","v":0},null,null,{"$f":"IF(DU27=0,0,(DV27-DU27)/DU27*100)","v":0},null,null,{"$f":"IF(DX27=0,0,(DY27-DX27)/DX27*100)","v":0},null,null,{"$f":"IF(EA27=0,0,(EB27-EA27)/EA27*100)","v":0},null,null,{"$f":"IF(ED27=0,0,(EE27-ED27)/ED27*100)","v":0},null,null,{"$f":"IF(EG27=0,0,(EH27-EG27)/EG27*100)","v":0},null,null,{"$f":"IF(EJ27=0,0,(EK27-EJ27)/EJ27*100)","v":0},null,null,{"$f":"IF(EM27=0,0,(EN27-EM27)/EM27*100)","v":0},null,null,{"$f":"IF(EP27=0,0,(EQ27-EP27)/EP27*100)","v":0},null,null,{"$f":"IF(ES27=0,0,(ET27-ES27)/ES27*100)","v":0},null,null,{"$f":"IF(EV27=0,0,(EW27-EV27)/EV27*100)","v":0},null,null,{"$f":"IF(EY27=0,0,(EZ27-EY27)/EY27*100)","v":0},null,null,{"$f":"IF(FB27=0,0,(FC27-FB27)/FB27*100)","v":0},null,null,{"$f":"IF(FE27=0,0,(FF27-FE27)/FE27*100)","v":0}]
["1",null,"L1_2","для населения с НДС",null,null,{"$f":"F17=\"одноставочный\"","v":true},null,null,null,null,"Темп роста тарифов с 01.07","%",{"$f":"IF(N26=0,0,N27/N26)*100","v":0},{"$f":"IF(O26=0,0,O27/O26)*100","v":0},null,{"$f":"IF(Q26=0,0,Q27/Q26)*100","v":0},{"$f":"IF(R26=0,0,R27/R26)*100","v":0},null,{"$f":"IF(T26=0,0,T27/T26)*100","v":0},{"$f":"IF(U26=0,0,U27/U26)*100","v":0},null,{"$f":"IF(W26=0,0,W27/W26)*100","v":0},{"$f":"IF(X26=0,0,X27/X26)*100","v":0},null,{"$f":"IF(Z26=0,0,Z27/Z26)*100","v":0},{"$f":"IF(AA26=0,0,AA27/AA26)*100","v":0},null,{"$f":"IF(AC26=0,0,AC27/AC26)*100","v":0},{"$f":"IF(AD26=0,0,AD27/AD26)*100","v":0},null,{"$f":"IF(AF26=0,0,AF27/AF26)*100","v":0},{"$f":"IF(AG26=0,0,AG27/AG26)*100","v":0},null,{"$f":"IF(AI26=0,0,AI27/AI26)*100","v":0},{"$f":"IF(AJ26=0,0,AJ27/AJ26)*100","v":0},null,{"$f":"IF(AL26=0,0,AL27/AL26)*100","v":0},{"$f":"IF(AM26=0,0,AM27/AM26)*100","v":0},null,{"$f":"IF(AO26=0,0,AO27/AO26)*100","v":0},{"$f":"IF(AP26=0,0,AP27/AP26)*100","v":0},null,{"$f":"IF(AR26=0,0,AR27/AR26)*100","v":0},{"$f":"IF(AS26=0,0,AS27/AS26)*100","v":0},null,{"$f":"IF(AU26=0,0,AU27/AU26)*100","v":0},{"$f":"IF(AV26=0,0,AV27/AV26)*100","v":0},null,{"$f":"IF(AX26=0,0,AX27/AX26)*100","v":0},{"$f":"IF(AY26=0,0,AY27/AY26)*100","v":0},null,{"$f":"IF(BA26=0,0,BA27/BA26)*100","v":0},{"$f":"IF(BB26=0,0,BB27/BB26)*100","v":0},null,{"$f":"IF(BD26=0,0,BD27/BD26)*100","v":0},{"$f":"IF(BE26=0,0,BE27/BE26)*100","v":0},null,{"$f":"IF(BG26=0,0,BG27/BG26)*100","v":0},{"$f":"IF(BH26=0,0,BH27/BH26)*100","v":0},null,{"$f":"IF(BJ26=0,0,BJ27/BJ26)*100","v":0},{"$f":"IF(BK26=0,0,BK27/BK26)*100","v":0},null,{"$f":"IF(BM26=0,0,BM27/BM26)*100","v":0},{"$f":"IF(BN26=0,0,BN27/BN26)*100","v":0},null,{"$f":"IF(BP26=0,0,BP27/BP26)*100","v":0},{"$f":"IF(BQ26=0,0,BQ27/BQ26)*100","v":0},null,{"$f":"IF(BS26=0,0,BS27/BS26)*100","v":0},{"$f":"IF(BT26=0,0,BT27/BT26)*100","v":0},null,{"$f":"IF(BV26=0,0,BV27/BV26)*100","v":0},{"$f":"IF(BW26=0,0,BW27/BW26)*100","v":0},null,{"$f":"IF(BY26=0,0,BY27/BY26)*100","v":0},{"$f":"IF(BZ26=0,0,BZ27/BZ26)*100","v":0},null,{"$f":"IF(CB26=0,0,CB27/CB26)*100","v":0},{"$f":"IF(CC26=0,0,CC27/CC26)*100","v":0},null,{"$f":"IF(CE26=0,0,CE27/CE26)*100","v":0},{"$f":"IF(CF26=0,0,CF27/CF26)*100","v":0},null,{"$f":"IF(CH26=0,0,CH27/CH26)*100","v":0},{"$f":"IF(CI26=0,0,CI27/CI26)*100","v":0},null,{"$f":"IF(CK26=0,0,CK27/CK26)*100","v":0},{"$f":"IF(CL26=0,0,CL27/CL26)*100","v":0},null,{"$f":"IF(CN26=0,0,CN27/CN26)*100","v":0},{"$f":"IF(CO26=0,0,CO27/CO26)*100","v":0},null,{"$f":"IF(CQ26=0,0,CQ27/CQ26)*100","v":0},{"$f":"IF(CR26=0,0,CR27/CR26)*100","v":0},null,{"$f":"IF(CT26=0,0,CT27/CT26)*100","v":0},{"$f":"IF(CU26=0,0,CU27/CU26)*100","v":0},null,{"$f":"IF(CW26=0,0,CW27/CW26)*100","v":0},{"$f":"IF(CX26=0,0,CX27/CX26)*100","v":0},null,{"$f":"IF(CZ26=0,0,CZ27/CZ26)*100","v":0},{"$f":"IF(DA26=0,0,DA27/DA26)*100","v":0},null,{"$f":"IF(DC26=0,0,DC27/DC26)*100","v":0},{"$f":"IF(DD26=0,0,DD27/DD26)*100","v":0},null,{"$f":"IF(DF26=0,0,DF27/DF26)*100","v":0},{"$f":"IF(DG26=0,0,DG27/DG26)*100","v":0},null,{"$f":"IF(DI26=0,0,DI27/DI26)*100","v":0},{"$f":"IF(DJ26=0,0,DJ27/DJ26)*100","v":0},null,{"$f":"IF(DL26=0,0,DL27/DL26)*100","v":0},{"$f":"IF(DM26=0,0,DM27/DM26)*100","v":0},null,{"$f":"IF(DO26=0,0,DO27/DO26)*100","v":0},{"$f":"IF(DP26=0,0,DP27/DP26)*100","v":0},null,{"$f":"IF(DR26=0,0,DR27/DR26)*100","v":0},{"$f":"IF(DS26=0,0,DS27/DS26)*100","v":0},null,{"$f":"IF(DU26=0,0,DU27/DU26)*100","v":0},{"$f":"IF(DV26=0,0,DV27/DV26)*100","v":0},null,{"$f":"IF(DX26=0,0,DX27/DX26)*100","v":0},{"$f":"IF(DY26=0,0,DY27/DY26)*100","v":0},null,{"$f":"IF(EA26=0,0,EA27/EA26)*100","v":0},{"$f":"IF(EB26=0,0,EB27/EB26)*100","v":0},null,{"$f":"IF(ED26=0,0,ED27/ED26)*100","v":0},{"$f":"IF(EE26=0,0,EE27/EE26)*100","v":0},null,{"$f":"IF(EG26=0,0,EG27/EG26)*100","v":0},{"$f":"IF(EH26=0,0,EH27/EH26)*100","v":0},null,{"$f":"IF(EJ26=0,0,EJ27/EJ26)*100","v":0},{"$f":"IF(EK26=0,0,EK27/EK26)*100","v":0},null,{"$f":"IF(EM26=0,0,EM27/EM26)*100","v":0},{"$f":"IF(EN26=0,0,EN27/EN26)*100","v":0},null,{"$f":"IF(EP26=0,0,EP27/EP26)*100","v":0},{"$f":"IF(EQ26=0,0,EQ27/EQ26)*100","v":0},null,{"$f":"IF(ES26=0,0,ES27/ES26)*100","v":0},{"$f":"IF(ET26=0,0,ET27/ET26)*100","v":0},null,{"$f":"IF(EV26=0,0,EV27/EV26)*100","v":0},{"$f":"IF(EW26=0,0,EW27/EW26)*100","v":0},null,{"$f":"IF(EY26=0,0,EY27/EY26)*100","v":0},{"$f":"IF(EZ26=0,0,EZ27/EZ26)*100","v":0},null,{"$f":"IF(FB26=0,0,FB27/FB26)*100","v":0},{"$f":"IF(FC26=0,0,FC27/FC26)*100","v":0},null,{"$f":"IF(FE26=0,0,FE27/FE26)*100","v":0},{"$f":"IF(FF26=0,0,FF27/FF26)*100","v":0}]
["1","ПО.население","L1_3","для населения с НДС",null,null,{"$f":"F17=\"одноставочный\"","v":true},null,null,null,null,"Объём реализации услуги для населения с 01.01 по 31.12","тыс.куб.м",{"$f":"SUMIFS(INDEX(Калькуляция!$T$15:$AM$268,,MATCH(N$3,Калькуляция!$T$3:$AM$3,0)),Калькуляция!$A$15:$A$268,$A29,Калькуляция!$B$15:$B$268,$B29)","v":0},{"$f":"SUMIFS(INDEX(Калькуляция!$T$15:$AM$268,,MATCH(O$3,Калькуляция!$T$3:$AM$3,0)),Калькуляция!$A$15:$A$268,$A29,Калькуляция!$B$15:$B$268,$B29)","v":0},{"$f":"IF(N29=0,0,(O29-N29)/N29*100)","v":0},{"$f":"SUMIFS(INDEX(Калькуляция!$T$15:$AM$268,,MATCH(Q$3,Калькуляция!$T$3:$AM$3,0)),Калькуляция!$A$15:$A$268,$A29,Калькуляция!$B$15:$B$268,$B29)","v":0},{"$f":"SUMIFS(INDEX(Калькуляция!$T$15:$AM$268,,MATCH(R$3,Калькуляция!$T$3:$AM$3,0)),Калькуляция!$A$15:$A$268,$A29,Калькуляция!$B$15:$B$268,$B29)","v":0},{"$f":"IF(Q29=0,0,(R29-Q29)/Q29*100)","v":0},{"$f":"SUMIFS(INDEX(Калькуляция!$T$15:$AM$268,,MATCH(T$3,Калькуляция!$T$3:$AM$3,0)),Калькуляция!$A$15:$A$268,$A29,Калькуляция!$B$15:$B$268,$B29)","v":0},{"$f":"SUMIFS(INDEX(Калькуляция!$T$15:$AM$268,,MATCH(U$3,Калькуляция!$T$3:$AM$3,0)),Калькуляция!$A$15:$A$268,$A29,Калькуляция!$B$15:$B$268,$B29)","v":0},{"$f":"IF(T29=0,0,(U29-T29)/T29*100)","v":0},{"$f":"SUMIFS(INDEX(Калькуляция!$T$15:$AM$268,,MATCH(W$3,Калькуляция!$T$3:$AM$3,0)),Калькуляция!$A$15:$A$268,$A29,Калькуляция!$B$15:$B$268,$B29)","v":0},{"$f":"SUMIFS(INDEX(Калькуляция!$T$15:$AM$268,,MATCH(X$3,Калькуляция!$T$3:$AM$3,0)),Калькуляция!$A$15:$A$268,$A29,Калькуляция!$B$15:$B$268,$B29)","v":0},{"$f":"IF(W29=0,0,(X29-W29)/W29*100)","v":0},{"$f":"SUMIFS(INDEX(Калькуляция!$T$15:$AM$268,,MATCH(Z$3,Калькуляция!$T$3:$AM$3,0)),Калькуляция!$A$15:$A$268,$A29,Калькуляция!$B$15:$B$268,$B29)","v":0},{"$f":"SUMIFS(INDEX(Калькуляция!$T$15:$AM$268,,MATCH(AA$3,Калькуляция!$T$3:$AM$3,0)),Калькуляция!$A$15:$A$268,$A29,Калькуляция!$B$15:$B$268,$B29)","v":0},{"$f":"IF(Z29=0,0,(AA29-Z29)/Z29*100)","v":0},{"$f":"SUMIFS(INDEX(Калькуляция!$T$15:$AM$268,,MATCH(AC$3,Калькуляция!$T$3:$AM$3,0)),Калькуляция!$A$15:$A$268,$A29,Калькуляция!$B$15:$B$268,$B29)","v":0},{"$f":"SUMIFS(INDEX(Калькуляция!$T$15:$AM$268,,MATCH(AD$3,Калькуляция!$T$3:$AM$3,0)),Калькуляция!$A$15:$A$268,$A29,Калькуляция!$B$15:$B$268,$B29)","v":0},{"$f":"IF(AC29=0,0,(AD29-AC29)/AC29*100)","v":0},{"$f":"SUMIFS(INDEX(Калькуляция!$T$15:$AM$268,,MATCH(AF$3,Калькуляция!$T$3:$AM$3,0)),Калькуляция!$A$15:$A$268,$A29,Калькуляция!$B$15:$B$268,$B29)","v":0},{"$f":"SUMIFS(INDEX(Калькуляция!$T$15:$AM$268,,MATCH(AG$3,Калькуляция!$T$3:$AM$3,0)),Калькуляция!$A$15:$A$268,$A29,Калькуляция!$B$15:$B$268,$B29)","v":0},{"$f":"IF(AF29=0,0,(AG29-AF29)/AF29*100)","v":0},{"$f":"SUMIFS(INDEX(Калькуляция!$T$15:$AM$268,,MATCH(AI$3,Калькуляция!$T$3:$AM$3,0)),Калькуляция!$A$15:$A$268,$A29,Калькуляция!$B$15:$B$268,$B29)","v":0},{"$f":"SUMIFS(INDEX(Калькуляция!$T$15:$AM$268,,MATCH(AJ$3,Калькуляция!$T$3:$AM$3,0)),Калькуляция!$A$15:$A$268,$A29,Калькуляция!$B$15:$B$268,$B29)","v":0},{"$f":"IF(AI29=0,0,(AJ29-AI29)/AI29*100)","v":0},{"$f":"SUMIFS(INDEX(Калькуляция!$T$15:$AM$268,,MATCH(AL$3,Калькуляция!$T$3:$AM$3,0)),Калькуляция!$A$15:$A$268,$A29,Калькуляция!$B$15:$B$268,$B29)","v":0},{"$f":"SUMIFS(INDEX(Калькуляция!$T$15:$AM$268,,MATCH(AM$3,Калькуляция!$T$3:$AM$3,0)),Калькуляция!$A$15:$A$268,$A29,Калькуляция!$B$15:$B$268,$B29)","v":0},{"$f":"IF(AL29=0,0,(AM29-AL29)/AL29*100)","v":0},{"$f":"SUMIFS(INDEX(Калькуляция!$T$15:$AM$268,,MATCH(AO$3,Калькуляция!$T$3:$AM$3,0)),Калькуляция!$A$15:$A$268,$A29,Калькуляция!$B$15:$B$268,$B29)","v":0},{"$f":"SUMIFS(INDEX(Калькуляция!$T$15:$AM$268,,MATCH(AP$3,Калькуляция!$T$3:$AM$3,0)),Калькуляция!$A$15:$A$268,$A29,Калькуляция!$B$15:$B$268,$B29)","v":0},{"$f":"IF(AO29=0,0,(AP29-AO29)/AO29*100)","v":0},null,null,{"$f":"IF(AR29=0,0,(AS29-AR29)/AR29*100)","v":0},null,null,{"$f":"IF(AU29=0,0,(AV29-AU29)/AU29*100)","v":0},null,null,{"$f":"IF(AX29=0,0,(AY29-AX29)/AX29*100)","v":0},null,null,{"$f":"IF(BA29=0,0,(BB29-BA29)/BA29*100)","v":0},null,null,{"$f":"IF(BD29=0,0,(BE29-BD29)/BD29*100)","v":0},null,null,{"$f":"IF(BG29=0,0,(BH29-BG29)/BG29*100)","v":0},null,null,{"$f":"IF(BJ29=0,0,(BK29-BJ29)/BJ29*100)","v":0},null,null,{"$f":"IF(BM29=0,0,(BN29-BM29)/BM29*100)","v":0},null,null,{"$f":"IF(BP29=0,0,(BQ29-BP29)/BP29*100)","v":0},null,null,{"$f":"IF(BS29=0,0,(BT29-BS29)/BS29*100)","v":0},null,null,{"$f":"IF(BV29=0,0,(BW29-BV29)/BV29*100)","v":0},null,null,{"$f":"IF(BY29=0,0,(BZ29-BY29)/BY29*100)","v":0},null,null,{"$f":"IF(CB29=0,0,(CC29-CB29)/CB29*100)","v":0},null,null,{"$f":"IF(CE29=0,0,(CF29-CE29)/CE29*100)","v":0},null,null,{"$f":"IF(CH29=0,0,(CI29-CH29)/CH29*100)","v":0},null,null,{"$f":"IF(CK29=0,0,(CL29-CK29)/CK29*100)","v":0},null,null,{"$f":"IF(CN29=0,0,(CO29-CN29)/CN29*100)","v":0},null,null,{"$f":"IF(CQ29=0,0,(CR29-CQ29)/CQ29*100)","v":0},null,null,{"$f":"IF(CT29=0,0,(CU29-CT29)/CT29*100)","v":0},null,null,{"$f":"IF(CW29=0,0,(CX29-CW29)/CW29*100)","v":0},null,null,{"$f":"IF(CZ29=0,0,(DA29-CZ29)/CZ29*100)","v":0},null,null,{"$f":"IF(DC29=0,0,(DD29-DC29)/DC29*100)","v":0},null,null,{"$f":"IF(DF29=0,0,(DG29-DF29)/DF29*100)","v":0},null,null,{"$f":"IF(DI29=0,0,(DJ29-DI29)/DI29*100)","v":0},null,null,{"$f":"IF(DL29=0,0,(DM29-DL29)/DL29*100)","v":0},null,null,{"$f":"IF(DO29=0,0,(DP29-DO29)/DO29*100)","v":0},null,null,{"$f":"IF(DR29=0,0,(DS29-DR29)/DR29*100)","v":0},null,null,{"$f":"IF(DU29=0,0,(DV29-DU29)/DU29*100)","v":0},null,null,{"$f":"IF(DX29=0,0,(DY29-DX29)/DX29*100)","v":0},null,null,{"$f":"IF(EA29=0,0,(EB29-EA29)/EA29*100)","v":0},null,null,{"$f":"IF(ED29=0,0,(EE29-ED29)/ED29*100)","v":0},null,null,{"$f":"IF(EG29=0,0,(EH29-EG29)/EG29*100)","v":0},null,null,{"$f":"IF(EJ29=0,0,(EK29-EJ29)/EJ29*100)","v":0},null,null,{"$f":"IF(EM29=0,0,(EN29-EM29)/EM29*100)","v":0},null,null,{"$f":"IF(EP29=0,0,(EQ29-EP29)/EP29*100)","v":0},null,null,{"$f":"IF(ES29=0,0,(ET29-ES29)/ES29*100)","v":0},null,null,{"$f":"IF(EV29=0,0,(EW29-EV29)/EV29*100)","v":0},null,null,{"$f":"IF(EY29=0,0,(EZ29-EY29)/EY29*100)","v":0},null,null,{"$f":"IF(FB29=0,0,(FC29-FB29)/FB29*100)","v":0},null,null,{"$f":"IF(FE29=0,0,(FF29-FE29)/FE29*100)","v":0}]
["1",null,{"$f":"A30&\"pIns1\"","v":"1pIns1"},null,null,null,{"$f":"F17=\"одноставочный\"","v":true},null,null,"о",null,"Добавить"]
[{"$f":"A29","v":"1"},null,null,null,null,null,{"$f":"F17=\"двухставочный\"","v":false},null,null,null,null,"Двухставочный тариф:"]
["1",null,null,null,null,null,{"$f":"F17=\"двухставочный\"","v":false},null,null,null,null,"Тариф с 01.01 по 30.06 для прочих потребителей без НДС:"]
["1",null,"L2_1_1","для прочих потребителей с 01.01 по 30.06 без НДС",null,null,{"$f":"F17=\"двухставочный\"","v":false},null,null,null,null,"перевод двухставочного тарифа в одноставочный тариф","руб./куб.м",{"$f":"IF(N35=0,0,(N34*N35+N36*N37*6)/N35)","v":0},{"$f":"IF(O35=0,0,(O34*O35+O36*O37*6)/O35)","v":0},{"$f":"IF(N33=0,0,(O33-N33)/N33*100)","v":0},{"$f":"IF(Q35=0,0,(Q34*Q35+Q36*Q37*6)/Q35)","v":0},{"$f":"IF(R35=0,0,(R34*R35+R36*R37*6)/R35)","v":0},{"$f":"IF(Q33=0,0,(R33-Q33)/Q33*100)","v":0},{"$f":"IF(T35=0,0,(T34*T35+T36*T37*6)/T35)","v":0},{"$f":"IF(U35=0,0,(U34*U35+U36*U37*6)/U35)","v":0},{"$f":"IF(T33=0,0,(U33-T33)/T33*100)","v":0},{"$f":"IF(W35=0,0,(W34*W35+W36*W37*6)/W35)","v":0},{"$f":"IF(X35=0,0,(X34*X35+X36*X37*6)/X35)","v":0},{"$f":"IF(W33=0,0,(X33-W33)/W33*100)","v":0},{"$f":"IF(Z35=0,0,(Z34*Z35+Z36*Z37*6)/Z35)","v":0},{"$f":"IF(AA35=0,0,(AA34*AA35+AA36*AA37*6)/AA35)","v":0},{"$f":"IF(Z33=0,0,(AA33-Z33)/Z33*100)","v":0},{"$f":"IF(AC35=0,0,(AC34*AC35+AC36*AC37*6)/AC35)","v":0},{"$f":"IF(AD35=0,0,(AD34*AD35+AD36*AD37*6)/AD35)","v":0},{"$f":"IF(AC33=0,0,(AD33-AC33)/AC33*100)","v":0},{"$f":"IF(AF35=0,0,(AF34*AF35+AF36*AF37*6)/AF35)","v":0},{"$f":"IF(AG35=0,0,(AG34*AG35+AG36*AG37*6)/AG35)","v":0},{"$f":"IF(AF33=0,0,(AG33-AF33)/AF33*100)","v":0},{"$f":"IF(AI35=0,0,(AI34*AI35+AI36*AI37*6)/AI35)","v":0},{"$f":"IF(AJ35=0,0,(AJ34*AJ35+AJ36*AJ37*6)/AJ35)","v":0},{"$f":"IF(AI33=0,0,(AJ33-AI33)/AI33*100)","v":0},{"$f":"IF(AL35=0,0,(AL34*AL35+AL36*AL37*6)/AL35)","v":0},{"$f":"IF(AM35=0,0,(AM34*AM35+AM36*AM37*6)/AM35)","v":0},{"$f":"IF(AL33=0,0,(AM33-AL33)/AL33*100)","v":0},{"$f":"IF(AO35=0,0,(AO34*AO35+AO36*AO37*6)/AO35)","v":0},{"$f":"IF(AP35=0,0,(AP34*AP35+AP36*AP37*6)/AP35)","v":0},{"$f":"IF(AO33=0,0,(AP33-AO33)/AO33*100)","v":0},{"$f":"IF(AR35=0,0,(AR34*AR35+AR36*AR37*6)/AR35)","v":0},{"$f":"IF(AS35=0,0,(AS34*AS35+AS36*AS37*6)/AS35)","v":0},{"$f":"IF(AR33=0,0,(AS33-AR33)/AR33*100)","v":0},{"$f":"IF(AU35=0,0,(AU34*AU35+AU36*AU37*6)/AU35)","v":0},{"$f":"IF(AV35=0,0,(AV34*AV35+AV36*AV37*6)/AV35)","v":0},{"$f":"IF(AU33=0,0,(AV33-AU33)/AU33*100)","v":0},{"$f":"IF(AX35=0,0,(AX34*AX35+AX36*AX37*6)/AX35)","v":0},{"$f":"IF(AY35=0,0,(AY34*AY35+AY36*AY37*6)/AY35)","v":0},{"$f":"IF(AX33=0,0,(AY33-AX33)/AX33*100)","v":0},{"$f":"IF(BA35=0,0,(BA34*BA35+BA36*BA37*6)/BA35)","v":0},{"$f":"IF(BB35=0,0,(BB34*BB35+BB36*BB37*6)/BB35)","v":0},{"$f":"IF(BA33=0,0,(BB33-BA33)/BA33*100)","v":0},{"$f":"IF(BD35=0,0,(BD34*BD35+BD36*BD37*6)/BD35)","v":0},{"$f":"IF(BE35=0,0,(BE34*BE35+BE36*BE37*6)/BE35)","v":0},{"$f":"IF(BD33=0,0,(BE33-BD33)/BD33*100)","v":0},{"$f":"IF(BG35=0,0,(BG34*BG35+BG36*BG37*6)/BG35)","v":0},{"$f":"IF(BH35=0,0,(BH34*BH35+BH36*BH37*6)/BH35)","v":0},{"$f":"IF(BG33=0,0,(BH33-BG33)/BG33*100)","v":0},{"$f":"IF(BJ35=0,0,(BJ34*BJ35+BJ36*BJ37*6)/BJ35)","v":0},{"$f":"IF(BK35=0,0,(BK34*BK35+BK36*BK37*6)/BK35)","v":0},{"$f":"IF(BJ33=0,0,(BK33-BJ33)/BJ33*100)","v":0},{"$f":"IF(BM35=0,0,(BM34*BM35+BM36*BM37*6)/BM35)","v":0},{"$f":"IF(BN35=0,0,(BN34*BN35+BN36*BN37*6)/BN35)","v":0},{"$f":"IF(BM33=0,0,(BN33-BM33)/BM33*100)","v":0},{"$f":"IF(BP35=0,0,(BP34*BP35+BP36*BP37*6)/BP35)","v":0},{"$f":"IF(BQ35=0,0,(BQ34*BQ35+BQ36*BQ37*6)/BQ35)","v":0},{"$f":"IF(BP33=0,0,(BQ33-BP33)/BP33*100)","v":0},{"$f":"IF(BS35=0,0,(BS34*BS35+BS36*BS37*6)/BS35)","v":0},{"$f":"IF(BT35=0,0,(BT34*BT35+BT36*BT37*6)/BT35)","v":0},{"$f":"IF(BS33=0,0,(BT33-BS33)/BS33*100)","v":0},{"$f":"IF(BV35=0,0,(BV34*BV35+BV36*BV37*6)/BV35)","v":0},{"$f":"IF(BW35=0,0,(BW34*BW35+BW36*BW37*6)/BW35)","v":0},{"$f":"IF(BV33=0,0,(BW33-BV33)/BV33*100)","v":0},{"$f":"IF(BY35=0,0,(BY34*BY35+BY36*BY37*6)/BY35)","v":0},{"$f":"IF(BZ35=0,0,(BZ34*BZ35+BZ36*BZ37*6)/BZ35)","v":0},{"$f":"IF(BY33=0,0,(BZ33-BY33)/BY33*100)","v":0},{"$f":"IF(CB35=0,0,(CB34*CB35+CB36*CB37*6)/CB35)","v":0},{"$f":"IF(CC35=0,0,(CC34*CC35+CC36*CC37*6)/CC35)","v":0},{"$f":"IF(CB33=0,0,(CC33-CB33)/CB33*100)","v":0},{"$f":"IF(CE35=0,0,(CE34*CE35+CE36*CE37*6)/CE35)","v":0},{"$f":"IF(CF35=0,0,(CF34*CF35+CF36*CF37*6)/CF35)","v":0},{"$f":"IF(CE33=0,0,(CF33-CE33)/CE33*100)","v":0},{"$f":"IF(CH35=0,0,(CH34*CH35+CH36*CH37*6)/CH35)","v":0},{"$f":"IF(CI35=0,0,(CI34*CI35+CI36*CI37*6)/CI35)","v":0},{"$f":"IF(CH33=0,0,(CI33-CH33)/CH33*100)","v":0},{"$f":"IF(CK35=0,0,(CK34*CK35+CK36*CK37*6)/CK35)","v":0},{"$f":"IF(CL35=0,0,(CL34*CL35+CL36*CL37*6)/CL35)","v":0},{"$f":"IF(CK33=0,0,(CL33-CK33)/CK33*100)","v":0},{"$f":"IF(CN35=0,0,(CN34*CN35+CN36*CN37*6)/CN35)","v":0},{"$f":"IF(CO35=0,0,(CO34*CO35+CO36*CO37*6)/CO35)","v":0},{"$f":"IF(CN33=0,0,(CO33-CN33)/CN33*100)","v":0},{"$f":"IF(CQ35=0,0,(CQ34*CQ35+CQ36*CQ37*6)/CQ35)","v":0},{"$f":"IF(CR35=0,0,(CR34*CR35+CR36*CR37*6)/CR35)","v":0},{"$f":"IF(CQ33=0,0,(CR33-CQ33)/CQ33*100)","v":0},{"$f":"IF(CT35=0,0,(CT34*CT35+CT36*CT37*6)/CT35)","v":0},{"$f":"IF(CU35=0,0,(CU34*CU35+CU36*CU37*6)/CU35)","v":0},{"$f":"IF(CT33=0,0,(CU33-CT33)/CT33*100)","v":0},{"$f":"IF(CW35=0,0,(CW34*CW35+CW36*CW37*6)/CW35)","v":0},{"$f":"IF(CX35=0,0,(CX34*CX35+CX36*CX37*6)/CX35)","v":0},{"$f":"IF(CW33=0,0,(CX33-CW33)/CW33*100)","v":0},{"$f":"IF(CZ35=0,0,(CZ34*CZ35+CZ36*CZ37*6)/CZ35)","v":0},{"$f":"IF(DA35=0,0,(DA34*DA35+DA36*DA37*6)/DA35)","v":0},{"$f":"IF(CZ33=0,0,(DA33-CZ33)/CZ33*100)","v":0},{"$f":"IF(DC35=0,0,(DC34*DC35+DC36*DC37*6)/DC35)","v":0},{"$f":"IF(DD35=0,0,(DD34*DD35+DD36*DD37*6)/DD35)","v":0},{"$f":"IF(DC33=0,0,(DD33-DC33)/DC33*100)","v":0},{"$f":"IF(DF35=0,0,(DF34*DF35+DF36*DF37*6)/DF35)","v":0},{"$f":"IF(DG35=0,0,(DG34*DG35+DG36*DG37*6)/DG35)","v":0},{"$f":"IF(DF33=0,0,(DG33-DF33)/DF33*100)","v":0},{"$f":"IF(DI35=0,0,(DI34*DI35+DI36*DI37*6)/DI35)","v":0},{"$f":"IF(DJ35=0,0,(DJ34*DJ35+DJ36*DJ37*6)/DJ35)","v":0},{"$f":"IF(DI33=0,0,(DJ33-DI33)/DI33*100)","v":0},{"$f":"IF(DL35=0,0,(DL34*DL35+DL36*DL37*6)/DL35)","v":0},{"$f":"IF(DM35=0,0,(DM34*DM35+DM36*DM37*6)/DM35)","v":0},{"$f":"IF(DL33=0,0,(DM33-DL33)/DL33*100)","v":0},{"$f":"IF(DO35=0,0,(DO34*DO35+DO36*DO37*6)/DO35)","v":0},{"$f":"IF(DP35=0,0,(DP34*DP35+DP36*DP37*6)/DP35)","v":0},{"$f":"IF(DO33=0,0,(DP33-DO33)/DO33*100)","v":0},{"$f":"IF(DR35=0,0,(DR34*DR35+DR36*DR37*6)/DR35)","v":0},{"$f":"IF(DS35=0,0,(DS34*DS35+DS36*DS37*6)/DS35)","v":0},{"$f":"IF(DR33=0,0,(DS33-DR33)/DR33*100)","v":0},{"$f":"IF(DU35=0,0,(DU34*DU35+DU36*DU37*6)/DU35)","v":0},{"$f":"IF(DV35=0,0,(DV34*DV35+DV36*DV37*6)/DV35)","v":0},{"$f":"IF(DU33=0,0,(DV33-DU33)/DU33*100)","v":0},{"$f":"IF(DX35=0,0,(DX34*DX35+DX36*DX37*6)/DX35)","v":0},{"$f":"IF(DY35=0,0,(DY34*DY35+DY36*DY37*6)/DY35)","v":0},{"$f":"IF(DX33=0,0,(DY33-DX33)/DX33*100)","v":0},{"$f":"IF(EA35=0,0,(EA34*EA35+EA36*EA37*6)/EA35)","v":0},{"$f":"IF(EB35=0,0,(EB34*EB35+EB36*EB37*6)/EB35)","v":0},{"$f":"IF(EA33=0,0,(EB33-EA33)/EA33*100)","v":0},{"$f":"IF(ED35=0,0,(ED34*ED35+ED36*ED37*6)/ED35)","v":0},{"$f":"IF(EE35=0,0,(EE34*EE35+EE36*EE37*6)/EE35)","v":0},{"$f":"IF(ED33=0,0,(EE33-ED33)/ED33*100)","v":0},{"$f":"IF(EG35=0,0,(EG34*EG35+EG36*EG37*6)/EG35)","v":0},{"$f":"IF(EH35=0,0,(EH34*EH35+EH36*EH37*6)/EH35)","v":0},{"$f":"IF(EG33=0,0,(EH33-EG33)/EG33*100)","v":0},{"$f":"IF(EJ35=0,0,(EJ34*EJ35+EJ36*EJ37*6)/EJ35)","v":0},{"$f":"IF(EK35=0,0,(EK34*EK35+EK36*EK37*6)/EK35)","v":0},{"$f":"IF(EJ33=0,0,(EK33-EJ33)/EJ33*100)","v":0},{"$f":"IF(EM35=0,0,(EM34*EM35+EM36*EM37*6)/EM35)","v":0},{"$f":"IF(EN35=0,0,(EN34*EN35+EN36*EN37*6)/EN35)","v":0},{"$f":"IF(EM33=0,0,(EN33-EM33)/EM33*100)","v":0},{"$f":"IF(EP35=0,0,(EP34*EP35+EP36*EP37*6)/EP35)","v":0},{"$f":"IF(EQ35=0,0,(EQ34*EQ35+EQ36*EQ37*6)/EQ35)","v":0},{"$f":"IF(EP33=0,0,(EQ33-EP33)/EP33*100)","v":0},{"$f":"IF(ES35=0,0,(ES34*ES35+ES36*ES37*6)/ES35)","v":0},{"$f":"IF(ET35=0,0,(ET34*ET35+ET36*ET37*6)/ET35)","v":0},{"$f":"IF(ES33=0,0,(ET33-ES33)/ES33*100)","v":0},{"$f":"IF(EV35=0,0,(EV34*EV35+EV36*EV37*6)/EV35)","v":0},{"$f":"IF(EW35=0,0,(EW34*EW35+EW36*EW37*6)/EW35)","v":0},{"$f":"IF(EV33=0,0,(EW33-EV33)/EV33*100)","v":0},{"$f":"IF(EY35=0,0,(EY34*EY35+EY36*EY37*6)/EY35)","v":0},{"$f":"IF(EZ35=0,0,(EZ34*EZ35+EZ36*EZ37*6)/EZ35)","v":0},{"$f":"IF(EY33=0,0,(EZ33-EY33)/EY33*100)","v":0},{"$f":"IF(FB35=0,0,(FB34*FB35+FB36*FB37*6)/FB35)","v":0},{"$f":"IF(FC35=0,0,(FC34*FC35+FC36*FC37*6)/FC35)","v":0},{"$f":"IF(FB33=0,0,(FC33-FB33)/FB33*100)","v":0},{"$f":"IF(FE35=0,0,(FE34*FE35+FE36*FE37*6)/FE35)","v":0},{"$f":"IF(FF35=0,0,(FF34*FF35+FF36*FF37*6)/FF35)","v":0},{"$f":"IF(FE33=0,0,(FF33-FE33)/FE33*100)","v":0}]
["1",null,"L2_1_2","для прочих потребителей с 01.01 по 30.06 без НДС",null,null,{"$f":"F17=\"двухставочный\"","v":false},null,null,null,null,"ставка платы за потребление 1 куб.м холодной воды","руб./куб.м",null,null,{"$f":"IF(N34=0,0,(O34-N34)/N34*100)","v":0},null,null,{"$f":"IF(Q34=0,0,(R34-Q34)/Q34*100)","v":0},null,null,{"$f":"IF(T34=0,0,(U34-T34)/T34*100)","v":0},null,null,{"$f":"IF(W34=0,0,(X34-W34)/W34*100)","v":0},null,null,{"$f":"IF(Z34=0,0,(AA34-Z34)/Z34*100)","v":0},null,null,{"$f":"IF(AC34=0,0,(AD34-AC34)/AC34*100)","v":0},null,null,{"$f":"IF(AF34=0,0,(AG34-AF34)/AF34*100)","v":0},null,null,{"$f":"IF(AI34=0,0,(AJ34-AI34)/AI34*100)","v":0},null,null,{"$f":"IF(AL34=0,0,(AM34-AL34)/AL34*100)","v":0},null,null,{"$f":"IF(AO34=0,0,(AP34-AO34)/AO34*100)","v":0},null,null,{"$f":"IF(AR34=0,0,(AS34-AR34)/AR34*100)","v":0},null,null,{"$f":"IF(AU34=0,0,(AV34-AU34)/AU34*100)","v":0},null,null,{"$f":"IF(AX34=0,0,(AY34-AX34)/AX34*100)","v":0},null,null,{"$f":"IF(BA34=0,0,(BB34-BA34)/BA34*100)","v":0},null,null,{"$f":"IF(BD34=0,0,(BE34-BD34)/BD34*100)","v":0},null,null,{"$f":"IF(BG34=0,0,(BH34-BG34)/BG34*100)","v":0},null,null,{"$f":"IF(BJ34=0,0,(BK34-BJ34)/BJ34*100)","v":0},null,null,{"$f":"IF(BM34=0,0,(BN34-BM34)/BM34*100)","v":0},null,null,{"$f":"IF(BP34=0,0,(BQ34-BP34)/BP34*100)","v":0},null,null,{"$f":"IF(BS34=0,0,(BT34-BS34)/BS34*100)","v":0},null,null,{"$f":"IF(BV34=0,0,(BW34-BV34)/BV34*100)","v":0},null,null,{"$f":"IF(BY34=0,0,(BZ34-BY34)/BY34*100)","v":0},null,null,{"$f":"IF(CB34=0,0,(CC34-CB34)/CB34*100)","v":0},null,null,{"$f":"IF(CE34=0,0,(CF34-CE34)/CE34*100)","v":0},null,null,{"$f":"IF(CH34=0,0,(CI34-CH34)/CH34*100)","v":0},null,null,{"$f":"IF(CK34=0,0,(CL34-CK34)/CK34*100)","v":0},null,null,{"$f":"IF(CN34=0,0,(CO34-CN34)/CN34*100)","v":0},null,null,{"$f":"IF(CQ34=0,0,(CR34-CQ34)/CQ34*100)","v":0},null,null,{"$f":"IF(CT34=0,0,(CU34-CT34)/CT34*100)","v":0},null,null,{"$f":"IF(CW34=0,0,(CX34-CW34)/CW34*100)","v":0},null,null,{"$f":"IF(CZ34=0,0,(DA34-CZ34)/CZ34*100)","v":0},null,null,{"$f":"IF(DC34=0,0,(DD34-DC34)/DC34*100)","v":0},null,null,{"$f":"IF(DF34=0,0,(DG34-DF34)/DF34*100)","v":0},null,null,{"$f":"IF(DI34=0,0,(DJ34-DI34)/DI34*100)","v":0},null,null,{"$f":"IF(DL34=0,0,(DM34-DL34)/DL34*100)","v":0},null,null,{"$f":"IF(DO34=0,0,(DP34-DO34)/DO34*100)","v":0},null,null,{"$f":"IF(DR34=0,0,(DS34-DR34)/DR34*100)","v":0},null,null,{"$f":"IF(DU34=0,0,(DV34-DU34)/DU34*100)","v":0},null,null,{"$f":"IF(DX34=0,0,(DY34-DX34)/DX34*100)","v":0},null,null,{"$f":"IF(EA34=0,0,(EB34-EA34)/EA34*100)","v":0},null,null,{"$f":"IF(ED34=0,0,(EE34-ED34)/ED34*100)","v":0},null,null,{"$f":"IF(EG34=0,0,(EH34-EG34)/EG34*100)","v":0},null,null,{"$f":"IF(EJ34=0,0,(EK34-EJ34)/EJ34*100)","v":0},null,null,{"$f":"IF(EM34=0,0,(EN34-EM34)/EM34*100)","v":0},null,null,{"$f":"IF(EP34=0,0,(EQ34-EP34)/EP34*100)","v":0},null,null,{"$f":"IF(ES34=0,0,(ET34-ES34)/ES34*100)","v":0},null,null,{"$f":"IF(EV34=0,0,(EW34-EV34)/EV34*100)","v":0},null,null,{"$f":"IF(EY34=0,0,(EZ34-EY34)/EY34*100)","v":0},null,null,{"$f":"IF(FB34=0,0,(FC34-FB34)/FB34*100)","v":0},null,null,{"$f":"IF(FE34=0,0,(FF34-FE34)/FE34*100)","v":0}]
["1","ПО.прочие.I","L2_1_3","для прочих потребителей с 01.01 по 30.06 без НДС",null,null,{"$f":"F17=\"двухставочный\"","v":false},null,null,null,null,"объём потребления холодной воды","тыс.куб.м",{"$f":"SUMIFS(INDEX(Калькуляция!$T$15:$AM$268,,MATCH(N$3,Калькуляция!$T$3:$AM$3,0)),Калькуляция!$A$15:$A$268,$A35,Калькуляция!$B$15:$B$268,$B35)","v":297.96549999999996},{"$f":"SUMIFS(INDEX(Калькуляция!$T$15:$AM$268,,MATCH(O$3,Калькуляция!$T$3:$AM$3,0)),Калькуляция!$A$15:$A$268,$A35,Калькуляция!$B$15:$B$268,$B35)","v":277.389738685},{"$f":"IF(N35=0,0,(O35-N35)/N35*100)","v":-6.9054173436186295},{"$f":"SUMIFS(INDEX(Калькуляция!$T$15:$AM$268,,MATCH(Q$3,Калькуляция!$T$3:$AM$3,0)),Калькуляция!$A$15:$A$268,$A35,Калькуляция!$B$15:$B$268,$B35)","v":297.96549999999996},{"$f":"SUMIFS(INDEX(Калькуляция!$T$15:$AM$268,,MATCH(R$3,Калькуляция!$T$3:$AM$3,0)),Калькуляция!$A$15:$A$268,$A35,Калькуляция!$B$15:$B$268,$B35)","v":277.389738685},{"$f":"IF(Q35=0,0,(R35-Q35)/Q35*100)","v":-6.9054173436186295},{"$f":"SUMIFS(INDEX(Калькуляция!$T$15:$AM$268,,MATCH(T$3,Калькуляция!$T$3:$AM$3,0)),Калькуляция!$A$15:$A$268,$A35,Калькуляция!$B$15:$B$268,$B35)","v":297.96549999999996},{"$f":"SUMIFS(INDEX(Калькуляция!$T$15:$AM$268,,MATCH(U$3,Калькуляция!$T$3:$AM$3,0)),Калькуляция!$A$15:$A$268,$A35,Калькуляция!$B$15:$B$268,$B35)","v":277.389738685},{"$f":"IF(T35=0,0,(U35-T35)/T35*100)","v":-6.9054173436186295},{"$f":"SUMIFS(INDEX(Калькуляция!$T$15:$AM$268,,MATCH(W$3,Калькуляция!$T$3:$AM$3,0)),Калькуляция!$A$15:$A$268,$A35,Калькуляция!$B$15:$B$268,$B35)","v":297.96549999999996},{"$f":"SUMIFS(INDEX(Калькуляция!$T$15:$AM$268,,MATCH(X$3,Калькуляция!$T$3:$AM$3,0)),Калькуляция!$A$15:$A$268,$A35,Калькуляция!$B$15:$B$268,$B35)","v":277.389738685},{"$f":"IF(W35=0,0,(X35-W35)/W35*100)","v":-6.9054173436186295},{"$f":"SUMIFS(INDEX(Калькуляция!$T$15:$AM$268,,MATCH(Z$3,Калькуляция!$T$3:$AM$3,0)),Калькуляция!$A$15:$A$268,$A35,Калькуляция!$B$15:$B$268,$B35)","v":297.96549999999996},{"$f":"SUMIFS(INDEX(Калькуляция!$T$15:$AM$268,,MATCH(AA$3,Калькуляция!$T$3:$AM$3,0)),Калькуляция!$A$15:$A$268,$A35,Калькуляция!$B$15:$B$268,$B35)","v":277.389738685},{"$f":"IF(Z35=0,0,(AA35-Z35)/Z35*100)","v":-6.9054173436186295},{"$f":"SUMIFS(INDEX(Калькуляция!$T$15:$AM$268,,MATCH(AC$3,Калькуляция!$T$3:$AM$3,0)),Калькуляция!$A$15:$A$268,$A35,Калькуляция!$B$15:$B$268,$B35)","v":0},{"$f":"SUMIFS(INDEX(Калькуляция!$T$15:$AM$268,,MATCH(AD$3,Калькуляция!$T$3:$AM$3,0)),Калькуляция!$A$15:$A$268,$A35,Калькуляция!$B$15:$B$268,$B35)","v":0},{"$f":"IF(AC35=0,0,(AD35-AC35)/AC35*100)","v":0},{"$f":"SUMIFS(INDEX(Калькуляция!$T$15:$AM$268,,MATCH(AF$3,Калькуляция!$T$3:$AM$3,0)),Калькуляция!$A$15:$A$268,$A35,Калькуляция!$B$15:$B$268,$B35)","v":0},{"$f":"SUMIFS(INDEX(Калькуляция!$T$15:$AM$268,,MATCH(AG$3,Калькуляция!$T$3:$AM$3,0)),Калькуляция!$A$15:$A$268,$A35,Калькуляция!$B$15:$B$268,$B35)","v":0},{"$f":"IF(AF35=0,0,(AG35-AF35)/AF35*100)","v":0},{"$f":"SUMIFS(INDEX(Калькуляция!$T$15:$AM$268,,MATCH(AI$3,Калькуляция!$T$3:$AM$3,0)),Калькуляция!$A$15:$A$268,$A35,Калькуляция!$B$15:$B$268,$B35)","v":0},{"$f":"SUMIFS(INDEX(Калькуляция!$T$15:$AM$268,,MATCH(AJ$3,Калькуляция!$T$3:$AM$3,0)),Калькуляция!$A$15:$A$268,$A35,Калькуляция!$B$15:$B$268,$B35)","v":0},{"$f":"IF(AI35=0,0,(AJ35-AI35)/AI35*100)","v":0},{"$f":"SUMIFS(INDEX(Калькуляция!$T$15:$AM$268,,MATCH(AL$3,Калькуляция!$T$3:$AM$3,0)),Калькуляция!$A$15:$A$268,$A35,Калькуляция!$B$15:$B$268,$B35)","v":0},{"$f":"SUMIFS(INDEX(Калькуляция!$T$15:$AM$268,,MATCH(AM$3,Калькуляция!$T$3:$AM$3,0)),Калькуляция!$A$15:$A$268,$A35,Калькуляция!$B$15:$B$268,$B35)","v":0},{"$f":"IF(AL35=0,0,(AM35-AL35)/AL35*100)","v":0},{"$f":"SUMIFS(INDEX(Калькуляция!$T$15:$AM$268,,MATCH(AO$3,Калькуляция!$T$3:$AM$3,0)),Калькуляция!$A$15:$A$268,$A35,Калькуляция!$B$15:$B$268,$B35)","v":0},{"$f":"SUMIFS(INDEX(Калькуляция!$T$15:$AM$268,,MATCH(AP$3,Калькуляция!$T$3:$AM$3,0)),Калькуляция!$A$15:$A$268,$A35,Калькуляция!$B$15:$B$268,$B35)","v":0},{"$f":"IF(AO35=0,0,(AP35-AO35)/AO35*100)","v":0},null,null,{"$f":"IF(AR35=0,0,(AS35-AR35)/AR35*100)","v":0},null,null,{"$f":"IF(AU35=0,0,(AV35-AU35)/AU35*100)","v":0},null,null,{"$f":"IF(AX35=0,0,(AY35-AX35)/AX35*100)","v":0},null,null,{"$f":"IF(BA35=0,0,(BB35-BA35)/BA35*100)","v":0},null,null,{"$f":"IF(BD35=0,0,(BE35-BD35)/BD35*100)","v":0},null,null,{"$f":"IF(BG35=0,0,(BH35-BG35)/BG35*100)","v":0},null,null,{"$f":"IF(BJ35=0,0,(BK35-BJ35)/BJ35*100)","v":0},null,null,{"$f":"IF(BM35=0,0,(BN35-BM35)/BM35*100)","v":0},null,null,{"$f":"IF(BP35=0,0,(BQ35-BP35)/BP35*100)","v":0},null,null,{"$f":"IF(BS35=0,0,(BT35-BS35)/BS35*100)","v":0},null,null,{"$f":"IF(BV35=0,0,(BW35-BV35)/BV35*100)","v":0},null,null,{"$f":"IF(BY35=0,0,(BZ35-BY35)/BY35*100)","v":0},null,null,{"$f":"IF(CB35=0,0,(CC35-CB35)/CB35*100)","v":0},null,null,{"$f":"IF(CE35=0,0,(CF35-CE35)/CE35*100)","v":0},null,null,{"$f":"IF(CH35=0,0,(CI35-CH35)/CH35*100)","v":0},null,null,{"$f":"IF(CK35=0,0,(CL35-CK35)/CK35*100)","v":0},null,null,{"$f":"IF(CN35=0,0,(CO35-CN35)/CN35*100)","v":0},null,null,{"$f":"IF(CQ35=0,0,(CR35-CQ35)/CQ35*100)","v":0},null,null,{"$f":"IF(CT35=0,0,(CU35-CT35)/CT35*100)","v":0},null,null,{"$f":"IF(CW35=0,0,(CX35-CW35)/CW35*100)","v":0},null,null,{"$f":"IF(CZ35=0,0,(DA35-CZ35)/CZ35*100)","v":0},null,null,{"$f":"IF(DC35=0,0,(DD35-DC35)/DC35*100)","v":0},null,null,{"$f":"IF(DF35=0,0,(DG35-DF35)/DF35*100)","v":0},null,null,{"$f":"IF(DI35=0,0,(DJ35-DI35)/DI35*100)","v":0},null,null,{"$f":"IF(DL35=0,0,(DM35-DL35)/DL35*100)","v":0},null,null,{"$f":"IF(DO35=0,0,(DP35-DO35)/DO35*100)","v":0},null,null,{"$f":"IF(DR35=0,0,(DS35-DR35)/DR35*100)","v":0},null,null,{"$f":"IF(DU35=0,0,(DV35-DU35)/DU35*100)","v":0},null,null,{"$f":"IF(DX35=0,0,(DY35-DX35)/DX35*100)","v":0},null,null,{"$f":"IF(EA35=0,0,(EB35-EA35)/EA35*100)","v":0},null,null,{"$f":"IF(ED35=0,0,(EE35-ED35)/ED35*100)","v":0},null,null,{"$f":"IF(EG35=0,0,(EH35-EG35)/EG35*100)","v":0},null,null,{"$f":"IF(EJ35=0,0,(EK35-EJ35)/EJ35*100)","v":0},null,null,{"$f":"IF(EM35=0,0,(EN35-EM35)/EM35*100)","v":0},null,null,{"$f":"IF(EP35=0,0,(EQ35-EP35)/EP35*100)","v":0},null,null,{"$f":"IF(ES35=0,0,(ET35-ES35)/ES35*100)","v":0},null,null,{"$f":"IF(EV35=0,0,(EW35-EV35)/EV35*100)","v":0},null,null,{"$f":"IF(EY35=0,0,(EZ35-EY35)/EY35*100)","v":0},null,null,{"$f":"IF(FB35=0,0,(FC35-FB35)/FB35*100)","v":0},null,null,{"$f":"IF(FE35=0,0,(FF35-FE35)/FE35*100)","v":0}]
["1",null,"L2_1_4","для прочих потребителей с 01.01 по 30.06 без НДС",null,null,{"$f":"F17=\"двухставочный\"","v":false},null,null,null,null,"ставка платы за содержание системы холодного водоснабжения","тыс.руб./куб.м*час/в месяц",null,null,{"$f":"IF(N36=0,0,(O36-N36)/N36*100)","v":0},null,null,{"$f":"IF(Q36=0,0,(R36-Q36)/Q36*100)","v":0},null,null,{"$f":"IF(T36=0,0,(U36-T36)/T36*100)","v":0},null,null,{"$f":"IF(W36=0,0,(X36-W36)/W36*100)","v":0},null,null,{"$f":"IF(Z36=0,0,(AA36-Z36)/Z36*100)","v":0},null,null,{"$f":"IF(AC36=0,0,(AD36-AC36)/AC36*100)","v":0},null,null,{"$f":"IF(AF36=0,0,(AG36-AF36)/AF36*100)","v":0},null,null,{"$f":"IF(AI36=0,0,(AJ36-AI36)/AI36*100)","v":0},null,null,{"$f":"IF(AL36=0,0,(AM36-AL36)/AL36*100)","v":0},null,null,{"$f":"IF(AO36=0,0,(AP36-AO36)/AO36*100)","v":0},null,null,{"$f":"IF(AR36=0,0,(AS36-AR36)/AR36*100)","v":0},null,null,{"$f":"IF(AU36=0,0,(AV36-AU36)/AU36*100)","v":0},null,null,{"$f":"IF(AX36=0,0,(AY36-AX36)/AX36*100)","v":0},null,null,{"$f":"IF(BA36=0,0,(BB36-BA36)/BA36*100)","v":0},null,null,{"$f":"IF(BD36=0,0,(BE36-BD36)/BD36*100)","v":0},null,null,{"$f":"IF(BG36=0,0,(BH36-BG36)/BG36*100)","v":0},null,null,{"$f":"IF(BJ36=0,0,(BK36-BJ36)/BJ36*100)","v":0},null,null,{"$f":"IF(BM36=0,0,(BN36-BM36)/BM36*100)","v":0},null,null,{"$f":"IF(BP36=0,0,(BQ36-BP36)/BP36*100)","v":0},null,null,{"$f":"IF(BS36=0,0,(BT36-BS36)/BS36*100)","v":0},null,null,{"$f":"IF(BV36=0,0,(BW36-BV36)/BV36*100)","v":0},null,null,{"$f":"IF(BY36=0,0,(BZ36-BY36)/BY36*100)","v":0},null,null,{"$f":"IF(CB36=0,0,(CC36-CB36)/CB36*100)","v":0},null,null,{"$f":"IF(CE36=0,0,(CF36-CE36)/CE36*100)","v":0},null,null,{"$f":"IF(CH36=0,0,(CI36-CH36)/CH36*100)","v":0},null,null,{"$f":"IF(CK36=0,0,(CL36-CK36)/CK36*100)","v":0},null,null,{"$f":"IF(CN36=0,0,(CO36-CN36)/CN36*100)","v":0},null,null,{"$f":"IF(CQ36=0,0,(CR36-CQ36)/CQ36*100)","v":0},null,null,{"$f":"IF(CT36=0,0,(CU36-CT36)/CT36*100)","v":0},null,null,{"$f":"IF(CW36=0,0,(CX36-CW36)/CW36*100)","v":0},null,null,{"$f":"IF(CZ36=0,0,(DA36-CZ36)/CZ36*100)","v":0},null,null,{"$f":"IF(DC36=0,0,(DD36-DC36)/DC36*100)","v":0},null,null,{"$f":"IF(DF36=0,0,(DG36-DF36)/DF36*100)","v":0},null,null,{"$f":"IF(DI36=0,0,(DJ36-DI36)/DI36*100)","v":0},null,null,{"$f":"IF(DL36=0,0,(DM36-DL36)/DL36*100)","v":0},null,null,{"$f":"IF(DO36=0,0,(DP36-DO36)/DO36*100)","v":0},null,null,{"$f":"IF(DR36=0,0,(DS36-DR36)/DR36*100)","v":0},null,null,{"$f":"IF(DU36=0,0,(DV36-DU36)/DU36*100)","v":0},null,null,{"$f":"IF(DX36=0,0,(DY36-DX36)/DX36*100)","v":0},null,null,{"$f":"IF(EA36=0,0,(EB36-EA36)/EA36*100)","v":0},null,null,{"$f":"IF(ED36=0,0,(EE36-ED36)/ED36*100)","v":0},null,null,{"$f":"IF(EG36=0,0,(EH36-EG36)/EG36*100)","v":0},null,null,{"$f":"IF(EJ36=0,0,(EK36-EJ36)/EJ36*100)","v":0},null,null,{"$f":"IF(EM36=0,0,(EN36-EM36)/EM36*100)","v":0},null,null,{"$f":"IF(EP36=0,0,(EQ36-EP36)/EP36*100)","v":0},null,null,{"$f":"IF(ES36=0,0,(ET36-ES36)/ES36*100)","v":0},null,null,{"$f":"IF(EV36=0,0,(EW36-EV36)/EV36*100)","v":0},null,null,{"$f":"IF(EY36=0,0,(EZ36-EY36)/EY36*100)","v":0},null,null,{"$f":"IF(FB36=0,0,(FC36-FB36)/FB36*100)","v":0},null,null,{"$f":"IF(FE36=0,0,(FF36-FE36)/FE36*100)","v":0}]
["1",null,"L2_1_5","для прочих потребителей с 01.01 по 30.06 без НДС",null,null,{"$f":"F17=\"двухставочный\"","v":false},null,null,null,null,"величина присоединённой мощности","куб.м*час",null,null,{"$f":"IF(N37=0,0,(O37-N37)/N37*100)","v":0},null,null,{"$f":"IF(Q37=0,0,(R37-Q37)/Q37*100)","v":0},null,null,{"$f":"IF(T37=0,0,(U37-T37)/T37*100)","v":0},null,null,{"$f":"IF(W37=0,0,(X37-W37)/W37*100)","v":0},null,null,{"$f":"IF(Z37=0,0,(AA37-Z37)/Z37*100)","v":0},null,null,{"$f":"IF(AC37=0,0,(AD37-AC37)/AC37*100)","v":0},null,null,{"$f":"IF(AF37=0,0,(AG37-AF37)/AF37*100)","v":0},null,null,{"$f":"IF(AI37=0,0,(AJ37-AI37)/AI37*100)","v":0},null,null,{"$f":"IF(AL37=0,0,(AM37-AL37)/AL37*100)","v":0},null,null,{"$f":"IF(AO37=0,0,(AP37-AO37)/AO37*100)","v":0},null,null,{"$f":"IF(AR37=0,0,(AS37-AR37)/AR37*100)","v":0},null,null,{"$f":"IF(AU37=0,0,(AV37-AU37)/AU37*100)","v":0},null,null,{"$f":"IF(AX37=0,0,(AY37-AX37)/AX37*100)","v":0},null,null,{"$f":"IF(BA37=0,0,(BB37-BA37)/BA37*100)","v":0},null,null,{"$f":"IF(BD37=0,0,(BE37-BD37)/BD37*100)","v":0},null,null,{"$f":"IF(BG37=0,0,(BH37-BG37)/BG37*100)","v":0},null,null,{"$f":"IF(BJ37=0,0,(BK37-BJ37)/BJ37*100)","v":0},null,null,{"$f":"IF(BM37=0,0,(BN37-BM37)/BM37*100)","v":0},null,null,{"$f":"IF(BP37=0,0,(BQ37-BP37)/BP37*100)","v":0},null,null,{"$f":"IF(BS37=0,0,(BT37-BS37)/BS37*100)","v":0},null,null,{"$f":"IF(BV37=0,0,(BW37-BV37)/BV37*100)","v":0},null,null,{"$f":"IF(BY37=0,0,(BZ37-BY37)/BY37*100)","v":0},null,null,{"$f":"IF(CB37=0,0,(CC37-CB37)/CB37*100)","v":0},null,null,{"$f":"IF(CE37=0,0,(CF37-CE37)/CE37*100)","v":0},null,null,{"$f":"IF(CH37=0,0,(CI37-CH37)/CH37*100)","v":0},null,null,{"$f":"IF(CK37=0,0,(CL37-CK37)/CK37*100)","v":0},null,null,{"$f":"IF(CN37=0,0,(CO37-CN37)/CN37*100)","v":0},null,null,{"$f":"IF(CQ37=0,0,(CR37-CQ37)/CQ37*100)","v":0},null,null,{"$f":"IF(CT37=0,0,(CU37-CT37)/CT37*100)","v":0},null,null,{"$f":"IF(CW37=0,0,(CX37-CW37)/CW37*100)","v":0},null,null,{"$f":"IF(CZ37=0,0,(DA37-CZ37)/CZ37*100)","v":0},null,null,{"$f":"IF(DC37=0,0,(DD37-DC37)/DC37*100)","v":0},null,null,{"$f":"IF(DF37=0,0,(DG37-DF37)/DF37*100)","v":0},null,null,{"$f":"IF(DI37=0,0,(DJ37-DI37)/DI37*100)","v":0},null,null,{"$f":"IF(DL37=0,0,(DM37-DL37)/DL37*100)","v":0},null,null,{"$f":"IF(DO37=0,0,(DP37-DO37)/DO37*100)","v":0},null,null,{"$f":"IF(DR37=0,0,(DS37-DR37)/DR37*100)","v":0},null,null,{"$f":"IF(DU37=0,0,(DV37-DU37)/DU37*100)","v":0},null,null,{"$f":"IF(DX37=0,0,(DY37-DX37)/DX37*100)","v":0},null,null,{"$f":"IF(EA37=0,0,(EB37-EA37)/EA37*100)","v":0},null,null,{"$f":"IF(ED37=0,0,(EE37-ED37)/ED37*100)","v":0},null,null,{"$f":"IF(EG37=0,0,(EH37-EG37)/EG37*100)","v":0},null,null,{"$f":"IF(EJ37=0,0,(EK37-EJ37)/EJ37*100)","v":0},null,null,{"$f":"IF(EM37=0,0,(EN37-EM37)/EM37*100)","v":0},null,null,{"$f":"IF(EP37=0,0,(EQ37-EP37)/EP37*100)","v":0},null,null,{"$f":"IF(ES37=0,0,(ET37-ES37)/ES37*100)","v":0},null,null,{"$f":"IF(EV37=0,0,(EW37-EV37)/EV37*100)","v":0},null,null,{"$f":"IF(EY37=0,0,(EZ37-EY37)/EY37*100)","v":0},null,null,{"$f":"IF(FB37=0,0,(FC37-FB37)/FB37*100)","v":0},null,null,{"$f":"IF(FE37=0,0,(FF37-FE37)/FE37*100)","v":0}]
["1",null,null,null,null,null,{"$f":"F17=\"двухставочный\"","v":false},null,null,null,null,"Тариф с 01.07 по 31.12 для прочих потребителей без НДС:"]
["1",null,"L2_1_1","для прочих потребителей с 01.07 по 31.12 без НДС",null,null,{"$f":"F17=\"двухставочный\"","v":false},null,null,null,null,"перевод двухставочного тарифа в одноставочный тариф","руб./куб.м",{"$f":"IF(N41=0,0,(N40*N41+N42*N43*6)/N41)","v":0},{"$f":"IF(O41=0,0,(O40*O41+O42*O43*6)/O41)","v":0},{"$f":"IF(N39=0,0,(O39-N39)/N39*100)","v":0},{"$f":"IF(Q41=0,0,(Q40*Q41+Q42*Q43*6)/Q41)","v":0},{"$f":"IF(R41=0,0,(R40*R41+R42*R43*6)/R41)","v":0},{"$f":"IF(Q39=0,0,(R39-Q39)/Q39*100)","v":0},{"$f":"IF(T41=0,0,(T40*T41+T42*T43*6)/T41)","v":0},{"$f":"IF(U41=0,0,(U40*U41+U42*U43*6)/U41)","v":0},{"$f":"IF(T39=0,0,(U39-T39)/T39*100)","v":0},{"$f":"IF(W41=0,0,(W40*W41+W42*W43*6)/W41)","v":0},{"$f":"IF(X41=0,0,(X40*X41+X42*X43*6)/X41)","v":0},{"$f":"IF(W39=0,0,(X39-W39)/W39*100)","v":0},{"$f":"IF(Z41=0,0,(Z40*Z41+Z42*Z43*6)/Z41)","v":0},{"$f":"IF(AA41=0,0,(AA40*AA41+AA42*AA43*6)/AA41)","v":0},{"$f":"IF(Z39=0,0,(AA39-Z39)/Z39*100)","v":0},{"$f":"IF(AC41=0,0,(AC40*AC41+AC42*AC43*6)/AC41)","v":0},{"$f":"IF(AD41=0,0,(AD40*AD41+AD42*AD43*6)/AD41)","v":0},{"$f":"IF(AC39=0,0,(AD39-AC39)/AC39*100)","v":0},{"$f":"IF(AF41=0,0,(AF40*AF41+AF42*AF43*6)/AF41)","v":0},{"$f":"IF(AG41=0,0,(AG40*AG41+AG42*AG43*6)/AG41)","v":0},{"$f":"IF(AF39=0,0,(AG39-AF39)/AF39*100)","v":0},{"$f":"IF(AI41=0,0,(AI40*AI41+AI42*AI43*6)/AI41)","v":0},{"$f":"IF(AJ41=0,0,(AJ40*AJ41+AJ42*AJ43*6)/AJ41)","v":0},{"$f":"IF(AI39=0,0,(AJ39-AI39)/AI39*100)","v":0},{"$f":"IF(AL41=0,0,(AL40*AL41+AL42*AL43*6)/AL41)","v":0},{"$f":"IF(AM41=0,0,(AM40*AM41+AM42*AM43*6)/AM41)","v":0},{"$f":"IF(AL39=0,0,(AM39-AL39)/AL39*100)","v":0},{"$f":"IF(AO41=0,0,(AO40*AO41+AO42*AO43*6)/AO41)","v":0},{"$f":"IF(AP41=0,0,(AP40*AP41+AP42*AP43*6)/AP41)","v":0},{"$f":"IF(AO39=0,0,(AP39-AO39)/AO39*100)","v":0},{"$f":"IF(AR41=0,0,(AR40*AR41+AR42*AR43*6)/AR41)","v":0},{"$f":"IF(AS41=0,0,(AS40*AS41+AS42*AS43*6)/AS41)","v":0},{"$f":"IF(AR39=0,0,(AS39-AR39)/AR39*100)","v":0},{"$f":"IF(AU41=0,0,(AU40*AU41+AU42*AU43*6)/AU41)","v":0},{"$f":"IF(AV41=0,0,(AV40*AV41+AV42*AV43*6)/AV41)","v":0},{"$f":"IF(AU39=0,0,(AV39-AU39)/AU39*100)","v":0},{"$f":"IF(AX41=0,0,(AX40*AX41+AX42*AX43*6)/AX41)","v":0},{"$f":"IF(AY41=0,0,(AY40*AY41+AY42*AY43*6)/AY41)","v":0},{"$f":"IF(AX39=0,0,(AY39-AX39)/AX39*100)","v":0},{"$f":"IF(BA41=0,0,(BA40*BA41+BA42*BA43*6)/BA41)","v":0},{"$f":"IF(BB41=0,0,(BB40*BB41+BB42*BB43*6)/BB41)","v":0},{"$f":"IF(BA39=0,0,(BB39-BA39)/BA39*100)","v":0},{"$f":"IF(BD41=0,0,(BD40*BD41+BD42*BD43*6)/BD41)","v":0},{"$f":"IF(BE41=0,0,(BE40*BE41+BE42*BE43*6)/BE41)","v":0},{"$f":"IF(BD39=0,0,(BE39-BD39)/BD39*100)","v":0},{"$f":"IF(BG41=0,0,(BG40*BG41+BG42*BG43*6)/BG41)","v":0},{"$f":"IF(BH41=0,0,(BH40*BH41+BH42*BH43*6)/BH41)","v":0},{"$f":"IF(BG39=0,0,(BH39-BG39)/BG39*100)","v":0},{"$f":"IF(BJ41=0,0,(BJ40*BJ41+BJ42*BJ43*6)/BJ41)","v":0},{"$f":"IF(BK41=0,0,(BK40*BK41+BK42*BK43*6)/BK41)","v":0},{"$f":"IF(BJ39=0,0,(BK39-BJ39)/BJ39*100)","v":0},{"$f":"IF(BM41=0,0,(BM40*BM41+BM42*BM43*6)/BM41)","v":0},{"$f":"IF(BN41=0,0,(BN40*BN41+BN42*BN43*6)/BN41)","v":0},{"$f":"IF(BM39=0,0,(BN39-BM39)/BM39*100)","v":0},{"$f":"IF(BP41=0,0,(BP40*BP41+BP42*BP43*6)/BP41)","v":0},{"$f":"IF(BQ41=0,0,(BQ40*BQ41+BQ42*BQ43*6)/BQ41)","v":0},{"$f":"IF(BP39=0,0,(BQ39-BP39)/BP39*100)","v":0},{"$f":"IF(BS41=0,0,(BS40*BS41+BS42*BS43*6)/BS41)","v":0},{"$f":"IF(BT41=0,0,(BT40*BT41+BT42*BT43*6)/BT41)","v":0},{"$f":"IF(BS39=0,0,(BT39-BS39)/BS39*100)","v":0},{"$f":"IF(BV41=0,0,(BV40*BV41+BV42*BV43*6)/BV41)","v":0},{"$f":"IF(BW41=0,0,(BW40*BW41+BW42*BW43*6)/BW41)","v":0},{"$f":"IF(BV39=0,0,(BW39-BV39)/BV39*100)","v":0},{"$f":"IF(BY41=0,0,(BY40*BY41+BY42*BY43*6)/BY41)","v":0},{"$f":"IF(BZ41=0,0,(BZ40*BZ41+BZ42*BZ43*6)/BZ41)","v":0},{"$f":"IF(BY39=0,0,(BZ39-BY39)/BY39*100)","v":0},{"$f":"IF(CB41=0,0,(CB40*CB41+CB42*CB43*6)/CB41)","v":0},{"$f":"IF(CC41=0,0,(CC40*CC41+CC42*CC43*6)/CC41)","v":0},{"$f":"IF(CB39=0,0,(CC39-CB39)/CB39*100)","v":0},{"$f":"IF(CE41=0,0,(CE40*CE41+CE42*CE43*6)/CE41)","v":0},{"$f":"IF(CF41=0,0,(CF40*CF41+CF42*CF43*6)/CF41)","v":0},{"$f":"IF(CE39=0,0,(CF39-CE39)/CE39*100)","v":0},{"$f":"IF(CH41=0,0,(CH40*CH41+CH42*CH43*6)/CH41)","v":0},{"$f":"IF(CI41=0,0,(CI40*CI41+CI42*CI43*6)/CI41)","v":0},{"$f":"IF(CH39=0,0,(CI39-CH39)/CH39*100)","v":0},{"$f":"IF(CK41=0,0,(CK40*CK41+CK42*CK43*6)/CK41)","v":0},{"$f":"IF(CL41=0,0,(CL40*CL41+CL42*CL43*6)/CL41)","v":0},{"$f":"IF(CK39=0,0,(CL39-CK39)/CK39*100)","v":0},{"$f":"IF(CN41=0,0,(CN40*CN41+CN42*CN43*6)/CN41)","v":0},{"$f":"IF(CO41=0,0,(CO40*CO41+CO42*CO43*6)/CO41)","v":0},{"$f":"IF(CN39=0,0,(CO39-CN39)/CN39*100)","v":0},{"$f":"IF(CQ41=0,0,(CQ40*CQ41+CQ42*CQ43*6)/CQ41)","v":0},{"$f":"IF(CR41=0,0,(CR40*CR41+CR42*CR43*6)/CR41)","v":0},{"$f":"IF(CQ39=0,0,(CR39-CQ39)/CQ39*100)","v":0},{"$f":"IF(CT41=0,0,(CT40*CT41+CT42*CT43*6)/CT41)","v":0},{"$f":"IF(CU41=0,0,(CU40*CU41+CU42*CU43*6)/CU41)","v":0},{"$f":"IF(CT39=0,0,(CU39-CT39)/CT39*100)","v":0},{"$f":"IF(CW41=0,0,(CW40*CW41+CW42*CW43*6)/CW41)","v":0},{"$f":"IF(CX41=0,0,(CX40*CX41+CX42*CX43*6)/CX41)","v":0},{"$f":"IF(CW39=0,0,(CX39-CW39)/CW39*100)","v":0},{"$f":"IF(CZ41=0,0,(CZ40*CZ41+CZ42*CZ43*6)/CZ41)","v":0},{"$f":"IF(DA41=0,0,(DA40*DA41+DA42*DA43*6)/DA41)","v":0},{"$f":"IF(CZ39=0,0,(DA39-CZ39)/CZ39*100)","v":0},{"$f":"IF(DC41=0,0,(DC40*DC41+DC42*DC43*6)/DC41)","v":0},{"$f":"IF(DD41=0,0,(DD40*DD41+DD42*DD43*6)/DD41)","v":0},{"$f":"IF(DC39=0,0,(DD39-DC39)/DC39*100)","v":0},{"$f":"IF(DF41=0,0,(DF40*DF41+DF42*DF43*6)/DF41)","v":0},{"$f":"IF(DG41=0,0,(DG40*DG41+DG42*DG43*6)/DG41)","v":0},{"$f":"IF(DF39=0,0,(DG39-DF39)/DF39*100)","v":0},{"$f":"IF(DI41=0,0,(DI40*DI41+DI42*DI43*6)/DI41)","v":0},{"$f":"IF(DJ41=0,0,(DJ40*DJ41+DJ42*DJ43*6)/DJ41)","v":0},{"$f":"IF(DI39=0,0,(DJ39-DI39)/DI39*100)","v":0},{"$f":"IF(DL41=0,0,(DL40*DL41+DL42*DL43*6)/DL41)","v":0},{"$f":"IF(DM41=0,0,(DM40*DM41+DM42*DM43*6)/DM41)","v":0},{"$f":"IF(DL39=0,0,(DM39-DL39)/DL39*100)","v":0},{"$f":"IF(DO41=0,0,(DO40*DO41+DO42*DO43*6)/DO41)","v":0},{"$f":"IF(DP41=0,0,(DP40*DP41+DP42*DP43*6)/DP41)","v":0},{"$f":"IF(DO39=0,0,(DP39-DO39)/DO39*100)","v":0},{"$f":"IF(DR41=0,0,(DR40*DR41+DR42*DR43*6)/DR41)","v":0},{"$f":"IF(DS41=0,0,(DS40*DS41+DS42*DS43*6)/DS41)","v":0},{"$f":"IF(DR39=0,0,(DS39-DR39)/DR39*100)","v":0},{"$f":"IF(DU41=0,0,(DU40*DU41+DU42*DU43*6)/DU41)","v":0},{"$f":"IF(DV41=0,0,(DV40*DV41+DV42*DV43*6)/DV41)","v":0},{"$f":"IF(DU39=0,0,(DV39-DU39)/DU39*100)","v":0},{"$f":"IF(DX41=0,0,(DX40*DX41+DX42*DX43*6)/DX41)","v":0},{"$f":"IF(DY41=0,0,(DY40*DY41+DY42*DY43*6)/DY41)","v":0},{"$f":"IF(DX39=0,0,(DY39-DX39)/DX39*100)","v":0},{"$f":"IF(EA41=0,0,(EA40*EA41+EA42*EA43*6)/EA41)","v":0},{"$f":"IF(EB41=0,0,(EB40*EB41+EB42*EB43*6)/EB41)","v":0},{"$f":"IF(EA39=0,0,(EB39-EA39)/EA39*100)","v":0},{"$f":"IF(ED41=0,0,(ED40*ED41+ED42*ED43*6)/ED41)","v":0},{"$f":"IF(EE41=0,0,(EE40*EE41+EE42*EE43*6)/EE41)","v":0},{"$f":"IF(ED39=0,0,(EE39-ED39)/ED39*100)","v":0},{"$f":"IF(EG41=0,0,(EG40*EG41+EG42*EG43*6)/EG41)","v":0},{"$f":"IF(EH41=0,0,(EH40*EH41+EH42*EH43*6)/EH41)","v":0},{"$f":"IF(EG39=0,0,(EH39-EG39)/EG39*100)","v":0},{"$f":"IF(EJ41=0,0,(EJ40*EJ41+EJ42*EJ43*6)/EJ41)","v":0},{"$f":"IF(EK41=0,0,(EK40*EK41+EK42*EK43*6)/EK41)","v":0},{"$f":"IF(EJ39=0,0,(EK39-EJ39)/EJ39*100)","v":0},{"$f":"IF(EM41=0,0,(EM40*EM41+EM42*EM43*6)/EM41)","v":0},{"$f":"IF(EN41=0,0,(EN40*EN41+EN42*EN43*6)/EN41)","v":0},{"$f":"IF(EM39=0,0,(EN39-EM39)/EM39*100)","v":0},{"$f":"IF(EP41=0,0,(EP40*EP41+EP42*EP43*6)/EP41)","v":0},{"$f":"IF(EQ41=0,0,(EQ40*EQ41+EQ42*EQ43*6)/EQ41)","v":0},{"$f":"IF(EP39=0,0,(EQ39-EP39)/EP39*100)","v":0},{"$f":"IF(ES41=0,0,(ES40*ES41+ES42*ES43*6)/ES41)","v":0},{"$f":"IF(ET41=0,0,(ET40*ET41+ET42*ET43*6)/ET41)","v":0},{"$f":"IF(ES39=0,0,(ET39-ES39)/ES39*100)","v":0},{"$f":"IF(EV41=0,0,(EV40*EV41+EV42*EV43*6)/EV41)","v":0},{"$f":"IF(EW41=0,0,(EW40*EW41+EW42*EW43*6)/EW41)","v":0},{"$f":"IF(EV39=0,0,(EW39-EV39)/EV39*100)","v":0},{"$f":"IF(EY41=0,0,(EY40*EY41+EY42*EY43*6)/EY41)","v":0},{"$f":"IF(EZ41=0,0,(EZ40*EZ41+EZ42*EZ43*6)/EZ41)","v":0},{"$f":"IF(EY39=0,0,(EZ39-EY39)/EY39*100)","v":0},{"$f":"IF(FB41=0,0,(FB40*FB41+FB42*FB43*6)/FB41)","v":0},{"$f":"IF(FC41=0,0,(FC40*FC41+FC42*FC43*6)/FC41)","v":0},{"$f":"IF(FB39=0,0,(FC39-FB39)/FB39*100)","v":0},{"$f":"IF(FE41=0,0,(FE40*FE41+FE42*FE43*6)/FE41)","v":0},{"$f":"IF(FF41=0,0,(FF40*FF41+FF42*FF43*6)/FF41)","v":0},{"$f":"IF(FE39=0,0,(FF39-FE39)/FE39*100)","v":0}]
["1",null,"L2_1_2","для прочих потребителей с 01.07 по 31.12 без НДС",null,null,{"$f":"F17=\"двухставочный\"","v":false},null,null,null,null,"ставка платы за потребление 1 куб.м холодной воды","руб./куб.м",null,null,{"$f":"IF(N40=0,0,(O40-N40)/N40*100)","v":0},null,null,{"$f":"IF(Q40=0,0,(R40-Q40)/Q40*100)","v":0},null,null,{"$f":"IF(T40=0,0,(U40-T40)/T40*100)","v":0},null,null,{"$f":"IF(W40=0,0,(X40-W40)/W40*100)","v":0},null,null,{"$f":"IF(Z40=0,0,(AA40-Z40)/Z40*100)","v":0},null,null,{"$f":"IF(AC40=0,0,(AD40-AC40)/AC40*100)","v":0},null,null,{"$f":"IF(AF40=0,0,(AG40-AF40)/AF40*100)","v":0},null,null,{"$f":"IF(AI40=0,0,(AJ40-AI40)/AI40*100)","v":0},null,null,{"$f":"IF(AL40=0,0,(AM40-AL40)/AL40*100)","v":0},null,null,{"$f":"IF(AO40=0,0,(AP40-AO40)/AO40*100)","v":0},null,null,{"$f":"IF(AR40=0,0,(AS40-AR40)/AR40*100)","v":0},null,null,{"$f":"IF(AU40=0,0,(AV40-AU40)/AU40*100)","v":0},null,null,{"$f":"IF(AX40=0,0,(AY40-AX40)/AX40*100)","v":0},null,null,{"$f":"IF(BA40=0,0,(BB40-BA40)/BA40*100)","v":0},null,null,{"$f":"IF(BD40=0,0,(BE40-BD40)/BD40*100)","v":0},null,null,{"$f":"IF(BG40=0,0,(BH40-BG40)/BG40*100)","v":0},null,null,{"$f":"IF(BJ40=0,0,(BK40-BJ40)/BJ40*100)","v":0},null,null,{"$f":"IF(BM40=0,0,(BN40-BM40)/BM40*100)","v":0},null,null,{"$f":"IF(BP40=0,0,(BQ40-BP40)/BP40*100)","v":0},null,null,{"$f":"IF(BS40=0,0,(BT40-BS40)/BS40*100)","v":0},null,null,{"$f":"IF(BV40=0,0,(BW40-BV40)/BV40*100)","v":0},null,null,{"$f":"IF(BY40=0,0,(BZ40-BY40)/BY40*100)","v":0},null,null,{"$f":"IF(CB40=0,0,(CC40-CB40)/CB40*100)","v":0},null,null,{"$f":"IF(CE40=0,0,(CF40-CE40)/CE40*100)","v":0},null,null,{"$f":"IF(CH40=0,0,(CI40-CH40)/CH40*100)","v":0},null,null,{"$f":"IF(CK40=0,0,(CL40-CK40)/CK40*100)","v":0},null,null,{"$f":"IF(CN40=0,0,(CO40-CN40)/CN40*100)","v":0},null,null,{"$f":"IF(CQ40=0,0,(CR40-CQ40)/CQ40*100)","v":0},null,null,{"$f":"IF(CT40=0,0,(CU40-CT40)/CT40*100)","v":0},null,null,{"$f":"IF(CW40=0,0,(CX40-CW40)/CW40*100)","v":0},null,null,{"$f":"IF(CZ40=0,0,(DA40-CZ40)/CZ40*100)","v":0},null,null,{"$f":"IF(DC40=0,0,(DD40-DC40)/DC40*100)","v":0},null,null,{"$f":"IF(DF40=0,0,(DG40-DF40)/DF40*100)","v":0},null,null,{"$f":"IF(DI40=0,0,(DJ40-DI40)/DI40*100)","v":0},null,null,{"$f":"IF(DL40=0,0,(DM40-DL40)/DL40*100)","v":0},null,null,{"$f":"IF(DO40=0,0,(DP40-DO40)/DO40*100)","v":0},null,null,{"$f":"IF(DR40=0,0,(DS40-DR40)/DR40*100)","v":0},null,null,{"$f":"IF(DU40=0,0,(DV40-DU40)/DU40*100)","v":0},null,null,{"$f":"IF(DX40=0,0,(DY40-DX40)/DX40*100)","v":0},null,null,{"$f":"IF(EA40=0,0,(EB40-EA40)/EA40*100)","v":0},null,null,{"$f":"IF(ED40=0,0,(EE40-ED40)/ED40*100)","v":0},null,null,{"$f":"IF(EG40=0,0,(EH40-EG40)/EG40*100)","v":0},null,null,{"$f":"IF(EJ40=0,0,(EK40-EJ40)/EJ40*100)","v":0},null,null,{"$f":"IF(EM40=0,0,(EN40-EM40)/EM40*100)","v":0},null,null,{"$f":"IF(EP40=0,0,(EQ40-EP40)/EP40*100)","v":0},null,null,{"$f":"IF(ES40=0,0,(ET40-ES40)/ES40*100)","v":0},null,null,{"$f":"IF(EV40=0,0,(EW40-EV40)/EV40*100)","v":0},null,null,{"$f":"IF(EY40=0,0,(EZ40-EY40)/EY40*100)","v":0},null,null,{"$f":"IF(FB40=0,0,(FC40-FB40)/FB40*100)","v":0},null,null,{"$f":"IF(FE40=0,0,(FF40-FE40)/FE40*100)","v":0}]
["1","ПО.прочие.II","L2_1_3","для прочих потребителей с 01.07 по 31.12 без НДС",null,null,{"$f":"F17=\"двухставочный\"","v":false},null,null,null,null,"объём потребления холодной воды","тыс.куб.м",{"$f":"SUMIFS(INDEX(Калькуляция!$T$15:$AM$268,,MATCH(N$3,Калькуляция!$T$3:$AM$3,0)),Калькуляция!$A$15:$A$268,$A41,Калькуляция!$B$15:$B$268,$B41)","v":297.96549999999996},{"$f":"SUMIFS(INDEX(Калькуляция!$T$15:$AM$268,,MATCH(O$3,Калькуляция!$T$3:$AM$3,0)),Калькуляция!$A$15:$A$268,$A41,Калькуляция!$B$15:$B$268,$B41)","v":277.389738685},{"$f":"IF(N41=0,0,(O41-N41)/N41*100)","v":-6.9054173436186295},{"$f":"SUMIFS(INDEX(Калькуляция!$T$15:$AM$268,,MATCH(Q$3,Калькуляция!$T$3:$AM$3,0)),Калькуляция!$A$15:$A$268,$A41,Калькуляция!$B$15:$B$268,$B41)","v":297.96549999999996},{"$f":"SUMIFS(INDEX(Калькуляция!$T$15:$AM$268,,MATCH(R$3,Калькуляция!$T$3:$AM$3,0)),Калькуляция!$A$15:$A$268,$A41,Калькуляция!$B$15:$B$268,$B41)","v":277.389738685},{"$f":"IF(Q41=0,0,(R41-Q41)/Q41*100)","v":-6.9054173436186295},{"$f":"SUMIFS(INDEX(Калькуляция!$T$15:$AM$268,,MATCH(T$3,Калькуляция!$T$3:$AM$3,0)),Калькуляция!$A$15:$A$268,$A41,Калькуляция!$B$15:$B$268,$B41)","v":297.96549999999996},{"$f":"SUMIFS(INDEX(Калькуляция!$T$15:$AM$268,,MATCH(U$3,Калькуляция!$T$3:$AM$3,0)),Калькуляция!$A$15:$A$268,$A41,Калькуляция!$B$15:$B$268,$B41)","v":277.389738685},{"$f":"IF(T41=0,0,(U41-T41)/T41*100)","v":-6.9054173436186295},{"$f":"SUMIFS(INDEX(Калькуляция!$T$15:$AM$268,,MATCH(W$3,Калькуляция!$T$3:$AM$3,0)),Калькуляция!$A$15:$A$268,$A41,Калькуляция!$B$15:$B$268,$B41)","v":297.96549999999996},{"$f":"SUMIFS(INDEX(Калькуляция!$T$15:$AM$268,,MATCH(X$3,Калькуляция!$T$3:$AM$3,0)),Калькуляция!$A$15:$A$268,$A41,Калькуляция!$B$15:$B$268,$B41)","v":277.389738685},{"$f":"IF(W41=0,0,(X41-W41)/W41*100)","v":-6.9054173436186295},{"$f":"SUMIFS(INDEX(Калькуляция!$T$15:$AM$268,,MATCH(Z$3,Калькуляция!$T$3:$AM$3,0)),Калькуляция!$A$15:$A$268,$A41,Калькуляция!$B$15:$B$268,$B41)","v":297.96549999999996},{"$f":"SUMIFS(INDEX(Калькуляция!$T$15:$AM$268,,MATCH(AA$3,Калькуляция!$T$3:$AM$3,0)),Калькуляция!$A$15:$A$268,$A41,Калькуляция!$B$15:$B$268,$B41)","v":277.389738685},{"$f":"IF(Z41=0,0,(AA41-Z41)/Z41*100)","v":-6.9054173436186295},{"$f":"SUMIFS(INDEX(Калькуляция!$T$15:$AM$268,,MATCH(AC$3,Калькуляция!$T$3:$AM$3,0)),Калькуляция!$A$15:$A$268,$A41,Калькуляция!$B$15:$B$268,$B41)","v":0},{"$f":"SUMIFS(INDEX(Калькуляция!$T$15:$AM$268,,MATCH(AD$3,Калькуляция!$T$3:$AM$3,0)),Калькуляция!$A$15:$A$268,$A41,Калькуляция!$B$15:$B$268,$B41)","v":0},{"$f":"IF(AC41=0,0,(AD41-AC41)/AC41*100)","v":0},{"$f":"SUMIFS(INDEX(Калькуляция!$T$15:$AM$268,,MATCH(AF$3,Калькуляция!$T$3:$AM$3,0)),Калькуляция!$A$15:$A$268,$A41,Калькуляция!$B$15:$B$268,$B41)","v":0},{"$f":"SUMIFS(INDEX(Калькуляция!$T$15:$AM$268,,MATCH(AG$3,Калькуляция!$T$3:$AM$3,0)),Калькуляция!$A$15:$A$268,$A41,Калькуляция!$B$15:$B$268,$B41)","v":0},{"$f":"IF(AF41=0,0,(AG41-AF41)/AF41*100)","v":0},{"$f":"SUMIFS(INDEX(Калькуляция!$T$15:$AM$268,,MATCH(AI$3,Калькуляция!$T$3:$AM$3,0)),Калькуляция!$A$15:$A$268,$A41,Калькуляция!$B$15:$B$268,$B41)","v":0},{"$f":"SUMIFS(INDEX(Калькуляция!$T$15:$AM$268,,MATCH(AJ$3,Калькуляция!$T$3:$AM$3,0)),Калькуляция!$A$15:$A$268,$A41,Калькуляция!$B$15:$B$268,$B41)","v":0},{"$f":"IF(AI41=0,0,(AJ41-AI41)/AI41*100)","v":0},{"$f":"SUMIFS(INDEX(Калькуляция!$T$15:$AM$268,,MATCH(AL$3,Калькуляция!$T$3:$AM$3,0)),Калькуляция!$A$15:$A$268,$A41,Калькуляция!$B$15:$B$268,$B41)","v":0},{"$f":"SUMIFS(INDEX(Калькуляция!$T$15:$AM$268,,MATCH(AM$3,Калькуляция!$T$3:$AM$3,0)),Калькуляция!$A$15:$A$268,$A41,Калькуляция!$B$15:$B$268,$B41)","v":0},{"$f":"IF(AL41=0,0,(AM41-AL41)/AL41*100)","v":0},{"$f":"SUMIFS(INDEX(Калькуляция!$T$15:$AM$268,,MATCH(AO$3,Калькуляция!$T$3:$AM$3,0)),Калькуляция!$A$15:$A$268,$A41,Калькуляция!$B$15:$B$268,$B41)","v":0},{"$f":"SUMIFS(INDEX(Калькуляция!$T$15:$AM$268,,MATCH(AP$3,Калькуляция!$T$3:$AM$3,0)),Калькуляция!$A$15:$A$268,$A41,Калькуляция!$B$15:$B$268,$B41)","v":0},{"$f":"IF(AO41=0,0,(AP41-AO41)/AO41*100)","v":0},null,null,{"$f":"IF(AR41=0,0,(AS41-AR41)/AR41*100)","v":0},null,null,{"$f":"IF(AU41=0,0,(AV41-AU41)/AU41*100)","v":0},null,null,{"$f":"IF(AX41=0,0,(AY41-AX41)/AX41*100)","v":0},null,null,{"$f":"IF(BA41=0,0,(BB41-BA41)/BA41*100)","v":0},null,null,{"$f":"IF(BD41=0,0,(BE41-BD41)/BD41*100)","v":0},null,null,{"$f":"IF(BG41=0,0,(BH41-BG41)/BG41*100)","v":0},null,null,{"$f":"IF(BJ41=0,0,(BK41-BJ41)/BJ41*100)","v":0},null,null,{"$f":"IF(BM41=0,0,(BN41-BM41)/BM41*100)","v":0},null,null,{"$f":"IF(BP41=0,0,(BQ41-BP41)/BP41*100)","v":0},null,null,{"$f":"IF(BS41=0,0,(BT41-BS41)/BS41*100)","v":0},null,null,{"$f":"IF(BV41=0,0,(BW41-BV41)/BV41*100)","v":0},null,null,{"$f":"IF(BY41=0,0,(BZ41-BY41)/BY41*100)","v":0},null,null,{"$f":"IF(CB41=0,0,(CC41-CB41)/CB41*100)","v":0},null,null,{"$f":"IF(CE41=0,0,(CF41-CE41)/CE41*100)","v":0},null,null,{"$f":"IF(CH41=0,0,(CI41-CH41)/CH41*100)","v":0},null,null,{"$f":"IF(CK41=0,0,(CL41-CK41)/CK41*100)","v":0},null,null,{"$f":"IF(CN41=0,0,(CO41-CN41)/CN41*100)","v":0},null,null,{"$f":"IF(CQ41=0,0,(CR41-CQ41)/CQ41*100)","v":0},null,null,{"$f":"IF(CT41=0,0,(CU41-CT41)/CT41*100)","v":0},null,null,{"$f":"IF(CW41=0,0,(CX41-CW41)/CW41*100)","v":0},null,null,{"$f":"IF(CZ41=0,0,(DA41-CZ41)/CZ41*100)","v":0},null,null,{"$f":"IF(DC41=0,0,(DD41-DC41)/DC41*100)","v":0},null,null,{"$f":"IF(DF41=0,0,(DG41-DF41)/DF41*100)","v":0},null,null,{"$f":"IF(DI41=0,0,(DJ41-DI41)/DI41*100)","v":0},null,null,{"$f":"IF(DL41=0,0,(DM41-DL41)/DL41*100)","v":0},null,null,{"$f":"IF(DO41=0,0,(DP41-DO41)/DO41*100)","v":0},null,null,{"$f":"IF(DR41=0,0,(DS41-DR41)/DR41*100)","v":0},null,null,{"$f":"IF(DU41=0,0,(DV41-DU41)/DU41*100)","v":0},null,null,{"$f":"IF(DX41=0,0,(DY41-DX41)/DX41*100)","v":0},null,null,{"$f":"IF(EA41=0,0,(EB41-EA41)/EA41*100)","v":0},null,null,{"$f":"IF(ED41=0,0,(EE41-ED41)/ED41*100)","v":0},null,null,{"$f":"IF(EG41=0,0,(EH41-EG41)/EG41*100)","v":0},null,null,{"$f":"IF(EJ41=0,0,(EK41-EJ41)/EJ41*100)","v":0},null,null,{"$f":"IF(EM41=0,0,(EN41-EM41)/EM41*100)","v":0},null,null,{"$f":"IF(EP41=0,0,(EQ41-EP41)/EP41*100)","v":0},null,null,{"$f":"IF(ES41=0,0,(ET41-ES41)/ES41*100)","v":0},null,null,{"$f":"IF(EV41=0,0,(EW41-EV41)/EV41*100)","v":0},null,null,{"$f":"IF(EY41=0,0,(EZ41-EY41)/EY41*100)","v":0},null,null,{"$f":"IF(FB41=0,0,(FC41-FB41)/FB41*100)","v":0},null,null,{"$f":"IF(FE41=0,0,(FF41-FE41)/FE41*100)","v":0}]
["1",null,"L2_1_4","для прочих потребителей с 01.07 по 31.12 без НДС",null,null,{"$f":"F17=\"двухставочный\"","v":false},null,null,null,null,"ставка платы за содержание системы холодного водоснабжения","тыс.руб./куб.м*час/в месяц",null,null,{"$f":"IF(N42=0,0,(O42-N42)/N42*100)","v":0},null,null,{"$f":"IF(Q42=0,0,(R42-Q42)/Q42*100)","v":0},null,null,{"$f":"IF(T42=0,0,(U42-T42)/T42*100)","v":0},null,null,{"$f":"IF(W42=0,0,(X42-W42)/W42*100)","v":0},null,null,{"$f":"IF(Z42=0,0,(AA42-Z42)/Z42*100)","v":0},null,null,{"$f":"IF(AC42=0,0,(AD42-AC42)/AC42*100)","v":0},null,null,{"$f":"IF(AF42=0,0,(AG42-AF42)/AF42*100)","v":0},null,null,{"$f":"IF(AI42=0,0,(AJ42-AI42)/AI42*100)","v":0},null,null,{"$f":"IF(AL42=0,0,(AM42-AL42)/AL42*100)","v":0},null,null,{"$f":"IF(AO42=0,0,(AP42-AO42)/AO42*100)","v":0},null,null,{"$f":"IF(AR42=0,0,(AS42-AR42)/AR42*100)","v":0},null,null,{"$f":"IF(AU42=0,0,(AV42-AU42)/AU42*100)","v":0},null,null,{"$f":"IF(AX42=0,0,(AY42-AX42)/AX42*100)","v":0},null,null,{"$f":"IF(BA42=0,0,(BB42-BA42)/BA42*100)","v":0},null,null,{"$f":"IF(BD42=0,0,(BE42-BD42)/BD42*100)","v":0},null,null,{"$f":"IF(BG42=0,0,(BH42-BG42)/BG42*100)","v":0},null,null,{"$f":"IF(BJ42=0,0,(BK42-BJ42)/BJ42*100)","v":0},null,null,{"$f":"IF(BM42=0,0,(BN42-BM42)/BM42*100)","v":0},null,null,{"$f":"IF(BP42=0,0,(BQ42-BP42)/BP42*100)","v":0},null,null,{"$f":"IF(BS42=0,0,(BT42-BS42)/BS42*100)","v":0},null,null,{"$f":"IF(BV42=0,0,(BW42-BV42)/BV42*100)","v":0},null,null,{"$f":"IF(BY42=0,0,(BZ42-BY42)/BY42*100)","v":0},null,null,{"$f":"IF(CB42=0,0,(CC42-CB42)/CB42*100)","v":0},null,null,{"$f":"IF(CE42=0,0,(CF42-CE42)/CE42*100)","v":0},null,null,{"$f":"IF(CH42=0,0,(CI42-CH42)/CH42*100)","v":0},null,null,{"$f":"IF(CK42=0,0,(CL42-CK42)/CK42*100)","v":0},null,null,{"$f":"IF(CN42=0,0,(CO42-CN42)/CN42*100)","v":0},null,null,{"$f":"IF(CQ42=0,0,(CR42-CQ42)/CQ42*100)","v":0},null,null,{"$f":"IF(CT42=0,0,(CU42-CT42)/CT42*100)","v":0},null,null,{"$f":"IF(CW42=0,0,(CX42-CW42)/CW42*100)","v":0},null,null,{"$f":"IF(CZ42=0,0,(DA42-CZ42)/CZ42*100)","v":0},null,null,{"$f":"IF(DC42=0,0,(DD42-DC42)/DC42*100)","v":0},null,null,{"$f":"IF(DF42=0,0,(DG42-DF42)/DF42*100)","v":0},null,null,{"$f":"IF(DI42=0,0,(DJ42-DI42)/DI42*100)","v":0},null,null,{"$f":"IF(DL42=0,0,(DM42-DL42)/DL42*100)","v":0},null,null,{"$f":"IF(DO42=0,0,(DP42-DO42)/DO42*100)","v":0},null,null,{"$f":"IF(DR42=0,0,(DS42-DR42)/DR42*100)","v":0},null,null,{"$f":"IF(DU42=0,0,(DV42-DU42)/DU42*100)","v":0},null,null,{"$f":"IF(DX42=0,0,(DY42-DX42)/DX42*100)","v":0},null,null,{"$f":"IF(EA42=0,0,(EB42-EA42)/EA42*100)","v":0},null,null,{"$f":"IF(ED42=0,0,(EE42-ED42)/ED42*100)","v":0},null,null,{"$f":"IF(EG42=0,0,(EH42-EG42)/EG42*100)","v":0},null,null,{"$f":"IF(EJ42=0,0,(EK42-EJ42)/EJ42*100)","v":0},null,null,{"$f":"IF(EM42=0,0,(EN42-EM42)/EM42*100)","v":0},null,null,{"$f":"IF(EP42=0,0,(EQ42-EP42)/EP42*100)","v":0},null,null,{"$f":"IF(ES42=0,0,(ET42-ES42)/ES42*100)","v":0},null,null,{"$f":"IF(EV42=0,0,(EW42-EV42)/EV42*100)","v":0},null,null,{"$f":"IF(EY42=0,0,(EZ42-EY42)/EY42*100)","v":0},null,null,{"$f":"IF(FB42=0,0,(FC42-FB42)/FB42*100)","v":0},null,null,{"$f":"IF(FE42=0,0,(FF42-FE42)/FE42*100)","v":0}]
["1",null,"L2_1_5","для прочих потребителей с 01.07 по 31.12 без НДС",null,null,{"$f":"F17=\"двухставочный\"","v":false},null,null,null,null,"величина присоединённой мощности","куб.м*час",null,null,{"$f":"IF(N43=0,0,(O43-N43)/N43*100)","v":0},null,null,{"$f":"IF(Q43=0,0,(R43-Q43)/Q43*100)","v":0},null,null,{"$f":"IF(T43=0,0,(U43-T43)/T43*100)","v":0},null,null,{"$f":"IF(W43=0,0,(X43-W43)/W43*100)","v":0},null,null,{"$f":"IF(Z43=0,0,(AA43-Z43)/Z43*100)","v":0},null,null,{"$f":"IF(AC43=0,0,(AD43-AC43)/AC43*100)","v":0},null,null,{"$f":"IF(AF43=0,0,(AG43-AF43)/AF43*100)","v":0},null,null,{"$f":"IF(AI43=0,0,(AJ43-AI43)/AI43*100)","v":0},null,null,{"$f":"IF(AL43=0,0,(AM43-AL43)/AL43*100)","v":0},null,null,{"$f":"IF(AO43=0,0,(AP43-AO43)/AO43*100)","v":0},null,null,{"$f":"IF(AR43=0,0,(AS43-AR43)/AR43*100)","v":0},null,null,{"$f":"IF(AU43=0,0,(AV43-AU43)/AU43*100)","v":0},null,null,{"$f":"IF(AX43=0,0,(AY43-AX43)/AX43*100)","v":0},null,null,{"$f":"IF(BA43=0,0,(BB43-BA43)/BA43*100)","v":0},null,null,{"$f":"IF(BD43=0,0,(BE43-BD43)/BD43*100)","v":0},null,null,{"$f":"IF(BG43=0,0,(BH43-BG43)/BG43*100)","v":0},null,null,{"$f":"IF(BJ43=0,0,(BK43-BJ43)/BJ43*100)","v":0},null,null,{"$f":"IF(BM43=0,0,(BN43-BM43)/BM43*100)","v":0},null,null,{"$f":"IF(BP43=0,0,(BQ43-BP43)/BP43*100)","v":0},null,null,{"$f":"IF(BS43=0,0,(BT43-BS43)/BS43*100)","v":0},null,null,{"$f":"IF(BV43=0,0,(BW43-BV43)/BV43*100)","v":0},null,null,{"$f":"IF(BY43=0,0,(BZ43-BY43)/BY43*100)","v":0},null,null,{"$f":"IF(CB43=0,0,(CC43-CB43)/CB43*100)","v":0},null,null,{"$f":"IF(CE43=0,0,(CF43-CE43)/CE43*100)","v":0},null,null,{"$f":"IF(CH43=0,0,(CI43-CH43)/CH43*100)","v":0},null,null,{"$f":"IF(CK43=0,0,(CL43-CK43)/CK43*100)","v":0},null,null,{"$f":"IF(CN43=0,0,(CO43-CN43)/CN43*100)","v":0},null,null,{"$f":"IF(CQ43=0,0,(CR43-CQ43)/CQ43*100)","v":0},null,null,{"$f":"IF(CT43=0,0,(CU43-CT43)/CT43*100)","v":0},null,null,{"$f":"IF(CW43=0,0,(CX43-CW43)/CW43*100)","v":0},null,null,{"$f":"IF(CZ43=0,0,(DA43-CZ43)/CZ43*100)","v":0},null,null,{"$f":"IF(DC43=0,0,(DD43-DC43)/DC43*100)","v":0},null,null,{"$f":"IF(DF43=0,0,(DG43-DF43)/DF43*100)","v":0},null,null,{"$f":"IF(DI43=0,0,(DJ43-DI43)/DI43*100)","v":0},null,null,{"$f":"IF(DL43=0,0,(DM43-DL43)/DL43*100)","v":0},null,null,{"$f":"IF(DO43=0,0,(DP43-DO43)/DO43*100)","v":0},null,null,{"$f":"IF(DR43=0,0,(DS43-DR43)/DR43*100)","v":0},null,null,{"$f":"IF(DU43=0,0,(DV43-DU43)/DU43*100)","v":0},null,null,{"$f":"IF(DX43=0,0,(DY43-DX43)/DX43*100)","v":0},null,null,{"$f":"IF(EA43=0,0,(EB43-EA43)/EA43*100)","v":0},null,null,{"$f":"IF(ED43=0,0,(EE43-ED43)/ED43*100)","v":0},null,null,{"$f":"IF(EG43=0,0,(EH43-EG43)/EG43*100)","v":0},null,null,{"$f":"IF(EJ43=0,0,(EK43-EJ43)/EJ43*100)","v":0},null,null,{"$f":"IF(EM43=0,0,(EN43-EM43)/EM43*100)","v":0},null,null,{"$f":"IF(EP43=0,0,(EQ43-EP43)/EP43*100)","v":0},null,null,{"$f":"IF(ES43=0,0,(ET43-ES43)/ES43*100)","v":0},null,null,{"$f":"IF(EV43=0,0,(EW43-EV43)/EV43*100)","v":0},null,null,{"$f":"IF(EY43=0,0,(EZ43-EY43)/EY43*100)","v":0},null,null,{"$f":"IF(FB43=0,0,(FC43-FB43)/FB43*100)","v":0},null,null,{"$f":"IF(FE43=0,0,(FF43-FE43)/FE43*100)","v":0}]
["1",null,null,null,null,null,{"$f":"F17=\"двухставочный\"","v":false},null,null,null,null,"Тариф с 01.01 по 30.06 для населения с НДС:"]
["1",null,"L2_1_1","для населения с 01.01 по 30.06 с НДС",null,null,{"$f":"F17=\"двухставочный\"","v":false},null,null,null,null,"перевод двухставочного тарифа в одноставочный тариф","руб./куб.м",{"$f":"IF(N47=0,0,(N46*N47+N48*N49*6)/N47)","v":0},{"$f":"IF(O47=0,0,(O46*O47+O48*O49*6)/O47)","v":0},{"$f":"IF(N45=0,0,(O45-N45)/N45*100)","v":0},{"$f":"IF(Q47=0,0,(Q46*Q47+Q48*Q49*6)/Q47)","v":0},{"$f":"IF(R47=0,0,(R46*R47+R48*R49*6)/R47)","v":0},{"$f":"IF(Q45=0,0,(R45-Q45)/Q45*100)","v":0},{"$f":"IF(T47=0,0,(T46*T47+T48*T49*6)/T47)","v":0},{"$f":"IF(U47=0,0,(U46*U47+U48*U49*6)/U47)","v":0},{"$f":"IF(T45=0,0,(U45-T45)/T45*100)","v":0},{"$f":"IF(W47=0,0,(W46*W47+W48*W49*6)/W47)","v":0},{"$f":"IF(X47=0,0,(X46*X47+X48*X49*6)/X47)","v":0},{"$f":"IF(W45=0,0,(X45-W45)/W45*100)","v":0},{"$f":"IF(Z47=0,0,(Z46*Z47+Z48*Z49*6)/Z47)","v":0},{"$f":"IF(AA47=0,0,(AA46*AA47+AA48*AA49*6)/AA47)","v":0},{"$f":"IF(Z45=0,0,(AA45-Z45)/Z45*100)","v":0},{"$f":"IF(AC47=0,0,(AC46*AC47+AC48*AC49*6)/AC47)","v":0},{"$f":"IF(AD47=0,0,(AD46*AD47+AD48*AD49*6)/AD47)","v":0},{"$f":"IF(AC45=0,0,(AD45-AC45)/AC45*100)","v":0},{"$f":"IF(AF47=0,0,(AF46*AF47+AF48*AF49*6)/AF47)","v":0},{"$f":"IF(AG47=0,0,(AG46*AG47+AG48*AG49*6)/AG47)","v":0},{"$f":"IF(AF45=0,0,(AG45-AF45)/AF45*100)","v":0},{"$f":"IF(AI47=0,0,(AI46*AI47+AI48*AI49*6)/AI47)","v":0},{"$f":"IF(AJ47=0,0,(AJ46*AJ47+AJ48*AJ49*6)/AJ47)","v":0},{"$f":"IF(AI45=0,0,(AJ45-AI45)/AI45*100)","v":0},{"$f":"IF(AL47=0,0,(AL46*AL47+AL48*AL49*6)/AL47)","v":0},{"$f":"IF(AM47=0,0,(AM46*AM47+AM48*AM49*6)/AM47)","v":0},{"$f":"IF(AL45=0,0,(AM45-AL45)/AL45*100)","v":0},{"$f":"IF(AO47=0,0,(AO46*AO47+AO48*AO49*6)/AO47)","v":0},{"$f":"IF(AP47=0,0,(AP46*AP47+AP48*AP49*6)/AP47)","v":0},{"$f":"IF(AO45=0,0,(AP45-AO45)/AO45*100)","v":0},{"$f":"IF(AR47=0,0,(AR46*AR47+AR48*AR49*6)/AR47)","v":0},{"$f":"IF(AS47=0,0,(AS46*AS47+AS48*AS49*6)/AS47)","v":0},{"$f":"IF(AR45=0,0,(AS45-AR45)/AR45*100)","v":0},{"$f":"IF(AU47=0,0,(AU46*AU47+AU48*AU49*6)/AU47)","v":0},{"$f":"IF(AV47=0,0,(AV46*AV47+AV48*AV49*6)/AV47)","v":0},{"$f":"IF(AU45=0,0,(AV45-AU45)/AU45*100)","v":0},{"$f":"IF(AX47=0,0,(AX46*AX47+AX48*AX49*6)/AX47)","v":0},{"$f":"IF(AY47=0,0,(AY46*AY47+AY48*AY49*6)/AY47)","v":0},{"$f":"IF(AX45=0,0,(AY45-AX45)/AX45*100)","v":0},{"$f":"IF(BA47=0,0,(BA46*BA47+BA48*BA49*6)/BA47)","v":0},{"$f":"IF(BB47=0,0,(BB46*BB47+BB48*BB49*6)/BB47)","v":0},{"$f":"IF(BA45=0,0,(BB45-BA45)/BA45*100)","v":0},{"$f":"IF(BD47=0,0,(BD46*BD47+BD48*BD49*6)/BD47)","v":0},{"$f":"IF(BE47=0,0,(BE46*BE47+BE48*BE49*6)/BE47)","v":0},{"$f":"IF(BD45=0,0,(BE45-BD45)/BD45*100)","v":0},{"$f":"IF(BG47=0,0,(BG46*BG47+BG48*BG49*6)/BG47)","v":0},{"$f":"IF(BH47=0,0,(BH46*BH47+BH48*BH49*6)/BH47)","v":0},{"$f":"IF(BG45=0,0,(BH45-BG45)/BG45*100)","v":0},{"$f":"IF(BJ47=0,0,(BJ46*BJ47+BJ48*BJ49*6)/BJ47)","v":0},{"$f":"IF(BK47=0,0,(BK46*BK47+BK48*BK49*6)/BK47)","v":0},{"$f":"IF(BJ45=0,0,(BK45-BJ45)/BJ45*100)","v":0},{"$f":"IF(BM47=0,0,(BM46*BM47+BM48*BM49*6)/BM47)","v":0},{"$f":"IF(BN47=0,0,(BN46*BN47+BN48*BN49*6)/BN47)","v":0},{"$f":"IF(BM45=0,0,(BN45-BM45)/BM45*100)","v":0},{"$f":"IF(BP47=0,0,(BP46*BP47+BP48*BP49*6)/BP47)","v":0},{"$f":"IF(BQ47=0,0,(BQ46*BQ47+BQ48*BQ49*6)/BQ47)","v":0},{"$f":"IF(BP45=0,0,(BQ45-BP45)/BP45*100)","v":0},{"$f":"IF(BS47=0,0,(BS46*BS47+BS48*BS49*6)/BS47)","v":0},{"$f":"IF(BT47=0,0,(BT46*BT47+BT48*BT49*6)/BT47)","v":0},{"$f":"IF(BS45=0,0,(BT45-BS45)/BS45*100)","v":0},{"$f":"IF(BV47=0,0,(BV46*BV47+BV48*BV49*6)/BV47)","v":0},{"$f":"IF(BW47=0,0,(BW46*BW47+BW48*BW49*6)/BW47)","v":0},{"$f":"IF(BV45=0,0,(BW45-BV45)/BV45*100)","v":0},{"$f":"IF(BY47=0,0,(BY46*BY47+BY48*BY49*6)/BY47)","v":0},{"$f":"IF(BZ47=0,0,(BZ46*BZ47+BZ48*BZ49*6)/BZ47)","v":0},{"$f":"IF(BY45=0,0,(BZ45-BY45)/BY45*100)","v":0},{"$f":"IF(CB47=0,0,(CB46*CB47+CB48*CB49*6)/CB47)","v":0},{"$f":"IF(CC47=0,0,(CC46*CC47+CC48*CC49*6)/CC47)","v":0},{"$f":"IF(CB45=0,0,(CC45-CB45)/CB45*100)","v":0},{"$f":"IF(CE47=0,0,(CE46*CE47+CE48*CE49*6)/CE47)","v":0},{"$f":"IF(CF47=0,0,(CF46*CF47+CF48*CF49*6)/CF47)","v":0},{"$f":"IF(CE45=0,0,(CF45-CE45)/CE45*100)","v":0},{"$f":"IF(CH47=0,0,(CH46*CH47+CH48*CH49*6)/CH47)","v":0},{"$f":"IF(CI47=0,0,(CI46*CI47+CI48*CI49*6)/CI47)","v":0},{"$f":"IF(CH45=0,0,(CI45-CH45)/CH45*100)","v":0},{"$f":"IF(CK47=0,0,(CK46*CK47+CK48*CK49*6)/CK47)","v":0},{"$f":"IF(CL47=0,0,(CL46*CL47+CL48*CL49*6)/CL47)","v":0},{"$f":"IF(CK45=0,0,(CL45-CK45)/CK45*100)","v":0},{"$f":"IF(CN47=0,0,(CN46*CN47+CN48*CN49*6)/CN47)","v":0},{"$f":"IF(CO47=0,0,(CO46*CO47+CO48*CO49*6)/CO47)","v":0},{"$f":"IF(CN45=0,0,(CO45-CN45)/CN45*100)","v":0},{"$f":"IF(CQ47=0,0,(CQ46*CQ47+CQ48*CQ49*6)/CQ47)","v":0},{"$f":"IF(CR47=0,0,(CR46*CR47+CR48*CR49*6)/CR47)","v":0},{"$f":"IF(CQ45=0,0,(CR45-CQ45)/CQ45*100)","v":0},{"$f":"IF(CT47=0,0,(CT46*CT47+CT48*CT49*6)/CT47)","v":0},{"$f":"IF(CU47=0,0,(CU46*CU47+CU48*CU49*6)/CU47)","v":0},{"$f":"IF(CT45=0,0,(CU45-CT45)/CT45*100)","v":0},{"$f":"IF(CW47=0,0,(CW46*CW47+CW48*CW49*6)/CW47)","v":0},{"$f":"IF(CX47=0,0,(CX46*CX47+CX48*CX49*6)/CX47)","v":0},{"$f":"IF(CW45=0,0,(CX45-CW45)/CW45*100)","v":0},{"$f":"IF(CZ47=0,0,(CZ46*CZ47+CZ48*CZ49*6)/CZ47)","v":0},{"$f":"IF(DA47=0,0,(DA46*DA47+DA48*DA49*6)/DA47)","v":0},{"$f":"IF(CZ45=0,0,(DA45-CZ45)/CZ45*100)","v":0},{"$f":"IF(DC47=0,0,(DC46*DC47+DC48*DC49*6)/DC47)","v":0},{"$f":"IF(DD47=0,0,(DD46*DD47+DD48*DD49*6)/DD47)","v":0},{"$f":"IF(DC45=0,0,(DD45-DC45)/DC45*100)","v":0},{"$f":"IF(DF47=0,0,(DF46*DF47+DF48*DF49*6)/DF47)","v":0},{"$f":"IF(DG47=0,0,(DG46*DG47+DG48*DG49*6)/DG47)","v":0},{"$f":"IF(DF45=0,0,(DG45-DF45)/DF45*100)","v":0},{"$f":"IF(DI47=0,0,(DI46*DI47+DI48*DI49*6)/DI47)","v":0},{"$f":"IF(DJ47=0,0,(DJ46*DJ47+DJ48*DJ49*6)/DJ47)","v":0},{"$f":"IF(DI45=0,0,(DJ45-DI45)/DI45*100)","v":0},{"$f":"IF(DL47=0,0,(DL46*DL47+DL48*DL49*6)/DL47)","v":0},{"$f":"IF(DM47=0,0,(DM46*DM47+DM48*DM49*6)/DM47)","v":0},{"$f":"IF(DL45=0,0,(DM45-DL45)/DL45*100)","v":0},{"$f":"IF(DO47=0,0,(DO46*DO47+DO48*DO49*6)/DO47)","v":0},{"$f":"IF(DP47=0,0,(DP46*DP47+DP48*DP49*6)/DP47)","v":0},{"$f":"IF(DO45=0,0,(DP45-DO45)/DO45*100)","v":0},{"$f":"IF(DR47=0,0,(DR46*DR47+DR48*DR49*6)/DR47)","v":0},{"$f":"IF(DS47=0,0,(DS46*DS47+DS48*DS49*6)/DS47)","v":0},{"$f":"IF(DR45=0,0,(DS45-DR45)/DR45*100)","v":0},{"$f":"IF(DU47=0,0,(DU46*DU47+DU48*DU49*6)/DU47)","v":0},{"$f":"IF(DV47=0,0,(DV46*DV47+DV48*DV49*6)/DV47)","v":0},{"$f":"IF(DU45=0,0,(DV45-DU45)/DU45*100)","v":0},{"$f":"IF(DX47=0,0,(DX46*DX47+DX48*DX49*6)/DX47)","v":0},{"$f":"IF(DY47=0,0,(DY46*DY47+DY48*DY49*6)/DY47)","v":0},{"$f":"IF(DX45=0,0,(DY45-DX45)/DX45*100)","v":0},{"$f":"IF(EA47=0,0,(EA46*EA47+EA48*EA49*6)/EA47)","v":0},{"$f":"IF(EB47=0,0,(EB46*EB47+EB48*EB49*6)/EB47)","v":0},{"$f":"IF(EA45=0,0,(EB45-EA45)/EA45*100)","v":0},{"$f":"IF(ED47=0,0,(ED46*ED47+ED48*ED49*6)/ED47)","v":0},{"$f":"IF(EE47=0,0,(EE46*EE47+EE48*EE49*6)/EE47)","v":0},{"$f":"IF(ED45=0,0,(EE45-ED45)/ED45*100)","v":0},{"$f":"IF(EG47=0,0,(EG46*EG47+EG48*EG49*6)/EG47)","v":0},{"$f":"IF(EH47=0,0,(EH46*EH47+EH48*EH49*6)/EH47)","v":0},{"$f":"IF(EG45=0,0,(EH45-EG45)/EG45*100)","v":0},{"$f":"IF(EJ47=0,0,(EJ46*EJ47+EJ48*EJ49*6)/EJ47)","v":0},{"$f":"IF(EK47=0,0,(EK46*EK47+EK48*EK49*6)/EK47)","v":0},{"$f":"IF(EJ45=0,0,(EK45-EJ45)/EJ45*100)","v":0},{"$f":"IF(EM47=0,0,(EM46*EM47+EM48*EM49*6)/EM47)","v":0},{"$f":"IF(EN47=0,0,(EN46*EN47+EN48*EN49*6)/EN47)","v":0},{"$f":"IF(EM45=0,0,(EN45-EM45)/EM45*100)","v":0},{"$f":"IF(EP47=0,0,(EP46*EP47+EP48*EP49*6)/EP47)","v":0},{"$f":"IF(EQ47=0,0,(EQ46*EQ47+EQ48*EQ49*6)/EQ47)","v":0},{"$f":"IF(EP45=0,0,(EQ45-EP45)/EP45*100)","v":0},{"$f":"IF(ES47=0,0,(ES46*ES47+ES48*ES49*6)/ES47)","v":0},{"$f":"IF(ET47=0,0,(ET46*ET47+ET48*ET49*6)/ET47)","v":0},{"$f":"IF(ES45=0,0,(ET45-ES45)/ES45*100)","v":0},{"$f":"IF(EV47=0,0,(EV46*EV47+EV48*EV49*6)/EV47)","v":0},{"$f":"IF(EW47=0,0,(EW46*EW47+EW48*EW49*6)/EW47)","v":0},{"$f":"IF(EV45=0,0,(EW45-EV45)/EV45*100)","v":0},{"$f":"IF(EY47=0,0,(EY46*EY47+EY48*EY49*6)/EY47)","v":0},{"$f":"IF(EZ47=0,0,(EZ46*EZ47+EZ48*EZ49*6)/EZ47)","v":0},{"$f":"IF(EY45=0,0,(EZ45-EY45)/EY45*100)","v":0},{"$f":"IF(FB47=0,0,(FB46*FB47+FB48*FB49*6)/FB47)","v":0},{"$f":"IF(FC47=0,0,(FC46*FC47+FC48*FC49*6)/FC47)","v":0},{"$f":"IF(FB45=0,0,(FC45-FB45)/FB45*100)","v":0},{"$f":"IF(FE47=0,0,(FE46*FE47+FE48*FE49*6)/FE47)","v":0},{"$f":"IF(FF47=0,0,(FF46*FF47+FF48*FF49*6)/FF47)","v":0},{"$f":"IF(FE45=0,0,(FF45-FE45)/FE45*100)","v":0}]
["1",null,"L2_1_2","для населения с 01.01 по 30.06 с НДС",null,null,{"$f":"F17=\"двухставочный\"","v":false},null,null,null,null,"ставка платы за потребление 1 куб.м холодной воды","руб./куб.м",null,null,{"$f":"IF(N46=0,0,(O46-N46)/N46*100)","v":0},null,null,{"$f":"IF(Q46=0,0,(R46-Q46)/Q46*100)","v":0},null,null,{"$f":"IF(T46=0,0,(U46-T46)/T46*100)","v":0},null,null,{"$f":"IF(W46=0,0,(X46-W46)/W46*100)","v":0},null,null,{"$f":"IF(Z46=0,0,(AA46-Z46)/Z46*100)","v":0},null,null,{"$f":"IF(AC46=0,0,(AD46-AC46)/AC46*100)","v":0},null,null,{"$f":"IF(AF46=0,0,(AG46-AF46)/AF46*100)","v":0},null,null,{"$f":"IF(AI46=0,0,(AJ46-AI46)/AI46*100)","v":0},null,null,{"$f":"IF(AL46=0,0,(AM46-AL46)/AL46*100)","v":0},null,null,{"$f":"IF(AO46=0,0,(AP46-AO46)/AO46*100)","v":0},null,null,{"$f":"IF(AR46=0,0,(AS46-AR46)/AR46*100)","v":0},null,null,{"$f":"IF(AU46=0,0,(AV46-AU46)/AU46*100)","v":0},null,null,{"$f":"IF(AX46=0,0,(AY46-AX46)/AX46*100)","v":0},null,null,{"$f":"IF(BA46=0,0,(BB46-BA46)/BA46*100)","v":0},null,null,{"$f":"IF(BD46=0,0,(BE46-BD46)/BD46*100)","v":0},null,null,{"$f":"IF(BG46=0,0,(BH46-BG46)/BG46*100)","v":0},null,null,{"$f":"IF(BJ46=0,0,(BK46-BJ46)/BJ46*100)","v":0},null,null,{"$f":"IF(BM46=0,0,(BN46-BM46)/BM46*100)","v":0},null,null,{"$f":"IF(BP46=0,0,(BQ46-BP46)/BP46*100)","v":0},null,null,{"$f":"IF(BS46=0,0,(BT46-BS46)/BS46*100)","v":0},null,null,{"$f":"IF(BV46=0,0,(BW46-BV46)/BV46*100)","v":0},null,null,{"$f":"IF(BY46=0,0,(BZ46-BY46)/BY46*100)","v":0},null,null,{"$f":"IF(CB46=0,0,(CC46-CB46)/CB46*100)","v":0},null,null,{"$f":"IF(CE46=0,0,(CF46-CE46)/CE46*100)","v":0},null,null,{"$f":"IF(CH46=0,0,(CI46-CH46)/CH46*100)","v":0},null,null,{"$f":"IF(CK46=0,0,(CL46-CK46)/CK46*100)","v":0},null,null,{"$f":"IF(CN46=0,0,(CO46-CN46)/CN46*100)","v":0},null,null,{"$f":"IF(CQ46=0,0,(CR46-CQ46)/CQ46*100)","v":0},null,null,{"$f":"IF(CT46=0,0,(CU46-CT46)/CT46*100)","v":0},null,null,{"$f":"IF(CW46=0,0,(CX46-CW46)/CW46*100)","v":0},null,null,{"$f":"IF(CZ46=0,0,(DA46-CZ46)/CZ46*100)","v":0},null,null,{"$f":"IF(DC46=0,0,(DD46-DC46)/DC46*100)","v":0},null,null,{"$f":"IF(DF46=0,0,(DG46-DF46)/DF46*100)","v":0},null,null,{"$f":"IF(DI46=0,0,(DJ46-DI46)/DI46*100)","v":0},null,null,{"$f":"IF(DL46=0,0,(DM46-DL46)/DL46*100)","v":0},null,null,{"$f":"IF(DO46=0,0,(DP46-DO46)/DO46*100)","v":0},null,null,{"$f":"IF(DR46=0,0,(DS46-DR46)/DR46*100)","v":0},null,null,{"$f":"IF(DU46=0,0,(DV46-DU46)/DU46*100)","v":0},null,null,{"$f":"IF(DX46=0,0,(DY46-DX46)/DX46*100)","v":0},null,null,{"$f":"IF(EA46=0,0,(EB46-EA46)/EA46*100)","v":0},null,null,{"$f":"IF(ED46=0,0,(EE46-ED46)/ED46*100)","v":0},null,null,{"$f":"IF(EG46=0,0,(EH46-EG46)/EG46*100)","v":0},null,null,{"$f":"IF(EJ46=0,0,(EK46-EJ46)/EJ46*100)","v":0},null,null,{"$f":"IF(EM46=0,0,(EN46-EM46)/EM46*100)","v":0},null,null,{"$f":"IF(EP46=0,0,(EQ46-EP46)/EP46*100)","v":0},null,null,{"$f":"IF(ES46=0,0,(ET46-ES46)/ES46*100)","v":0},null,null,{"$f":"IF(EV46=0,0,(EW46-EV46)/EV46*100)","v":0},null,null,{"$f":"IF(EY46=0,0,(EZ46-EY46)/EY46*100)","v":0},null,null,{"$f":"IF(FB46=0,0,(FC46-FB46)/FB46*100)","v":0},null,null,{"$f":"IF(FE46=0,0,(FF46-FE46)/FE46*100)","v":0}]
["1","ПО.население.I","L2_1_3","для населения с 01.01 по 30.06 с НДС",null,null,{"$f":"F17=\"двухставочный\"","v":false},null,null,null,null,"объём потребления холодной воды","тыс.куб.м",{"$f":"SUMIFS(INDEX(Калькуляция!$T$15:$AM$268,,MATCH(N$3,Калькуляция!$T$3:$AM$3,0)),Калькуляция!$A$15:$A$268,$A47,Калькуляция!$B$15:$B$268,$B47)","v":0},{"$f":"SUMIFS(INDEX(Калькуляция!$T$15:$AM$268,,MATCH(O$3,Калькуляция!$T$3:$AM$3,0)),Калькуляция!$A$15:$A$268,$A47,Калькуляция!$B$15:$B$268,$B47)","v":0},{"$f":"IF(N47=0,0,(O47-N47)/N47*100)","v":0},{"$f":"SUMIFS(INDEX(Калькуляция!$T$15:$AM$268,,MATCH(Q$3,Калькуляция!$T$3:$AM$3,0)),Калькуляция!$A$15:$A$268,$A47,Калькуляция!$B$15:$B$268,$B47)","v":0},{"$f":"SUMIFS(INDEX(Калькуляция!$T$15:$AM$268,,MATCH(R$3,Калькуляция!$T$3:$AM$3,0)),Калькуляция!$A$15:$A$268,$A47,Калькуляция!$B$15:$B$268,$B47)","v":0},{"$f":"IF(Q47=0,0,(R47-Q47)/Q47*100)","v":0},{"$f":"SUMIFS(INDEX(Калькуляция!$T$15:$AM$268,,MATCH(T$3,Калькуляция!$T$3:$AM$3,0)),Калькуляция!$A$15:$A$268,$A47,Калькуляция!$B$15:$B$268,$B47)","v":0},{"$f":"SUMIFS(INDEX(Калькуляция!$T$15:$AM$268,,MATCH(U$3,Калькуляция!$T$3:$AM$3,0)),Калькуляция!$A$15:$A$268,$A47,Калькуляция!$B$15:$B$268,$B47)","v":0},{"$f":"IF(T47=0,0,(U47-T47)/T47*100)","v":0},{"$f":"SUMIFS(INDEX(Калькуляция!$T$15:$AM$268,,MATCH(W$3,Калькуляция!$T$3:$AM$3,0)),Калькуляция!$A$15:$A$268,$A47,Калькуляция!$B$15:$B$268,$B47)","v":0},{"$f":"SUMIFS(INDEX(Калькуляция!$T$15:$AM$268,,MATCH(X$3,Калькуляция!$T$3:$AM$3,0)),Калькуляция!$A$15:$A$268,$A47,Калькуляция!$B$15:$B$268,$B47)","v":0},{"$f":"IF(W47=0,0,(X47-W47)/W47*100)","v":0},{"$f":"SUMIFS(INDEX(Калькуляция!$T$15:$AM$268,,MATCH(Z$3,Калькуляция!$T$3:$AM$3,0)),Калькуляция!$A$15:$A$268,$A47,Калькуляция!$B$15:$B$268,$B47)","v":0},{"$f":"SUMIFS(INDEX(Калькуляция!$T$15:$AM$268,,MATCH(AA$3,Калькуляция!$T$3:$AM$3,0)),Калькуляция!$A$15:$A$268,$A47,Калькуляция!$B$15:$B$268,$B47)","v":0},{"$f":"IF(Z47=0,0,(AA47-Z47)/Z47*100)","v":0},{"$f":"SUMIFS(INDEX(Калькуляция!$T$15:$AM$268,,MATCH(AC$3,Калькуляция!$T$3:$AM$3,0)),Калькуляция!$A$15:$A$268,$A47,Калькуляция!$B$15:$B$268,$B47)","v":0},{"$f":"SUMIFS(INDEX(Калькуляция!$T$15:$AM$268,,MATCH(AD$3,Калькуляция!$T$3:$AM$3,0)),Калькуляция!$A$15:$A$268,$A47,Калькуляция!$B$15:$B$268,$B47)","v":0},{"$f":"IF(AC47=0,0,(AD47-AC47)/AC47*100)","v":0},{"$f":"SUMIFS(INDEX(Калькуляция!$T$15:$AM$268,,MATCH(AF$3,Калькуляция!$T$3:$AM$3,0)),Калькуляция!$A$15:$A$268,$A47,Калькуляция!$B$15:$B$268,$B47)","v":0},{"$f":"SUMIFS(INDEX(Калькуляция!$T$15:$AM$268,,MATCH(AG$3,Калькуляция!$T$3:$AM$3,0)),Калькуляция!$A$15:$A$268,$A47,Калькуляция!$B$15:$B$268,$B47)","v":0},{"$f":"IF(AF47=0,0,(AG47-AF47)/AF47*100)","v":0},{"$f":"SUMIFS(INDEX(Калькуляция!$T$15:$AM$268,,MATCH(AI$3,Калькуляция!$T$3:$AM$3,0)),Калькуляция!$A$15:$A$268,$A47,Калькуляция!$B$15:$B$268,$B47)","v":0},{"$f":"SUMIFS(INDEX(Калькуляция!$T$15:$AM$268,,MATCH(AJ$3,Калькуляция!$T$3:$AM$3,0)),Калькуляция!$A$15:$A$268,$A47,Калькуляция!$B$15:$B$268,$B47)","v":0},{"$f":"IF(AI47=0,0,(AJ47-AI47)/AI47*100)","v":0},{"$f":"SUMIFS(INDEX(Калькуляция!$T$15:$AM$268,,MATCH(AL$3,Калькуляция!$T$3:$AM$3,0)),Калькуляция!$A$15:$A$268,$A47,Калькуляция!$B$15:$B$268,$B47)","v":0},{"$f":"SUMIFS(INDEX(Калькуляция!$T$15:$AM$268,,MATCH(AM$3,Калькуляция!$T$3:$AM$3,0)),Калькуляция!$A$15:$A$268,$A47,Калькуляция!$B$15:$B$268,$B47)","v":0},{"$f":"IF(AL47=0,0,(AM47-AL47)/AL47*100)","v":0},{"$f":"SUMIFS(INDEX(Калькуляция!$T$15:$AM$268,,MATCH(AO$3,Калькуляция!$T$3:$AM$3,0)),Калькуляция!$A$15:$A$268,$A47,Калькуляция!$B$15:$B$268,$B47)","v":0},{"$f":"SUMIFS(INDEX(Калькуляция!$T$15:$AM$268,,MATCH(AP$3,Калькуляция!$T$3:$AM$3,0)),Калькуляция!$A$15:$A$268,$A47,Калькуляция!$B$15:$B$268,$B47)","v":0},{"$f":"IF(AO47=0,0,(AP47-AO47)/AO47*100)","v":0},null,null,{"$f":"IF(AR47=0,0,(AS47-AR47)/AR47*100)","v":0},null,null,{"$f":"IF(AU47=0,0,(AV47-AU47)/AU47*100)","v":0},null,null,{"$f":"IF(AX47=0,0,(AY47-AX47)/AX47*100)","v":0},null,null,{"$f":"IF(BA47=0,0,(BB47-BA47)/BA47*100)","v":0},null,null,{"$f":"IF(BD47=0,0,(BE47-BD47)/BD47*100)","v":0},null,null,{"$f":"IF(BG47=0,0,(BH47-BG47)/BG47*100)","v":0},null,null,{"$f":"IF(BJ47=0,0,(BK47-BJ47)/BJ47*100)","v":0},null,null,{"$f":"IF(BM47=0,0,(BN47-BM47)/BM47*100)","v":0},null,null,{"$f":"IF(BP47=0,0,(BQ47-BP47)/BP47*100)","v":0},null,null,{"$f":"IF(BS47=0,0,(BT47-BS47)/BS47*100)","v":0},null,null,{"$f":"IF(BV47=0,0,(BW47-BV47)/BV47*100)","v":0},null,null,{"$f":"IF(BY47=0,0,(BZ47-BY47)/BY47*100)","v":0},null,null,{"$f":"IF(CB47=0,0,(CC47-CB47)/CB47*100)","v":0},null,null,{"$f":"IF(CE47=0,0,(CF47-CE47)/CE47*100)","v":0},null,null,{"$f":"IF(CH47=0,0,(CI47-CH47)/CH47*100)","v":0},null,null,{"$f":"IF(CK47=0,0,(CL47-CK47)/CK47*100)","v":0},null,null,{"$f":"IF(CN47=0,0,(CO47-CN47)/CN47*100)","v":0},null,null,{"$f":"IF(CQ47=0,0,(CR47-CQ47)/CQ47*100)","v":0},null,null,{"$f":"IF(CT47=0,0,(CU47-CT47)/CT47*100)","v":0},null,null,{"$f":"IF(CW47=0,0,(CX47-CW47)/CW47*100)","v":0},null,null,{"$f":"IF(CZ47=0,0,(DA47-CZ47)/CZ47*100)","v":0},null,null,{"$f":"IF(DC47=0,0,(DD47-DC47)/DC47*100)","v":0},null,null,{"$f":"IF(DF47=0,0,(DG47-DF47)/DF47*100)","v":0},null,null,{"$f":"IF(DI47=0,0,(DJ47-DI47)/DI47*100)","v":0},null,null,{"$f":"IF(DL47=0,0,(DM47-DL47)/DL47*100)","v":0},null,null,{"$f":"IF(DO47=0,0,(DP47-DO47)/DO47*100)","v":0},null,null,{"$f":"IF(DR47=0,0,(DS47-DR47)/DR47*100)","v":0},null,null,{"$f":"IF(DU47=0,0,(DV47-DU47)/DU47*100)","v":0},null,null,{"$f":"IF(DX47=0,0,(DY47-DX47)/DX47*100)","v":0},null,null,{"$f":"IF(EA47=0,0,(EB47-EA47)/EA47*100)","v":0},null,null,{"$f":"IF(ED47=0,0,(EE47-ED47)/ED47*100)","v":0},null,null,{"$f":"IF(EG47=0,0,(EH47-EG47)/EG47*100)","v":0},null,null,{"$f":"IF(EJ47=0,0,(EK47-EJ47)/EJ47*100)","v":0},null,null,{"$f":"IF(EM47=0,0,(EN47-EM47)/EM47*100)","v":0},null,null,{"$f":"IF(EP47=0,0,(EQ47-EP47)/EP47*100)","v":0},null,null,{"$f":"IF(ES47=0,0,(ET47-ES47)/ES47*100)","v":0},null,null,{"$f":"IF(EV47=0,0,(EW47-EV47)/EV47*100)","v":0},null,null,{"$f":"IF(EY47=0,0,(EZ47-EY47)/EY47*100)","v":0},null,null,{"$f":"IF(FB47=0,0,(FC47-FB47)/FB47*100)","v":0},null,null,{"$f":"IF(FE47=0,0,(FF47-FE47)/FE47*100)","v":0}]
["1",null,"L2_1_4","для населения с 01.01 по 30.06 с НДС",null,null,{"$f":"F17=\"двухставочный\"","v":false},null,null,null,null,"ставка платы за содержание системы холодного водоснабжения","тыс.руб./куб.м*час/в месяц",null,null,{"$f":"IF(N48=0,0,(O48-N48)/N48*100)","v":0},null,null,{"$f":"IF(Q48=0,0,(R48-Q48)/Q48*100)","v":0},null,null,{"$f":"IF(T48=0,0,(U48-T48)/T48*100)","v":0},null,null,{"$f":"IF(W48=0,0,(X48-W48)/W48*100)","v":0},null,null,{"$f":"IF(Z48=0,0,(AA48-Z48)/Z48*100)","v":0},null,null,{"$f":"IF(AC48=0,0,(AD48-AC48)/AC48*100)","v":0},null,null,{"$f":"IF(AF48=0,0,(AG48-AF48)/AF48*100)","v":0},null,null,{"$f":"IF(AI48=0,0,(AJ48-AI48)/AI48*100)","v":0},null,null,{"$f":"IF(AL48=0,0,(AM48-AL48)/AL48*100)","v":0},null,null,{"$f":"IF(AO48=0,0,(AP48-AO48)/AO48*100)","v":0},null,null,{"$f":"IF(AR48=0,0,(AS48-AR48)/AR48*100)","v":0},null,null,{"$f":"IF(AU48=0,0,(AV48-AU48)/AU48*100)","v":0},null,null,{"$f":"IF(AX48=0,0,(AY48-AX48)/AX48*100)","v":0},null,null,{"$f":"IF(BA48=0,0,(BB48-BA48)/BA48*100)","v":0},null,null,{"$f":"IF(BD48=0,0,(BE48-BD48)/BD48*100)","v":0},null,null,{"$f":"IF(BG48=0,0,(BH48-BG48)/BG48*100)","v":0},null,null,{"$f":"IF(BJ48=0,0,(BK48-BJ48)/BJ48*100)","v":0},null,null,{"$f":"IF(BM48=0,0,(BN48-BM48)/BM48*100)","v":0},null,null,{"$f":"IF(BP48=0,0,(BQ48-BP48)/BP48*100)","v":0},null,null,{"$f":"IF(BS48=0,0,(BT48-BS48)/BS48*100)","v":0},null,null,{"$f":"IF(BV48=0,0,(BW48-BV48)/BV48*100)","v":0},null,null,{"$f":"IF(BY48=0,0,(BZ48-BY48)/BY48*100)","v":0},null,null,{"$f":"IF(CB48=0,0,(CC48-CB48)/CB48*100)","v":0},null,null,{"$f":"IF(CE48=0,0,(CF48-CE48)/CE48*100)","v":0},null,null,{"$f":"IF(CH48=0,0,(CI48-CH48)/CH48*100)","v":0},null,null,{"$f":"IF(CK48=0,0,(CL48-CK48)/CK48*100)","v":0},null,null,{"$f":"IF(CN48=0,0,(CO48-CN48)/CN48*100)","v":0},null,null,{"$f":"IF(CQ48=0,0,(CR48-CQ48)/CQ48*100)","v":0},null,null,{"$f":"IF(CT48=0,0,(CU48-CT48)/CT48*100)","v":0},null,null,{"$f":"IF(CW48=0,0,(CX48-CW48)/CW48*100)","v":0},null,null,{"$f":"IF(CZ48=0,0,(DA48-CZ48)/CZ48*100)","v":0},null,null,{"$f":"IF(DC48=0,0,(DD48-DC48)/DC48*100)","v":0},null,null,{"$f":"IF(DF48=0,0,(DG48-DF48)/DF48*100)","v":0},null,null,{"$f":"IF(DI48=0,0,(DJ48-DI48)/DI48*100)","v":0},null,null,{"$f":"IF(DL48=0,0,(DM48-DL48)/DL48*100)","v":0},null,null,{"$f":"IF(DO48=0,0,(DP48-DO48)/DO48*100)","v":0},null,null,{"$f":"IF(DR48=0,0,(DS48-DR48)/DR48*100)","v":0},null,null,{"$f":"IF(DU48=0,0,(DV48-DU48)/DU48*100)","v":0},null,null,{"$f":"IF(DX48=0,0,(DY48-DX48)/DX48*100)","v":0},null,null,{"$f":"IF(EA48=0,0,(EB48-EA48)/EA48*100)","v":0},null,null,{"$f":"IF(ED48=0,0,(EE48-ED48)/ED48*100)","v":0},null,null,{"$f":"IF(EG48=0,0,(EH48-EG48)/EG48*100)","v":0},null,null,{"$f":"IF(EJ48=0,0,(EK48-EJ48)/EJ48*100)","v":0},null,null,{"$f":"IF(EM48=0,0,(EN48-EM48)/EM48*100)","v":0},null,null,{"$f":"IF(EP48=0,0,(EQ48-EP48)/EP48*100)","v":0},null,null,{"$f":"IF(ES48=0,0,(ET48-ES48)/ES48*100)","v":0},null,null,{"$f":"IF(EV48=0,0,(EW48-EV48)/EV48*100)","v":0},null,null,{"$f":"IF(EY48=0,0,(EZ48-EY48)/EY48*100)","v":0},null,null,{"$f":"IF(FB48=0,0,(FC48-FB48)/FB48*100)","v":0},null,null,{"$f":"IF(FE48=0,0,(FF48-FE48)/FE48*100)","v":0}]
["1",null,"L2_1_5","для населения с 01.01 по 30.06 с НДС",null,null,{"$f":"F17=\"двухставочный\"","v":false},null,null,null,null,"величина присоединённой мощности","куб.м*час",null,null,{"$f":"IF(N49=0,0,(O49-N49)/N49*100)","v":0},null,null,{"$f":"IF(Q49=0,0,(R49-Q49)/Q49*100)","v":0},null,null,{"$f":"IF(T49=0,0,(U49-T49)/T49*100)","v":0},null,null,{"$f":"IF(W49=0,0,(X49-W49)/W49*100)","v":0},null,null,{"$f":"IF(Z49=0,0,(AA49-Z49)/Z49*100)","v":0},null,null,{"$f":"IF(AC49=0,0,(AD49-AC49)/AC49*100)","v":0},null,null,{"$f":"IF(AF49=0,0,(AG49-AF49)/AF49*100)","v":0},null,null,{"$f":"IF(AI49=0,0,(AJ49-AI49)/AI49*100)","v":0},null,null,{"$f":"IF(AL49=0,0,(AM49-AL49)/AL49*100)","v":0},null,null,{"$f":"IF(AO49=0,0,(AP49-AO49)/AO49*100)","v":0},null,null,{"$f":"IF(AR49=0,0,(AS49-AR49)/AR49*100)","v":0},null,null,{"$f":"IF(AU49=0,0,(AV49-AU49)/AU49*100)","v":0},null,null,{"$f":"IF(AX49=0,0,(AY49-AX49)/AX49*100)","v":0},null,null,{"$f":"IF(BA49=0,0,(BB49-BA49)/BA49*100)","v":0},null,null,{"$f":"IF(BD49=0,0,(BE49-BD49)/BD49*100)","v":0},null,null,{"$f":"IF(BG49=0,0,(BH49-BG49)/BG49*100)","v":0},null,null,{"$f":"IF(BJ49=0,0,(BK49-BJ49)/BJ49*100)","v":0},null,null,{"$f":"IF(BM49=0,0,(BN49-BM49)/BM49*100)","v":0},null,null,{"$f":"IF(BP49=0,0,(BQ49-BP49)/BP49*100)","v":0},null,null,{"$f":"IF(BS49=0,0,(BT49-BS49)/BS49*100)","v":0},null,null,{"$f":"IF(BV49=0,0,(BW49-BV49)/BV49*100)","v":0},null,null,{"$f":"IF(BY49=0,0,(BZ49-BY49)/BY49*100)","v":0},null,null,{"$f":"IF(CB49=0,0,(CC49-CB49)/CB49*100)","v":0},null,null,{"$f":"IF(CE49=0,0,(CF49-CE49)/CE49*100)","v":0},null,null,{"$f":"IF(CH49=0,0,(CI49-CH49)/CH49*100)","v":0},null,null,{"$f":"IF(CK49=0,0,(CL49-CK49)/CK49*100)","v":0},null,null,{"$f":"IF(CN49=0,0,(CO49-CN49)/CN49*100)","v":0},null,null,{"$f":"IF(CQ49=0,0,(CR49-CQ49)/CQ49*100)","v":0},null,null,{"$f":"IF(CT49=0,0,(CU49-CT49)/CT49*100)","v":0},null,null,{"$f":"IF(CW49=0,0,(CX49-CW49)/CW49*100)","v":0},null,null,{"$f":"IF(CZ49=0,0,(DA49-CZ49)/CZ49*100)","v":0},null,null,{"$f":"IF(DC49=0,0,(DD49-DC49)/DC49*100)","v":0},null,null,{"$f":"IF(DF49=0,0,(DG49-DF49)/DF49*100)","v":0},null,null,{"$f":"IF(DI49=0,0,(DJ49-DI49)/DI49*100)","v":0},null,null,{"$f":"IF(DL49=0,0,(DM49-DL49)/DL49*100)","v":0},null,null,{"$f":"IF(DO49=0,0,(DP49-DO49)/DO49*100)","v":0},null,null,{"$f":"IF(DR49=0,0,(DS49-DR49)/DR49*100)","v":0},null,null,{"$f":"IF(DU49=0,0,(DV49-DU49)/DU49*100)","v":0},null,null,{"$f":"IF(DX49=0,0,(DY49-DX49)/DX49*100)","v":0},null,null,{"$f":"IF(EA49=0,0,(EB49-EA49)/EA49*100)","v":0},null,null,{"$f":"IF(ED49=0,0,(EE49-ED49)/ED49*100)","v":0},null,null,{"$f":"IF(EG49=0,0,(EH49-EG49)/EG49*100)","v":0},null,null,{"$f":"IF(EJ49=0,0,(EK49-EJ49)/EJ49*100)","v":0},null,null,{"$f":"IF(EM49=0,0,(EN49-EM49)/EM49*100)","v":0},null,null,{"$f":"IF(EP49=0,0,(EQ49-EP49)/EP49*100)","v":0},null,null,{"$f":"IF(ES49=0,0,(ET49-ES49)/ES49*100)","v":0},null,null,{"$f":"IF(EV49=0,0,(EW49-EV49)/EV49*100)","v":0},null,null,{"$f":"IF(EY49=0,0,(EZ49-EY49)/EY49*100)","v":0},null,null,{"$f":"IF(FB49=0,0,(FC49-FB49)/FB49*100)","v":0},null,null,{"$f":"IF(FE49=0,0,(FF49-FE49)/FE49*100)","v":0}]
["1",null,null,null,null,null,{"$f":"F17=\"двухставочный\"","v":false},null,null,null,null,"Тариф с 01.01 по 30.06 для населения с НДС:"]
["1",null,"L2_1_1","для населения с 01.07 по 31.12 с НДС",null,null,{"$f":"F17=\"двухставочный\"","v":false},null,null,null,null,"перевод двухставочного тарифа в одноставочный тариф","руб./куб.м",{"$f":"IF(N53=0,0,(N52*N53+N54*N55*6)/N53)","v":0},{"$f":"IF(O53=0,0,(O52*O53+O54*O55*6)/O53)","v":0},{"$f":"IF(N51=0,0,(O51-N51)/N51*100)","v":0},{"$f":"IF(Q53=0,0,(Q52*Q53+Q54*Q55*6)/Q53)","v":0},{"$f":"IF(R53=0,0,(R52*R53+R54*R55*6)/R53)","v":0},{"$f":"IF(Q51=0,0,(R51-Q51)/Q51*100)","v":0},{"$f":"IF(T53=0,0,(T52*T53+T54*T55*6)/T53)","v":0},{"$f":"IF(U53=0,0,(U52*U53+U54*U55*6)/U53)","v":0},{"$f":"IF(T51=0,0,(U51-T51)/T51*100)","v":0},{"$f":"IF(W53=0,0,(W52*W53+W54*W55*6)/W53)","v":0},{"$f":"IF(X53=0,0,(X52*X53+X54*X55*6)/X53)","v":0},{"$f":"IF(W51=0,0,(X51-W51)/W51*100)","v":0},{"$f":"IF(Z53=0,0,(Z52*Z53+Z54*Z55*6)/Z53)","v":0},{"$f":"IF(AA53=0,0,(AA52*AA53+AA54*AA55*6)/AA53)","v":0},{"$f":"IF(Z51=0,0,(AA51-Z51)/Z51*100)","v":0},{"$f":"IF(AC53=0,0,(AC52*AC53+AC54*AC55*6)/AC53)","v":0},{"$f":"IF(AD53=0,0,(AD52*AD53+AD54*AD55*6)/AD53)","v":0},{"$f":"IF(AC51=0,0,(AD51-AC51)/AC51*100)","v":0},{"$f":"IF(AF53=0,0,(AF52*AF53+AF54*AF55*6)/AF53)","v":0},{"$f":"IF(AG53=0,0,(AG52*AG53+AG54*AG55*6)/AG53)","v":0},{"$f":"IF(AF51=0,0,(AG51-AF51)/AF51*100)","v":0},{"$f":"IF(AI53=0,0,(AI52*AI53+AI54*AI55*6)/AI53)","v":0},{"$f":"IF(AJ53=0,0,(AJ52*AJ53+AJ54*AJ55*6)/AJ53)","v":0},{"$f":"IF(AI51=0,0,(AJ51-AI51)/AI51*100)","v":0},{"$f":"IF(AL53=0,0,(AL52*AL53+AL54*AL55*6)/AL53)","v":0},{"$f":"IF(AM53=0,0,(AM52*AM53+AM54*AM55*6)/AM53)","v":0},{"$f":"IF(AL51=0,0,(AM51-AL51)/AL51*100)","v":0},{"$f":"IF(AO53=0,0,(AO52*AO53+AO54*AO55*6)/AO53)","v":0},{"$f":"IF(AP53=0,0,(AP52*AP53+AP54*AP55*6)/AP53)","v":0},{"$f":"IF(AO51=0,0,(AP51-AO51)/AO51*100)","v":0},{"$f":"IF(AR53=0,0,(AR52*AR53+AR54*AR55*6)/AR53)","v":0},{"$f":"IF(AS53=0,0,(AS52*AS53+AS54*AS55*6)/AS53)","v":0},{"$f":"IF(AR51=0,0,(AS51-AR51)/AR51*100)","v":0},{"$f":"IF(AU53=0,0,(AU52*AU53+AU54*AU55*6)/AU53)","v":0},{"$f":"IF(AV53=0,0,(AV52*AV53+AV54*AV55*6)/AV53)","v":0},{"$f":"IF(AU51=0,0,(AV51-AU51)/AU51*100)","v":0},{"$f":"IF(AX53=0,0,(AX52*AX53+AX54*AX55*6)/AX53)","v":0},{"$f":"IF(AY53=0,0,(AY52*AY53+AY54*AY55*6)/AY53)","v":0},{"$f":"IF(AX51=0,0,(AY51-AX51)/AX51*100)","v":0},{"$f":"IF(BA53=0,0,(BA52*BA53+BA54*BA55*6)/BA53)","v":0},{"$f":"IF(BB53=0,0,(BB52*BB53+BB54*BB55*6)/BB53)","v":0},{"$f":"IF(BA51=0,0,(BB51-BA51)/BA51*100)","v":0},{"$f":"IF(BD53=0,0,(BD52*BD53+BD54*BD55*6)/BD53)","v":0},{"$f":"IF(BE53=0,0,(BE52*BE53+BE54*BE55*6)/BE53)","v":0},{"$f":"IF(BD51=0,0,(BE51-BD51)/BD51*100)","v":0},{"$f":"IF(BG53=0,0,(BG52*BG53+BG54*BG55*6)/BG53)","v":0},{"$f":"IF(BH53=0,0,(BH52*BH53+BH54*BH55*6)/BH53)","v":0},{"$f":"IF(BG51=0,0,(BH51-BG51)/BG51*100)","v":0},{"$f":"IF(BJ53=0,0,(BJ52*BJ53+BJ54*BJ55*6)/BJ53)","v":0},{"$f":"IF(BK53=0,0,(BK52*BK53+BK54*BK55*6)/BK53)","v":0},{"$f":"IF(BJ51=0,0,(BK51-BJ51)/BJ51*100)","v":0},{"$f":"IF(BM53=0,0,(BM52*BM53+BM54*BM55*6)/BM53)","v":0},{"$f":"IF(BN53=0,0,(BN52*BN53+BN54*BN55*6)/BN53)","v":0},{"$f":"IF(BM51=0,0,(BN51-BM51)/BM51*100)","v":0},{"$f":"IF(BP53=0,0,(BP52*BP53+BP54*BP55*6)/BP53)","v":0},{"$f":"IF(BQ53=0,0,(BQ52*BQ53+BQ54*BQ55*6)/BQ53)","v":0},{"$f":"IF(BP51=0,0,(BQ51-BP51)/BP51*100)","v":0},{"$f":"IF(BS53=0,0,(BS52*BS53+BS54*BS55*6)/BS53)","v":0},{"$f":"IF(BT53=0,0,(BT52*BT53+BT54*BT55*6)/BT53)","v":0},{"$f":"IF(BS51=0,0,(BT51-BS51)/BS51*100)","v":0},{"$f":"IF(BV53=0,0,(BV52*BV53+BV54*BV55*6)/BV53)","v":0},{"$f":"IF(BW53=0,0,(BW52*BW53+BW54*BW55*6)/BW53)","v":0},{"$f":"IF(BV51=0,0,(BW51-BV51)/BV51*100)","v":0},{"$f":"IF(BY53=0,0,(BY52*BY53+BY54*BY55*6)/BY53)","v":0},{"$f":"IF(BZ53=0,0,(BZ52*BZ53+BZ54*BZ55*6)/BZ53)","v":0},{"$f":"IF(BY51=0,0,(BZ51-BY51)/BY51*100)","v":0},{"$f":"IF(CB53=0,0,(CB52*CB53+CB54*CB55*6)/CB53)","v":0},{"$f":"IF(CC53=0,0,(CC52*CC53+CC54*CC55*6)/CC53)","v":0},{"$f":"IF(CB51=0,0,(CC51-CB51)/CB51*100)","v":0},{"$f":"IF(CE53=0,0,(CE52*CE53+CE54*CE55*6)/CE53)","v":0},{"$f":"IF(CF53=0,0,(CF52*CF53+CF54*CF55*6)/CF53)","v":0},{"$f":"IF(CE51=0,0,(CF51-CE51)/CE51*100)","v":0},{"$f":"IF(CH53=0,0,(CH52*CH53+CH54*CH55*6)/CH53)","v":0},{"$f":"IF(CI53=0,0,(CI52*CI53+CI54*CI55*6)/CI53)","v":0},{"$f":"IF(CH51=0,0,(CI51-CH51)/CH51*100)","v":0},{"$f":"IF(CK53=0,0,(CK52*CK53+CK54*CK55*6)/CK53)","v":0},{"$f":"IF(CL53=0,0,(CL52*CL53+CL54*CL55*6)/CL53)","v":0},{"$f":"IF(CK51=0,0,(CL51-CK51)/CK51*100)","v":0},{"$f":"IF(CN53=0,0,(CN52*CN53+CN54*CN55*6)/CN53)","v":0},{"$f":"IF(CO53=0,0,(CO52*CO53+CO54*CO55*6)/CO53)","v":0},{"$f":"IF(CN51=0,0,(CO51-CN51)/CN51*100)","v":0},{"$f":"IF(CQ53=0,0,(CQ52*CQ53+CQ54*CQ55*6)/CQ53)","v":0},{"$f":"IF(CR53=0,0,(CR52*CR53+CR54*CR55*6)/CR53)","v":0},{"$f":"IF(CQ51=0,0,(CR51-CQ51)/CQ51*100)","v":0},{"$f":"IF(CT53=0,0,(CT52*CT53+CT54*CT55*6)/CT53)","v":0},{"$f":"IF(CU53=0,0,(CU52*CU53+CU54*CU55*6)/CU53)","v":0},{"$f":"IF(CT51=0,0,(CU51-CT51)/CT51*100)","v":0},{"$f":"IF(CW53=0,0,(CW52*CW53+CW54*CW55*6)/CW53)","v":0},{"$f":"IF(CX53=0,0,(CX52*CX53+CX54*CX55*6)/CX53)","v":0},{"$f":"IF(CW51=0,0,(CX51-CW51)/CW51*100)","v":0},{"$f":"IF(CZ53=0,0,(CZ52*CZ53+CZ54*CZ55*6)/CZ53)","v":0},{"$f":"IF(DA53=0,0,(DA52*DA53+DA54*DA55*6)/DA53)","v":0},{"$f":"IF(CZ51=0,0,(DA51-CZ51)/CZ51*100)","v":0},{"$f":"IF(DC53=0,0,(DC52*DC53+DC54*DC55*6)/DC53)","v":0},{"$f":"IF(DD53=0,0,(DD52*DD53+DD54*DD55*6)/DD53)","v":0},{"$f":"IF(DC51=0,0,(DD51-DC51)/DC51*100)","v":0},{"$f":"IF(DF53=0,0,(DF52*DF53+DF54*DF55*6)/DF53)","v":0},{"$f":"IF(DG53=0,0,(DG52*DG53+DG54*DG55*6)/DG53)","v":0},{"$f":"IF(DF51=0,0,(DG51-DF51)/DF51*100)","v":0},{"$f":"IF(DI53=0,0,(DI52*DI53+DI54*DI55*6)/DI53)","v":0},{"$f":"IF(DJ53=0,0,(DJ52*DJ53+DJ54*DJ55*6)/DJ53)","v":0},{"$f":"IF(DI51=0,0,(DJ51-DI51)/DI51*100)","v":0},{"$f":"IF(DL53=0,0,(DL52*DL53+DL54*DL55*6)/DL53)","v":0},{"$f":"IF(DM53=0,0,(DM52*DM53+DM54*DM55*6)/DM53)","v":0},{"$f":"IF(DL51=0,0,(DM51-DL51)/DL51*100)","v":0},{"$f":"IF(DO53=0,0,(DO52*DO53+DO54*DO55*6)/DO53)","v":0},{"$f":"IF(DP53=0,0,(DP52*DP53+DP54*DP55*6)/DP53)","v":0},{"$f":"IF(DO51=0,0,(DP51-DO51)/DO51*100)","v":0},{"$f":"IF(DR53=0,0,(DR52*DR53+DR54*DR55*6)/DR53)","v":0},{"$f":"IF(DS53=0,0,(DS52*DS53+DS54*DS55*6)/DS53)","v":0},{"$f":"IF(DR51=0,0,(DS51-DR51)/DR51*100)","v":0},{"$f":"IF(DU53=0,0,(DU52*DU53+DU54*DU55*6)/DU53)","v":0},{"$f":"IF(DV53=0,0,(DV52*DV53+DV54*DV55*6)/DV53)","v":0},{"$f":"IF(DU51=0,0,(DV51-DU51)/DU51*100)","v":0},{"$f":"IF(DX53=0,0,(DX52*DX53+DX54*DX55*6)/DX53)","v":0},{"$f":"IF(DY53=0,0,(DY52*DY53+DY54*DY55*6)/DY53)","v":0},{"$f":"IF(DX51=0,0,(DY51-DX51)/DX51*100)","v":0},{"$f":"IF(EA53=0,0,(EA52*EA53+EA54*EA55*6)/EA53)","v":0},{"$f":"IF(EB53=0,0,(EB52*EB53+EB54*EB55*6)/EB53)","v":0},{"$f":"IF(EA51=0,0,(EB51-EA51)/EA51*100)","v":0},{"$f":"IF(ED53=0,0,(ED52*ED53+ED54*ED55*6)/ED53)","v":0},{"$f":"IF(EE53=0,0,(EE52*EE53+EE54*EE55*6)/EE53)","v":0},{"$f":"IF(ED51=0,0,(EE51-ED51)/ED51*100)","v":0},{"$f":"IF(EG53=0,0,(EG52*EG53+EG54*EG55*6)/EG53)","v":0},{"$f":"IF(EH53=0,0,(EH52*EH53+EH54*EH55*6)/EH53)","v":0},{"$f":"IF(EG51=0,0,(EH51-EG51)/EG51*100)","v":0},{"$f":"IF(EJ53=0,0,(EJ52*EJ53+EJ54*EJ55*6)/EJ53)","v":0},{"$f":"IF(EK53=0,0,(EK52*EK53+EK54*EK55*6)/EK53)","v":0},{"$f":"IF(EJ51=0,0,(EK51-EJ51)/EJ51*100)","v":0},{"$f":"IF(EM53=0,0,(EM52*EM53+EM54*EM55*6)/EM53)","v":0},{"$f":"IF(EN53=0,0,(EN52*EN53+EN54*EN55*6)/EN53)","v":0},{"$f":"IF(EM51=0,0,(EN51-EM51)/EM51*100)","v":0},{"$f":"IF(EP53=0,0,(EP52*EP53+EP54*EP55*6)/EP53)","v":0},{"$f":"IF(EQ53=0,0,(EQ52*EQ53+EQ54*EQ55*6)/EQ53)","v":0},{"$f":"IF(EP51=0,0,(EQ51-EP51)/EP51*100)","v":0},{"$f":"IF(ES53=0,0,(ES52*ES53+ES54*ES55*6)/ES53)","v":0},{"$f":"IF(ET53=0,0,(ET52*ET53+ET54*ET55*6)/ET53)","v":0},{"$f":"IF(ES51=0,0,(ET51-ES51)/ES51*100)","v":0},{"$f":"IF(EV53=0,0,(EV52*EV53+EV54*EV55*6)/EV53)","v":0},{"$f":"IF(EW53=0,0,(EW52*EW53+EW54*EW55*6)/EW53)","v":0},{"$f":"IF(EV51=0,0,(EW51-EV51)/EV51*100)","v":0},{"$f":"IF(EY53=0,0,(EY52*EY53+EY54*EY55*6)/EY53)","v":0},{"$f":"IF(EZ53=0,0,(EZ52*EZ53+EZ54*EZ55*6)/EZ53)","v":0},{"$f":"IF(EY51=0,0,(EZ51-EY51)/EY51*100)","v":0},{"$f":"IF(FB53=0,0,(FB52*FB53+FB54*FB55*6)/FB53)","v":0},{"$f":"IF(FC53=0,0,(FC52*FC53+FC54*FC55*6)/FC53)","v":0},{"$f":"IF(FB51=0,0,(FC51-FB51)/FB51*100)","v":0},{"$f":"IF(FE53=0,0,(FE52*FE53+FE54*FE55*6)/FE53)","v":0},{"$f":"IF(FF53=0,0,(FF52*FF53+FF54*FF55*6)/FF53)","v":0},{"$f":"IF(FE51=0,0,(FF51-FE51)/FE51*100)","v":0}]
["1",null,"L2_1_2","для населения с 01.07 по 31.12 с НДС",null,null,{"$f":"F17=\"двухставочный\"","v":false},null,null,null,null,"ставка платы за потребление 1 куб.м холодной воды","руб./куб.м",null,null,{"$f":"IF(N52=0,0,(O52-N52)/N52*100)","v":0},null,null,{"$f":"IF(Q52=0,0,(R52-Q52)/Q52*100)","v":0},null,null,{"$f":"IF(T52=0,0,(U52-T52)/T52*100)","v":0},null,null,{"$f":"IF(W52=0,0,(X52-W52)/W52*100)","v":0},null,null,{"$f":"IF(Z52=0,0,(AA52-Z52)/Z52*100)","v":0},null,null,{"$f":"IF(AC52=0,0,(AD52-AC52)/AC52*100)","v":0},null,null,{"$f":"IF(AF52=0,0,(AG52-AF52)/AF52*100)","v":0},null,null,{"$f":"IF(AI52=0,0,(AJ52-AI52)/AI52*100)","v":0},null,null,{"$f":"IF(AL52=0,0,(AM52-AL52)/AL52*100)","v":0},null,null,{"$f":"IF(AO52=0,0,(AP52-AO52)/AO52*100)","v":0},null,null,{"$f":"IF(AR52=0,0,(AS52-AR52)/AR52*100)","v":0},null,null,{"$f":"IF(AU52=0,0,(AV52-AU52)/AU52*100)","v":0},null,null,{"$f":"IF(AX52=0,0,(AY52-AX52)/AX52*100)","v":0},null,null,{"$f":"IF(BA52=0,0,(BB52-BA52)/BA52*100)","v":0},null,null,{"$f":"IF(BD52=0,0,(BE52-BD52)/BD52*100)","v":0},null,null,{"$f":"IF(BG52=0,0,(BH52-BG52)/BG52*100)","v":0},null,null,{"$f":"IF(BJ52=0,0,(BK52-BJ52)/BJ52*100)","v":0},null,null,{"$f":"IF(BM52=0,0,(BN52-BM52)/BM52*100)","v":0},null,null,{"$f":"IF(BP52=0,0,(BQ52-BP52)/BP52*100)","v":0},null,null,{"$f":"IF(BS52=0,0,(BT52-BS52)/BS52*100)","v":0},null,null,{"$f":"IF(BV52=0,0,(BW52-BV52)/BV52*100)","v":0},null,null,{"$f":"IF(BY52=0,0,(BZ52-BY52)/BY52*100)","v":0},null,null,{"$f":"IF(CB52=0,0,(CC52-CB52)/CB52*100)","v":0},null,null,{"$f":"IF(CE52=0,0,(CF52-CE52)/CE52*100)","v":0},null,null,{"$f":"IF(CH52=0,0,(CI52-CH52)/CH52*100)","v":0},null,null,{"$f":"IF(CK52=0,0,(CL52-CK52)/CK52*100)","v":0},null,null,{"$f":"IF(CN52=0,0,(CO52-CN52)/CN52*100)","v":0},null,null,{"$f":"IF(CQ52=0,0,(CR52-CQ52)/CQ52*100)","v":0},null,null,{"$f":"IF(CT52=0,0,(CU52-CT52)/CT52*100)","v":0},null,null,{"$f":"IF(CW52=0,0,(CX52-CW52)/CW52*100)","v":0},null,null,{"$f":"IF(CZ52=0,0,(DA52-CZ52)/CZ52*100)","v":0},null,null,{"$f":"IF(DC52=0,0,(DD52-DC52)/DC52*100)","v":0},null,null,{"$f":"IF(DF52=0,0,(DG52-DF52)/DF52*100)","v":0},null,null,{"$f":"IF(DI52=0,0,(DJ52-DI52)/DI52*100)","v":0},null,null,{"$f":"IF(DL52=0,0,(DM52-DL52)/DL52*100)","v":0},null,null,{"$f":"IF(DO52=0,0,(DP52-DO52)/DO52*100)","v":0},null,null,{"$f":"IF(DR52=0,0,(DS52-DR52)/DR52*100)","v":0},null,null,{"$f":"IF(DU52=0,0,(DV52-DU52)/DU52*100)","v":0},null,null,{"$f":"IF(DX52=0,0,(DY52-DX52)/DX52*100)","v":0},null,null,{"$f":"IF(EA52=0,0,(EB52-EA52)/EA52*100)","v":0},null,null,{"$f":"IF(ED52=0,0,(EE52-ED52)/ED52*100)","v":0},null,null,{"$f":"IF(EG52=0,0,(EH52-EG52)/EG52*100)","v":0},null,null,{"$f":"IF(EJ52=0,0,(EK52-EJ52)/EJ52*100)","v":0},null,null,{"$f":"IF(EM52=0,0,(EN52-EM52)/EM52*100)","v":0},null,null,{"$f":"IF(EP52=0,0,(EQ52-EP52)/EP52*100)","v":0},null,null,{"$f":"IF(ES52=0,0,(ET52-ES52)/ES52*100)","v":0},null,null,{"$f":"IF(EV52=0,0,(EW52-EV52)/EV52*100)","v":0},null,null,{"$f":"IF(EY52=0,0,(EZ52-EY52)/EY52*100)","v":0},null,null,{"$f":"IF(FB52=0,0,(FC52-FB52)/FB52*100)","v":0},null,null,{"$f":"IF(FE52=0,0,(FF52-FE52)/FE52*100)","v":0}]
["1","ПО.население.II","L2_1_3","для населения с 01.07 по 31.12 с НДС",null,null,{"$f":"F17=\"двухставочный\"","v":false},null,null,null,null,"объём потребления холодной воды","тыс.куб.м",{"$f":"SUMIFS(INDEX(Калькуляция!$T$15:$AM$268,,MATCH(N$3,Калькуляция!$T$3:$AM$3,0)),Калькуляция!$A$15:$A$268,$A53,Калькуляция!$B$15:$B$268,$B53)","v":0},{"$f":"SUMIFS(INDEX(Калькуляция!$T$15:$AM$268,,MATCH(O$3,Калькуляция!$T$3:$AM$3,0)),Калькуляция!$A$15:$A$268,$A53,Калькуляция!$B$15:$B$268,$B53)","v":0},{"$f":"IF(N53=0,0,(O53-N53)/N53*100)","v":0},{"$f":"SUMIFS(INDEX(Калькуляция!$T$15:$AM$268,,MATCH(Q$3,Калькуляция!$T$3:$AM$3,0)),Калькуляция!$A$15:$A$268,$A53,Калькуляция!$B$15:$B$268,$B53)","v":0},{"$f":"SUMIFS(INDEX(Калькуляция!$T$15:$AM$268,,MATCH(R$3,Калькуляция!$T$3:$AM$3,0)),Калькуляция!$A$15:$A$268,$A53,Калькуляция!$B$15:$B$268,$B53)","v":0},{"$f":"IF(Q53=0,0,(R53-Q53)/Q53*100)","v":0},{"$f":"SUMIFS(INDEX(Калькуляция!$T$15:$AM$268,,MATCH(T$3,Калькуляция!$T$3:$AM$3,0)),Калькуляция!$A$15:$A$268,$A53,Калькуляция!$B$15:$B$268,$B53)","v":0},{"$f":"SUMIFS(INDEX(Калькуляция!$T$15:$AM$268,,MATCH(U$3,Калькуляция!$T$3:$AM$3,0)),Калькуляция!$A$15:$A$268,$A53,Калькуляция!$B$15:$B$268,$B53)","v":0},{"$f":"IF(T53=0,0,(U53-T53)/T53*100)","v":0},{"$f":"SUMIFS(INDEX(Калькуляция!$T$15:$AM$268,,MATCH(W$3,Калькуляция!$T$3:$AM$3,0)),Калькуляция!$A$15:$A$268,$A53,Калькуляция!$B$15:$B$268,$B53)","v":0},{"$f":"SUMIFS(INDEX(Калькуляция!$T$15:$AM$268,,MATCH(X$3,Калькуляция!$T$3:$AM$3,0)),Калькуляция!$A$15:$A$268,$A53,Калькуляция!$B$15:$B$268,$B53)","v":0},{"$f":"IF(W53=0,0,(X53-W53)/W53*100)","v":0},{"$f":"SUMIFS(INDEX(Калькуляция!$T$15:$AM$268,,MATCH(Z$3,Калькуляция!$T$3:$AM$3,0)),Калькуляция!$A$15:$A$268,$A53,Калькуляция!$B$15:$B$268,$B53)","v":0},{"$f":"SUMIFS(INDEX(Калькуляция!$T$15:$AM$268,,MATCH(AA$3,Калькуляция!$T$3:$AM$3,0)),Калькуляция!$A$15:$A$268,$A53,Калькуляция!$B$15:$B$268,$B53)","v":0},{"$f":"IF(Z53=0,0,(AA53-Z53)/Z53*100)","v":0},{"$f":"SUMIFS(INDEX(Калькуляция!$T$15:$AM$268,,MATCH(AC$3,Калькуляция!$T$3:$AM$3,0)),Калькуляция!$A$15:$A$268,$A53,Калькуляция!$B$15:$B$268,$B53)","v":0},{"$f":"SUMIFS(INDEX(Калькуляция!$T$15:$AM$268,,MATCH(AD$3,Калькуляция!$T$3:$AM$3,0)),Калькуляция!$A$15:$A$268,$A53,Калькуляция!$B$15:$B$268,$B53)","v":0},{"$f":"IF(AC53=0,0,(AD53-AC53)/AC53*100)","v":0},{"$f":"SUMIFS(INDEX(Калькуляция!$T$15:$AM$268,,MATCH(AF$3,Калькуляция!$T$3:$AM$3,0)),Калькуляция!$A$15:$A$268,$A53,Калькуляция!$B$15:$B$268,$B53)","v":0},{"$f":"SUMIFS(INDEX(Калькуляция!$T$15:$AM$268,,MATCH(AG$3,Калькуляция!$T$3:$AM$3,0)),Калькуляция!$A$15:$A$268,$A53,Калькуляция!$B$15:$B$268,$B53)","v":0},{"$f":"IF(AF53=0,0,(AG53-AF53)/AF53*100)","v":0},{"$f":"SUMIFS(INDEX(Калькуляция!$T$15:$AM$268,,MATCH(AI$3,Калькуляция!$T$3:$AM$3,0)),Калькуляция!$A$15:$A$268,$A53,Калькуляция!$B$15:$B$268,$B53)","v":0},{"$f":"SUMIFS(INDEX(Калькуляция!$T$15:$AM$268,,MATCH(AJ$3,Калькуляция!$T$3:$AM$3,0)),Калькуляция!$A$15:$A$268,$A53,Калькуляция!$B$15:$B$268,$B53)","v":0},{"$f":"IF(AI53=0,0,(AJ53-AI53)/AI53*100)","v":0},{"$f":"SUMIFS(INDEX(Калькуляция!$T$15:$AM$268,,MATCH(AL$3,Калькуляция!$T$3:$AM$3,0)),Калькуляция!$A$15:$A$268,$A53,Калькуляция!$B$15:$B$268,$B53)","v":0},{"$f":"SUMIFS(INDEX(Калькуляция!$T$15:$AM$268,,MATCH(AM$3,Калькуляция!$T$3:$AM$3,0)),Калькуляция!$A$15:$A$268,$A53,Калькуляция!$B$15:$B$268,$B53)","v":0},{"$f":"IF(AL53=0,0,(AM53-AL53)/AL53*100)","v":0},{"$f":"SUMIFS(INDEX(Калькуляция!$T$15:$AM$268,,MATCH(AO$3,Калькуляция!$T$3:$AM$3,0)),Калькуляция!$A$15:$A$268,$A53,Калькуляция!$B$15:$B$268,$B53)","v":0},{"$f":"SUMIFS(INDEX(Калькуляция!$T$15:$AM$268,,MATCH(AP$3,Калькуляция!$T$3:$AM$3,0)),Калькуляция!$A$15:$A$268,$A53,Калькуляция!$B$15:$B$268,$B53)","v":0},{"$f":"IF(AO53=0,0,(AP53-AO53)/AO53*100)","v":0},null,null,{"$f":"IF(AR53=0,0,(AS53-AR53)/AR53*100)","v":0},null,null,{"$f":"IF(AU53=0,0,(AV53-AU53)/AU53*100)","v":0},null,null,{"$f":"IF(AX53=0,0,(AY53-AX53)/AX53*100)","v":0},null,null,{"$f":"IF(BA53=0,0,(BB53-BA53)/BA53*100)","v":0},null,null,{"$f":"IF(BD53=0,0,(BE53-BD53)/BD53*100)","v":0},null,null,{"$f":"IF(BG53=0,0,(BH53-BG53)/BG53*100)","v":0},null,null,{"$f":"IF(BJ53=0,0,(BK53-BJ53)/BJ53*100)","v":0},null,null,{"$f":"IF(BM53=0,0,(BN53-BM53)/BM53*100)","v":0},null,null,{"$f":"IF(BP53=0,0,(BQ53-BP53)/BP53*100)","v":0},null,null,{"$f":"IF(BS53=0,0,(BT53-BS53)/BS53*100)","v":0},null,null,{"$f":"IF(BV53=0,0,(BW53-BV53)/BV53*100)","v":0},null,null,{"$f":"IF(BY53=0,0,(BZ53-BY53)/BY53*100)","v":0},null,null,{"$f":"IF(CB53=0,0,(CC53-CB53)/CB53*100)","v":0},null,null,{"$f":"IF(CE53=0,0,(CF53-CE53)/CE53*100)","v":0},null,null,{"$f":"IF(CH53=0,0,(CI53-CH53)/CH53*100)","v":0},null,null,{"$f":"IF(CK53=0,0,(CL53-CK53)/CK53*100)","v":0},null,null,{"$f":"IF(CN53=0,0,(CO53-CN53)/CN53*100)","v":0},null,null,{"$f":"IF(CQ53=0,0,(CR53-CQ53)/CQ53*100)","v":0},null,null,{"$f":"IF(CT53=0,0,(CU53-CT53)/CT53*100)","v":0},null,null,{"$f":"IF(CW53=0,0,(CX53-CW53)/CW53*100)","v":0},null,null,{"$f":"IF(CZ53=0,0,(DA53-CZ53)/CZ53*100)","v":0},null,null,{"$f":"IF(DC53=0,0,(DD53-DC53)/DC53*100)","v":0},null,null,{"$f":"IF(DF53=0,0,(DG53-DF53)/DF53*100)","v":0},null,null,{"$f":"IF(DI53=0,0,(DJ53-DI53)/DI53*100)","v":0},null,null,{"$f":"IF(DL53=0,0,(DM53-DL53)/DL53*100)","v":0},null,null,{"$f":"IF(DO53=0,0,(DP53-DO53)/DO53*100)","v":0},null,null,{"$f":"IF(DR53=0,0,(DS53-DR53)/DR53*100)","v":0},null,null,{"$f":"IF(DU53=0,0,(DV53-DU53)/DU53*100)","v":0},null,null,{"$f":"IF(DX53=0,0,(DY53-DX53)/DX53*100)","v":0},null,null,{"$f":"IF(EA53=0,0,(EB53-EA53)/EA53*100)","v":0},null,null,{"$f":"IF(ED53=0,0,(EE53-ED53)/ED53*100)","v":0},null,null,{"$f":"IF(EG53=0,0,(EH53-EG53)/EG53*100)","v":0},null,null,{"$f":"IF(EJ53=0,0,(EK53-EJ53)/EJ53*100)","v":0},null,null,{"$f":"IF(EM53=0,0,(EN53-EM53)/EM53*100)","v":0},null,null,{"$f":"IF(EP53=0,0,(EQ53-EP53)/EP53*100)","v":0},null,null,{"$f":"IF(ES53=0,0,(ET53-ES53)/ES53*100)","v":0},null,null,{"$f":"IF(EV53=0,0,(EW53-EV53)/EV53*100)","v":0},null,null,{"$f":"IF(EY53=0,0,(EZ53-EY53)/EY53*100)","v":0},null,null,{"$f":"IF(FB53=0,0,(FC53-FB53)/FB53*100)","v":0},null,null,{"$f":"IF(FE53=0,0,(FF53-FE53)/FE53*100)","v":0}]
["1",null,"L2_1_4","для населения с 01.07 по 31.12 с НДС",null,null,{"$f":"F17=\"двухставочный\"","v":false},null,null,null,null,"ставка платы за содержание системы холодного водоснабжения","тыс.руб./куб.м*час/в месяц",null,null,{"$f":"IF(N54=0,0,(O54-N54)/N54*100)","v":0},null,null,{"$f":"IF(Q54=0,0,(R54-Q54)/Q54*100)","v":0},null,null,{"$f":"IF(T54=0,0,(U54-T54)/T54*100)","v":0},null,null,{"$f":"IF(W54=0,0,(X54-W54)/W54*100)","v":0},null,null,{"$f":"IF(Z54=0,0,(AA54-Z54)/Z54*100)","v":0},null,null,{"$f":"IF(AC54=0,0,(AD54-AC54)/AC54*100)","v":0},null,null,{"$f":"IF(AF54=0,0,(AG54-AF54)/AF54*100)","v":0},null,null,{"$f":"IF(AI54=0,0,(AJ54-AI54)/AI54*100)","v":0},null,null,{"$f":"IF(AL54=0,0,(AM54-AL54)/AL54*100)","v":0},null,null,{"$f":"IF(AO54=0,0,(AP54-AO54)/AO54*100)","v":0},null,null,{"$f":"IF(AR54=0,0,(AS54-AR54)/AR54*100)","v":0},null,null,{"$f":"IF(AU54=0,0,(AV54-AU54)/AU54*100)","v":0},null,null,{"$f":"IF(AX54=0,0,(AY54-AX54)/AX54*100)","v":0},null,null,{"$f":"IF(BA54=0,0,(BB54-BA54)/BA54*100)","v":0},null,null,{"$f":"IF(BD54=0,0,(BE54-BD54)/BD54*100)","v":0},null,null,{"$f":"IF(BG54=0,0,(BH54-BG54)/BG54*100)","v":0},null,null,{"$f":"IF(BJ54=0,0,(BK54-BJ54)/BJ54*100)","v":0},null,null,{"$f":"IF(BM54=0,0,(BN54-BM54)/BM54*100)","v":0},null,null,{"$f":"IF(BP54=0,0,(BQ54-BP54)/BP54*100)","v":0},null,null,{"$f":"IF(BS54=0,0,(BT54-BS54)/BS54*100)","v":0},null,null,{"$f":"IF(BV54=0,0,(BW54-BV54)/BV54*100)","v":0},null,null,{"$f":"IF(BY54=0,0,(BZ54-BY54)/BY54*100)","v":0},null,null,{"$f":"IF(CB54=0,0,(CC54-CB54)/CB54*100)","v":0},null,null,{"$f":"IF(CE54=0,0,(CF54-CE54)/CE54*100)","v":0},null,null,{"$f":"IF(CH54=0,0,(CI54-CH54)/CH54*100)","v":0},null,null,{"$f":"IF(CK54=0,0,(CL54-CK54)/CK54*100)","v":0},null,null,{"$f":"IF(CN54=0,0,(CO54-CN54)/CN54*100)","v":0},null,null,{"$f":"IF(CQ54=0,0,(CR54-CQ54)/CQ54*100)","v":0},null,null,{"$f":"IF(CT54=0,0,(CU54-CT54)/CT54*100)","v":0},null,null,{"$f":"IF(CW54=0,0,(CX54-CW54)/CW54*100)","v":0},null,null,{"$f":"IF(CZ54=0,0,(DA54-CZ54)/CZ54*100)","v":0},null,null,{"$f":"IF(DC54=0,0,(DD54-DC54)/DC54*100)","v":0},null,null,{"$f":"IF(DF54=0,0,(DG54-DF54)/DF54*100)","v":0},null,null,{"$f":"IF(DI54=0,0,(DJ54-DI54)/DI54*100)","v":0},null,null,{"$f":"IF(DL54=0,0,(DM54-DL54)/DL54*100)","v":0},null,null,{"$f":"IF(DO54=0,0,(DP54-DO54)/DO54*100)","v":0},null,null,{"$f":"IF(DR54=0,0,(DS54-DR54)/DR54*100)","v":0},null,null,{"$f":"IF(DU54=0,0,(DV54-DU54)/DU54*100)","v":0},null,null,{"$f":"IF(DX54=0,0,(DY54-DX54)/DX54*100)","v":0},null,null,{"$f":"IF(EA54=0,0,(EB54-EA54)/EA54*100)","v":0},null,null,{"$f":"IF(ED54=0,0,(EE54-ED54)/ED54*100)","v":0},null,null,{"$f":"IF(EG54=0,0,(EH54-EG54)/EG54*100)","v":0},null,null,{"$f":"IF(EJ54=0,0,(EK54-EJ54)/EJ54*100)","v":0},null,null,{"$f":"IF(EM54=0,0,(EN54-EM54)/EM54*100)","v":0},null,null,{"$f":"IF(EP54=0,0,(EQ54-EP54)/EP54*100)","v":0},null,null,{"$f":"IF(ES54=0,0,(ET54-ES54)/ES54*100)","v":0},null,null,{"$f":"IF(EV54=0,0,(EW54-EV54)/EV54*100)","v":0},null,null,{"$f":"IF(EY54=0,0,(EZ54-EY54)/EY54*100)","v":0},null,null,{"$f":"IF(FB54=0,0,(FC54-FB54)/FB54*100)","v":0},null,null,{"$f":"IF(FE54=0,0,(FF54-FE54)/FE54*100)","v":0}]
["1",null,"L2_1_5","для населения с 01.07 по 31.12 с НДС",null,null,{"$f":"F17=\"двухставочный\"","v":false},null,null,null,null,"величина присоединённой мощности","куб.м*час",null,null,{"$f":"IF(N55=0,0,(O55-N55)/N55*100)","v":0},null,null,{"$f":"IF(Q55=0,0,(R55-Q55)/Q55*100)","v":0},null,null,{"$f":"IF(T55=0,0,(U55-T55)/T55*100)","v":0},null,null,{"$f":"IF(W55=0,0,(X55-W55)/W55*100)","v":0},null,null,{"$f":"IF(Z55=0,0,(AA55-Z55)/Z55*100)","v":0},null,null,{"$f":"IF(AC55=0,0,(AD55-AC55)/AC55*100)","v":0},null,null,{"$f":"IF(AF55=0,0,(AG55-AF55)/AF55*100)","v":0},null,null,{"$f":"IF(AI55=0,0,(AJ55-AI55)/AI55*100)","v":0},null,null,{"$f":"IF(AL55=0,0,(AM55-AL55)/AL55*100)","v":0},null,null,{"$f":"IF(AO55=0,0,(AP55-AO55)/AO55*100)","v":0},null,null,{"$f":"IF(AR55=0,0,(AS55-AR55)/AR55*100)","v":0},null,null,{"$f":"IF(AU55=0,0,(AV55-AU55)/AU55*100)","v":0},null,null,{"$f":"IF(AX55=0,0,(AY55-AX55)/AX55*100)","v":0},null,null,{"$f":"IF(BA55=0,0,(BB55-BA55)/BA55*100)","v":0},null,null,{"$f":"IF(BD55=0,0,(BE55-BD55)/BD55*100)","v":0},null,null,{"$f":"IF(BG55=0,0,(BH55-BG55)/BG55*100)","v":0},null,null,{"$f":"IF(BJ55=0,0,(BK55-BJ55)/BJ55*100)","v":0},null,null,{"$f":"IF(BM55=0,0,(BN55-BM55)/BM55*100)","v":0},null,null,{"$f":"IF(BP55=0,0,(BQ55-BP55)/BP55*100)","v":0},null,null,{"$f":"IF(BS55=0,0,(BT55-BS55)/BS55*100)","v":0},null,null,{"$f":"IF(BV55=0,0,(BW55-BV55)/BV55*100)","v":0},null,null,{"$f":"IF(BY55=0,0,(BZ55-BY55)/BY55*100)","v":0},null,null,{"$f":"IF(CB55=0,0,(CC55-CB55)/CB55*100)","v":0},null,null,{"$f":"IF(CE55=0,0,(CF55-CE55)/CE55*100)","v":0},null,null,{"$f":"IF(CH55=0,0,(CI55-CH55)/CH55*100)","v":0},null,null,{"$f":"IF(CK55=0,0,(CL55-CK55)/CK55*100)","v":0},null,null,{"$f":"IF(CN55=0,0,(CO55-CN55)/CN55*100)","v":0},null,null,{"$f":"IF(CQ55=0,0,(CR55-CQ55)/CQ55*100)","v":0},null,null,{"$f":"IF(CT55=0,0,(CU55-CT55)/CT55*100)","v":0},null,null,{"$f":"IF(CW55=0,0,(CX55-CW55)/CW55*100)","v":0},null,null,{"$f":"IF(CZ55=0,0,(DA55-CZ55)/CZ55*100)","v":0},null,null,{"$f":"IF(DC55=0,0,(DD55-DC55)/DC55*100)","v":0},null,null,{"$f":"IF(DF55=0,0,(DG55-DF55)/DF55*100)","v":0},null,null,{"$f":"IF(DI55=0,0,(DJ55-DI55)/DI55*100)","v":0},null,null,{"$f":"IF(DL55=0,0,(DM55-DL55)/DL55*100)","v":0},null,null,{"$f":"IF(DO55=0,0,(DP55-DO55)/DO55*100)","v":0},null,null,{"$f":"IF(DR55=0,0,(DS55-DR55)/DR55*100)","v":0},null,null,{"$f":"IF(DU55=0,0,(DV55-DU55)/DU55*100)","v":0},null,null,{"$f":"IF(DX55=0,0,(DY55-DX55)/DX55*100)","v":0},null,null,{"$f":"IF(EA55=0,0,(EB55-EA55)/EA55*100)","v":0},null,null,{"$f":"IF(ED55=0,0,(EE55-ED55)/ED55*100)","v":0},null,null,{"$f":"IF(EG55=0,0,(EH55-EG55)/EG55*100)","v":0},null,null,{"$f":"IF(EJ55=0,0,(EK55-EJ55)/EJ55*100)","v":0},null,null,{"$f":"IF(EM55=0,0,(EN55-EM55)/EM55*100)","v":0},null,null,{"$f":"IF(EP55=0,0,(EQ55-EP55)/EP55*100)","v":0},null,null,{"$f":"IF(ES55=0,0,(ET55-ES55)/ES55*100)","v":0},null,null,{"$f":"IF(EV55=0,0,(EW55-EV55)/EV55*100)","v":0},null,null,{"$f":"IF(EY55=0,0,(EZ55-EY55)/EY55*100)","v":0},null,null,{"$f":"IF(FB55=0,0,(FC55-FB55)/FB55*100)","v":0},null,null,{"$f":"IF(FE55=0,0,(FF55-FE55)/FE55*100)","v":0}]
["1",null,{"$f":"A56&\"pIns2\"","v":"1pIns2"},null,null,null,{"$f":"F17=\"двухставочный\"","v":false},null,null,"д",null,"Добавить"]
[{"$f":"'Общие сведения'!$D$135","v":"2"},null,null,null,null,{"$f":"INDEX('Общие сведения'!$N$121:$N$148,MATCH($A57,'Общие сведения'!$D$121:$D$148,0))","v":"одноставочный"},null,null,null,null,null,"№ п/п",null,{"$f":"\"Тариф \" & A57","v":"Тариф 2"}]
[{"$f":"A57","v":"2"},null,null,null,null,null,null,null,null,null,null,"Вид воды / сточных вод",null,{"$f":"INDEX('Общие сведения'!$K$121:$K$148,MATCH($A58,'Общие сведения'!$D$121:$D$148,0))","v":"без дифференциации"}]
[{"$f":"A58","v":"2"},null,null,null,null,null,null,null,null,null,null,"Утверждаемый тариф",null,{"$f":"INDEX('Общие сведения'!$L$121:$L$148,MATCH($A59,'Общие сведения'!$D$121:$D$148,0))","v":"тариф на водоотведение"}]
["2",null,null,null,null,null,null,null,null,null,null,"Дополнительные признаки дифференциации тарифов",null,{"$f":"INDEX('Общие сведения'!$M$121:$M$148,MATCH($A60,'Общие сведения'!$D$121:$D$148,0))","v":0}]
["2",null,null,null,null,null,{"$f":"F57=\"одноставочный\"","v":true},null,null,null,null,"Одноставочный тариф:"]
["2","тариф.прочие.I","L1_1","для прочих потребителей с 01.01 по 30.06 без НДС",null,null,{"$f":"F57=\"одноставочный\"","v":true},null,null,null,null,"Тариф с 01.01 по 30.06 для прочих потребителей без НДС","руб./куб.м",{"$f":"SUMIFS(INDEX(Калькуляция!$T$15:$AM$268,,MATCH(N$3,Калькуляция!$T$3:$AM$3,0)),Калькуляция!$A$15:$A$268,$A62,Калькуляция!$B$15:$B$268,$B62)","v":80.44},{"$f":"SUMIFS(INDEX(Калькуляция!$T$15:$AM$268,,MATCH(O$3,Калькуляция!$T$3:$AM$3,0)),Калькуляция!$A$15:$A$268,$A62,Калькуляция!$B$15:$B$268,$B62)","v":80.44},{"$f":"IF(N62=0,0,(O62-N62)/N62*100)","v":0},{"$f":"SUMIFS(INDEX(Калькуляция!$T$15:$AM$268,,MATCH(Q$3,Калькуляция!$T$3:$AM$3,0)),Калькуляция!$A$15:$A$268,$A62,Калькуляция!$B$15:$B$268,$B62)","v":154.56},{"$f":"SUMIFS(INDEX(Калькуляция!$T$15:$AM$268,,MATCH(R$3,Калькуляция!$T$3:$AM$3,0)),Калькуляция!$A$15:$A$268,$A62,Калькуляция!$B$15:$B$268,$B62)","v":117.65},{"$f":"IF(Q62=0,0,(R62-Q62)/Q62*100)","v":-23.880693581780534},{"$f":"SUMIFS(INDEX(Калькуляция!$T$15:$AM$268,,MATCH(T$3,Калькуляция!$T$3:$AM$3,0)),Калькуляция!$A$15:$A$268,$A62,Калькуляция!$B$15:$B$268,$B62)","v":154.57},{"$f":"SUMIFS(INDEX(Калькуляция!$T$15:$AM$268,,MATCH(U$3,Калькуляция!$T$3:$AM$3,0)),Калькуляция!$A$15:$A$268,$A62,Калькуляция!$B$15:$B$268,$B62)","v":118.88},{"$f":"IF(T62=0,0,(U62-T62)/T62*100)","v":-23.08986219835673},{"$f":"SUMIFS(INDEX(Калькуляция!$T$15:$AM$268,,MATCH(W$3,Калькуляция!$T$3:$AM$3,0)),Калькуляция!$A$15:$A$268,$A62,Калькуляция!$B$15:$B$268,$B62)","v":160.74},{"$f":"SUMIFS(INDEX(Калькуляция!$T$15:$AM$268,,MATCH(X$3,Калькуляция!$T$3:$AM$3,0)),Калькуляция!$A$15:$A$268,$A62,Калькуляция!$B$15:$B$268,$B62)","v":122.57},{"$f":"IF(W62=0,0,(X62-W62)/W62*100)","v":-23.746422794575096},{"$f":"SUMIFS(INDEX(Калькуляция!$T$15:$AM$268,,MATCH(Z$3,Калькуляция!$T$3:$AM$3,0)),Калькуляция!$A$15:$A$268,$A62,Калькуляция!$B$15:$B$268,$B62)","v":162.88999999999999},{"$f":"SUMIFS(INDEX(Калькуляция!$T$15:$AM$268,,MATCH(AA$3,Калькуляция!$T$3:$AM$3,0)),Калькуляция!$A$15:$A$268,$A62,Калькуляция!$B$15:$B$268,$B62)","v":124.73},{"$f":"IF(Z62=0,0,(AA62-Z62)/Z62*100)","v":-23.426852477131799},{"$f":"SUMIFS(INDEX(Калькуляция!$T$15:$AM$268,,MATCH(AC$3,Калькуляция!$T$3:$AM$3,0)),Калькуляция!$A$15:$A$268,$A62,Калькуляция!$B$15:$B$268,$B62)","v":0},{"$f":"SUMIFS(INDEX(Калькуляция!$T$15:$AM$268,,MATCH(AD$3,Калькуляция!$T$3:$AM$3,0)),Калькуляция!$A$15:$A$268,$A62,Калькуляция!$B$15:$B$268,$B62)","v":0},{"$f":"IF(AC62=0,0,(AD62-AC62)/AC62*100)","v":0},{"$f":"SUMIFS(INDEX(Калькуляция!$T$15:$AM$268,,MATCH(AF$3,Калькуляция!$T$3:$AM$3,0)),Калькуляция!$A$15:$A$268,$A62,Калькуляция!$B$15:$B$268,$B62)","v":0},{"$f":"SUMIFS(INDEX(Калькуляция!$T$15:$AM$268,,MATCH(AG$3,Калькуляция!$T$3:$AM$3,0)),Калькуляция!$A$15:$A$268,$A62,Калькуляция!$B$15:$B$268,$B62)","v":0},{"$f":"IF(AF62=0,0,(AG62-AF62)/AF62*100)","v":0},{"$f":"SUMIFS(INDEX(Калькуляция!$T$15:$AM$268,,MATCH(AI$3,Калькуляция!$T$3:$AM$3,0)),Калькуляция!$A$15:$A$268,$A62,Калькуляция!$B$15:$B$268,$B62)","v":0},{"$f":"SUMIFS(INDEX(Калькуляция!$T$15:$AM$268,,MATCH(AJ$3,Калькуляция!$T$3:$AM$3,0)),Калькуляция!$A$15:$A$268,$A62,Калькуляция!$B$15:$B$268,$B62)","v":0},{"$f":"IF(AI62=0,0,(AJ62-AI62)/AI62*100)","v":0},{"$f":"SUMIFS(INDEX(Калькуляция!$T$15:$AM$268,,MATCH(AL$3,Калькуляция!$T$3:$AM$3,0)),Калькуляция!$A$15:$A$268,$A62,Калькуляция!$B$15:$B$268,$B62)","v":0},{"$f":"SUMIFS(INDEX(Калькуляция!$T$15:$AM$268,,MATCH(AM$3,Калькуляция!$T$3:$AM$3,0)),Калькуляция!$A$15:$A$268,$A62,Калькуляция!$B$15:$B$268,$B62)","v":0},{"$f":"IF(AL62=0,0,(AM62-AL62)/AL62*100)","v":0},{"$f":"SUMIFS(INDEX(Калькуляция!$T$15:$AM$268,,MATCH(AO$3,Калькуляция!$T$3:$AM$3,0)),Калькуляция!$A$15:$A$268,$A62,Калькуляция!$B$15:$B$268,$B62)","v":0},{"$f":"SUMIFS(INDEX(Калькуляция!$T$15:$AM$268,,MATCH(AP$3,Калькуляция!$T$3:$AM$3,0)),Калькуляция!$A$15:$A$268,$A62,Калькуляция!$B$15:$B$268,$B62)","v":0},{"$f":"IF(AO62=0,0,(AP62-AO62)/AO62*100)","v":0},null,null,{"$f":"IF(AR62=0,0,(AS62-AR62)/AR62*100)","v":0},null,null,{"$f":"IF(AU62=0,0,(AV62-AU62)/AU62*100)","v":0},null,null,{"$f":"IF(AX62=0,0,(AY62-AX62)/AX62*100)","v":0},null,null,{"$f":"IF(BA62=0,0,(BB62-BA62)/BA62*100)","v":0},null,null,{"$f":"IF(BD62=0,0,(BE62-BD62)/BD62*100)","v":0},null,null,{"$f":"IF(BG62=0,0,(BH62-BG62)/BG62*100)","v":0},null,null,{"$f":"IF(BJ62=0,0,(BK62-BJ62)/BJ62*100)","v":0},null,null,{"$f":"IF(BM62=0,0,(BN62-BM62)/BM62*100)","v":0},null,null,{"$f":"IF(BP62=0,0,(BQ62-BP62)/BP62*100)","v":0},null,null,{"$f":"IF(BS62=0,0,(BT62-BS62)/BS62*100)","v":0},null,null,{"$f":"IF(BV62=0,0,(BW62-BV62)/BV62*100)","v":0},null,null,{"$f":"IF(BY62=0,0,(BZ62-BY62)/BY62*100)","v":0},null,null,{"$f":"IF(CB62=0,0,(CC62-CB62)/CB62*100)","v":0},null,null,{"$f":"IF(CE62=0,0,(CF62-CE62)/CE62*100)","v":0},null,null,{"$f":"IF(CH62=0,0,(CI62-CH62)/CH62*100)","v":0},null,null,{"$f":"IF(CK62=0,0,(CL62-CK62)/CK62*100)","v":0},null,null,{"$f":"IF(CN62=0,0,(CO62-CN62)/CN62*100)","v":0},null,null,{"$f":"IF(CQ62=0,0,(CR62-CQ62)/CQ62*100)","v":0},null,null,{"$f":"IF(CT62=0,0,(CU62-CT62)/CT62*100)","v":0},null,null,{"$f":"IF(CW62=0,0,(CX62-CW62)/CW62*100)","v":0},null,null,{"$f":"IF(CZ62=0,0,(DA62-CZ62)/CZ62*100)","v":0},null,null,{"$f":"IF(DC62=0,0,(DD62-DC62)/DC62*100)","v":0},null,null,{"$f":"IF(DF62=0,0,(DG62-DF62)/DF62*100)","v":0},null,null,{"$f":"IF(DI62=0,0,(DJ62-DI62)/DI62*100)","v":0},null,null,{"$f":"IF(DL62=0,0,(DM62-DL62)/DL62*100)","v":0},null,null,{"$f":"IF(DO62=0,0,(DP62-DO62)/DO62*100)","v":0},null,null,{"$f":"IF(DR62=0,0,(DS62-DR62)/DR62*100)","v":0},null,null,{"$f":"IF(DU62=0,0,(DV62-DU62)/DU62*100)","v":0},null,null,{"$f":"IF(DX62=0,0,(DY62-DX62)/DX62*100)","v":0},null,null,{"$f":"IF(EA62=0,0,(EB62-EA62)/EA62*100)","v":0},null,null,{"$f":"IF(ED62=0,0,(EE62-ED62)/ED62*100)","v":0},null,null,{"$f":"IF(EG62=0,0,(EH62-EG62)/EG62*100)","v":0},null,null,{"$f":"IF(EJ62=0,0,(EK62-EJ62)/EJ62*100)","v":0},null,null,{"$f":"IF(EM62=0,0,(EN62-EM62)/EM62*100)","v":0},null,null,{"$f":"IF(EP62=0,0,(EQ62-EP62)/EP62*100)","v":0},null,null,{"$f":"IF(ES62=0,0,(ET62-ES62)/ES62*100)","v":0},null,null,{"$f":"IF(EV62=0,0,(EW62-EV62)/EV62*100)","v":0},null,null,{"$f":"IF(EY62=0,0,(EZ62-EY62)/EY62*100)","v":0},null,null,{"$f":"IF(FB62=0,0,(FC62-FB62)/FB62*100)","v":0},null,null,{"$f":"IF(FE62=0,0,(FF62-FE62)/FE62*100)","v":0}]
["2","тариф.прочие.II","L1_1","для прочих потребителей с 01.07 по 31.12 без НДС",null,null,{"$f":"F57=\"одноставочный\"","v":true},null,null,null,null,"Тариф с 01.07 по 31.12 для прочих потребителей без НДС","руб./куб.м",{"$f":"SUMIFS(INDEX(Калькуляция!$T$15:$AM$268,,MATCH(N$3,Калькуляция!$T$3:$AM$3,0)),Калькуляция!$A$15:$A$268,$A63,Калькуляция!$B$15:$B$268,$B63)","v":220.78055287587546},{"$f":"SUMIFS(INDEX(Калькуляция!$T$15:$AM$268,,MATCH(O$3,Калькуляция!$T$3:$AM$3,0)),Калькуляция!$A$15:$A$268,$A63,Калькуляция!$B$15:$B$268,$B63)","v":117.64996420815791},{"$f":"IF(N63=0,0,(O63-N63)/N63*100)","v":-46.71180832022754},{"$f":"SUMIFS(INDEX(Калькуляция!$T$15:$AM$268,,MATCH(Q$3,Калькуляция!$T$3:$AM$3,0)),Калькуляция!$A$15:$A$268,$A63,Калькуляция!$B$15:$B$268,$B63)","v":154.56948584967387},{"$f":"SUMIFS(INDEX(Калькуляция!$T$15:$AM$268,,MATCH(R$3,Калькуляция!$T$3:$AM$3,0)),Калькуляция!$A$15:$A$268,$A63,Калькуляция!$B$15:$B$268,$B63)","v":118.87985015899163},{"$f":"IF(Q63=0,0,(R63-Q63)/Q63*100)","v":-23.089703310129462},{"$f":"SUMIFS(INDEX(Калькуляция!$T$15:$AM$268,,MATCH(T$3,Калькуляция!$T$3:$AM$3,0)),Калькуляция!$A$15:$A$268,$A63,Калькуляция!$B$15:$B$268,$B63)","v":160.73859796784055},{"$f":"SUMIFS(INDEX(Калькуляция!$T$15:$AM$268,,MATCH(U$3,Калькуляция!$T$3:$AM$3,0)),Калькуляция!$A$15:$A$268,$A63,Калькуляция!$B$15:$B$268,$B63)","v":122.56999457186892},{"$f":"IF(T63=0,0,(U63-T63)/T63*100)","v":-23.74576105460876},{"$f":"SUMIFS(INDEX(Калькуляция!$T$15:$AM$268,,MATCH(W$3,Калькуляция!$T$3:$AM$3,0)),Калькуляция!$A$15:$A$268,$A63,Калькуляция!$B$15:$B$268,$B63)","v":162.89294311980007},{"$f":"SUMIFS(INDEX(Калькуляция!$T$15:$AM$268,,MATCH(X$3,Калькуляция!$T$3:$AM$3,0)),Калькуляция!$A$15:$A$268,$A63,Калькуляция!$B$15:$B$268,$B63)","v":124.73009688402487},{"$f":"IF(W63=0,0,(X63-W63)/W63*100)","v":-23.42817650959147},{"$f":"SUMIFS(INDEX(Калькуляция!$T$15:$AM$268,,MATCH(Z$3,Калькуляция!$T$3:$AM$3,0)),Калькуляция!$A$15:$A$268,$A63,Калькуляция!$B$15:$B$268,$B63)","v":169.62120927304466},{"$f":"SUMIFS(INDEX(Калькуляция!$T$15:$AM$268,,MATCH(AA$3,Калькуляция!$T$3:$AM$3,0)),Калькуляция!$A$15:$A$268,$A63,Калькуляция!$B$15:$B$268,$B63)","v":125.02991721504874},{"$f":"IF(Z63=0,0,(AA63-Z63)/Z63*100)","v":-26.288747880706293},{"$f":"SUMIFS(INDEX(Калькуляция!$T$15:$AM$268,,MATCH(AC$3,Калькуляция!$T$3:$AM$3,0)),Калькуляция!$A$15:$A$268,$A63,Калькуляция!$B$15:$B$268,$B63)","v":0},{"$f":"SUMIFS(INDEX(Калькуляция!$T$15:$AM$268,,MATCH(AD$3,Калькуляция!$T$3:$AM$3,0)),Калькуляция!$A$15:$A$268,$A63,Калькуляция!$B$15:$B$268,$B63)","v":0},{"$f":"IF(AC63=0,0,(AD63-AC63)/AC63*100)","v":0},{"$f":"SUMIFS(INDEX(Калькуляция!$T$15:$AM$268,,MATCH(AF$3,Калькуляция!$T$3:$AM$3,0)),Калькуляция!$A$15:$A$268,$A63,Калькуляция!$B$15:$B$268,$B63)","v":0},{"$f":"SUMIFS(INDEX(Калькуляция!$T$15:$AM$268,,MATCH(AG$3,Калькуляция!$T$3:$AM$3,0)),Калькуляция!$A$15:$A$268,$A63,Калькуляция!$B$15:$B$268,$B63)","v":0},{"$f":"IF(AF63=0,0,(AG63-AF63)/AF63*100)","v":0},{"$f":"SUMIFS(INDEX(Калькуляция!$T$15:$AM$268,,MATCH(AI$3,Калькуляция!$T$3:$AM$3,0)),Калькуляция!$A$15:$A$268,$A63,Калькуляция!$B$15:$B$268,$B63)","v":0},{"$f":"SUMIFS(INDEX(Калькуляция!$T$15:$AM$268,,MATCH(AJ$3,Калькуляция!$T$3:$AM$3,0)),Калькуляция!$A$15:$A$268,$A63,Калькуляция!$B$15:$B$268,$B63)","v":0},{"$f":"IF(AI63=0,0,(AJ63-AI63)/AI63*100)","v":0},{"$f":"SUMIFS(INDEX(Калькуляция!$T$15:$AM$268,,MATCH(AL$3,Калькуляция!$T$3:$AM$3,0)),Калькуляция!$A$15:$A$268,$A63,Калькуляция!$B$15:$B$268,$B63)","v":0},{"$f":"SUMIFS(INDEX(Калькуляция!$T$15:$AM$268,,MATCH(AM$3,Калькуляция!$T$3:$AM$3,0)),Калькуляция!$A$15:$A$268,$A63,Калькуляция!$B$15:$B$268,$B63)","v":0},{"$f":"IF(AL63=0,0,(AM63-AL63)/AL63*100)","v":0},{"$f":"SUMIFS(INDEX(Калькуляция!$T$15:$AM$268,,MATCH(AO$3,Калькуляция!$T$3:$AM$3,0)),Калькуляция!$A$15:$A$268,$A63,Калькуляция!$B$15:$B$268,$B63)","v":0},{"$f":"SUMIFS(INDEX(Калькуляция!$T$15:$AM$268,,MATCH(AP$3,Калькуляция!$T$3:$AM$3,0)),Калькуляция!$A$15:$A$268,$A63,Калькуляция!$B$15:$B$268,$B63)","v":0},{"$f":"IF(AO63=0,0,(AP63-AO63)/AO63*100)","v":0},null,null,{"$f":"IF(AR63=0,0,(AS63-AR63)/AR63*100)","v":0},null,null,{"$f":"IF(AU63=0,0,(AV63-AU63)/AU63*100)","v":0},null,null,{"$f":"IF(AX63=0,0,(AY63-AX63)/AX63*100)","v":0},null,null,{"$f":"IF(BA63=0,0,(BB63-BA63)/BA63*100)","v":0},null,null,{"$f":"IF(BD63=0,0,(BE63-BD63)/BD63*100)","v":0},null,null,{"$f":"IF(BG63=0,0,(BH63-BG63)/BG63*100)","v":0},null,null,{"$f":"IF(BJ63=0,0,(BK63-BJ63)/BJ63*100)","v":0},null,null,{"$f":"IF(BM63=0,0,(BN63-BM63)/BM63*100)","v":0},null,null,{"$f":"IF(BP63=0,0,(BQ63-BP63)/BP63*100)","v":0},null,null,{"$f":"IF(BS63=0,0,(BT63-BS63)/BS63*100)","v":0},null,null,{"$f":"IF(BV63=0,0,(BW63-BV63)/BV63*100)","v":0},null,null,{"$f":"IF(BY63=0,0,(BZ63-BY63)/BY63*100)","v":0},null,null,{"$f":"IF(CB63=0,0,(CC63-CB63)/CB63*100)","v":0},null,null,{"$f":"IF(CE63=0,0,(CF63-CE63)/CE63*100)","v":0},null,null,{"$f":"IF(CH63=0,0,(CI63-CH63)/CH63*100)","v":0},null,null,{"$f":"IF(CK63=0,0,(CL63-CK63)/CK63*100)","v":0},null,null,{"$f":"IF(CN63=0,0,(CO63-CN63)/CN63*100)","v":0},null,null,{"$f":"IF(CQ63=0,0,(CR63-CQ63)/CQ63*100)","v":0},null,null,{"$f":"IF(CT63=0,0,(CU63-CT63)/CT63*100)","v":0},null,null,{"$f":"IF(CW63=0,0,(CX63-CW63)/CW63*100)","v":0},null,null,{"$f":"IF(CZ63=0,0,(DA63-CZ63)/CZ63*100)","v":0},null,null,{"$f":"IF(DC63=0,0,(DD63-DC63)/DC63*100)","v":0},null,null,{"$f":"IF(DF63=0,0,(DG63-DF63)/DF63*100)","v":0},null,null,{"$f":"IF(DI63=0,0,(DJ63-DI63)/DI63*100)","v":0},null,null,{"$f":"IF(DL63=0,0,(DM63-DL63)/DL63*100)","v":0},null,null,{"$f":"IF(DO63=0,0,(DP63-DO63)/DO63*100)","v":0},null,null,{"$f":"IF(DR63=0,0,(DS63-DR63)/DR63*100)","v":0},null,null,{"$f":"IF(DU63=0,0,(DV63-DU63)/DU63*100)","v":0},null,null,{"$f":"IF(DX63=0,0,(DY63-DX63)/DX63*100)","v":0},null,null,{"$f":"IF(EA63=0,0,(EB63-EA63)/EA63*100)","v":0},null,null,{"$f":"IF(ED63=0,0,(EE63-ED63)/ED63*100)","v":0},null,null,{"$f":"IF(EG63=0,0,(EH63-EG63)/EG63*100)","v":0},null,null,{"$f":"IF(EJ63=0,0,(EK63-EJ63)/EJ63*100)","v":0},null,null,{"$f":"IF(EM63=0,0,(EN63-EM63)/EM63*100)","v":0},null,null,{"$f":"IF(EP63=0,0,(EQ63-EP63)/EP63*100)","v":0},null,null,{"$f":"IF(ES63=0,0,(ET63-ES63)/ES63*100)","v":0},null,null,{"$f":"IF(EV63=0,0,(EW63-EV63)/EV63*100)","v":0},null,null,{"$f":"IF(EY63=0,0,(EZ63-EY63)/EY63*100)","v":0},null,null,{"$f":"IF(FB63=0,0,(FC63-FB63)/FB63*100)","v":0},null,null,{"$f":"IF(FE63=0,0,(FF63-FE63)/FE63*100)","v":0}]
["2",null,"L1_2","для прочих потребителей без НДС",null,null,{"$f":"F57=\"одноставочный\"","v":true},null,null,null,null,"Темп роста тарифов с 01.07","%",{"$f":"IF(N62=0,0,N63/N62)*100","v":274.4661273941764},{"$f":"IF(O62=0,0,O63/O62)*100","v":146.25803606185718},null,{"$f":"IF(Q62=0,0,Q63/Q62)*100","v":100.00613732509956},{"$f":"IF(R62=0,0,R63/R62)*100","v":101.04534650148034},null,{"$f":"IF(T62=0,0,T63/T62)*100","v":103.99081190906421},{"$f":"IF(U62=0,0,U63/U62)*100","v":103.10396582425044},null,{"$f":"IF(W62=0,0,W63/W62)*100","v":101.33939474916016},{"$f":"IF(X62=0,0,X63/X62)*100","v":101.76233734521081},null,{"$f":"IF(Z62=0,0,Z63/Z62)*100","v":104.13236495367713},{"$f":"IF(AA62=0,0,AA63/AA62)*100","v":100.24045315084481},null,{"$f":"IF(AC62=0,0,AC63/AC62)*100","v":0},{"$f":"IF(AD62=0,0,AD63/AD62)*100","v":0},null,{"$f":"IF(AF62=0,0,AF63/AF62)*100","v":0},{"$f":"IF(AG62=0,0,AG63/AG62)*100","v":0},null,{"$f":"IF(AI62=0,0,AI63/AI62)*100","v":0},{"$f":"IF(AJ62=0,0,AJ63/AJ62)*100","v":0},null,{"$f":"IF(AL62=0,0,AL63/AL62)*100","v":0},{"$f":"IF(AM62=0,0,AM63/AM62)*100","v":0},null,{"$f":"IF(AO62=0,0,AO63/AO62)*100","v":0},{"$f":"IF(AP62=0,0,AP63/AP62)*100","v":0},null,{"$f":"IF(AR62=0,0,AR63/AR62)*100","v":0},{"$f":"IF(AS62=0,0,AS63/AS62)*100","v":0},null,{"$f":"IF(AU62=0,0,AU63/AU62)*100","v":0},{"$f":"IF(AV62=0,0,AV63/AV62)*100","v":0},null,{"$f":"IF(AX62=0,0,AX63/AX62)*100","v":0},{"$f":"IF(AY62=0,0,AY63/AY62)*100","v":0},null,{"$f":"IF(BA62=0,0,BA63/BA62)*100","v":0},{"$f":"IF(BB62=0,0,BB63/BB62)*100","v":0},null,{"$f":"IF(BD62=0,0,BD63/BD62)*100","v":0},{"$f":"IF(BE62=0,0,BE63/BE62)*100","v":0},null,{"$f":"IF(BG62=0,0,BG63/BG62)*100","v":0},{"$f":"IF(BH62=0,0,BH63/BH62)*100","v":0},null,{"$f":"IF(BJ62=0,0,BJ63/BJ62)*100","v":0},{"$f":"IF(BK62=0,0,BK63/BK62)*100","v":0},null,{"$f":"IF(BM62=0,0,BM63/BM62)*100","v":0},{"$f":"IF(BN62=0,0,BN63/BN62)*100","v":0},null,{"$f":"IF(BP62=0,0,BP63/BP62)*100","v":0},{"$f":"IF(BQ62=0,0,BQ63/BQ62)*100","v":0},null,{"$f":"IF(BS62=0,0,BS63/BS62)*100","v":0},{"$f":"IF(BT62=0,0,BT63/BT62)*100","v":0},null,{"$f":"IF(BV62=0,0,BV63/BV62)*100","v":0},{"$f":"IF(BW62=0,0,BW63/BW62)*100","v":0},null,{"$f":"IF(BY62=0,0,BY63/BY62)*100","v":0},{"$f":"IF(BZ62=0,0,BZ63/BZ62)*100","v":0},null,{"$f":"IF(CB62=0,0,CB63/CB62)*100","v":0},{"$f":"IF(CC62=0,0,CC63/CC62)*100","v":0},null,{"$f":"IF(CE62=0,0,CE63/CE62)*100","v":0},{"$f":"IF(CF62=0,0,CF63/CF62)*100","v":0},null,{"$f":"IF(CH62=0,0,CH63/CH62)*100","v":0},{"$f":"IF(CI62=0,0,CI63/CI62)*100","v":0},null,{"$f":"IF(CK62=0,0,CK63/CK62)*100","v":0},{"$f":"IF(CL62=0,0,CL63/CL62)*100","v":0},null,{"$f":"IF(CN62=0,0,CN63/CN62)*100","v":0},{"$f":"IF(CO62=0,0,CO63/CO62)*100","v":0},null,{"$f":"IF(CQ62=0,0,CQ63/CQ62)*100","v":0},{"$f":"IF(CR62=0,0,CR63/CR62)*100","v":0},null,{"$f":"IF(CT62=0,0,CT63/CT62)*100","v":0},{"$f":"IF(CU62=0,0,CU63/CU62)*100","v":0},null,{"$f":"IF(CW62=0,0,CW63/CW62)*100","v":0},{"$f":"IF(CX62=0,0,CX63/CX62)*100","v":0},null,{"$f":"IF(CZ62=0,0,CZ63/CZ62)*100","v":0},{"$f":"IF(DA62=0,0,DA63/DA62)*100","v":0},null,{"$f":"IF(DC62=0,0,DC63/DC62)*100","v":0},{"$f":"IF(DD62=0,0,DD63/DD62)*100","v":0},null,{"$f":"IF(DF62=0,0,DF63/DF62)*100","v":0},{"$f":"IF(DG62=0,0,DG63/DG62)*100","v":0},null,{"$f":"IF(DI62=0,0,DI63/DI62)*100","v":0},{"$f":"IF(DJ62=0,0,DJ63/DJ62)*100","v":0},null,{"$f":"IF(DL62=0,0,DL63/DL62)*100","v":0},{"$f":"IF(DM62=0,0,DM63/DM62)*100","v":0},null,{"$f":"IF(DO62=0,0,DO63/DO62)*100","v":0},{"$f":"IF(DP62=0,0,DP63/DP62)*100","v":0},null,{"$f":"IF(DR62=0,0,DR63/DR62)*100","v":0},{"$f":"IF(DS62=0,0,DS63/DS62)*100","v":0},null,{"$f":"IF(DU62=0,0,DU63/DU62)*100","v":0},{"$f":"IF(DV62=0,0,DV63/DV62)*100","v":0},null,{"$f":"IF(DX62=0,0,DX63/DX62)*100","v":0},{"$f":"IF(DY62=0,0,DY63/DY62)*100","v":0},null,{"$f":"IF(EA62=0,0,EA63/EA62)*100","v":0},{"$f":"IF(EB62=0,0,EB63/EB62)*100","v":0},null,{"$f":"IF(ED62=0,0,ED63/ED62)*100","v":0},{"$f":"IF(EE62=0,0,EE63/EE62)*100","v":0},null,{"$f":"IF(EG62=0,0,EG63/EG62)*100","v":0},{"$f":"IF(EH62=0,0,EH63/EH62)*100","v":0},null,{"$f":"IF(EJ62=0,0,EJ63/EJ62)*100","v":0},{"$f":"IF(EK62=0,0,EK63/EK62)*100","v":0},null,{"$f":"IF(EM62=0,0,EM63/EM62)*100","v":0},{"$f":"IF(EN62=0,0,EN63/EN62)*100","v":0},null,{"$f":"IF(EP62=0,0,EP63/EP62)*100","v":0},{"$f":"IF(EQ62=0,0,EQ63/EQ62)*100","v":0},null,{"$f":"IF(ES62=0,0,ES63/ES62)*100","v":0},{"$f":"IF(ET62=0,0,ET63/ET62)*100","v":0},null,{"$f":"IF(EV62=0,0,EV63/EV62)*100","v":0},{"$f":"IF(EW62=0,0,EW63/EW62)*100","v":0},null,{"$f":"IF(EY62=0,0,EY63/EY62)*100","v":0},{"$f":"IF(EZ62=0,0,EZ63/EZ62)*100","v":0},null,{"$f":"IF(FB62=0,0,FB63/FB62)*100","v":0},{"$f":"IF(FC62=0,0,FC63/FC62)*100","v":0},null,{"$f":"IF(FE62=0,0,FE63/FE62)*100","v":0},{"$f":"IF(FF62=0,0,FF63/FF62)*100","v":0}]
["2","ПО.прочие","L1_3","для прочих потребителей без НДС",null,null,{"$f":"F57=\"одноставочный\"","v":true},null,null,null,null,"Объём реализации услуги с 01.01 по 31.12","тыс.куб.м",{"$f":"SUMIFS(INDEX(Калькуляция!$T$15:$AM$268,,MATCH(N$3,Калькуляция!$T$3:$AM$3,0)),Калькуляция!$A$15:$A$268,$A65,Калькуляция!$B$15:$B$268,$B65)","v":165.02800000000002},{"$f":"SUMIFS(INDEX(Калькуляция!$T$15:$AM$268,,MATCH(O$3,Калькуляция!$T$3:$AM$3,0)),Калькуляция!$A$15:$A$268,$A65,Калькуляция!$B$15:$B$268,$B65)","v":168.65249999999997},{"$f":"IF(N65=0,0,(O65-N65)/N65*100)","v":2.1962939622366839},{"$f":"SUMIFS(INDEX(Калькуляция!$T$15:$AM$268,,MATCH(Q$3,Калькуляция!$T$3:$AM$3,0)),Калькуляция!$A$15:$A$268,$A65,Калькуляция!$B$15:$B$268,$B65)","v":165.02800000000002},{"$f":"SUMIFS(INDEX(Калькуляция!$T$15:$AM$268,,MATCH(R$3,Калькуляция!$T$3:$AM$3,0)),Калькуляция!$A$15:$A$268,$A65,Калькуляция!$B$15:$B$268,$B65)","v":168.65249999999997},{"$f":"IF(Q65=0,0,(R65-Q65)/Q65*100)","v":2.1962939622366839},{"$f":"SUMIFS(INDEX(Калькуляция!$T$15:$AM$268,,MATCH(T$3,Калькуляция!$T$3:$AM$3,0)),Калькуляция!$A$15:$A$268,$A65,Калькуляция!$B$15:$B$268,$B65)","v":165.02800000000002},{"$f":"SUMIFS(INDEX(Калькуляция!$T$15:$AM$268,,MATCH(U$3,Калькуляция!$T$3:$AM$3,0)),Калькуляция!$A$15:$A$268,$A65,Калькуляция!$B$15:$B$268,$B65)","v":168.65249999999997},{"$f":"IF(T65=0,0,(U65-T65)/T65*100)","v":2.1962939622366839},{"$f":"SUMIFS(INDEX(Калькуляция!$T$15:$AM$268,,MATCH(W$3,Калькуляция!$T$3:$AM$3,0)),Калькуляция!$A$15:$A$268,$A65,Калькуляция!$B$15:$B$268,$B65)","v":165.02800000000002},{"$f":"SUMIFS(INDEX(Калькуляция!$T$15:$AM$268,,MATCH(X$3,Калькуляция!$T$3:$AM$3,0)),Калькуляция!$A$15:$A$268,$A65,Калькуляция!$B$15:$B$268,$B65)","v":168.65249999999997},{"$f":"IF(W65=0,0,(X65-W65)/W65*100)","v":2.1962939622366839},{"$f":"SUMIFS(INDEX(Калькуляция!$T$15:$AM$268,,MATCH(Z$3,Калькуляция!$T$3:$AM$3,0)),Калькуляция!$A$15:$A$268,$A65,Калькуляция!$B$15:$B$268,$B65)","v":165.02800000000002},{"$f":"SUMIFS(INDEX(Калькуляция!$T$15:$AM$268,,MATCH(AA$3,Калькуляция!$T$3:$AM$3,0)),Калькуляция!$A$15:$A$268,$A65,Калькуляция!$B$15:$B$268,$B65)","v":168.65249999999997},{"$f":"IF(Z65=0,0,(AA65-Z65)/Z65*100)","v":2.1962939622366839},{"$f":"SUMIFS(INDEX(Калькуляция!$T$15:$AM$268,,MATCH(AC$3,Калькуляция!$T$3:$AM$3,0)),Калькуляция!$A$15:$A$268,$A65,Калькуляция!$B$15:$B$268,$B65)","v":0},{"$f":"SUMIFS(INDEX(Калькуляция!$T$15:$AM$268,,MATCH(AD$3,Калькуляция!$T$3:$AM$3,0)),Калькуляция!$A$15:$A$268,$A65,Калькуляция!$B$15:$B$268,$B65)","v":0},{"$f":"IF(AC65=0,0,(AD65-AC65)/AC65*100)","v":0},{"$f":"SUMIFS(INDEX(Калькуляция!$T$15:$AM$268,,MATCH(AF$3,Калькуляция!$T$3:$AM$3,0)),Калькуляция!$A$15:$A$268,$A65,Калькуляция!$B$15:$B$268,$B65)","v":0},{"$f":"SUMIFS(INDEX(Калькуляция!$T$15:$AM$268,,MATCH(AG$3,Калькуляция!$T$3:$AM$3,0)),Калькуляция!$A$15:$A$268,$A65,Калькуляция!$B$15:$B$268,$B65)","v":0},{"$f":"IF(AF65=0,0,(AG65-AF65)/AF65*100)","v":0},{"$f":"SUMIFS(INDEX(Калькуляция!$T$15:$AM$268,,MATCH(AI$3,Калькуляция!$T$3:$AM$3,0)),Калькуляция!$A$15:$A$268,$A65,Калькуляция!$B$15:$B$268,$B65)","v":0},{"$f":"SUMIFS(INDEX(Калькуляция!$T$15:$AM$268,,MATCH(AJ$3,Калькуляция!$T$3:$AM$3,0)),Калькуляция!$A$15:$A$268,$A65,Калькуляция!$B$15:$B$268,$B65)","v":0},{"$f":"IF(AI65=0,0,(AJ65-AI65)/AI65*100)","v":0},{"$f":"SUMIFS(INDEX(Калькуляция!$T$15:$AM$268,,MATCH(AL$3,Калькуляция!$T$3:$AM$3,0)),Калькуляция!$A$15:$A$268,$A65,Калькуляция!$B$15:$B$268,$B65)","v":0},{"$f":"SUMIFS(INDEX(Калькуляция!$T$15:$AM$268,,MATCH(AM$3,Калькуляция!$T$3:$AM$3,0)),Калькуляция!$A$15:$A$268,$A65,Калькуляция!$B$15:$B$268,$B65)","v":0},{"$f":"IF(AL65=0,0,(AM65-AL65)/AL65*100)","v":0},{"$f":"SUMIFS(INDEX(Калькуляция!$T$15:$AM$268,,MATCH(AO$3,Калькуляция!$T$3:$AM$3,0)),Калькуляция!$A$15:$A$268,$A65,Калькуляция!$B$15:$B$268,$B65)","v":0},{"$f":"SUMIFS(INDEX(Калькуляция!$T$15:$AM$268,,MATCH(AP$3,Калькуляция!$T$3:$AM$3,0)),Калькуляция!$A$15:$A$268,$A65,Калькуляция!$B$15:$B$268,$B65)","v":0},{"$f":"IF(AO65=0,0,(AP65-AO65)/AO65*100)","v":0},null,null,{"$f":"IF(AR65=0,0,(AS65-AR65)/AR65*100)","v":0},null,null,{"$f":"IF(AU65=0,0,(AV65-AU65)/AU65*100)","v":0},null,null,{"$f":"IF(AX65=0,0,(AY65-AX65)/AX65*100)","v":0},null,null,{"$f":"IF(BA65=0,0,(BB65-BA65)/BA65*100)","v":0},null,null,{"$f":"IF(BD65=0,0,(BE65-BD65)/BD65*100)","v":0},null,null,{"$f":"IF(BG65=0,0,(BH65-BG65)/BG65*100)","v":0},null,null,{"$f":"IF(BJ65=0,0,(BK65-BJ65)/BJ65*100)","v":0},null,null,{"$f":"IF(BM65=0,0,(BN65-BM65)/BM65*100)","v":0},null,null,{"$f":"IF(BP65=0,0,(BQ65-BP65)/BP65*100)","v":0},null,null,{"$f":"IF(BS65=0,0,(BT65-BS65)/BS65*100)","v":0},null,null,{"$f":"IF(BV65=0,0,(BW65-BV65)/BV65*100)","v":0},null,null,{"$f":"IF(BY65=0,0,(BZ65-BY65)/BY65*100)","v":0},null,null,{"$f":"IF(CB65=0,0,(CC65-CB65)/CB65*100)","v":0},null,null,{"$f":"IF(CE65=0,0,(CF65-CE65)/CE65*100)","v":0},null,null,{"$f":"IF(CH65=0,0,(CI65-CH65)/CH65*100)","v":0},null,null,{"$f":"IF(CK65=0,0,(CL65-CK65)/CK65*100)","v":0},null,null,{"$f":"IF(CN65=0,0,(CO65-CN65)/CN65*100)","v":0},null,null,{"$f":"IF(CQ65=0,0,(CR65-CQ65)/CQ65*100)","v":0},null,null,{"$f":"IF(CT65=0,0,(CU65-CT65)/CT65*100)","v":0},null,null,{"$f":"IF(CW65=0,0,(CX65-CW65)/CW65*100)","v":0},null,null,{"$f":"IF(CZ65=0,0,(DA65-CZ65)/CZ65*100)","v":0},null,null,{"$f":"IF(DC65=0,0,(DD65-DC65)/DC65*100)","v":0},null,null,{"$f":"IF(DF65=0,0,(DG65-DF65)/DF65*100)","v":0},null,null,{"$f":"IF(DI65=0,0,(DJ65-DI65)/DI65*100)","v":0},null,null,{"$f":"IF(DL65=0,0,(DM65-DL65)/DL65*100)","v":0},null,null,{"$f":"IF(DO65=0,0,(DP65-DO65)/DO65*100)","v":0},null,null,{"$f":"IF(DR65=0,0,(DS65-DR65)/DR65*100)","v":0},null,null,{"$f":"IF(DU65=0,0,(DV65-DU65)/DU65*100)","v":0},null,null,{"$f":"IF(DX65=0,0,(DY65-DX65)/DX65*100)","v":0},null,null,{"$f":"IF(EA65=0,0,(EB65-EA65)/EA65*100)","v":0},null,null,{"$f":"IF(ED65=0,0,(EE65-ED65)/ED65*100)","v":0},null,null,{"$f":"IF(EG65=0,0,(EH65-EG65)/EG65*100)","v":0},null,null,{"$f":"IF(EJ65=0,0,(EK65-EJ65)/EJ65*100)","v":0},null,null,{"$f":"IF(EM65=0,0,(EN65-EM65)/EM65*100)","v":0},null,null,{"$f":"IF(EP65=0,0,(EQ65-EP65)/EP65*100)","v":0},null,null,{"$f":"IF(ES65=0,0,(ET65-ES65)/ES65*100)","v":0},null,null,{"$f":"IF(EV65=0,0,(EW65-EV65)/EV65*100)","v":0},null,null,{"$f":"IF(EY65=0,0,(EZ65-EY65)/EY65*100)","v":0},null,null,{"$f":"IF(FB65=0,0,(FC65-FB65)/FB65*100)","v":0},null,null,{"$f":"IF(FE65=0,0,(FF65-FE65)/FE65*100)","v":0}]
["2","тариф.население.I","L1_1","для населения с 01.01 по 30.06 с НДС",null,null,{"$f":"F57=\"одноставочный\"","v":true},null,null,null,null,"Тариф с 01.01 по 30.06 для населения с НДС","руб./куб.м",{"$f":"SUMIFS(INDEX(Калькуляция!$T$15:$AM$268,,MATCH(N$3,Калькуляция!$T$3:$AM$3,0)),Калькуляция!$A$15:$A$268,$A66,Калькуляция!$B$15:$B$268,$B66)","v":0},{"$f":"SUMIFS(INDEX(Калькуляция!$T$15:$AM$268,,MATCH(O$3,Калькуляция!$T$3:$AM$3,0)),Калькуляция!$A$15:$A$268,$A66,Калькуляция!$B$15:$B$268,$B66)","v":0},{"$f":"IF(N66=0,0,(O66-N66)/N66*100)","v":0},{"$f":"SUMIFS(INDEX(Калькуляция!$T$15:$AM$268,,MATCH(Q$3,Калькуляция!$T$3:$AM$3,0)),Калькуляция!$A$15:$A$268,$A66,Калькуляция!$B$15:$B$268,$B66)","v":0},{"$f":"SUMIFS(INDEX(Калькуляция!$T$15:$AM$268,,MATCH(R$3,Калькуляция!$T$3:$AM$3,0)),Калькуляция!$A$15:$A$268,$A66,Калькуляция!$B$15:$B$268,$B66)","v":0},{"$f":"IF(Q66=0,0,(R66-Q66)/Q66*100)","v":0},{"$f":"SUMIFS(INDEX(Калькуляция!$T$15:$AM$268,,MATCH(T$3,Калькуляция!$T$3:$AM$3,0)),Калькуляция!$A$15:$A$268,$A66,Калькуляция!$B$15:$B$268,$B66)","v":0},{"$f":"SUMIFS(INDEX(Калькуляция!$T$15:$AM$268,,MATCH(U$3,Калькуляция!$T$3:$AM$3,0)),Калькуляция!$A$15:$A$268,$A66,Калькуляция!$B$15:$B$268,$B66)","v":0},{"$f":"IF(T66=0,0,(U66-T66)/T66*100)","v":0},{"$f":"SUMIFS(INDEX(Калькуляция!$T$15:$AM$268,,MATCH(W$3,Калькуляция!$T$3:$AM$3,0)),Калькуляция!$A$15:$A$268,$A66,Калькуляция!$B$15:$B$268,$B66)","v":0},{"$f":"SUMIFS(INDEX(Калькуляция!$T$15:$AM$268,,MATCH(X$3,Калькуляция!$T$3:$AM$3,0)),Калькуляция!$A$15:$A$268,$A66,Калькуляция!$B$15:$B$268,$B66)","v":0},{"$f":"IF(W66=0,0,(X66-W66)/W66*100)","v":0},{"$f":"SUMIFS(INDEX(Калькуляция!$T$15:$AM$268,,MATCH(Z$3,Калькуляция!$T$3:$AM$3,0)),Калькуляция!$A$15:$A$268,$A66,Калькуляция!$B$15:$B$268,$B66)","v":0},{"$f":"SUMIFS(INDEX(Калькуляция!$T$15:$AM$268,,MATCH(AA$3,Калькуляция!$T$3:$AM$3,0)),Калькуляция!$A$15:$A$268,$A66,Калькуляция!$B$15:$B$268,$B66)","v":0},{"$f":"IF(Z66=0,0,(AA66-Z66)/Z66*100)","v":0},{"$f":"SUMIFS(INDEX(Калькуляция!$T$15:$AM$268,,MATCH(AC$3,Калькуляция!$T$3:$AM$3,0)),Калькуляция!$A$15:$A$268,$A66,Калькуляция!$B$15:$B$268,$B66)","v":0},{"$f":"SUMIFS(INDEX(Калькуляция!$T$15:$AM$268,,MATCH(AD$3,Калькуляция!$T$3:$AM$3,0)),Калькуляция!$A$15:$A$268,$A66,Калькуляция!$B$15:$B$268,$B66)","v":0},{"$f":"IF(AC66=0,0,(AD66-AC66)/AC66*100)","v":0},{"$f":"SUMIFS(INDEX(Калькуляция!$T$15:$AM$268,,MATCH(AF$3,Калькуляция!$T$3:$AM$3,0)),Калькуляция!$A$15:$A$268,$A66,Калькуляция!$B$15:$B$268,$B66)","v":0},{"$f":"SUMIFS(INDEX(Калькуляция!$T$15:$AM$268,,MATCH(AG$3,Калькуляция!$T$3:$AM$3,0)),Калькуляция!$A$15:$A$268,$A66,Калькуляция!$B$15:$B$268,$B66)","v":0},{"$f":"IF(AF66=0,0,(AG66-AF66)/AF66*100)","v":0},{"$f":"SUMIFS(INDEX(Калькуляция!$T$15:$AM$268,,MATCH(AI$3,Калькуляция!$T$3:$AM$3,0)),Калькуляция!$A$15:$A$268,$A66,Калькуляция!$B$15:$B$268,$B66)","v":0},{"$f":"SUMIFS(INDEX(Калькуляция!$T$15:$AM$268,,MATCH(AJ$3,Калькуляция!$T$3:$AM$3,0)),Калькуляция!$A$15:$A$268,$A66,Калькуляция!$B$15:$B$268,$B66)","v":0},{"$f":"IF(AI66=0,0,(AJ66-AI66)/AI66*100)","v":0},{"$f":"SUMIFS(INDEX(Калькуляция!$T$15:$AM$268,,MATCH(AL$3,Калькуляция!$T$3:$AM$3,0)),Калькуляция!$A$15:$A$268,$A66,Калькуляция!$B$15:$B$268,$B66)","v":0},{"$f":"SUMIFS(INDEX(Калькуляция!$T$15:$AM$268,,MATCH(AM$3,Калькуляция!$T$3:$AM$3,0)),Калькуляция!$A$15:$A$268,$A66,Калькуляция!$B$15:$B$268,$B66)","v":0},{"$f":"IF(AL66=0,0,(AM66-AL66)/AL66*100)","v":0},{"$f":"SUMIFS(INDEX(Калькуляция!$T$15:$AM$268,,MATCH(AO$3,Калькуляция!$T$3:$AM$3,0)),Калькуляция!$A$15:$A$268,$A66,Калькуляция!$B$15:$B$268,$B66)","v":0},{"$f":"SUMIFS(INDEX(Калькуляция!$T$15:$AM$268,,MATCH(AP$3,Калькуляция!$T$3:$AM$3,0)),Калькуляция!$A$15:$A$268,$A66,Калькуляция!$B$15:$B$268,$B66)","v":0},{"$f":"IF(AO66=0,0,(AP66-AO66)/AO66*100)","v":0},null,null,{"$f":"IF(AR66=0,0,(AS66-AR66)/AR66*100)","v":0},null,null,{"$f":"IF(AU66=0,0,(AV66-AU66)/AU66*100)","v":0},null,null,{"$f":"IF(AX66=0,0,(AY66-AX66)/AX66*100)","v":0},null,null,{"$f":"IF(BA66=0,0,(BB66-BA66)/BA66*100)","v":0},null,null,{"$f":"IF(BD66=0,0,(BE66-BD66)/BD66*100)","v":0},null,null,{"$f":"IF(BG66=0,0,(BH66-BG66)/BG66*100)","v":0},null,null,{"$f":"IF(BJ66=0,0,(BK66-BJ66)/BJ66*100)","v":0},null,null,{"$f":"IF(BM66=0,0,(BN66-BM66)/BM66*100)","v":0},null,null,{"$f":"IF(BP66=0,0,(BQ66-BP66)/BP66*100)","v":0},null,null,{"$f":"IF(BS66=0,0,(BT66-BS66)/BS66*100)","v":0},null,null,{"$f":"IF(BV66=0,0,(BW66-BV66)/BV66*100)","v":0},null,null,{"$f":"IF(BY66=0,0,(BZ66-BY66)/BY66*100)","v":0},null,null,{"$f":"IF(CB66=0,0,(CC66-CB66)/CB66*100)","v":0},null,null,{"$f":"IF(CE66=0,0,(CF66-CE66)/CE66*100)","v":0},null,null,{"$f":"IF(CH66=0,0,(CI66-CH66)/CH66*100)","v":0},null,null,{"$f":"IF(CK66=0,0,(CL66-CK66)/CK66*100)","v":0},null,null,{"$f":"IF(CN66=0,0,(CO66-CN66)/CN66*100)","v":0},null,null,{"$f":"IF(CQ66=0,0,(CR66-CQ66)/CQ66*100)","v":0},null,null,{"$f":"IF(CT66=0,0,(CU66-CT66)/CT66*100)","v":0},null,null,{"$f":"IF(CW66=0,0,(CX66-CW66)/CW66*100)","v":0},null,null,{"$f":"IF(CZ66=0,0,(DA66-CZ66)/CZ66*100)","v":0},null,null,{"$f":"IF(DC66=0,0,(DD66-DC66)/DC66*100)","v":0},null,null,{"$f":"IF(DF66=0,0,(DG66-DF66)/DF66*100)","v":0},null,null,{"$f":"IF(DI66=0,0,(DJ66-DI66)/DI66*100)","v":0},null,null,{"$f":"IF(DL66=0,0,(DM66-DL66)/DL66*100)","v":0},null,null,{"$f":"IF(DO66=0,0,(DP66-DO66)/DO66*100)","v":0},null,null,{"$f":"IF(DR66=0,0,(DS66-DR66)/DR66*100)","v":0},null,null,{"$f":"IF(DU66=0,0,(DV66-DU66)/DU66*100)","v":0},null,null,{"$f":"IF(DX66=0,0,(DY66-DX66)/DX66*100)","v":0},null,null,{"$f":"IF(EA66=0,0,(EB66-EA66)/EA66*100)","v":0},null,null,{"$f":"IF(ED66=0,0,(EE66-ED66)/ED66*100)","v":0},null,null,{"$f":"IF(EG66=0,0,(EH66-EG66)/EG66*100)","v":0},null,null,{"$f":"IF(EJ66=0,0,(EK66-EJ66)/EJ66*100)","v":0},null,null,{"$f":"IF(EM66=0,0,(EN66-EM66)/EM66*100)","v":0},null,null,{"$f":"IF(EP66=0,0,(EQ66-EP66)/EP66*100)","v":0},null,null,{"$f":"IF(ES66=0,0,(ET66-ES66)/ES66*100)","v":0},null,null,{"$f":"IF(EV66=0,0,(EW66-EV66)/EV66*100)","v":0},null,null,{"$f":"IF(EY66=0,0,(EZ66-EY66)/EY66*100)","v":0},null,null,{"$f":"IF(FB66=0,0,(FC66-FB66)/FB66*100)","v":0},null,null,{"$f":"IF(FE66=0,0,(FF66-FE66)/FE66*100)","v":0}]
["2","тариф.население.II","L1_1","для населения с 01.07 по 31.12 с НДС",null,null,{"$f":"F57=\"одноставочный\"","v":true},null,null,null,null,"Тариф с 01.07 по 31.12 для населения с НДС","руб./куб.м",{"$f":"SUMIFS(INDEX(Калькуляция!$T$15:$AM$268,,MATCH(N$3,Калькуляция!$T$3:$AM$3,0)),Калькуляция!$A$15:$A$268,$A67,Калькуляция!$B$15:$B$268,$B67)","v":0},{"$f":"SUMIFS(INDEX(Калькуляция!$T$15:$AM$268,,MATCH(O$3,Калькуляция!$T$3:$AM$3,0)),Калькуляция!$A$15:$A$268,$A67,Калькуляция!$B$15:$B$268,$B67)","v":0},{"$f":"IF(N67=0,0,(O67-N67)/N67*100)","v":0},{"$f":"SUMIFS(INDEX(Калькуляция!$T$15:$AM$268,,MATCH(Q$3,Калькуляция!$T$3:$AM$3,0)),Калькуляция!$A$15:$A$268,$A67,Калькуляция!$B$15:$B$268,$B67)","v":0},{"$f":"SUMIFS(INDEX(Калькуляция!$T$15:$AM$268,,MATCH(R$3,Калькуляция!$T$3:$AM$3,0)),Калькуляция!$A$15:$A$268,$A67,Калькуляция!$B$15:$B$268,$B67)","v":0},{"$f":"IF(Q67=0,0,(R67-Q67)/Q67*100)","v":0},{"$f":"SUMIFS(INDEX(Калькуляция!$T$15:$AM$268,,MATCH(T$3,Калькуляция!$T$3:$AM$3,0)),Калькуляция!$A$15:$A$268,$A67,Калькуляция!$B$15:$B$268,$B67)","v":0},{"$f":"SUMIFS(INDEX(Калькуляция!$T$15:$AM$268,,MATCH(U$3,Калькуляция!$T$3:$AM$3,0)),Калькуляция!$A$15:$A$268,$A67,Калькуляция!$B$15:$B$268,$B67)","v":0},{"$f":"IF(T67=0,0,(U67-T67)/T67*100)","v":0},{"$f":"SUMIFS(INDEX(Калькуляция!$T$15:$AM$268,,MATCH(W$3,Калькуляция!$T$3:$AM$3,0)),Калькуляция!$A$15:$A$268,$A67,Калькуляция!$B$15:$B$268,$B67)","v":0},{"$f":"SUMIFS(INDEX(Калькуляция!$T$15:$AM$268,,MATCH(X$3,Калькуляция!$T$3:$AM$3,0)),Калькуляция!$A$15:$A$268,$A67,Калькуляция!$B$15:$B$268,$B67)","v":0},{"$f":"IF(W67=0,0,(X67-W67)/W67*100)","v":0},{"$f":"SUMIFS(INDEX(Калькуляция!$T$15:$AM$268,,MATCH(Z$3,Калькуляция!$T$3:$AM$3,0)),Калькуляция!$A$15:$A$268,$A67,Калькуляция!$B$15:$B$268,$B67)","v":0},{"$f":"SUMIFS(INDEX(Калькуляция!$T$15:$AM$268,,MATCH(AA$3,Калькуляция!$T$3:$AM$3,0)),Калькуляция!$A$15:$A$268,$A67,Калькуляция!$B$15:$B$268,$B67)","v":0},{"$f":"IF(Z67=0,0,(AA67-Z67)/Z67*100)","v":0},{"$f":"SUMIFS(INDEX(Калькуляция!$T$15:$AM$268,,MATCH(AC$3,Калькуляция!$T$3:$AM$3,0)),Калькуляция!$A$15:$A$268,$A67,Калькуляция!$B$15:$B$268,$B67)","v":0},{"$f":"SUMIFS(INDEX(Калькуляция!$T$15:$AM$268,,MATCH(AD$3,Калькуляция!$T$3:$AM$3,0)),Калькуляция!$A$15:$A$268,$A67,Калькуляция!$B$15:$B$268,$B67)","v":0},{"$f":"IF(AC67=0,0,(AD67-AC67)/AC67*100)","v":0},{"$f":"SUMIFS(INDEX(Калькуляция!$T$15:$AM$268,,MATCH(AF$3,Калькуляция!$T$3:$AM$3,0)),Калькуляция!$A$15:$A$268,$A67,Калькуляция!$B$15:$B$268,$B67)","v":0},{"$f":"SUMIFS(INDEX(Калькуляция!$T$15:$AM$268,,MATCH(AG$3,Калькуляция!$T$3:$AM$3,0)),Калькуляция!$A$15:$A$268,$A67,Калькуляция!$B$15:$B$268,$B67)","v":0},{"$f":"IF(AF67=0,0,(AG67-AF67)/AF67*100)","v":0},{"$f":"SUMIFS(INDEX(Калькуляция!$T$15:$AM$268,,MATCH(AI$3,Калькуляция!$T$3:$AM$3,0)),Калькуляция!$A$15:$A$268,$A67,Калькуляция!$B$15:$B$268,$B67)","v":0},{"$f":"SUMIFS(INDEX(Калькуляция!$T$15:$AM$268,,MATCH(AJ$3,Калькуляция!$T$3:$AM$3,0)),Калькуляция!$A$15:$A$268,$A67,Калькуляция!$B$15:$B$268,$B67)","v":0},{"$f":"IF(AI67=0,0,(AJ67-AI67)/AI67*100)","v":0},{"$f":"SUMIFS(INDEX(Калькуляция!$T$15:$AM$268,,MATCH(AL$3,Калькуляция!$T$3:$AM$3,0)),Калькуляция!$A$15:$A$268,$A67,Калькуляция!$B$15:$B$268,$B67)","v":0},{"$f":"SUMIFS(INDEX(Калькуляция!$T$15:$AM$268,,MATCH(AM$3,Калькуляция!$T$3:$AM$3,0)),Калькуляция!$A$15:$A$268,$A67,Калькуляция!$B$15:$B$268,$B67)","v":0},{"$f":"IF(AL67=0,0,(AM67-AL67)/AL67*100)","v":0},{"$f":"SUMIFS(INDEX(Калькуляция!$T$15:$AM$268,,MATCH(AO$3,Калькуляция!$T$3:$AM$3,0)),Калькуляция!$A$15:$A$268,$A67,Калькуляция!$B$15:$B$268,$B67)","v":0},{"$f":"SUMIFS(INDEX(Калькуляция!$T$15:$AM$268,,MATCH(AP$3,Калькуляция!$T$3:$AM$3,0)),Калькуляция!$A$15:$A$268,$A67,Калькуляция!$B$15:$B$268,$B67)","v":0},{"$f":"IF(AO67=0,0,(AP67-AO67)/AO67*100)","v":0},null,null,{"$f":"IF(AR67=0,0,(AS67-AR67)/AR67*100)","v":0},null,null,{"$f":"IF(AU67=0,0,(AV67-AU67)/AU67*100)","v":0},null,null,{"$f":"IF(AX67=0,0,(AY67-AX67)/AX67*100)","v":0},null,null,{"$f":"IF(BA67=0,0,(BB67-BA67)/BA67*100)","v":0},null,null,{"$f":"IF(BD67=0,0,(BE67-BD67)/BD67*100)","v":0},null,null,{"$f":"IF(BG67=0,0,(BH67-BG67)/BG67*100)","v":0},null,null,{"$f":"IF(BJ67=0,0,(BK67-BJ67)/BJ67*100)","v":0},null,null,{"$f":"IF(BM67=0,0,(BN67-BM67)/BM67*100)","v":0},null,null,{"$f":"IF(BP67=0,0,(BQ67-BP67)/BP67*100)","v":0},null,null,{"$f":"IF(BS67=0,0,(BT67-BS67)/BS67*100)","v":0},null,null,{"$f":"IF(BV67=0,0,(BW67-BV67)/BV67*100)","v":0},null,null,{"$f":"IF(BY67=0,0,(BZ67-BY67)/BY67*100)","v":0},null,null,{"$f":"IF(CB67=0,0,(CC67-CB67)/CB67*100)","v":0},null,null,{"$f":"IF(CE67=0,0,(CF67-CE67)/CE67*100)","v":0},null,null,{"$f":"IF(CH67=0,0,(CI67-CH67)/CH67*100)","v":0},null,null,{"$f":"IF(CK67=0,0,(CL67-CK67)/CK67*100)","v":0},null,null,{"$f":"IF(CN67=0,0,(CO67-CN67)/CN67*100)","v":0},null,null,{"$f":"IF(CQ67=0,0,(CR67-CQ67)/CQ67*100)","v":0},null,null,{"$f":"IF(CT67=0,0,(CU67-CT67)/CT67*100)","v":0},null,null,{"$f":"IF(CW67=0,0,(CX67-CW67)/CW67*100)","v":0},null,null,{"$f":"IF(CZ67=0,0,(DA67-CZ67)/CZ67*100)","v":0},null,null,{"$f":"IF(DC67=0,0,(DD67-DC67)/DC67*100)","v":0},null,null,{"$f":"IF(DF67=0,0,(DG67-DF67)/DF67*100)","v":0},null,null,{"$f":"IF(DI67=0,0,(DJ67-DI67)/DI67*100)","v":0},null,null,{"$f":"IF(DL67=0,0,(DM67-DL67)/DL67*100)","v":0},null,null,{"$f":"IF(DO67=0,0,(DP67-DO67)/DO67*100)","v":0},null,null,{"$f":"IF(DR67=0,0,(DS67-DR67)/DR67*100)","v":0},null,null,{"$f":"IF(DU67=0,0,(DV67-DU67)/DU67*100)","v":0},null,null,{"$f":"IF(DX67=0,0,(DY67-DX67)/DX67*100)","v":0},null,null,{"$f":"IF(EA67=0,0,(EB67-EA67)/EA67*100)","v":0},null,null,{"$f":"IF(ED67=0,0,(EE67-ED67)/ED67*100)","v":0},null,null,{"$f":"IF(EG67=0,0,(EH67-EG67)/EG67*100)","v":0},null,null,{"$f":"IF(EJ67=0,0,(EK67-EJ67)/EJ67*100)","v":0},null,null,{"$f":"IF(EM67=0,0,(EN67-EM67)/EM67*100)","v":0},null,null,{"$f":"IF(EP67=0,0,(EQ67-EP67)/EP67*100)","v":0},null,null,{"$f":"IF(ES67=0,0,(ET67-ES67)/ES67*100)","v":0},null,null,{"$f":"IF(EV67=0,0,(EW67-EV67)/EV67*100)","v":0},null,null,{"$f":"IF(EY67=0,0,(EZ67-EY67)/EY67*100)","v":0},null,null,{"$f":"IF(FB67=0,0,(FC67-FB67)/FB67*100)","v":0},null,null,{"$f":"IF(FE67=0,0,(FF67-FE67)/FE67*100)","v":0}]
["2",null,"L1_2","для населения с НДС",null,null,{"$f":"F57=\"одноставочный\"","v":true},null,null,null,null,"Темп роста тарифов с 01.07","%",{"$f":"IF(N66=0,0,N67/N66)*100","v":0},{"$f":"IF(O66=0,0,O67/O66)*100","v":0},null,{"$f":"IF(Q66=0,0,Q67/Q66)*100","v":0},{"$f":"IF(R66=0,0,R67/R66)*100","v":0},null,{"$f":"IF(T66=0,0,T67/T66)*100","v":0},{"$f":"IF(U66=0,0,U67/U66)*100","v":0},null,{"$f":"IF(W66=0,0,W67/W66)*100","v":0},{"$f":"IF(X66=0,0,X67/X66)*100","v":0},null,{"$f":"IF(Z66=0,0,Z67/Z66)*100","v":0},{"$f":"IF(AA66=0,0,AA67/AA66)*100","v":0},null,{"$f":"IF(AC66=0,0,AC67/AC66)*100","v":0},{"$f":"IF(AD66=0,0,AD67/AD66)*100","v":0},null,{"$f":"IF(AF66=0,0,AF67/AF66)*100","v":0},{"$f":"IF(AG66=0,0,AG67/AG66)*100","v":0},null,{"$f":"IF(AI66=0,0,AI67/AI66)*100","v":0},{"$f":"IF(AJ66=0,0,AJ67/AJ66)*100","v":0},null,{"$f":"IF(AL66=0,0,AL67/AL66)*100","v":0},{"$f":"IF(AM66=0,0,AM67/AM66)*100","v":0},null,{"$f":"IF(AO66=0,0,AO67/AO66)*100","v":0},{"$f":"IF(AP66=0,0,AP67/AP66)*100","v":0},null,{"$f":"IF(AR66=0,0,AR67/AR66)*100","v":0},{"$f":"IF(AS66=0,0,AS67/AS66)*100","v":0},null,{"$f":"IF(AU66=0,0,AU67/AU66)*100","v":0},{"$f":"IF(AV66=0,0,AV67/AV66)*100","v":0},null,{"$f":"IF(AX66=0,0,AX67/AX66)*100","v":0},{"$f":"IF(AY66=0,0,AY67/AY66)*100","v":0},null,{"$f":"IF(BA66=0,0,BA67/BA66)*100","v":0},{"$f":"IF(BB66=0,0,BB67/BB66)*100","v":0},null,{"$f":"IF(BD66=0,0,BD67/BD66)*100","v":0},{"$f":"IF(BE66=0,0,BE67/BE66)*100","v":0},null,{"$f":"IF(BG66=0,0,BG67/BG66)*100","v":0},{"$f":"IF(BH66=0,0,BH67/BH66)*100","v":0},null,{"$f":"IF(BJ66=0,0,BJ67/BJ66)*100","v":0},{"$f":"IF(BK66=0,0,BK67/BK66)*100","v":0},null,{"$f":"IF(BM66=0,0,BM67/BM66)*100","v":0},{"$f":"IF(BN66=0,0,BN67/BN66)*100","v":0},null,{"$f":"IF(BP66=0,0,BP67/BP66)*100","v":0},{"$f":"IF(BQ66=0,0,BQ67/BQ66)*100","v":0},null,{"$f":"IF(BS66=0,0,BS67/BS66)*100","v":0},{"$f":"IF(BT66=0,0,BT67/BT66)*100","v":0},null,{"$f":"IF(BV66=0,0,BV67/BV66)*100","v":0},{"$f":"IF(BW66=0,0,BW67/BW66)*100","v":0},null,{"$f":"IF(BY66=0,0,BY67/BY66)*100","v":0},{"$f":"IF(BZ66=0,0,BZ67/BZ66)*100","v":0},null,{"$f":"IF(CB66=0,0,CB67/CB66)*100","v":0},{"$f":"IF(CC66=0,0,CC67/CC66)*100","v":0},null,{"$f":"IF(CE66=0,0,CE67/CE66)*100","v":0},{"$f":"IF(CF66=0,0,CF67/CF66)*100","v":0},null,{"$f":"IF(CH66=0,0,CH67/CH66)*100","v":0},{"$f":"IF(CI66=0,0,CI67/CI66)*100","v":0},null,{"$f":"IF(CK66=0,0,CK67/CK66)*100","v":0},{"$f":"IF(CL66=0,0,CL67/CL66)*100","v":0},null,{"$f":"IF(CN66=0,0,CN67/CN66)*100","v":0},{"$f":"IF(CO66=0,0,CO67/CO66)*100","v":0},null,{"$f":"IF(CQ66=0,0,CQ67/CQ66)*100","v":0},{"$f":"IF(CR66=0,0,CR67/CR66)*100","v":0},null,{"$f":"IF(CT66=0,0,CT67/CT66)*100","v":0},{"$f":"IF(CU66=0,0,CU67/CU66)*100","v":0},null,{"$f":"IF(CW66=0,0,CW67/CW66)*100","v":0},{"$f":"IF(CX66=0,0,CX67/CX66)*100","v":0},null,{"$f":"IF(CZ66=0,0,CZ67/CZ66)*100","v":0},{"$f":"IF(DA66=0,0,DA67/DA66)*100","v":0},null,{"$f":"IF(DC66=0,0,DC67/DC66)*100","v":0},{"$f":"IF(DD66=0,0,DD67/DD66)*100","v":0},null,{"$f":"IF(DF66=0,0,DF67/DF66)*100","v":0},{"$f":"IF(DG66=0,0,DG67/DG66)*100","v":0},null,{"$f":"IF(DI66=0,0,DI67/DI66)*100","v":0},{"$f":"IF(DJ66=0,0,DJ67/DJ66)*100","v":0},null,{"$f":"IF(DL66=0,0,DL67/DL66)*100","v":0},{"$f":"IF(DM66=0,0,DM67/DM66)*100","v":0},null,{"$f":"IF(DO66=0,0,DO67/DO66)*100","v":0},{"$f":"IF(DP66=0,0,DP67/DP66)*100","v":0},null,{"$f":"IF(DR66=0,0,DR67/DR66)*100","v":0},{"$f":"IF(DS66=0,0,DS67/DS66)*100","v":0},null,{"$f":"IF(DU66=0,0,DU67/DU66)*100","v":0},{"$f":"IF(DV66=0,0,DV67/DV66)*100","v":0},null,{"$f":"IF(DX66=0,0,DX67/DX66)*100","v":0},{"$f":"IF(DY66=0,0,DY67/DY66)*100","v":0},null,{"$f":"IF(EA66=0,0,EA67/EA66)*100","v":0},{"$f":"IF(EB66=0,0,EB67/EB66)*100","v":0},null,{"$f":"IF(ED66=0,0,ED67/ED66)*100","v":0},{"$f":"IF(EE66=0,0,EE67/EE66)*100","v":0},null,{"$f":"IF(EG66=0,0,EG67/EG66)*100","v":0},{"$f":"IF(EH66=0,0,EH67/EH66)*100","v":0},null,{"$f":"IF(EJ66=0,0,EJ67/EJ66)*100","v":0},{"$f":"IF(EK66=0,0,EK67/EK66)*100","v":0},null,{"$f":"IF(EM66=0,0,EM67/EM66)*100","v":0},{"$f":"IF(EN66=0,0,EN67/EN66)*100","v":0},null,{"$f":"IF(EP66=0,0,EP67/EP66)*100","v":0},{"$f":"IF(EQ66=0,0,EQ67/EQ66)*100","v":0},null,{"$f":"IF(ES66=0,0,ES67/ES66)*100","v":0},{"$f":"IF(ET66=0,0,ET67/ET66)*100","v":0},null,{"$f":"IF(EV66=0,0,EV67/EV66)*100","v":0},{"$f":"IF(EW66=0,0,EW67/EW66)*100","v":0},null,{"$f":"IF(EY66=0,0,EY67/EY66)*100","v":0},{"$f":"IF(EZ66=0,0,EZ67/EZ66)*100","v":0},null,{"$f":"IF(FB66=0,0,FB67/FB66)*100","v":0},{"$f":"IF(FC66=0,0,FC67/FC66)*100","v":0},null,{"$f":"IF(FE66=0,0,FE67/FE66)*100","v":0},{"$f":"IF(FF66=0,0,FF67/FF66)*100","v":0}]
["2","ПО.население","L1_3","для населения с НДС",null,null,{"$f":"F57=\"одноставочный\"","v":true},null,null,null,null,"Объём реализации услуги для населения с 01.01 по 31.12","тыс.куб.м",{"$f":"SUMIFS(INDEX(Калькуляция!$T$15:$AM$268,,MATCH(N$3,Калькуляция!$T$3:$AM$3,0)),Калькуляция!$A$15:$A$268,$A69,Калькуляция!$B$15:$B$268,$B69)","v":0},{"$f":"SUMIFS(INDEX(Калькуляция!$T$15:$AM$268,,MATCH(O$3,Калькуляция!$T$3:$AM$3,0)),Калькуляция!$A$15:$A$268,$A69,Калькуляция!$B$15:$B$268,$B69)","v":0},{"$f":"IF(N69=0,0,(O69-N69)/N69*100)","v":0},{"$f":"SUMIFS(INDEX(Калькуляция!$T$15:$AM$268,,MATCH(Q$3,Калькуляция!$T$3:$AM$3,0)),Калькуляция!$A$15:$A$268,$A69,Калькуляция!$B$15:$B$268,$B69)","v":0},{"$f":"SUMIFS(INDEX(Калькуляция!$T$15:$AM$268,,MATCH(R$3,Калькуляция!$T$3:$AM$3,0)),Калькуляция!$A$15:$A$268,$A69,Калькуляция!$B$15:$B$268,$B69)","v":0},{"$f":"IF(Q69=0,0,(R69-Q69)/Q69*100)","v":0},{"$f":"SUMIFS(INDEX(Калькуляция!$T$15:$AM$268,,MATCH(T$3,Калькуляция!$T$3:$AM$3,0)),Калькуляция!$A$15:$A$268,$A69,Калькуляция!$B$15:$B$268,$B69)","v":0},{"$f":"SUMIFS(INDEX(Калькуляция!$T$15:$AM$268,,MATCH(U$3,Калькуляция!$T$3:$AM$3,0)),Калькуляция!$A$15:$A$268,$A69,Калькуляция!$B$15:$B$268,$B69)","v":0},{"$f":"IF(T69=0,0,(U69-T69)/T69*100)","v":0},{"$f":"SUMIFS(INDEX(Калькуляция!$T$15:$AM$268,,MATCH(W$3,Калькуляция!$T$3:$AM$3,0)),Калькуляция!$A$15:$A$268,$A69,Калькуляция!$B$15:$B$268,$B69)","v":0},{"$f":"SUMIFS(INDEX(Калькуляция!$T$15:$AM$268,,MATCH(X$3,Калькуляция!$T$3:$AM$3,0)),Калькуляция!$A$15:$A$268,$A69,Калькуляция!$B$15:$B$268,$B69)","v":0},{"$f":"IF(W69=0,0,(X69-W69)/W69*100)","v":0},{"$f":"SUMIFS(INDEX(Калькуляция!$T$15:$AM$268,,MATCH(Z$3,Калькуляция!$T$3:$AM$3,0)),Калькуляция!$A$15:$A$268,$A69,Калькуляция!$B$15:$B$268,$B69)","v":0},{"$f":"SUMIFS(INDEX(Калькуляция!$T$15:$AM$268,,MATCH(AA$3,Калькуляция!$T$3:$AM$3,0)),Калькуляция!$A$15:$A$268,$A69,Калькуляция!$B$15:$B$268,$B69)","v":0},{"$f":"IF(Z69=0,0,(AA69-Z69)/Z69*100)","v":0},{"$f":"SUMIFS(INDEX(Калькуляция!$T$15:$AM$268,,MATCH(AC$3,Калькуляция!$T$3:$AM$3,0)),Калькуляция!$A$15:$A$268,$A69,Калькуляция!$B$15:$B$268,$B69)","v":0},{"$f":"SUMIFS(INDEX(Калькуляция!$T$15:$AM$268,,MATCH(AD$3,Калькуляция!$T$3:$AM$3,0)),Калькуляция!$A$15:$A$268,$A69,Калькуляция!$B$15:$B$268,$B69)","v":0},{"$f":"IF(AC69=0,0,(AD69-AC69)/AC69*100)","v":0},{"$f":"SUMIFS(INDEX(Калькуляция!$T$15:$AM$268,,MATCH(AF$3,Калькуляция!$T$3:$AM$3,0)),Калькуляция!$A$15:$A$268,$A69,Калькуляция!$B$15:$B$268,$B69)","v":0},{"$f":"SUMIFS(INDEX(Калькуляция!$T$15:$AM$268,,MATCH(AG$3,Калькуляция!$T$3:$AM$3,0)),Калькуляция!$A$15:$A$268,$A69,Калькуляция!$B$15:$B$268,$B69)","v":0},{"$f":"IF(AF69=0,0,(AG69-AF69)/AF69*100)","v":0},{"$f":"SUMIFS(INDEX(Калькуляция!$T$15:$AM$268,,MATCH(AI$3,Калькуляция!$T$3:$AM$3,0)),Калькуляция!$A$15:$A$268,$A69,Калькуляция!$B$15:$B$268,$B69)","v":0},{"$f":"SUMIFS(INDEX(Калькуляция!$T$15:$AM$268,,MATCH(AJ$3,Калькуляция!$T$3:$AM$3,0)),Калькуляция!$A$15:$A$268,$A69,Калькуляция!$B$15:$B$268,$B69)","v":0},{"$f":"IF(AI69=0,0,(AJ69-AI69)/AI69*100)","v":0},{"$f":"SUMIFS(INDEX(Калькуляция!$T$15:$AM$268,,MATCH(AL$3,Калькуляция!$T$3:$AM$3,0)),Калькуляция!$A$15:$A$268,$A69,Калькуляция!$B$15:$B$268,$B69)","v":0},{"$f":"SUMIFS(INDEX(Калькуляция!$T$15:$AM$268,,MATCH(AM$3,Калькуляция!$T$3:$AM$3,0)),Калькуляция!$A$15:$A$268,$A69,Калькуляция!$B$15:$B$268,$B69)","v":0},{"$f":"IF(AL69=0,0,(AM69-AL69)/AL69*100)","v":0},{"$f":"SUMIFS(INDEX(Калькуляция!$T$15:$AM$268,,MATCH(AO$3,Калькуляция!$T$3:$AM$3,0)),Калькуляция!$A$15:$A$268,$A69,Калькуляция!$B$15:$B$268,$B69)","v":0},{"$f":"SUMIFS(INDEX(Калькуляция!$T$15:$AM$268,,MATCH(AP$3,Калькуляция!$T$3:$AM$3,0)),Калькуляция!$A$15:$A$268,$A69,Калькуляция!$B$15:$B$268,$B69)","v":0},{"$f":"IF(AO69=0,0,(AP69-AO69)/AO69*100)","v":0},null,null,{"$f":"IF(AR69=0,0,(AS69-AR69)/AR69*100)","v":0},null,null,{"$f":"IF(AU69=0,0,(AV69-AU69)/AU69*100)","v":0},null,null,{"$f":"IF(AX69=0,0,(AY69-AX69)/AX69*100)","v":0},null,null,{"$f":"IF(BA69=0,0,(BB69-BA69)/BA69*100)","v":0},null,null,{"$f":"IF(BD69=0,0,(BE69-BD69)/BD69*100)","v":0},null,null,{"$f":"IF(BG69=0,0,(BH69-BG69)/BG69*100)","v":0},null,null,{"$f":"IF(BJ69=0,0,(BK69-BJ69)/BJ69*100)","v":0},null,null,{"$f":"IF(BM69=0,0,(BN69-BM69)/BM69*100)","v":0},null,null,{"$f":"IF(BP69=0,0,(BQ69-BP69)/BP69*100)","v":0},null,null,{"$f":"IF(BS69=0,0,(BT69-BS69)/BS69*100)","v":0},null,null,{"$f":"IF(BV69=0,0,(BW69-BV69)/BV69*100)","v":0},null,null,{"$f":"IF(BY69=0,0,(BZ69-BY69)/BY69*100)","v":0},null,null,{"$f":"IF(CB69=0,0,(CC69-CB69)/CB69*100)","v":0},null,null,{"$f":"IF(CE69=0,0,(CF69-CE69)/CE69*100)","v":0},null,null,{"$f":"IF(CH69=0,0,(CI69-CH69)/CH69*100)","v":0},null,null,{"$f":"IF(CK69=0,0,(CL69-CK69)/CK69*100)","v":0},null,null,{"$f":"IF(CN69=0,0,(CO69-CN69)/CN69*100)","v":0},null,null,{"$f":"IF(CQ69=0,0,(CR69-CQ69)/CQ69*100)","v":0},null,null,{"$f":"IF(CT69=0,0,(CU69-CT69)/CT69*100)","v":0},null,null,{"$f":"IF(CW69=0,0,(CX69-CW69)/CW69*100)","v":0},null,null,{"$f":"IF(CZ69=0,0,(DA69-CZ69)/CZ69*100)","v":0},null,null,{"$f":"IF(DC69=0,0,(DD69-DC69)/DC69*100)","v":0},null,null,{"$f":"IF(DF69=0,0,(DG69-DF69)/DF69*100)","v":0},null,null,{"$f":"IF(DI69=0,0,(DJ69-DI69)/DI69*100)","v":0},null,null,{"$f":"IF(DL69=0,0,(DM69-DL69)/DL69*100)","v":0},null,null,{"$f":"IF(DO69=0,0,(DP69-DO69)/DO69*100)","v":0},null,null,{"$f":"IF(DR69=0,0,(DS69-DR69)/DR69*100)","v":0},null,null,{"$f":"IF(DU69=0,0,(DV69-DU69)/DU69*100)","v":0},null,null,{"$f":"IF(DX69=0,0,(DY69-DX69)/DX69*100)","v":0},null,null,{"$f":"IF(EA69=0,0,(EB69-EA69)/EA69*100)","v":0},null,null,{"$f":"IF(ED69=0,0,(EE69-ED69)/ED69*100)","v":0},null,null,{"$f":"IF(EG69=0,0,(EH69-EG69)/EG69*100)","v":0},null,null,{"$f":"IF(EJ69=0,0,(EK69-EJ69)/EJ69*100)","v":0},null,null,{"$f":"IF(EM69=0,0,(EN69-EM69)/EM69*100)","v":0},null,null,{"$f":"IF(EP69=0,0,(EQ69-EP69)/EP69*100)","v":0},null,null,{"$f":"IF(ES69=0,0,(ET69-ES69)/ES69*100)","v":0},null,null,{"$f":"IF(EV69=0,0,(EW69-EV69)/EV69*100)","v":0},null,null,{"$f":"IF(EY69=0,0,(EZ69-EY69)/EY69*100)","v":0},null,null,{"$f":"IF(FB69=0,0,(FC69-FB69)/FB69*100)","v":0},null,null,{"$f":"IF(FE69=0,0,(FF69-FE69)/FE69*100)","v":0}]
["2",null,{"$f":"A70&\"pIns1\"","v":"2pIns1"},null,null,null,{"$f":"F57=\"одноставочный\"","v":true},null,null,"о",null,"Добавить"]
[{"$f":"A69","v":"2"},null,null,null,null,null,{"$f":"F57=\"двухставочный\"","v":false},null,null,null,null,"Двухставочный тариф:"]
["2",null,null,null,null,null,{"$f":"F57=\"двухставочный\"","v":false},null,null,null,null,"Тариф с 01.01 по 30.06 для прочих потребителей без НДС:"]
["2",null,"L2_1_1","для прочих потребителей с 01.01 по 30.06 без НДС",null,null,{"$f":"F57=\"двухставочный\"","v":false},null,null,null,null,"перевод двухставочного тарифа в одноставочный тариф","руб./куб.м",{"$f":"IF(N75=0,0,(N74*N75+N76*N77*6)/N75)","v":0},{"$f":"IF(O75=0,0,(O74*O75+O76*O77*6)/O75)","v":0},{"$f":"IF(N73=0,0,(O73-N73)/N73*100)","v":0},{"$f":"IF(Q75=0,0,(Q74*Q75+Q76*Q77*6)/Q75)","v":0},{"$f":"IF(R75=0,0,(R74*R75+R76*R77*6)/R75)","v":0},{"$f":"IF(Q73=0,0,(R73-Q73)/Q73*100)","v":0},{"$f":"IF(T75=0,0,(T74*T75+T76*T77*6)/T75)","v":0},{"$f":"IF(U75=0,0,(U74*U75+U76*U77*6)/U75)","v":0},{"$f":"IF(T73=0,0,(U73-T73)/T73*100)","v":0},{"$f":"IF(W75=0,0,(W74*W75+W76*W77*6)/W75)","v":0},{"$f":"IF(X75=0,0,(X74*X75+X76*X77*6)/X75)","v":0},{"$f":"IF(W73=0,0,(X73-W73)/W73*100)","v":0},{"$f":"IF(Z75=0,0,(Z74*Z75+Z76*Z77*6)/Z75)","v":0},{"$f":"IF(AA75=0,0,(AA74*AA75+AA76*AA77*6)/AA75)","v":0},{"$f":"IF(Z73=0,0,(AA73-Z73)/Z73*100)","v":0},{"$f":"IF(AC75=0,0,(AC74*AC75+AC76*AC77*6)/AC75)","v":0},{"$f":"IF(AD75=0,0,(AD74*AD75+AD76*AD77*6)/AD75)","v":0},{"$f":"IF(AC73=0,0,(AD73-AC73)/AC73*100)","v":0},{"$f":"IF(AF75=0,0,(AF74*AF75+AF76*AF77*6)/AF75)","v":0},{"$f":"IF(AG75=0,0,(AG74*AG75+AG76*AG77*6)/AG75)","v":0},{"$f":"IF(AF73=0,0,(AG73-AF73)/AF73*100)","v":0},{"$f":"IF(AI75=0,0,(AI74*AI75+AI76*AI77*6)/AI75)","v":0},{"$f":"IF(AJ75=0,0,(AJ74*AJ75+AJ76*AJ77*6)/AJ75)","v":0},{"$f":"IF(AI73=0,0,(AJ73-AI73)/AI73*100)","v":0},{"$f":"IF(AL75=0,0,(AL74*AL75+AL76*AL77*6)/AL75)","v":0},{"$f":"IF(AM75=0,0,(AM74*AM75+AM76*AM77*6)/AM75)","v":0},{"$f":"IF(AL73=0,0,(AM73-AL73)/AL73*100)","v":0},{"$f":"IF(AO75=0,0,(AO74*AO75+AO76*AO77*6)/AO75)","v":0},{"$f":"IF(AP75=0,0,(AP74*AP75+AP76*AP77*6)/AP75)","v":0},{"$f":"IF(AO73=0,0,(AP73-AO73)/AO73*100)","v":0},{"$f":"IF(AR75=0,0,(AR74*AR75+AR76*AR77*6)/AR75)","v":0},{"$f":"IF(AS75=0,0,(AS74*AS75+AS76*AS77*6)/AS75)","v":0},{"$f":"IF(AR73=0,0,(AS73-AR73)/AR73*100)","v":0},{"$f":"IF(AU75=0,0,(AU74*AU75+AU76*AU77*6)/AU75)","v":0},{"$f":"IF(AV75=0,0,(AV74*AV75+AV76*AV77*6)/AV75)","v":0},{"$f":"IF(AU73=0,0,(AV73-AU73)/AU73*100)","v":0},{"$f":"IF(AX75=0,0,(AX74*AX75+AX76*AX77*6)/AX75)","v":0},{"$f":"IF(AY75=0,0,(AY74*AY75+AY76*AY77*6)/AY75)","v":0},{"$f":"IF(AX73=0,0,(AY73-AX73)/AX73*100)","v":0},{"$f":"IF(BA75=0,0,(BA74*BA75+BA76*BA77*6)/BA75)","v":0},{"$f":"IF(BB75=0,0,(BB74*BB75+BB76*BB77*6)/BB75)","v":0},{"$f":"IF(BA73=0,0,(BB73-BA73)/BA73*100)","v":0},{"$f":"IF(BD75=0,0,(BD74*BD75+BD76*BD77*6)/BD75)","v":0},{"$f":"IF(BE75=0,0,(BE74*BE75+BE76*BE77*6)/BE75)","v":0},{"$f":"IF(BD73=0,0,(BE73-BD73)/BD73*100)","v":0},{"$f":"IF(BG75=0,0,(BG74*BG75+BG76*BG77*6)/BG75)","v":0},{"$f":"IF(BH75=0,0,(BH74*BH75+BH76*BH77*6)/BH75)","v":0},{"$f":"IF(BG73=0,0,(BH73-BG73)/BG73*100)","v":0},{"$f":"IF(BJ75=0,0,(BJ74*BJ75+BJ76*BJ77*6)/BJ75)","v":0},{"$f":"IF(BK75=0,0,(BK74*BK75+BK76*BK77*6)/BK75)","v":0},{"$f":"IF(BJ73=0,0,(BK73-BJ73)/BJ73*100)","v":0},{"$f":"IF(BM75=0,0,(BM74*BM75+BM76*BM77*6)/BM75)","v":0},{"$f":"IF(BN75=0,0,(BN74*BN75+BN76*BN77*6)/BN75)","v":0},{"$f":"IF(BM73=0,0,(BN73-BM73)/BM73*100)","v":0},{"$f":"IF(BP75=0,0,(BP74*BP75+BP76*BP77*6)/BP75)","v":0},{"$f":"IF(BQ75=0,0,(BQ74*BQ75+BQ76*BQ77*6)/BQ75)","v":0},{"$f":"IF(BP73=0,0,(BQ73-BP73)/BP73*100)","v":0},{"$f":"IF(BS75=0,0,(BS74*BS75+BS76*BS77*6)/BS75)","v":0},{"$f":"IF(BT75=0,0,(BT74*BT75+BT76*BT77*6)/BT75)","v":0},{"$f":"IF(BS73=0,0,(BT73-BS73)/BS73*100)","v":0},{"$f":"IF(BV75=0,0,(BV74*BV75+BV76*BV77*6)/BV75)","v":0},{"$f":"IF(BW75=0,0,(BW74*BW75+BW76*BW77*6)/BW75)","v":0},{"$f":"IF(BV73=0,0,(BW73-BV73)/BV73*100)","v":0},{"$f":"IF(BY75=0,0,(BY74*BY75+BY76*BY77*6)/BY75)","v":0},{"$f":"IF(BZ75=0,0,(BZ74*BZ75+BZ76*BZ77*6)/BZ75)","v":0},{"$f":"IF(BY73=0,0,(BZ73-BY73)/BY73*100)","v":0},{"$f":"IF(CB75=0,0,(CB74*CB75+CB76*CB77*6)/CB75)","v":0},{"$f":"IF(CC75=0,0,(CC74*CC75+CC76*CC77*6)/CC75)","v":0},{"$f":"IF(CB73=0,0,(CC73-CB73)/CB73*100)","v":0},{"$f":"IF(CE75=0,0,(CE74*CE75+CE76*CE77*6)/CE75)","v":0},{"$f":"IF(CF75=0,0,(CF74*CF75+CF76*CF77*6)/CF75)","v":0},{"$f":"IF(CE73=0,0,(CF73-CE73)/CE73*100)","v":0},{"$f":"IF(CH75=0,0,(CH74*CH75+CH76*CH77*6)/CH75)","v":0},{"$f":"IF(CI75=0,0,(CI74*CI75+CI76*CI77*6)/CI75)","v":0},{"$f":"IF(CH73=0,0,(CI73-CH73)/CH73*100)","v":0},{"$f":"IF(CK75=0,0,(CK74*CK75+CK76*CK77*6)/CK75)","v":0},{"$f":"IF(CL75=0,0,(CL74*CL75+CL76*CL77*6)/CL75)","v":0},{"$f":"IF(CK73=0,0,(CL73-CK73)/CK73*100)","v":0},{"$f":"IF(CN75=0,0,(CN74*CN75+CN76*CN77*6)/CN75)","v":0},{"$f":"IF(CO75=0,0,(CO74*CO75+CO76*CO77*6)/CO75)","v":0},{"$f":"IF(CN73=0,0,(CO73-CN73)/CN73*100)","v":0},{"$f":"IF(CQ75=0,0,(CQ74*CQ75+CQ76*CQ77*6)/CQ75)","v":0},{"$f":"IF(CR75=0,0,(CR74*CR75+CR76*CR77*6)/CR75)","v":0},{"$f":"IF(CQ73=0,0,(CR73-CQ73)/CQ73*100)","v":0},{"$f":"IF(CT75=0,0,(CT74*CT75+CT76*CT77*6)/CT75)","v":0},{"$f":"IF(CU75=0,0,(CU74*CU75+CU76*CU77*6)/CU75)","v":0},{"$f":"IF(CT73=0,0,(CU73-CT73)/CT73*100)","v":0},{"$f":"IF(CW75=0,0,(CW74*CW75+CW76*CW77*6)/CW75)","v":0},{"$f":"IF(CX75=0,0,(CX74*CX75+CX76*CX77*6)/CX75)","v":0},{"$f":"IF(CW73=0,0,(CX73-CW73)/CW73*100)","v":0},{"$f":"IF(CZ75=0,0,(CZ74*CZ75+CZ76*CZ77*6)/CZ75)","v":0},{"$f":"IF(DA75=0,0,(DA74*DA75+DA76*DA77*6)/DA75)","v":0},{"$f":"IF(CZ73=0,0,(DA73-CZ73)/CZ73*100)","v":0},{"$f":"IF(DC75=0,0,(DC74*DC75+DC76*DC77*6)/DC75)","v":0},{"$f":"IF(DD75=0,0,(DD74*DD75+DD76*DD77*6)/DD75)","v":0},{"$f":"IF(DC73=0,0,(DD73-DC73)/DC73*100)","v":0},{"$f":"IF(DF75=0,0,(DF74*DF75+DF76*DF77*6)/DF75)","v":0},{"$f":"IF(DG75=0,0,(DG74*DG75+DG76*DG77*6)/DG75)","v":0},{"$f":"IF(DF73=0,0,(DG73-DF73)/DF73*100)","v":0},{"$f":"IF(DI75=0,0,(DI74*DI75+DI76*DI77*6)/DI75)","v":0},{"$f":"IF(DJ75=0,0,(DJ74*DJ75+DJ76*DJ77*6)/DJ75)","v":0},{"$f":"IF(DI73=0,0,(DJ73-DI73)/DI73*100)","v":0},{"$f":"IF(DL75=0,0,(DL74*DL75+DL76*DL77*6)/DL75)","v":0},{"$f":"IF(DM75=0,0,(DM74*DM75+DM76*DM77*6)/DM75)","v":0},{"$f":"IF(DL73=0,0,(DM73-DL73)/DL73*100)","v":0},{"$f":"IF(DO75=0,0,(DO74*DO75+DO76*DO77*6)/DO75)","v":0},{"$f":"IF(DP75=0,0,(DP74*DP75+DP76*DP77*6)/DP75)","v":0},{"$f":"IF(DO73=0,0,(DP73-DO73)/DO73*100)","v":0},{"$f":"IF(DR75=0,0,(DR74*DR75+DR76*DR77*6)/DR75)","v":0},{"$f":"IF(DS75=0,0,(DS74*DS75+DS76*DS77*6)/DS75)","v":0},{"$f":"IF(DR73=0,0,(DS73-DR73)/DR73*100)","v":0},{"$f":"IF(DU75=0,0,(DU74*DU75+DU76*DU77*6)/DU75)","v":0},{"$f":"IF(DV75=0,0,(DV74*DV75+DV76*DV77*6)/DV75)","v":0},{"$f":"IF(DU73=0,0,(DV73-DU73)/DU73*100)","v":0},{"$f":"IF(DX75=0,0,(DX74*DX75+DX76*DX77*6)/DX75)","v":0},{"$f":"IF(DY75=0,0,(DY74*DY75+DY76*DY77*6)/DY75)","v":0},{"$f":"IF(DX73=0,0,(DY73-DX73)/DX73*100)","v":0},{"$f":"IF(EA75=0,0,(EA74*EA75+EA76*EA77*6)/EA75)","v":0},{"$f":"IF(EB75=0,0,(EB74*EB75+EB76*EB77*6)/EB75)","v":0},{"$f":"IF(EA73=0,0,(EB73-EA73)/EA73*100)","v":0},{"$f":"IF(ED75=0,0,(ED74*ED75+ED76*ED77*6)/ED75)","v":0},{"$f":"IF(EE75=0,0,(EE74*EE75+EE76*EE77*6)/EE75)","v":0},{"$f":"IF(ED73=0,0,(EE73-ED73)/ED73*100)","v":0},{"$f":"IF(EG75=0,0,(EG74*EG75+EG76*EG77*6)/EG75)","v":0},{"$f":"IF(EH75=0,0,(EH74*EH75+EH76*EH77*6)/EH75)","v":0},{"$f":"IF(EG73=0,0,(EH73-EG73)/EG73*100)","v":0},{"$f":"IF(EJ75=0,0,(EJ74*EJ75+EJ76*EJ77*6)/EJ75)","v":0},{"$f":"IF(EK75=0,0,(EK74*EK75+EK76*EK77*6)/EK75)","v":0},{"$f":"IF(EJ73=0,0,(EK73-EJ73)/EJ73*100)","v":0},{"$f":"IF(EM75=0,0,(EM74*EM75+EM76*EM77*6)/EM75)","v":0},{"$f":"IF(EN75=0,0,(EN74*EN75+EN76*EN77*6)/EN75)","v":0},{"$f":"IF(EM73=0,0,(EN73-EM73)/EM73*100)","v":0},{"$f":"IF(EP75=0,0,(EP74*EP75+EP76*EP77*6)/EP75)","v":0},{"$f":"IF(EQ75=0,0,(EQ74*EQ75+EQ76*EQ77*6)/EQ75)","v":0},{"$f":"IF(EP73=0,0,(EQ73-EP73)/EP73*100)","v":0},{"$f":"IF(ES75=0,0,(ES74*ES75+ES76*ES77*6)/ES75)","v":0},{"$f":"IF(ET75=0,0,(ET74*ET75+ET76*ET77*6)/ET75)","v":0},{"$f":"IF(ES73=0,0,(ET73-ES73)/ES73*100)","v":0},{"$f":"IF(EV75=0,0,(EV74*EV75+EV76*EV77*6)/EV75)","v":0},{"$f":"IF(EW75=0,0,(EW74*EW75+EW76*EW77*6)/EW75)","v":0},{"$f":"IF(EV73=0,0,(EW73-EV73)/EV73*100)","v":0},{"$f":"IF(EY75=0,0,(EY74*EY75+EY76*EY77*6)/EY75)","v":0},{"$f":"IF(EZ75=0,0,(EZ74*EZ75+EZ76*EZ77*6)/EZ75)","v":0},{"$f":"IF(EY73=0,0,(EZ73-EY73)/EY73*100)","v":0},{"$f":"IF(FB75=0,0,(FB74*FB75+FB76*FB77*6)/FB75)","v":0},{"$f":"IF(FC75=0,0,(FC74*FC75+FC76*FC77*6)/FC75)","v":0},{"$f":"IF(FB73=0,0,(FC73-FB73)/FB73*100)","v":0},{"$f":"IF(FE75=0,0,(FE74*FE75+FE76*FE77*6)/FE75)","v":0},{"$f":"IF(FF75=0,0,(FF74*FF75+FF76*FF77*6)/FF75)","v":0},{"$f":"IF(FE73=0,0,(FF73-FE73)/FE73*100)","v":0}]
["2",null,"L2_1_2","для прочих потребителей с 01.01 по 30.06 без НДС",null,null,{"$f":"F57=\"двухставочный\"","v":false},null,null,null,null,"ставка платы за потребление 1 куб.м холодной воды","руб./куб.м",null,null,{"$f":"IF(N74=0,0,(O74-N74)/N74*100)","v":0},null,null,{"$f":"IF(Q74=0,0,(R74-Q74)/Q74*100)","v":0},null,null,{"$f":"IF(T74=0,0,(U74-T74)/T74*100)","v":0},null,null,{"$f":"IF(W74=0,0,(X74-W74)/W74*100)","v":0},null,null,{"$f":"IF(Z74=0,0,(AA74-Z74)/Z74*100)","v":0},null,null,{"$f":"IF(AC74=0,0,(AD74-AC74)/AC74*100)","v":0},null,null,{"$f":"IF(AF74=0,0,(AG74-AF74)/AF74*100)","v":0},null,null,{"$f":"IF(AI74=0,0,(AJ74-AI74)/AI74*100)","v":0},null,null,{"$f":"IF(AL74=0,0,(AM74-AL74)/AL74*100)","v":0},null,null,{"$f":"IF(AO74=0,0,(AP74-AO74)/AO74*100)","v":0},null,null,{"$f":"IF(AR74=0,0,(AS74-AR74)/AR74*100)","v":0},null,null,{"$f":"IF(AU74=0,0,(AV74-AU74)/AU74*100)","v":0},null,null,{"$f":"IF(AX74=0,0,(AY74-AX74)/AX74*100)","v":0},null,null,{"$f":"IF(BA74=0,0,(BB74-BA74)/BA74*100)","v":0},null,null,{"$f":"IF(BD74=0,0,(BE74-BD74)/BD74*100)","v":0},null,null,{"$f":"IF(BG74=0,0,(BH74-BG74)/BG74*100)","v":0},null,null,{"$f":"IF(BJ74=0,0,(BK74-BJ74)/BJ74*100)","v":0},null,null,{"$f":"IF(BM74=0,0,(BN74-BM74)/BM74*100)","v":0},null,null,{"$f":"IF(BP74=0,0,(BQ74-BP74)/BP74*100)","v":0},null,null,{"$f":"IF(BS74=0,0,(BT74-BS74)/BS74*100)","v":0},null,null,{"$f":"IF(BV74=0,0,(BW74-BV74)/BV74*100)","v":0},null,null,{"$f":"IF(BY74=0,0,(BZ74-BY74)/BY74*100)","v":0},null,null,{"$f":"IF(CB74=0,0,(CC74-CB74)/CB74*100)","v":0},null,null,{"$f":"IF(CE74=0,0,(CF74-CE74)/CE74*100)","v":0},null,null,{"$f":"IF(CH74=0,0,(CI74-CH74)/CH74*100)","v":0},null,null,{"$f":"IF(CK74=0,0,(CL74-CK74)/CK74*100)","v":0},null,null,{"$f":"IF(CN74=0,0,(CO74-CN74)/CN74*100)","v":0},null,null,{"$f":"IF(CQ74=0,0,(CR74-CQ74)/CQ74*100)","v":0},null,null,{"$f":"IF(CT74=0,0,(CU74-CT74)/CT74*100)","v":0},null,null,{"$f":"IF(CW74=0,0,(CX74-CW74)/CW74*100)","v":0},null,null,{"$f":"IF(CZ74=0,0,(DA74-CZ74)/CZ74*100)","v":0},null,null,{"$f":"IF(DC74=0,0,(DD74-DC74)/DC74*100)","v":0},null,null,{"$f":"IF(DF74=0,0,(DG74-DF74)/DF74*100)","v":0},null,null,{"$f":"IF(DI74=0,0,(DJ74-DI74)/DI74*100)","v":0},null,null,{"$f":"IF(DL74=0,0,(DM74-DL74)/DL74*100)","v":0},null,null,{"$f":"IF(DO74=0,0,(DP74-DO74)/DO74*100)","v":0},null,null,{"$f":"IF(DR74=0,0,(DS74-DR74)/DR74*100)","v":0},null,null,{"$f":"IF(DU74=0,0,(DV74-DU74)/DU74*100)","v":0},null,null,{"$f":"IF(DX74=0,0,(DY74-DX74)/DX74*100)","v":0},null,null,{"$f":"IF(EA74=0,0,(EB74-EA74)/EA74*100)","v":0},null,null,{"$f":"IF(ED74=0,0,(EE74-ED74)/ED74*100)","v":0},null,null,{"$f":"IF(EG74=0,0,(EH74-EG74)/EG74*100)","v":0},null,null,{"$f":"IF(EJ74=0,0,(EK74-EJ74)/EJ74*100)","v":0},null,null,{"$f":"IF(EM74=0,0,(EN74-EM74)/EM74*100)","v":0},null,null,{"$f":"IF(EP74=0,0,(EQ74-EP74)/EP74*100)","v":0},null,null,{"$f":"IF(ES74=0,0,(ET74-ES74)/ES74*100)","v":0},null,null,{"$f":"IF(EV74=0,0,(EW74-EV74)/EV74*100)","v":0},null,null,{"$f":"IF(EY74=0,0,(EZ74-EY74)/EY74*100)","v":0},null,null,{"$f":"IF(FB74=0,0,(FC74-FB74)/FB74*100)","v":0},null,null,{"$f":"IF(FE74=0,0,(FF74-FE74)/FE74*100)","v":0}]
["2","ПО.прочие.I","L2_1_3","для прочих потребителей с 01.01 по 30.06 без НДС",null,null,{"$f":"F57=\"двухставочный\"","v":false},null,null,null,null,"объём потребления холодной воды","тыс.куб.м",{"$f":"SUMIFS(INDEX(Калькуляция!$T$15:$AM$268,,MATCH(N$3,Калькуляция!$T$3:$AM$3,0)),Калькуляция!$A$15:$A$268,$A75,Калькуляция!$B$15:$B$268,$B75)","v":82.51400000000001},{"$f":"SUMIFS(INDEX(Калькуляция!$T$15:$AM$268,,MATCH(O$3,Калькуляция!$T$3:$AM$3,0)),Калькуляция!$A$15:$A$268,$A75,Калькуляция!$B$15:$B$268,$B75)","v":84.326249999999987},{"$f":"IF(N75=0,0,(O75-N75)/N75*100)","v":2.1962939622366839},{"$f":"SUMIFS(INDEX(Калькуляция!$T$15:$AM$268,,MATCH(Q$3,Калькуляция!$T$3:$AM$3,0)),Калькуляция!$A$15:$A$268,$A75,Калькуляция!$B$15:$B$268,$B75)","v":82.51400000000001},{"$f":"SUMIFS(INDEX(Калькуляция!$T$15:$AM$268,,MATCH(R$3,Калькуляция!$T$3:$AM$3,0)),Калькуляция!$A$15:$A$268,$A75,Калькуляция!$B$15:$B$268,$B75)","v":84.326249999999987},{"$f":"IF(Q75=0,0,(R75-Q75)/Q75*100)","v":2.1962939622366839},{"$f":"SUMIFS(INDEX(Калькуляция!$T$15:$AM$268,,MATCH(T$3,Калькуляция!$T$3:$AM$3,0)),Калькуляция!$A$15:$A$268,$A75,Калькуляция!$B$15:$B$268,$B75)","v":82.51400000000001},{"$f":"SUMIFS(INDEX(Калькуляция!$T$15:$AM$268,,MATCH(U$3,Калькуляция!$T$3:$AM$3,0)),Калькуляция!$A$15:$A$268,$A75,Калькуляция!$B$15:$B$268,$B75)","v":84.326249999999987},{"$f":"IF(T75=0,0,(U75-T75)/T75*100)","v":2.1962939622366839},{"$f":"SUMIFS(INDEX(Калькуляция!$T$15:$AM$268,,MATCH(W$3,Калькуляция!$T$3:$AM$3,0)),Калькуляция!$A$15:$A$268,$A75,Калькуляция!$B$15:$B$268,$B75)","v":82.51400000000001},{"$f":"SUMIFS(INDEX(Калькуляция!$T$15:$AM$268,,MATCH(X$3,Калькуляция!$T$3:$AM$3,0)),Калькуляция!$A$15:$A$268,$A75,Калькуляция!$B$15:$B$268,$B75)","v":84.326249999999987},{"$f":"IF(W75=0,0,(X75-W75)/W75*100)","v":2.1962939622366839},{"$f":"SUMIFS(INDEX(Калькуляция!$T$15:$AM$268,,MATCH(Z$3,Калькуляция!$T$3:$AM$3,0)),Калькуляция!$A$15:$A$268,$A75,Калькуляция!$B$15:$B$268,$B75)","v":82.51400000000001},{"$f":"SUMIFS(INDEX(Калькуляция!$T$15:$AM$268,,MATCH(AA$3,Калькуляция!$T$3:$AM$3,0)),Калькуляция!$A$15:$A$268,$A75,Калькуляция!$B$15:$B$268,$B75)","v":84.326249999999987},{"$f":"IF(Z75=0,0,(AA75-Z75)/Z75*100)","v":2.1962939622366839},{"$f":"SUMIFS(INDEX(Калькуляция!$T$15:$AM$268,,MATCH(AC$3,Калькуляция!$T$3:$AM$3,0)),Калькуляция!$A$15:$A$268,$A75,Калькуляция!$B$15:$B$268,$B75)","v":0},{"$f":"SUMIFS(INDEX(Калькуляция!$T$15:$AM$268,,MATCH(AD$3,Калькуляция!$T$3:$AM$3,0)),Калькуляция!$A$15:$A$268,$A75,Калькуляция!$B$15:$B$268,$B75)","v":0},{"$f":"IF(AC75=0,0,(AD75-AC75)/AC75*100)","v":0},{"$f":"SUMIFS(INDEX(Калькуляция!$T$15:$AM$268,,MATCH(AF$3,Калькуляция!$T$3:$AM$3,0)),Калькуляция!$A$15:$A$268,$A75,Калькуляция!$B$15:$B$268,$B75)","v":0},{"$f":"SUMIFS(INDEX(Калькуляция!$T$15:$AM$268,,MATCH(AG$3,Калькуляция!$T$3:$AM$3,0)),Калькуляция!$A$15:$A$268,$A75,Калькуляция!$B$15:$B$268,$B75)","v":0},{"$f":"IF(AF75=0,0,(AG75-AF75)/AF75*100)","v":0},{"$f":"SUMIFS(INDEX(Калькуляция!$T$15:$AM$268,,MATCH(AI$3,Калькуляция!$T$3:$AM$3,0)),Калькуляция!$A$15:$A$268,$A75,Калькуляция!$B$15:$B$268,$B75)","v":0},{"$f":"SUMIFS(INDEX(Калькуляция!$T$15:$AM$268,,MATCH(AJ$3,Калькуляция!$T$3:$AM$3,0)),Калькуляция!$A$15:$A$268,$A75,Калькуляция!$B$15:$B$268,$B75)","v":0},{"$f":"IF(AI75=0,0,(AJ75-AI75)/AI75*100)","v":0},{"$f":"SUMIFS(INDEX(Калькуляция!$T$15:$AM$268,,MATCH(AL$3,Калькуляция!$T$3:$AM$3,0)),Калькуляция!$A$15:$A$268,$A75,Калькуляция!$B$15:$B$268,$B75)","v":0},{"$f":"SUMIFS(INDEX(Калькуляция!$T$15:$AM$268,,MATCH(AM$3,Калькуляция!$T$3:$AM$3,0)),Калькуляция!$A$15:$A$268,$A75,Калькуляция!$B$15:$B$268,$B75)","v":0},{"$f":"IF(AL75=0,0,(AM75-AL75)/AL75*100)","v":0},{"$f":"SUMIFS(INDEX(Калькуляция!$T$15:$AM$268,,MATCH(AO$3,Калькуляция!$T$3:$AM$3,0)),Калькуляция!$A$15:$A$268,$A75,Калькуляция!$B$15:$B$268,$B75)","v":0},{"$f":"SUMIFS(INDEX(Калькуляция!$T$15:$AM$268,,MATCH(AP$3,Калькуляция!$T$3:$AM$3,0)),Калькуляция!$A$15:$A$268,$A75,Калькуляция!$B$15:$B$268,$B75)","v":0},{"$f":"IF(AO75=0,0,(AP75-AO75)/AO75*100)","v":0},null,null,{"$f":"IF(AR75=0,0,(AS75-AR75)/AR75*100)","v":0},null,null,{"$f":"IF(AU75=0,0,(AV75-AU75)/AU75*100)","v":0},null,null,{"$f":"IF(AX75=0,0,(AY75-AX75)/AX75*100)","v":0},null,null,{"$f":"IF(BA75=0,0,(BB75-BA75)/BA75*100)","v":0},null,null,{"$f":"IF(BD75=0,0,(BE75-BD75)/BD75*100)","v":0},null,null,{"$f":"IF(BG75=0,0,(BH75-BG75)/BG75*100)","v":0},null,null,{"$f":"IF(BJ75=0,0,(BK75-BJ75)/BJ75*100)","v":0},null,null,{"$f":"IF(BM75=0,0,(BN75-BM75)/BM75*100)","v":0},null,null,{"$f":"IF(BP75=0,0,(BQ75-BP75)/BP75*100)","v":0},null,null,{"$f":"IF(BS75=0,0,(BT75-BS75)/BS75*100)","v":0},null,null,{"$f":"IF(BV75=0,0,(BW75-BV75)/BV75*100)","v":0},null,null,{"$f":"IF(BY75=0,0,(BZ75-BY75)/BY75*100)","v":0},null,null,{"$f":"IF(CB75=0,0,(CC75-CB75)/CB75*100)","v":0},null,null,{"$f":"IF(CE75=0,0,(CF75-CE75)/CE75*100)","v":0},null,null,{"$f":"IF(CH75=0,0,(CI75-CH75)/CH75*100)","v":0},null,null,{"$f":"IF(CK75=0,0,(CL75-CK75)/CK75*100)","v":0},null,null,{"$f":"IF(CN75=0,0,(CO75-CN75)/CN75*100)","v":0},null,null,{"$f":"IF(CQ75=0,0,(CR75-CQ75)/CQ75*100)","v":0},null,null,{"$f":"IF(CT75=0,0,(CU75-CT75)/CT75*100)","v":0},null,null,{"$f":"IF(CW75=0,0,(CX75-CW75)/CW75*100)","v":0},null,null,{"$f":"IF(CZ75=0,0,(DA75-CZ75)/CZ75*100)","v":0},null,null,{"$f":"IF(DC75=0,0,(DD75-DC75)/DC75*100)","v":0},null,null,{"$f":"IF(DF75=0,0,(DG75-DF75)/DF75*100)","v":0},null,null,{"$f":"IF(DI75=0,0,(DJ75-DI75)/DI75*100)","v":0},null,null,{"$f":"IF(DL75=0,0,(DM75-DL75)/DL75*100)","v":0},null,null,{"$f":"IF(DO75=0,0,(DP75-DO75)/DO75*100)","v":0},null,null,{"$f":"IF(DR75=0,0,(DS75-DR75)/DR75*100)","v":0},null,null,{"$f":"IF(DU75=0,0,(DV75-DU75)/DU75*100)","v":0},null,null,{"$f":"IF(DX75=0,0,(DY75-DX75)/DX75*100)","v":0},null,null,{"$f":"IF(EA75=0,0,(EB75-EA75)/EA75*100)","v":0},null,null,{"$f":"IF(ED75=0,0,(EE75-ED75)/ED75*100)","v":0},null,null,{"$f":"IF(EG75=0,0,(EH75-EG75)/EG75*100)","v":0},null,null,{"$f":"IF(EJ75=0,0,(EK75-EJ75)/EJ75*100)","v":0},null,null,{"$f":"IF(EM75=0,0,(EN75-EM75)/EM75*100)","v":0},null,null,{"$f":"IF(EP75=0,0,(EQ75-EP75)/EP75*100)","v":0},null,null,{"$f":"IF(ES75=0,0,(ET75-ES75)/ES75*100)","v":0},null,null,{"$f":"IF(EV75=0,0,(EW75-EV75)/EV75*100)","v":0},null,null,{"$f":"IF(EY75=0,0,(EZ75-EY75)/EY75*100)","v":0},null,null,{"$f":"IF(FB75=0,0,(FC75-FB75)/FB75*100)","v":0},null,null,{"$f":"IF(FE75=0,0,(FF75-FE75)/FE75*100)","v":0}]
["2",null,"L2_1_4","для прочих потребителей с 01.01 по 30.06 без НДС",null,null,{"$f":"F57=\"двухставочный\"","v":false},null,null,null,null,"ставка платы за содержание системы холодного водоснабжения","тыс.руб./куб.м*час/в месяц",null,null,{"$f":"IF(N76=0,0,(O76-N76)/N76*100)","v":0},null,null,{"$f":"IF(Q76=0,0,(R76-Q76)/Q76*100)","v":0},null,null,{"$f":"IF(T76=0,0,(U76-T76)/T76*100)","v":0},null,null,{"$f":"IF(W76=0,0,(X76-W76)/W76*100)","v":0},null,null,{"$f":"IF(Z76=0,0,(AA76-Z76)/Z76*100)","v":0},null,null,{"$f":"IF(AC76=0,0,(AD76-AC76)/AC76*100)","v":0},null,null,{"$f":"IF(AF76=0,0,(AG76-AF76)/AF76*100)","v":0},null,null,{"$f":"IF(AI76=0,0,(AJ76-AI76)/AI76*100)","v":0},null,null,{"$f":"IF(AL76=0,0,(AM76-AL76)/AL76*100)","v":0},null,null,{"$f":"IF(AO76=0,0,(AP76-AO76)/AO76*100)","v":0},null,null,{"$f":"IF(AR76=0,0,(AS76-AR76)/AR76*100)","v":0},null,null,{"$f":"IF(AU76=0,0,(AV76-AU76)/AU76*100)","v":0},null,null,{"$f":"IF(AX76=0,0,(AY76-AX76)/AX76*100)","v":0},null,null,{"$f":"IF(BA76=0,0,(BB76-BA76)/BA76*100)","v":0},null,null,{"$f":"IF(BD76=0,0,(BE76-BD76)/BD76*100)","v":0},null,null,{"$f":"IF(BG76=0,0,(BH76-BG76)/BG76*100)","v":0},null,null,{"$f":"IF(BJ76=0,0,(BK76-BJ76)/BJ76*100)","v":0},null,null,{"$f":"IF(BM76=0,0,(BN76-BM76)/BM76*100)","v":0},null,null,{"$f":"IF(BP76=0,0,(BQ76-BP76)/BP76*100)","v":0},null,null,{"$f":"IF(BS76=0,0,(BT76-BS76)/BS76*100)","v":0},null,null,{"$f":"IF(BV76=0,0,(BW76-BV76)/BV76*100)","v":0},null,null,{"$f":"IF(BY76=0,0,(BZ76-BY76)/BY76*100)","v":0},null,null,{"$f":"IF(CB76=0,0,(CC76-CB76)/CB76*100)","v":0},null,null,{"$f":"IF(CE76=0,0,(CF76-CE76)/CE76*100)","v":0},null,null,{"$f":"IF(CH76=0,0,(CI76-CH76)/CH76*100)","v":0},null,null,{"$f":"IF(CK76=0,0,(CL76-CK76)/CK76*100)","v":0},null,null,{"$f":"IF(CN76=0,0,(CO76-CN76)/CN76*100)","v":0},null,null,{"$f":"IF(CQ76=0,0,(CR76-CQ76)/CQ76*100)","v":0},null,null,{"$f":"IF(CT76=0,0,(CU76-CT76)/CT76*100)","v":0},null,null,{"$f":"IF(CW76=0,0,(CX76-CW76)/CW76*100)","v":0},null,null,{"$f":"IF(CZ76=0,0,(DA76-CZ76)/CZ76*100)","v":0},null,null,{"$f":"IF(DC76=0,0,(DD76-DC76)/DC76*100)","v":0},null,null,{"$f":"IF(DF76=0,0,(DG76-DF76)/DF76*100)","v":0},null,null,{"$f":"IF(DI76=0,0,(DJ76-DI76)/DI76*100)","v":0},null,null,{"$f":"IF(DL76=0,0,(DM76-DL76)/DL76*100)","v":0},null,null,{"$f":"IF(DO76=0,0,(DP76-DO76)/DO76*100)","v":0},null,null,{"$f":"IF(DR76=0,0,(DS76-DR76)/DR76*100)","v":0},null,null,{"$f":"IF(DU76=0,0,(DV76-DU76)/DU76*100)","v":0},null,null,{"$f":"IF(DX76=0,0,(DY76-DX76)/DX76*100)","v":0},null,null,{"$f":"IF(EA76=0,0,(EB76-EA76)/EA76*100)","v":0},null,null,{"$f":"IF(ED76=0,0,(EE76-ED76)/ED76*100)","v":0},null,null,{"$f":"IF(EG76=0,0,(EH76-EG76)/EG76*100)","v":0},null,null,{"$f":"IF(EJ76=0,0,(EK76-EJ76)/EJ76*100)","v":0},null,null,{"$f":"IF(EM76=0,0,(EN76-EM76)/EM76*100)","v":0},null,null,{"$f":"IF(EP76=0,0,(EQ76-EP76)/EP76*100)","v":0},null,null,{"$f":"IF(ES76=0,0,(ET76-ES76)/ES76*100)","v":0},null,null,{"$f":"IF(EV76=0,0,(EW76-EV76)/EV76*100)","v":0},null,null,{"$f":"IF(EY76=0,0,(EZ76-EY76)/EY76*100)","v":0},null,null,{"$f":"IF(FB76=0,0,(FC76-FB76)/FB76*100)","v":0},null,null,{"$f":"IF(FE76=0,0,(FF76-FE76)/FE76*100)","v":0}]
["2",null,"L2_1_5","для прочих потребителей с 01.01 по 30.06 без НДС",null,null,{"$f":"F57=\"двухставочный\"","v":false},null,null,null,null,"величина присоединённой мощности","куб.м*час",null,null,{"$f":"IF(N77=0,0,(O77-N77)/N77*100)","v":0},null,null,{"$f":"IF(Q77=0,0,(R77-Q77)/Q77*100)","v":0},null,null,{"$f":"IF(T77=0,0,(U77-T77)/T77*100)","v":0},null,null,{"$f":"IF(W77=0,0,(X77-W77)/W77*100)","v":0},null,null,{"$f":"IF(Z77=0,0,(AA77-Z77)/Z77*100)","v":0},null,null,{"$f":"IF(AC77=0,0,(AD77-AC77)/AC77*100)","v":0},null,null,{"$f":"IF(AF77=0,0,(AG77-AF77)/AF77*100)","v":0},null,null,{"$f":"IF(AI77=0,0,(AJ77-AI77)/AI77*100)","v":0},null,null,{"$f":"IF(AL77=0,0,(AM77-AL77)/AL77*100)","v":0},null,null,{"$f":"IF(AO77=0,0,(AP77-AO77)/AO77*100)","v":0},null,null,{"$f":"IF(AR77=0,0,(AS77-AR77)/AR77*100)","v":0},null,null,{"$f":"IF(AU77=0,0,(AV77-AU77)/AU77*100)","v":0},null,null,{"$f":"IF(AX77=0,0,(AY77-AX77)/AX77*100)","v":0},null,null,{"$f":"IF(BA77=0,0,(BB77-BA77)/BA77*100)","v":0},null,null,{"$f":"IF(BD77=0,0,(BE77-BD77)/BD77*100)","v":0},null,null,{"$f":"IF(BG77=0,0,(BH77-BG77)/BG77*100)","v":0},null,null,{"$f":"IF(BJ77=0,0,(BK77-BJ77)/BJ77*100)","v":0},null,null,{"$f":"IF(BM77=0,0,(BN77-BM77)/BM77*100)","v":0},null,null,{"$f":"IF(BP77=0,0,(BQ77-BP77)/BP77*100)","v":0},null,null,{"$f":"IF(BS77=0,0,(BT77-BS77)/BS77*100)","v":0},null,null,{"$f":"IF(BV77=0,0,(BW77-BV77)/BV77*100)","v":0},null,null,{"$f":"IF(BY77=0,0,(BZ77-BY77)/BY77*100)","v":0},null,null,{"$f":"IF(CB77=0,0,(CC77-CB77)/CB77*100)","v":0},null,null,{"$f":"IF(CE77=0,0,(CF77-CE77)/CE77*100)","v":0},null,null,{"$f":"IF(CH77=0,0,(CI77-CH77)/CH77*100)","v":0},null,null,{"$f":"IF(CK77=0,0,(CL77-CK77)/CK77*100)","v":0},null,null,{"$f":"IF(CN77=0,0,(CO77-CN77)/CN77*100)","v":0},null,null,{"$f":"IF(CQ77=0,0,(CR77-CQ77)/CQ77*100)","v":0},null,null,{"$f":"IF(CT77=0,0,(CU77-CT77)/CT77*100)","v":0},null,null,{"$f":"IF(CW77=0,0,(CX77-CW77)/CW77*100)","v":0},null,null,{"$f":"IF(CZ77=0,0,(DA77-CZ77)/CZ77*100)","v":0},null,null,{"$f":"IF(DC77=0,0,(DD77-DC77)/DC77*100)","v":0},null,null,{"$f":"IF(DF77=0,0,(DG77-DF77)/DF77*100)","v":0},null,null,{"$f":"IF(DI77=0,0,(DJ77-DI77)/DI77*100)","v":0},null,null,{"$f":"IF(DL77=0,0,(DM77-DL77)/DL77*100)","v":0},null,null,{"$f":"IF(DO77=0,0,(DP77-DO77)/DO77*100)","v":0},null,null,{"$f":"IF(DR77=0,0,(DS77-DR77)/DR77*100)","v":0},null,null,{"$f":"IF(DU77=0,0,(DV77-DU77)/DU77*100)","v":0},null,null,{"$f":"IF(DX77=0,0,(DY77-DX77)/DX77*100)","v":0},null,null,{"$f":"IF(EA77=0,0,(EB77-EA77)/EA77*100)","v":0},null,null,{"$f":"IF(ED77=0,0,(EE77-ED77)/ED77*100)","v":0},null,null,{"$f":"IF(EG77=0,0,(EH77-EG77)/EG77*100)","v":0},null,null,{"$f":"IF(EJ77=0,0,(EK77-EJ77)/EJ77*100)","v":0},null,null,{"$f":"IF(EM77=0,0,(EN77-EM77)/EM77*100)","v":0},null,null,{"$f":"IF(EP77=0,0,(EQ77-EP77)/EP77*100)","v":0},null,null,{"$f":"IF(ES77=0,0,(ET77-ES77)/ES77*100)","v":0},null,null,{"$f":"IF(EV77=0,0,(EW77-EV77)/EV77*100)","v":0},null,null,{"$f":"IF(EY77=0,0,(EZ77-EY77)/EY77*100)","v":0},null,null,{"$f":"IF(FB77=0,0,(FC77-FB77)/FB77*100)","v":0},null,null,{"$f":"IF(FE77=0,0,(FF77-FE77)/FE77*100)","v":0}]
["2",null,null,null,null,null,{"$f":"F57=\"двухставочный\"","v":false},null,null,null,null,"Тариф с 01.07 по 31.12 для прочих потребителей без НДС:"]
["2",null,"L2_1_1","для прочих потребителей с 01.07 по 31.12 без НДС",null,null,{"$f":"F57=\"двухставочный\"","v":false},null,null,null,null,"перевод двухставочного тарифа в одноставочный тариф","руб./куб.м",{"$f":"IF(N81=0,0,(N80*N81+N82*N83*6)/N81)","v":0},{"$f":"IF(O81=0,0,(O80*O81+O82*O83*6)/O81)","v":0},{"$f":"IF(N79=0,0,(O79-N79)/N79*100)","v":0},{"$f":"IF(Q81=0,0,(Q80*Q81+Q82*Q83*6)/Q81)","v":0},{"$f":"IF(R81=0,0,(R80*R81+R82*R83*6)/R81)","v":0},{"$f":"IF(Q79=0,0,(R79-Q79)/Q79*100)","v":0},{"$f":"IF(T81=0,0,(T80*T81+T82*T83*6)/T81)","v":0},{"$f":"IF(U81=0,0,(U80*U81+U82*U83*6)/U81)","v":0},{"$f":"IF(T79=0,0,(U79-T79)/T79*100)","v":0},{"$f":"IF(W81=0,0,(W80*W81+W82*W83*6)/W81)","v":0},{"$f":"IF(X81=0,0,(X80*X81+X82*X83*6)/X81)","v":0},{"$f":"IF(W79=0,0,(X79-W79)/W79*100)","v":0},{"$f":"IF(Z81=0,0,(Z80*Z81+Z82*Z83*6)/Z81)","v":0},{"$f":"IF(AA81=0,0,(AA80*AA81+AA82*AA83*6)/AA81)","v":0},{"$f":"IF(Z79=0,0,(AA79-Z79)/Z79*100)","v":0},{"$f":"IF(AC81=0,0,(AC80*AC81+AC82*AC83*6)/AC81)","v":0},{"$f":"IF(AD81=0,0,(AD80*AD81+AD82*AD83*6)/AD81)","v":0},{"$f":"IF(AC79=0,0,(AD79-AC79)/AC79*100)","v":0},{"$f":"IF(AF81=0,0,(AF80*AF81+AF82*AF83*6)/AF81)","v":0},{"$f":"IF(AG81=0,0,(AG80*AG81+AG82*AG83*6)/AG81)","v":0},{"$f":"IF(AF79=0,0,(AG79-AF79)/AF79*100)","v":0},{"$f":"IF(AI81=0,0,(AI80*AI81+AI82*AI83*6)/AI81)","v":0},{"$f":"IF(AJ81=0,0,(AJ80*AJ81+AJ82*AJ83*6)/AJ81)","v":0},{"$f":"IF(AI79=0,0,(AJ79-AI79)/AI79*100)","v":0},{"$f":"IF(AL81=0,0,(AL80*AL81+AL82*AL83*6)/AL81)","v":0},{"$f":"IF(AM81=0,0,(AM80*AM81+AM82*AM83*6)/AM81)","v":0},{"$f":"IF(AL79=0,0,(AM79-AL79)/AL79*100)","v":0},{"$f":"IF(AO81=0,0,(AO80*AO81+AO82*AO83*6)/AO81)","v":0},{"$f":"IF(AP81=0,0,(AP80*AP81+AP82*AP83*6)/AP81)","v":0},{"$f":"IF(AO79=0,0,(AP79-AO79)/AO79*100)","v":0},{"$f":"IF(AR81=0,0,(AR80*AR81+AR82*AR83*6)/AR81)","v":0},{"$f":"IF(AS81=0,0,(AS80*AS81+AS82*AS83*6)/AS81)","v":0},{"$f":"IF(AR79=0,0,(AS79-AR79)/AR79*100)","v":0},{"$f":"IF(AU81=0,0,(AU80*AU81+AU82*AU83*6)/AU81)","v":0},{"$f":"IF(AV81=0,0,(AV80*AV81+AV82*AV83*6)/AV81)","v":0},{"$f":"IF(AU79=0,0,(AV79-AU79)/AU79*100)","v":0},{"$f":"IF(AX81=0,0,(AX80*AX81+AX82*AX83*6)/AX81)","v":0},{"$f":"IF(AY81=0,0,(AY80*AY81+AY82*AY83*6)/AY81)","v":0},{"$f":"IF(AX79=0,0,(AY79-AX79)/AX79*100)","v":0},{"$f":"IF(BA81=0,0,(BA80*BA81+BA82*BA83*6)/BA81)","v":0},{"$f":"IF(BB81=0,0,(BB80*BB81+BB82*BB83*6)/BB81)","v":0},{"$f":"IF(BA79=0,0,(BB79-BA79)/BA79*100)","v":0},{"$f":"IF(BD81=0,0,(BD80*BD81+BD82*BD83*6)/BD81)","v":0},{"$f":"IF(BE81=0,0,(BE80*BE81+BE82*BE83*6)/BE81)","v":0},{"$f":"IF(BD79=0,0,(BE79-BD79)/BD79*100)","v":0},{"$f":"IF(BG81=0,0,(BG80*BG81+BG82*BG83*6)/BG81)","v":0},{"$f":"IF(BH81=0,0,(BH80*BH81+BH82*BH83*6)/BH81)","v":0},{"$f":"IF(BG79=0,0,(BH79-BG79)/BG79*100)","v":0},{"$f":"IF(BJ81=0,0,(BJ80*BJ81+BJ82*BJ83*6)/BJ81)","v":0},{"$f":"IF(BK81=0,0,(BK80*BK81+BK82*BK83*6)/BK81)","v":0},{"$f":"IF(BJ79=0,0,(BK79-BJ79)/BJ79*100)","v":0},{"$f":"IF(BM81=0,0,(BM80*BM81+BM82*BM83*6)/BM81)","v":0},{"$f":"IF(BN81=0,0,(BN80*BN81+BN82*BN83*6)/BN81)","v":0},{"$f":"IF(BM79=0,0,(BN79-BM79)/BM79*100)","v":0},{"$f":"IF(BP81=0,0,(BP80*BP81+BP82*BP83*6)/BP81)","v":0},{"$f":"IF(BQ81=0,0,(BQ80*BQ81+BQ82*BQ83*6)/BQ81)","v":0},{"$f":"IF(BP79=0,0,(BQ79-BP79)/BP79*100)","v":0},{"$f":"IF(BS81=0,0,(BS80*BS81+BS82*BS83*6)/BS81)","v":0},{"$f":"IF(BT81=0,0,(BT80*BT81+BT82*BT83*6)/BT81)","v":0},{"$f":"IF(BS79=0,0,(BT79-BS79)/BS79*100)","v":0},{"$f":"IF(BV81=0,0,(BV80*BV81+BV82*BV83*6)/BV81)","v":0},{"$f":"IF(BW81=0,0,(BW80*BW81+BW82*BW83*6)/BW81)","v":0},{"$f":"IF(BV79=0,0,(BW79-BV79)/BV79*100)","v":0},{"$f":"IF(BY81=0,0,(BY80*BY81+BY82*BY83*6)/BY81)","v":0},{"$f":"IF(BZ81=0,0,(BZ80*BZ81+BZ82*BZ83*6)/BZ81)","v":0},{"$f":"IF(BY79=0,0,(BZ79-BY79)/BY79*100)","v":0},{"$f":"IF(CB81=0,0,(CB80*CB81+CB82*CB83*6)/CB81)","v":0},{"$f":"IF(CC81=0,0,(CC80*CC81+CC82*CC83*6)/CC81)","v":0},{"$f":"IF(CB79=0,0,(CC79-CB79)/CB79*100)","v":0},{"$f":"IF(CE81=0,0,(CE80*CE81+CE82*CE83*6)/CE81)","v":0},{"$f":"IF(CF81=0,0,(CF80*CF81+CF82*CF83*6)/CF81)","v":0},{"$f":"IF(CE79=0,0,(CF79-CE79)/CE79*100)","v":0},{"$f":"IF(CH81=0,0,(CH80*CH81+CH82*CH83*6)/CH81)","v":0},{"$f":"IF(CI81=0,0,(CI80*CI81+CI82*CI83*6)/CI81)","v":0},{"$f":"IF(CH79=0,0,(CI79-CH79)/CH79*100)","v":0},{"$f":"IF(CK81=0,0,(CK80*CK81+CK82*CK83*6)/CK81)","v":0},{"$f":"IF(CL81=0,0,(CL80*CL81+CL82*CL83*6)/CL81)","v":0},{"$f":"IF(CK79=0,0,(CL79-CK79)/CK79*100)","v":0},{"$f":"IF(CN81=0,0,(CN80*CN81+CN82*CN83*6)/CN81)","v":0},{"$f":"IF(CO81=0,0,(CO80*CO81+CO82*CO83*6)/CO81)","v":0},{"$f":"IF(CN79=0,0,(CO79-CN79)/CN79*100)","v":0},{"$f":"IF(CQ81=0,0,(CQ80*CQ81+CQ82*CQ83*6)/CQ81)","v":0},{"$f":"IF(CR81=0,0,(CR80*CR81+CR82*CR83*6)/CR81)","v":0},{"$f":"IF(CQ79=0,0,(CR79-CQ79)/CQ79*100)","v":0},{"$f":"IF(CT81=0,0,(CT80*CT81+CT82*CT83*6)/CT81)","v":0},{"$f":"IF(CU81=0,0,(CU80*CU81+CU82*CU83*6)/CU81)","v":0},{"$f":"IF(CT79=0,0,(CU79-CT79)/CT79*100)","v":0},{"$f":"IF(CW81=0,0,(CW80*CW81+CW82*CW83*6)/CW81)","v":0},{"$f":"IF(CX81=0,0,(CX80*CX81+CX82*CX83*6)/CX81)","v":0},{"$f":"IF(CW79=0,0,(CX79-CW79)/CW79*100)","v":0},{"$f":"IF(CZ81=0,0,(CZ80*CZ81+CZ82*CZ83*6)/CZ81)","v":0},{"$f":"IF(DA81=0,0,(DA80*DA81+DA82*DA83*6)/DA81)","v":0},{"$f":"IF(CZ79=0,0,(DA79-CZ79)/CZ79*100)","v":0},{"$f":"IF(DC81=0,0,(DC80*DC81+DC82*DC83*6)/DC81)","v":0},{"$f":"IF(DD81=0,0,(DD80*DD81+DD82*DD83*6)/DD81)","v":0},{"$f":"IF(DC79=0,0,(DD79-DC79)/DC79*100)","v":0},{"$f":"IF(DF81=0,0,(DF80*DF81+DF82*DF83*6)/DF81)","v":0},{"$f":"IF(DG81=0,0,(DG80*DG81+DG82*DG83*6)/DG81)","v":0},{"$f":"IF(DF79=0,0,(DG79-DF79)/DF79*100)","v":0},{"$f":"IF(DI81=0,0,(DI80*DI81+DI82*DI83*6)/DI81)","v":0},{"$f":"IF(DJ81=0,0,(DJ80*DJ81+DJ82*DJ83*6)/DJ81)","v":0},{"$f":"IF(DI79=0,0,(DJ79-DI79)/DI79*100)","v":0},{"$f":"IF(DL81=0,0,(DL80*DL81+DL82*DL83*6)/DL81)","v":0},{"$f":"IF(DM81=0,0,(DM80*DM81+DM82*DM83*6)/DM81)","v":0},{"$f":"IF(DL79=0,0,(DM79-DL79)/DL79*100)","v":0},{"$f":"IF(DO81=0,0,(DO80*DO81+DO82*DO83*6)/DO81)","v":0},{"$f":"IF(DP81=0,0,(DP80*DP81+DP82*DP83*6)/DP81)","v":0},{"$f":"IF(DO79=0,0,(DP79-DO79)/DO79*100)","v":0},{"$f":"IF(DR81=0,0,(DR80*DR81+DR82*DR83*6)/DR81)","v":0},{"$f":"IF(DS81=0,0,(DS80*DS81+DS82*DS83*6)/DS81)","v":0},{"$f":"IF(DR79=0,0,(DS79-DR79)/DR79*100)","v":0},{"$f":"IF(DU81=0,0,(DU80*DU81+DU82*DU83*6)/DU81)","v":0},{"$f":"IF(DV81=0,0,(DV80*DV81+DV82*DV83*6)/DV81)","v":0},{"$f":"IF(DU79=0,0,(DV79-DU79)/DU79*100)","v":0},{"$f":"IF(DX81=0,0,(DX80*DX81+DX82*DX83*6)/DX81)","v":0},{"$f":"IF(DY81=0,0,(DY80*DY81+DY82*DY83*6)/DY81)","v":0},{"$f":"IF(DX79=0,0,(DY79-DX79)/DX79*100)","v":0},{"$f":"IF(EA81=0,0,(EA80*EA81+EA82*EA83*6)/EA81)","v":0},{"$f":"IF(EB81=0,0,(EB80*EB81+EB82*EB83*6)/EB81)","v":0},{"$f":"IF(EA79=0,0,(EB79-EA79)/EA79*100)","v":0},{"$f":"IF(ED81=0,0,(ED80*ED81+ED82*ED83*6)/ED81)","v":0},{"$f":"IF(EE81=0,0,(EE80*EE81+EE82*EE83*6)/EE81)","v":0},{"$f":"IF(ED79=0,0,(EE79-ED79)/ED79*100)","v":0},{"$f":"IF(EG81=0,0,(EG80*EG81+EG82*EG83*6)/EG81)","v":0},{"$f":"IF(EH81=0,0,(EH80*EH81+EH82*EH83*6)/EH81)","v":0},{"$f":"IF(EG79=0,0,(EH79-EG79)/EG79*100)","v":0},{"$f":"IF(EJ81=0,0,(EJ80*EJ81+EJ82*EJ83*6)/EJ81)","v":0},{"$f":"IF(EK81=0,0,(EK80*EK81+EK82*EK83*6)/EK81)","v":0},{"$f":"IF(EJ79=0,0,(EK79-EJ79)/EJ79*100)","v":0},{"$f":"IF(EM81=0,0,(EM80*EM81+EM82*EM83*6)/EM81)","v":0},{"$f":"IF(EN81=0,0,(EN80*EN81+EN82*EN83*6)/EN81)","v":0},{"$f":"IF(EM79=0,0,(EN79-EM79)/EM79*100)","v":0},{"$f":"IF(EP81=0,0,(EP80*EP81+EP82*EP83*6)/EP81)","v":0},{"$f":"IF(EQ81=0,0,(EQ80*EQ81+EQ82*EQ83*6)/EQ81)","v":0},{"$f":"IF(EP79=0,0,(EQ79-EP79)/EP79*100)","v":0},{"$f":"IF(ES81=0,0,(ES80*ES81+ES82*ES83*6)/ES81)","v":0},{"$f":"IF(ET81=0,0,(ET80*ET81+ET82*ET83*6)/ET81)","v":0},{"$f":"IF(ES79=0,0,(ET79-ES79)/ES79*100)","v":0},{"$f":"IF(EV81=0,0,(EV80*EV81+EV82*EV83*6)/EV81)","v":0},{"$f":"IF(EW81=0,0,(EW80*EW81+EW82*EW83*6)/EW81)","v":0},{"$f":"IF(EV79=0,0,(EW79-EV79)/EV79*100)","v":0},{"$f":"IF(EY81=0,0,(EY80*EY81+EY82*EY83*6)/EY81)","v":0},{"$f":"IF(EZ81=0,0,(EZ80*EZ81+EZ82*EZ83*6)/EZ81)","v":0},{"$f":"IF(EY79=0,0,(EZ79-EY79)/EY79*100)","v":0},{"$f":"IF(FB81=0,0,(FB80*FB81+FB82*FB83*6)/FB81)","v":0},{"$f":"IF(FC81=0,0,(FC80*FC81+FC82*FC83*6)/FC81)","v":0},{"$f":"IF(FB79=0,0,(FC79-FB79)/FB79*100)","v":0},{"$f":"IF(FE81=0,0,(FE80*FE81+FE82*FE83*6)/FE81)","v":0},{"$f":"IF(FF81=0,0,(FF80*FF81+FF82*FF83*6)/FF81)","v":0},{"$f":"IF(FE79=0,0,(FF79-FE79)/FE79*100)","v":0}]
["2",null,"L2_1_2","для прочих потребителей с 01.07 по 31.12 без НДС",null,null,{"$f":"F57=\"двухставочный\"","v":false},null,null,null,null,"ставка платы за потребление 1 куб.м холодной воды","руб./куб.м",null,null,{"$f":"IF(N80=0,0,(O80-N80)/N80*100)","v":0},null,null,{"$f":"IF(Q80=0,0,(R80-Q80)/Q80*100)","v":0},null,null,{"$f":"IF(T80=0,0,(U80-T80)/T80*100)","v":0},null,null,{"$f":"IF(W80=0,0,(X80-W80)/W80*100)","v":0},null,null,{"$f":"IF(Z80=0,0,(AA80-Z80)/Z80*100)","v":0},null,null,{"$f":"IF(AC80=0,0,(AD80-AC80)/AC80*100)","v":0},null,null,{"$f":"IF(AF80=0,0,(AG80-AF80)/AF80*100)","v":0},null,null,{"$f":"IF(AI80=0,0,(AJ80-AI80)/AI80*100)","v":0},null,null,{"$f":"IF(AL80=0,0,(AM80-AL80)/AL80*100)","v":0},null,null,{"$f":"IF(AO80=0,0,(AP80-AO80)/AO80*100)","v":0},null,null,{"$f":"IF(AR80=0,0,(AS80-AR80)/AR80*100)","v":0},null,null,{"$f":"IF(AU80=0,0,(AV80-AU80)/AU80*100)","v":0},null,null,{"$f":"IF(AX80=0,0,(AY80-AX80)/AX80*100)","v":0},null,null,{"$f":"IF(BA80=0,0,(BB80-BA80)/BA80*100)","v":0},null,null,{"$f":"IF(BD80=0,0,(BE80-BD80)/BD80*100)","v":0},null,null,{"$f":"IF(BG80=0,0,(BH80-BG80)/BG80*100)","v":0},null,null,{"$f":"IF(BJ80=0,0,(BK80-BJ80)/BJ80*100)","v":0},null,null,{"$f":"IF(BM80=0,0,(BN80-BM80)/BM80*100)","v":0},null,null,{"$f":"IF(BP80=0,0,(BQ80-BP80)/BP80*100)","v":0},null,null,{"$f":"IF(BS80=0,0,(BT80-BS80)/BS80*100)","v":0},null,null,{"$f":"IF(BV80=0,0,(BW80-BV80)/BV80*100)","v":0},null,null,{"$f":"IF(BY80=0,0,(BZ80-BY80)/BY80*100)","v":0},null,null,{"$f":"IF(CB80=0,0,(CC80-CB80)/CB80*100)","v":0},null,null,{"$f":"IF(CE80=0,0,(CF80-CE80)/CE80*100)","v":0},null,null,{"$f":"IF(CH80=0,0,(CI80-CH80)/CH80*100)","v":0},null,null,{"$f":"IF(CK80=0,0,(CL80-CK80)/CK80*100)","v":0},null,null,{"$f":"IF(CN80=0,0,(CO80-CN80)/CN80*100)","v":0},null,null,{"$f":"IF(CQ80=0,0,(CR80-CQ80)/CQ80*100)","v":0},null,null,{"$f":"IF(CT80=0,0,(CU80-CT80)/CT80*100)","v":0},null,null,{"$f":"IF(CW80=0,0,(CX80-CW80)/CW80*100)","v":0},null,null,{"$f":"IF(CZ80=0,0,(DA80-CZ80)/CZ80*100)","v":0},null,null,{"$f":"IF(DC80=0,0,(DD80-DC80)/DC80*100)","v":0},null,null,{"$f":"IF(DF80=0,0,(DG80-DF80)/DF80*100)","v":0},null,null,{"$f":"IF(DI80=0,0,(DJ80-DI80)/DI80*100)","v":0},null,null,{"$f":"IF(DL80=0,0,(DM80-DL80)/DL80*100)","v":0},null,null,{"$f":"IF(DO80=0,0,(DP80-DO80)/DO80*100)","v":0},null,null,{"$f":"IF(DR80=0,0,(DS80-DR80)/DR80*100)","v":0},null,null,{"$f":"IF(DU80=0,0,(DV80-DU80)/DU80*100)","v":0},null,null,{"$f":"IF(DX80=0,0,(DY80-DX80)/DX80*100)","v":0},null,null,{"$f":"IF(EA80=0,0,(EB80-EA80)/EA80*100)","v":0},null,null,{"$f":"IF(ED80=0,0,(EE80-ED80)/ED80*100)","v":0},null,null,{"$f":"IF(EG80=0,0,(EH80-EG80)/EG80*100)","v":0},null,null,{"$f":"IF(EJ80=0,0,(EK80-EJ80)/EJ80*100)","v":0},null,null,{"$f":"IF(EM80=0,0,(EN80-EM80)/EM80*100)","v":0},null,null,{"$f":"IF(EP80=0,0,(EQ80-EP80)/EP80*100)","v":0},null,null,{"$f":"IF(ES80=0,0,(ET80-ES80)/ES80*100)","v":0},null,null,{"$f":"IF(EV80=0,0,(EW80-EV80)/EV80*100)","v":0},null,null,{"$f":"IF(EY80=0,0,(EZ80-EY80)/EY80*100)","v":0},null,null,{"$f":"IF(FB80=0,0,(FC80-FB80)/FB80*100)","v":0},null,null,{"$f":"IF(FE80=0,0,(FF80-FE80)/FE80*100)","v":0}]
["2","ПО.прочие.II","L2_1_3","для прочих потребителей с 01.07 по 31.12 без НДС",null,null,{"$f":"F57=\"двухставочный\"","v":false},null,null,null,null,"объём потребления холодной воды","тыс.куб.м",{"$f":"SUMIFS(INDEX(Калькуляция!$T$15:$AM$268,,MATCH(N$3,Калькуляция!$T$3:$AM$3,0)),Калькуляция!$A$15:$A$268,$A81,Калькуляция!$B$15:$B$268,$B81)","v":82.51400000000001},{"$f":"SUMIFS(INDEX(Калькуляция!$T$15:$AM$268,,MATCH(O$3,Калькуляция!$T$3:$AM$3,0)),Калькуляция!$A$15:$A$268,$A81,Калькуляция!$B$15:$B$268,$B81)","v":84.326249999999987},{"$f":"IF(N81=0,0,(O81-N81)/N81*100)","v":2.1962939622366839},{"$f":"SUMIFS(INDEX(Калькуляция!$T$15:$AM$268,,MATCH(Q$3,Калькуляция!$T$3:$AM$3,0)),Калькуляция!$A$15:$A$268,$A81,Калькуляция!$B$15:$B$268,$B81)","v":82.51400000000001},{"$f":"SUMIFS(INDEX(Калькуляция!$T$15:$AM$268,,MATCH(R$3,Калькуляция!$T$3:$AM$3,0)),Калькуляция!$A$15:$A$268,$A81,Калькуляция!$B$15:$B$268,$B81)","v":84.326249999999987},{"$f":"IF(Q81=0,0,(R81-Q81)/Q81*100)","v":2.1962939622366839},{"$f":"SUMIFS(INDEX(Калькуляция!$T$15:$AM$268,,MATCH(T$3,Калькуляция!$T$3:$AM$3,0)),Калькуляция!$A$15:$A$268,$A81,Калькуляция!$B$15:$B$268,$B81)","v":82.51400000000001},{"$f":"SUMIFS(INDEX(Калькуляция!$T$15:$AM$268,,MATCH(U$3,Калькуляция!$T$3:$AM$3,0)),Калькуляция!$A$15:$A$268,$A81,Калькуляция!$B$15:$B$268,$B81)","v":84.326249999999987},{"$f":"IF(T81=0,0,(U81-T81)/T81*100)","v":2.1962939622366839},{"$f":"SUMIFS(INDEX(Калькуляция!$T$15:$AM$268,,MATCH(W$3,Калькуляция!$T$3:$AM$3,0)),Калькуляция!$A$15:$A$268,$A81,Калькуляция!$B$15:$B$268,$B81)","v":82.51400000000001},{"$f":"SUMIFS(INDEX(Калькуляция!$T$15:$AM$268,,MATCH(X$3,Калькуляция!$T$3:$AM$3,0)),Калькуляция!$A$15:$A$268,$A81,Калькуляция!$B$15:$B$268,$B81)","v":84.326249999999987},{"$f":"IF(W81=0,0,(X81-W81)/W81*100)","v":2.1962939622366839},{"$f":"SUMIFS(INDEX(Калькуляция!$T$15:$AM$268,,MATCH(Z$3,Калькуляция!$T$3:$AM$3,0)),Калькуляция!$A$15:$A$268,$A81,Калькуляция!$B$15:$B$268,$B81)","v":82.51400000000001},{"$f":"SUMIFS(INDEX(Калькуляция!$T$15:$AM$268,,MATCH(AA$3,Калькуляция!$T$3:$AM$3,0)),Калькуляция!$A$15:$A$268,$A81,Калькуляция!$B$15:$B$268,$B81)","v":84.326249999999987},{"$f":"IF(Z81=0,0,(AA81-Z81)/Z81*100)","v":2.1962939622366839},{"$f":"SUMIFS(INDEX(Калькуляция!$T$15:$AM$268,,MATCH(AC$3,Калькуляция!$T$3:$AM$3,0)),Калькуляция!$A$15:$A$268,$A81,Калькуляция!$B$15:$B$268,$B81)","v":0},{"$f":"SUMIFS(INDEX(Калькуляция!$T$15:$AM$268,,MATCH(AD$3,Калькуляция!$T$3:$AM$3,0)),Калькуляция!$A$15:$A$268,$A81,Калькуляция!$B$15:$B$268,$B81)","v":0},{"$f":"IF(AC81=0,0,(AD81-AC81)/AC81*100)","v":0},{"$f":"SUMIFS(INDEX(Калькуляция!$T$15:$AM$268,,MATCH(AF$3,Калькуляция!$T$3:$AM$3,0)),Калькуляция!$A$15:$A$268,$A81,Калькуляция!$B$15:$B$268,$B81)","v":0},{"$f":"SUMIFS(INDEX(Калькуляция!$T$15:$AM$268,,MATCH(AG$3,Калькуляция!$T$3:$AM$3,0)),Калькуляция!$A$15:$A$268,$A81,Калькуляция!$B$15:$B$268,$B81)","v":0},{"$f":"IF(AF81=0,0,(AG81-AF81)/AF81*100)","v":0},{"$f":"SUMIFS(INDEX(Калькуляция!$T$15:$AM$268,,MATCH(AI$3,Калькуляция!$T$3:$AM$3,0)),Калькуляция!$A$15:$A$268,$A81,Калькуляция!$B$15:$B$268,$B81)","v":0},{"$f":"SUMIFS(INDEX(Калькуляция!$T$15:$AM$268,,MATCH(AJ$3,Калькуляция!$T$3:$AM$3,0)),Калькуляция!$A$15:$A$268,$A81,Калькуляция!$B$15:$B$268,$B81)","v":0},{"$f":"IF(AI81=0,0,(AJ81-AI81)/AI81*100)","v":0},{"$f":"SUMIFS(INDEX(Калькуляция!$T$15:$AM$268,,MATCH(AL$3,Калькуляция!$T$3:$AM$3,0)),Калькуляция!$A$15:$A$268,$A81,Калькуляция!$B$15:$B$268,$B81)","v":0},{"$f":"SUMIFS(INDEX(Калькуляция!$T$15:$AM$268,,MATCH(AM$3,Калькуляция!$T$3:$AM$3,0)),Калькуляция!$A$15:$A$268,$A81,Калькуляция!$B$15:$B$268,$B81)","v":0},{"$f":"IF(AL81=0,0,(AM81-AL81)/AL81*100)","v":0},{"$f":"SUMIFS(INDEX(Калькуляция!$T$15:$AM$268,,MATCH(AO$3,Калькуляция!$T$3:$AM$3,0)),Калькуляция!$A$15:$A$268,$A81,Калькуляция!$B$15:$B$268,$B81)","v":0},{"$f":"SUMIFS(INDEX(Калькуляция!$T$15:$AM$268,,MATCH(AP$3,Калькуляция!$T$3:$AM$3,0)),Калькуляция!$A$15:$A$268,$A81,Калькуляция!$B$15:$B$268,$B81)","v":0},{"$f":"IF(AO81=0,0,(AP81-AO81)/AO81*100)","v":0},null,null,{"$f":"IF(AR81=0,0,(AS81-AR81)/AR81*100)","v":0},null,null,{"$f":"IF(AU81=0,0,(AV81-AU81)/AU81*100)","v":0},null,null,{"$f":"IF(AX81=0,0,(AY81-AX81)/AX81*100)","v":0},null,null,{"$f":"IF(BA81=0,0,(BB81-BA81)/BA81*100)","v":0},null,null,{"$f":"IF(BD81=0,0,(BE81-BD81)/BD81*100)","v":0},null,null,{"$f":"IF(BG81=0,0,(BH81-BG81)/BG81*100)","v":0},null,null,{"$f":"IF(BJ81=0,0,(BK81-BJ81)/BJ81*100)","v":0},null,null,{"$f":"IF(BM81=0,0,(BN81-BM81)/BM81*100)","v":0},null,null,{"$f":"IF(BP81=0,0,(BQ81-BP81)/BP81*100)","v":0},null,null,{"$f":"IF(BS81=0,0,(BT81-BS81)/BS81*100)","v":0},null,null,{"$f":"IF(BV81=0,0,(BW81-BV81)/BV81*100)","v":0},null,null,{"$f":"IF(BY81=0,0,(BZ81-BY81)/BY81*100)","v":0},null,null,{"$f":"IF(CB81=0,0,(CC81-CB81)/CB81*100)","v":0},null,null,{"$f":"IF(CE81=0,0,(CF81-CE81)/CE81*100)","v":0},null,null,{"$f":"IF(CH81=0,0,(CI81-CH81)/CH81*100)","v":0},null,null,{"$f":"IF(CK81=0,0,(CL81-CK81)/CK81*100)","v":0},null,null,{"$f":"IF(CN81=0,0,(CO81-CN81)/CN81*100)","v":0},null,null,{"$f":"IF(CQ81=0,0,(CR81-CQ81)/CQ81*100)","v":0},null,null,{"$f":"IF(CT81=0,0,(CU81-CT81)/CT81*100)","v":0},null,null,{"$f":"IF(CW81=0,0,(CX81-CW81)/CW81*100)","v":0},null,null,{"$f":"IF(CZ81=0,0,(DA81-CZ81)/CZ81*100)","v":0},null,null,{"$f":"IF(DC81=0,0,(DD81-DC81)/DC81*100)","v":0},null,null,{"$f":"IF(DF81=0,0,(DG81-DF81)/DF81*100)","v":0},null,null,{"$f":"IF(DI81=0,0,(DJ81-DI81)/DI81*100)","v":0},null,null,{"$f":"IF(DL81=0,0,(DM81-DL81)/DL81*100)","v":0},null,null,{"$f":"IF(DO81=0,0,(DP81-DO81)/DO81*100)","v":0},null,null,{"$f":"IF(DR81=0,0,(DS81-DR81)/DR81*100)","v":0},null,null,{"$f":"IF(DU81=0,0,(DV81-DU81)/DU81*100)","v":0},null,null,{"$f":"IF(DX81=0,0,(DY81-DX81)/DX81*100)","v":0},null,null,{"$f":"IF(EA81=0,0,(EB81-EA81)/EA81*100)","v":0},null,null,{"$f":"IF(ED81=0,0,(EE81-ED81)/ED81*100)","v":0},null,null,{"$f":"IF(EG81=0,0,(EH81-EG81)/EG81*100)","v":0},null,null,{"$f":"IF(EJ81=0,0,(EK81-EJ81)/EJ81*100)","v":0},null,null,{"$f":"IF(EM81=0,0,(EN81-EM81)/EM81*100)","v":0},null,null,{"$f":"IF(EP81=0,0,(EQ81-EP81)/EP81*100)","v":0},null,null,{"$f":"IF(ES81=0,0,(ET81-ES81)/ES81*100)","v":0},null,null,{"$f":"IF(EV81=0,0,(EW81-EV81)/EV81*100)","v":0},null,null,{"$f":"IF(EY81=0,0,(EZ81-EY81)/EY81*100)","v":0},null,null,{"$f":"IF(FB81=0,0,(FC81-FB81)/FB81*100)","v":0},null,null,{"$f":"IF(FE81=0,0,(FF81-FE81)/FE81*100)","v":0}]
["2",null,"L2_1_4","для прочих потребителей с 01.07 по 31.12 без НДС",null,null,{"$f":"F57=\"двухставочный\"","v":false},null,null,null,null,"ставка платы за содержание системы холодного водоснабжения","тыс.руб./куб.м*час/в месяц",null,null,{"$f":"IF(N82=0,0,(O82-N82)/N82*100)","v":0},null,null,{"$f":"IF(Q82=0,0,(R82-Q82)/Q82*100)","v":0},null,null,{"$f":"IF(T82=0,0,(U82-T82)/T82*100)","v":0},null,null,{"$f":"IF(W82=0,0,(X82-W82)/W82*100)","v":0},null,null,{"$f":"IF(Z82=0,0,(AA82-Z82)/Z82*100)","v":0},null,null,{"$f":"IF(AC82=0,0,(AD82-AC82)/AC82*100)","v":0},null,null,{"$f":"IF(AF82=0,0,(AG82-AF82)/AF82*100)","v":0},null,null,{"$f":"IF(AI82=0,0,(AJ82-AI82)/AI82*100)","v":0},null,null,{"$f":"IF(AL82=0,0,(AM82-AL82)/AL82*100)","v":0},null,null,{"$f":"IF(AO82=0,0,(AP82-AO82)/AO82*100)","v":0},null,null,{"$f":"IF(AR82=0,0,(AS82-AR82)/AR82*100)","v":0},null,null,{"$f":"IF(AU82=0,0,(AV82-AU82)/AU82*100)","v":0},null,null,{"$f":"IF(AX82=0,0,(AY82-AX82)/AX82*100)","v":0},null,null,{"$f":"IF(BA82=0,0,(BB82-BA82)/BA82*100)","v":0},null,null,{"$f":"IF(BD82=0,0,(BE82-BD82)/BD82*100)","v":0},null,null,{"$f":"IF(BG82=0,0,(BH82-BG82)/BG82*100)","v":0},null,null,{"$f":"IF(BJ82=0,0,(BK82-BJ82)/BJ82*100)","v":0},null,null,{"$f":"IF(BM82=0,0,(BN82-BM82)/BM82*100)","v":0},null,null,{"$f":"IF(BP82=0,0,(BQ82-BP82)/BP82*100)","v":0},null,null,{"$f":"IF(BS82=0,0,(BT82-BS82)/BS82*100)","v":0},null,null,{"$f":"IF(BV82=0,0,(BW82-BV82)/BV82*100)","v":0},null,null,{"$f":"IF(BY82=0,0,(BZ82-BY82)/BY82*100)","v":0},null,null,{"$f":"IF(CB82=0,0,(CC82-CB82)/CB82*100)","v":0},null,null,{"$f":"IF(CE82=0,0,(CF82-CE82)/CE82*100)","v":0},null,null,{"$f":"IF(CH82=0,0,(CI82-CH82)/CH82*100)","v":0},null,null,{"$f":"IF(CK82=0,0,(CL82-CK82)/CK82*100)","v":0},null,null,{"$f":"IF(CN82=0,0,(CO82-CN82)/CN82*100)","v":0},null,null,{"$f":"IF(CQ82=0,0,(CR82-CQ82)/CQ82*100)","v":0},null,null,{"$f":"IF(CT82=0,0,(CU82-CT82)/CT82*100)","v":0},null,null,{"$f":"IF(CW82=0,0,(CX82-CW82)/CW82*100)","v":0},null,null,{"$f":"IF(CZ82=0,0,(DA82-CZ82)/CZ82*100)","v":0},null,null,{"$f":"IF(DC82=0,0,(DD82-DC82)/DC82*100)","v":0},null,null,{"$f":"IF(DF82=0,0,(DG82-DF82)/DF82*100)","v":0},null,null,{"$f":"IF(DI82=0,0,(DJ82-DI82)/DI82*100)","v":0},null,null,{"$f":"IF(DL82=0,0,(DM82-DL82)/DL82*100)","v":0},null,null,{"$f":"IF(DO82=0,0,(DP82-DO82)/DO82*100)","v":0},null,null,{"$f":"IF(DR82=0,0,(DS82-DR82)/DR82*100)","v":0},null,null,{"$f":"IF(DU82=0,0,(DV82-DU82)/DU82*100)","v":0},null,null,{"$f":"IF(DX82=0,0,(DY82-DX82)/DX82*100)","v":0},null,null,{"$f":"IF(EA82=0,0,(EB82-EA82)/EA82*100)","v":0},null,null,{"$f":"IF(ED82=0,0,(EE82-ED82)/ED82*100)","v":0},null,null,{"$f":"IF(EG82=0,0,(EH82-EG82)/EG82*100)","v":0},null,null,{"$f":"IF(EJ82=0,0,(EK82-EJ82)/EJ82*100)","v":0},null,null,{"$f":"IF(EM82=0,0,(EN82-EM82)/EM82*100)","v":0},null,null,{"$f":"IF(EP82=0,0,(EQ82-EP82)/EP82*100)","v":0},null,null,{"$f":"IF(ES82=0,0,(ET82-ES82)/ES82*100)","v":0},null,null,{"$f":"IF(EV82=0,0,(EW82-EV82)/EV82*100)","v":0},null,null,{"$f":"IF(EY82=0,0,(EZ82-EY82)/EY82*100)","v":0},null,null,{"$f":"IF(FB82=0,0,(FC82-FB82)/FB82*100)","v":0},null,null,{"$f":"IF(FE82=0,0,(FF82-FE82)/FE82*100)","v":0}]
["2",null,"L2_1_5","для прочих потребителей с 01.07 по 31.12 без НДС",null,null,{"$f":"F57=\"двухставочный\"","v":false},null,null,null,null,"величина присоединённой мощности","куб.м*час",null,null,{"$f":"IF(N83=0,0,(O83-N83)/N83*100)","v":0},null,null,{"$f":"IF(Q83=0,0,(R83-Q83)/Q83*100)","v":0},null,null,{"$f":"IF(T83=0,0,(U83-T83)/T83*100)","v":0},null,null,{"$f":"IF(W83=0,0,(X83-W83)/W83*100)","v":0},null,null,{"$f":"IF(Z83=0,0,(AA83-Z83)/Z83*100)","v":0},null,null,{"$f":"IF(AC83=0,0,(AD83-AC83)/AC83*100)","v":0},null,null,{"$f":"IF(AF83=0,0,(AG83-AF83)/AF83*100)","v":0},null,null,{"$f":"IF(AI83=0,0,(AJ83-AI83)/AI83*100)","v":0},null,null,{"$f":"IF(AL83=0,0,(AM83-AL83)/AL83*100)","v":0},null,null,{"$f":"IF(AO83=0,0,(AP83-AO83)/AO83*100)","v":0},null,null,{"$f":"IF(AR83=0,0,(AS83-AR83)/AR83*100)","v":0},null,null,{"$f":"IF(AU83=0,0,(AV83-AU83)/AU83*100)","v":0},null,null,{"$f":"IF(AX83=0,0,(AY83-AX83)/AX83*100)","v":0},null,null,{"$f":"IF(BA83=0,0,(BB83-BA83)/BA83*100)","v":0},null,null,{"$f":"IF(BD83=0,0,(BE83-BD83)/BD83*100)","v":0},null,null,{"$f":"IF(BG83=0,0,(BH83-BG83)/BG83*100)","v":0},null,null,{"$f":"IF(BJ83=0,0,(BK83-BJ83)/BJ83*100)","v":0},null,null,{"$f":"IF(BM83=0,0,(BN83-BM83)/BM83*100)","v":0},null,null,{"$f":"IF(BP83=0,0,(BQ83-BP83)/BP83*100)","v":0},null,null,{"$f":"IF(BS83=0,0,(BT83-BS83)/BS83*100)","v":0},null,null,{"$f":"IF(BV83=0,0,(BW83-BV83)/BV83*100)","v":0},null,null,{"$f":"IF(BY83=0,0,(BZ83-BY83)/BY83*100)","v":0},null,null,{"$f":"IF(CB83=0,0,(CC83-CB83)/CB83*100)","v":0},null,null,{"$f":"IF(CE83=0,0,(CF83-CE83)/CE83*100)","v":0},null,null,{"$f":"IF(CH83=0,0,(CI83-CH83)/CH83*100)","v":0},null,null,{"$f":"IF(CK83=0,0,(CL83-CK83)/CK83*100)","v":0},null,null,{"$f":"IF(CN83=0,0,(CO83-CN83)/CN83*100)","v":0},null,null,{"$f":"IF(CQ83=0,0,(CR83-CQ83)/CQ83*100)","v":0},null,null,{"$f":"IF(CT83=0,0,(CU83-CT83)/CT83*100)","v":0},null,null,{"$f":"IF(CW83=0,0,(CX83-CW83)/CW83*100)","v":0},null,null,{"$f":"IF(CZ83=0,0,(DA83-CZ83)/CZ83*100)","v":0},null,null,{"$f":"IF(DC83=0,0,(DD83-DC83)/DC83*100)","v":0},null,null,{"$f":"IF(DF83=0,0,(DG83-DF83)/DF83*100)","v":0},null,null,{"$f":"IF(DI83=0,0,(DJ83-DI83)/DI83*100)","v":0},null,null,{"$f":"IF(DL83=0,0,(DM83-DL83)/DL83*100)","v":0},null,null,{"$f":"IF(DO83=0,0,(DP83-DO83)/DO83*100)","v":0},null,null,{"$f":"IF(DR83=0,0,(DS83-DR83)/DR83*100)","v":0},null,null,{"$f":"IF(DU83=0,0,(DV83-DU83)/DU83*100)","v":0},null,null,{"$f":"IF(DX83=0,0,(DY83-DX83)/DX83*100)","v":0},null,null,{"$f":"IF(EA83=0,0,(EB83-EA83)/EA83*100)","v":0},null,null,{"$f":"IF(ED83=0,0,(EE83-ED83)/ED83*100)","v":0},null,null,{"$f":"IF(EG83=0,0,(EH83-EG83)/EG83*100)","v":0},null,null,{"$f":"IF(EJ83=0,0,(EK83-EJ83)/EJ83*100)","v":0},null,null,{"$f":"IF(EM83=0,0,(EN83-EM83)/EM83*100)","v":0},null,null,{"$f":"IF(EP83=0,0,(EQ83-EP83)/EP83*100)","v":0},null,null,{"$f":"IF(ES83=0,0,(ET83-ES83)/ES83*100)","v":0},null,null,{"$f":"IF(EV83=0,0,(EW83-EV83)/EV83*100)","v":0},null,null,{"$f":"IF(EY83=0,0,(EZ83-EY83)/EY83*100)","v":0},null,null,{"$f":"IF(FB83=0,0,(FC83-FB83)/FB83*100)","v":0},null,null,{"$f":"IF(FE83=0,0,(FF83-FE83)/FE83*100)","v":0}]
["2",null,null,null,null,null,{"$f":"F57=\"двухставочный\"","v":false},null,null,null,null,"Тариф с 01.01 по 30.06 для населения с НДС:"]
["2",null,"L2_1_1","для населения с 01.01 по 30.06 с НДС",null,null,{"$f":"F57=\"двухставочный\"","v":false},null,null,null,null,"перевод двухставочного тарифа в одноставочный тариф","руб./куб.м",{"$f":"IF(N87=0,0,(N86*N87+N88*N89*6)/N87)","v":0},{"$f":"IF(O87=0,0,(O86*O87+O88*O89*6)/O87)","v":0},{"$f":"IF(N85=0,0,(O85-N85)/N85*100)","v":0},{"$f":"IF(Q87=0,0,(Q86*Q87+Q88*Q89*6)/Q87)","v":0},{"$f":"IF(R87=0,0,(R86*R87+R88*R89*6)/R87)","v":0},{"$f":"IF(Q85=0,0,(R85-Q85)/Q85*100)","v":0},{"$f":"IF(T87=0,0,(T86*T87+T88*T89*6)/T87)","v":0},{"$f":"IF(U87=0,0,(U86*U87+U88*U89*6)/U87)","v":0},{"$f":"IF(T85=0,0,(U85-T85)/T85*100)","v":0},{"$f":"IF(W87=0,0,(W86*W87+W88*W89*6)/W87)","v":0},{"$f":"IF(X87=0,0,(X86*X87+X88*X89*6)/X87)","v":0},{"$f":"IF(W85=0,0,(X85-W85)/W85*100)","v":0},{"$f":"IF(Z87=0,0,(Z86*Z87+Z88*Z89*6)/Z87)","v":0},{"$f":"IF(AA87=0,0,(AA86*AA87+AA88*AA89*6)/AA87)","v":0},{"$f":"IF(Z85=0,0,(AA85-Z85)/Z85*100)","v":0},{"$f":"IF(AC87=0,0,(AC86*AC87+AC88*AC89*6)/AC87)","v":0},{"$f":"IF(AD87=0,0,(AD86*AD87+AD88*AD89*6)/AD87)","v":0},{"$f":"IF(AC85=0,0,(AD85-AC85)/AC85*100)","v":0},{"$f":"IF(AF87=0,0,(AF86*AF87+AF88*AF89*6)/AF87)","v":0},{"$f":"IF(AG87=0,0,(AG86*AG87+AG88*AG89*6)/AG87)","v":0},{"$f":"IF(AF85=0,0,(AG85-AF85)/AF85*100)","v":0},{"$f":"IF(AI87=0,0,(AI86*AI87+AI88*AI89*6)/AI87)","v":0},{"$f":"IF(AJ87=0,0,(AJ86*AJ87+AJ88*AJ89*6)/AJ87)","v":0},{"$f":"IF(AI85=0,0,(AJ85-AI85)/AI85*100)","v":0},{"$f":"IF(AL87=0,0,(AL86*AL87+AL88*AL89*6)/AL87)","v":0},{"$f":"IF(AM87=0,0,(AM86*AM87+AM88*AM89*6)/AM87)","v":0},{"$f":"IF(AL85=0,0,(AM85-AL85)/AL85*100)","v":0},{"$f":"IF(AO87=0,0,(AO86*AO87+AO88*AO89*6)/AO87)","v":0},{"$f":"IF(AP87=0,0,(AP86*AP87+AP88*AP89*6)/AP87)","v":0},{"$f":"IF(AO85=0,0,(AP85-AO85)/AO85*100)","v":0},{"$f":"IF(AR87=0,0,(AR86*AR87+AR88*AR89*6)/AR87)","v":0},{"$f":"IF(AS87=0,0,(AS86*AS87+AS88*AS89*6)/AS87)","v":0},{"$f":"IF(AR85=0,0,(AS85-AR85)/AR85*100)","v":0},{"$f":"IF(AU87=0,0,(AU86*AU87+AU88*AU89*6)/AU87)","v":0},{"$f":"IF(AV87=0,0,(AV86*AV87+AV88*AV89*6)/AV87)","v":0},{"$f":"IF(AU85=0,0,(AV85-AU85)/AU85*100)","v":0},{"$f":"IF(AX87=0,0,(AX86*AX87+AX88*AX89*6)/AX87)","v":0},{"$f":"IF(AY87=0,0,(AY86*AY87+AY88*AY89*6)/AY87)","v":0},{"$f":"IF(AX85=0,0,(AY85-AX85)/AX85*100)","v":0},{"$f":"IF(BA87=0,0,(BA86*BA87+BA88*BA89*6)/BA87)","v":0},{"$f":"IF(BB87=0,0,(BB86*BB87+BB88*BB89*6)/BB87)","v":0},{"$f":"IF(BA85=0,0,(BB85-BA85)/BA85*100)","v":0},{"$f":"IF(BD87=0,0,(BD86*BD87+BD88*BD89*6)/BD87)","v":0},{"$f":"IF(BE87=0,0,(BE86*BE87+BE88*BE89*6)/BE87)","v":0},{"$f":"IF(BD85=0,0,(BE85-BD85)/BD85*100)","v":0},{"$f":"IF(BG87=0,0,(BG86*BG87+BG88*BG89*6)/BG87)","v":0},{"$f":"IF(BH87=0,0,(BH86*BH87+BH88*BH89*6)/BH87)","v":0},{"$f":"IF(BG85=0,0,(BH85-BG85)/BG85*100)","v":0},{"$f":"IF(BJ87=0,0,(BJ86*BJ87+BJ88*BJ89*6)/BJ87)","v":0},{"$f":"IF(BK87=0,0,(BK86*BK87+BK88*BK89*6)/BK87)","v":0},{"$f":"IF(BJ85=0,0,(BK85-BJ85)/BJ85*100)","v":0},{"$f":"IF(BM87=0,0,(BM86*BM87+BM88*BM89*6)/BM87)","v":0},{"$f":"IF(BN87=0,0,(BN86*BN87+BN88*BN89*6)/BN87)","v":0},{"$f":"IF(BM85=0,0,(BN85-BM85)/BM85*100)","v":0},{"$f":"IF(BP87=0,0,(BP86*BP87+BP88*BP89*6)/BP87)","v":0},{"$f":"IF(BQ87=0,0,(BQ86*BQ87+BQ88*BQ89*6)/BQ87)","v":0},{"$f":"IF(BP85=0,0,(BQ85-BP85)/BP85*100)","v":0},{"$f":"IF(BS87=0,0,(BS86*BS87+BS88*BS89*6)/BS87)","v":0},{"$f":"IF(BT87=0,0,(BT86*BT87+BT88*BT89*6)/BT87)","v":0},{"$f":"IF(BS85=0,0,(BT85-BS85)/BS85*100)","v":0},{"$f":"IF(BV87=0,0,(BV86*BV87+BV88*BV89*6)/BV87)","v":0},{"$f":"IF(BW87=0,0,(BW86*BW87+BW88*BW89*6)/BW87)","v":0},{"$f":"IF(BV85=0,0,(BW85-BV85)/BV85*100)","v":0},{"$f":"IF(BY87=0,0,(BY86*BY87+BY88*BY89*6)/BY87)","v":0},{"$f":"IF(BZ87=0,0,(BZ86*BZ87+BZ88*BZ89*6)/BZ87)","v":0},{"$f":"IF(BY85=0,0,(BZ85-BY85)/BY85*100)","v":0},{"$f":"IF(CB87=0,0,(CB86*CB87+CB88*CB89*6)/CB87)","v":0},{"$f":"IF(CC87=0,0,(CC86*CC87+CC88*CC89*6)/CC87)","v":0},{"$f":"IF(CB85=0,0,(CC85-CB85)/CB85*100)","v":0},{"$f":"IF(CE87=0,0,(CE86*CE87+CE88*CE89*6)/CE87)","v":0},{"$f":"IF(CF87=0,0,(CF86*CF87+CF88*CF89*6)/CF87)","v":0},{"$f":"IF(CE85=0,0,(CF85-CE85)/CE85*100)","v":0},{"$f":"IF(CH87=0,0,(CH86*CH87+CH88*CH89*6)/CH87)","v":0},{"$f":"IF(CI87=0,0,(CI86*CI87+CI88*CI89*6)/CI87)","v":0},{"$f":"IF(CH85=0,0,(CI85-CH85)/CH85*100)","v":0},{"$f":"IF(CK87=0,0,(CK86*CK87+CK88*CK89*6)/CK87)","v":0},{"$f":"IF(CL87=0,0,(CL86*CL87+CL88*CL89*6)/CL87)","v":0},{"$f":"IF(CK85=0,0,(CL85-CK85)/CK85*100)","v":0},{"$f":"IF(CN87=0,0,(CN86*CN87+CN88*CN89*6)/CN87)","v":0},{"$f":"IF(CO87=0,0,(CO86*CO87+CO88*CO89*6)/CO87)","v":0},{"$f":"IF(CN85=0,0,(CO85-CN85)/CN85*100)","v":0},{"$f":"IF(CQ87=0,0,(CQ86*CQ87+CQ88*CQ89*6)/CQ87)","v":0},{"$f":"IF(CR87=0,0,(CR86*CR87+CR88*CR89*6)/CR87)","v":0},{"$f":"IF(CQ85=0,0,(CR85-CQ85)/CQ85*100)","v":0},{"$f":"IF(CT87=0,0,(CT86*CT87+CT88*CT89*6)/CT87)","v":0},{"$f":"IF(CU87=0,0,(CU86*CU87+CU88*CU89*6)/CU87)","v":0},{"$f":"IF(CT85=0,0,(CU85-CT85)/CT85*100)","v":0},{"$f":"IF(CW87=0,0,(CW86*CW87+CW88*CW89*6)/CW87)","v":0},{"$f":"IF(CX87=0,0,(CX86*CX87+CX88*CX89*6)/CX87)","v":0},{"$f":"IF(CW85=0,0,(CX85-CW85)/CW85*100)","v":0},{"$f":"IF(CZ87=0,0,(CZ86*CZ87+CZ88*CZ89*6)/CZ87)","v":0},{"$f":"IF(DA87=0,0,(DA86*DA87+DA88*DA89*6)/DA87)","v":0},{"$f":"IF(CZ85=0,0,(DA85-CZ85)/CZ85*100)","v":0},{"$f":"IF(DC87=0,0,(DC86*DC87+DC88*DC89*6)/DC87)","v":0},{"$f":"IF(DD87=0,0,(DD86*DD87+DD88*DD89*6)/DD87)","v":0},{"$f":"IF(DC85=0,0,(DD85-DC85)/DC85*100)","v":0},{"$f":"IF(DF87=0,0,(DF86*DF87+DF88*DF89*6)/DF87)","v":0},{"$f":"IF(DG87=0,0,(DG86*DG87+DG88*DG89*6)/DG87)","v":0},{"$f":"IF(DF85=0,0,(DG85-DF85)/DF85*100)","v":0},{"$f":"IF(DI87=0,0,(DI86*DI87+DI88*DI89*6)/DI87)","v":0},{"$f":"IF(DJ87=0,0,(DJ86*DJ87+DJ88*DJ89*6)/DJ87)","v":0},{"$f":"IF(DI85=0,0,(DJ85-DI85)/DI85*100)","v":0},{"$f":"IF(DL87=0,0,(DL86*DL87+DL88*DL89*6)/DL87)","v":0},{"$f":"IF(DM87=0,0,(DM86*DM87+DM88*DM89*6)/DM87)","v":0},{"$f":"IF(DL85=0,0,(DM85-DL85)/DL85*100)","v":0},{"$f":"IF(DO87=0,0,(DO86*DO87+DO88*DO89*6)/DO87)","v":0},{"$f":"IF(DP87=0,0,(DP86*DP87+DP88*DP89*6)/DP87)","v":0},{"$f":"IF(DO85=0,0,(DP85-DO85)/DO85*100)","v":0},{"$f":"IF(DR87=0,0,(DR86*DR87+DR88*DR89*6)/DR87)","v":0},{"$f":"IF(DS87=0,0,(DS86*DS87+DS88*DS89*6)/DS87)","v":0},{"$f":"IF(DR85=0,0,(DS85-DR85)/DR85*100)","v":0},{"$f":"IF(DU87=0,0,(DU86*DU87+DU88*DU89*6)/DU87)","v":0},{"$f":"IF(DV87=0,0,(DV86*DV87+DV88*DV89*6)/DV87)","v":0},{"$f":"IF(DU85=0,0,(DV85-DU85)/DU85*100)","v":0},{"$f":"IF(DX87=0,0,(DX86*DX87+DX88*DX89*6)/DX87)","v":0},{"$f":"IF(DY87=0,0,(DY86*DY87+DY88*DY89*6)/DY87)","v":0},{"$f":"IF(DX85=0,0,(DY85-DX85)/DX85*100)","v":0},{"$f":"IF(EA87=0,0,(EA86*EA87+EA88*EA89*6)/EA87)","v":0},{"$f":"IF(EB87=0,0,(EB86*EB87+EB88*EB89*6)/EB87)","v":0},{"$f":"IF(EA85=0,0,(EB85-EA85)/EA85*100)","v":0},{"$f":"IF(ED87=0,0,(ED86*ED87+ED88*ED89*6)/ED87)","v":0},{"$f":"IF(EE87=0,0,(EE86*EE87+EE88*EE89*6)/EE87)","v":0},{"$f":"IF(ED85=0,0,(EE85-ED85)/ED85*100)","v":0},{"$f":"IF(EG87=0,0,(EG86*EG87+EG88*EG89*6)/EG87)","v":0},{"$f":"IF(EH87=0,0,(EH86*EH87+EH88*EH89*6)/EH87)","v":0},{"$f":"IF(EG85=0,0,(EH85-EG85)/EG85*100)","v":0},{"$f":"IF(EJ87=0,0,(EJ86*EJ87+EJ88*EJ89*6)/EJ87)","v":0},{"$f":"IF(EK87=0,0,(EK86*EK87+EK88*EK89*6)/EK87)","v":0},{"$f":"IF(EJ85=0,0,(EK85-EJ85)/EJ85*100)","v":0},{"$f":"IF(EM87=0,0,(EM86*EM87+EM88*EM89*6)/EM87)","v":0},{"$f":"IF(EN87=0,0,(EN86*EN87+EN88*EN89*6)/EN87)","v":0},{"$f":"IF(EM85=0,0,(EN85-EM85)/EM85*100)","v":0},{"$f":"IF(EP87=0,0,(EP86*EP87+EP88*EP89*6)/EP87)","v":0},{"$f":"IF(EQ87=0,0,(EQ86*EQ87+EQ88*EQ89*6)/EQ87)","v":0},{"$f":"IF(EP85=0,0,(EQ85-EP85)/EP85*100)","v":0},{"$f":"IF(ES87=0,0,(ES86*ES87+ES88*ES89*6)/ES87)","v":0},{"$f":"IF(ET87=0,0,(ET86*ET87+ET88*ET89*6)/ET87)","v":0},{"$f":"IF(ES85=0,0,(ET85-ES85)/ES85*100)","v":0},{"$f":"IF(EV87=0,0,(EV86*EV87+EV88*EV89*6)/EV87)","v":0},{"$f":"IF(EW87=0,0,(EW86*EW87+EW88*EW89*6)/EW87)","v":0},{"$f":"IF(EV85=0,0,(EW85-EV85)/EV85*100)","v":0},{"$f":"IF(EY87=0,0,(EY86*EY87+EY88*EY89*6)/EY87)","v":0},{"$f":"IF(EZ87=0,0,(EZ86*EZ87+EZ88*EZ89*6)/EZ87)","v":0},{"$f":"IF(EY85=0,0,(EZ85-EY85)/EY85*100)","v":0},{"$f":"IF(FB87=0,0,(FB86*FB87+FB88*FB89*6)/FB87)","v":0},{"$f":"IF(FC87=0,0,(FC86*FC87+FC88*FC89*6)/FC87)","v":0},{"$f":"IF(FB85=0,0,(FC85-FB85)/FB85*100)","v":0},{"$f":"IF(FE87=0,0,(FE86*FE87+FE88*FE89*6)/FE87)","v":0},{"$f":"IF(FF87=0,0,(FF86*FF87+FF88*FF89*6)/FF87)","v":0},{"$f":"IF(FE85=0,0,(FF85-FE85)/FE85*100)","v":0}]
["2",null,"L2_1_2","для населения с 01.01 по 30.06 с НДС",null,null,{"$f":"F57=\"двухставочный\"","v":false},null,null,null,null,"ставка платы за потребление 1 куб.м холодной воды","руб./куб.м",null,null,{"$f":"IF(N86=0,0,(O86-N86)/N86*100)","v":0},null,null,{"$f":"IF(Q86=0,0,(R86-Q86)/Q86*100)","v":0},null,null,{"$f":"IF(T86=0,0,(U86-T86)/T86*100)","v":0},null,null,{"$f":"IF(W86=0,0,(X86-W86)/W86*100)","v":0},null,null,{"$f":"IF(Z86=0,0,(AA86-Z86)/Z86*100)","v":0},null,null,{"$f":"IF(AC86=0,0,(AD86-AC86)/AC86*100)","v":0},null,null,{"$f":"IF(AF86=0,0,(AG86-AF86)/AF86*100)","v":0},null,null,{"$f":"IF(AI86=0,0,(AJ86-AI86)/AI86*100)","v":0},null,null,{"$f":"IF(AL86=0,0,(AM86-AL86)/AL86*100)","v":0},null,null,{"$f":"IF(AO86=0,0,(AP86-AO86)/AO86*100)","v":0},null,null,{"$f":"IF(AR86=0,0,(AS86-AR86)/AR86*100)","v":0},null,null,{"$f":"IF(AU86=0,0,(AV86-AU86)/AU86*100)","v":0},null,null,{"$f":"IF(AX86=0,0,(AY86-AX86)/AX86*100)","v":0},null,null,{"$f":"IF(BA86=0,0,(BB86-BA86)/BA86*100)","v":0},null,null,{"$f":"IF(BD86=0,0,(BE86-BD86)/BD86*100)","v":0},null,null,{"$f":"IF(BG86=0,0,(BH86-BG86)/BG86*100)","v":0},null,null,{"$f":"IF(BJ86=0,0,(BK86-BJ86)/BJ86*100)","v":0},null,null,{"$f":"IF(BM86=0,0,(BN86-BM86)/BM86*100)","v":0},null,null,{"$f":"IF(BP86=0,0,(BQ86-BP86)/BP86*100)","v":0},null,null,{"$f":"IF(BS86=0,0,(BT86-BS86)/BS86*100)","v":0},null,null,{"$f":"IF(BV86=0,0,(BW86-BV86)/BV86*100)","v":0},null,null,{"$f":"IF(BY86=0,0,(BZ86-BY86)/BY86*100)","v":0},null,null,{"$f":"IF(CB86=0,0,(CC86-CB86)/CB86*100)","v":0},null,null,{"$f":"IF(CE86=0,0,(CF86-CE86)/CE86*100)","v":0},null,null,{"$f":"IF(CH86=0,0,(CI86-CH86)/CH86*100)","v":0},null,null,{"$f":"IF(CK86=0,0,(CL86-CK86)/CK86*100)","v":0},null,null,{"$f":"IF(CN86=0,0,(CO86-CN86)/CN86*100)","v":0},null,null,{"$f":"IF(CQ86=0,0,(CR86-CQ86)/CQ86*100)","v":0},null,null,{"$f":"IF(CT86=0,0,(CU86-CT86)/CT86*100)","v":0},null,null,{"$f":"IF(CW86=0,0,(CX86-CW86)/CW86*100)","v":0},null,null,{"$f":"IF(CZ86=0,0,(DA86-CZ86)/CZ86*100)","v":0},null,null,{"$f":"IF(DC86=0,0,(DD86-DC86)/DC86*100)","v":0},null,null,{"$f":"IF(DF86=0,0,(DG86-DF86)/DF86*100)","v":0},null,null,{"$f":"IF(DI86=0,0,(DJ86-DI86)/DI86*100)","v":0},null,null,{"$f":"IF(DL86=0,0,(DM86-DL86)/DL86*100)","v":0},null,null,{"$f":"IF(DO86=0,0,(DP86-DO86)/DO86*100)","v":0},null,null,{"$f":"IF(DR86=0,0,(DS86-DR86)/DR86*100)","v":0},null,null,{"$f":"IF(DU86=0,0,(DV86-DU86)/DU86*100)","v":0},null,null,{"$f":"IF(DX86=0,0,(DY86-DX86)/DX86*100)","v":0},null,null,{"$f":"IF(EA86=0,0,(EB86-EA86)/EA86*100)","v":0},null,null,{"$f":"IF(ED86=0,0,(EE86-ED86)/ED86*100)","v":0},null,null,{"$f":"IF(EG86=0,0,(EH86-EG86)/EG86*100)","v":0},null,null,{"$f":"IF(EJ86=0,0,(EK86-EJ86)/EJ86*100)","v":0},null,null,{"$f":"IF(EM86=0,0,(EN86-EM86)/EM86*100)","v":0},null,null,{"$f":"IF(EP86=0,0,(EQ86-EP86)/EP86*100)","v":0},null,null,{"$f":"IF(ES86=0,0,(ET86-ES86)/ES86*100)","v":0},null,null,{"$f":"IF(EV86=0,0,(EW86-EV86)/EV86*100)","v":0},null,null,{"$f":"IF(EY86=0,0,(EZ86-EY86)/EY86*100)","v":0},null,null,{"$f":"IF(FB86=0,0,(FC86-FB86)/FB86*100)","v":0},null,null,{"$f":"IF(FE86=0,0,(FF86-FE86)/FE86*100)","v":0}]
["2","ПО.население.I","L2_1_3","для населения с 01.01 по 30.06 с НДС",null,null,{"$f":"F57=\"двухставочный\"","v":false},null,null,null,null,"объём потребления холодной воды","тыс.куб.м",{"$f":"SUMIFS(INDEX(Калькуляция!$T$15:$AM$268,,MATCH(N$3,Калькуляция!$T$3:$AM$3,0)),Калькуляция!$A$15:$A$268,$A87,Калькуляция!$B$15:$B$268,$B87)","v":0},{"$f":"SUMIFS(INDEX(Калькуляция!$T$15:$AM$268,,MATCH(O$3,Калькуляция!$T$3:$AM$3,0)),Калькуляция!$A$15:$A$268,$A87,Калькуляция!$B$15:$B$268,$B87)","v":0},{"$f":"IF(N87=0,0,(O87-N87)/N87*100)","v":0},{"$f":"SUMIFS(INDEX(Калькуляция!$T$15:$AM$268,,MATCH(Q$3,Калькуляция!$T$3:$AM$3,0)),Калькуляция!$A$15:$A$268,$A87,Калькуляция!$B$15:$B$268,$B87)","v":0},{"$f":"SUMIFS(INDEX(Калькуляция!$T$15:$AM$268,,MATCH(R$3,Калькуляция!$T$3:$AM$3,0)),Калькуляция!$A$15:$A$268,$A87,Калькуляция!$B$15:$B$268,$B87)","v":0},{"$f":"IF(Q87=0,0,(R87-Q87)/Q87*100)","v":0},{"$f":"SUMIFS(INDEX(Калькуляция!$T$15:$AM$268,,MATCH(T$3,Калькуляция!$T$3:$AM$3,0)),Калькуляция!$A$15:$A$268,$A87,Калькуляция!$B$15:$B$268,$B87)","v":0},{"$f":"SUMIFS(INDEX(Калькуляция!$T$15:$AM$268,,MATCH(U$3,Калькуляция!$T$3:$AM$3,0)),Калькуляция!$A$15:$A$268,$A87,Калькуляция!$B$15:$B$268,$B87)","v":0},{"$f":"IF(T87=0,0,(U87-T87)/T87*100)","v":0},{"$f":"SUMIFS(INDEX(Калькуляция!$T$15:$AM$268,,MATCH(W$3,Калькуляция!$T$3:$AM$3,0)),Калькуляция!$A$15:$A$268,$A87,Калькуляция!$B$15:$B$268,$B87)","v":0},{"$f":"SUMIFS(INDEX(Калькуляция!$T$15:$AM$268,,MATCH(X$3,Калькуляция!$T$3:$AM$3,0)),Калькуляция!$A$15:$A$268,$A87,Калькуляция!$B$15:$B$268,$B87)","v":0},{"$f":"IF(W87=0,0,(X87-W87)/W87*100)","v":0},{"$f":"SUMIFS(INDEX(Калькуляция!$T$15:$AM$268,,MATCH(Z$3,Калькуляция!$T$3:$AM$3,0)),Калькуляция!$A$15:$A$268,$A87,Калькуляция!$B$15:$B$268,$B87)","v":0},{"$f":"SUMIFS(INDEX(Калькуляция!$T$15:$AM$268,,MATCH(AA$3,Калькуляция!$T$3:$AM$3,0)),Калькуляция!$A$15:$A$268,$A87,Калькуляция!$B$15:$B$268,$B87)","v":0},{"$f":"IF(Z87=0,0,(AA87-Z87)/Z87*100)","v":0},{"$f":"SUMIFS(INDEX(Калькуляция!$T$15:$AM$268,,MATCH(AC$3,Калькуляция!$T$3:$AM$3,0)),Калькуляция!$A$15:$A$268,$A87,Калькуляция!$B$15:$B$268,$B87)","v":0},{"$f":"SUMIFS(INDEX(Калькуляция!$T$15:$AM$268,,MATCH(AD$3,Калькуляция!$T$3:$AM$3,0)),Калькуляция!$A$15:$A$268,$A87,Калькуляция!$B$15:$B$268,$B87)","v":0},{"$f":"IF(AC87=0,0,(AD87-AC87)/AC87*100)","v":0},{"$f":"SUMIFS(INDEX(Калькуляция!$T$15:$AM$268,,MATCH(AF$3,Калькуляция!$T$3:$AM$3,0)),Калькуляция!$A$15:$A$268,$A87,Калькуляция!$B$15:$B$268,$B87)","v":0},{"$f":"SUMIFS(INDEX(Калькуляция!$T$15:$AM$268,,MATCH(AG$3,Калькуляция!$T$3:$AM$3,0)),Калькуляция!$A$15:$A$268,$A87,Калькуляция!$B$15:$B$268,$B87)","v":0},{"$f":"IF(AF87=0,0,(AG87-AF87)/AF87*100)","v":0},{"$f":"SUMIFS(INDEX(Калькуляция!$T$15:$AM$268,,MATCH(AI$3,Калькуляция!$T$3:$AM$3,0)),Калькуляция!$A$15:$A$268,$A87,Калькуляция!$B$15:$B$268,$B87)","v":0},{"$f":"SUMIFS(INDEX(Калькуляция!$T$15:$AM$268,,MATCH(AJ$3,Калькуляция!$T$3:$AM$3,0)),Калькуляция!$A$15:$A$268,$A87,Калькуляция!$B$15:$B$268,$B87)","v":0},{"$f":"IF(AI87=0,0,(AJ87-AI87)/AI87*100)","v":0},{"$f":"SUMIFS(INDEX(Калькуляция!$T$15:$AM$268,,MATCH(AL$3,Калькуляция!$T$3:$AM$3,0)),Калькуляция!$A$15:$A$268,$A87,Калькуляция!$B$15:$B$268,$B87)","v":0},{"$f":"SUMIFS(INDEX(Калькуляция!$T$15:$AM$268,,MATCH(AM$3,Калькуляция!$T$3:$AM$3,0)),Калькуляция!$A$15:$A$268,$A87,Калькуляция!$B$15:$B$268,$B87)","v":0},{"$f":"IF(AL87=0,0,(AM87-AL87)/AL87*100)","v":0},{"$f":"SUMIFS(INDEX(Калькуляция!$T$15:$AM$268,,MATCH(AO$3,Калькуляция!$T$3:$AM$3,0)),Калькуляция!$A$15:$A$268,$A87,Калькуляция!$B$15:$B$268,$B87)","v":0},{"$f":"SUMIFS(INDEX(Калькуляция!$T$15:$AM$268,,MATCH(AP$3,Калькуляция!$T$3:$AM$3,0)),Калькуляция!$A$15:$A$268,$A87,Калькуляция!$B$15:$B$268,$B87)","v":0},{"$f":"IF(AO87=0,0,(AP87-AO87)/AO87*100)","v":0},null,null,{"$f":"IF(AR87=0,0,(AS87-AR87)/AR87*100)","v":0},null,null,{"$f":"IF(AU87=0,0,(AV87-AU87)/AU87*100)","v":0},null,null,{"$f":"IF(AX87=0,0,(AY87-AX87)/AX87*100)","v":0},null,null,{"$f":"IF(BA87=0,0,(BB87-BA87)/BA87*100)","v":0},null,null,{"$f":"IF(BD87=0,0,(BE87-BD87)/BD87*100)","v":0},null,null,{"$f":"IF(BG87=0,0,(BH87-BG87)/BG87*100)","v":0},null,null,{"$f":"IF(BJ87=0,0,(BK87-BJ87)/BJ87*100)","v":0},null,null,{"$f":"IF(BM87=0,0,(BN87-BM87)/BM87*100)","v":0},null,null,{"$f":"IF(BP87=0,0,(BQ87-BP87)/BP87*100)","v":0},null,null,{"$f":"IF(BS87=0,0,(BT87-BS87)/BS87*100)","v":0},null,null,{"$f":"IF(BV87=0,0,(BW87-BV87)/BV87*100)","v":0},null,null,{"$f":"IF(BY87=0,0,(BZ87-BY87)/BY87*100)","v":0},null,null,{"$f":"IF(CB87=0,0,(CC87-CB87)/CB87*100)","v":0},null,null,{"$f":"IF(CE87=0,0,(CF87-CE87)/CE87*100)","v":0},null,null,{"$f":"IF(CH87=0,0,(CI87-CH87)/CH87*100)","v":0},null,null,{"$f":"IF(CK87=0,0,(CL87-CK87)/CK87*100)","v":0},null,null,{"$f":"IF(CN87=0,0,(CO87-CN87)/CN87*100)","v":0},null,null,{"$f":"IF(CQ87=0,0,(CR87-CQ87)/CQ87*100)","v":0},null,null,{"$f":"IF(CT87=0,0,(CU87-CT87)/CT87*100)","v":0},null,null,{"$f":"IF(CW87=0,0,(CX87-CW87)/CW87*100)","v":0},null,null,{"$f":"IF(CZ87=0,0,(DA87-CZ87)/CZ87*100)","v":0},null,null,{"$f":"IF(DC87=0,0,(DD87-DC87)/DC87*100)","v":0},null,null,{"$f":"IF(DF87=0,0,(DG87-DF87)/DF87*100)","v":0},null,null,{"$f":"IF(DI87=0,0,(DJ87-DI87)/DI87*100)","v":0},null,null,{"$f":"IF(DL87=0,0,(DM87-DL87)/DL87*100)","v":0},null,null,{"$f":"IF(DO87=0,0,(DP87-DO87)/DO87*100)","v":0},null,null,{"$f":"IF(DR87=0,0,(DS87-DR87)/DR87*100)","v":0},null,null,{"$f":"IF(DU87=0,0,(DV87-DU87)/DU87*100)","v":0},null,null,{"$f":"IF(DX87=0,0,(DY87-DX87)/DX87*100)","v":0},null,null,{"$f":"IF(EA87=0,0,(EB87-EA87)/EA87*100)","v":0},null,null,{"$f":"IF(ED87=0,0,(EE87-ED87)/ED87*100)","v":0},null,null,{"$f":"IF(EG87=0,0,(EH87-EG87)/EG87*100)","v":0},null,null,{"$f":"IF(EJ87=0,0,(EK87-EJ87)/EJ87*100)","v":0},null,null,{"$f":"IF(EM87=0,0,(EN87-EM87)/EM87*100)","v":0},null,null,{"$f":"IF(EP87=0,0,(EQ87-EP87)/EP87*100)","v":0},null,null,{"$f":"IF(ES87=0,0,(ET87-ES87)/ES87*100)","v":0},null,null,{"$f":"IF(EV87=0,0,(EW87-EV87)/EV87*100)","v":0},null,null,{"$f":"IF(EY87=0,0,(EZ87-EY87)/EY87*100)","v":0},null,null,{"$f":"IF(FB87=0,0,(FC87-FB87)/FB87*100)","v":0},null,null,{"$f":"IF(FE87=0,0,(FF87-FE87)/FE87*100)","v":0}]
["2",null,"L2_1_4","для населения с 01.01 по 30.06 с НДС",null,null,{"$f":"F57=\"двухставочный\"","v":false},null,null,null,null,"ставка платы за содержание системы холодного водоснабжения","тыс.руб./куб.м*час/в месяц",null,null,{"$f":"IF(N88=0,0,(O88-N88)/N88*100)","v":0},null,null,{"$f":"IF(Q88=0,0,(R88-Q88)/Q88*100)","v":0},null,null,{"$f":"IF(T88=0,0,(U88-T88)/T88*100)","v":0},null,null,{"$f":"IF(W88=0,0,(X88-W88)/W88*100)","v":0},null,null,{"$f":"IF(Z88=0,0,(AA88-Z88)/Z88*100)","v":0},null,null,{"$f":"IF(AC88=0,0,(AD88-AC88)/AC88*100)","v":0},null,null,{"$f":"IF(AF88=0,0,(AG88-AF88)/AF88*100)","v":0},null,null,{"$f":"IF(AI88=0,0,(AJ88-AI88)/AI88*100)","v":0},null,null,{"$f":"IF(AL88=0,0,(AM88-AL88)/AL88*100)","v":0},null,null,{"$f":"IF(AO88=0,0,(AP88-AO88)/AO88*100)","v":0},null,null,{"$f":"IF(AR88=0,0,(AS88-AR88)/AR88*100)","v":0},null,null,{"$f":"IF(AU88=0,0,(AV88-AU88)/AU88*100)","v":0},null,null,{"$f":"IF(AX88=0,0,(AY88-AX88)/AX88*100)","v":0},null,null,{"$f":"IF(BA88=0,0,(BB88-BA88)/BA88*100)","v":0},null,null,{"$f":"IF(BD88=0,0,(BE88-BD88)/BD88*100)","v":0},null,null,{"$f":"IF(BG88=0,0,(BH88-BG88)/BG88*100)","v":0},null,null,{"$f":"IF(BJ88=0,0,(BK88-BJ88)/BJ88*100)","v":0},null,null,{"$f":"IF(BM88=0,0,(BN88-BM88)/BM88*100)","v":0},null,null,{"$f":"IF(BP88=0,0,(BQ88-BP88)/BP88*100)","v":0},null,null,{"$f":"IF(BS88=0,0,(BT88-BS88)/BS88*100)","v":0},null,null,{"$f":"IF(BV88=0,0,(BW88-BV88)/BV88*100)","v":0},null,null,{"$f":"IF(BY88=0,0,(BZ88-BY88)/BY88*100)","v":0},null,null,{"$f":"IF(CB88=0,0,(CC88-CB88)/CB88*100)","v":0},null,null,{"$f":"IF(CE88=0,0,(CF88-CE88)/CE88*100)","v":0},null,null,{"$f":"IF(CH88=0,0,(CI88-CH88)/CH88*100)","v":0},null,null,{"$f":"IF(CK88=0,0,(CL88-CK88)/CK88*100)","v":0},null,null,{"$f":"IF(CN88=0,0,(CO88-CN88)/CN88*100)","v":0},null,null,{"$f":"IF(CQ88=0,0,(CR88-CQ88)/CQ88*100)","v":0},null,null,{"$f":"IF(CT88=0,0,(CU88-CT88)/CT88*100)","v":0},null,null,{"$f":"IF(CW88=0,0,(CX88-CW88)/CW88*100)","v":0},null,null,{"$f":"IF(CZ88=0,0,(DA88-CZ88)/CZ88*100)","v":0},null,null,{"$f":"IF(DC88=0,0,(DD88-DC88)/DC88*100)","v":0},null,null,{"$f":"IF(DF88=0,0,(DG88-DF88)/DF88*100)","v":0},null,null,{"$f":"IF(DI88=0,0,(DJ88-DI88)/DI88*100)","v":0},null,null,{"$f":"IF(DL88=0,0,(DM88-DL88)/DL88*100)","v":0},null,null,{"$f":"IF(DO88=0,0,(DP88-DO88)/DO88*100)","v":0},null,null,{"$f":"IF(DR88=0,0,(DS88-DR88)/DR88*100)","v":0},null,null,{"$f":"IF(DU88=0,0,(DV88-DU88)/DU88*100)","v":0},null,null,{"$f":"IF(DX88=0,0,(DY88-DX88)/DX88*100)","v":0},null,null,{"$f":"IF(EA88=0,0,(EB88-EA88)/EA88*100)","v":0},null,null,{"$f":"IF(ED88=0,0,(EE88-ED88)/ED88*100)","v":0},null,null,{"$f":"IF(EG88=0,0,(EH88-EG88)/EG88*100)","v":0},null,null,{"$f":"IF(EJ88=0,0,(EK88-EJ88)/EJ88*100)","v":0},null,null,{"$f":"IF(EM88=0,0,(EN88-EM88)/EM88*100)","v":0},null,null,{"$f":"IF(EP88=0,0,(EQ88-EP88)/EP88*100)","v":0},null,null,{"$f":"IF(ES88=0,0,(ET88-ES88)/ES88*100)","v":0},null,null,{"$f":"IF(EV88=0,0,(EW88-EV88)/EV88*100)","v":0},null,null,{"$f":"IF(EY88=0,0,(EZ88-EY88)/EY88*100)","v":0},null,null,{"$f":"IF(FB88=0,0,(FC88-FB88)/FB88*100)","v":0},null,null,{"$f":"IF(FE88=0,0,(FF88-FE88)/FE88*100)","v":0}]
["2",null,"L2_1_5","для населения с 01.01 по 30.06 с НДС",null,null,{"$f":"F57=\"двухставочный\"","v":false},null,null,null,null,"величина присоединённой мощности","куб.м*час",null,null,{"$f":"IF(N89=0,0,(O89-N89)/N89*100)","v":0},null,null,{"$f":"IF(Q89=0,0,(R89-Q89)/Q89*100)","v":0},null,null,{"$f":"IF(T89=0,0,(U89-T89)/T89*100)","v":0},null,null,{"$f":"IF(W89=0,0,(X89-W89)/W89*100)","v":0},null,null,{"$f":"IF(Z89=0,0,(AA89-Z89)/Z89*100)","v":0},null,null,{"$f":"IF(AC89=0,0,(AD89-AC89)/AC89*100)","v":0},null,null,{"$f":"IF(AF89=0,0,(AG89-AF89)/AF89*100)","v":0},null,null,{"$f":"IF(AI89=0,0,(AJ89-AI89)/AI89*100)","v":0},null,null,{"$f":"IF(AL89=0,0,(AM89-AL89)/AL89*100)","v":0},null,null,{"$f":"IF(AO89=0,0,(AP89-AO89)/AO89*100)","v":0},null,null,{"$f":"IF(AR89=0,0,(AS89-AR89)/AR89*100)","v":0},null,null,{"$f":"IF(AU89=0,0,(AV89-AU89)/AU89*100)","v":0},null,null,{"$f":"IF(AX89=0,0,(AY89-AX89)/AX89*100)","v":0},null,null,{"$f":"IF(BA89=0,0,(BB89-BA89)/BA89*100)","v":0},null,null,{"$f":"IF(BD89=0,0,(BE89-BD89)/BD89*100)","v":0},null,null,{"$f":"IF(BG89=0,0,(BH89-BG89)/BG89*100)","v":0},null,null,{"$f":"IF(BJ89=0,0,(BK89-BJ89)/BJ89*100)","v":0},null,null,{"$f":"IF(BM89=0,0,(BN89-BM89)/BM89*100)","v":0},null,null,{"$f":"IF(BP89=0,0,(BQ89-BP89)/BP89*100)","v":0},null,null,{"$f":"IF(BS89=0,0,(BT89-BS89)/BS89*100)","v":0},null,null,{"$f":"IF(BV89=0,0,(BW89-BV89)/BV89*100)","v":0},null,null,{"$f":"IF(BY89=0,0,(BZ89-BY89)/BY89*100)","v":0},null,null,{"$f":"IF(CB89=0,0,(CC89-CB89)/CB89*100)","v":0},null,null,{"$f":"IF(CE89=0,0,(CF89-CE89)/CE89*100)","v":0},null,null,{"$f":"IF(CH89=0,0,(CI89-CH89)/CH89*100)","v":0},null,null,{"$f":"IF(CK89=0,0,(CL89-CK89)/CK89*100)","v":0},null,null,{"$f":"IF(CN89=0,0,(CO89-CN89)/CN89*100)","v":0},null,null,{"$f":"IF(CQ89=0,0,(CR89-CQ89)/CQ89*100)","v":0},null,null,{"$f":"IF(CT89=0,0,(CU89-CT89)/CT89*100)","v":0},null,null,{"$f":"IF(CW89=0,0,(CX89-CW89)/CW89*100)","v":0},null,null,{"$f":"IF(CZ89=0,0,(DA89-CZ89)/CZ89*100)","v":0},null,null,{"$f":"IF(DC89=0,0,(DD89-DC89)/DC89*100)","v":0},null,null,{"$f":"IF(DF89=0,0,(DG89-DF89)/DF89*100)","v":0},null,null,{"$f":"IF(DI89=0,0,(DJ89-DI89)/DI89*100)","v":0},null,null,{"$f":"IF(DL89=0,0,(DM89-DL89)/DL89*100)","v":0},null,null,{"$f":"IF(DO89=0,0,(DP89-DO89)/DO89*100)","v":0},null,null,{"$f":"IF(DR89=0,0,(DS89-DR89)/DR89*100)","v":0},null,null,{"$f":"IF(DU89=0,0,(DV89-DU89)/DU89*100)","v":0},null,null,{"$f":"IF(DX89=0,0,(DY89-DX89)/DX89*100)","v":0},null,null,{"$f":"IF(EA89=0,0,(EB89-EA89)/EA89*100)","v":0},null,null,{"$f":"IF(ED89=0,0,(EE89-ED89)/ED89*100)","v":0},null,null,{"$f":"IF(EG89=0,0,(EH89-EG89)/EG89*100)","v":0},null,null,{"$f":"IF(EJ89=0,0,(EK89-EJ89)/EJ89*100)","v":0},null,null,{"$f":"IF(EM89=0,0,(EN89-EM89)/EM89*100)","v":0},null,null,{"$f":"IF(EP89=0,0,(EQ89-EP89)/EP89*100)","v":0},null,null,{"$f":"IF(ES89=0,0,(ET89-ES89)/ES89*100)","v":0},null,null,{"$f":"IF(EV89=0,0,(EW89-EV89)/EV89*100)","v":0},null,null,{"$f":"IF(EY89=0,0,(EZ89-EY89)/EY89*100)","v":0},null,null,{"$f":"IF(FB89=0,0,(FC89-FB89)/FB89*100)","v":0},null,null,{"$f":"IF(FE89=0,0,(FF89-FE89)/FE89*100)","v":0}]
["2",null,null,null,null,null,{"$f":"F57=\"двухставочный\"","v":false},null,null,null,null,"Тариф с 01.01 по 30.06 для населения с НДС:"]
["2",null,"L2_1_1","для населения с 01.07 по 31.12 с НДС",null,null,{"$f":"F57=\"двухставочный\"","v":false},null,null,null,null,"перевод двухставочного тарифа в одноставочный тариф","руб./куб.м",{"$f":"IF(N93=0,0,(N92*N93+N94*N95*6)/N93)","v":0},{"$f":"IF(O93=0,0,(O92*O93+O94*O95*6)/O93)","v":0},{"$f":"IF(N91=0,0,(O91-N91)/N91*100)","v":0},{"$f":"IF(Q93=0,0,(Q92*Q93+Q94*Q95*6)/Q93)","v":0},{"$f":"IF(R93=0,0,(R92*R93+R94*R95*6)/R93)","v":0},{"$f":"IF(Q91=0,0,(R91-Q91)/Q91*100)","v":0},{"$f":"IF(T93=0,0,(T92*T93+T94*T95*6)/T93)","v":0},{"$f":"IF(U93=0,0,(U92*U93+U94*U95*6)/U93)","v":0},{"$f":"IF(T91=0,0,(U91-T91)/T91*100)","v":0},{"$f":"IF(W93=0,0,(W92*W93+W94*W95*6)/W93)","v":0},{"$f":"IF(X93=0,0,(X92*X93+X94*X95*6)/X93)","v":0},{"$f":"IF(W91=0,0,(X91-W91)/W91*100)","v":0},{"$f":"IF(Z93=0,0,(Z92*Z93+Z94*Z95*6)/Z93)","v":0},{"$f":"IF(AA93=0,0,(AA92*AA93+AA94*AA95*6)/AA93)","v":0},{"$f":"IF(Z91=0,0,(AA91-Z91)/Z91*100)","v":0},{"$f":"IF(AC93=0,0,(AC92*AC93+AC94*AC95*6)/AC93)","v":0},{"$f":"IF(AD93=0,0,(AD92*AD93+AD94*AD95*6)/AD93)","v":0},{"$f":"IF(AC91=0,0,(AD91-AC91)/AC91*100)","v":0},{"$f":"IF(AF93=0,0,(AF92*AF93+AF94*AF95*6)/AF93)","v":0},{"$f":"IF(AG93=0,0,(AG92*AG93+AG94*AG95*6)/AG93)","v":0},{"$f":"IF(AF91=0,0,(AG91-AF91)/AF91*100)","v":0},{"$f":"IF(AI93=0,0,(AI92*AI93+AI94*AI95*6)/AI93)","v":0},{"$f":"IF(AJ93=0,0,(AJ92*AJ93+AJ94*AJ95*6)/AJ93)","v":0},{"$f":"IF(AI91=0,0,(AJ91-AI91)/AI91*100)","v":0},{"$f":"IF(AL93=0,0,(AL92*AL93+AL94*AL95*6)/AL93)","v":0},{"$f":"IF(AM93=0,0,(AM92*AM93+AM94*AM95*6)/AM93)","v":0},{"$f":"IF(AL91=0,0,(AM91-AL91)/AL91*100)","v":0},{"$f":"IF(AO93=0,0,(AO92*AO93+AO94*AO95*6)/AO93)","v":0},{"$f":"IF(AP93=0,0,(AP92*AP93+AP94*AP95*6)/AP93)","v":0},{"$f":"IF(AO91=0,0,(AP91-AO91)/AO91*100)","v":0},{"$f":"IF(AR93=0,0,(AR92*AR93+AR94*AR95*6)/AR93)","v":0},{"$f":"IF(AS93=0,0,(AS92*AS93+AS94*AS95*6)/AS93)","v":0},{"$f":"IF(AR91=0,0,(AS91-AR91)/AR91*100)","v":0},{"$f":"IF(AU93=0,0,(AU92*AU93+AU94*AU95*6)/AU93)","v":0},{"$f":"IF(AV93=0,0,(AV92*AV93+AV94*AV95*6)/AV93)","v":0},{"$f":"IF(AU91=0,0,(AV91-AU91)/AU91*100)","v":0},{"$f":"IF(AX93=0,0,(AX92*AX93+AX94*AX95*6)/AX93)","v":0},{"$f":"IF(AY93=0,0,(AY92*AY93+AY94*AY95*6)/AY93)","v":0},{"$f":"IF(AX91=0,0,(AY91-AX91)/AX91*100)","v":0},{"$f":"IF(BA93=0,0,(BA92*BA93+BA94*BA95*6)/BA93)","v":0},{"$f":"IF(BB93=0,0,(BB92*BB93+BB94*BB95*6)/BB93)","v":0},{"$f":"IF(BA91=0,0,(BB91-BA91)/BA91*100)","v":0},{"$f":"IF(BD93=0,0,(BD92*BD93+BD94*BD95*6)/BD93)","v":0},{"$f":"IF(BE93=0,0,(BE92*BE93+BE94*BE95*6)/BE93)","v":0},{"$f":"IF(BD91=0,0,(BE91-BD91)/BD91*100)","v":0},{"$f":"IF(BG93=0,0,(BG92*BG93+BG94*BG95*6)/BG93)","v":0},{"$f":"IF(BH93=0,0,(BH92*BH93+BH94*BH95*6)/BH93)","v":0},{"$f":"IF(BG91=0,0,(BH91-BG91)/BG91*100)","v":0},{"$f":"IF(BJ93=0,0,(BJ92*BJ93+BJ94*BJ95*6)/BJ93)","v":0},{"$f":"IF(BK93=0,0,(BK92*BK93+BK94*BK95*6)/BK93)","v":0},{"$f":"IF(BJ91=0,0,(BK91-BJ91)/BJ91*100)","v":0},{"$f":"IF(BM93=0,0,(BM92*BM93+BM94*BM95*6)/BM93)","v":0},{"$f":"IF(BN93=0,0,(BN92*BN93+BN94*BN95*6)/BN93)","v":0},{"$f":"IF(BM91=0,0,(BN91-BM91)/BM91*100)","v":0},{"$f":"IF(BP93=0,0,(BP92*BP93+BP94*BP95*6)/BP93)","v":0},{"$f":"IF(BQ93=0,0,(BQ92*BQ93+BQ94*BQ95*6)/BQ93)","v":0},{"$f":"IF(BP91=0,0,(BQ91-BP91)/BP91*100)","v":0},{"$f":"IF(BS93=0,0,(BS92*BS93+BS94*BS95*6)/BS93)","v":0},{"$f":"IF(BT93=0,0,(BT92*BT93+BT94*BT95*6)/BT93)","v":0},{"$f":"IF(BS91=0,0,(BT91-BS91)/BS91*100)","v":0},{"$f":"IF(BV93=0,0,(BV92*BV93+BV94*BV95*6)/BV93)","v":0},{"$f":"IF(BW93=0,0,(BW92*BW93+BW94*BW95*6)/BW93)","v":0},{"$f":"IF(BV91=0,0,(BW91-BV91)/BV91*100)","v":0},{"$f":"IF(BY93=0,0,(BY92*BY93+BY94*BY95*6)/BY93)","v":0},{"$f":"IF(BZ93=0,0,(BZ92*BZ93+BZ94*BZ95*6)/BZ93)","v":0},{"$f":"IF(BY91=0,0,(BZ91-BY91)/BY91*100)","v":0},{"$f":"IF(CB93=0,0,(CB92*CB93+CB94*CB95*6)/CB93)","v":0},{"$f":"IF(CC93=0,0,(CC92*CC93+CC94*CC95*6)/CC93)","v":0},{"$f":"IF(CB91=0,0,(CC91-CB91)/CB91*100)","v":0},{"$f":"IF(CE93=0,0,(CE92*CE93+CE94*CE95*6)/CE93)","v":0},{"$f":"IF(CF93=0,0,(CF92*CF93+CF94*CF95*6)/CF93)","v":0},{"$f":"IF(CE91=0,0,(CF91-CE91)/CE91*100)","v":0},{"$f":"IF(CH93=0,0,(CH92*CH93+CH94*CH95*6)/CH93)","v":0},{"$f":"IF(CI93=0,0,(CI92*CI93+CI94*CI95*6)/CI93)","v":0},{"$f":"IF(CH91=0,0,(CI91-CH91)/CH91*100)","v":0},{"$f":"IF(CK93=0,0,(CK92*CK93+CK94*CK95*6)/CK93)","v":0},{"$f":"IF(CL93=0,0,(CL92*CL93+CL94*CL95*6)/CL93)","v":0},{"$f":"IF(CK91=0,0,(CL91-CK91)/CK91*100)","v":0},{"$f":"IF(CN93=0,0,(CN92*CN93+CN94*CN95*6)/CN93)","v":0},{"$f":"IF(CO93=0,0,(CO92*CO93+CO94*CO95*6)/CO93)","v":0},{"$f":"IF(CN91=0,0,(CO91-CN91)/CN91*100)","v":0},{"$f":"IF(CQ93=0,0,(CQ92*CQ93+CQ94*CQ95*6)/CQ93)","v":0},{"$f":"IF(CR93=0,0,(CR92*CR93+CR94*CR95*6)/CR93)","v":0},{"$f":"IF(CQ91=0,0,(CR91-CQ91)/CQ91*100)","v":0},{"$f":"IF(CT93=0,0,(CT92*CT93+CT94*CT95*6)/CT93)","v":0},{"$f":"IF(CU93=0,0,(CU92*CU93+CU94*CU95*6)/CU93)","v":0},{"$f":"IF(CT91=0,0,(CU91-CT91)/CT91*100)","v":0},{"$f":"IF(CW93=0,0,(CW92*CW93+CW94*CW95*6)/CW93)","v":0},{"$f":"IF(CX93=0,0,(CX92*CX93+CX94*CX95*6)/CX93)","v":0},{"$f":"IF(CW91=0,0,(CX91-CW91)/CW91*100)","v":0},{"$f":"IF(CZ93=0,0,(CZ92*CZ93+CZ94*CZ95*6)/CZ93)","v":0},{"$f":"IF(DA93=0,0,(DA92*DA93+DA94*DA95*6)/DA93)","v":0},{"$f":"IF(CZ91=0,0,(DA91-CZ91)/CZ91*100)","v":0},{"$f":"IF(DC93=0,0,(DC92*DC93+DC94*DC95*6)/DC93)","v":0},{"$f":"IF(DD93=0,0,(DD92*DD93+DD94*DD95*6)/DD93)","v":0},{"$f":"IF(DC91=0,0,(DD91-DC91)/DC91*100)","v":0},{"$f":"IF(DF93=0,0,(DF92*DF93+DF94*DF95*6)/DF93)","v":0},{"$f":"IF(DG93=0,0,(DG92*DG93+DG94*DG95*6)/DG93)","v":0},{"$f":"IF(DF91=0,0,(DG91-DF91)/DF91*100)","v":0},{"$f":"IF(DI93=0,0,(DI92*DI93+DI94*DI95*6)/DI93)","v":0},{"$f":"IF(DJ93=0,0,(DJ92*DJ93+DJ94*DJ95*6)/DJ93)","v":0},{"$f":"IF(DI91=0,0,(DJ91-DI91)/DI91*100)","v":0},{"$f":"IF(DL93=0,0,(DL92*DL93+DL94*DL95*6)/DL93)","v":0},{"$f":"IF(DM93=0,0,(DM92*DM93+DM94*DM95*6)/DM93)","v":0},{"$f":"IF(DL91=0,0,(DM91-DL91)/DL91*100)","v":0},{"$f":"IF(DO93=0,0,(DO92*DO93+DO94*DO95*6)/DO93)","v":0},{"$f":"IF(DP93=0,0,(DP92*DP93+DP94*DP95*6)/DP93)","v":0},{"$f":"IF(DO91=0,0,(DP91-DO91)/DO91*100)","v":0},{"$f":"IF(DR93=0,0,(DR92*DR93+DR94*DR95*6)/DR93)","v":0},{"$f":"IF(DS93=0,0,(DS92*DS93+DS94*DS95*6)/DS93)","v":0},{"$f":"IF(DR91=0,0,(DS91-DR91)/DR91*100)","v":0},{"$f":"IF(DU93=0,0,(DU92*DU93+DU94*DU95*6)/DU93)","v":0},{"$f":"IF(DV93=0,0,(DV92*DV93+DV94*DV95*6)/DV93)","v":0},{"$f":"IF(DU91=0,0,(DV91-DU91)/DU91*100)","v":0},{"$f":"IF(DX93=0,0,(DX92*DX93+DX94*DX95*6)/DX93)","v":0},{"$f":"IF(DY93=0,0,(DY92*DY93+DY94*DY95*6)/DY93)","v":0},{"$f":"IF(DX91=0,0,(DY91-DX91)/DX91*100)","v":0},{"$f":"IF(EA93=0,0,(EA92*EA93+EA94*EA95*6)/EA93)","v":0},{"$f":"IF(EB93=0,0,(EB92*EB93+EB94*EB95*6)/EB93)","v":0},{"$f":"IF(EA91=0,0,(EB91-EA91)/EA91*100)","v":0},{"$f":"IF(ED93=0,0,(ED92*ED93+ED94*ED95*6)/ED93)","v":0},{"$f":"IF(EE93=0,0,(EE92*EE93+EE94*EE95*6)/EE93)","v":0},{"$f":"IF(ED91=0,0,(EE91-ED91)/ED91*100)","v":0},{"$f":"IF(EG93=0,0,(EG92*EG93+EG94*EG95*6)/EG93)","v":0},{"$f":"IF(EH93=0,0,(EH92*EH93+EH94*EH95*6)/EH93)","v":0},{"$f":"IF(EG91=0,0,(EH91-EG91)/EG91*100)","v":0},{"$f":"IF(EJ93=0,0,(EJ92*EJ93+EJ94*EJ95*6)/EJ93)","v":0},{"$f":"IF(EK93=0,0,(EK92*EK93+EK94*EK95*6)/EK93)","v":0},{"$f":"IF(EJ91=0,0,(EK91-EJ91)/EJ91*100)","v":0},{"$f":"IF(EM93=0,0,(EM92*EM93+EM94*EM95*6)/EM93)","v":0},{"$f":"IF(EN93=0,0,(EN92*EN93+EN94*EN95*6)/EN93)","v":0},{"$f":"IF(EM91=0,0,(EN91-EM91)/EM91*100)","v":0},{"$f":"IF(EP93=0,0,(EP92*EP93+EP94*EP95*6)/EP93)","v":0},{"$f":"IF(EQ93=0,0,(EQ92*EQ93+EQ94*EQ95*6)/EQ93)","v":0},{"$f":"IF(EP91=0,0,(EQ91-EP91)/EP91*100)","v":0},{"$f":"IF(ES93=0,0,(ES92*ES93+ES94*ES95*6)/ES93)","v":0},{"$f":"IF(ET93=0,0,(ET92*ET93+ET94*ET95*6)/ET93)","v":0},{"$f":"IF(ES91=0,0,(ET91-ES91)/ES91*100)","v":0},{"$f":"IF(EV93=0,0,(EV92*EV93+EV94*EV95*6)/EV93)","v":0},{"$f":"IF(EW93=0,0,(EW92*EW93+EW94*EW95*6)/EW93)","v":0},{"$f":"IF(EV91=0,0,(EW91-EV91)/EV91*100)","v":0},{"$f":"IF(EY93=0,0,(EY92*EY93+EY94*EY95*6)/EY93)","v":0},{"$f":"IF(EZ93=0,0,(EZ92*EZ93+EZ94*EZ95*6)/EZ93)","v":0},{"$f":"IF(EY91=0,0,(EZ91-EY91)/EY91*100)","v":0},{"$f":"IF(FB93=0,0,(FB92*FB93+FB94*FB95*6)/FB93)","v":0},{"$f":"IF(FC93=0,0,(FC92*FC93+FC94*FC95*6)/FC93)","v":0},{"$f":"IF(FB91=0,0,(FC91-FB91)/FB91*100)","v":0},{"$f":"IF(FE93=0,0,(FE92*FE93+FE94*FE95*6)/FE93)","v":0},{"$f":"IF(FF93=0,0,(FF92*FF93+FF94*FF95*6)/FF93)","v":0},{"$f":"IF(FE91=0,0,(FF91-FE91)/FE91*100)","v":0}]
["2",null,"L2_1_2","для населения с 01.07 по 31.12 с НДС",null,null,{"$f":"F57=\"двухставочный\"","v":false},null,null,null,null,"ставка платы за потребление 1 куб.м холодной воды","руб./куб.м",null,null,{"$f":"IF(N92=0,0,(O92-N92)/N92*100)","v":0},null,null,{"$f":"IF(Q92=0,0,(R92-Q92)/Q92*100)","v":0},null,null,{"$f":"IF(T92=0,0,(U92-T92)/T92*100)","v":0},null,null,{"$f":"IF(W92=0,0,(X92-W92)/W92*100)","v":0},null,null,{"$f":"IF(Z92=0,0,(AA92-Z92)/Z92*100)","v":0},null,null,{"$f":"IF(AC92=0,0,(AD92-AC92)/AC92*100)","v":0},null,null,{"$f":"IF(AF92=0,0,(AG92-AF92)/AF92*100)","v":0},null,null,{"$f":"IF(AI92=0,0,(AJ92-AI92)/AI92*100)","v":0},null,null,{"$f":"IF(AL92=0,0,(AM92-AL92)/AL92*100)","v":0},null,null,{"$f":"IF(AO92=0,0,(AP92-AO92)/AO92*100)","v":0},null,null,{"$f":"IF(AR92=0,0,(AS92-AR92)/AR92*100)","v":0},null,null,{"$f":"IF(AU92=0,0,(AV92-AU92)/AU92*100)","v":0},null,null,{"$f":"IF(AX92=0,0,(AY92-AX92)/AX92*100)","v":0},null,null,{"$f":"IF(BA92=0,0,(BB92-BA92)/BA92*100)","v":0},null,null,{"$f":"IF(BD92=0,0,(BE92-BD92)/BD92*100)","v":0},null,null,{"$f":"IF(BG92=0,0,(BH92-BG92)/BG92*100)","v":0},null,null,{"$f":"IF(BJ92=0,0,(BK92-BJ92)/BJ92*100)","v":0},null,null,{"$f":"IF(BM92=0,0,(BN92-BM92)/BM92*100)","v":0},null,null,{"$f":"IF(BP92=0,0,(BQ92-BP92)/BP92*100)","v":0},null,null,{"$f":"IF(BS92=0,0,(BT92-BS92)/BS92*100)","v":0},null,null,{"$f":"IF(BV92=0,0,(BW92-BV92)/BV92*100)","v":0},null,null,{"$f":"IF(BY92=0,0,(BZ92-BY92)/BY92*100)","v":0},null,null,{"$f":"IF(CB92=0,0,(CC92-CB92)/CB92*100)","v":0},null,null,{"$f":"IF(CE92=0,0,(CF92-CE92)/CE92*100)","v":0},null,null,{"$f":"IF(CH92=0,0,(CI92-CH92)/CH92*100)","v":0},null,null,{"$f":"IF(CK92=0,0,(CL92-CK92)/CK92*100)","v":0},null,null,{"$f":"IF(CN92=0,0,(CO92-CN92)/CN92*100)","v":0},null,null,{"$f":"IF(CQ92=0,0,(CR92-CQ92)/CQ92*100)","v":0},null,null,{"$f":"IF(CT92=0,0,(CU92-CT92)/CT92*100)","v":0},null,null,{"$f":"IF(CW92=0,0,(CX92-CW92)/CW92*100)","v":0},null,null,{"$f":"IF(CZ92=0,0,(DA92-CZ92)/CZ92*100)","v":0},null,null,{"$f":"IF(DC92=0,0,(DD92-DC92)/DC92*100)","v":0},null,null,{"$f":"IF(DF92=0,0,(DG92-DF92)/DF92*100)","v":0},null,null,{"$f":"IF(DI92=0,0,(DJ92-DI92)/DI92*100)","v":0},null,null,{"$f":"IF(DL92=0,0,(DM92-DL92)/DL92*100)","v":0},null,null,{"$f":"IF(DO92=0,0,(DP92-DO92)/DO92*100)","v":0},null,null,{"$f":"IF(DR92=0,0,(DS92-DR92)/DR92*100)","v":0},null,null,{"$f":"IF(DU92=0,0,(DV92-DU92)/DU92*100)","v":0},null,null,{"$f":"IF(DX92=0,0,(DY92-DX92)/DX92*100)","v":0},null,null,{"$f":"IF(EA92=0,0,(EB92-EA92)/EA92*100)","v":0},null,null,{"$f":"IF(ED92=0,0,(EE92-ED92)/ED92*100)","v":0},null,null,{"$f":"IF(EG92=0,0,(EH92-EG92)/EG92*100)","v":0},null,null,{"$f":"IF(EJ92=0,0,(EK92-EJ92)/EJ92*100)","v":0},null,null,{"$f":"IF(EM92=0,0,(EN92-EM92)/EM92*100)","v":0},null,null,{"$f":"IF(EP92=0,0,(EQ92-EP92)/EP92*100)","v":0},null,null,{"$f":"IF(ES92=0,0,(ET92-ES92)/ES92*100)","v":0},null,null,{"$f":"IF(EV92=0,0,(EW92-EV92)/EV92*100)","v":0},null,null,{"$f":"IF(EY92=0,0,(EZ92-EY92)/EY92*100)","v":0},null,null,{"$f":"IF(FB92=0,0,(FC92-FB92)/FB92*100)","v":0},null,null,{"$f":"IF(FE92=0,0,(FF92-FE92)/FE92*100)","v":0}]
["2","ПО.население.II","L2_1_3","для населения с 01.07 по 31.12 с НДС",null,null,{"$f":"F57=\"двухставочный\"","v":false},null,null,null,null,"объём потребления холодной воды","тыс.куб.м",{"$f":"SUMIFS(INDEX(Калькуляция!$T$15:$AM$268,,MATCH(N$3,Калькуляция!$T$3:$AM$3,0)),Калькуляция!$A$15:$A$268,$A93,Калькуляция!$B$15:$B$268,$B93)","v":0},{"$f":"SUMIFS(INDEX(Калькуляция!$T$15:$AM$268,,MATCH(O$3,Калькуляция!$T$3:$AM$3,0)),Калькуляция!$A$15:$A$268,$A93,Калькуляция!$B$15:$B$268,$B93)","v":0},{"$f":"IF(N93=0,0,(O93-N93)/N93*100)","v":0},{"$f":"SUMIFS(INDEX(Калькуляция!$T$15:$AM$268,,MATCH(Q$3,Калькуляция!$T$3:$AM$3,0)),Калькуляция!$A$15:$A$268,$A93,Калькуляция!$B$15:$B$268,$B93)","v":0},{"$f":"SUMIFS(INDEX(Калькуляция!$T$15:$AM$268,,MATCH(R$3,Калькуляция!$T$3:$AM$3,0)),Калькуляция!$A$15:$A$268,$A93,Калькуляция!$B$15:$B$268,$B93)","v":0},{"$f":"IF(Q93=0,0,(R93-Q93)/Q93*100)","v":0},{"$f":"SUMIFS(INDEX(Калькуляция!$T$15:$AM$268,,MATCH(T$3,Калькуляция!$T$3:$AM$3,0)),Калькуляция!$A$15:$A$268,$A93,Калькуляция!$B$15:$B$268,$B93)","v":0},{"$f":"SUMIFS(INDEX(Калькуляция!$T$15:$AM$268,,MATCH(U$3,Калькуляция!$T$3:$AM$3,0)),Калькуляция!$A$15:$A$268,$A93,Калькуляция!$B$15:$B$268,$B93)","v":0},{"$f":"IF(T93=0,0,(U93-T93)/T93*100)","v":0},{"$f":"SUMIFS(INDEX(Калькуляция!$T$15:$AM$268,,MATCH(W$3,Калькуляция!$T$3:$AM$3,0)),Калькуляция!$A$15:$A$268,$A93,Калькуляция!$B$15:$B$268,$B93)","v":0},{"$f":"SUMIFS(INDEX(Калькуляция!$T$15:$AM$268,,MATCH(X$3,Калькуляция!$T$3:$AM$3,0)),Калькуляция!$A$15:$A$268,$A93,Калькуляция!$B$15:$B$268,$B93)","v":0},{"$f":"IF(W93=0,0,(X93-W93)/W93*100)","v":0},{"$f":"SUMIFS(INDEX(Калькуляция!$T$15:$AM$268,,MATCH(Z$3,Калькуляция!$T$3:$AM$3,0)),Калькуляция!$A$15:$A$268,$A93,Калькуляция!$B$15:$B$268,$B93)","v":0},{"$f":"SUMIFS(INDEX(Калькуляция!$T$15:$AM$268,,MATCH(AA$3,Калькуляция!$T$3:$AM$3,0)),Калькуляция!$A$15:$A$268,$A93,Калькуляция!$B$15:$B$268,$B93)","v":0},{"$f":"IF(Z93=0,0,(AA93-Z93)/Z93*100)","v":0},{"$f":"SUMIFS(INDEX(Калькуляция!$T$15:$AM$268,,MATCH(AC$3,Калькуляция!$T$3:$AM$3,0)),Калькуляция!$A$15:$A$268,$A93,Калькуляция!$B$15:$B$268,$B93)","v":0},{"$f":"SUMIFS(INDEX(Калькуляция!$T$15:$AM$268,,MATCH(AD$3,Калькуляция!$T$3:$AM$3,0)),Калькуляция!$A$15:$A$268,$A93,Калькуляция!$B$15:$B$268,$B93)","v":0},{"$f":"IF(AC93=0,0,(AD93-AC93)/AC93*100)","v":0},{"$f":"SUMIFS(INDEX(Калькуляция!$T$15:$AM$268,,MATCH(AF$3,Калькуляция!$T$3:$AM$3,0)),Калькуляция!$A$15:$A$268,$A93,Калькуляция!$B$15:$B$268,$B93)","v":0},{"$f":"SUMIFS(INDEX(Калькуляция!$T$15:$AM$268,,MATCH(AG$3,Калькуляция!$T$3:$AM$3,0)),Калькуляция!$A$15:$A$268,$A93,Калькуляция!$B$15:$B$268,$B93)","v":0},{"$f":"IF(AF93=0,0,(AG93-AF93)/AF93*100)","v":0},{"$f":"SUMIFS(INDEX(Калькуляция!$T$15:$AM$268,,MATCH(AI$3,Калькуляция!$T$3:$AM$3,0)),Калькуляция!$A$15:$A$268,$A93,Калькуляция!$B$15:$B$268,$B93)","v":0},{"$f":"SUMIFS(INDEX(Калькуляция!$T$15:$AM$268,,MATCH(AJ$3,Калькуляция!$T$3:$AM$3,0)),Калькуляция!$A$15:$A$268,$A93,Калькуляция!$B$15:$B$268,$B93)","v":0},{"$f":"IF(AI93=0,0,(AJ93-AI93)/AI93*100)","v":0},{"$f":"SUMIFS(INDEX(Калькуляция!$T$15:$AM$268,,MATCH(AL$3,Калькуляция!$T$3:$AM$3,0)),Калькуляция!$A$15:$A$268,$A93,Калькуляция!$B$15:$B$268,$B93)","v":0},{"$f":"SUMIFS(INDEX(Калькуляция!$T$15:$AM$268,,MATCH(AM$3,Калькуляция!$T$3:$AM$3,0)),Калькуляция!$A$15:$A$268,$A93,Калькуляция!$B$15:$B$268,$B93)","v":0},{"$f":"IF(AL93=0,0,(AM93-AL93)/AL93*100)","v":0},{"$f":"SUMIFS(INDEX(Калькуляция!$T$15:$AM$268,,MATCH(AO$3,Калькуляция!$T$3:$AM$3,0)),Калькуляция!$A$15:$A$268,$A93,Калькуляция!$B$15:$B$268,$B93)","v":0},{"$f":"SUMIFS(INDEX(Калькуляция!$T$15:$AM$268,,MATCH(AP$3,Калькуляция!$T$3:$AM$3,0)),Калькуляция!$A$15:$A$268,$A93,Калькуляция!$B$15:$B$268,$B93)","v":0},{"$f":"IF(AO93=0,0,(AP93-AO93)/AO93*100)","v":0},null,null,{"$f":"IF(AR93=0,0,(AS93-AR93)/AR93*100)","v":0},null,null,{"$f":"IF(AU93=0,0,(AV93-AU93)/AU93*100)","v":0},null,null,{"$f":"IF(AX93=0,0,(AY93-AX93)/AX93*100)","v":0},null,null,{"$f":"IF(BA93=0,0,(BB93-BA93)/BA93*100)","v":0},null,null,{"$f":"IF(BD93=0,0,(BE93-BD93)/BD93*100)","v":0},null,null,{"$f":"IF(BG93=0,0,(BH93-BG93)/BG93*100)","v":0},null,null,{"$f":"IF(BJ93=0,0,(BK93-BJ93)/BJ93*100)","v":0},null,null,{"$f":"IF(BM93=0,0,(BN93-BM93)/BM93*100)","v":0},null,null,{"$f":"IF(BP93=0,0,(BQ93-BP93)/BP93*100)","v":0},null,null,{"$f":"IF(BS93=0,0,(BT93-BS93)/BS93*100)","v":0},null,null,{"$f":"IF(BV93=0,0,(BW93-BV93)/BV93*100)","v":0},null,null,{"$f":"IF(BY93=0,0,(BZ93-BY93)/BY93*100)","v":0},null,null,{"$f":"IF(CB93=0,0,(CC93-CB93)/CB93*100)","v":0},null,null,{"$f":"IF(CE93=0,0,(CF93-CE93)/CE93*100)","v":0},null,null,{"$f":"IF(CH93=0,0,(CI93-CH93)/CH93*100)","v":0},null,null,{"$f":"IF(CK93=0,0,(CL93-CK93)/CK93*100)","v":0},null,null,{"$f":"IF(CN93=0,0,(CO93-CN93)/CN93*100)","v":0},null,null,{"$f":"IF(CQ93=0,0,(CR93-CQ93)/CQ93*100)","v":0},null,null,{"$f":"IF(CT93=0,0,(CU93-CT93)/CT93*100)","v":0},null,null,{"$f":"IF(CW93=0,0,(CX93-CW93)/CW93*100)","v":0},null,null,{"$f":"IF(CZ93=0,0,(DA93-CZ93)/CZ93*100)","v":0},null,null,{"$f":"IF(DC93=0,0,(DD93-DC93)/DC93*100)","v":0},null,null,{"$f":"IF(DF93=0,0,(DG93-DF93)/DF93*100)","v":0},null,null,{"$f":"IF(DI93=0,0,(DJ93-DI93)/DI93*100)","v":0},null,null,{"$f":"IF(DL93=0,0,(DM93-DL93)/DL93*100)","v":0},null,null,{"$f":"IF(DO93=0,0,(DP93-DO93)/DO93*100)","v":0},null,null,{"$f":"IF(DR93=0,0,(DS93-DR93)/DR93*100)","v":0},null,null,{"$f":"IF(DU93=0,0,(DV93-DU93)/DU93*100)","v":0},null,null,{"$f":"IF(DX93=0,0,(DY93-DX93)/DX93*100)","v":0},null,null,{"$f":"IF(EA93=0,0,(EB93-EA93)/EA93*100)","v":0},null,null,{"$f":"IF(ED93=0,0,(EE93-ED93)/ED93*100)","v":0},null,null,{"$f":"IF(EG93=0,0,(EH93-EG93)/EG93*100)","v":0},null,null,{"$f":"IF(EJ93=0,0,(EK93-EJ93)/EJ93*100)","v":0},null,null,{"$f":"IF(EM93=0,0,(EN93-EM93)/EM93*100)","v":0},null,null,{"$f":"IF(EP93=0,0,(EQ93-EP93)/EP93*100)","v":0},null,null,{"$f":"IF(ES93=0,0,(ET93-ES93)/ES93*100)","v":0},null,null,{"$f":"IF(EV93=0,0,(EW93-EV93)/EV93*100)","v":0},null,null,{"$f":"IF(EY93=0,0,(EZ93-EY93)/EY93*100)","v":0},null,null,{"$f":"IF(FB93=0,0,(FC93-FB93)/FB93*100)","v":0},null,null,{"$f":"IF(FE93=0,0,(FF93-FE93)/FE93*100)","v":0}]
["2",null,"L2_1_4","для населения с 01.07 по 31.12 с НДС",null,null,{"$f":"F57=\"двухставочный\"","v":false},null,null,null,null,"ставка платы за содержание системы холодного водоснабжения","тыс.руб./куб.м*час/в месяц",null,null,{"$f":"IF(N94=0,0,(O94-N94)/N94*100)","v":0},null,null,{"$f":"IF(Q94=0,0,(R94-Q94)/Q94*100)","v":0},null,null,{"$f":"IF(T94=0,0,(U94-T94)/T94*100)","v":0},null,null,{"$f":"IF(W94=0,0,(X94-W94)/W94*100)","v":0},null,null,{"$f":"IF(Z94=0,0,(AA94-Z94)/Z94*100)","v":0},null,null,{"$f":"IF(AC94=0,0,(AD94-AC94)/AC94*100)","v":0},null,null,{"$f":"IF(AF94=0,0,(AG94-AF94)/AF94*100)","v":0},null,null,{"$f":"IF(AI94=0,0,(AJ94-AI94)/AI94*100)","v":0},null,null,{"$f":"IF(AL94=0,0,(AM94-AL94)/AL94*100)","v":0},null,null,{"$f":"IF(AO94=0,0,(AP94-AO94)/AO94*100)","v":0},null,null,{"$f":"IF(AR94=0,0,(AS94-AR94)/AR94*100)","v":0},null,null,{"$f":"IF(AU94=0,0,(AV94-AU94)/AU94*100)","v":0},null,null,{"$f":"IF(AX94=0,0,(AY94-AX94)/AX94*100)","v":0},null,null,{"$f":"IF(BA94=0,0,(BB94-BA94)/BA94*100)","v":0},null,null,{"$f":"IF(BD94=0,0,(BE94-BD94)/BD94*100)","v":0},null,null,{"$f":"IF(BG94=0,0,(BH94-BG94)/BG94*100)","v":0},null,null,{"$f":"IF(BJ94=0,0,(BK94-BJ94)/BJ94*100)","v":0},null,null,{"$f":"IF(BM94=0,0,(BN94-BM94)/BM94*100)","v":0},null,null,{"$f":"IF(BP94=0,0,(BQ94-BP94)/BP94*100)","v":0},null,null,{"$f":"IF(BS94=0,0,(BT94-BS94)/BS94*100)","v":0},null,null,{"$f":"IF(BV94=0,0,(BW94-BV94)/BV94*100)","v":0},null,null,{"$f":"IF(BY94=0,0,(BZ94-BY94)/BY94*100)","v":0},null,null,{"$f":"IF(CB94=0,0,(CC94-CB94)/CB94*100)","v":0},null,null,{"$f":"IF(CE94=0,0,(CF94-CE94)/CE94*100)","v":0},null,null,{"$f":"IF(CH94=0,0,(CI94-CH94)/CH94*100)","v":0},null,null,{"$f":"IF(CK94=0,0,(CL94-CK94)/CK94*100)","v":0},null,null,{"$f":"IF(CN94=0,0,(CO94-CN94)/CN94*100)","v":0},null,null,{"$f":"IF(CQ94=0,0,(CR94-CQ94)/CQ94*100)","v":0},null,null,{"$f":"IF(CT94=0,0,(CU94-CT94)/CT94*100)","v":0},null,null,{"$f":"IF(CW94=0,0,(CX94-CW94)/CW94*100)","v":0},null,null,{"$f":"IF(CZ94=0,0,(DA94-CZ94)/CZ94*100)","v":0},null,null,{"$f":"IF(DC94=0,0,(DD94-DC94)/DC94*100)","v":0},null,null,{"$f":"IF(DF94=0,0,(DG94-DF94)/DF94*100)","v":0},null,null,{"$f":"IF(DI94=0,0,(DJ94-DI94)/DI94*100)","v":0},null,null,{"$f":"IF(DL94=0,0,(DM94-DL94)/DL94*100)","v":0},null,null,{"$f":"IF(DO94=0,0,(DP94-DO94)/DO94*100)","v":0},null,null,{"$f":"IF(DR94=0,0,(DS94-DR94)/DR94*100)","v":0},null,null,{"$f":"IF(DU94=0,0,(DV94-DU94)/DU94*100)","v":0},null,null,{"$f":"IF(DX94=0,0,(DY94-DX94)/DX94*100)","v":0},null,null,{"$f":"IF(EA94=0,0,(EB94-EA94)/EA94*100)","v":0},null,null,{"$f":"IF(ED94=0,0,(EE94-ED94)/ED94*100)","v":0},null,null,{"$f":"IF(EG94=0,0,(EH94-EG94)/EG94*100)","v":0},null,null,{"$f":"IF(EJ94=0,0,(EK94-EJ94)/EJ94*100)","v":0},null,null,{"$f":"IF(EM94=0,0,(EN94-EM94)/EM94*100)","v":0},null,null,{"$f":"IF(EP94=0,0,(EQ94-EP94)/EP94*100)","v":0},null,null,{"$f":"IF(ES94=0,0,(ET94-ES94)/ES94*100)","v":0},null,null,{"$f":"IF(EV94=0,0,(EW94-EV94)/EV94*100)","v":0},null,null,{"$f":"IF(EY94=0,0,(EZ94-EY94)/EY94*100)","v":0},null,null,{"$f":"IF(FB94=0,0,(FC94-FB94)/FB94*100)","v":0},null,null,{"$f":"IF(FE94=0,0,(FF94-FE94)/FE94*100)","v":0}]
["2",null,"L2_1_5","для населения с 01.07 по 31.12 с НДС",null,null,{"$f":"F57=\"двухставочный\"","v":false},null,null,null,null,"величина присоединённой мощности","куб.м*час",null,null,{"$f":"IF(N95=0,0,(O95-N95)/N95*100)","v":0},null,null,{"$f":"IF(Q95=0,0,(R95-Q95)/Q95*100)","v":0},null,null,{"$f":"IF(T95=0,0,(U95-T95)/T95*100)","v":0},null,null,{"$f":"IF(W95=0,0,(X95-W95)/W95*100)","v":0},null,null,{"$f":"IF(Z95=0,0,(AA95-Z95)/Z95*100)","v":0},null,null,{"$f":"IF(AC95=0,0,(AD95-AC95)/AC95*100)","v":0},null,null,{"$f":"IF(AF95=0,0,(AG95-AF95)/AF95*100)","v":0},null,null,{"$f":"IF(AI95=0,0,(AJ95-AI95)/AI95*100)","v":0},null,null,{"$f":"IF(AL95=0,0,(AM95-AL95)/AL95*100)","v":0},null,null,{"$f":"IF(AO95=0,0,(AP95-AO95)/AO95*100)","v":0},null,null,{"$f":"IF(AR95=0,0,(AS95-AR95)/AR95*100)","v":0},null,null,{"$f":"IF(AU95=0,0,(AV95-AU95)/AU95*100)","v":0},null,null,{"$f":"IF(AX95=0,0,(AY95-AX95)/AX95*100)","v":0},null,null,{"$f":"IF(BA95=0,0,(BB95-BA95)/BA95*100)","v":0},null,null,{"$f":"IF(BD95=0,0,(BE95-BD95)/BD95*100)","v":0},null,null,{"$f":"IF(BG95=0,0,(BH95-BG95)/BG95*100)","v":0},null,null,{"$f":"IF(BJ95=0,0,(BK95-BJ95)/BJ95*100)","v":0},null,null,{"$f":"IF(BM95=0,0,(BN95-BM95)/BM95*100)","v":0},null,null,{"$f":"IF(BP95=0,0,(BQ95-BP95)/BP95*100)","v":0},null,null,{"$f":"IF(BS95=0,0,(BT95-BS95)/BS95*100)","v":0},null,null,{"$f":"IF(BV95=0,0,(BW95-BV95)/BV95*100)","v":0},null,null,{"$f":"IF(BY95=0,0,(BZ95-BY95)/BY95*100)","v":0},null,null,{"$f":"IF(CB95=0,0,(CC95-CB95)/CB95*100)","v":0},null,null,{"$f":"IF(CE95=0,0,(CF95-CE95)/CE95*100)","v":0},null,null,{"$f":"IF(CH95=0,0,(CI95-CH95)/CH95*100)","v":0},null,null,{"$f":"IF(CK95=0,0,(CL95-CK95)/CK95*100)","v":0},null,null,{"$f":"IF(CN95=0,0,(CO95-CN95)/CN95*100)","v":0},null,null,{"$f":"IF(CQ95=0,0,(CR95-CQ95)/CQ95*100)","v":0},null,null,{"$f":"IF(CT95=0,0,(CU95-CT95)/CT95*100)","v":0},null,null,{"$f":"IF(CW95=0,0,(CX95-CW95)/CW95*100)","v":0},null,null,{"$f":"IF(CZ95=0,0,(DA95-CZ95)/CZ95*100)","v":0},null,null,{"$f":"IF(DC95=0,0,(DD95-DC95)/DC95*100)","v":0},null,null,{"$f":"IF(DF95=0,0,(DG95-DF95)/DF95*100)","v":0},null,null,{"$f":"IF(DI95=0,0,(DJ95-DI95)/DI95*100)","v":0},null,null,{"$f":"IF(DL95=0,0,(DM95-DL95)/DL95*100)","v":0},null,null,{"$f":"IF(DO95=0,0,(DP95-DO95)/DO95*100)","v":0},null,null,{"$f":"IF(DR95=0,0,(DS95-DR95)/DR95*100)","v":0},null,null,{"$f":"IF(DU95=0,0,(DV95-DU95)/DU95*100)","v":0},null,null,{"$f":"IF(DX95=0,0,(DY95-DX95)/DX95*100)","v":0},null,null,{"$f":"IF(EA95=0,0,(EB95-EA95)/EA95*100)","v":0},null,null,{"$f":"IF(ED95=0,0,(EE95-ED95)/ED95*100)","v":0},null,null,{"$f":"IF(EG95=0,0,(EH95-EG95)/EG95*100)","v":0},null,null,{"$f":"IF(EJ95=0,0,(EK95-EJ95)/EJ95*100)","v":0},null,null,{"$f":"IF(EM95=0,0,(EN95-EM95)/EM95*100)","v":0},null,null,{"$f":"IF(EP95=0,0,(EQ95-EP95)/EP95*100)","v":0},null,null,{"$f":"IF(ES95=0,0,(ET95-ES95)/ES95*100)","v":0},null,null,{"$f":"IF(EV95=0,0,(EW95-EV95)/EV95*100)","v":0},null,null,{"$f":"IF(EY95=0,0,(EZ95-EY95)/EY95*100)","v":0},null,null,{"$f":"IF(FB95=0,0,(FC95-FB95)/FB95*100)","v":0},null,null,{"$f":"IF(FE95=0,0,(FF95-FE95)/FE95*100)","v":0}]
["2",null,{"$f":"A96&\"pIns2\"","v":"2pIns2"},null,null,null,{"$f":"F57=\"двухставочный\"","v":false},null,null,"д",null,"Добавить"]
[null,null,null,null,null,null,{"$f":"OR(hasVS,hasVO)","v":true}]
[null,null,null,null,null,null,{"$f":"OR(hasTranspVS,hasTranspVO)","v":false},null,null,null,null,"22.2. Тарифное меню (транспортировка воды / сточных вод)"]
[null,null,null,null,null,null,{"$f":"OR(hasTranspVS,hasTranspVO)","v":false},null,null,null,null,"Наименование показателя","Единица измерения",{"$f":"N1 & \" год\"","v":"2024 год"},null,null,{"$f":"Q1 & \" год\"","v":"2025 год"},null,null,{"$f":"T1 & \" год\"","v":"2026 год"},null,null,{"$f":"W1 & \" год\"","v":"2027 год"},null,null,{"$f":"Z1 & \" год\"","v":"2028 год"},null,null,{"$f":"AC1 & \" год\"","v":"2029 год"},null,null,{"$f":"AF1 & \" год\"","v":"2030 год"},null,null,{"$f":"AI1 & \" год\"","v":"2031 год"},null,null,{"$f":"AL1 & \" год\"","v":"2032 год"},null,null,{"$f":"AO1 & \" год\"","v":"2033 год"},null,null,{"$f":"AR1 & \" год\"","v":"2034 год"},null,null,{"$f":"AU1 & \" год\"","v":"2035 год"},null,null,{"$f":"AX1 & \" год\"","v":"2036 год"},null,null,{"$f":"BA1 & \" год\"","v":"2037 год"},null,null,{"$f":"BD1 & \" год\"","v":"2038 год"},null,null,{"$f":"BG1 & \" год\"","v":"2039 год"},null,null,{"$f":"BJ1 & \" год\"","v":"2040 год"},null,null,{"$f":"BM1 & \" год\"","v":"2041 год"},null,null,{"$f":"BP1 & \" год\"","v":"2042 год"},null,null,{"$f":"BS1 & \" год\"","v":"2043 год"},null,null,{"$f":"BV1 & \" год\"","v":"2044 год"},null,null,{"$f":"BY1 & \" год\"","v":"2045 год"},null,null,{"$f":"CB1 & \" год\"","v":"2046 год"},null,null,{"$f":"CE1 & \" год\"","v":"2047 год"},null,null,{"$f":"CH1 & \" год\"","v":"2048 год"},null,null,{"$f":"CK1 & \" год\"","v":"2049 год"},null,null,{"$f":"CN1 & \" год\"","v":"2050 год"},null,null,{"$f":"CQ1 & \" год\"","v":"2051 год"},null,null,{"$f":"CT1 & \" год\"","v":"2052 год"},null,null,{"$f":"CW1 & \" год\"","v":"2053 год"},null,null,{"$f":"CZ1 & \" год\"","v":"2054 год"},null,null,{"$f":"DC1 & \" год\"","v":"2055 год"},null,null,{"$f":"DF1 & \" год\"","v":"2056 год"},null,null,{"$f":"DI1 & \" год\"","v":"2057 год"},null,null,{"$f":"DL1 & \" год\"","v":"2058 год"},null,null,{"$f":"DO1 & \" год\"","v":"2059 год"},null,null,{"$f":"DR1 & \" год\"","v":"2060 год"},null,null,{"$f":"DU1 & \" год\"","v":"2061 год"},null,null,{"$f":"DX1 & \" год\"","v":"2062 год"},null,null,{"$f":"EA1 & \" год\"","v":"2063 год"},null,null,{"$f":"ED1 & \" год\"","v":"2064 год"},null,null,{"$f":"EG1 & \" год\"","v":"2065 год"},null,null,{"$f":"EJ1 & \" год\"","v":"2066 год"},null,null,{"$f":"EM1 & \" год\"","v":"2067 год"},null,null,{"$f":"EP1 & \" год\"","v":"2068 год"},null,null,{"$f":"ES1 & \" год\"","v":"2069 год"},null,null,{"$f":"EV1 & \" год\"","v":"2070 год"},null,null,{"$f":"EY1 & \" год\"","v":"2071 год"},null,null,{"$f":"FB1 & \" год\"","v":"2072 год"},null,null,{"$f":"FE1 & \" год\"","v":"2073 год"}]
[null,null,null,null,null,null,{"$f":"OR(hasTranspVS,hasTranspVO)","v":false},null,null,null,null,null,null,"Предложение организации","Принято органом регулирования","Отклонение, %","Предложение организации","Принято органом регулирования","Отклонение, %","Предложение организации","Принято органом регулирования","Отклонение, %","Предложение организации","Принято органом регулирования","Отклонение, %","Предложение организации","Принято органом регулирования","Отклонение, %","Предложение организации","Принято органом регулирования","Отклонение, %","Предложение организации","Принято органом регулирования","Отклонение, %","Предложение организации","Принято органом регулирования","Отклонение, %","Предложение организации","Принято органом регулирования","Отклонение, %","Предложение организации","Принято органом регулирования","Отклонение, %","Предложение организации","Принято органом регулирования","Отклонение, %","Предложение организации","Принято органом регулирования","Отклонение, %","Предложение организации","Принято органом регулирования","Отклонение, %","Предложение организации","Принято органом регулирования","Отклонение, %","Предложение организации","Принято органом регулирования","Отклонение, %","Предложение организации","Принято органом регулирования","Отклонение, %","Предложение организации","Принято органом регулирования","Отклонение, %","Предложение организации","Принято органом регулирования","Отклонение, %","Предложение организации","Принято органом регулирования","Отклонение, %","Предложение организации","Принято органом регулирования","Отклонение, %","Предложение организации","Принято органом регулирования","Отклонение, %","Предложение организации","Принято органом регулирования","Отклонение, %","Предложение организации","Принято органом регулирования","Отклонение, %","Предложение организации","Принято органом регулирования","Отклонение, %","Предложение организации","Принято органом регулирования","Отклонение, %","Предложение организации","Принято органом регулирования","Отклонение, %","Предложение организации","Принято органом регулирования","Отклонение, %","Предложение организации","Принято органом регулирования","Отклонение, %","Предложение организации","Принято органом регулирования","Отклонение, %","Предложение организации","Принято органом регулирования","Отклонение, %","Предложение организации","Принято органом регулирования","Отклонение, %","Предложение организации","Принято органом регулирования","Отклонение, %","Предложение организации","Принято органом регулирования","Отклонение, %","Предложение организации","Принято органом регулирования","Отклонение, %","Предложение организации","Принято органом регулирования","Отклонение, %","Предложение организации","Принято органом регулирования","Отклонение, %","Предложение организации","Принято органом регулирования","Отклонение, %","Предложение организации","Принято органом регулирования","Отклонение, %","Предложение организации","Принято органом регулирования","Отклонение, %","Предложение организации","Принято органом регулирования","Отклонение, %","Предложение организации","Принято органом регулирования","Отклонение, %","Предложение организации","Принято органом регулирования","Отклонение, %","Предложение организации","Принято органом регулирования","Отклонение, %","Предложение организации","Принято органом регулирования","Отклонение, %","Предложение организации","Принято органом регулирования","Отклонение, %","Предложение организации","Принято органом регулирования","Отклонение, %","Предложение организации","Принято органом регулирования","Отклонение, %","Предложение организации","Принято органом регулирования","Отклонение, %","Предложение организации","Принято органом регулирования","Отклонение, %","Предложение организации","Принято органом регулирования","Отклонение, %"]
[null,null,null,null,null,null,{"$f":"OR(hasTranspVS,hasTranspVO)","v":false}]
[null,null,null,null,null,null,null,null,null,null,null,"Комментарии и обоснования к разделу"]
[]
[null,null,null,null,null,null,null,null,null,null,null,"Добавить комментарий"]

{"sheet":"ДПР","index":32,"n_rows":124,"n_cols":21,"rows_kept":124,"cut":false,"hidden":false,"merged":[[13,11,13,14],[123,11,123,12],[121,11,121,20],[122,11,122,20],[15,11,17,11],[15,12,16,12],[15,13,16,13],[15,14,16,14],[15,15,15,20]]}
[null,null,null,null,null,null,null,null,null,null,null,null,"L1","L2","L3","L4_1","L4_2","L4_2_1","L4_2_2","L4_2_3","L4_2_4"]
[]
[]
[]
[]
[]
[null,null,null,null,null,null,null,null,null,null,null,null,null,null,null,null,{"$f":"$P$14=\"нет\"","v":true},{"$f":"$P$14=\"да\"","v":false},{"$f":"$P$14=\"да\"","v":false},{"$f":"$P$14=\"да\"","v":false},{"$f":"$P$14=\"да\"","v":false}]
[]
[]
[]
[null,null,null,null,null,null,null,null,null,null,null,{"$f":"tpl_title","v":"Кемеровская область / 2024 / ООО \"ТВК\" (ИНН:4202026697, КПП:420201001) / ДПР: 2024-2028"}]
[null,null,null,null,null,null,null,null,null,null,null,"23. Долгосрочные параметры регулирования тарифов"]
[]
[null,null,null,null,null,null,null,null,null,null,null,"Удельный расход ЭЭ делится по технологическим процессам",null,null,null,{"$f":"\"нет\"","v":"нет"}]
[]
[null,null,null,null,null,null,null,null,null,null,null,"Год","Базовый уровень операционных расходов","Индекс эффективности операционных расходов","Нормативный уровень прибыли","Показатели энергетической эффективности"]
[null,null,null,null,null,null,null,null,null,null,null,null,null,null,null,"Уровень потерь воды","Удельный расход электрической энергии","удельный расход ЭЭ, потребляемой в процессе подготовки воды","удельный расход ЭЭ, потребляемой в процессе транспортировки воды","удельный расход ЭЭ, потребляемой в процессе очистки сточных вод","удельный расход ЭЭ, потребляемой в процессе транспортировки сточных вод"]
[null,null,null,null,null,null,null,null,null,null,null,null,"тыс.руб.","%","%","%","кВтч/куб.м","кВтч/куб.м","кВтч/куб.м","кВтч/куб.м","кВтч/куб.м"]
[{"$f":"'Общие сведения'!$D$122","v":"1"},null,null,null,null,null,null,null,null,null,null,{"$f":"INDEX('Общие сведения'!$J$121:$J$148,MATCH($A19,'Общие сведения'!$D$121:$D$148,0))","v":"Тариф 1 (Водоснабжение) - тариф на питьевую воду"}]
[{"$f":"A19","v":"1"},null,null,null,null,{"$f":"first_year","v":2024},{"$f":"F20<first_year+PERIOD_LENGTH","v":true},null,null,null,null,{"$f":"F20& \" год\"","v":"2024 год"},{"$f":"IFERROR(SUMIFS(INDEX(Калькуляция!$O$15:$AM$268,,MATCH(F20&\"Принято органом регулирования\",Калькуляция!$O$3:$AM$3,0)),Калькуляция!$A$15:$A$268,A20,Калькуляция!$M$15:$M$268,\"Операционные расходы\"),0)","v":6219.4017696687306},{"$f":"IFERROR(SUMIFS(INDEX(Сценарии!$O$15:$AP$53,,MATCH($F20&\"Принято органом регулирования\",Сценарии!$O$3:$AP$3,0)),Сценарии!$A$15:$A$53,$A20,Сценарии!$M$15:$M$53,\"Индекс эффективности операционных расходов\"),0)","v":0},null,{"$f":"IFERROR(SUMIFS(INDEX(Баланс!$O$16:$AL$95,,MATCH($F20&\"Принято органом регулирования\",Баланс!$O$3:$AL$3,0)),Баланс!$A$16:$A$95,$A20,Баланс!$M$16:$M$95,\"Уровень потерь воды\"),0)","v":0},{"$f":"IFERROR(SUMIFS(INDEX(ЭЭ!$O$15:$AL$42,,MATCH($F20&\"Принято органом регулирования\",ЭЭ!$O$3:$AL$3,0)),ЭЭ!$A$15:$A$42,$A20,ЭЭ!$M$15:$M$42,\"Удельный расход электроэнергии\"),0)","v":0.98},{"$f":"IFERROR(SUMIFS(INDEX(ЭЭ!$O$15:$AL$42,,MATCH($F20&\"Принято органом регулирования\",ЭЭ!$O$3:$AL$3,0)),ЭЭ!$A$15:$A$42,$A20,ЭЭ!$M$15:$M$42,\"Удельный расход электроэнергии\"),0)","v":0.98},{"$f":"IFERROR(SUMIFS(INDEX(ЭЭ!$O$15:$AL$42,,MATCH($F20&\"Принято органом регулирования\",ЭЭ!$O$3:$AL$3,0)),ЭЭ!$A$15:$A$42,$A20,ЭЭ!$M$15:$M$42,\"Удельный расход электроэнергии\"),0)","v":0.98}]
["1",null,null,null,null,{"$f":"first_year+1","v":2025},true,null,null,null,null,"2025 год",null,{"$f":"IFERROR(SUMIFS(INDEX(Сценарии!$O$15:$AP$53,,MATCH(F21&\"Принято органом регулирования\",Сценарии!$O$3:$AP$3,0)),Сценарии!$A$15:$A$53,A21,Сценарии!$M$15:$M$53,\"Индекс эффективности операционных расходов\"),0)","v":1},null,{"$f":"IFERROR(SUMIFS(INDEX(Баланс!$O$16:$AL$95,,MATCH($F21&\"Принято органом регулирования\",Баланс!$O$3:$AL$3,0)),Баланс!$A$16:$A$95,$A21,Баланс!$M$16:$M$95,\"Уровень потерь воды\"),0)","v":0},{"$f":"IFERROR(SUMIFS(INDEX(ЭЭ!$O$15:$AL$42,,MATCH($F21&\"Принято органом регулирования\",ЭЭ!$O$3:$AL$3,0)),ЭЭ!$A$15:$A$42,$A21,ЭЭ!$M$15:$M$42,\"Удельный расход электроэнергии\"),0)","v":0.98},{"$f":"IFERROR(SUMIFS(INDEX(ЭЭ!$O$15:$AL$42,,MATCH($F21&\"Принято органом регулирования\",ЭЭ!$O$3:$AL$3,0)),ЭЭ!$A$15:$A$42,$A21,ЭЭ!$M$15:$M$42,\"Удельный расход электроэнергии\"),0)","v":0.98},{"$f":"IFERROR(SUMIFS(INDEX(ЭЭ!$O$15:$AL$42,,MATCH($F21&\"Принято органом регулирования\",ЭЭ!$O$3:$AL$3,0)),ЭЭ!$A$15:$A$42,$A21,ЭЭ!$M$15:$M$42,\"Удельный расход электроэнергии\"),0)","v":0.98}]
["1",null,null,null,null,{"$f":"first_year+2","v":2026},true,null,null,null,null,"2026 год",null,{"$f":"IFERROR(SUMIFS(INDEX(Сценарии!$O$15:$AP$53,,MATCH(F22&\"Принято органом регулирования\",Сценарии!$O$3:$AP$3,0)),Сценарии!$A$15:$A$53,A22,Сценарии!$M$15:$M$53,\"Индекс эффективности операционных расходов\"),0)","v":1},null,{"$f":"IFERROR(SUMIFS(INDEX(Баланс!$O$16:$AL$95,,MATCH($F22&\"Принято органом регулирования\",Баланс!$O$3:$AL$3,0)),Баланс!$A$16:$A$95,$A22,Баланс!$M$16:$M$95,\"Уровень потерь воды\"),0)","v":0},{"$f":"IFERROR(SUMIFS(INDEX(ЭЭ!$O$15:$AL$42,,MATCH($F22&\"Принято органом регулирования\",ЭЭ!$O$3:$AL$3,0)),ЭЭ!$A$15:$A$42,$A22,ЭЭ!$M$15:$M$42,\"Удельный расход электроэнергии\"),0)","v":0.98},{"$f":"IFERROR(SUMIFS(INDEX(ЭЭ!$O$15:$AL$42,,MATCH($F22&\"Принято органом регулирования\",ЭЭ!$O$3:$AL$3,0)),ЭЭ!$A$15:$A$42,$A22,ЭЭ!$M$15:$M$42,\"Удельный расход электроэнергии\"),0)","v":0.98},{"$f":"IFERROR(SUMIFS(INDEX(ЭЭ!$O$15:$AL$42,,MATCH($F22&\"Принято органом регулирования\",ЭЭ!$O$3:$AL$3,0)),ЭЭ!$A$15:$A$42,$A22,ЭЭ!$M$15:$M$42,\"Удельный расход электроэнергии\"),0)","v":0.98}]
["1",null,null,null,null,{"$f":"first_year+3","v":2027},true,null,null,null,null,"2027 год",null,{"$f":"IFERROR(SUMIFS(INDEX(Сценарии!$O$15:$AP$53,,MATCH(F23&\"Принято органом регулирования\",Сценарии!$O$3:$AP$3,0)),Сценарии!$A$15:$A$53,A23,Сценарии!$M$15:$M$53,\"Индекс эффективности операционных расходов\"),0)","v":1},null,{"$f":"IFERROR(SUMIFS(INDEX(Баланс!$O$16:$AL$95,,MATCH($F23&\"Принято органом регулирования\",Баланс!$O$3:$AL$3,0)),Баланс!$A$16:$A$95,$A23,Баланс!$M$16:$M$95,\"Уровень потерь воды\"),0)","v":0},{"$f":"IFERROR(SUMIFS(INDEX(ЭЭ!$O$15:$AL$42,,MATCH($F23&\"Принято органом регулирования\",ЭЭ!$O$3:$AL$3,0)),ЭЭ!$A$15:$A$42,$A23,ЭЭ!$M$15:$M$42,\"Удельный расход электроэнергии\"),0)","v":0.98},{"$f":"IFERROR(SUMIFS(INDEX(ЭЭ!$O$15:$AL$42,,MATCH($F23&\"Принято органом регулирования\",ЭЭ!$O$3:$AL$3,0)),ЭЭ!$A$15:$A$42,$A23,ЭЭ!$M$15:$M$42,\"Удельный расход электроэнергии\"),0)","v":0.98},{"$f":"IFERROR(SUMIFS(INDEX(ЭЭ!$O$15:$AL$42,,MATCH($F23&\"Принято органом регулирования\",ЭЭ!$O$3:$AL$3,0)),ЭЭ!$A$15:$A$42,$A23,ЭЭ!$M$15:$M$42,\"Удельный расход электроэнергии\"),0)","v":0.98}]
["1",null,null,null,null,{"$f":"first_year+4","v":2028},true,null,null,null,null,"2028 год",null,{"$f":"IFERROR(SUMIFS(INDEX(Сценарии!$O$15:$AP$53,,MATCH(F24&\"Принято органом регулирования\",Сценарии!$O$3:$AP$3,0)),Сценарии!$A$15:$A$53,A24,Сценарии!$M$15:$M$53,\"Индекс эффективности операционных расходов\"),0)","v":1},null,{"$f":"IFERROR(SUMIFS(INDEX(Баланс!$O$16:$AL$95,,MATCH($F24&\"Принято органом регулирования\",Баланс!$O$3:$AL$3,0)),Баланс!$A$16:$A$95,$A24,Баланс!$M$16:$M$95,\"Уровень потерь воды\"),0)","v":0},{"$f":"IFERROR(SUMIFS(INDEX(ЭЭ!$O$15:$AL$42,,MATCH($F24&\"Принято органом регулирования\",ЭЭ!$O$3:$AL$3,0)),ЭЭ!$A$15:$A$42,$A24,ЭЭ!$M$15:$M$42,\"Удельный расход электроэнергии\"),0)","v":0.98},{"$f":"IFERROR(SUMIFS(INDEX(ЭЭ!$O$15:$AL$42,,MATCH($F24&\"Принято органом регулирования\",ЭЭ!$O$3:$AL$3,0)),ЭЭ!$A$15:$A$42,$A24,ЭЭ!$M$15:$M$42,\"Удельный расход электроэнергии\"),0)","v":0.98},{"$f":"IFERROR(SUMIFS(INDEX(ЭЭ!$O$15:$AL$42,,MATCH($F24&\"Принято органом регулирования\",ЭЭ!$O$3:$AL$3,0)),ЭЭ!$A$15:$A$42,$A24,ЭЭ!$M$15:$M$42,\"Удельный расход электроэнергии\"),0)","v":0.98}]
["1",null,null,null,null,{"$f":"first_year+5","v":2029},false,null,null,null,null,"2029 год",null,{"$f":"IFERROR(SUMIFS(INDEX(Сценарии!$O$15:$AP$53,,MATCH(F25&\"Принято органом регулирования\",Сценарии!$O$3:$AP$3,0)),Сценарии!$A$15:$A$53,A25,Сценарии!$M$15:$M$53,\"Индекс эффективности операционных расходов\"),0)","v":0},null,{"$f":"IFERROR(SUMIFS(INDEX(Баланс!$O$16:$AL$95,,MATCH($F25&\"Принято органом регулирования\",Баланс!$O$3:$AL$3,0)),Баланс!$A$16:$A$95,$A25,Баланс!$M$16:$M$95,\"Уровень потерь воды\"),0)","v":0},{"$f":"IFERROR(SUMIFS(INDEX(ЭЭ!$O$15:$AL$42,,MATCH($F25&\"Принято органом регулирования\",ЭЭ!$O$3:$AL$3,0)),ЭЭ!$A$15:$A$42,$A25,ЭЭ!$M$15:$M$42,\"Удельный расход электроэнергии\"),0)","v":0},{"$f":"IFERROR(SUMIFS(INDEX(ЭЭ!$O$15:$AL$42,,MATCH($F25&\"Принято органом регулирования\",ЭЭ!$O$3:$AL$3,0)),ЭЭ!$A$15:$A$42,$A25,ЭЭ!$M$15:$M$42,\"Удельный расход электроэнергии\"),0)","v":0},{"$f":"IFERROR(SUMIFS(INDEX(ЭЭ!$O$15:$AL$42,,MATCH($F25&\"Принято органом регулирования\",ЭЭ!$O$3:$AL$3,0)),ЭЭ!$A$15:$A$42,$A25,ЭЭ!$M$15:$M$42,\"Удельный расход электроэнергии\"),0)","v":0}]
["1",null,null,null,null,{"$f":"first_year+6","v":2030},false,null,null,null,null,"2030 год",null,{"$f":"IFERROR(SUMIFS(INDEX(Сценарии!$O$15:$AP$53,,MATCH(F26&\"Принято органом регулирования\",Сценарии!$O$3:$AP$3,0)),Сценарии!$A$15:$A$53,A26,Сценарии!$M$15:$M$53,\"Индекс эффективности операционных расходов\"),0)","v":0},null,{"$f":"IFERROR(SUMIFS(INDEX(Баланс!$O$16:$AL$95,,MATCH($F26&\"Принято органом регулирования\",Баланс!$O$3:$AL$3,0)),Баланс!$A$16:$A$95,$A26,Баланс!$M$16:$M$95,\"Уровень потерь воды\"),0)","v":0},{"$f":"IFERROR(SUMIFS(INDEX(ЭЭ!$O$15:$AL$42,,MATCH($F26&\"Принято органом регулирования\",ЭЭ!$O$3:$AL$3,0)),ЭЭ!$A$15:$A$42,$A26,ЭЭ!$M$15:$M$42,\"Удельный расход электроэнергии\"),0)","v":0},{"$f":"IFERROR(SUMIFS(INDEX(ЭЭ!$O$15:$AL$42,,MATCH($F26&\"Принято органом регулирования\",ЭЭ!$O$3:$AL$3,0)),ЭЭ!$A$15:$A$42,$A26,ЭЭ!$M$15:$M$42,\"Удельный расход электроэнергии\"),0)","v":0},{"$f":"IFERROR(SUMIFS(INDEX(ЭЭ!$O$15:$AL$42,,MATCH($F26&\"Принято органом регулирования\",ЭЭ!$O$3:$AL$3,0)),ЭЭ!$A$15:$A$42,$A26,ЭЭ!$M$15:$M$42,\"Удельный расход электроэнергии\"),0)","v":0}]
["1",null,null,null,null,{"$f":"first_year+7","v":2031},false,null,null,null,null,"2031 год",null,{"$f":"IFERROR(SUMIFS(INDEX(Сценарии!$O$15:$AP$53,,MATCH(F27&\"Принято органом регулирования\",Сценарии!$O$3:$AP$3,0)),Сценарии!$A$15:$A$53,A27,Сценарии!$M$15:$M$53,\"Индекс эффективности операционных расходов\"),0)","v":0},null,{"$f":"IFERROR(SUMIFS(INDEX(Баланс!$O$16:$AL$95,,MATCH($F27&\"Принято органом регулирования\",Баланс!$O$3:$AL$3,0)),Баланс!$A$16:$A$95,$A27,Баланс!$M$16:$M$95,\"Уровень потерь воды\"),0)","v":0},{"$f":"IFERROR(SUMIFS(INDEX(ЭЭ!$O$15:$AL$42,,MATCH($F27&\"Принято органом регулирования\",ЭЭ!$O$3:$AL$3,0)),ЭЭ!$A$15:$A$42,$A27,ЭЭ!$M$15:$M$42,\"Удельный расход электроэнергии\"),0)","v":0},{"$f":"IFERROR(SUMIFS(INDEX(ЭЭ!$O$15:$AL$42,,MATCH($F27&\"Принято органом регулирования\",ЭЭ!$O$3:$AL$3,0)),ЭЭ!$A$15:$A$42,$A27,ЭЭ!$M$15:$M$42,\"Удельный расход электроэнергии\"),0)","v":0},{"$f":"IFERROR(SUMIFS(INDEX(ЭЭ!$O$15:$AL$42,,MATCH($F27&\"Принято органом регулирования\",ЭЭ!$O$3:$AL$3,0)),ЭЭ!$A$15:$A$42,$A27,ЭЭ!$M$15:$M$42,\"Удельный расход электроэнергии\"),0)","v":0}]
["1",null,null,null,null,{"$f":"first_year+8","v":2032},false,null,null,null,null,"2032 год",null,{"$f":"IFERROR(SUMIFS(INDEX(Сценарии!$O$15:$AP$53,,MATCH(F28&\"Принято органом регулирования\",Сценарии!$O$3:$AP$3,0)),Сценарии!$A$15:$A$53,A28,Сценарии!$M$15:$M$53,\"Индекс эффективности операционных расходов\"),0)","v":0},null,{"$f":"IFERROR(SUMIFS(INDEX(Баланс!$O$16:$AL$95,,MATCH($F28&\"Принято органом регулирования\",Баланс!$O$3:$AL$3,0)),Баланс!$A$16:$A$95,$A28,Баланс!$M$16:$M$95,\"Уровень потерь воды\"),0)","v":0},{"$f":"IFERROR(SUMIFS(INDEX(ЭЭ!$O$15:$AL$42,,MATCH($F28&\"Принято органом регулирования\",ЭЭ!$O$3:$AL$3,0)),ЭЭ!$A$15:$A$42,$A28,ЭЭ!$M$15:$M$42,\"Удельный расход электроэнергии\"),0)","v":0},{"$f":"IFERROR(SUMIFS(INDEX(ЭЭ!$O$15:$AL$42,,MATCH($F28&\"Принято органом регулирования\",ЭЭ!$O$3:$AL$3,0)),ЭЭ!$A$15:$A$42,$A28,ЭЭ!$M$15:$M$42,\"Удельный расход электроэнергии\"),0)","v":0},{"$f":"IFERROR(SUMIFS(INDEX(ЭЭ!$O$15:$AL$42,,MATCH($F28&\"Принято органом регулирования\",ЭЭ!$O$3:$AL$3,0)),ЭЭ!$A$15:$A$42,$A28,ЭЭ!$M$15:$M$42,\"Удельный расход электроэнергии\"),0)","v":0}]
["1",null,null,null,null,{"$f":"first_year+9","v":2033},false,null,null,null,null,"2033 год",null,{"$f":"IFERROR(SUMIFS(INDEX(Сценарии!$O$15:$AP$53,,MATCH(F29&\"Принято органом регулирования\",Сценарии!$O$3:$AP$3,0)),Сценарии!$A$15:$A$53,A29,Сценарии!$M$15:$M$53,\"Индекс эффективности операционных расходов\"),0)","v":0},null,{"$f":"IFERROR(SUMIFS(INDEX(Баланс!$O$16:$AL$95,,MATCH($F29&\"Принято органом регулирования\",Баланс!$O$3:$AL$3,0)),Баланс!$A$16:$A$95,$A29,Баланс!$M$16:$M$95,\"Уровень потерь воды\"),0)","v":0},{"$f":"IFERROR(SUMIFS(INDEX(ЭЭ!$O$15:$AL$42,,MATCH($F29&\"Принято органом регулирования\",ЭЭ!$O$3:$AL$3,0)),ЭЭ!$A$15:$A$42,$A29,ЭЭ!$M$15:$M$42,\"Удельный расход электроэнергии\"),0)","v":0},{"$f":"IFERROR(SUMIFS(INDEX(ЭЭ!$O$15:$AL$42,,MATCH($F29&\"Принято органом регулирования\",ЭЭ!$O$3:$AL$3,0)),ЭЭ!$A$15:$A$42,$A29,ЭЭ!$M$15:$M$42,\"Удельный расход электроэнергии\"),0)","v":0},{"$f":"IFERROR(SUMIFS(INDEX(ЭЭ!$O$15:$AL$42,,MATCH($F29&\"Принято органом регулирования\",ЭЭ!$O$3:$AL$3,0)),ЭЭ!$A$15:$A$42,$A29,ЭЭ!$M$15:$M$42,\"Удельный расход электроэнергии\"),0)","v":0}]
["1",null,null,null,null,{"$f":"first_year+10","v":2034},false,null,null,null,null,"2034 год"]
["1",null,null,null,null,{"$f":"first_year+11","v":2035},false,null,null,null,null,"2035 год"]
["1",null,null,null,null,{"$f":"first_year+12","v":2036},false,null,null,null,null,"2036 год"]
["1",null,null,null,null,{"$f":"first_year+13","v":2037},false,null,null,null,null,"2037 год"]
["1",null,null,null,null,{"$f":"first_year+14","v":2038},false,null,null,null,null,"2038 год"]
["1",null,null,null,null,{"$f":"first_year+15","v":2039},false,null,null,null,null,"2039 год"]
["1",null,null,null,null,{"$f":"first_year+16","v":2040},false,null,null,null,null,"2040 год"]
["1",null,null,null,null,{"$f":"first_year+17","v":2041},false,null,null,null,null,"2041 год"]
["1",null,null,null,null,{"$f":"first_year+18","v":2042},false,null,null,null,null,"2042 год"]
["1",null,null,null,null,{"$f":"first_year+19","v":2043},false,null,null,null,null,"2043 год"]
["1",null,null,null,null,{"$f":"first_year+20","v":2044},false,null,null,null,null,"2044 год"]
["1",null,null,null,null,{"$f":"first_year+21","v":2045},false,null,null,null,null,"2045 год"]
["1",null,null,null,null,{"$f":"first_year+22","v":2046},false,null,null,null,null,"2046 год"]
["1",null,null,null,null,{"$f":"first_year+23","v":2047},false,null,null,null,null,"2047 год"]
["1",null,null,null,null,{"$f":"first_year+24","v":2048},false,null,null,null,null,"2048 год"]
["1",null,null,null,null,{"$f":"first_year+25","v":2049},false,null,null,null,null,"2049 год"]
["1",null,null,null,null,{"$f":"first_year+26","v":2050},false,null,null,null,null,"2050 год"]
["1",null,null,null,null,{"$f":"first_year+27","v":2051},false,null,null,null,null,"2051 год"]
["1",null,null,null,null,{"$f":"first_year+28","v":2052},false,null,null,null,null,"2052 год"]
["1",null,null,null,null,{"$f":"first_year+29","v":2053},false,null,null,null,null,"2053 год"]
["1",null,null,null,null,{"$f":"first_year+30","v":2054},false,null,null,null,null,"2054 год"]
["1",null,null,null,null,{"$f":"first_year+31","v":2055},false,null,null,null,null,"2055 год"]
["1",null,null,null,null,{"$f":"first_year+32","v":2056},false,null,null,null,null,"2056 год"]
["1",null,null,null,null,{"$f":"first_year+33","v":2057},false,null,null,null,null,"2057 год"]
["1",null,null,null,null,{"$f":"first_year+34","v":2058},false,null,null,null,null,"2058 год"]
["1",null,null,null,null,{"$f":"first_year+35","v":2059},false,null,null,null,null,"2059 год"]
["1",null,null,null,null,{"$f":"first_year+36","v":2060},false,null,null,null,null,"2060 год"]
["1",null,null,null,null,{"$f":"first_year+37","v":2061},false,null,null,null,null,"2061 год"]
["1",null,null,null,null,{"$f":"first_year+38","v":2062},false,null,null,null,null,"2062 год"]
["1",null,null,null,null,{"$f":"first_year+39","v":2063},false,null,null,null,null,"2063 год"]
["1",null,null,null,null,{"$f":"first_year+40","v":2064},false,null,null,null,null,"2064 год"]
["1",null,null,null,null,{"$f":"first_year+41","v":2065},false,null,null,null,null,"2065 год"]
["1",null,null,null,null,{"$f":"first_year+42","v":2066},false,null,null,null,null,"2066 год"]
["1",null,null,null,null,{"$f":"first_year+43","v":2067},false,null,null,null,null,"2067 год"]
["1",null,null,null,null,{"$f":"first_year+44","v":2068},false,null,null,null,null,"2068 год"]
["1",null,null,null,null,{"$f":"first_year+45","v":2069},false,null,null,null,null,"2069 год"]
["1",null,null,null,null,{"$f":"first_year+46","v":2070},false,null,null,null,null,"2070 год"]
["1",null,null,null,null,{"$f":"first_year+47","v":2071},false,null,null,null,null,"2071 год"]
["1",null,null,null,null,{"$f":"first_year+48","v":2072},false,null,null,null,null,"2072 год"]
["1",null,null,null,null,{"$f":"first_year+49","v":2073},{"$f":"F69<first_year+PERIOD_LENGTH","v":false},null,null,null,null,{"$f":"F69& \" год\"","v":"2073 год"}]
[{"$f":"'Общие сведения'!$D$135","v":"2"},null,null,null,null,null,null,null,null,null,null,{"$f":"INDEX('Общие сведения'!$J$121:$J$148,MATCH($A70,'Общие сведения'!$D$121:$D$148,0))","v":"Тариф 2 (Водоотведение) - тариф на водоотведение"}]
[{"$f":"A70","v":"2"},null,null,null,null,{"$f":"first_year","v":2024},{"$f":"F71<first_year+PERIOD_LENGTH","v":true},null,null,null,null,{"$f":"F71& \" год\"","v":"2024 год"},{"$f":"IFERROR(SUMIFS(INDEX(Калькуляция!$O$15:$AM$268,,MATCH(F71&\"Принято органом регулирования\",Калькуляция!$O$3:$AM$3,0)),Калькуляция!$A$15:$A$268,A71,Калькуляция!$M$15:$M$268,\"Операционные расходы\"),0)","v":14068.061526318445},{"$f":"IFERROR(SUMIFS(INDEX(Сценарии!$O$15:$AP$53,,MATCH($F71&\"Принято органом регулирования\",Сценарии!$O$3:$AP$3,0)),Сценарии!$A$15:$A$53,$A71,Сценарии!$M$15:$M$53,\"Индекс эффективности операционных расходов\"),0)","v":0},null,null,{"$f":"IFERROR(SUMIFS(INDEX(ЭЭ!$O$15:$AL$42,,MATCH($F71&\"Принято органом регулирования\",ЭЭ!$O$3:$AL$3,0)),ЭЭ!$A$15:$A$42,$A71,ЭЭ!$M$15:$M$42,\"Удельный расход электроэнергии\"),0)","v":1.0500000000000003},null,null,{"$f":"IFERROR(SUMIFS(INDEX(ЭЭ!$O$15:$AL$42,,MATCH($F71&\"Принято органом регулирования\",ЭЭ!$O$3:$AL$3,0)),ЭЭ!$A$15:$A$42,$A71,ЭЭ!$M$15:$M$42,\"Удельный расход электроэнергии\"),0)","v":1.0500000000000003},{"$f":"IFERROR(SUMIFS(INDEX(ЭЭ!$O$15:$AL$42,,MATCH($F71&\"Принято органом регулирования\",ЭЭ!$O$3:$AL$3,0)),ЭЭ!$A$15:$A$42,$A71,ЭЭ!$M$15:$M$42,\"Удельный расход электроэнергии\"),0)","v":1.0500000000000003}]
["2",null,null,null,null,{"$f":"first_year+1","v":2025},true,null,null,null,null,"2025 год",null,{"$f":"IFERROR(SUMIFS(INDEX(Сценарии!$O$15:$AP$53,,MATCH(F72&\"Принято органом регулирования\",Сценарии!$O$3:$AP$3,0)),Сценарии!$A$15:$A$53,A72,Сценарии!$M$15:$M$53,\"Индекс эффективности операционных расходов\"),0)","v":1},null,null,{"$f":"IFERROR(SUMIFS(INDEX(ЭЭ!$O$15:$AL$42,,MATCH($F72&\"Принято органом регулирования\",ЭЭ!$O$3:$AL$3,0)),ЭЭ!$A$15:$A$42,$A72,ЭЭ!$M$15:$M$42,\"Удельный расход электроэнергии\"),0)","v":1.0500000000000003},null,null,{"$f":"IFERROR(SUMIFS(INDEX(ЭЭ!$O$15:$AL$42,,MATCH($F72&\"Принято органом регулирования\",ЭЭ!$O$3:$AL$3,0)),ЭЭ!$A$15:$A$42,$A72,ЭЭ!$M$15:$M$42,\"Удельный расход электроэнергии\"),0)","v":1.0500000000000003},{"$f":"IFERROR(SUMIFS(INDEX(ЭЭ!$O$15:$AL$42,,MATCH($F72&\"Принято органом регулирования\",ЭЭ!$O$3:$AL$3,0)),ЭЭ!$A$15:$A$42,$A72,ЭЭ!$M$15:$M$42,\"Удельный расход электроэнергии\"),0)","v":1.0500000000000003}]
["2",null,null,null,null,{"$f":"first_year+2","v":2026},true,null,null,null,null,"2026 год",null,{"$f":"IFERROR(SUMIFS(INDEX(Сценарии!$O$15:$AP$53,,MATCH(F73&\"Принято органом регулирования\",Сценарии!$O$3:$AP$3,0)),Сценарии!$A$15:$A$53,A73,Сценарии!$M$15:$M$53,\"Индекс эффективности операционных расходов\"),0)","v":1},null,null,{"$f":"IFERROR(SUMIFS(INDEX(ЭЭ!$O$15:$AL$42,,MATCH($F73&\"Принято органом регулирования\",ЭЭ!$O$3:$AL$3,0)),ЭЭ!$A$15:$A$42,$A73,ЭЭ!$M$15:$M$42,\"Удельный расход электроэнергии\"),0)","v":1.0500000000000003},null,null,{"$f":"IFERROR(SUMIFS(INDEX(ЭЭ!$O$15:$AL$42,,MATCH($F73&\"Принято органом регулирования\",ЭЭ!$O$3:$AL$3,0)),ЭЭ!$A$15:$A$42,$A73,ЭЭ!$M$15:$M$42,\"Удельный расход электроэнергии\"),0)","v":1.0500000000000003},{"$f":"IFERROR(SUMIFS(INDEX(ЭЭ!$O$15:$AL$42,,MATCH($F73&\"Принято органом регулирования\",ЭЭ!$O$3:$AL$3,0)),ЭЭ!$A$15:$A$42,$A73,ЭЭ!$M$15:$M$42,\"Удельный расход электроэнергии\"),0)","v":1.0500000000000003}]
["2",null,null,null,null,{"$f":"first_year+3","v":2027},true,null,null,null,null,"2027 год",null,{"$f":"IFERROR(SUMIFS(INDEX(Сценарии!$O$15:$AP$53,,MATCH(F74&\"Принято органом регулирования\",Сценарии!$O$3:$AP$3,0)),Сценарии!$A$15:$A$53,A74,Сценарии!$M$15:$M$53,\"Индекс эффективности операционных расходов\"),0)","v":1},null,null,{"$f":"IFERROR(SUMIFS(INDEX(ЭЭ!$O$15:$AL$42,,MATCH($F74&\"Принято органом регулирования\",ЭЭ!$O$3:$AL$3,0)),ЭЭ!$A$15:$A$42,$A74,ЭЭ!$M$15:$M$42,\"Удельный расход электроэнергии\"),0)","v":1.0500000000000003},null,null,{"$f":"IFERROR(SUMIFS(INDEX(ЭЭ!$O$15:$AL$42,,MATCH($F74&\"Принято органом регулирования\",ЭЭ!$O$3:$AL$3,0)),ЭЭ!$A$15:$A$42,$A74,ЭЭ!$M$15:$M$42,\"Удельный расход электроэнергии\"),0)","v":1.0500000000000003},{"$f":"IFERROR(SUMIFS(INDEX(ЭЭ!$O$15:$AL$42,,MATCH($F74&\"Принято органом регулирования\",ЭЭ!$O$3:$AL$3,0)),ЭЭ!$A$15:$A$42,$A74,ЭЭ!$M$15:$M$42,\"Удельный расход электроэнергии\"),0)","v":1.0500000000000003}]
["2",null,null,null,null,{"$f":"first_year+4","v":2028},true,null,null,null,null,"2028 год",null,{"$f":"IFERROR(SUMIFS(INDEX(Сценарии!$O$15:$AP$53,,MATCH(F75&\"Принято органом регулирования\",Сценарии!$O$3:$AP$3,0)),Сценарии!$A$15:$A$53,A75,Сценарии!$M$15:$M$53,\"Индекс эффективности операционных расходов\"),0)","v":1},null,null,{"$f":"IFERROR(SUMIFS(INDEX(ЭЭ!$O$15:$AL$42,,MATCH($F75&\"Принято органом регулирования\",ЭЭ!$O$3:$AL$3,0)),ЭЭ!$A$15:$A$42,$A75,ЭЭ!$M$15:$M$42,\"Удельный расход электроэнергии\"),0)","v":1.0500000000000003},null,null,{"$f":"IFERROR(SUMIFS(INDEX(ЭЭ!$O$15:$AL$42,,MATCH($F75&\"Принято органом регулирования\",ЭЭ!$O$3:$AL$3,0)),ЭЭ!$A$15:$A$42,$A75,ЭЭ!$M$15:$M$42,\"Удельный расход электроэнергии\"),0)","v":1.0500000000000003},{"$f":"IFERROR(SUMIFS(INDEX(ЭЭ!$O$15:$AL$42,,MATCH($F75&\"Принято органом регулирования\",ЭЭ!$O$3:$AL$3,0)),ЭЭ!$A$15:$A$42,$A75,ЭЭ!$M$15:$M$42,\"Удельный расход электроэнергии\"),0)","v":1.0500000000000003}]
["2",null,null,null,null,{"$f":"first_year+5","v":2029},false,null,null,null,null,"2029 год",null,{"$f":"IFERROR(SUMIFS(INDEX(Сценарии!$O$15:$AP$53,,MATCH(F76&\"Принято органом регулирования\",Сценарии!$O$3:$AP$3,0)),Сценарии!$A$15:$A$53,A76,Сценарии!$M$15:$M$53,\"Индекс эффективности операционных расходов\"),0)","v":0},null,null,{"$f":"IFERROR(SUMIFS(INDEX(ЭЭ!$O$15:$AL$42,,MATCH($F76&\"Принято органом регулирования\",ЭЭ!$O$3:$AL$3,0)),ЭЭ!$A$15:$A$42,$A76,ЭЭ!$M$15:$M$42,\"Удельный расход электроэнергии\"),0)","v":0},null,null,{"$f":"IFERROR(SUMIFS(INDEX(ЭЭ!$O$15:$AL$42,,MATCH($F76&\"Принято органом регулирования\",ЭЭ!$O$3:$AL$3,0)),ЭЭ!$A$15:$A$42,$A76,ЭЭ!$M$15:$M$42,\"Удельный расход электроэнергии\"),0)","v":0},{"$f":"IFERROR(SUMIFS(INDEX(ЭЭ!$O$15:$AL$42,,MATCH($F76&\"Принято органом регулирования\",ЭЭ!$O$3:$AL$3,0)),ЭЭ!$A$15:$A$42,$A76,ЭЭ!$M$15:$M$42,\"Удельный расход электроэнергии\"),0)","v":0}]
["2",null,null,null,null,{"$f":"first_year+6","v":2030},false,null,null,null,null,"2030 год",null,{"$f":"IFERROR(SUMIFS(INDEX(Сценарии!$O$15:$AP$53,,MATCH(F77&\"Принято органом регулирования\",Сценарии!$O$3:$AP$3,0)),Сценарии!$A$15:$A$53,A77,Сценарии!$M$15:$M$53,\"Индекс эффективности операционных расходов\"),0)","v":0},null,null,{"$f":"IFERROR(SUMIFS(INDEX(ЭЭ!$O$15:$AL$42,,MATCH($F77&\"Принято органом регулирования\",ЭЭ!$O$3:$AL$3,0)),ЭЭ!$A$15:$A$42,$A77,ЭЭ!$M$15:$M$42,\"Удельный расход электроэнергии\"),0)","v":0},null,null,{"$f":"IFERROR(SUMIFS(INDEX(ЭЭ!$O$15:$AL$42,,MATCH($F77&\"Принято органом регулирования\",ЭЭ!$O$3:$AL$3,0)),ЭЭ!$A$15:$A$42,$A77,ЭЭ!$M$15:$M$42,\"Удельный расход электроэнергии\"),0)","v":0},{"$f":"IFERROR(SUMIFS(INDEX(ЭЭ!$O$15:$AL$42,,MATCH($F77&\"Принято органом регулирования\",ЭЭ!$O$3:$AL$3,0)),ЭЭ!$A$15:$A$42,$A77,ЭЭ!$M$15:$M$42,\"Удельный расход электроэнергии\"),0)","v":0}]
["2",null,null,null,null,{"$f":"first_year+7","v":2031},false,null,null,null,null,"2031 год",null,{"$f":"IFERROR(SUMIFS(INDEX(Сценарии!$O$15:$AP$53,,MATCH(F78&\"Принято органом регулирования\",Сценарии!$O$3:$AP$3,0)),Сценарии!$A$15:$A$53,A78,Сценарии!$M$15:$M$53,\"Индекс эффективности операционных расходов\"),0)","v":0},null,null,{"$f":"IFERROR(SUMIFS(INDEX(ЭЭ!$O$15:$AL$42,,MATCH($F78&\"Принято органом регулирования\",ЭЭ!$O$3:$AL$3,0)),ЭЭ!$A$15:$A$42,$A78,ЭЭ!$M$15:$M$42,\"Удельный расход электроэнергии\"),0)","v":0},null,null,{"$f":"IFERROR(SUMIFS(INDEX(ЭЭ!$O$15:$AL$42,,MATCH($F78&\"Принято органом регулирования\",ЭЭ!$O$3:$AL$3,0)),ЭЭ!$A$15:$A$42,$A78,ЭЭ!$M$15:$M$42,\"Удельный расход электроэнергии\"),0)","v":0},{"$f":"IFERROR(SUMIFS(INDEX(ЭЭ!$O$15:$AL$42,,MATCH($F78&\"Принято органом регулирования\",ЭЭ!$O$3:$AL$3,0)),ЭЭ!$A$15:$A$42,$A78,ЭЭ!$M$15:$M$42,\"Удельный расход электроэнергии\"),0)","v":0}]
["2",null,null,null,null,{"$f":"first_year+8","v":2032},false,null,null,null,null,"2032 год",null,{"$f":"IFERROR(SUMIFS(INDEX(Сценарии!$O$15:$AP$53,,MATCH(F79&\"Принято органом регулирования\",Сценарии!$O$3:$AP$3,0)),Сценарии!$A$15:$A$53,A79,Сценарии!$M$15:$M$53,\"Индекс эффективности операционных расходов\"),0)","v":0},null,null,{"$f":"IFERROR(SUMIFS(INDEX(ЭЭ!$O$15:$AL$42,,MATCH($F79&\"Принято органом регулирования\",ЭЭ!$O$3:$AL$3,0)),ЭЭ!$A$15:$A$42,$A79,ЭЭ!$M$15:$M$42,\"Удельный расход электроэнергии\"),0)","v":0},null,null,{"$f":"IFERROR(SUMIFS(INDEX(ЭЭ!$O$15:$AL$42,,MATCH($F79&\"Принято органом регулирования\",ЭЭ!$O$3:$AL$3,0)),ЭЭ!$A$15:$A$42,$A79,ЭЭ!$M$15:$M$42,\"Удельный расход электроэнергии\"),0)","v":0},{"$f":"IFERROR(SUMIFS(INDEX(ЭЭ!$O$15:$AL$42,,MATCH($F79&\"Принято органом регулирования\",ЭЭ!$O$3:$AL$3,0)),ЭЭ!$A$15:$A$42,$A79,ЭЭ!$M$15:$M$42,\"Удельный расход электроэнергии\"),0)","v":0}]
["2",null,null,null,null,{"$f":"first_year+9","v":2033},false,null,null,null,null,"2033 год",null,{"$f":"IFERROR(SUMIFS(INDEX(Сценарии!$O$15:$AP$53,,MATCH(F80&\"Принято органом регулирования\",Сценарии!$O$3:$AP$3,0)),Сценарии!$A$15:$A$53,A80,Сценарии!$M$15:$M$53,\"Индекс эффективности операционных расходов\"),0)","v":0},null,null,{"$f":"IFERROR(SUMIFS(INDEX(ЭЭ!$O$15:$AL$42,,MATCH($F80&\"Принято органом регулирования\",ЭЭ!$O$3:$AL$3,0)),ЭЭ!$A$15:$A$42,$A80,ЭЭ!$M$15:$M$42,\"Удельный расход электроэнергии\"),0)","v":0},null,null,{"$f":"IFERROR(SUMIFS(INDEX(ЭЭ!$O$15:$AL$42,,MATCH($F80&\"Принято органом регулирования\",ЭЭ!$O$3:$AL$3,0)),ЭЭ!$A$15:$A$42,$A80,ЭЭ!$M$15:$M$42,\"Удельный расход электроэнергии\"),0)","v":0},{"$f":"IFERROR(SUMIFS(INDEX(ЭЭ!$O$15:$AL$42,,MATCH($F80&\"Принято органом регулирования\",ЭЭ!$O$3:$AL$3,0)),ЭЭ!$A$15:$A$42,$A80,ЭЭ!$M$15:$M$42,\"Удельный расход электроэнергии\"),0)","v":0}]
["2",null,null,null,null,{"$f":"first_year+10","v":2034},false,null,null,null,null,"2034 год"]
["2",null,null,null,null,{"$f":"first_year+11","v":2035},false,null,null,null,null,"2035 год"]
["2",null,null,null,null,{"$f":"first_year+12","v":2036},false,null,null,null,null,"2036 год"]
["2",null,null,null,null,{"$f":"first_year+13","v":2037},false,null,null,null,null,"2037 год"]
["2",null,null,null,null,{"$f":"first_year+14","v":2038},false,null,null,null,null,"2038 год"]
["2",null,null,null,null,{"$f":"first_year+15","v":2039},false,null,null,null,null,"2039 год"]
["2",null,null,null,null,{"$f":"first_year+16","v":2040},false,null,null,null,null,"2040 год"]
["2",null,null,null,null,{"$f":"first_year+17","v":2041},false,null,null,null,null,"2041 год"]
["2",null,null,null,null,{"$f":"first_year+18","v":2042},false,null,null,null,null,"2042 год"]
["2",null,null,null,null,{"$f":"first_year+19","v":2043},false,null,null,null,null,"2043 год"]
["2",null,null,null,null,{"$f":"first_year+20","v":2044},false,null,null,null,null,"2044 год"]
["2",null,null,null,null,{"$f":"first_year+21","v":2045},false,null,null,null,null,"2045 год"]
["2",null,null,null,null,{"$f":"first_year+22","v":2046},false,null,null,null,null,"2046 год"]
["2",null,null,null,null,{"$f":"first_year+23","v":2047},false,null,null,null,null,"2047 год"]
["2",null,null,null,null,{"$f":"first_year+24","v":2048},false,null,null,null,null,"2048 год"]
["2",null,null,null,null,{"$f":"first_year+25","v":2049},false,null,null,null,null,"2049 год"]
["2",null,null,null,null,{"$f":"first_year+26","v":2050},false,null,null,null,null,"2050 год"]
["2",null,null,null,null,{"$f":"first_year+27","v":2051},false,null,null,null,null,"2051 год"]
["2",null,null,null,null,{"$f":"first_year+28","v":2052},false,null,null,null,null,"2052 год"]
["2",null,null,null,null,{"$f":"first_year+29","v":2053},false,null,null,null,null,"2053 год"]
["2",null,null,null,null,{"$f":"first_year+30","v":2054},false,null,null,null,null,"2054 год"]
["2",null,null,null,null,{"$f":"first_year+31","v":2055},false,null,null,null,null,"2055 год"]
["2",null,null,null,null,{"$f":"first_year+32","v":2056},false,null,null,null,null,"2056 год"]
["2",null,null,null,null,{"$f":"first_year+33","v":2057},false,null,null,null,null,"2057 год"]
["2",null,null,null,null,{"$f":"first_year+34","v":2058},false,null,null,null,null,"2058 год"]
["2",null,null,null,null,{"$f":"first_year+35","v":2059},false,null,null,null,null,"2059 год"]
["2",null,null,null,null,{"$f":"first_year+36","v":2060},false,null,null,null,null,"2060 год"]
["2",null,null,null,null,{"$f":"first_year+37","v":2061},false,null,null,null,null,"2061 год"]
["2",null,null,null,null,{"$f":"first_year+38","v":2062},false,null,null,null,null,"2062 год"]
["2",null,null,null,null,{"$f":"first_year+39","v":2063},false,null,null,null,null,"2063 год"]
["2",null,null,null,null,{"$f":"first_year+40","v":2064},false,null,null,null,null,"2064 год"]
["2",null,null,null,null,{"$f":"first_year+41","v":2065},false,null,null,null,null,"2065 год"]
["2",null,null,null,null,{"$f":"first_year+42","v":2066},false,null,null,null,null,"2066 год"]
["2",null,null,null,null,{"$f":"first_year+43","v":2067},false,null,null,null,null,"2067 год"]
["2",null,null,null,null,{"$f":"first_year+44","v":2068},false,null,null,null,null,"2068 год"]
["2",null,null,null,null,{"$f":"first_year+45","v":2069},false,null,null,null,null,"2069 год"]
["2",null,null,null,null,{"$f":"first_year+46","v":2070},false,null,null,null,null,"2070 год"]
["2",null,null,null,null,{"$f":"first_year+47","v":2071},false,null,null,null,null,"2071 год"]
["2",null,null,null,null,{"$f":"first_year+48","v":2072},false,null,null,null,null,"2072 год"]
["2",null,null,null,null,{"$f":"first_year+49","v":2073},{"$f":"F120<first_year+PERIOD_LENGTH","v":false},null,null,null,null,{"$f":"F120& \" год\"","v":"2073 год"}]
[]
[null,null,null,null,null,null,null,null,null,null,null,"Комментарии и обоснования к разделу"]
[]
[null,null,null,null,null,null,null,null,null,null,null,"Добавить комментарий"]

{"sheet":"ДПР (концессии)","index":33,"n_rows":24,"n_cols":21,"rows_kept":24,"cut":false,"hidden":false,"merged":[[23,11,23,12],[22,11,22,20],[21,11,21,20],[13,11,15,11],[13,12,14,12],[13,13,14,13],[13,14,14,14],[13,15,13,20]]}
[null,null,null,null,null,null,null,null,null,null,null,null,"L1","L2","L3","L4_1","L4_2","L4_2_1","L4_2_2","L4_2_3","L4_2_4"]
[]
[]
[]
[]
[]
[null,null,null,null,null,null,null,null,null,null,null,null,null,null,null,null,{"$f":"List17_ee_divide=\"нет\"","v":true},{"$f":"List17_ee_divide=\"да\"","v":false},{"$f":"List17_ee_divide=\"да\"","v":false},{"$f":"List17_ee_divide=\"да\"","v":false},{"$f":"List17_ee_divide=\"да\"","v":false}]
[]
[]
[]
[null,null,null,null,null,null,null,null,null,null,null,{"$f":"tpl_title","v":"Кемеровская область / 2024 / ООО \"ТВК\" (ИНН:4202026697, КПП:420201001) / ДПР: 2024-2028"}]
[null,null,null,null,null,null,null,null,null,null,null,"24. Долгосрочные параметры регулирования тарифов (концессии)"]
[]
[null,null,null,null,null,null,null,null,null,null,null,"Год","Базовый уровень операционных расходов","Индекс эффективности операционных расходов","Нормативный уровень прибыли","Показатели энергетической эффективности"]
[null,null,null,null,null,null,null,null,null,null,null,null,null,null,null,"Уровень потерь воды","Удельный расход электрической энергии","удельный расход ЭЭ, потребляемой в процессе подготовки воды","удельный расход ЭЭ, потребляемой в процессе транспортировки воды","удельный расход ЭЭ, потребляемой в процессе очистки сточных вод","удельный расход ЭЭ, потребляемой в процессе транспортировки сточных вод"]
[null,null,null,null,null,null,null,null,null,null,null,null,"тыс.руб.","%","%","%","кВтч/куб.м","кВтч/куб.м","кВтч/куб.м","кВтч/куб.м","кВтч/куб.м"]
[{"$f":"'Общие сведения'!$D$122","v":"1"},null,null,null,null,null,null,null,null,null,null,{"$f":"INDEX('Общие сведения'!$J$121:$J$148,MATCH($A17,'Общие сведения'!$D$121:$D$148,0))","v":"Тариф 1 (Водоснабжение) - тариф на питьевую воду"}]
[{"$f":"A17","v":"1"},{"$f":"A18&\"pIns\"","v":"1pIns"},null,null,null,null,null,null,null,null,null,"Добавить"]
[{"$f":"'Общие сведения'!$D$135","v":"2"},null,null,null,null,null,null,null,null,null,null,{"$f":"INDEX('Общие сведения'!$J$121:$J$148,MATCH($A19,'Общие сведения'!$D$121:$D$148,0))","v":"Тариф 2 (Водоотведение) - тариф на водоотведение"}]
[{"$f":"A19","v":"2"},{"$f":"A20&\"pIns\"","v":"2pIns"},null,null,null,null,null,null,null,null,null,"Добавить"]
[]
[null,null,null,null,null,null,null,null,null,null,null,"Комментарии и обоснования к разделу"]
[]
[null,null,null,null,null,null,null,null,null,null,null,"Добавить комментарий"]

{"sheet":"Комментарии","index":34,"n_rows":7,"n_cols":4,"rows_kept":7,"cut":false,"hidden":false,"merged":[]}
[]
[]
[]
[]
[]
[]
[null,null,null,"Комментарии"]

{"sheet":"Проверка","index":35,"n_rows":4,"n_cols":5,"rows_kept":4,"cut":false,"hidden":false,"merged":[[1,1,1,4]]}
[]
[null,"Результат проверки"]
[]
[null,"Ссылка 1","Ссылка 2","Причина","Статус"]

{"sheet":"et_union","index":36,"n_rows":870,"n_cols":163,"rows_kept":870,"cut":false,"hidden":true,"merged":[[34,4,39,4],[34,5,34,6],[35,5,35,6],[36,5,36,6],[37,5,37,6],[38,5,38,6],[39,5,39,6],[27,4,32,4],[27,5,27,6],[28,5,28,6],[29,5,29,6],[30,5,30,6],[31,5,31,6],[32,5,32,6],[20,4,24,4],[20,5,20,6],[21,5,21,6],[22,5,22,6],[23,5,23,6],[24,5,24,6],[826,9,828,9],[215,9,217,9],[319,9,321,9],[323,9,325,9],[327,9,329,9],[331,9,333,9],[226,9,232,9],[631,9,632,9],[634,9,639,9],[2,3,14,3],[60,14,60,18],[67,14,67,18],[754,10,804,10],[623,11,623,12],[624,11,624,12],[625,11,625,12],[581,11,581,12],[582,11,582,12],[583,11,583,12],[584,11,584,12],[622,11,622,12],[222,9,224,9],[754,11,754,20],[335,9,337,9],[16,4,16,6]]}
["Титульный"]
["et_List00_tariff"]
[null,null,null,"1",null,null,{"$f":"\"Тариф \" & D3","v":"Тариф 1"},"Водоснабжение","О",{"$f":"G3 & \" (\" &H3& \") - \" &H5 & IF(H9=\"\",\"\",\" (\" & H9 & \")\")","v":"Тариф 1 (Водоснабжение) - "},{"$f":"H8","v":0},{"$f":"H5","v":0},{"$f":"H9","v":0},{"$f":"H6","v":0}]
[null,null,null,null,null,null,"Номер тарифа (идентификатор)"]
[null,null,null,null,null,null,"Вид тарифа"]
[null,null,null,null,null,null,"Тип тарифа"]
[null,null,null,null,null,null,"Вид(-ы) деятельности"]
[null,null,null,null,null,null,{"$f":"IF(H3=\"Водоотведение\",\"Вид сточных вод\",\"Вид воды\")","v":"Вид воды"}]
[null,null,null,null,null,null,"Дополнительный признак дифференциации тарифа"]
[null,{"$f":"org_declaration=\"Заявление организации\"","v":true},null,null,null,null,"Номер входящий"]
[null,true,null,null,null,null,"Дата регистрации"]
[null,true,null,null,null,null,"Дополнительные сведения"]
[null,true,null,null,null,null,"Метод регулирования, предложенный организацией"]
[null,true,null,null,null,null,{"$f":"IF(OR(H13=\"экономически обоснованных расходов (затрат)\",H13=\"сравнения аналогов\"),\"Период регулирования\",\"Первый год долгосрочного периода регулирования, предложенный организацией\")","v":"Первый год долгосрочного периода регулирования, предложенный организацией"}]
[null,true,null,null,null,null,"Период долгосрочной индексации (количество лет)"]
["et_List00_go"]
[null,null,null,"О","URL-ссылка на документ, подтверждающий статус ГО"]
["et_List00_HAS_DOC2"]
["et_List00_HAS_DOC3"]
["et_List00_HAS_DOC4"]
[null,null,null,"О","Реквизиты решения","Наименование"]
[null,null,null,null,null,"Вид"]
[null,null,null,null,null,"Номер"]
[null,null,null,null,null,"Дата принятия"]
[null,null,null,null,null,"URL-ссылка на решение"]
["et_List00_HAS_DOC5"]
["et_List00_HAS_DOC6"]
[null,null,null,"О","Реквизиты решения","Наименование"]
[null,null,null,null,null,"Вид"]
[null,null,null,null,null,"Номер"]
[null,null,null,null,null,"Дата принятия"]
[null,null,null,null,null,"Дата начала реализации / действия инвестиционной программы"]
[null,null,null,null,null,"Дата окончания реализации / действия инвестиционной программы"]
["et_List00_HAS_DOC7"]
[null,null,null,"О","Реквизиты решения","Наименование"]
[null,null,null,null,null,"Вид"]
[null,null,null,null,null,"Номер"]
[null,null,null,null,null,"Дата принятия"]
[null,null,null,null,null,"Дата начала реализации / действия концессионного соглашения"]
[null,null,null,null,null,"Дата окончания реализации / действия концессионного соглашения"]
["et_List00_fio"]
[null,null,null,null,null,null,null,null,"О"]
[]
["1. Список территорий"]
["et_List01_tariff"]
["1",null,null,null,null,null,null,null,null,null,null,{"$f":"INDEX('Общие сведения'!$J$121:$J$148,MATCH($A46,'Общие сведения'!$D$121:$D$148,0))","v":"Тариф 1 (Водоснабжение) - тариф на питьевую воду"}]
[{"$f":"A46","v":"1"},null,null,null,null,null,null,null,null,null,null,"1"]
[{"$f":"A46","v":"1"},null,null,null,null,null,null,null,null,null,null,null,"Добавить территорию"]
["et_List01_mo"]
[{"$f":"OFFSET(A50,-1,0)","v":"et_List01_mo"},null,null,null,null,null,null,null,null,null,"О","1"]
[]
["2. Список объектов"]
["et_List02_tariff_vs"]
["1",null,null,null,null,null,null,null,null,null,null,{"$f":"INDEX('Общие сведения'!$J$121:$J$148,MATCH($A54,'Общие сведения'!$D$121:$D$148,0))","v":"Тариф 1 (Водоснабжение) - тариф на питьевую воду"}]
[{"$f":"A54","v":"1"},"L1","L3",{"$f":"M55&\"::\"&N55","v":"Водонасосные станции (водозаборные узлы)::ед."},null,null,null,null,null,null,null,1,"Водонасосные станции (водозаборные узлы)","ед."]
["1","L1","L3",{"$f":"M56&\"::\"&N56","v":"Скважины::ед."},null,null,null,null,null,null,null,2,"Скважины","ед."]
["1","L1","L3",{"$f":"M57&\"::\"&N57","v":"Подкачивающие насосные станции::ед."},null,null,null,null,null,null,null,3,"Подкачивающие насосные станции","ед."]
["1","L1","L3",{"$f":"M58&\"::\"&N58","v":"Водонапорные башни::ед."},null,null,null,null,null,null,null,4,"Водонапорные башни","ед."]
["1","L1","L3",{"$f":"M59&\"::\"&N59","v":"Водопроводные сети::км"},null,null,null,null,null,null,null,5,"Водопроводные сети","км"]
["1",{"$f":"A60&\"pIns\"","v":"1pIns"},null,null,null,null,null,null,null,null,null,null,"Добавить"]
["1","L2","L3",{"$f":"M61","v":"Краткое описание технологического процесса"},null,null,null,null,null,null,null,null,"Краткое описание технологического процесса"]
["et_List02_tariff_vo"]
["1",null,null,null,null,null,null,null,null,null,null,{"$f":"INDEX('Общие сведения'!$J$121:$J$148,MATCH($A63,'Общие сведения'!$D$121:$D$148,0))","v":"Тариф 1 (Водоснабжение) - тариф на питьевую воду"}]
[{"$f":"A63","v":"1"},"L1","L3",{"$f":"M64&\"::\"&N64","v":"Биологические очистные сооружения::ед."},null,null,null,null,null,null,null,1,"Биологические очистные сооружения","ед."]
[{"$f":"A64","v":"1"},"L1","L3",{"$f":"M65&\"::\"&N65","v":"Канализационные насосные станции::ед."},null,null,null,null,null,null,null,2,"Канализационные насосные станции","ед."]
[{"$f":"A65","v":"1"},"L1","L3",{"$f":"M66&\"::\"&N66","v":"Канализационные сети::км"},null,null,null,null,null,null,null,3,"Канализационные сети","км"]
[{"$f":"A66","v":"1"},{"$f":"A67&\"pIns\"","v":"1pIns"},null,null,null,null,null,null,null,null,null,null,"Добавить"]
[{"$f":"A67","v":"1"},"L2","L3",{"$f":"M68","v":"Краткое описание технологического процесса"},null,null,null,null,null,null,null,null,"Краткое описание технологического процесса"]
["et_List02_obj"]
[null,null,null,null,null,null,null,null,null,null,"О",null,{"$f":"F70&\" :: \" &G70&\" :: \" & H70","v":" ::  :: "}]
["et_List02_1"]
[{"$f":"OFFSET(A72,-1,0)","v":"et_List02_1"},"L1","L3",{"$f":"M72&\"::\"&N72","v":"::"},null,null,null,null,null,null,"О",1]
[]
["3. Сценарии"]
["et_List03_tariff"]
["1",null,null,null,null,null,null,null,null,null,null,{"$f":"INDEX('Общие сведения'!$J$121:$J$148,MATCH($A76,'Общие сведения'!$D$121:$D$148,0))","v":"Тариф 1 (Водоснабжение) - тариф на питьевую воду"}]
[{"$f":"A76","v":"1"},"ИОР",null,null,null,null,null,null,null,null,null,null,"Индексы",null,null,null,null,null,{"$f":"(1-S78/100)*(1+S79/100)*(1+S81/100)","v":1},{"$f":"(1-T78/100)*(1+T79/100)*(1+T81/100)","v":1},{"$f":"(1-U78/100)*(1+U79/100)*(1+U81/100)","v":1},null,null,null,{"$f":"(1-Y78/100)*(1+Y79/100)*(1+Y81/100)","v":1},{"$f":"(1-Z78/100)*(1+Z79/100)*(1+Z81/100)","v":1},1,1,1,1,1,1,1,1,1,1,1,1,1,1,1,1]
[{"$f":"A77","v":"1"},"ИЭР","L1_1",null,null,null,null,null,null,null,null,1,"Индекс эффективности операционных расходов","%",null,null,null,null,null,null,null,{"$f":"IF(S78<>0,U78/S78,0)","v":0},{"$f":"U78-T78","v":0}]
["1","ИПЦ","L1_2",null,null,null,null,null,null,null,null,2,"Индекс потребительских цен","%",null,null,null,null,null,null,null,{"$f":"IF(S79<>0,U79/S79,0)","v":0},{"$f":"U79-T79","v":0}]
["1",null,"L1_3",null,null,null,null,null,null,null,null,3,"Индекс роста цен на электроэнергию","%",null,null,null,null,null,null,null,{"$f":"IF(S80<>0,U80/S80,0)","v":0},{"$f":"U80-T80","v":0}]
["1","ИКА","L1_4",null,null,null,null,null,null,null,null,4,"Индекс количества активов","%",null,null,null,null,null,null,null,{"$f":"IF(S81<>0,U81/S81,0)","v":0},{"$f":"U81-T81","v":0}]
["1",null,null,null,null,null,null,null,null,null,null,null,"Налоговые ставки"]
["1","СВФОТ","L2_1",null,null,null,null,null,null,null,null,1,"Ставка страховых взносов с ФОТ","%",null,null,null,null,null,null,null,{"$f":"IF(S83<>0,U83/S83,0)","v":0},{"$f":"U83-T83","v":0}]
["1",null,"L2_2",null,null,null,null,null,null,null,null,2,"Ставка НДС","%",null,null,null,null,null,null,null,{"$f":"IF(S84<>0,U84/S84,0)","v":0},{"$f":"U84-T84","v":0}]
["1",null,null,null,null,null,null,null,null,null,null,3,"Ставка водного налога"]
["1",null,"L3_1_1",null,null,null,null,null,null,null,null,"3.1.1","Ставка водного налога из поверхностных источников для населения","руб./тыс.куб.м.",null,null,null,null,null,null,null,0,0]
["1",null,"L3_1_2",null,null,null,null,null,null,null,null,"3.1.2","Ставка водного налога из поверхностных источников для прочих потребителей","руб./тыс.куб.м.",null,null,null,null,null,null,null,0,0]
["1",null,"L3_2_1",null,null,null,null,null,null,null,null,"3.2.1","Ставка водного налога из подземных источников для населения","руб./тыс.куб.м.",null,null,null,null,null,null,null,0,0]
["1",null,"L3_2_2",null,null,null,null,null,null,null,null,"3.2.2","Ставка водного налога из подземных источников для прочих потребителей","руб./тыс.куб.м.",null,null,null,null,null,null,null,0,0]
["1",null,"L4",null,null,null,null,null,null,null,null,4,"Ставки налога на имущество","%",null,null,null,null,null,null,null,0,0]
["1",null,"L5",null,null,null,null,null,null,null,null,5,"Ставка налога при УСН","%",null,null,null,null,null,null,null,0,0]
["1",null,"L6",null,null,null,null,null,null,null,null,"6","Доля общехозяйственных расходов",null,null,null,null,null,null,null,null,0,0]
["1",null,"L7",null,null,null,null,null,null,null,null,"7","Доля общепроизводственных расходов",null,null,null,null,null,null,null,null,0,0]
[]
["4. Баланс"]
["et_List04_tariff_vs"]
["1",null,null,null,null,null,null,null,null,null,null,{"$f":"INDEX('Общие сведения'!$J$121:$J$148,MATCH($A97,'Общие сведения'!$D$121:$D$148,0))","v":"Тариф 1 (Водоснабжение) - тариф на питьевую воду"}]
[{"$f":"A97","v":"1"},null,null,null,null,null,null,null,null,null,null,"1","Вид воды",null,{"$f":"INDEX('Общие сведения'!$K$121:$K$148,MATCH($A98,'Общие сведения'!$D$121:$D$148,0))","v":"питьевая вода"}]
["1",null,"L2",null,null,null,null,null,null,null,null,"2","Установленная мощность","куб.м/час"]
["1",null,"L3",null,null,null,null,null,null,null,null,"3","Подключённая (фактическая) нагрузка","куб.м/час"]
["1",null,"L4",null,null,null,null,null,null,null,null,4,"Объём воды из источников водоснабжения, всего","тыс.куб.м",{"$f":"O110+O105-O108","v":0},0,{"$f":"Q110+Q105-Q108","v":0},0,0,0,0,0,0,0,0,0,0,0,{"$f":"AC110+AC105-AC108","v":0},0,0,0,0,0,0,0,0,0]
["1",null,"L4_1",null,null,null,null,null,null,null,null,"4.1","Поднято воды из поверхностных источников","тыс.куб.м"]
["1",null,"L4_2",null,null,null,null,null,null,null,null,"4.2","Поднято воды из подземных источников","тыс.куб.м"]
["1",null,"L4_3",null,null,null,null,null,null,null,null,"4.3","Доочищенная сточная вода для нужд технического водоснабжения","тыс.куб.м"]
["1",null,"L5",null,null,null,null,null,null,null,null,"5","Расход воды на технологические нужды всего","тыс.куб.м",{"$f":"SUM(O106:O107)","v":0},0,0,0,0,0,0,0,0,0,0,0,0,0,0,0,0,0,0,0,0,0,0,0]
["1",null,"L5_1",null,null,null,null,null,null,null,null,"5.1","Расход воды на собственные нужды водоподготовки","тыс.куб.м"]
["1",null,"L5_2",null,null,null,null,null,null,null,null,"5.2","Расход воды на промывку сетей","тыс.куб.м"]
["1",null,"L6",null,null,null,null,null,null,null,null,"6","Получено воды со стороны","тыс.куб.м"]
["1",null,"L7",null,null,null,null,null,null,null,null,"7","Объём воды, прошедшей водоподготовку (справочно)","тыс.куб.м"]
["1",null,"L8",null,null,null,null,null,null,null,null,"8","Объём воды, поданной в сеть всего","тыс.куб.м",{"$f":"O116+O114","v":0},0,0,0,0,0,0,0,0,0,0,0,0,0,0,0,0,0,0,0,0,0,0,0]
["1",null,"L8_1",null,null,null,null,null,null,null,null,"8.1","Объём воды, поданной в сеть из собственных источников","тыс.куб.м"]
["1",null,"L8_2",null,null,null,null,null,null,null,null,"8.2","Объём воды, поданной в сеть от других операторов","тыс.куб.м"]
["1",null,"L8_3",null,null,null,null,null,null,null,null,"8.3","Получено от других территорий, дифференцированных по тарифу","тыс.куб.м"]
["1",null,"L9",null,null,null,null,null,null,null,null,"9","Потери воды","тыс.куб.м"]
["1",null,"L9_1",null,null,null,null,null,null,null,null,"9.1","Уровень потерь воды","%",{"$f":"IF(O110=0,0,O114/O110*100)","v":0},0,0,0,0,0,0,0,0,0,0,0,0,0,0,0,0,0,0,0,0,0,0,0]
["1",null,"L10",null,null,null,null,null,null,null,null,"10","Отпущено воды, всего","тыс.куб.м",{"$f":"O117+O121+O124+O134","v":0},0,0,0,0,0,0,0,0,0,0,0,0,0,0,0,0,0,0,0,0,0,0,0]
["1",{"$f":"IF(OwnNeedsInPO=\"да\",\"ПО\",\"\")","v":"ПО"},"L10_1",null,null,null,null,null,null,null,null,"10.1","Расход воды на нужды предприятия","тыс.куб.м",{"$f":"SUM(O118:O120)","v":0},0,0,0,0,0,0,0,0,0,0,0,0,0,0,0,0,0,0,0,0,0,0,0]
["1",null,"L10_1_1",null,null,null,null,null,null,null,null,"10.1.1","хозяйственные нужды","тыс.куб.м"]
["1",null,"L10_1_2",null,null,null,null,null,null,null,null,"10.1.2","на основное производство","тыс.куб.м"]
["1",null,"L10_1_3",null,null,null,null,null,null,null,null,"10.1.3","прочие","тыс.куб.м"]
["1","ПО","L10_2",null,null,null,null,null,null,null,null,"10.2","Отпущено воды другим водопроводам","тыс.куб.м",{"$f":"SUM(O122:O123)","v":0},0,0,0,0,0,0,0,0,0,0,0,0,0,0,0,0,0,0,0,0,0,0,0]
["1",null,"L10_2_1",null,null,null,null,null,null,null,null,"10.2.1","по приборам учёта","тыс.куб.м"]
["1",null,"L10_2_2",null,null,null,null,null,null,null,null,"10.2.2","по нормативам","тыс.куб.м"]
["1","ПО","L10_3",null,null,null,null,null,null,null,null,"10.3","Отпущено воды по категориям потребителей","тыс.куб.м",{"$f":"O125+O128+O131","v":0},0,0,0,0,0,0,0,0,0,0,0,0,0,0,0,0,0,0,0,0,0,0,0]
["1",null,"L10_3_1",null,null,null,null,null,null,null,null,"10.3.1","Финансируемые из бюджетов всех уровней","тыс.куб.м",{"$f":"SUM(O126:O127)","v":0},0,0,0,0,0,0,0,0,0,0,0,0,0,0,0,0,0,0,0,0,0,0,0]
["1",null,"L10_3_1_1",null,null,null,null,null,null,null,null,"10.3.1.1","по приборам учёта","тыс.куб.м"]
["1",null,"L10_3_1_2",null,null,null,null,null,null,null,null,"10.3.1.2","по нормативам","тыс.куб.м"]
["1","население","L10_3_2",null,null,null,null,null,null,null,null,"10.3.2","Население","тыс.куб.м",{"$f":"SUM(O129:O130)","v":0},0,0,0,0,0,0,0,0,0,0,0,0,0,0,0,0,0,0,0,0,0,0,0]
["1",null,"L10_3_2_1",null,null,null,null,null,null,null,null,"10.3.2.1","по приборам учёта","тыс.куб.м"]
["1",null,"L10_3_2_2",null,null,null,null,null,null,null,null,"10.3.2.2","по нормативам","тыс.куб.м"]
["1",null,"L10_3_3",null,null,null,null,null,null,null,null,"10.3.3","Прочие потребители","тыс.куб.м",{"$f":"SUM(O132:O133)","v":0},0,0,0,0,0,0,0,0,0,0,0,0,0,0,0,0,0,0,0,0,0,0,0]
["1",null,"L10_3_3_1",null,null,null,null,null,null,null,null,"10.3.3.1","по приборам учёта","тыс.куб.м"]
["1",null,"L10_3_3_2",null,null,null,null,null,null,null,null,"10.3.3.2","по нормативам","тыс.куб.м"]
["1",null,"L10_4",null,null,null,null,null,null,null,null,"10.4","Передано на другие территории, дифференцированные по тарифу","тыс.куб.м"]
["et_List04_tariff_vs_transp"]
["1",null,null,null,null,null,null,null,null,null,null,{"$f":"INDEX('Общие сведения'!$J$121:$J$148,MATCH($A136,'Общие сведения'!$D$121:$D$148,0))","v":"Тариф 1 (Водоснабжение) - тариф на питьевую воду"}]
[{"$f":"A136","v":"1"},null,null,null,null,null,null,null,null,null,null,"1","Вид воды",null,{"$f":"INDEX('Общие сведения'!$K$121:$K$148,MATCH($A137,'Общие сведения'!$D$121:$D$148,0))","v":"питьевая вода"}]
["1",null,"L2",null,null,null,null,null,null,null,null,"2","Установленная мощность","куб.м/час"]
["1",null,"L3",null,null,null,null,null,null,null,null,"3","Подключённая (фактическая) нагрузка","куб.м/час"]
["1",null,"L4",null,null,null,null,null,null,null,null,4,"Объём воды, поступившей в сеть","тыс.куб.м",{"$f":"O144+O146+O149+O152","v":0},0,0,0,0,0,0,0,0,0,0,0,0,0,0,0,0,0,0,0,0,0,0,0]
["1",null,"L4_1",null,null,null,null,null,null,null,null,"4.1","из собственных источников","тыс.куб.м"]
["1",null,"L4_2",null,null,null,null,null,null,null,null,"4.2","от других операторов","тыс.куб.м"]
["1",null,"L4_3",null,null,null,null,null,null,null,null,"4.3","получено от других территорий, дифференцированных по тарифу","тыс.куб.м"]
["1",null,"L5",null,null,null,null,null,null,null,null,"5","Потери воды","тыс.куб.м"]
["1",null,"L5_1",null,null,null,null,null,null,null,null,"5.1","Уровень потерь воды","%",{"$f":"IF(O140=0,0,O144/O140*100)","v":0},0,0,0,0,0,0,0,0,0,0,0,0,0,0,0,0,0,0,0,0,0,0,0]
[{"$f":"A144","v":"1"},null,"L6",null,null,null,null,null,null,null,null,"6","Расход воды на нужды предприятия","тыс.куб.м",{"$f":"O147+O148","v":0},0,0,0,0,0,0,0,0,0,0,0,0,0,0,0,0,0,0,0,0,0,0,0]
["1",null,"L6_1",null,null,null,null,null,null,null,null,"6.1","хозяйственные нужды","тыс.куб.м"]
["1",null,"L6_2",null,null,null,null,null,null,null,null,"6.2","на основное производство","тыс.куб.м"]
["1","ПО","L7",null,null,null,null,null,null,null,null,"7","Отпущено воды другим водопроводам","тыс.куб.м",{"$f":"O150+O151","v":0},0,0,0,0,0,0,0,0,0,0,0,0,0,0,0,0,0,0,0,0,0,0,0]
["1",null,"L7_1",null,null,null,null,null,null,null,null,"7.1","по приборам учёта","тыс.куб.м"]
["1",null,"L7_2",null,null,null,null,null,null,null,null,"7.2","по нормативам","тыс.куб.м"]
["1",null,"L8",null,null,null,null,null,null,null,null,"8","Передано на другие территории, дифференцированные по тарифу","тыс.куб.м"]
["et_List04_tariff_vo"]
["1",null,null,null,null,null,null,null,null,null,null,{"$f":"INDEX('Общие сведения'!$J$121:$J$148,MATCH($A154,'Общие сведения'!$D$121:$D$148,0))","v":"Тариф 1 (Водоснабжение) - тариф на питьевую воду"}]
[{"$f":"A154","v":"1"},null,null,null,null,null,null,null,null,null,null,"1","Вид стоков",null,{"$f":"INDEX('Общие сведения'!$K$121:$K$148,MATCH($A155,'Общие сведения'!$D$121:$D$148,0))","v":"питьевая вода"}]
["1",null,"L2",null,null,null,null,null,null,null,null,"2","Установленная мощность","куб.м/час"]
["1",null,"L3",null,null,null,null,null,null,null,null,"3","Подключённая (фактическая) нагрузка","куб.м/час"]
["1",null,"L4",null,null,null,null,null,null,null,null,"4","Принято сточных вод, всего","тыс.куб.м",{"$f":"O159+O160+O173","v":0},{"$f":"P159+P160+P173","v":0},0,0,0,0,0,0,0,0,0,0,0,0,0,0,0,0,0,0,0,0,0,0]
["1",{"$f":"IF(OwnNeedsInPO=\"да\",\"ПО\",\"\")","v":"ПО"},"L5",null,null,null,null,null,null,null,null,"5","Хозяйственные нужды предприятия","тыс.куб.м"]
["1","ПО","L6",null,null,null,null,null,null,null,null,"6","Принято по категориям потребителей","тыс.куб.м",{"$f":"O161+O164+O167+O170","v":0},{"$f":"P161+P164+P167+P170","v":0},0,0,0,0,0,0,0,0,0,0,0,0,0,0,0,0,0,0,0,0,0,0]
["1",null,"L6_1",null,null,null,null,null,null,null,null,"6.1","Финансируемые из бюджетов всех уровней","тыс.куб.м",{"$f":"O162+O163","v":0},0,0,0,0,0,0,0,0,0,0,0,0,0,0,0,0,0,0,0,0,0,0,0]
["1",null,"L6_1_1",null,null,null,null,null,null,null,null,"6.1.1","по приборам учёта","тыс.куб.м"]
["1",null,"L6_1_2",null,null,null,null,null,null,null,null,"6.1.2","по нормативам","тыс.куб.м"]
["1","население","L6_2",null,null,null,null,null,null,null,null,"6.2","Население","тыс.куб.м",{"$f":"O165+O166","v":0},0,0,0,0,0,0,0,0,0,0,0,0,0,0,0,0,0,0,0,0,0,0,0]
["1",null,"L6_2_1",null,null,null,null,null,null,null,null,"6.2.1","по приборам учёта","тыс.куб.м"]
["1",null,"L6_2_2",null,null,null,null,null,null,null,null,"6.2.2","по нормативам","тыс.куб.м"]
["1",null,"L6_3",null,null,null,null,null,null,null,null,"6.3","Прочие потребители","тыс.куб.м",{"$f":"O168+O169","v":0},0,0,0,0,0,0,0,0,0,0,0,0,0,0,0,0,0,0,0,0,0,0,0]
["1",null,"L6_3_1",null,null,null,null,null,null,null,null,"6.3.1","по приборам учёта","тыс.куб.м"]
["1",null,"L6_3_2",null,null,null,null,null,null,null,null,"6.3.2","по нормативам","тыс.куб.м"]
["1",null,"L6_4",null,null,null,null,null,null,null,null,"6.4","Принято сточных вод от других канализационных сетей","тыс.куб.м",{"$f":"O171+O172","v":0},0,0,0,0,0,0,0,0,0,0,0,0,0,0,0,0,0,0,0,0,0,0,0]
["1",null,"L6_4_1",null,null,null,null,null,null,null,null,"6.4.1","по приборам учёта","тыс.куб.м"]
["1",null,"L6_4_2",null,null,null,null,null,null,null,null,"6.4.2","по нормативам","тыс.куб.м"]
[{"$f":"A171","v":"1"},null,"L6_5",null,null,null,null,null,null,null,null,"6.5","Получено от других территорий, дифференцированных по тарифу","тыс.куб.м"]
[{"$f":"A172","v":"1"},null,"L7",null,null,null,null,null,null,null,null,"7","Неучтённый приток сточных вод","тыс.куб.м"]
["1",null,"L8",null,null,null,null,null,null,null,null,"8","Объём сточных вод, прошедших очистку (справочно)","тыс.куб.м"]
["1",null,"L9",null,null,null,null,null,null,null,null,"9","Пропущено через собственные очистные сооружения","тыс.куб.м"]
["1",null,"L10",null,null,null,null,null,null,null,null,"10","Передано сточных вод другим канализациям","тыс.куб.м",{"$f":"O178+O179","v":0},0,0,0,0,0,0,0,0,0,0,0,0,0,0,0,0,0,0,0,0,0,0,0]
["1",null,"L10_1",null,null,null,null,null,null,null,null,"10.1","На очистные сооружения","тыс.куб.м"]
["1",null,"L10_2",null,null,null,null,null,null,null,null,"10.2","В канализационную сеть","тыс.куб.м"]
[{"$f":"A178","v":"1"},null,"L11",null,null,null,null,null,null,null,null,"11","Передано на другие территории, дифференцированные по тарифу","тыс.куб.м"]
[{"$f":"A179","v":"1"},null,"L12",null,null,null,null,null,null,null,null,"12","Сброшенные воды без очистки","тыс.куб.м"]
["et_List04_tariff_vo_transp"]
["1",null,null,null,null,null,null,null,null,null,null,{"$f":"INDEX('Общие сведения'!$J$121:$J$148,MATCH($A183,'Общие сведения'!$D$121:$D$148,0))","v":"Тариф 1 (Водоснабжение) - тариф на питьевую воду"}]
[{"$f":"A183","v":"1"},null,null,null,null,null,null,null,null,null,null,"1","Вид стоков",null,{"$f":"INDEX('Общие сведения'!$K$121:$K$148,MATCH($A184,'Общие сведения'!$D$121:$D$148,0))","v":"питьевая вода"}]
["1",null,"L2",null,null,null,null,null,null,null,null,"2","Установленная мощность","куб.м/час"]
["1",null,"L3",null,null,null,null,null,null,null,null,"3","Подключённая (фактическая) нагрузка","куб.м/час"]
["1",null,"L4",null,null,null,null,null,null,null,null,"4","Объём транспортируемых сточных вод","тыс.куб.м",{"$f":"O188+O190+O189","v":0},0,0,0,0,0,0,0,0,0,0,0,0,0,0,0,0,0,0,0,0,0,0,0]
["1",null,"L4_1",null,null,null,null,null,null,null,null,"4.1","на собственные очистные сооружения","тыс.куб.м"]
[{"$f":"A187","v":"1"},null,"L4_2",null,null,null,null,null,null,null,null,"4.2","другим организациям","тыс.куб.м"]
[{"$f":"A188","v":"1"},null,"L4_3",null,null,null,null,null,null,null,null,"4.3","Передано на другие территории, дифференцированные по тарифу","тыс.куб.м"]
["1","ПО","L5",null,null,null,null,null,null,null,null,"5","Приём сточных вод, поступающих на очистные сооружения","тыс.куб.м",{"$f":"O192+O193+O196","v":0},0,0,0,0,0,0,0,0,0,0,0,0,0,0,0,0,0,0,0,0,0,0,0]
["1",null,"L5_1",null,null,null,null,null,null,null,null,"5.1","от собственных нужд","тыс.куб.м"]
["1",null,"L5_2",null,null,null,null,null,null,null,null,"5.2","от других канализаций или отдельных канализационных сетей","тыс.куб.м",{"$f":"O194+O195","v":0},0,0,0,0,0,0,0,0,0,0,0,0,0,0,0,0,0,0,0,0,0,0,0]
["1",null,"L5_2_1",null,null,null,null,null,null,null,null,"5.2.1","по приборам учёта","тыс.куб.м"]
["1",null,"L5_2_2",null,null,null,null,null,null,null,null,"5.2.2","по нормативам","тыс.куб.м"]
[{"$f":"A194","v":"1"},null,"L5_3",null,null,null,null,null,null,null,null,"5.3","Получено от других территорий, дифференцированных по тарифу","тыс.куб.м"]
[]
["5. Реагенты"]
["et_List05_tariff"]
["1",null,null,null,null,null,null,null,null,null,null,{"$f":"INDEX('Общие сведения'!$J$121:$J$148,MATCH($A200,'Общие сведения'!$D$121:$D$148,0))","v":"Тариф 1 (Водоснабжение) - тариф на питьевую воду"}]
[{"$f":"A200","v":"1"},"L1","L2",null,null,null,null,null,null,null,null,null,"Всего по тарифу","тыс.руб.",{"$f":"SUM(O202:O203)","v":0},0,0,0,0,0,0,0,0,0,0,0,0,0,0,0,0,0,0,0,0,0,0,0]
[{"$f":"A201","v":"1"},null,null,null,null,null,null,null,null,null,null,"0"]
[{"$f":"A202","v":"1"},{"$f":"A203&\"pIns\"","v":"1pIns"},null,null,null,null,null,null,null,null,null,null,"Добавить"]
["et_List05_reagent"]
[{"$f":"OFFSET(A205,-1,0)","v":"et_List05_reagent"},"L1","L2",null,null,null,null,null,null,null,"О",1,null,"тыс.руб."]
[]
["6. ЭЭ"]
["et_List06_tariff"]
["1",null,null,null,null,null,null,null,null,null,null,{"$f":"INDEX('Общие сведения'!$J$121:$J$148,MATCH($A209,'Общие сведения'!$D$121:$D$148,0))","v":"Тариф 1 (Водоснабжение) - тариф на питьевую воду"}]
[{"$f":"A209","v":"1"},"L1",null,null,null,null,null,null,null,null,null,"1","Всего по тарифу","тыс.руб.",{"$f":"SUMIF(N215:N221,N210,O215:O221)","v":0},{"$f":"SUMIF(N215:N221,N210,P215:P221)","v":0},{"$f":"SUMIF(N215:N221,N210,Q215:Q221)","v":0},{"$f":"SUMIF(N215:N221,N210,R215:R221)","v":0},{"$f":"SUMIF(N215:N221,N210,S215:S221)","v":0},{"$f":"SUMIF(N215:N221,N210,T215:T221)","v":0},{"$f":"SUMIF(N215:N221,N210,U215:U221)","v":0},{"$f":"SUMIF(N215:N221,N210,V215:V221)","v":0},{"$f":"SUMIF(N215:N221,N210,W215:W221)","v":0},{"$f":"SUMIF(N215:N221,N210,X215:X221)","v":0},{"$f":"SUMIF(N215:N221,N210,Y215:Y221)","v":0},{"$f":"SUMIF(N215:N221,N210,Z215:Z221)","v":0},{"$f":"SUMIF(N215:N221,N210,AA215:AA221)","v":0},{"$f":"SUMIF(N215:N221,N210,AB215:AB221)","v":0},{"$f":"SUMIF(N215:N221,N210,AC215:AC221)","v":0},{"$f":"SUMIF(N215:N221,N210,AD215:AD221)","v":0},{"$f":"SUMIF(N215:N221,N210,AE215:AE221)","v":0},{"$f":"SUMIF(N215:N221,N210,AF215:AF221)","v":0},{"$f":"SUMIF(N215:N221,N210,AG215:AG221)","v":0},{"$f":"SUMIF(N215:N221,N210,AH215:AH221)","v":0},{"$f":"SUMIF(N215:N221,N210,AI215:AI221)","v":0},{"$f":"SUMIF(N215:N221,N210,AJ215:AJ221)","v":0},{"$f":"SUMIF(N215:N221,N210,AK215:AK221)","v":0},{"$f":"SUMIF(N215:N221,N210,AL215:AL221)","v":0}]
["1","L2",null,null,null,null,null,null,null,null,null,"2","Объём покупаемой электроэнергии всего","тыс.кВтч",{"$f":"SUMIF(N215:N221,N211,O215:O221)","v":0},{"$f":"SUMIF(N215:N221,N211,P215:P221)","v":0},{"$f":"SUMIF(N215:N221,N211,Q215:Q221)","v":0},{"$f":"SUMIF(N215:N221,N211,R215:R221)","v":0},{"$f":"SUMIF(N215:N221,N211,S215:S221)","v":0},{"$f":"SUMIF(N215:N221,N211,T215:T221)","v":0},{"$f":"SUMIF(N215:N221,N211,U215:U221)","v":0},{"$f":"SUMIF(N215:N221,N211,V215:V221)","v":0},{"$f":"SUMIF(N215:N221,N211,W215:W221)","v":0},{"$f":"SUMIF(N215:N221,N211,X215:X221)","v":0},{"$f":"SUMIF(N215:N221,N211,Y215:Y221)","v":0},{"$f":"SUMIF(N215:N221,N211,Z215:Z221)","v":0},{"$f":"SUMIF(N215:N221,N211,AA215:AA221)","v":0},{"$f":"SUMIF(N215:N221,N211,AB215:AB221)","v":0},{"$f":"SUMIF(N215:N221,N211,AC215:AC221)","v":0},{"$f":"SUMIF(N215:N221,N211,AD215:AD221)","v":0},{"$f":"SUMIF(N215:N221,N211,AE215:AE221)","v":0},{"$f":"SUMIF(N215:N221,N211,AF215:AF221)","v":0},{"$f":"SUMIF(N215:N221,N211,AG215:AG221)","v":0},{"$f":"SUMIF(N215:N221,N211,AH215:AH221)","v":0},{"$f":"SUMIF(N215:N221,N211,AI215:AI221)","v":0},{"$f":"SUMIF(N215:N221,N211,AJ215:AJ221)","v":0},{"$f":"SUMIF(N215:N221,N211,AK215:AK221)","v":0},{"$f":"SUMIF(N215:N221,N211,AL215:AL221)","v":0}]
["1","L3",null,null,null,null,null,null,null,null,null,"3","Объём воды/сточных вод","тыс.куб.м."]
["1","L4",null,null,null,null,null,null,null,null,null,"4","Средний (расчетный) тариф","руб./кВтч",{"$f":"IF(O211=0,0,O210/O211)","v":0},{"$f":"IF(P211=0,0,P210/P211)","v":0},0,0,0,0,0,0,0,0,0,0,0,0,0,0,0,0,0,0,0,0,0,0]
["1","L5",null,null,null,null,null,null,null,null,null,"5","Удельный расход электроэнергии","кВтч/куб.м.",{"$f":"IF(O212=0,0,O211/O212)","v":0},0,0,0,0,0,0,0,0,0,0,0,0,0,0,0,0,0,0,0,0,0,0,0]
["1",null,null,null,null,null,null,null,null,"6.0",null,null,"Одноставочный тариф"]
[{"$f":"OFFSET(A216,-1,0)","v":"1"},"L6",{"$f":"M216","v":"Без разбивки"},null,null,null,null,null,null,"6.1","О",{"$f":"J216","v":"6.1"},{"$f":"\"Без разбивки\"","v":"Без разбивки"},"тыс.руб."]
[{"$f":"A216","v":"1"},"L6_1",{"$f":"C216","v":"Без разбивки"},null,null,null,null,null,null,null,null,{"$f":"L216&\".1\"","v":"6.1.1"},"Тариф на электроэнергию","руб./кВтч",{"$f":"IF(OR(AND(O216<>0,O218=0),AND(O216=0,O218<>0)),\"Ошибка\",IF(O218=0,0,O216/O218))","v":0},0,0,0,0,0,0,0,0,0,0,0,0,0,0,0,0,0,0,0,0,0,0,0]
[{"$f":"A217","v":"1"},"L6_2",{"$f":"C217","v":"Без разбивки"},null,null,null,null,null,null,null,null,{"$f":"L216&\".2\"","v":"6.1.2"},"Объём покупной электроэнергии","тыс.кВтч"]
[{"$f":"A215","v":"1"},{"$f":"A219&\"pIns1\"","v":"1pIns1"},null,null,null,null,null,null,null,null,null,null,"Добавить"]
["1",null,null,null,null,null,null,null,null,"7.0",null,null,"Двухставочный тариф"]
["1",{"$f":"A221&\"pIns2\"","v":"1pIns2"},null,null,null,null,null,null,null,null,null,null,"Добавить "]
["et_List06_voltage"]
[{"$f":"OFFSET(A223,-1,0)","v":"et_List06_voltage"},"L6",{"$f":"M223","v":0},null,null,null,null,null,null,null,"О",{"$f":"J223","v":0},null,"тыс.руб."]
[{"$f":"A223","v":"et_List06_voltage"},"L6_1",{"$f":"C223","v":0},null,null,null,null,null,null,null,null,{"$f":"L223&\".1\"","v":"0.1"},"Тариф на электроэнергию","руб./кВтч",{"$f":"IF(OR(AND(O223<>0,O225=0),AND(O223=0,O225<>0)),\"Ошибка\",IF(O225=0,0,O223/O225))","v":0},0,0,0,0,0,0,0,0,0,0,0,0,0,0,0,0,0,0,0,0,0,0,0]
[{"$f":"A224","v":"et_List06_voltage"},"L6_2",{"$f":"C224","v":0},null,null,null,null,null,null,null,null,{"$f":"L223&\".2\"","v":"0.2"},"Объём покупной электроэнергии","тыс.кВтч"]
["et_List06_voltage2"]
[{"$f":"OFFSET(A227,-1,0)","v":"et_List06_voltage2"},"L7",{"$f":"M227","v":0},null,null,null,null,null,null,null,"О",{"$f":"J227","v":0},null,"тыс.руб.",{"$f":"O228+O231","v":0},{"$f":"P228+P231","v":0},{"$f":"Q228+Q231","v":0},{"$f":"R228+R231","v":0},{"$f":"S228+S231","v":0},{"$f":"T229*T230+T232*T233/1000*12","v":0},{"$f":"U229*U230+U232*U233/1000*12","v":0},0,0,0,0,0,0,0,0,0,0,0,0,0,0,0,0,0]
[{"$f":"OFFSET(A228,-1,0)","v":"et_List06_voltage2"},"L7_1",{"$f":"C227","v":0},null,null,null,null,null,null,null,null,{"$f":"L227&\".1\"","v":"0.1"},"Затраты на электроэнергию","тыс.руб. "]
["et_List06_voltage2","L7_1_1",0,null,null,null,null,null,null,null,null,{"$f":"L227&\".1.1\"","v":"0.1.1"},"Тариф на электроэнергию","руб./кВтч",{"$f":"IF(OR(AND(O228<>0,O230=0),AND(O228=0,O230<>0)),\"Ошибка\",IF(O230=0,0,O228/O230))","v":0},0,0,0,0,0,{"$f":"IF(OR(AND(U228<>0,U230=0),AND(U228=0,U230<>0)),\"Ошибка\",IF(U230=0,0,U228/U230))","v":0},0,0,0,0,0,0,0,0,0,0,0,0,0,0,0,0,0]
["et_List06_voltage2","L7_1_2",0,null,null,null,null,null,null,null,null,{"$f":"L227&\".1.2\"","v":"0.1.2"},"Объём покупной электроэнергии","тыс.кВтч"]
["et_List06_voltage2","L7_2",0,null,null,null,null,null,null,null,null,{"$f":"L227&\".2\"","v":"0.2"},"Затраты на электрическую мощность","тыс.руб. "]
["et_List06_voltage2","L7_2_1",0,null,null,null,null,null,null,null,null,{"$f":"L227&\".2.1\"","v":"0.2.1"},"Тариф на электрическую мощность","руб./МВт в мес",{"$f":"IF(OR(AND(O231<>0,O233=0),AND(O231=0,O233<>0)),\"Ошибка\",IF(O233=0,0,O231/O233*1000/12))","v":0},0,0,0,0,0,{"$f":"IF(OR(AND(U231<>0,U233=0),AND(U231=0,U233<>0)),\"Ошибка\",IF(U233=0,0,U231/U233*1000/12))","v":0},0,0,0,0,0,0,0,0,0,0,0,0,0,0,0,0,0]
["et_List06_voltage2","L7_2_2",0,null,null,null,null,null,null,null,null,{"$f":"L227&\".2.2\"","v":"0.2.2"},"Объём покупной мощности","МВт в мес."]
[]
["7. Амортизация"]
["et_List07_tariff"]
["1",null,null,null,null,null,null,null,null,null,null,{"$f":"INDEX('Общие сведения'!$J$121:$J$148,MATCH($A237,'Общие сведения'!$D$121:$D$148,0))","v":"Тариф 1 (Водоснабжение) - тариф на питьевую воду"}]
[{"$f":"A237","v":"1"},"L1",null,null,null,null,null,null,null,null,null,1,"Первоначальная (восстановительная) стоимость на начало периода","тыс.руб.",{"$f":"SUM(O239:O243)","v":0},{"$f":"SUM(P239:P243)","v":0},{"$f":"SUM(Q239:Q243)","v":0},{"$f":"SUM(R239:R243)","v":0},{"$f":"SUM(S239:S243)","v":0},0,0,0,0,0,0,0,{"$f":"SUM(AA239:AA243)","v":0},{"$f":"SUM(AB239:AB243)","v":0},0,0,0,0,0,0,0,0,0,0]
[{"$f":"A238","v":"1"},"L1_1",null,null,null,null,null,null,null,null,null,"1.1","Здания","тыс.руб."]
["1","L1_2",null,null,null,null,null,null,null,null,null,"1.2","Сооружения и передаточные устройства","тыс.руб."]
["1","L1_3",null,null,null,null,null,null,null,null,null,"1.3","Машины и оборудование","тыс.руб."]
["1","L1_4",null,null,null,null,null,null,null,null,null,"1.4","Транспорт","тыс.руб."]
["1","L1_5",null,null,null,null,null,null,null,null,null,"1.5","Прочее","тыс.руб."]
["1","L2",null,null,null,null,null,null,null,null,null,2,"Ввод основных фондов","тыс.руб.",{"$f":"SUM(O245:O249)","v":0},0,0,0,0,0,0,0,0,0,0,0,{"$f":"SUM(AA245:AA249)","v":0},{"$f":"SUM(AB245:AB249)","v":0},0,0,0,0,0,0,0,0,0,0]
["1","L2_1",null,null,null,null,null,null,null,null,null,"2.1","Здания","тыс.руб."]
["1","L2_2",null,null,null,null,null,null,null,null,null,"2.2","Сооружения и передаточные устройства","тыс.руб."]
["1","L2_3",null,null,null,null,null,null,null,null,null,"2.3","Машины и оборудование","тыс.руб."]
["1","L2_4",null,null,null,null,null,null,null,null,null,"2.4","Транспорт","тыс.руб."]
["1","L2_5",null,null,null,null,null,null,null,null,null,"2.5","Прочее","тыс.руб."]
["1","L3",null,null,null,null,null,null,null,null,null,3,"Выбытие основных фондов","тыс.руб.",{"$f":"SUM(O251:O255)","v":0},0,0,0,0,0,0,0,0,0,0,0,{"$f":"SUM(AA251:AA255)","v":0},{"$f":"SUM(AB251:AB255)","v":0},0,0,0,0,0,0,0,0,0,{"$f":"SUM(AL251:AL255)","v":0}]
["1","L3_1",null,null,null,null,null,null,null,null,null,"3.1","Здания","тыс.руб."]
["1","L3_2",null,null,null,null,null,null,null,null,null,"3.2","Сооружения и передаточные устройства","тыс.руб."]
["1","L3_3",null,null,null,null,null,null,null,null,null,"3.3","Машины и оборудование","тыс.руб."]
["1","L3_4",null,null,null,null,null,null,null,null,null,"3.4","Транспорт","тыс.руб."]
["1","L3_5",null,null,null,null,null,null,null,null,null,"3.5","Прочее","тыс.руб."]
["1","L4",null,null,null,null,null,null,null,null,null,4,"Первоначальная (восстановительная) стоимость на конец периода","тыс.руб.",{"$f":"SUM(O257:O261)","v":0},0,{"$f":"SUM(Q257:Q261)","v":0},0,0,0,0,0,0,0,0,0,{"$f":"SUM(AA257:AA261)","v":0},{"$f":"SUM(AB257:AB261)","v":0},0,0,0,0,0,0,0,0,0,0]
["1","L4_1",null,null,null,null,null,null,null,null,null,"4.1","Здания","тыс.руб.",{"$f":"O239+O245-O251","v":0},{"$f":"P239+P245-P251","v":0},{"$f":"Q239+Q245-Q251","v":0},0,0,0,0,0,0,0,0,0,0,0,0,0,0,0,0,0,0,0,0,0]
["1","L4_2",null,null,null,null,null,null,null,null,null,"4.2","Сооружения и передаточные устройства","тыс.руб.",{"$f":"O240+O246-O252","v":0},{"$f":"P240+P246-P252","v":0},{"$f":"Q240+Q246-Q252","v":0},{"$f":"R240+R246-R252","v":0},0,0,0,0,0,0,0,0,0,0,0,0,0,0,0,0,0,0,0,0]
["1","L4_3",null,null,null,null,null,null,null,null,null,"4.3","Машины и оборудование","тыс.руб.",{"$f":"O241+O247-O253","v":0},{"$f":"P241+P247-P253","v":0},{"$f":"Q241+Q247-Q253","v":0},{"$f":"R241+R247-R253","v":0},{"$f":"S241+S247-S253","v":0},0,0,0,0,0,0,0,{"$f":"AA241+AA247-AA253","v":0},0,0,0,0,0,0,0,0,0,0,{"$f":"AL241+AL247-AL253","v":0}]
["1","L4_4",null,null,null,null,null,null,null,null,null,"4.4","Транспорт","тыс.руб.",{"$f":"O242+O248-O254","v":0},{"$f":"P242+P248-P254","v":0},{"$f":"Q242+Q248-Q254","v":0},{"$f":"R242+R248-R254","v":0},{"$f":"S242+S248-S254","v":0},0,0,0,0,0,0,0,0,0,0,0,0,0,0,0,0,0,0,{"$f":"AL242+AL248-AL254","v":0}]
["1","L4_5",null,null,null,null,null,null,null,null,null,"4.5","Прочее","тыс.руб.",{"$f":"O243+O249-O255","v":0},{"$f":"P243+P249-P255","v":0},{"$f":"Q243+Q249-Q255","v":0},{"$f":"R243+R249-R255","v":0},{"$f":"S243+S249-S255","v":0},0,0,0,0,0,0,0,0,0,0,0,0,0,0,0,0,0,0,{"$f":"AL243+AL249-AL255","v":0}]
["1","L5",null,null,null,null,null,null,null,null,null,5,"Среднегодовая стоимость","тыс.руб.",{"$f":"SUM(O263:O267)","v":0},{"$f":"SUM(P263:P267)","v":0},{"$f":"SUM(Q263:Q267)","v":0},0,0,0,0,0,0,0,0,0,{"$f":"SUM(AA263:AA267)","v":0},{"$f":"SUM(AB263:AB267)","v":0},0,0,0,0,0,0,0,0,0,0]
["1","L5_1",null,null,null,null,null,null,null,null,null,"5.1","Здания","тыс.руб.",{"$f":"(O257+O239)/2","v":0},{"$f":"(P257+P239)/2","v":0},{"$f":"(Q257+Q239)/2","v":0},0,0,0,0,0,0,0,0,0,0,0,0,0,0,0,0,0,0,0,0,0]
["1","L5_2",null,null,null,null,null,null,null,null,null,"5.2","Сооружения и передаточные устройства","тыс.руб.",{"$f":"(O258+O240)/2","v":0},0,{"$f":"(Q258+Q240)/2","v":0},0,0,0,0,0,0,0,0,0,0,0,0,0,0,0,0,0,0,0,0,0]
["1","L5_3",null,null,null,null,null,null,null,null,null,"5.3","Машины и оборудование","тыс.руб.",{"$f":"(O259+O241)/2","v":0},0,{"$f":"(Q259+Q241)/2","v":0},0,0,0,0,0,0,0,0,0,0,0,0,0,0,0,0,0,0,0,0,0]
["1","L5_4",null,null,null,null,null,null,null,null,null,"5.4","Транспорт","тыс.руб.",{"$f":"(O260+O242)/2","v":0},0,{"$f":"(Q260+Q242)/2","v":0},0,0,0,0,0,0,0,0,0,0,0,0,0,0,0,0,0,0,0,0,0]
["1","L5_5",null,null,null,null,null,null,null,null,null,"5.5","Прочее","тыс.руб.",{"$f":"(O261+O243)/2","v":0},0,{"$f":"(Q261+Q243)/2","v":0},0,0,0,0,0,0,0,0,0,0,0,0,0,0,0,0,0,0,0,0,0]
["1","L6",null,null,null,null,null,null,null,null,null,6,"Средняя норма амортизационных отчислений"]
["1","L6_1",null,null,null,null,null,null,null,null,null,"6.1","Здания","%",{"$f":"IF(O263=0,0,O275/O263*100)","v":0},0,0,0,0,0,0,0,0,0,0,0,0,0,0,0,{"$f":"IF(AE263=0,0,AE275/AE263*100)","v":0},0,0,0,0,0,0,0]
["1","L6_2",null,null,null,null,null,null,null,null,null,"6.2","Сооружения и передаточные устройства","%",{"$f":"IF(O264=0,0,O276/O264*100)","v":0},0,0,0,0,0,0,0,0,0,0,0,0,0,0,0,0,0,0,0,0,0,0,0]
["1","L6_3",null,null,null,null,null,null,null,null,null,"6.3","Машины и оборудование","%",{"$f":"IF(O265=0,0,O277/O265*100)","v":0},0,0,0,0,0,0,0,0,0,0,0,0,0,0,0,0,0,0,0,0,0,0,0]
["1","L6_4",null,null,null,null,null,null,null,null,null,"6.4","Транспорт","%",{"$f":"IF(O266=0,0,O278/O266*100)","v":0},0,0,0,0,0,0,0,0,0,0,0,0,0,0,0,0,0,0,0,0,0,0,0]
["1","L6_5",null,null,null,null,null,null,null,null,null,"6.5","Прочее","%",{"$f":"IF(O267=0,0,O279/O267*100)","v":0},0,0,0,0,0,0,0,0,0,0,0,0,0,0,0,0,0,0,0,0,0,0,0]
["1","L7",null,null,null,null,null,null,null,null,null,7,"Сумма амортизационных отчислений","тыс.руб.",{"$f":"SUM(O275:O279)","v":0},0,{"$f":"SUM(Q275:Q279)","v":0},0,0,0,0,0,0,0,0,0,{"$f":"SUM(AA275:AA279)","v":0},{"$f":"SUM(AB275:AB279)","v":0},0,0,0,0,0,0,0,0,0,0]
["1","L7_1",null,null,null,null,null,null,null,null,null,"7.1","Здания","тыс.руб."]
["1","L7_2",null,null,null,null,null,null,null,null,null,"7.2","Сооружения и передаточные устройства","тыс.руб."]
["1","L7_3",null,null,null,null,null,null,null,null,null,"7.3","Машины и оборудование","тыс.руб."]
["1","L7_4",null,null,null,null,null,null,null,null,null,"7.4","Транспорт","тыс.руб."]
["1","L7_5",null,null,null,null,null,null,null,null,null,"7.5","Прочее","тыс.руб."]
["1","L8",null,null,null,null,null,null,null,null,null,8,"Переоценка на 31.12.XX","тыс.руб.",{"$f":"SUM(O281:O285)","v":0},0,{"$f":"SUM(Q281:Q285)","v":0},0,0,0,0,0,0,0,0,0,{"$f":"SUM(AA281:AA285)","v":0},{"$f":"SUM(AB281:AB285)","v":0},0,0,0,0,0,0,0,0,0,0]
["1","L8_1",null,null,null,null,null,null,null,null,null,"8.1","Здания","тыс.руб."]
["1","L8_2",null,null,null,null,null,null,null,null,null,"8.2","Сооружения и передаточные устройства","тыс.руб."]
["1","L8_3",null,null,null,null,null,null,null,null,null,"8.3","Машины и оборудование","тыс.руб."]
["1","L8_4",null,null,null,null,null,null,null,null,null,"8.4","Транспорт","тыс.руб."]
["1","L8_5",null,null,null,null,null,null,null,null,null,"8.5","Прочее","тыс.руб."]
[]
["8. Аренда"]
["et_List08_tariff"]
["1",null,null,null,null,null,null,null,null,null,null,{"$f":"INDEX('Общие сведения'!$J$121:$J$148,MATCH($A289,'Общие сведения'!$D$121:$D$148,0))","v":"Тариф 1 (Водоснабжение) - тариф на питьевую воду"}]
[{"$f":"A289","v":"1"},"L1",null,null,null,null,null,null,null,null,null,"1","Арендная и концессионная плата. Лизинговые платежи","тыс.руб.",{"$f":"O291+O294+O295+O296","v":0},{"$f":"P291+P294+P295+P296","v":0},0,0,0,0,0,0,0,0,0,0,0,0,0,0,0,0,0,0,0,0,0,0]
["1","L1_1",null,null,null,null,null,null,null,null,null,"1.1","Аренда имущества","тыс.руб.",{"$f":"SUM(O292:O293)","v":0},0,0,0,0,0,0,0,0,0,0,0,0,0,0,0,0,0,0,0,0,0,0,0]
["1","L1_1_1",null,null,null,null,null,null,null,null,null,"1.1.1","Аренда муниципальной или государственной собственности","тыс.руб."]
["1","L1_1_2",null,null,null,null,null,null,null,null,null,"1.1.2","Аренда частной собственности","тыс.руб."]
["1","L1_2",null,null,null,null,null,null,null,null,null,"1.2","Концессионная плата","тыс.руб."]
["1","L1_3",null,null,null,null,null,null,null,null,null,"1.3","Лизинговые платежи","тыс.руб."]
["1","L1_4",null,null,null,null,null,null,null,null,null,"1.4","Аренда земельных участков","тыс.руб."]
[]
["9. Покупка"]
["et_List09_tariff"]
["1","Итого",null,null,null,null,null,null,null,null,null,{"$f":"INDEX('Общие сведения'!$J$121:$J$148,MATCH($A300,'Общие сведения'!$D$121:$D$148,0))","v":"Тариф 1 (Водоснабжение) - тариф на питьевую воду"},null,null,{"$f":"O301+O304+O307+O310+O313+O316+O317+O318","v":0},{"$f":"P301+P304+P307+P310+P313+P316+P317+P318","v":0},0,0,0,0,0,0,0,0,0,0,0,0,0,0,0,0,0,0,0,0,0,0]
[{"$f":"A300","v":"1"},"L1",null,null,null,null,null,null,null,null,null,1,"Затраты на холодную воду","тыс.руб.",{"$f":"SUMIF(N302:N303,N301,O302:O303)","v":0},{"$f":"SUMIF(N302:N303,N301,P302:P303)","v":0},{"$f":"SUMIF(N302:N303,N301,Q302:Q303)","v":0},{"$f":"SUMIF(N302:N303,N301,R302:R303)","v":0},{"$f":"SUMIF(N302:N303,N301,S302:S303)","v":0},{"$f":"SUMIF(N302:N303,N301,T302:T303)","v":0},{"$f":"SUMIF(N302:N303,N301,U302:U303)","v":0},{"$f":"SUMIF(N302:N303,N301,V302:V303)","v":0},{"$f":"SUMIF(N302:N303,N301,W302:W303)","v":0},{"$f":"SUMIF(N302:N303,N301,X302:X303)","v":0},{"$f":"SUMIF(N302:N303,N301,Y302:Y303)","v":0},{"$f":"SUMIF(N302:N303,N301,Z302:Z303)","v":0},{"$f":"SUMIF(N302:N303,N301,AA302:AA303)","v":0},{"$f":"SUMIF(N302:N303,N301,AB302:AB303)","v":0},{"$f":"SUMIF(N302:N303,N301,AC302:AC303)","v":0},{"$f":"SUMIF(N302:N303,N301,AD302:AD303)","v":0},{"$f":"SUMIF(N302:N303,N301,AE302:AE303)","v":0},{"$f":"SUMIF(N302:N303,N301,AF302:AF303)","v":0},{"$f":"SUMIF(N302:N303,N301,AG302:AG303)","v":0},{"$f":"SUMIF(N302:N303,N301,AH302:AH303)","v":0},{"$f":"SUMIF(N302:N303,N301,AI302:AI303)","v":0},{"$f":"SUMIF(N302:N303,N301,AJ302:AJ303)","v":0},{"$f":"SUMIF(N302:N303,N301,AK302:AK303)","v":0},{"$f":"SUMIF(N302:N303,N301,AL302:AL303)","v":0}]
["1",null,null,null,null,null,null,null,null,"1.0"]
["1",{"$f":"A303&\"pIns1\"","v":"1pIns1"},null,null,null,null,null,null,null,null,null,null,"Добавить поставщика"]
["1","L2",null,null,null,null,null,null,null,null,null,2,"Затраты на транспортировку холодной воды","тыс.руб.",{"$f":"SUMIF(N305:N306,N304,O305:O306)","v":0},{"$f":"SUMIF(N305:N306,N304,P305:P306)","v":0},{"$f":"SUMIF(N305:N306,N304,Q305:Q306)","v":0},{"$f":"SUMIF(N305:N306,N304,R305:R306)","v":0},{"$f":"SUMIF(N305:N306,N304,S305:S306)","v":0},{"$f":"SUMIF(N305:N306,N304,T305:T306)","v":0},{"$f":"SUMIF(N305:N306,N304,U305:U306)","v":0},{"$f":"SUMIF(N305:N306,N304,V305:V306)","v":0},{"$f":"SUMIF(N305:N306,N304,W305:W306)","v":0},{"$f":"SUMIF(N305:N306,N304,X305:X306)","v":0},{"$f":"SUMIF(N305:N306,N304,Y305:Y306)","v":0},{"$f":"SUMIF(N305:N306,N304,Z305:Z306)","v":0},{"$f":"SUMIF(N305:N306,N304,AA305:AA306)","v":0},{"$f":"SUMIF(N305:N306,N304,AB305:AB306)","v":0},{"$f":"SUMIF(N305:N306,N304,AC305:AC306)","v":0},{"$f":"SUMIF(N305:N306,N304,AD305:AD306)","v":0},{"$f":"SUMIF(N305:N306,N304,AE305:AE306)","v":0},{"$f":"SUMIF(N305:N306,N304,AF305:AF306)","v":0},{"$f":"SUMIF(N305:N306,N304,AG305:AG306)","v":0},{"$f":"SUMIF(N305:N306,N304,AH305:AH306)","v":0},{"$f":"SUMIF(N305:N306,N304,AI305:AI306)","v":0},{"$f":"SUMIF(N305:N306,N304,AJ305:AJ306)","v":0},{"$f":"SUMIF(N305:N306,N304,AK305:AK306)","v":0},{"$f":"SUMIF(N305:N306,N304,AL305:AL306)","v":0}]
["1",null,null,null,null,null,null,null,null,"2.0"]
["1",{"$f":"A306&\"pIns2\"","v":"1pIns2"},null,null,null,null,null,null,null,null,null,null,"Добавить поставщика"]
["1","L3",null,null,null,null,null,null,null,null,null,3,"Затраты на водоотведение","тыс.руб.",{"$f":"SUMIF(N308:N309,N307,O308:O309)","v":0},{"$f":"SUMIF(N308:N309,N307,P308:P309)","v":0},{"$f":"SUMIF(N308:N309,N307,Q308:Q309)","v":0},{"$f":"SUMIF(N308:N309,N307,R308:R309)","v":0},{"$f":"SUMIF(N308:N309,N307,S308:S309)","v":0},{"$f":"SUMIF(N308:N309,N307,T308:T309)","v":0},{"$f":"SUMIF(N308:N309,N307,U308:U309)","v":0},{"$f":"SUMIF(N308:N309,N307,V308:V309)","v":0},{"$f":"SUMIF(N308:N309,N307,W308:W309)","v":0},{"$f":"SUMIF(N308:N309,N307,X308:X309)","v":0},{"$f":"SUMIF(N308:N309,N307,Y308:Y309)","v":0},{"$f":"SUMIF(N308:N309,N307,Z308:Z309)","v":0},{"$f":"SUMIF(N308:N309,N307,AA308:AA309)","v":0},{"$f":"SUMIF(N308:N309,N307,AB308:AB309)","v":0},{"$f":"SUMIF(N308:N309,N307,AC308:AC309)","v":0},{"$f":"SUMIF(N308:N309,N307,AD308:AD309)","v":0},{"$f":"SUMIF(N308:N309,N307,AE308:AE309)","v":0},{"$f":"SUMIF(N308:N309,N307,AF308:AF309)","v":0},{"$f":"SUMIF(N308:N309,N307,AG308:AG309)","v":0},{"$f":"SUMIF(N308:N309,N307,AH308:AH309)","v":0},{"$f":"SUMIF(N308:N309,N307,AI308:AI309)","v":0},{"$f":"SUMIF(N308:N309,N307,AJ308:AJ309)","v":0},{"$f":"SUMIF(N308:N309,N307,AK308:AK309)","v":0},{"$f":"SUMIF(N308:N309,N307,AL308:AL309)","v":0}]
["1",null,null,null,null,null,null,null,null,"3.0"]
["1",{"$f":"A309&\"pIns3\"","v":"1pIns3"},null,null,null,null,null,null,null,null,null,null,"Добавить поставщика"]
["1","L4",null,null,null,null,null,null,null,null,null,4,"Затраты на транспортировку сточных вод","тыс.руб.",{"$f":"SUMIF(N311:N312,N310,O311:O312)","v":0},{"$f":"SUMIF(N311:N312,N310,P311:P312)","v":0},{"$f":"SUMIF(N311:N312,N310,Q311:Q312)","v":0},{"$f":"SUMIF(N311:N312,N310,R311:R312)","v":0},{"$f":"SUMIF(N311:N312,N310,S311:S312)","v":0},{"$f":"SUMIF(N311:N312,N310,T311:T312)","v":0},{"$f":"SUMIF(N311:N312,N310,U311:U312)","v":0},{"$f":"SUMIF(N311:N312,N310,V311:V312)","v":0},{"$f":"SUMIF(N311:N312,N310,W311:W312)","v":0},{"$f":"SUMIF(N311:N312,N310,X311:X312)","v":0},{"$f":"SUMIF(N311:N312,N310,Y311:Y312)","v":0},{"$f":"SUMIF(N311:N312,N310,Z311:Z312)","v":0},{"$f":"SUMIF(N311:N312,N310,AA311:AA312)","v":0},{"$f":"SUMIF(N311:N312,N310,AB311:AB312)","v":0},{"$f":"SUMIF(N311:N312,N310,AC311:AC312)","v":0},{"$f":"SUMIF(N311:N312,N310,AD311:AD312)","v":0},{"$f":"SUMIF(N311:N312,N310,AE311:AE312)","v":0},{"$f":"SUMIF(N311:N312,N310,AF311:AF312)","v":0},{"$f":"SUMIF(N311:N312,N310,AG311:AG312)","v":0},{"$f":"SUMIF(N311:N312,N310,AH311:AH312)","v":0},{"$f":"SUMIF(N311:N312,N310,AI311:AI312)","v":0},{"$f":"SUMIF(N311:N312,N310,AJ311:AJ312)","v":0},{"$f":"SUMIF(N311:N312,N310,AK311:AK312)","v":0},{"$f":"SUMIF(N311:N312,N310,AL311:AL312)","v":0}]
["1",null,null,null,null,null,null,null,null,"4.0"]
["1",{"$f":"A312&\"pIns5\"","v":"1pIns5"},null,null,null,null,null,null,null,null,null,null,"Добавить поставщика"]
["1","L5",null,null,null,null,null,null,null,null,null,5,"Затраты на очистку сточных вод","тыс.руб.",{"$f":"SUMIF(N314:N315,N313,O314:O315)","v":0},{"$f":"SUMIF(N314:N315,N313,P314:P315)","v":0},{"$f":"SUMIF(N314:N315,N313,Q314:Q315)","v":0},{"$f":"SUMIF(N314:N315,N313,R314:R315)","v":0},{"$f":"SUMIF(N314:N315,N313,S314:S315)","v":0},{"$f":"SUMIF(N314:N315,N313,T314:T315)","v":0},{"$f":"SUMIF(N314:N315,N313,U314:U315)","v":0},{"$f":"SUMIF(N314:N315,N313,V314:V315)","v":0},{"$f":"SUMIF(N314:N315,N313,W314:W315)","v":0},{"$f":"SUMIF(N314:N315,N313,X314:X315)","v":0},{"$f":"SUMIF(N314:N315,N313,Y314:Y315)","v":0},{"$f":"SUMIF(N314:N315,N313,Z314:Z315)","v":0},{"$f":"SUMIF(N314:N315,N313,AA314:AA315)","v":0},{"$f":"SUMIF(N314:N315,N313,AB314:AB315)","v":0},{"$f":"SUMIF(N314:N315,N313,AC314:AC315)","v":0},{"$f":"SUMIF(N314:N315,N313,AD314:AD315)","v":0},{"$f":"SUMIF(N314:N315,N313,AE314:AE315)","v":0},{"$f":"SUMIF(N314:N315,N313,AF314:AF315)","v":0},{"$f":"SUMIF(N314:N315,N313,AG314:AG315)","v":0},{"$f":"SUMIF(N314:N315,N313,AH314:AH315)","v":0},{"$f":"SUMIF(N314:N315,N313,AI314:AI315)","v":0},{"$f":"SUMIF(N314:N315,N313,AJ314:AJ315)","v":0},{"$f":"SUMIF(N314:N315,N313,AK314:AK315)","v":0},{"$f":"SUMIF(N314:N315,N313,AL314:AL315)","v":0}]
["1",null,null,null,null,null,null,null,null,"5.0"]
["1",{"$f":"A315&\"pIns5\"","v":"1pIns5"},null,null,null,null,null,null,null,null,null,null,"Добавить поставщика"]
[{"$f":"A312","v":"1"},"L6",null,null,null,null,null,null,null,null,null,6,"Затраты на тепловую энергию","тыс.руб."]
["1","L7",null,null,null,null,null,null,null,null,null,7,"Затраты на теплоноситель","тыс.руб."]
["1","L8",null,null,null,null,null,null,null,null,null,8,"Затраты на горячую воду","тыс.руб."]
["et_List09_org1"]
[{"$f":"OFFSET(A320,-1,0)","v":"et_List09_org1"},"L1",{"$f":"M320","v":0},null,null,null,null,null,null,"1.1","О",{"$f":"J320","v":"1.1"},null,"тыс.руб."]
[{"$f":"A320","v":"et_List09_org1"},"L1_1",{"$f":"C320","v":0},null,null,null,null,null,null,null,null,{"$f":"L320&\".1\"","v":"1.1.1"},"Объём холодной воды (покупка)","тыс.куб.м"]
[{"$f":"A321","v":"et_List09_org1"},"L1_2",{"$f":"C321","v":0},null,null,null,null,null,null,null,null,{"$f":"L320&\".2\"","v":"1.1.2"},"Тариф на холодную воду","руб./куб.м",{"$f":"IF(OR(AND(O320<>0,O321=0),AND(O320=0,O321<>0)),\"Ошибка\",IF(O321=0,0,O320/O321))","v":0},0,0,0,0,0,0,0,0,0,0,0,0,0,0,0,0,0,0,0,0,0,0,0]
["et_List09_org2"]
[{"$f":"OFFSET(A324,-1,0)","v":"et_List09_org2"},"L2",{"$f":"M324","v":0},null,null,null,null,null,null,"2.1","О",{"$f":"J324","v":"2.1"},null,"тыс.руб."]
[{"$f":"A324","v":"et_List09_org2"},"L2_1",{"$f":"C324","v":0},null,null,null,null,null,null,null,null,{"$f":"L324&\".1\"","v":"2.1.1"},"Объём холодной воды (транспортировка)","тыс.куб.м"]
[{"$f":"A325","v":"et_List09_org2"},"L2_2",{"$f":"C325","v":0},null,null,null,null,null,null,null,null,{"$f":"L324&\".2\"","v":"2.1.2"},"Тариф на транспортировку холодной воды","руб./куб.м",{"$f":"IF(OR(AND(O324<>0,O325=0),AND(O324=0,O325<>0)),\"Ошибка\",IF(O325=0,0,O324/O325))","v":0},0,0,0,0,0,0,0,0,0,0,0,0,0,0,0,0,0,0,0,0,0,0,0]
["et_List09_org3"]
[{"$f":"OFFSET(A328,-1,0)","v":"et_List09_org3"},"L3",{"$f":"M328","v":0},null,null,null,null,null,null,"3.1","О",{"$f":"J328","v":"3.1"},null,"тыс.руб."]
[{"$f":"A328","v":"et_List09_org3"},"L3_1",{"$f":"C328","v":0},null,null,null,null,null,null,null,null,{"$f":"L328&\".1\"","v":"3.1.1"},"Объём пропущенных стоков (водоотведение)","тыс.куб.м"]
[{"$f":"A329","v":"et_List09_org3"},"L3_2",{"$f":"C329","v":0},null,null,null,null,null,null,null,null,{"$f":"L328&\".2\"","v":"3.1.2"},"Тариф на водоотведение","руб./куб.м",{"$f":"IF(OR(AND(O328<>0,O329=0),AND(O328=0,O329<>0)),\"Ошибка\",IF(O329=0,0,O328/O329))","v":0},0,0,0,0,0,0,0,0,0,0,0,0,0,0,0,0,0,0,0,0,0,0,0]
["et_List09_org4"]
[{"$f":"OFFSET(A332,-1,0)","v":"et_List09_org4"},"L4",{"$f":"M332","v":0},null,null,null,null,null,null,"4.1","О",{"$f":"J332","v":"4.1"},null,"тыс.руб."]
[{"$f":"A332","v":"et_List09_org4"},"L4_1",{"$f":"C332","v":0},null,null,null,null,null,null,null,null,{"$f":"L332&\".1\"","v":"4.1.1"},"Объём пропущенных стоков (транспортировка)","тыс.куб.м"]
[{"$f":"A333","v":"et_List09_org4"},"L4_2",{"$f":"C333","v":0},null,null,null,null,null,null,null,null,{"$f":"L332&\".2\"","v":"4.1.2"},"Тариф на транспортировку стоков","руб./куб.м",{"$f":"IF(OR(AND(O332<>0,O333=0),AND(O332=0,O333<>0)),\"Ошибка\",IF(O333=0,0,O332/O333))","v":0},0,0,0,0,0,0,0,0,0,0,0,0,0,0,0,0,0,0,0,0,0,0,0]
["et_List09_org5"]
[{"$f":"OFFSET(A336,-1,0)","v":"et_List09_org5"},"L5",{"$f":"M336","v":0},null,null,null,null,null,null,"5.1","О",{"$f":"J336","v":"5.1"},null,"тыс.руб."]
[{"$f":"A336","v":"et_List09_org5"},"L5_1",{"$f":"C336","v":0},null,null,null,null,null,null,null,null,{"$f":"L336&\".1\"","v":"5.1.1"},"Объём пропущенных стоков (очистка)","тыс.куб.м"]
[{"$f":"A337","v":"et_List09_org5"},"L5_2",{"$f":"C337","v":0},null,null,null,null,null,null,null,null,{"$f":"L336&\".2\"","v":"5.1.2"},"Тариф на очистку стоков","руб./куб.м",{"$f":"IF(OR(AND(O336<>0,O337=0),AND(O336=0,O337<>0)),\"Ошибка\",IF(O337=0,0,O336/O337))","v":0},0,0,0,0,0,0,0,0,0,0,0,0,0,0,0,0,0,0,0,0,0,0,0]
[]
["10. Налоги"]
["et_List10_tariff"]
["1",null,null,null,null,null,null,null,null,null,null,{"$f":"INDEX('Общие сведения'!$J$121:$J$148,MATCH($A342,'Общие сведения'!$D$121:$D$148,0))","v":"Тариф 1 (Водоснабжение) - тариф на питьевую воду"}]
[{"$f":"A342","v":"1"},"L0",null,null,null,null,null,null,null,null,null,0,"Налоги и платежи, относимые на указанный вид деятельности","тыс.руб.",{"$f":"SUM(O344:O352)","v":0},{"$f":"SUM(P344:P352)","v":0},0,0,0,0,0,0,0,0,0,0,0,0,0,0,0,0,0,0,0,0,0,0]
["1","L1",null,null,null,null,null,null,null,null,null,"1","Транспортный налог","тыс.руб."]
["1","L2",null,null,null,null,null,null,null,null,null,"2","Земельный налог","тыс.руб."]
["1","L3",null,null,null,null,null,null,null,null,null,"3","Плата за негативное воздействие на окружающую среду","тыс.руб."]
["1","L4",null,null,null,null,null,null,null,null,null,4,"Водный налог","тыс.руб."]
["1","L5",null,null,null,null,null,null,null,null,null,"5","Плата за пользование водным объектом","тыс.руб."]
["1","L6",null,null,null,null,null,null,null,null,null,"6","Налог на имущество","тыс.руб."]
["1","L7",null,null,null,null,null,null,null,null,null,"7","Налог на прибыль","тыс.руб."]
["1","L8",null,null,null,null,null,null,null,null,null,"8","Единый налог при упрощенной системе налогообложения","тыс.руб."]
[{"$f":"A350","v":"1"},"L9",null,null,null,null,null,null,null,null,null,9,"Прочие налоги и сборы","тыс.руб.",{"$f":"SUM(O353:O354)","v":0},{"$f":"SUM(P353:P354)","v":0},0,0,0,0,0,0,0,0,0,0,0,0,0,0,0,0,0,0,0,0,0,0]
["1",null,null,null,null,null,null,null,null,null,null,"9.0"]
["1",{"$f":"A354&\"pIns\"","v":"1pIns"},null,null,null,null,null,null,null,null,null,null,"Добавить"]
["et_List10_nalog"]
[{"$f":"A355","v":"et_List10_nalog"},"L9",{"$f":"M356","v":0},null,null,null,null,null,null,null,"О","1",null,"тыс.руб."]
[]
["11. ИП + источники"]
["et_List11_tariff"]
["1",{"$f":"'ИП + источники'!$N$14<>\"да\"","v":true},null,null,null,null,null,null,null,null,null,{"$f":"INDEX('Общие сведения'!$J$121:$J$148,MATCH($A360,'Общие сведения'!$D$121:$D$148,0))","v":"Тариф 1 (Водоснабжение) - тариф на питьевую воду"}]
[{"$f":"A360","v":"1"},{"$f":"'ИП + источники'!$N$14<>\"да\"","v":true},"L1",null,null,null,null,null,null,null,null,1,"Источники финансирования инвестиционной программы, всего","тыс.руб.",{"$f":"O362+O367+O371+O375","v":0},{"$f":"P362+P367+P371+P375","v":0},0,0,0,0,0,0,0,0,0,0,0,0,0,0,0,0,0,0,0,0,0,0,0,0]
["1",{"$f":"'ИП + источники'!$N$14<>\"да\"","v":true},"L1_1",null,null,null,null,null,null,null,null,"1.1","Собственные средства","тыс.руб.",{"$f":"O363+O364+O365+O366","v":0},{"$f":"P363+P364+P365+P366","v":0},0,0,0,0,0,0,0,0,0,0,0,0,0,0,0,0,0,0,0,0,0,0,0,0]
["1",{"$f":"'ИП + источники'!$N$14<>\"да\"","v":true},"L1_1_1",null,null,null,null,null,null,null,null,"1.1.1","Амортизационные отчисления","тыс.руб."]
["1",{"$f":"'ИП + источники'!$N$14<>\"да\"","v":true},"L1_1_2",null,null,null,null,null,null,null,null,"1.1.2","Прибыль на капвложения","тыс.руб."]
["1",{"$f":"'ИП + источники'!$N$14<>\"да\"","v":true},"L1_1_3",null,null,null,null,null,null,null,null,"1.1.3","Прочие собственные средства","тыс.руб."]
["1",{"$f":"'ИП + источники'!$N$14<>\"да\"","v":true},"L1_1_4",null,null,null,null,null,null,null,null,"1.1.4","За счет платы за технологическое присоединение","тыс.руб."]
["1",{"$f":"'ИП + источники'!$N$14<>\"да\"","v":true},"L1_2",null,null,null,null,null,null,null,null,"1.2","Привлеченные средства","тыс.руб.",{"$f":"O368+O369+O370","v":0},{"$f":"P368+P369+P370","v":0},0,0,0,0,0,0,0,0,0,0,0,0,0,0,0,0,0,0,0,0,0,0,0,0]
["1",{"$f":"'ИП + источники'!$N$14<>\"да\"","v":true},"L1_2_1",null,null,null,null,null,null,null,null,"1.2.1","Кредиты","тыс.руб."]
["1",{"$f":"'ИП + источники'!$N$14<>\"да\"","v":true},"L1_2_2",null,null,null,null,null,null,null,null,"1.2.2","Займы","тыс.руб."]
["1",{"$f":"'ИП + источники'!$N$14<>\"да\"","v":true},"L1_2_3",null,null,null,null,null,null,null,null,"1.2.3","Прочие привлеченные средства","тыс.руб."]
["1",{"$f":"'ИП + источники'!$N$14<>\"да\"","v":true},"L1_3",null,null,null,null,null,null,null,null,"1.3","Бюджетное финансирование","тыс.руб.",{"$f":"O372+O373+O374","v":0},{"$f":"P372+P373+P374","v":0},0,0,0,0,0,0,0,0,0,0,0,0,0,0,0,0,0,0,0,0,0,0,0,0]
["1",{"$f":"'ИП + источники'!$N$14<>\"да\"","v":true},"L1_3_1",null,null,null,null,null,null,null,null,"1.3.1","Федеральный бюджет","тыс.руб."]
["1",{"$f":"'ИП + источники'!$N$14<>\"да\"","v":true},"L1_3_2",null,null,null,null,null,null,null,null,"1.3.2","Бюджет субъекта РФ","тыс.руб."]
["1",{"$f":"'ИП + источники'!$N$14<>\"да\"","v":true},"L1_3_3",null,null,null,null,null,null,null,null,"1.3.3","Бюджет муниципального образования","тыс.руб."]
["1",{"$f":"'ИП + источники'!$N$14<>\"да\"","v":true},"L1_4",null,null,null,null,null,null,null,null,"1.4","Прочие источники финансирования","тыс.руб.",{"$f":"O376+O377+O378+O379","v":0},{"$f":"P376+P377+P378+P379","v":0},0,0,0,0,0,0,0,0,0,0,0,0,0,0,0,0,0,0,0,0,0,0,0,0]
["1",{"$f":"'ИП + источники'!$N$14<>\"да\"","v":true},"L1_4_1",null,null,null,null,null,null,null,null,"1.4.1","Лизинг","тыс.руб."]
["1",{"$f":"'ИП + источники'!$N$14<>\"да\"","v":true},"L1_4_2",null,null,null,null,null,null,null,null,"1.4.2","Доход от взимания платы за нарушение нормативов по объёму и (или) составу сточных вод","тыс.руб."]
["1",{"$f":"'ИП + источники'!$N$14<>\"да\"","v":true},"L1_4_3",null,null,null,null,null,null,null,null,"1.4.3","Доход от взимания платы за негативное воздействие на работу централизованной системы водоотведения","тыс.руб."]
["1",{"$f":"'ИП + источники'!$N$14<>\"да\"","v":true},"L1_4_4",null,null,null,null,null,null,null,null,"1.4.4","Прочие","тыс.руб."]
["1",{"$f":"'ИП + источники'!$N$14<>\"да\"","v":true},"L2",null,null,null,null,null,null,null,null,"2","График возврата и обслуживания заемных средств из тарифной выручки","тыс.руб.",{"$f":"O381+O382+O383","v":0},{"$f":"P381+P382+P383","v":0},0,0,0,0,0,0,0,0,0,0,0,0,0,0,0,0,0,0,0,0,0,0,0,0]
["1",{"$f":"'ИП + источники'!$N$14<>\"да\"","v":true},"L2_1",null,null,null,null,null,null,null,null,"2.1","погашение займов и кредитов из нормативной прибыли","тыс.руб."]
["1",{"$f":"'ИП + источники'!$N$14<>\"да\"","v":true},"L2_2",null,null,null,null,null,null,null,null,"2.2","уплата процентов по кредитам из нормативной прибыли","тыс.руб."]
["1",{"$f":"'ИП + источники'!$N$14<>\"да\"","v":true},"L2_3",null,null,null,null,null,null,null,null,"2.3","погашение займов и кредитов из амортизации","тыс.руб."]
[]
["12. Экономия_корр"]
["et_List12_tariff"]
["1",null,null,null,null,null,null,null,null,null,null,{"$f":"INDEX('Общие сведения'!$J$121:$J$148,MATCH($A387,'Общие сведения'!$D$121:$D$148,0))","v":"Тариф 1 (Водоснабжение) - тариф на питьевую воду"}]
[{"$f":"A387","v":"1"},"L1",null,null,null,null,null,null,null,null,null,"1","Экономия расходов всего","тыс.руб.",{"$f":"O389+O390+O391","v":0},0,0,0,0,0,0,0,0,0,0,0,0,0,0,0,0,0,0,0]
["1","L1_1",null,null,null,null,null,null,null,null,null,"1.1","Экономия операционных расходов","тыс.руб."]
["1","L1_2",null,null,null,null,null,null,null,null,null,"1.2","Экономия от снижения потребления электрической энергии (мощности)","тыс.руб."]
["1","L1_3",null,null,null,null,null,null,null,null,null,"1.3","Экономия от снижения потребления прочих энергетических ресурсов, холодной воды, теплоносителя","тыс.руб."]
["1","L2",null,null,null,null,null,null,null,null,null,"2","Значение индекса потребительских цен","%",{"$f":"SUMIFS(Сценарии!$T$15:$T$53,Сценарии!$A$15:$A$53,$A392,Сценарии!$M$15:$M$53,\"Индекс потребительских цен\")","v":0},{"$f":"SUMIFS(Сценарии!$Y$15:$Y$53,Сценарии!$A$15:$A$53,$A392,Сценарии!$M$15:$M$53,\"Индекс потребительских цен\")","v":4},{"$f":"SUMIFS(Сценарии!$AA$15:$AA$53,Сценарии!$A$15:$A$53,$A392,Сценарии!$M$15:$M$53,\"Индекс потребительских цен\")","v":4},{"$f":"SUMIFS(Сценарии!$AC$15:$AC$53,Сценарии!$A$15:$A$53,$A392,Сценарии!$M$15:$M$53,\"Индекс потребительских цен\")","v":4},{"$f":"SUMIFS(Сценарии!$AE$15:$AE$53,Сценарии!$A$15:$A$53,$A392,Сценарии!$M$15:$M$53,\"Индекс потребительских цен\")","v":4},{"$f":"SUMIFS(Сценарии!$AG$15:$AG$53,Сценарии!$A$15:$A$53,$A392,Сценарии!$M$15:$M$53,\"Индекс потребительских цен\")","v":0},{"$f":"SUMIFS(Сценарии!$AI$15:$AI$53,Сценарии!$A$15:$A$53,$A392,Сценарии!$M$15:$M$53,\"Индекс потребительских цен\")","v":0},{"$f":"SUMIFS(Сценарии!$AK$15:$AK$53,Сценарии!$A$15:$A$53,$A392,Сценарии!$M$15:$M$53,\"Индекс потребительских цен\")","v":0},{"$f":"SUMIFS(Сценарии!$AM$15:$AM$53,Сценарии!$A$15:$A$53,$A392,Сценарии!$M$15:$M$53,\"Индекс потребительских цен\")","v":0},{"$f":"SUMIFS(Сценарии!$AO$15:$AO$53,Сценарии!$A$15:$A$53,$A392,Сценарии!$M$15:$M$53,\"Индекс потребительских цен\")","v":0},{"$f":"SUMIFS(Сценарии!$U$15:$U$53,Сценарии!$A$15:$A$53,$A392,Сценарии!$M$15:$M$53,\"Индекс потребительских цен\")","v":7.2},{"$f":"SUMIFS(Сценарии!$Z$15:$Z$53,Сценарии!$A$15:$A$53,$A392,Сценарии!$M$15:$M$53,\"Индекс потребительских цен\")","v":4.2},{"$f":"SUMIFS(Сценарии!$AB$15:$AB$53,Сценарии!$A$15:$A$53,$A392,Сценарии!$M$15:$M$53,\"Индекс потребительских цен\")","v":4},{"$f":"SUMIFS(Сценарии!$AD$15:$AD$53,Сценарии!$A$15:$A$53,$A392,Сценарии!$M$15:$M$53,\"Индекс потребительских цен\")","v":4},{"$f":"SUMIFS(Сценарии!$AF$15:$AF$53,Сценарии!$A$15:$A$53,$A392,Сценарии!$M$15:$M$53,\"Индекс потребительских цен\")","v":4},{"$f":"SUMIFS(Сценарии!$AH$15:$AH$53,Сценарии!$A$15:$A$53,$A392,Сценарии!$M$15:$M$53,\"Индекс потребительских цен\")","v":0},{"$f":"SUMIFS(Сценарии!$AJ$15:$AJ$53,Сценарии!$A$15:$A$53,$A392,Сценарии!$M$15:$M$53,\"Индекс потребительских цен\")","v":0},{"$f":"SUMIFS(Сценарии!$AL$15:$AL$53,Сценарии!$A$15:$A$53,$A392,Сценарии!$M$15:$M$53,\"Индекс потребительских цен\")","v":0},{"$f":"SUMIFS(Сценарии!$AN$15:$AN$53,Сценарии!$A$15:$A$53,$A392,Сценарии!$M$15:$M$53,\"Индекс потребительских цен\")","v":0},{"$f":"SUMIFS(Сценарии!$AP$15:$AP$53,Сценарии!$A$15:$A$53,$A392,Сценарии!$M$15:$M$53,\"Индекс потребительских цен\")","v":0}]
["1","L3",null,null,null,null,null,null,null,null,null,3,"Кумулятивное значение индекса потребительских цен","%",{"$f":"O392","v":0},{"$f":"O393*P392/100","v":0},{"$f":"P393*Q392/100","v":0},0,0,0,0,0,0,0,0,0,0,0,0,0,0,0,0,0]
["1","L4",null,null,null,null,null,null,null,null,null,"4","Экономия расходов с учетом ИПЦ","тыс.руб.",{"$f":"O388*O393/100","v":0},{"$f":"P388*P393/100","v":0},0,0,0,0,0,0,0,0,0,0,0,0,0,0,0,0,0,0]
[]
["13. Плата за негативное возд"]
["et_List13_tariff"]
["1",null,null,null,null,null,null,null,null,null,null,{"$f":"INDEX('Общие сведения'!$J$121:$J$148,MATCH($A398,'Общие сведения'!$D$121:$D$148,0))","v":"Тариф 1 (Водоснабжение) - тариф на питьевую воду"},null,null,{"$f":"O399+O400","v":0},0,0,0,0,0,0,0]
[{"$f":"A398","v":"1"},"L1",null,null,null,null,null,null,null,null,null,"1","Доходы регулируемой организации от взимания платы за нарушение нормативов по объёму и (или) составу сточных вод","тыс.руб.",null,null,null,null,null,null,null,{"$f":"O399-P399-Q399-R399-S399-T399-U399","v":0}]
[{"$f":"A399","v":"1"},"L2",null,null,null,null,null,null,null,null,null,"2","Доходы от взимания платы за негативное воздействие на работу централизованной системы водоотведения","тыс.руб.",null,null,null,null,null,null,null,{"$f":"O400-P400-Q400-R400-S400-T400-U400","v":0}]
[]
["14. Корректировка НВВ"]
["et_List14_tariff"]
["1",{"$f":"INDEX('Общие сведения'!$H$121:$H$148,MATCH($A404,'Общие сведения'!$D$121:$D$148,0))","v":"Водоснабжение"},null,null,null,null,null,null,null,null,null,{"$f":"INDEX('Общие сведения'!$J$121:$J$148,MATCH($A404,'Общие сведения'!$D$121:$D$148,0))","v":"Тариф 1 (Водоснабжение) - тариф на питьевую воду"}]
[{"$f":"A404","v":"1"},null,null,"L1",null,null,null,null,null,null,null,"I","Расчет размера корректировки необходимой валовой выручки по результатам деятельности прошлых периодов регулирования, а также осуществляемой с целью учета отклонения фактических значений параметров расчета тарифов от значений, учтенных при установлении","ΔHBBKi-2","тыс.руб.",{"$f":"P407-P406","v":1.5},{"$f":"Q407-Q406","v":3144.5089349926866}]
[{"$f":"A405","v":"1"},null,null,"L1_1",null,null,null,null,null,null,null,"1","Товарная выручка","ТВФi-2","тыс.руб."]
["1",null,null,"L1_2",null,null,null,null,null,null,null,"2","Скорректированная фактическая величина необходимой валовой выручки","HBBФi-2","тыс.руб.",{"$f":"P408+P409+P421+P425+P426+P427+P428+P432","v":1.5},{"$f":"Q408+Q409+Q421+Q425+Q426+Q427+Q428+Q432","v":3144.5089349926866}]
["1",null,null,"L1_2_1",null,null,null,null,null,null,null,"2.1","Операционные расходы, определенные на (i-2)-й год исходя из фактических значений параметров расчета тарифов","ОРФi-2","тыс.руб."]
["1",null,null,"L1_2_2",null,null,null,null,null,null,null,"2.2","фактические документально подтвержденные неподконтрольные расходы, в том числе:","Н РФi-2","тыс.руб.",{"$f":"SUM(P410:P420)","v":1.5},{"$f":"SUM(Q410:Q420)","v":8.3000000000000007}]
["1",null,null,"L1_2_2_1",null,null,null,null,null,null,null,"2.2.1","расходы на оплату товаров (услуг, работ), приобретаемых у других организаций, осуществляющих регулируемые виды деятельности;",null,"тыс.руб.",{"$f":"SUMIFS(Покупка!P$15:P$54,Покупка!$A$15:$A$54,$A410,Покупка!$B$15:$B$54,\"Итого\")","v":0},{"$f":"SUMIFS(Покупка!Q$15:Q$54,Покупка!$A$15:$A$54,$A410,Покупка!$B$15:$B$54,\"Итого\")","v":0}]
["1",null,null,"L1_2_2_2",null,null,null,null,null,null,null,"2.2.2","расходы на реагенты",null,"тыс.руб.",null,{"$f":"SUMIFS(Реагенты!Q$15:Q$29,Реагенты!$A$15:$A$29,$A411,Реагенты!$M$15:$M$29,\"Всего по тарифу\")","v":0}]
["1",null,null,"L1_2_2_3",null,null,null,null,null,null,null,"2.2.3","расходы на уплату налогов, сборов и других обязательных платежей",null,"тыс.руб.",{"$f":"SUMIFS(Налоги!P$15:P$42,Налоги!$A$15:$A$42,$A412,Налоги!$L$15:$L$42,\"0\")","v":1.5},{"$f":"SUMIFS(Налоги!Q$15:Q$42,Налоги!$A$15:$A$42,$A412,Налоги!$L$15:$L$42,\"0\")","v":1.5}]
["1","Расходы на мероприятия по защите централизованных систем водоснабжения",null,"L1_2_2_4",null,null,null,null,null,null,null,"2.2.4","Расходы на мероприятия по защите централизованных систем водоснабжения и (или) водоотведения и их отдельных объектов от угроз техногенного, природного характера и террористических актов, по предотвращению возникновения аварийных ситуаций, снижению риска и смягчению последствий чрезвычайных ситуаций (за исключением мероприятий, включенных в инвестиционную программу)",null,"тыс.руб.",null,{"$f":"SUMIFS(Калькуляция!Q$15:Q$268,Калькуляция!$A$15:$A$268,$A413,Калькуляция!$B$15:$B$268,$B413)","v":0}]
["1","Арендная и концессионная плата, лизинговые платежи",null,"L1_2_2_5",null,null,null,null,null,null,null,"2.2.5","расходы на арендную и концессионную плату, лизинговые платежи",null,"тыс.руб.",null,{"$f":"SUMIFS(Калькуляция!Q$15:Q$268,Калькуляция!$A$15:$A$268,$A414,Калькуляция!$B$15:$B$268,$B414)","v":6.8}]
["1","резерв по сомнительным долгам гарантирующей организации",null,"L1_2_2_6",null,null,null,null,null,null,null,"2.2.6","расходы по сомнительным долгам для гарантирующей организации",null,"тыс.руб.",null,{"$f":"SUMIFS(Калькуляция!Q$15:Q$268,Калькуляция!$A$15:$A$268,$A415,Калькуляция!$B$15:$B$268,$B415)","v":0}]
["1","Экономия расходов",null,"L1_2_2_7",null,null,null,null,null,null,null,"2.2.7","экономия средств, достигнутая в результате снижения расходов предыдущего долгосрочного периода регулирования",null,"тыс.руб.",null,{"$f":"SUMIFS(Калькуляция!Q$15:Q$268,Калькуляция!$A$15:$A$268,$A416,Калькуляция!$B$15:$B$268,$B416)","v":0}]
["1","Расходы на обслуживание бесхозяйных сетей",null,"L1_2_2_8",null,null,null,null,null,null,null,"2.2.8","расходы на обслуживание бесхозяйных сетей, эксплуатируемых регулируемой организацией",null,"тыс.руб.",null,{"$f":"SUMIFS(Калькуляция!Q$15:Q$268,Калькуляция!$A$15:$A$268,$A417,Калькуляция!$B$15:$B$268,$B417)","v":0}]
["1","Расходы на компенсацию экономически обоснованных расходов",null,"L1_2_2_9",null,null,null,null,null,null,null,"2.2.9","расходы на компенсацию экономически обоснованных расходов (выпадающих доходов прошлых периодов)",null,"тыс.руб.",null,{"$f":"SUMIFS(Калькуляция!Q$15:Q$268,Калькуляция!$A$15:$A$268,$A418,Калькуляция!$B$15:$B$268,$B418)","v":0}]
["1","Займы и кредиты (для метода индексации)",null,"L1_2_2_10",null,null,null,null,null,null,null,"2.2.10","расходы на займы и кредиты (для метода индексации)",null,"тыс.руб.",null,{"$f":"SUMIFS(Калькуляция!Q$15:Q$268,Калькуляция!$A$15:$A$268,$A419,Калькуляция!$B$15:$B$268,$B419)","v":0}]
["1","Расходы концессионера на осуществление государственного кадастрового учета",null,"L1_2_2_11",null,null,null,null,null,null,null,"2.2.11","расходы концессионера на осуществление государственного кадастрового учета и (или) государственной регистрации права собственности концедента",null,"тыс.руб.",null,{"$f":"SUMIFS(Калькуляция!Q$15:Q$268,Калькуляция!$A$15:$A$268,$A420,Калькуляция!$B$15:$B$268,$B420)","v":0}]
["1",null,null,"L1_2_3",null,null,null,null,null,null,null,"2.3","расходы на электрическую энергию","РТФi-2","тыс.руб.",{"$f":"P422*P423*P424","v":0},{"$f":"Q422*Q423*Q424","v":2692.0284749926864}]
["1",null,null,"L1_2_3_1",null,null,null,null,null,null,null,"2.3.1","удельное потребление электрической энергии, установленное на соответствующий год","УПЭФi-2","кВтч/куб.м.",null,{"$f":"SUMIFS(ЭЭ!O$15:O$42,ЭЭ!$A$15:$A$42,$A422,ЭЭ!$M$15:$M$42,\"Удельный расход электроэнергии\")","v":1.2400000000000002}]
["1",null,null,"L1_2_3_2",null,null,null,null,null,null,null,"2.3.2","фактический объём поданной воды (принятых сточных вод)","Q ф i-2","тыс.куб.м.",null,{"$f":"SUMIFS(ЭЭ!Q$15:Q$42,ЭЭ!$A$15:$A$42,$A423,ЭЭ!$M$15:$M$42,\"Объём воды/сточных вод\")","v":560.22500000000002}]
["1",null,null,"L1_2_3_3",null,null,null,null,null,null,null,"2.3.3","фактическая (расчетная) цена на электрическую энергию, определяемая в i-2 году","ЦТ ф i-2","руб./кВтч",null,{"$f":"SUMIFS(ЭЭ!Q$15:Q$42,ЭЭ!$A$15:$A$42,$A424,ЭЭ!$M$15:$M$42,\"Средний (расчетный) тариф\")","v":3.875212112346401}]
["1","амортизация",null,"L1_2_4",null,null,null,null,null,null,null,"2.4","расходы на амортизацию в (i-2)-м году, определенные исходя из фактического состава имущества в (i-2)-м году","АФi-2","тыс.руб.",null,{"$f":"SUMIFS(Калькуляция!Q$15:Q$268,Калькуляция!$A$15:$A$268,$A425,Калькуляция!$B$15:$B$268,$B425)","v":235.18046000000001}]
["1",null,null,"L1_2_5",null,null,null,null,null,null,null,"2.5","величина нормативной прибыли","ПРi-2","тыс.руб.",null,{"$f":"SUMIFS(Калькуляция!O$15:O$268,Калькуляция!$A$15:$A$268,$A426,Калькуляция!$B$15:$B$268,\"Нормативная прибыль\")-SUMIFS(Калькуляция!O$15:O$268,Калькуляция!$A$15:$A$268,$A426,Калькуляция!$B$15:$B$268,\"иные экономически обоснованные расходы на социальные нужды\")+SUMIFS(Калькуляция!Q$15:Q$268,Калькуляция!$A$15:$A$268,$A426,Калькуляция!$B$15:$B$268,\"иные экономически обоснованные расходы на социальные нужды\")","v":209}]
["1","Расчетная предпринимательская прибыль гарантирующей организации",null,"L1_2_6",null,null,null,null,null,null,null,"2.6","расчетная предпринимательская прибыль гарантирующей организации","ПРГО Фi-2","тыс.руб.",null,{"$f":"SUMIFS(Калькуляция!Q$15:Q$268,Калькуляция!$A$15:$A$268,$A427,Калькуляция!$B$15:$B$268,$B427)","v":0}]
["1",null,null,"L1_2_7_0",null,null,null,null,null,null,null,"2.7","размер корректировки необходимой валовой выручки, учтенной при регулирования на год i-2",null,"тыс.руб."]
["1",null,null,"L1_2_7",null,null,null,null,null,null,null,"2.7.1","величина отклонения показателя ввода объектов системы водоснабжения и (или) водоотведения в эксплуатацию и изменения инвестиционной программы","ΔИi-4","тыс.руб."]
["1",null,null,"L1_2_8",null,null,null,null,null,null,null,"2.7.2","степень исполнения регулируемой организацией производственной программы","ΔЦПi-4","тыс.руб."]
["1",null,null,"L1_2_10",null,null,null,null,null,null,null,"2.7.3","размер корректировки необходимой валовой выручки по результатам деятельности прошлых периодов регулирования, а также осуществляемой с целью учета отклонения фактических значений параметров расчета тарифов от значений, учтенных при установлении","ΔHBBKi-4","тыс.руб."]
["1",null,null,"L1_2_9",null,null,null,null,null,null,null,"2.9","величина изменения необходимой валовой выручки в году i-2, проводимого в целях сглаживания"," ΔHBBСi-2","тыс.руб."]
["1",null,null,"L2",null,null,null,null,null,null,null,"II","Расчет размера корректировки необходимой валовой выручки, в случае если на i-2 год применялся метод экономически обоснованных расходов","ΔHBBKi-2","тыс.руб.",{"$f":"P434","v":0},{"$f":"Q434","v":0}]
["1",null,null,"L2_1",null,null,null,null,null,null,null,"1","Величина, определяющая результаты деятельности регулируемой организации до перехода к регулированию цен (тарифов) на основе долгосрочных параметров регулирования","ΔРЕЗi-2","тыс.руб.",{"$f":"P435+P436","v":0},{"$f":"Q435+Q436","v":0}]
["1",null,null,"L2_1_1",null,null,null,null,null,null,null,"1.1","экономически обоснованные расходы регулируемой организации, понесенные в периоды регулирования, предшествовавшие переходу к регулированию цен (тарифов) на основе долгосрочных параметров регулирования и не возмещенные регулируемой организации (не учтенные в тарифах)","ΔРЕЗ+i-2","тыс.руб."]
["1",null,null,"L2_1_2",null,null,null,null,null,null,null,"1.2","доходы регулируемой организации, необоснованно полученные в периоды регулирования, предшествовавшие переходу к регулированию цен (тарифов) на основе долгосрочных параметров регулирования","ΔРЕЗ-i-2","тыс.руб."]
["1",null,null,"L3",null,null,null,null,null,null,null,"III","Величина отклонения показателя ввода объектов системы водоснабжения и (или) водоотведения в эксплуатацию и изменения инвестиционной программы","ΔИi-2","тыс.руб."]
["1",null,null,"L4",null,null,null,null,null,null,null,"IV","Степень исполнения регулируемой организацией обязательств по созданию и (или) реконструкции объектов концессионного соглашения, по эксплуатации объектов по договору аренды централизованных систем горячего водоснабжения, холодного водоснабжения и (или) водоотведения, отдельных объектов таких систем, находящихся в государственной или муниципальной собственности, по реализации инвестиционной программы, производственной программы при недостижении регулируемой организацией утверждённых плановых значений показателей надежности и качества объектов централизованных систем водоснабжения и (или) водоотведения (корректировка по показателям надежности и качества)","ΔЦПi-2","тыс.руб."]
["1",null,{"$f":"B404=\"Водоотведение\"","v":false},"L5",null,null,null,null,null,null,null,"V","Доходы от взимания платы за нарушение нормативов по объёму и (или) составу сточных вод, за исключением направленных целевым образом на внесение платы за негативное воздействие на окружающую среду, компенсацию вреда, причиненного водному объекту, и финансирование мероприятий инвестиционной программы по строительству, реконструкции и модернизации объектов централизованной системы водоотведения (в соответствии с п.14 Методических указаний)",null,"тыс.руб.",null,{"$f":"IFERROR(SUMIFS('Плата за негативное возд'!$V$14:$V$18,'Плата за негативное возд'!$A$14:$A$18,A439,'Плата за негативное возд'!$L$14:$L$18,\"1\"),0)","v":0}]
["1",null,{"$f":"B404=\"Водоотведение\"","v":false},"L6",null,null,null,null,null,null,null,"VI","Доходы от взимания платы за негативное воздействие на централизованную систему водоотведения, за исключением направленных целевым образом на финансирование мероприятий инвестиционной и (или) производственной программы регулируемой организации (в соответствии с п.14 Методических указаний)",null,"тыс.руб.",null,{"$f":"IFERROR(SUMIFS('Плата за негативное возд'!$V$14:$V$18,'Плата за негативное возд'!$A$14:$A$18,A440,'Плата за негативное возд'!$L$14:$L$18,\"2\"),0)","v":0}]
["1",null,null,"L7",null,null,null,null,null,null,null,"VII","Недополученные доходы / Выпадающие расходы",null,"тыс.руб."]
["1",null,null,"L8",null,null,null,null,null,null,null,"VIII","Избыток средств, полученный за отчётные периоды регулирования",null,"тыс.руб.",{"$f":"P443+P444","v":0},{"$f":"Q443+Q444","v":0}]
["1",null,null,"L8_1",null,null,null,null,null,null,null,1,"Экономически не обоснованные доходы / расходы прошлых периодов регулирования",null,"тыс.руб."]
["1",null,null,"L8_2",null,null,null,null,null,null,null,2,"Бюджетные субсидии, полученные на финансирование расходов, учтенных в тарифах",null,"тыс.руб."]
["1",null,null,"L9",null,null,null,null,null,null,null,"IX","Величина отклонения по результатам досудебного рассмотрения споров",null,"тыс.руб."]
["1",null,null,"L10",null,null,null,null,null,null,null,"X","Величина отклонения по результатам рассмотрения разногласий",null,"тыс.руб."]
["1",null,null,"L11",null,null,null,null,null,null,null,"XI","Корректировка НВВ всего",null,"тыс.руб.",{"$f":"P405+P437+P438+P439+P440+P441+P442+P445+P446","v":1.5},{"$f":"Q405+Q437+Q438+Q439+Q440+Q441+Q442+Q445+Q446","v":3144.5089349926866}]
[]
["15. Калькуляция"]
["et_List15_tariff"]
["1",{"$f":"INDEX('Общие сведения'!$N$121:$N$148,MATCH($A451,'Общие сведения'!$D$121:$D$148,0))","v":"одноставочный"},null,{"$f":"INDEX('Общие сведения'!$H$121:$H$148,MATCH($A451,'Общие сведения'!$D$121:$D$148,0))","v":"Водоснабжение"},null,null,null,null,null,null,null,{"$f":"INDEX('Общие сведения'!$J$121:$J$148,MATCH($A451,'Общие сведения'!$D$121:$D$148,0))","v":"Тариф 1 (Водоснабжение) - тариф на питьевую воду"}]
[{"$f":"A451","v":"1"},null,null,"L1",null,null,null,null,null,null,null,"1","Операционные расходы","тыс.руб.",{"$f":"SUM(O454,O471,O477,O497,O498,O499)","v":3368.1497396579548},{"$f":"SUM(P454,P471,P477,P497,P498,P499)","v":5259.9565599999996},{"$f":"SUM(Q454,Q471,Q477,Q497,Q498,Q499)","v":5603.5192619999998},{"$f":"Q452-P452","v":343.56270200000017},{"$f":"SUM(S454,S471,S477,S497,S498,S499)","v":3885.3524476581015},{"$f":"SUM(T454,T471,T477,T497,T498,T499)","v":6224.8095744511993},{"$f":"T452*U453","v":{"$error":"#N/A"}},{"$error":"#N/A"},{"$error":"#N/A"},{"$error":"#N/A"},{"$error":"#N/A"},{"$error":"#N/A"},{"$error":"#N/A"},{"$error":"#N/A"},{"$error":"#N/A"},{"$f":"SUM(AD454,AD471,AD477,AD497,AD498,AD499)","v":5492.4374370434916},{"$f":"AD452*AE453","v":{"$error":"#N/A"}},{"$error":"#N/A"},{"$error":"#N/A"},{"$error":"#N/A"},{"$error":"#N/A"},{"$error":"#N/A"},{"$error":"#N/A"},{"$error":"#N/A"},{"$error":"#N/A"},{"$f":"IF(S452=0,0,(AD452-S452)/S452*100)","v":41.362656568107781},{"$f":"IF(AD452=0,0,(AE452-AD452)/AD452*100)","v":{"$error":"#N/A"}},{"$error":"#N/A"},{"$error":"#N/A"},{"$error":"#N/A"},{"$error":"#N/A"},{"$error":"#N/A"},{"$error":"#N/A"},{"$error":"#N/A"},{"$error":"#N/A"}]
[{"$f":"A452","v":"1"},null,null,"L1_1",null,null,null,null,null,null,null,"1.1","коэффициент индекса операционных расходов",null,null,null,null,0,null,null,{"$f":"SUMIFS(INDEX(Сценарии!$O$15:$AP$53,,MATCH(U$3,Сценарии!$O$3:$AP$3,0)),Сценарии!$A$15:$A$53,$A453,Сценарии!$B$15:$B$53,\"ИОР\")","v":{"$error":"#N/A"}},{"$f":"SUMIFS(INDEX(Сценарии!$O$15:$AP$53,,MATCH(V$3,Сценарии!$O$3:$AP$3,0)),Сценарии!$A$15:$A$53,$A453,Сценарии!$B$15:$B$53,\"ИОР\")","v":{"$error":"#N/A"}},{"$f":"SUMIFS(INDEX(Сценарии!$O$15:$AP$53,,MATCH(W$3,Сценарии!$O$3:$AP$3,0)),Сценарии!$A$15:$A$53,$A453,Сценарии!$B$15:$B$53,\"ИОР\")","v":{"$error":"#N/A"}},{"$f":"SUMIFS(INDEX(Сценарии!$O$15:$AP$53,,MATCH(X$3,Сценарии!$O$3:$AP$3,0)),Сценарии!$A$15:$A$53,$A453,Сценарии!$B$15:$B$53,\"ИОР\")","v":{"$error":"#N/A"}},{"$f":"SUMIFS(INDEX(Сценарии!$O$15:$AP$53,,MATCH(Y$3,Сценарии!$O$3:$AP$3,0)),Сценарии!$A$15:$A$53,$A453,Сценарии!$B$15:$B$53,\"ИОР\")","v":{"$error":"#N/A"}},{"$f":"SUMIFS(INDEX(Сценарии!$O$15:$AP$53,,MATCH(Z$3,Сценарии!$O$3:$AP$3,0)),Сценарии!$A$15:$A$53,$A453,Сценарии!$B$15:$B$53,\"ИОР\")","v":{"$error":"#N/A"}},{"$f":"SUMIFS(INDEX(Сценарии!$O$15:$AP$53,,MATCH(AA$3,Сценарии!$O$3:$AP$3,0)),Сценарии!$A$15:$A$53,$A453,Сценарии!$B$15:$B$53,\"ИОР\")","v":{"$error":"#N/A"}},{"$f":"SUMIFS(INDEX(Сценарии!$O$15:$AP$53,,MATCH(AB$3,Сценарии!$O$3:$AP$3,0)),Сценарии!$A$15:$A$53,$A453,Сценарии!$B$15:$B$53,\"ИОР\")","v":{"$error":"#N/A"}},{"$f":"SUMIFS(INDEX(Сценарии!$O$15:$AP$53,,MATCH(AC$3,Сценарии!$O$3:$AP$3,0)),Сценарии!$A$15:$A$53,$A453,Сценарии!$B$15:$B$53,\"ИОР\")","v":{"$error":"#N/A"}},null,{"$f":"SUMIFS(INDEX(Сценарии!$O$15:$AP$53,,MATCH(AE$3,Сценарии!$O$3:$AP$3,0)),Сценарии!$A$15:$A$53,$A453,Сценарии!$B$15:$B$53,\"ИОР\")","v":{"$error":"#N/A"}},{"$f":"SUMIFS(INDEX(Сценарии!$O$15:$AP$53,,MATCH(AF$3,Сценарии!$O$3:$AP$3,0)),Сценарии!$A$15:$A$53,$A453,Сценарии!$B$15:$B$53,\"ИОР\")","v":{"$error":"#N/A"}},{"$f":"SUMIFS(INDEX(Сценарии!$O$15:$AP$53,,MATCH(AG$3,Сценарии!$O$3:$AP$3,0)),Сценарии!$A$15:$A$53,$A453,Сценарии!$B$15:$B$53,\"ИОР\")","v":{"$error":"#N/A"}},{"$f":"SUMIFS(INDEX(Сценарии!$O$15:$AP$53,,MATCH(AH$3,Сценарии!$O$3:$AP$3,0)),Сценарии!$A$15:$A$53,$A453,Сценарии!$B$15:$B$53,\"ИОР\")","v":{"$error":"#N/A"}},{"$f":"SUMIFS(INDEX(Сценарии!$O$15:$AP$53,,MATCH(AI$3,Сценарии!$O$3:$AP$3,0)),Сценарии!$A$15:$A$53,$A453,Сценарии!$B$15:$B$53,\"ИОР\")","v":{"$error":"#N/A"}},{"$f":"SUMIFS(INDEX(Сценарии!$O$15:$AP$53,,MATCH(AJ$3,Сценарии!$O$3:$AP$3,0)),Сценарии!$A$15:$A$53,$A453,Сценарии!$B$15:$B$53,\"ИОР\")","v":{"$error":"#N/A"}},{"$f":"SUMIFS(INDEX(Сценарии!$O$15:$AP$53,,MATCH(AK$3,Сценарии!$O$3:$AP$3,0)),Сценарии!$A$15:$A$53,$A453,Сценарии!$B$15:$B$53,\"ИОР\")","v":{"$error":"#N/A"}},{"$f":"SUMIFS(INDEX(Сценарии!$O$15:$AP$53,,MATCH(AL$3,Сценарии!$O$3:$AP$3,0)),Сценарии!$A$15:$A$53,$A453,Сценарии!$B$15:$B$53,\"ИОР\")","v":{"$error":"#N/A"}},{"$f":"SUMIFS(INDEX(Сценарии!$O$15:$AP$53,,MATCH(AM$3,Сценарии!$O$3:$AP$3,0)),Сценарии!$A$15:$A$53,$A453,Сценарии!$B$15:$B$53,\"ИОР\")","v":{"$error":"#N/A"}},{"$f":"IF(S453=0,0,(AD453-S453)/S453*100)","v":0}]
["1",null,null,"L1_2",null,null,null,null,null,null,null,"1.2","Производственные расходы:","тыс.руб.",{"$f":"SUM(O455,O458,O459,O462,O463)","v":2386.8715317327305},{"$f":"SUM(P455,P458,P459,P462,P463)","v":4322.1452399999998},{"$f":"SUM(Q455,Q458,Q459,Q462,Q463)","v":3353.9650199999996},-968.18022000000019,{"$f":"SUM(S455,S458,S459,S462,S463)","v":2753.392178165152},{"$f":"SUM(T455,T458,T459,T462,T463)","v":5099.4725711999999},null,null,null,null,null,null,null,null,null,{"$f":"SUM(AD455,AD458,AD459,AD462,AD463)","v":4477.740205688172},null,null,null,null,null,null,null,null,null,{"$f":"IF(S454=0,0,(AD454-S454)/S454*100)","v":62.626313868303264}]
["1",null,null,"L1_2_1",null,null,null,null,null,null,null,"1.2.1","расходы на приобретение сырья и материалов и их хранение, в том числе:","тыс.руб.",{"$f":"SUM(O456,O457)","v":0},{"$f":"SUM(P456,P457)","v":0},{"$f":"SUM(Q456,Q457)","v":0},0,{"$f":"SUM(S456,S457)","v":0},{"$f":"SUM(T456,T457)","v":0},null,null,null,null,null,null,null,null,null,{"$f":"SUM(AD456,AD457)","v":0},null,null,null,null,null,null,null,null,null,{"$f":"IF(S455=0,0,(AD455-S455)/S455*100)","v":0}]
["1",null,null,"L1_2_1_1",null,null,null,null,null,null,null,"1.2.1.1","горюче-смазочные материалы","тыс.руб.",null,null,null,0,null,null,null,null,null,null,null,null,null,null,null,null,null,null,null,null,null,null,null,null,null,0]
["1",null,null,"L1_2_1_2",null,null,null,null,null,null,null,"1.2.1.2","материалы и малоценные основные средства","тыс.руб.",null,null,null,0,null,null,null,null,null,null,null,null,null,null,null,null,null,null,null,null,null,null,null,null,null,0]
["1",null,null,"L1_2_2",null,null,null,null,null,null,null,"1.2.2","расходы на оплату регулируемыми организациями выполняемых сторонними организациями работ и (или) услуг","тыс.руб.",null,null,null,0,null,null,null,null,null,null,null,null,null,null,null,null,null,null,null,null,null,null,null,null,null,0]
["1",null,null,"L1_2_3",null,null,null,null,null,null,null,"1.2.3","расходы на оплату труда и страховые взносы на обязательное социальное страхование основного производственного персонала, в том числе:","тыс.руб.",{"$f":"O460+O461","v":2386.8715317327305},{"$f":"P460+P461","v":4322.1452399999998},{"$f":"Q460+Q461","v":3353.9650199999996},-968.18022000000019,{"$f":"S460+S461","v":2753.392178165152},{"$f":"T460+T461","v":5099.4725711999999},null,null,null,null,null,null,null,null,null,{"$f":"AD460+AD461","v":4477.740205688172},null,null,null,null,null,null,null,null,null,{"$f":"IF(S459=0,0,(AD459-S459)/S459*100)","v":62.626313868303264}]
["1","ПП",null,"L1_2_3_1",null,null,null,null,null,null,null,"1.2.3.1","расходы на оплату труда основного производственного персонала","тыс.руб.",{"$f":"SUMIFS(ФОТ!O$15:O$65,ФОТ!$A$15:$A$65,$A460,ФОТ!$B$15:$B$65,$B460)","v":1833.2346633891941},{"$f":"SUMIFS(ФОТ!P$15:P$65,ФОТ!$A$15:$A$65,$A460,ФОТ!$B$15:$B$65,$B460)","v":3319.62},{"$f":"SUMIFS(ФОТ!Q$15:Q$65,ФОТ!$A$15:$A$65,$A460,ФОТ!$B$15:$B$65,$B460)","v":2576.0099999999998},-743.61000000000013,{"$f":"SUMIFS(ФОТ!R$15:R$65,ФОТ!$A$15:$A$65,$A460,ФОТ!$B$15:$B$65,$B460)","v":2114.7405362251552},{"$f":"SUMIFS(ФОТ!S$15:S$65,ФОТ!$A$15:$A$65,$A460,ФОТ!$B$15:$B$65,$B460)","v":3916.6455999999998},null,null,null,null,null,null,null,null,null,{"$f":"SUMIFS(ФОТ!T$15:T$65,ФОТ!$A$15:$A$65,$A460,ФОТ!$B$15:$B$65,$B460)","v":3439.1245819417604},null,null,null,null,null,null,null,null,null,{"$f":"IF(S460=0,0,(AD460-S460)/S460*100)","v":62.626313868303264}]
["1","СОЦ_ПП",null,"L1_2_3_2",null,null,null,null,null,null,null,"1.2.3.2","страховые взносы на обязательное социальное страхование основного производственного персонала","тыс.руб.",{"$f":"SUMIFS(ФОТ!O$15:O$65,ФОТ!$A$15:$A$65,$A461,ФОТ!$B$15:$B$65,$B461)","v":553.63686834353666},{"$f":"SUMIFS(ФОТ!P$15:P$65,ФОТ!$A$15:$A$65,$A461,ФОТ!$B$15:$B$65,$B461)","v":1002.5252399999999},{"$f":"SUMIFS(ФОТ!Q$15:Q$65,ФОТ!$A$15:$A$65,$A461,ФОТ!$B$15:$B$65,$B461)","v":777.95501999999988},-224.57022000000006,{"$f":"SUMIFS(ФОТ!R$15:R$65,ФОТ!$A$15:$A$65,$A461,ФОТ!$B$15:$B$65,$B461)","v":638.65164193999681},{"$f":"SUMIFS(ФОТ!S$15:S$65,ФОТ!$A$15:$A$65,$A461,ФОТ!$B$15:$B$65,$B461)","v":1182.8269711999999},null,null,null,null,null,null,null,null,null,{"$f":"SUMIFS(ФОТ!T$15:T$65,ФОТ!$A$15:$A$65,$A461,ФОТ!$B$15:$B$65,$B461)","v":1038.6156237464115},null,null,null,null,null,null,null,null,null,{"$f":"IF(S461=0,0,(AD461-S461)/S461*100)","v":62.626313868303264}]
["1",null,null,"L1_2_4",null,null,null,null,null,null,null,"1.2.4","общехозяйственные расходы","тыс.руб.",null,null,null,0,null,null,null,null,null,null,null,null,null,null,null,null,null,null,null,null,null,null,null,null,null,0]
["1",null,null,"L1_2_5",null,null,null,null,null,null,null,"1.2.5","прочие производственные расходы","тыс.руб.",{"$f":"SUM(O464:O470)","v":0},{"$f":"SUM(P464:P470)","v":0},{"$f":"SUM(Q464:Q470)","v":0},0,{"$f":"SUM(S464:S470)","v":0},{"$f":"SUM(T464:T470)","v":0},null,null,null,null,null,null,null,null,null,{"$f":"SUM(AD464:AD470)","v":0},null,null,null,null,null,null,null,null,null,0]
["1",null,null,"L1_2_5_1",null,null,null,null,null,null,null,"1.2.5.1","амортизация автотранспорта","тыс.руб.",null,null,null,0,null,null,null,null,null,null,null,null,null,null,null,null,null,null,null,null,null,null,null,null,null,0]
["1",null,null,"L1_2_5_2",null,null,null,null,null,null,null,"1.2.5.2","расходы на обезвоживание, обезвреживание и захоронение осадка сточных вод","тыс.руб.",null,null,null,0,null,null,null,null,null,null,null,null,null,null,null,null,null,null,null,null,null,null,null,null,null,0]
["1",null,null,"L1_2_5_3",null,null,null,null,null,null,null,"1.2.5.3","расходы на приобретение (использование) вспомогательных материалов, запасных частей","тыс.руб.",null,null,null,0,null,null,null,null,null,null,null,null,null,null,null,null,null,null,null,null,null,null,null,null,null,0]
["1",null,null,"L1_2_5_4",null,null,null,null,null,null,null,"1.2.5.4","расходы на эксплуатацию, техническое обслуживание и ремонт автотранспорта","тыс.руб.",null,null,null,0,null,null,null,null,null,null,null,null,null,null,null,null,null,null,null,null,null,null,null,null,null,0]
["1",null,null,"L1_2_5_5",null,null,null,null,null,null,null,"1.2.5.5","расходы на осуществление производственного контроля качества воды и производственного контроля состава и свойств сточных вод расходы на осуществление производственного контроля качества воды и производственного контроля состава и свойств сточных вод","тыс.руб.",null,null,null,0,null,null,null,null,null,null,null,null,null,null,null,null,null,null,null,null,null,null,null,null,null,0]
["1",null,null,"L1_2_5_6",null,null,null,null,null,null,null,"1.2.5.6","расходы на аварийно-диспетчерское обслуживание","тыс.руб.",null,null,null,0,null,null,null,null,null,null,null,null,null,null,null,null,null,null,null,null,null,null,null,null,null,0]
["1",null,null,"L1_2_5_7",null,null,null,null,null,null,null,"1.2.5.7","иные производственные расходы","тыс.руб.",null,null,null,0,null,null,null,null,null,null,null,null,null,null,null,null,null,null,null,null,null,null,null,null,null,{"$f":"IF(S470=0,0,(AD470-S470)/S470*100)","v":0}]
["1",null,null,"L1_3",null,null,null,null,null,null,null,"1.3","Ремонтные расходы:","тыс.руб.",{"$f":"O472+O473+O474","v":0},{"$f":"P472+P473+P474","v":0},{"$f":"Q472+Q473+Q474","v":0},0,{"$f":"S472+S473+S474","v":0},{"$f":"T472+T473+T474","v":0},null,null,null,null,null,null,null,null,null,{"$f":"AD472+AD473+AD474","v":0},null,null,null,null,null,null,null,null,null,{"$f":"IF(S471=0,0,(AD471-S471)/S471*100)","v":0}]
["1",null,null,"L1_3_1",null,null,null,null,null,null,null,"1.3.1","расходы на текущий ремонт централизованных систем водоснабжения и (или) водоотведения либо объектов, входящих в состав таких систем","тыс.руб.",null,null,null,0,null,null,null,null,null,null,null,null,null,null,null,null,null,null,null,null,null,null,null,null,null,0]
["1",null,null,"L1_3_2",null,null,null,null,null,null,null,"1.3.2","расходы на капитальный ремонт централизованных систем водоснабжения и (или) водоотведения либо объектов, входящих в состав таких систем","тыс.руб.",null,null,null,0,null,null,null,null,null,null,null,null,null,null,null,null,null,null,null,null,null,null,null,null,null,0]
["1",null,null,"L1_3_3",null,null,null,null,null,null,null,"1.3.3","расходы на оплату труда и страховые взносы на обязательное социальное страхование ремонтного персонала, в том числе:","тыс.руб.",{"$f":"O475+O476","v":0},{"$f":"P475+P476","v":0},{"$f":"Q475+Q476","v":0},0,{"$f":"S475+S476","v":0},{"$f":"T475+T476","v":0},null,null,null,null,null,null,null,null,null,{"$f":"AD475+AD476","v":0},null,null,null,null,null,null,null,null,null,{"$f":"IF(S474=0,0,(AD474-S474)/S474*100)","v":0}]
["1","РП",null,"L1_3_3_1",null,null,null,null,null,null,null,"1.3.3.1","расходы на оплату труда ремонтного персонала","тыс.руб.",{"$f":"SUMIFS(ФОТ!O$15:O$65,ФОТ!$A$15:$A$65,$A475,ФОТ!$B$15:$B$65,$B475)","v":0},{"$f":"SUMIFS(ФОТ!P$15:P$65,ФОТ!$A$15:$A$65,$A475,ФОТ!$B$15:$B$65,$B475)","v":0},{"$f":"SUMIFS(ФОТ!Q$15:Q$65,ФОТ!$A$15:$A$65,$A475,ФОТ!$B$15:$B$65,$B475)","v":0},0,{"$f":"SUMIFS(ФОТ!R$15:R$65,ФОТ!$A$15:$A$65,$A475,ФОТ!$B$15:$B$65,$B475)","v":0},{"$f":"SUMIFS(ФОТ!S$15:S$65,ФОТ!$A$15:$A$65,$A475,ФОТ!$B$15:$B$65,$B475)","v":0},null,null,null,null,null,null,null,null,null,{"$f":"SUMIFS(ФОТ!T$15:T$65,ФОТ!$A$15:$A$65,$A475,ФОТ!$B$15:$B$65,$B475)","v":0},null,null,null,null,null,null,null,null,null,{"$f":"IF(S475=0,0,(AD475-S475)/S475*100)","v":0}]
["1","СОЦ_РП",null,"L1_3_3_2",null,null,null,null,null,null,null,"1.3.3.2","страховые взносы на обязательное социальное страхование ремонтного персонала","тыс.руб.",{"$f":"SUMIFS(ФОТ!O$15:O$65,ФОТ!$A$15:$A$65,$A476,ФОТ!$B$15:$B$65,$B476)","v":0},{"$f":"SUMIFS(ФОТ!P$15:P$65,ФОТ!$A$15:$A$65,$A476,ФОТ!$B$15:$B$65,$B476)","v":0},{"$f":"SUMIFS(ФОТ!Q$15:Q$65,ФОТ!$A$15:$A$65,$A476,ФОТ!$B$15:$B$65,$B476)","v":0},0,{"$f":"SUMIFS(ФОТ!R$15:R$65,ФОТ!$A$15:$A$65,$A476,ФОТ!$B$15:$B$65,$B476)","v":0},{"$f":"SUMIFS(ФОТ!S$15:S$65,ФОТ!$A$15:$A$65,$A476,ФОТ!$B$15:$B$65,$B476)","v":0},null,null,null,null,null,null,null,null,null,{"$f":"SUMIFS(ФОТ!T$15:T$65,ФОТ!$A$15:$A$65,$A476,ФОТ!$B$15:$B$65,$B476)","v":0},null,null,null,null,null,null,null,null,null,{"$f":"IF(S476=0,0,(AD476-S476)/S476*100)","v":0}]
["1",null,null,"L1_4",null,null,null,null,null,null,null,"1.4","Административные расходы","тыс.руб.",{"$f":"O478+O486+O489+O490+O491+O492+O493","v":981.27820792522436},{"$f":"P478+P486+P489+P490+P491+P492+P493","v":937.81131999999991},{"$f":"Q478+Q486+Q489+Q490+Q491+Q492+Q493","v":2249.5542419999997},1311.7429219999999,{"$f":"S478+S486+S489+S490+S491+S492+S493","v":1131.9602694929492},{"$f":"T478+T486+T489+T490+T491+T492+T493","v":1125.3370032511996},null,null,null,null,null,null,null,null,null,{"$f":"AD478+AD486+AD489+AD490+AD491+AD492+AD493","v":1014.6972313553197},null,null,null,null,null,null,null,null,null,{"$f":"IF(S477=0,0,(AD477-S477)/S477*100)","v":-10.359289216940134}]
["1","p3",null,"L1_4_1",null,null,null,null,null,null,null,"1.4.1","расходы на оплату работ и услуг, выполняемых сторонними организациями, в том числе:","тыс.руб.",{"$f":"SUMIFS(Административные!O$15:O$54,Административные!$A$15:$A$54,$A478,Административные!$B$15:$B$54,$B478)","v":0},{"$f":"SUMIFS(Административные!P$15:P$54,Административные!$A$15:$A$54,$A478,Административные!$B$15:$B$54,$B478)","v":293.38},{"$f":"SUMIFS(Административные!Q$15:Q$54,Административные!$A$15:$A$54,$A478,Административные!$B$15:$B$54,$B478)","v":0},-293.38,{"$f":"SUMIFS(Административные!R$15:R$54,Административные!$A$15:$A$54,$A478,Административные!$B$15:$B$54,$B478)","v":0},{"$f":"SUMIFS(Административные!S$15:S$54,Административные!$A$15:$A$54,$A478,Административные!$B$15:$B$54,$B478)","v":264.34999999999997},null,null,null,null,null,null,null,null,null,{"$f":"SUMIFS(Административные!T$15:T$54,Административные!$A$15:$A$54,$A478,Административные!$B$15:$B$54,$B478)","v":47.119919991479989},null,null,null,null,null,null,null,null,null,0]
["1","p3_1",null,"L1_4_1_1",null,null,null,null,null,null,null,"1.4.1.1","услуги связи и интернет","тыс.руб.",{"$f":"SUMIFS(Административные!O$15:O$54,Административные!$A$15:$A$54,$A479,Административные!$B$15:$B$54,$B479)","v":0},{"$f":"SUMIFS(Административные!P$15:P$54,Административные!$A$15:$A$54,$A479,Административные!$B$15:$B$54,$B479)","v":1.59},{"$f":"SUMIFS(Административные!Q$15:Q$54,Административные!$A$15:$A$54,$A479,Административные!$B$15:$B$54,$B479)","v":0},-1.59,{"$f":"SUMIFS(Административные!R$15:R$54,Административные!$A$15:$A$54,$A479,Административные!$B$15:$B$54,$B479)","v":0},{"$f":"SUMIFS(Административные!S$15:S$54,Административные!$A$15:$A$54,$A479,Административные!$B$15:$B$54,$B479)","v":1.95},null,null,null,null,null,null,null,null,null,{"$f":"SUMIFS(Административные!T$15:T$54,Административные!$A$15:$A$54,$A479,Административные!$B$15:$B$54,$B479)","v":0},null,null,null,null,null,null,null,null,null,0]
["1","p3_2",null,"L1_4_1_2",null,null,null,null,null,null,null,"1.4.1.2","юридические услуги","тыс.руб.",{"$f":"SUMIFS(Административные!O$15:O$54,Административные!$A$15:$A$54,$A480,Административные!$B$15:$B$54,$B480)","v":0},{"$f":"SUMIFS(Административные!P$15:P$54,Административные!$A$15:$A$54,$A480,Административные!$B$15:$B$54,$B480)","v":105.54},{"$f":"SUMIFS(Административные!Q$15:Q$54,Административные!$A$15:$A$54,$A480,Административные!$B$15:$B$54,$B480)","v":0},-105.54,{"$f":"SUMIFS(Административные!R$15:R$54,Административные!$A$15:$A$54,$A480,Административные!$B$15:$B$54,$B480)","v":0},{"$f":"SUMIFS(Административные!S$15:S$54,Административные!$A$15:$A$54,$A480,Административные!$B$15:$B$54,$B480)","v":115.11},null,null,null,null,null,null,null,null,null,{"$f":"SUMIFS(Административные!T$15:T$54,Административные!$A$15:$A$54,$A480,Административные!$B$15:$B$54,$B480)","v":47.119919991479989},null,null,null,null,null,null,null,null,null,0]
["1","p3_3",null,"L1_4_1_3",null,null,null,null,null,null,null,"1.4.1.3","аудиторские услуги","тыс.руб.",{"$f":"SUMIFS(Административные!O$15:O$54,Административные!$A$15:$A$54,$A481,Административные!$B$15:$B$54,$B481)","v":0},{"$f":"SUMIFS(Административные!P$15:P$54,Административные!$A$15:$A$54,$A481,Административные!$B$15:$B$54,$B481)","v":5.22},{"$f":"SUMIFS(Административные!Q$15:Q$54,Административные!$A$15:$A$54,$A481,Административные!$B$15:$B$54,$B481)","v":0},-5.22,{"$f":"SUMIFS(Административные!R$15:R$54,Административные!$A$15:$A$54,$A481,Административные!$B$15:$B$54,$B481)","v":0},{"$f":"SUMIFS(Административные!S$15:S$54,Административные!$A$15:$A$54,$A481,Административные!$B$15:$B$54,$B481)","v":0},null,null,null,null,null,null,null,null,null,{"$f":"SUMIFS(Административные!T$15:T$54,Административные!$A$15:$A$54,$A481,Административные!$B$15:$B$54,$B481)","v":0},null,null,null,null,null,null,null,null,null,0]
["1","p3_4",null,"L1_4_1_4",null,null,null,null,null,null,null,"1.4.1.4","консультационные услуги","тыс.руб.",{"$f":"SUMIFS(Административные!O$15:O$54,Административные!$A$15:$A$54,$A482,Административные!$B$15:$B$54,$B482)","v":0},{"$f":"SUMIFS(Административные!P$15:P$54,Административные!$A$15:$A$54,$A482,Административные!$B$15:$B$54,$B482)","v":0},{"$f":"SUMIFS(Административные!Q$15:Q$54,Административные!$A$15:$A$54,$A482,Административные!$B$15:$B$54,$B482)","v":0},0,{"$f":"SUMIFS(Административные!R$15:R$54,Административные!$A$15:$A$54,$A482,Административные!$B$15:$B$54,$B482)","v":0},{"$f":"SUMIFS(Административные!S$15:S$54,Административные!$A$15:$A$54,$A482,Административные!$B$15:$B$54,$B482)","v":0},null,null,null,null,null,null,null,null,null,{"$f":"SUMIFS(Административные!T$15:T$54,Административные!$A$15:$A$54,$A482,Административные!$B$15:$B$54,$B482)","v":0},null,null,null,null,null,null,null,null,null,0]
["1","p3_5",null,"L1_4_1_5",null,null,null,null,null,null,null,"1.4.1.5","услуги по вневедомственной охране объектов и территорий","тыс.руб.",{"$f":"SUMIFS(Административные!O$15:O$54,Административные!$A$15:$A$54,$A483,Административные!$B$15:$B$54,$B483)","v":0},{"$f":"SUMIFS(Административные!P$15:P$54,Административные!$A$15:$A$54,$A483,Административные!$B$15:$B$54,$B483)","v":118.62},{"$f":"SUMIFS(Административные!Q$15:Q$54,Административные!$A$15:$A$54,$A483,Административные!$B$15:$B$54,$B483)","v":0},-118.62,{"$f":"SUMIFS(Административные!R$15:R$54,Административные!$A$15:$A$54,$A483,Административные!$B$15:$B$54,$B483)","v":0},{"$f":"SUMIFS(Административные!S$15:S$54,Административные!$A$15:$A$54,$A483,Административные!$B$15:$B$54,$B483)","v":5.63},null,null,null,null,null,null,null,null,null,{"$f":"SUMIFS(Административные!T$15:T$54,Административные!$A$15:$A$54,$A483,Административные!$B$15:$B$54,$B483)","v":0},null,null,null,null,null,null,null,null,null,0]
["1","p3_6",null,"L1_4_1_6",null,null,null,null,null,null,null,"1.4.1.6","информационные услуги","тыс.руб.",{"$f":"SUMIFS(Административные!O$15:O$54,Административные!$A$15:$A$54,$A484,Административные!$B$15:$B$54,$B484)","v":0},{"$f":"SUMIFS(Административные!P$15:P$54,Административные!$A$15:$A$54,$A484,Административные!$B$15:$B$54,$B484)","v":62.41},{"$f":"SUMIFS(Административные!Q$15:Q$54,Административные!$A$15:$A$54,$A484,Административные!$B$15:$B$54,$B484)","v":0},-62.41,{"$f":"SUMIFS(Административные!R$15:R$54,Административные!$A$15:$A$54,$A484,Административные!$B$15:$B$54,$B484)","v":0},{"$f":"SUMIFS(Административные!S$15:S$54,Административные!$A$15:$A$54,$A484,Административные!$B$15:$B$54,$B484)","v":126.96},null,null,null,null,null,null,null,null,null,{"$f":"SUMIFS(Административные!T$15:T$54,Административные!$A$15:$A$54,$A484,Административные!$B$15:$B$54,$B484)","v":0},null,null,null,null,null,null,null,null,null,0]
["1","p3_7",null,"L1_4_1_7",null,null,null,null,null,null,null,"1.4.1.7","иные работы и (или) услуги","тыс.руб.",{"$f":"SUMIFS(Административные!O$15:O$54,Административные!$A$15:$A$54,$A485,Административные!$B$15:$B$54,$B485)","v":0},{"$f":"SUMIFS(Административные!P$15:P$54,Административные!$A$15:$A$54,$A485,Административные!$B$15:$B$54,$B485)","v":0},{"$f":"SUMIFS(Административные!Q$15:Q$54,Административные!$A$15:$A$54,$A485,Административные!$B$15:$B$54,$B485)","v":0},0,{"$f":"SUMIFS(Административные!R$15:R$54,Административные!$A$15:$A$54,$A485,Административные!$B$15:$B$54,$B485)","v":0},{"$f":"SUMIFS(Административные!S$15:S$54,Административные!$A$15:$A$54,$A485,Административные!$B$15:$B$54,$B485)","v":14.7},null,null,null,null,null,null,null,null,null,{"$f":"SUMIFS(Административные!T$15:T$54,Административные!$A$15:$A$54,$A485,Административные!$B$15:$B$54,$B485)","v":0},null,null,null,null,null,null,null,null,null,{"$f":"IF(S485=0,0,(AD485-S485)/S485*100)","v":0}]
["1",null,null,"L1_4_2",null,null,null,null,null,null,null,"1.4.2","расходы на оплату труда и страховые взносы на обязательное социальное страхование административно-управленческого персонала, в том числе:","тыс.руб.",{"$f":"O487+O488","v":750.28105202587767},{"$f":"P487+P488","v":601.08132000000001},{"$f":"Q487+Q488","v":2072.5886999999998},1471.5073799999998,{"$f":"S487+S488","v":865.491901264543},{"$f":"T487+T488","v":766.6970032511997},null,null,null,null,null,null,null,null,null,{"$f":"AD487+AD488","v":766.6970032511997},null,null,null,null,null,null,null,null,null,{"$f":"IF(S486=0,0,(AD486-S486)/S486*100)","v":-11.414884168066413}]
["1","АУП",null,"L1_4_2_1",null,null,null,null,null,null,null,"1.4.2.1","расходы на оплату труда административно-управленческого персонала","тыс.руб.",{"$f":"SUMIFS(ФОТ!O$15:O$65,ФОТ!$A$15:$A$65,$A487,ФОТ!$B$15:$B$65,$B487)","v":576.25272813047434},{"$f":"SUMIFS(ФОТ!P$15:P$65,ФОТ!$A$15:$A$65,$A487,ФОТ!$B$15:$B$65,$B487)","v":461.66},{"$f":"SUMIFS(ФОТ!Q$15:Q$65,ФОТ!$A$15:$A$65,$A487,ФОТ!$B$15:$B$65,$B487)","v":1591.85},1130.1899999999998,{"$f":"SUMIFS(ФОТ!R$15:R$65,ФОТ!$A$15:$A$65,$A487,ФОТ!$B$15:$B$65,$B487)","v":664.74032355187637},{"$f":"SUMIFS(ФОТ!S$15:S$65,ФОТ!$A$15:$A$65,$A487,ФОТ!$B$15:$B$65,$B487)","v":588.86098559999982},null,null,null,null,null,null,null,null,null,{"$f":"SUMIFS(ФОТ!T$15:T$65,ФОТ!$A$15:$A$65,$A487,ФОТ!$B$15:$B$65,$B487)","v":588.86098559999982},null,null,null,null,null,null,null,null,null,{"$f":"IF(S487=0,0,(AD487-S487)/S487*100)","v":-11.414884168066408}]
["1","СОЦ_АУП",null,"L1_4_2_2",null,null,null,null,null,null,null,"1.4.2.2","страховые взносы на обязательное социальное страхование административно-управленческого персонала","тыс.руб.",{"$f":"SUMIFS(ФОТ!O$15:O$65,ФОТ!$A$15:$A$65,$A488,ФОТ!$B$15:$B$65,$B488)","v":174.02832389540328},{"$f":"SUMIFS(ФОТ!P$15:P$65,ФОТ!$A$15:$A$65,$A488,ФОТ!$B$15:$B$65,$B488)","v":139.42132000000001},{"$f":"SUMIFS(ФОТ!Q$15:Q$65,ФОТ!$A$15:$A$65,$A488,ФОТ!$B$15:$B$65,$B488)","v":480.73869999999994},341.31737999999996,{"$f":"SUMIFS(ФОТ!R$15:R$65,ФОТ!$A$15:$A$65,$A488,ФОТ!$B$15:$B$65,$B488)","v":200.75157771266666},{"$f":"SUMIFS(ФОТ!S$15:S$65,ФОТ!$A$15:$A$65,$A488,ФОТ!$B$15:$B$65,$B488)","v":177.83601765119994},null,null,null,null,null,null,null,null,null,{"$f":"SUMIFS(ФОТ!T$15:T$65,ФОТ!$A$15:$A$65,$A488,ФОТ!$B$15:$B$65,$B488)","v":177.83601765119994},null,null,null,null,null,null,null,null,null,{"$f":"IF(S488=0,0,(AD488-S488)/S488*100)","v":-11.414884168066409}]
["1","p4",null,"L1_4_3",null,null,null,null,null,null,null,"1.4.3","арендная плата, лизинговые платежи, не связанные с арендой (лизингом) централизованных систем водоснабжения и (или) водоотведения либо объектов, входящих в состав таких систем","тыс.руб.",{"$f":"SUMIFS(Административные!O$15:O$54,Административные!$A$15:$A$54,$A489,Административные!$B$15:$B$54,$B489)","v":0},{"$f":"SUMIFS(Административные!P$15:P$54,Административные!$A$15:$A$54,$A489,Административные!$B$15:$B$54,$B489)","v":0},{"$f":"SUMIFS(Административные!Q$15:Q$54,Административные!$A$15:$A$54,$A489,Административные!$B$15:$B$54,$B489)","v":0},0,{"$f":"SUMIFS(Административные!R$15:R$54,Административные!$A$15:$A$54,$A489,Административные!$B$15:$B$54,$B489)","v":0},{"$f":"SUMIFS(Административные!S$15:S$54,Административные!$A$15:$A$54,$A489,Административные!$B$15:$B$54,$B489)","v":0},null,null,null,null,null,null,null,null,null,{"$f":"SUMIFS(Административные!T$15:T$54,Административные!$A$15:$A$54,$A489,Административные!$B$15:$B$54,$B489)","v":0},null,null,null,null,null,null,null,null,null,0]
["1","p5",null,"L1_4_4",null,null,null,null,null,null,null,"1.4.4","служебные командировки","тыс.руб.",{"$f":"SUMIFS(Административные!O$15:O$54,Административные!$A$15:$A$54,$A490,Административные!$B$15:$B$54,$B490)","v":0},{"$f":"SUMIFS(Административные!P$15:P$54,Административные!$A$15:$A$54,$A490,Административные!$B$15:$B$54,$B490)","v":0},{"$f":"SUMIFS(Административные!Q$15:Q$54,Административные!$A$15:$A$54,$A490,Административные!$B$15:$B$54,$B490)","v":0},0,{"$f":"SUMIFS(Административные!R$15:R$54,Административные!$A$15:$A$54,$A490,Административные!$B$15:$B$54,$B490)","v":0},{"$f":"SUMIFS(Административные!S$15:S$54,Административные!$A$15:$A$54,$A490,Административные!$B$15:$B$54,$B490)","v":0},null,null,null,null,null,null,null,null,null,{"$f":"SUMIFS(Административные!T$15:T$54,Административные!$A$15:$A$54,$A490,Административные!$B$15:$B$54,$B490)","v":0},null,null,null,null,null,null,null,null,null,0]
["1","p6",null,"L1_4_5",null,null,null,null,null,null,null,"1.4.5","обучение персонала","тыс.руб.",{"$f":"SUMIFS(Административные!O$15:O$54,Административные!$A$15:$A$54,$A491,Административные!$B$15:$B$54,$B491)","v":0},{"$f":"SUMIFS(Административные!P$15:P$54,Административные!$A$15:$A$54,$A491,Административные!$B$15:$B$54,$B491)","v":8.31},{"$f":"SUMIFS(Административные!Q$15:Q$54,Административные!$A$15:$A$54,$A491,Административные!$B$15:$B$54,$B491)","v":0},-8.31,{"$f":"SUMIFS(Административные!R$15:R$54,Административные!$A$15:$A$54,$A491,Административные!$B$15:$B$54,$B491)","v":0},{"$f":"SUMIFS(Административные!S$15:S$54,Административные!$A$15:$A$54,$A491,Административные!$B$15:$B$54,$B491)","v":0},null,null,null,null,null,null,null,null,null,{"$f":"SUMIFS(Административные!T$15:T$54,Административные!$A$15:$A$54,$A491,Административные!$B$15:$B$54,$B491)","v":0},null,null,null,null,null,null,null,null,null,0]
["1","p7",null,"L1_4_6",null,null,null,null,null,null,null,"1.4.6","страхование производственных объектов","тыс.руб.",{"$f":"SUMIFS(Административные!O$15:O$54,Административные!$A$15:$A$54,$A492,Административные!$B$15:$B$54,$B492)","v":0},{"$f":"SUMIFS(Административные!P$15:P$54,Административные!$A$15:$A$54,$A492,Административные!$B$15:$B$54,$B492)","v":4.99},{"$f":"SUMIFS(Административные!Q$15:Q$54,Административные!$A$15:$A$54,$A492,Административные!$B$15:$B$54,$B492)","v":0},-4.99,{"$f":"SUMIFS(Административные!R$15:R$54,Административные!$A$15:$A$54,$A492,Административные!$B$15:$B$54,$B492)","v":0},{"$f":"SUMIFS(Административные!S$15:S$54,Административные!$A$15:$A$54,$A492,Административные!$B$15:$B$54,$B492)","v":0},null,null,null,null,null,null,null,null,null,{"$f":"SUMIFS(Административные!T$15:T$54,Административные!$A$15:$A$54,$A492,Административные!$B$15:$B$54,$B492)","v":0},null,null,null,null,null,null,null,null,null,0]
["1","p8",null,"L1_4_7",null,null,null,null,null,null,null,"1.4.7","прочие административные расходы","тыс.руб.",{"$f":"SUMIFS(Административные!O$15:O$54,Административные!$A$15:$A$54,$A493,Административные!$B$15:$B$54,$B493)","v":230.99715589934669},{"$f":"SUMIFS(Административные!P$15:P$54,Административные!$A$15:$A$54,$A493,Административные!$B$15:$B$54,$B493)","v":30.05},{"$f":"SUMIFS(Административные!Q$15:Q$54,Административные!$A$15:$A$54,$A493,Административные!$B$15:$B$54,$B493)","v":176.965542},146.91554199999999,{"$f":"SUMIFS(Административные!R$15:R$54,Административные!$A$15:$A$54,$A493,Административные!$B$15:$B$54,$B493)","v":266.46836822840629},{"$f":"SUMIFS(Административные!S$15:S$54,Административные!$A$15:$A$54,$A493,Административные!$B$15:$B$54,$B493)","v":94.29},null,null,null,null,null,null,null,null,null,{"$f":"SUMIFS(Административные!T$15:T$54,Административные!$A$15:$A$54,$A493,Административные!$B$15:$B$54,$B493)","v":200.88030811263999},null,null,null,null,null,null,null,null,null,-24.613825855512715]
["1","p8_1",null,"L1_4_7_1",null,null,null,null,null,null,null,"1.4.7.1","расходы на амортизацию непроизводственных активов","тыс.руб.",{"$f":"SUMIFS(Административные!O$15:O$54,Административные!$A$15:$A$54,$A494,Административные!$B$15:$B$54,$B494)","v":0},{"$f":"SUMIFS(Административные!P$15:P$54,Административные!$A$15:$A$54,$A494,Административные!$B$15:$B$54,$B494)","v":0},{"$f":"SUMIFS(Административные!Q$15:Q$54,Административные!$A$15:$A$54,$A494,Административные!$B$15:$B$54,$B494)","v":0},0,{"$f":"SUMIFS(Административные!R$15:R$54,Административные!$A$15:$A$54,$A494,Административные!$B$15:$B$54,$B494)","v":0},{"$f":"SUMIFS(Административные!S$15:S$54,Административные!$A$15:$A$54,$A494,Административные!$B$15:$B$54,$B494)","v":0},null,null,null,null,null,null,null,null,null,{"$f":"SUMIFS(Административные!T$15:T$54,Административные!$A$15:$A$54,$A494,Административные!$B$15:$B$54,$B494)","v":0},null,null,null,null,null,null,null,null,null,0]
["1","p8_2",null,"L1_4_7_2",null,null,null,null,null,null,null,"1.4.7.2","расходы по охране объектов и территорий","тыс.руб.",{"$f":"SUMIFS(Административные!O$15:O$54,Административные!$A$15:$A$54,$A495,Административные!$B$15:$B$54,$B495)","v":0},{"$f":"SUMIFS(Административные!P$15:P$54,Административные!$A$15:$A$54,$A495,Административные!$B$15:$B$54,$B495)","v":0},{"$f":"SUMIFS(Административные!Q$15:Q$54,Административные!$A$15:$A$54,$A495,Административные!$B$15:$B$54,$B495)","v":0},0,{"$f":"SUMIFS(Административные!R$15:R$54,Административные!$A$15:$A$54,$A495,Административные!$B$15:$B$54,$B495)","v":0},{"$f":"SUMIFS(Административные!S$15:S$54,Административные!$A$15:$A$54,$A495,Административные!$B$15:$B$54,$B495)","v":0},null,null,null,null,null,null,null,null,null,{"$f":"SUMIFS(Административные!T$15:T$54,Административные!$A$15:$A$54,$A495,Административные!$B$15:$B$54,$B495)","v":0},null,null,null,null,null,null,null,null,null,0]
["1","p8_3",null,"L1_4_7_3",null,null,null,null,null,null,null,"1.4.7.3","иные расходы","тыс.руб.",{"$f":"SUMIFS(Административные!O$15:O$54,Административные!$A$15:$A$54,$A496,Административные!$B$15:$B$54,$B496)","v":230.99715589934669},{"$f":"SUMIFS(Административные!P$15:P$54,Административные!$A$15:$A$54,$A496,Административные!$B$15:$B$54,$B496)","v":30.05},{"$f":"SUMIFS(Административные!Q$15:Q$54,Административные!$A$15:$A$54,$A496,Административные!$B$15:$B$54,$B496)","v":176.965542},146.91554199999999,{"$f":"SUMIFS(Административные!R$15:R$54,Административные!$A$15:$A$54,$A496,Административные!$B$15:$B$54,$B496)","v":266.46836822840629},{"$f":"SUMIFS(Административные!S$15:S$54,Административные!$A$15:$A$54,$A496,Административные!$B$15:$B$54,$B496)","v":94.29},null,null,null,null,null,null,null,null,null,{"$f":"SUMIFS(Административные!T$15:T$54,Административные!$A$15:$A$54,$A496,Административные!$B$15:$B$54,$B496)","v":200.88030811263999},null,null,null,null,null,null,null,null,null,{"$f":"IF(S496=0,0,(AD496-S496)/S496*100)","v":-24.613825855512715}]
["1",null,null,"L1_5",null,null,null,null,null,null,null,"1.5","Сбытовые расходы гарантирующих организаций (за исключением указанных в п.2.6)","тыс.руб.",{"$f":"SUMIFS('Сбытовые расходы ГО'!O$15:O$40,'Сбытовые расходы ГО'!$A$15:$A$40,$A497,'Сбытовые расходы ГО'!$B$15:$B$40,\"L0\")-SUMIFS('Сбытовые расходы ГО'!O$15:O$40,'Сбытовые расходы ГО'!$A$15:$A$40,$A497,'Сбытовые расходы ГО'!$B$15:$B$40,\"L1\")","v":0},{"$f":"SUMIFS('Сбытовые расходы ГО'!P$15:P$40,'Сбытовые расходы ГО'!$A$15:$A$40,$A497,'Сбытовые расходы ГО'!$B$15:$B$40,\"L0\")-SUMIFS('Сбытовые расходы ГО'!P$15:P$40,'Сбытовые расходы ГО'!$A$15:$A$40,$A497,'Сбытовые расходы ГО'!$B$15:$B$40,\"L1\")","v":0},{"$f":"SUMIFS('Сбытовые расходы ГО'!Q$15:Q$40,'Сбытовые расходы ГО'!$A$15:$A$40,$A497,'Сбытовые расходы ГО'!$B$15:$B$40,\"L0\")-SUMIFS('Сбытовые расходы ГО'!Q$15:Q$40,'Сбытовые расходы ГО'!$A$15:$A$40,$A497,'Сбытовые расходы ГО'!$B$15:$B$40,\"L1\")","v":0},0,{"$f":"SUMIFS('Сбытовые расходы ГО'!R$15:R$40,'Сбытовые расходы ГО'!$A$15:$A$40,$A497,'Сбытовые расходы ГО'!$B$15:$B$40,\"L0\")-SUMIFS('Сбытовые расходы ГО'!R$15:R$40,'Сбытовые расходы ГО'!$A$15:$A$40,$A497,'Сбытовые расходы ГО'!$B$15:$B$40,\"L1\")","v":0},{"$f":"SUMIFS('Сбытовые расходы ГО'!S$15:S$40,'Сбытовые расходы ГО'!$A$15:$A$40,$A497,'Сбытовые расходы ГО'!$B$15:$B$40,\"L0\")-SUMIFS('Сбытовые расходы ГО'!S$15:S$40,'Сбытовые расходы ГО'!$A$15:$A$40,$A497,'Сбытовые расходы ГО'!$B$15:$B$40,\"L1\")","v":0},null,null,null,null,null,null,null,null,null,{"$f":"SUMIFS('Сбытовые расходы ГО'!T$15:T$40,'Сбытовые расходы ГО'!$A$15:$A$40,$A497,'Сбытовые расходы ГО'!$B$15:$B$40,\"L0\")-SUMIFS('Сбытовые расходы ГО'!T$15:T$40,'Сбытовые расходы ГО'!$A$15:$A$40,$A497,'Сбытовые расходы ГО'!$B$15:$B$40,\"L1\")","v":0},null,null,null,null,null,null,null,null,null,{"$f":"IF(S497=0,0,(AD497-S497)/S497*100)","v":0}]
["1",null,null,"L1_6",null,null,null,null,null,null,null,"1.6","Реагенты до 2020 года","тыс.руб.",null,null,null,0,null,null,null,null,null,null,null,null,null,null,null,null,null,null,null,null,null,null,null,null,null,0]
["1",null,null,"L1_7",null,null,null,null,null,null,null,"1.7","Операционные расходы по концессионным соглашениям","тыс.руб.",{"$f":"SUM(O500:O501)","v":0},{"$f":"SUM(P500:P501)","v":0},{"$f":"SUM(Q500:Q501)","v":0},0,{"$f":"SUM(S500:S501)","v":0},{"$f":"SUM(T500:T501)","v":0},null,null,null,null,null,null,null,null,null,{"$f":"SUM(AD500:AD501)","v":0},null,null,null,null,null,null,null,null,null,{"$f":"IF(S499=0,0,(AD499-S499)/S499*100)","v":0}]
["1",null,null,null,null,null,null,null,null,null,null,"1.7.0"]
["1",null,null,{"$f":"A501&\"pIns1\"","v":"1pIns1"},null,null,null,null,null,null,null,null,"Добавить"]
["1",null,null,"L2",null,null,null,null,null,null,null,"2","Неподконтрольные расходы","тыс.руб.",{"$f":"O503+O514+O515++O525+O526+O527+O529+O530+O531+O532+O535","v":5.8753200000000003},{"$f":"P503+P514+P515++P525+P526+P527+P529+P530+P531+P532+P535","v":1.5},{"$f":"Q503+Q514+Q515++Q525+Q526+Q527+Q529+Q530+Q531+Q532+Q535","v":8.3000000000000007},{"$f":"Q502-P502","v":6.8000000000000007},{"$f":"S503+S514+S515++S525+S526+S527+S529+S530+S531+S532+S535","v":1.496},172.65600000000001,178,185.12,192.53,200.23,0,0,0,0,0,105.384003538423,109.747299687037,114.077351674518,118.580605741499,123.26398997115899,0,0,0,0,0,{"$f":"IF(S502=0,0,(AD502-S502)/S502*100)","v":6944.3852632635699},{"$f":"IF(AD502=0,0,(AE502-AD502)/AD502*100)","v":4.140378048005303},3.9454747404527271,3.947544364309532,3.9495364358903542,-100,0,0,0,0]
["1",null,null,"L2_1",null,null,null,null,null,null,null,"2.1","Расходы на оплату товаров (услуг, работ), приобретаемых у других организаций","тыс.руб.",{"$f":"SUM(O504:O513)","v":0},{"$f":"SUM(P504:P513)","v":0},{"$f":"SUM(Q504:Q513)","v":0},0,{"$f":"SUM(S504:S513)","v":0},0,0,0,0,0,0,0,0,0,0,0,0,0,0,0,0,0,0,0,0,0,0,0,0,0,0,0,0,0,0]
["1","Затраты на тепловую энергию",null,"L2_1_1",null,null,null,null,null,null,null,"2.1.1","расходы на тепловую энергию","тыс.руб.",{"$f":"SUMIFS(Покупка!O$15:O$54,Покупка!$A$15:$A$54,$A504,Покупка!$M$15:$M$54,$B504)","v":0},{"$f":"SUMIFS(Покупка!P$15:P$54,Покупка!$A$15:$A$54,$A504,Покупка!$M$15:$M$54,$B504)","v":0},{"$f":"SUMIFS(Покупка!Q$15:Q$54,Покупка!$A$15:$A$54,$A504,Покупка!$M$15:$M$54,$B504)","v":0},0,{"$f":"SUMIFS(Покупка!R$15:R$54,Покупка!$A$15:$A$54,$A504,Покупка!$M$15:$M$54,$B504)","v":0},{"$f":"SUMIFS(Покупка!S$15:S$54,Покупка!$A$15:$A$54,$A504,Покупка!$M$15:$M$54,$B504)","v":0},{"$f":"SUMIFS(Покупка!T$15:T$54,Покупка!$A$15:$A$54,$A504,Покупка!$M$15:$M$54,$B504)","v":0},{"$f":"SUMIFS(Покупка!U$15:U$54,Покупка!$A$15:$A$54,$A504,Покупка!$M$15:$M$54,$B504)","v":0},{"$f":"SUMIFS(Покупка!V$15:V$54,Покупка!$A$15:$A$54,$A504,Покупка!$M$15:$M$54,$B504)","v":0},{"$f":"SUMIFS(Покупка!W$15:W$54,Покупка!$A$15:$A$54,$A504,Покупка!$M$15:$M$54,$B504)","v":0},{"$f":"SUMIFS(Покупка!X$15:X$54,Покупка!$A$15:$A$54,$A504,Покупка!$M$15:$M$54,$B504)","v":0},{"$f":"SUMIFS(Покупка!Y$15:Y$54,Покупка!$A$15:$A$54,$A504,Покупка!$M$15:$M$54,$B504)","v":0},{"$f":"SUMIFS(Покупка!Z$15:Z$54,Покупка!$A$15:$A$54,$A504,Покупка!$M$15:$M$54,$B504)","v":0},{"$f":"SUMIFS(Покупка!AA$15:AA$54,Покупка!$A$15:$A$54,$A504,Покупка!$M$15:$M$54,$B504)","v":0},{"$f":"SUMIFS(Покупка!AB$15:AB$54,Покупка!$A$15:$A$54,$A504,Покупка!$M$15:$M$54,$B504)","v":0},{"$f":"SUMIFS(Покупка!AC$15:AC$54,Покупка!$A$15:$A$54,$A504,Покупка!$M$15:$M$54,$B504)","v":0},{"$f":"SUMIFS(Покупка!AD$15:AD$54,Покупка!$A$15:$A$54,$A504,Покупка!$M$15:$M$54,$B504)","v":0},{"$f":"SUMIFS(Покупка!AE$15:AE$54,Покупка!$A$15:$A$54,$A504,Покупка!$M$15:$M$54,$B504)","v":0},{"$f":"SUMIFS(Покупка!AF$15:AF$54,Покупка!$A$15:$A$54,$A504,Покупка!$M$15:$M$54,$B504)","v":0},{"$f":"SUMIFS(Покупка!AG$15:AG$54,Покупка!$A$15:$A$54,$A504,Покупка!$M$15:$M$54,$B504)","v":0},{"$f":"SUMIFS(Покупка!AH$15:AH$54,Покупка!$A$15:$A$54,$A504,Покупка!$M$15:$M$54,$B504)","v":0},{"$f":"SUMIFS(Покупка!AI$15:AI$54,Покупка!$A$15:$A$54,$A504,Покупка!$M$15:$M$54,$B504)","v":0},{"$f":"SUMIFS(Покупка!AJ$15:AJ$54,Покупка!$A$15:$A$54,$A504,Покупка!$M$15:$M$54,$B504)","v":0},{"$f":"SUMIFS(Покупка!AK$15:AK$54,Покупка!$A$15:$A$54,$A504,Покупка!$M$15:$M$54,$B504)","v":0},{"$f":"SUMIFS(Покупка!AL$15:AL$54,Покупка!$A$15:$A$54,$A504,Покупка!$M$15:$M$54,$B504)","v":0},0,0,0,0,0,0,0,0,0,0]
["1","Затраты на теплоноситель",null,"L2_1_2",null,null,null,null,null,null,null,"2.1.2","расходы на теплоноситель","тыс.руб.",{"$f":"SUMIFS(Покупка!O$15:O$54,Покупка!$A$15:$A$54,$A505,Покупка!$M$15:$M$54,$B505)","v":0},{"$f":"SUMIFS(Покупка!P$15:P$54,Покупка!$A$15:$A$54,$A505,Покупка!$M$15:$M$54,$B505)","v":0},{"$f":"SUMIFS(Покупка!Q$15:Q$54,Покупка!$A$15:$A$54,$A505,Покупка!$M$15:$M$54,$B505)","v":0},0,{"$f":"SUMIFS(Покупка!R$15:R$54,Покупка!$A$15:$A$54,$A505,Покупка!$M$15:$M$54,$B505)","v":0},{"$f":"SUMIFS(Покупка!S$15:S$54,Покупка!$A$15:$A$54,$A505,Покупка!$M$15:$M$54,$B505)","v":0},{"$f":"SUMIFS(Покупка!T$15:T$54,Покупка!$A$15:$A$54,$A505,Покупка!$M$15:$M$54,$B505)","v":0},{"$f":"SUMIFS(Покупка!U$15:U$54,Покупка!$A$15:$A$54,$A505,Покупка!$M$15:$M$54,$B505)","v":0},{"$f":"SUMIFS(Покупка!V$15:V$54,Покупка!$A$15:$A$54,$A505,Покупка!$M$15:$M$54,$B505)","v":0},{"$f":"SUMIFS(Покупка!W$15:W$54,Покупка!$A$15:$A$54,$A505,Покупка!$M$15:$M$54,$B505)","v":0},{"$f":"SUMIFS(Покупка!X$15:X$54,Покупка!$A$15:$A$54,$A505,Покупка!$M$15:$M$54,$B505)","v":0},{"$f":"SUMIFS(Покупка!Y$15:Y$54,Покупка!$A$15:$A$54,$A505,Покупка!$M$15:$M$54,$B505)","v":0},{"$f":"SUMIFS(Покупка!Z$15:Z$54,Покупка!$A$15:$A$54,$A505,Покупка!$M$15:$M$54,$B505)","v":0},{"$f":"SUMIFS(Покупка!AA$15:AA$54,Покупка!$A$15:$A$54,$A505,Покупка!$M$15:$M$54,$B505)","v":0},{"$f":"SUMIFS(Покупка!AB$15:AB$54,Покупка!$A$15:$A$54,$A505,Покупка!$M$15:$M$54,$B505)","v":0},{"$f":"SUMIFS(Покупка!AC$15:AC$54,Покупка!$A$15:$A$54,$A505,Покупка!$M$15:$M$54,$B505)","v":0},{"$f":"SUMIFS(Покупка!AD$15:AD$54,Покупка!$A$15:$A$54,$A505,Покупка!$M$15:$M$54,$B505)","v":0},{"$f":"SUMIFS(Покупка!AE$15:AE$54,Покупка!$A$15:$A$54,$A505,Покупка!$M$15:$M$54,$B505)","v":0},{"$f":"SUMIFS(Покупка!AF$15:AF$54,Покупка!$A$15:$A$54,$A505,Покупка!$M$15:$M$54,$B505)","v":0},{"$f":"SUMIFS(Покупка!AG$15:AG$54,Покупка!$A$15:$A$54,$A505,Покупка!$M$15:$M$54,$B505)","v":0},{"$f":"SUMIFS(Покупка!AH$15:AH$54,Покупка!$A$15:$A$54,$A505,Покупка!$M$15:$M$54,$B505)","v":0},{"$f":"SUMIFS(Покупка!AI$15:AI$54,Покупка!$A$15:$A$54,$A505,Покупка!$M$15:$M$54,$B505)","v":0},{"$f":"SUMIFS(Покупка!AJ$15:AJ$54,Покупка!$A$15:$A$54,$A505,Покупка!$M$15:$M$54,$B505)","v":0},{"$f":"SUMIFS(Покупка!AK$15:AK$54,Покупка!$A$15:$A$54,$A505,Покупка!$M$15:$M$54,$B505)","v":0},{"$f":"SUMIFS(Покупка!AL$15:AL$54,Покупка!$A$15:$A$54,$A505,Покупка!$M$15:$M$54,$B505)","v":0},0,0,0,0,0,0,0,0,0,0]
["1","Затраты на транспортировку холодной воды",null,"L2_1_3",null,null,null,null,null,null,null,"2.1.3","расходы на транспортировку воды","тыс.руб.",{"$f":"SUMIFS(Покупка!O$15:O$54,Покупка!$A$15:$A$54,$A506,Покупка!$M$15:$M$54,$B506)","v":0},{"$f":"SUMIFS(Покупка!P$15:P$54,Покупка!$A$15:$A$54,$A506,Покупка!$M$15:$M$54,$B506)","v":0},{"$f":"SUMIFS(Покупка!Q$15:Q$54,Покупка!$A$15:$A$54,$A506,Покупка!$M$15:$M$54,$B506)","v":0},0,{"$f":"SUMIFS(Покупка!R$15:R$54,Покупка!$A$15:$A$54,$A506,Покупка!$M$15:$M$54,$B506)","v":0},{"$f":"SUMIFS(Покупка!S$15:S$54,Покупка!$A$15:$A$54,$A506,Покупка!$M$15:$M$54,$B506)","v":0},{"$f":"SUMIFS(Покупка!T$15:T$54,Покупка!$A$15:$A$54,$A506,Покупка!$M$15:$M$54,$B506)","v":0},{"$f":"SUMIFS(Покупка!U$15:U$54,Покупка!$A$15:$A$54,$A506,Покупка!$M$15:$M$54,$B506)","v":0},{"$f":"SUMIFS(Покупка!V$15:V$54,Покупка!$A$15:$A$54,$A506,Покупка!$M$15:$M$54,$B506)","v":0},{"$f":"SUMIFS(Покупка!W$15:W$54,Покупка!$A$15:$A$54,$A506,Покупка!$M$15:$M$54,$B506)","v":0},{"$f":"SUMIFS(Покупка!X$15:X$54,Покупка!$A$15:$A$54,$A506,Покупка!$M$15:$M$54,$B506)","v":0},{"$f":"SUMIFS(Покупка!Y$15:Y$54,Покупка!$A$15:$A$54,$A506,Покупка!$M$15:$M$54,$B506)","v":0},{"$f":"SUMIFS(Покупка!Z$15:Z$54,Покупка!$A$15:$A$54,$A506,Покупка!$M$15:$M$54,$B506)","v":0},{"$f":"SUMIFS(Покупка!AA$15:AA$54,Покупка!$A$15:$A$54,$A506,Покупка!$M$15:$M$54,$B506)","v":0},{"$f":"SUMIFS(Покупка!AB$15:AB$54,Покупка!$A$15:$A$54,$A506,Покупка!$M$15:$M$54,$B506)","v":0},{"$f":"SUMIFS(Покупка!AC$15:AC$54,Покупка!$A$15:$A$54,$A506,Покупка!$M$15:$M$54,$B506)","v":0},{"$f":"SUMIFS(Покупка!AD$15:AD$54,Покупка!$A$15:$A$54,$A506,Покупка!$M$15:$M$54,$B506)","v":0},{"$f":"SUMIFS(Покупка!AE$15:AE$54,Покупка!$A$15:$A$54,$A506,Покупка!$M$15:$M$54,$B506)","v":0},{"$f":"SUMIFS(Покупка!AF$15:AF$54,Покупка!$A$15:$A$54,$A506,Покупка!$M$15:$M$54,$B506)","v":0},{"$f":"SUMIFS(Покупка!AG$15:AG$54,Покупка!$A$15:$A$54,$A506,Покупка!$M$15:$M$54,$B506)","v":0},{"$f":"SUMIFS(Покупка!AH$15:AH$54,Покупка!$A$15:$A$54,$A506,Покупка!$M$15:$M$54,$B506)","v":0},{"$f":"SUMIFS(Покупка!AI$15:AI$54,Покупка!$A$15:$A$54,$A506,Покупка!$M$15:$M$54,$B506)","v":0},{"$f":"SUMIFS(Покупка!AJ$15:AJ$54,Покупка!$A$15:$A$54,$A506,Покупка!$M$15:$M$54,$B506)","v":0},{"$f":"SUMIFS(Покупка!AK$15:AK$54,Покупка!$A$15:$A$54,$A506,Покупка!$M$15:$M$54,$B506)","v":0},{"$f":"SUMIFS(Покупка!AL$15:AL$54,Покупка!$A$15:$A$54,$A506,Покупка!$M$15:$M$54,$B506)","v":0},0,0,0,0,0,0,0,0,0,0]
["1","Затраты на холодную воду",null,"L2_1_4",null,null,null,null,null,null,null,"2.1.4","расходы на покупку воды","тыс.руб.",{"$f":"SUMIFS(Покупка!O$15:O$54,Покупка!$A$15:$A$54,$A507,Покупка!$M$15:$M$54,$B507)","v":0},{"$f":"SUMIFS(Покупка!P$15:P$54,Покупка!$A$15:$A$54,$A507,Покупка!$M$15:$M$54,$B507)","v":0},{"$f":"SUMIFS(Покупка!Q$15:Q$54,Покупка!$A$15:$A$54,$A507,Покупка!$M$15:$M$54,$B507)","v":0},0,{"$f":"SUMIFS(Покупка!R$15:R$54,Покупка!$A$15:$A$54,$A507,Покупка!$M$15:$M$54,$B507)","v":0},{"$f":"SUMIFS(Покупка!S$15:S$54,Покупка!$A$15:$A$54,$A507,Покупка!$M$15:$M$54,$B507)","v":0},{"$f":"SUMIFS(Покупка!T$15:T$54,Покупка!$A$15:$A$54,$A507,Покупка!$M$15:$M$54,$B507)","v":0},{"$f":"SUMIFS(Покупка!U$15:U$54,Покупка!$A$15:$A$54,$A507,Покупка!$M$15:$M$54,$B507)","v":0},{"$f":"SUMIFS(Покупка!V$15:V$54,Покупка!$A$15:$A$54,$A507,Покупка!$M$15:$M$54,$B507)","v":0},{"$f":"SUMIFS(Покупка!W$15:W$54,Покупка!$A$15:$A$54,$A507,Покупка!$M$15:$M$54,$B507)","v":0},{"$f":"SUMIFS(Покупка!X$15:X$54,Покупка!$A$15:$A$54,$A507,Покупка!$M$15:$M$54,$B507)","v":0},{"$f":"SUMIFS(Покупка!Y$15:Y$54,Покупка!$A$15:$A$54,$A507,Покупка!$M$15:$M$54,$B507)","v":0},{"$f":"SUMIFS(Покупка!Z$15:Z$54,Покупка!$A$15:$A$54,$A507,Покупка!$M$15:$M$54,$B507)","v":0},{"$f":"SUMIFS(Покупка!AA$15:AA$54,Покупка!$A$15:$A$54,$A507,Покупка!$M$15:$M$54,$B507)","v":0},{"$f":"SUMIFS(Покупка!AB$15:AB$54,Покупка!$A$15:$A$54,$A507,Покупка!$M$15:$M$54,$B507)","v":0},{"$f":"SUMIFS(Покупка!AC$15:AC$54,Покупка!$A$15:$A$54,$A507,Покупка!$M$15:$M$54,$B507)","v":0},{"$f":"SUMIFS(Покупка!AD$15:AD$54,Покупка!$A$15:$A$54,$A507,Покупка!$M$15:$M$54,$B507)","v":0},{"$f":"SUMIFS(Покупка!AE$15:AE$54,Покупка!$A$15:$A$54,$A507,Покупка!$M$15:$M$54,$B507)","v":0},{"$f":"SUMIFS(Покупка!AF$15:AF$54,Покупка!$A$15:$A$54,$A507,Покупка!$M$15:$M$54,$B507)","v":0},{"$f":"SUMIFS(Покупка!AG$15:AG$54,Покупка!$A$15:$A$54,$A507,Покупка!$M$15:$M$54,$B507)","v":0},{"$f":"SUMIFS(Покупка!AH$15:AH$54,Покупка!$A$15:$A$54,$A507,Покупка!$M$15:$M$54,$B507)","v":0},{"$f":"SUMIFS(Покупка!AI$15:AI$54,Покупка!$A$15:$A$54,$A507,Покупка!$M$15:$M$54,$B507)","v":0},{"$f":"SUMIFS(Покупка!AJ$15:AJ$54,Покупка!$A$15:$A$54,$A507,Покупка!$M$15:$M$54,$B507)","v":0},{"$f":"SUMIFS(Покупка!AK$15:AK$54,Покупка!$A$15:$A$54,$A507,Покупка!$M$15:$M$54,$B507)","v":0},{"$f":"SUMIFS(Покупка!AL$15:AL$54,Покупка!$A$15:$A$54,$A507,Покупка!$M$15:$M$54,$B507)","v":0},0,0,0,0,0,0,0,0,0,0]
["1","Затраты на горячую воду",null,"L2_1_5",null,null,null,null,null,null,null,"2.1.5","услуги по горячему водоснабжению","тыс.руб.",{"$f":"SUMIFS(Покупка!O$15:O$54,Покупка!$A$15:$A$54,$A508,Покупка!$M$15:$M$54,$B508)","v":0},{"$f":"SUMIFS(Покупка!P$15:P$54,Покупка!$A$15:$A$54,$A508,Покупка!$M$15:$M$54,$B508)","v":0},{"$f":"SUMIFS(Покупка!Q$15:Q$54,Покупка!$A$15:$A$54,$A508,Покупка!$M$15:$M$54,$B508)","v":0},0,{"$f":"SUMIFS(Покупка!R$15:R$54,Покупка!$A$15:$A$54,$A508,Покупка!$M$15:$M$54,$B508)","v":0},{"$f":"SUMIFS(Покупка!S$15:S$54,Покупка!$A$15:$A$54,$A508,Покупка!$M$15:$M$54,$B508)","v":0},{"$f":"SUMIFS(Покупка!T$15:T$54,Покупка!$A$15:$A$54,$A508,Покупка!$M$15:$M$54,$B508)","v":0},{"$f":"SUMIFS(Покупка!U$15:U$54,Покупка!$A$15:$A$54,$A508,Покупка!$M$15:$M$54,$B508)","v":0},{"$f":"SUMIFS(Покупка!V$15:V$54,Покупка!$A$15:$A$54,$A508,Покупка!$M$15:$M$54,$B508)","v":0},{"$f":"SUMIFS(Покупка!W$15:W$54,Покупка!$A$15:$A$54,$A508,Покупка!$M$15:$M$54,$B508)","v":0},{"$f":"SUMIFS(Покупка!X$15:X$54,Покупка!$A$15:$A$54,$A508,Покупка!$M$15:$M$54,$B508)","v":0},{"$f":"SUMIFS(Покупка!Y$15:Y$54,Покупка!$A$15:$A$54,$A508,Покупка!$M$15:$M$54,$B508)","v":0},{"$f":"SUMIFS(Покупка!Z$15:Z$54,Покупка!$A$15:$A$54,$A508,Покупка!$M$15:$M$54,$B508)","v":0},{"$f":"SUMIFS(Покупка!AA$15:AA$54,Покупка!$A$15:$A$54,$A508,Покупка!$M$15:$M$54,$B508)","v":0},{"$f":"SUMIFS(Покупка!AB$15:AB$54,Покупка!$A$15:$A$54,$A508,Покупка!$M$15:$M$54,$B508)","v":0},{"$f":"SUMIFS(Покупка!AC$15:AC$54,Покупка!$A$15:$A$54,$A508,Покупка!$M$15:$M$54,$B508)","v":0},{"$f":"SUMIFS(Покупка!AD$15:AD$54,Покупка!$A$15:$A$54,$A508,Покупка!$M$15:$M$54,$B508)","v":0},{"$f":"SUMIFS(Покупка!AE$15:AE$54,Покупка!$A$15:$A$54,$A508,Покупка!$M$15:$M$54,$B508)","v":0},{"$f":"SUMIFS(Покупка!AF$15:AF$54,Покупка!$A$15:$A$54,$A508,Покупка!$M$15:$M$54,$B508)","v":0},{"$f":"SUMIFS(Покупка!AG$15:AG$54,Покупка!$A$15:$A$54,$A508,Покупка!$M$15:$M$54,$B508)","v":0},{"$f":"SUMIFS(Покупка!AH$15:AH$54,Покупка!$A$15:$A$54,$A508,Покупка!$M$15:$M$54,$B508)","v":0},{"$f":"SUMIFS(Покупка!AI$15:AI$54,Покупка!$A$15:$A$54,$A508,Покупка!$M$15:$M$54,$B508)","v":0},{"$f":"SUMIFS(Покупка!AJ$15:AJ$54,Покупка!$A$15:$A$54,$A508,Покупка!$M$15:$M$54,$B508)","v":0},{"$f":"SUMIFS(Покупка!AK$15:AK$54,Покупка!$A$15:$A$54,$A508,Покупка!$M$15:$M$54,$B508)","v":0},{"$f":"SUMIFS(Покупка!AL$15:AL$54,Покупка!$A$15:$A$54,$A508,Покупка!$M$15:$M$54,$B508)","v":0},0,0,0,0,0,0,0,0,0,0]
["1",null,null,"L2_1_6",null,null,null,null,null,null,null,"2.1.6","услуги по приготовлению воды на нужды горячего водоснабжения","тыс.руб.",null,null,null,0,null,null,null,null,null,null,null,null,null,null,null,null,null,null,null,null,null,null,null,null,null,0,{"$f":"IF(AD509=0,0,(AE509-AD509)/AD509*100)","v":0},0,0,0,0,0,0,0,0]
["1",null,null,"L2_1_7",null,null,null,null,null,null,null,"2.1.7","услуги по транспортировке горячей воды","тыс.руб.",null,null,null,0,null,null,null,null,null,null,null,null,null,null,null,null,null,null,null,null,null,null,null,null,null,0,0,0,0,0,0,0,0,0,0]
["1","Затраты на водоотведение",null,"L2_1_8",null,null,null,null,null,null,null,"2.1.8","услуги по водоотведению","тыс.руб.",{"$f":"SUMIFS(Покупка!O$15:O$54,Покупка!$A$15:$A$54,$A511,Покупка!$M$15:$M$54,$B511)","v":0},{"$f":"SUMIFS(Покупка!P$15:P$54,Покупка!$A$15:$A$54,$A511,Покупка!$M$15:$M$54,$B511)","v":0},{"$f":"SUMIFS(Покупка!Q$15:Q$54,Покупка!$A$15:$A$54,$A511,Покупка!$M$15:$M$54,$B511)","v":0},0,{"$f":"SUMIFS(Покупка!R$15:R$54,Покупка!$A$15:$A$54,$A511,Покупка!$M$15:$M$54,$B511)","v":0},{"$f":"SUMIFS(Покупка!S$15:S$54,Покупка!$A$15:$A$54,$A511,Покупка!$M$15:$M$54,$B511)","v":0},{"$f":"SUMIFS(Покупка!T$15:T$54,Покупка!$A$15:$A$54,$A511,Покупка!$M$15:$M$54,$B511)","v":0},{"$f":"SUMIFS(Покупка!U$15:U$54,Покупка!$A$15:$A$54,$A511,Покупка!$M$15:$M$54,$B511)","v":0},{"$f":"SUMIFS(Покупка!V$15:V$54,Покупка!$A$15:$A$54,$A511,Покупка!$M$15:$M$54,$B511)","v":0},{"$f":"SUMIFS(Покупка!W$15:W$54,Покупка!$A$15:$A$54,$A511,Покупка!$M$15:$M$54,$B511)","v":0},{"$f":"SUMIFS(Покупка!X$15:X$54,Покупка!$A$15:$A$54,$A511,Покупка!$M$15:$M$54,$B511)","v":0},{"$f":"SUMIFS(Покупка!Y$15:Y$54,Покупка!$A$15:$A$54,$A511,Покупка!$M$15:$M$54,$B511)","v":0},{"$f":"SUMIFS(Покупка!Z$15:Z$54,Покупка!$A$15:$A$54,$A511,Покупка!$M$15:$M$54,$B511)","v":0},{"$f":"SUMIFS(Покупка!AA$15:AA$54,Покупка!$A$15:$A$54,$A511,Покупка!$M$15:$M$54,$B511)","v":0},{"$f":"SUMIFS(Покупка!AB$15:AB$54,Покупка!$A$15:$A$54,$A511,Покупка!$M$15:$M$54,$B511)","v":0},{"$f":"SUMIFS(Покупка!AC$15:AC$54,Покупка!$A$15:$A$54,$A511,Покупка!$M$15:$M$54,$B511)","v":0},{"$f":"SUMIFS(Покупка!AD$15:AD$54,Покупка!$A$15:$A$54,$A511,Покупка!$M$15:$M$54,$B511)","v":0},{"$f":"SUMIFS(Покупка!AE$15:AE$54,Покупка!$A$15:$A$54,$A511,Покупка!$M$15:$M$54,$B511)","v":0},{"$f":"SUMIFS(Покупка!AF$15:AF$54,Покупка!$A$15:$A$54,$A511,Покупка!$M$15:$M$54,$B511)","v":0},{"$f":"SUMIFS(Покупка!AG$15:AG$54,Покупка!$A$15:$A$54,$A511,Покупка!$M$15:$M$54,$B511)","v":0},{"$f":"SUMIFS(Покупка!AH$15:AH$54,Покупка!$A$15:$A$54,$A511,Покупка!$M$15:$M$54,$B511)","v":0},{"$f":"SUMIFS(Покупка!AI$15:AI$54,Покупка!$A$15:$A$54,$A511,Покупка!$M$15:$M$54,$B511)","v":0},{"$f":"SUMIFS(Покупка!AJ$15:AJ$54,Покупка!$A$15:$A$54,$A511,Покупка!$M$15:$M$54,$B511)","v":0},{"$f":"SUMIFS(Покупка!AK$15:AK$54,Покупка!$A$15:$A$54,$A511,Покупка!$M$15:$M$54,$B511)","v":0},{"$f":"SUMIFS(Покупка!AL$15:AL$54,Покупка!$A$15:$A$54,$A511,Покупка!$M$15:$M$54,$B511)","v":0},{"$f":"IF(S511=0,0,(AD511-S511)/S511*100)","v":0},{"$f":"IF(AD511=0,0,(AE511-AD511)/AD511*100)","v":0},0,0,0,0,0,0,0,0]
["1","Затраты на транспортировку сточных вод",null,"L2_1_9",null,null,null,null,null,null,null,"2.1.9","услуги по транспортировке сточных вод","тыс.руб.",{"$f":"SUMIFS(Покупка!O$15:O$54,Покупка!$A$15:$A$54,$A512,Покупка!$M$15:$M$54,$B512)","v":0},{"$f":"SUMIFS(Покупка!P$15:P$54,Покупка!$A$15:$A$54,$A512,Покупка!$M$15:$M$54,$B512)","v":0},{"$f":"SUMIFS(Покупка!Q$15:Q$54,Покупка!$A$15:$A$54,$A512,Покупка!$M$15:$M$54,$B512)","v":0},0,{"$f":"SUMIFS(Покупка!R$15:R$54,Покупка!$A$15:$A$54,$A512,Покупка!$M$15:$M$54,$B512)","v":0},{"$f":"SUMIFS(Покупка!S$15:S$54,Покупка!$A$15:$A$54,$A512,Покупка!$M$15:$M$54,$B512)","v":0},{"$f":"SUMIFS(Покупка!T$15:T$54,Покупка!$A$15:$A$54,$A512,Покупка!$M$15:$M$54,$B512)","v":0},{"$f":"SUMIFS(Покупка!U$15:U$54,Покупка!$A$15:$A$54,$A512,Покупка!$M$15:$M$54,$B512)","v":0},{"$f":"SUMIFS(Покупка!V$15:V$54,Покупка!$A$15:$A$54,$A512,Покупка!$M$15:$M$54,$B512)","v":0},{"$f":"SUMIFS(Покупка!W$15:W$54,Покупка!$A$15:$A$54,$A512,Покупка!$M$15:$M$54,$B512)","v":0},{"$f":"SUMIFS(Покупка!X$15:X$54,Покупка!$A$15:$A$54,$A512,Покупка!$M$15:$M$54,$B512)","v":0},{"$f":"SUMIFS(Покупка!Y$15:Y$54,Покупка!$A$15:$A$54,$A512,Покупка!$M$15:$M$54,$B512)","v":0},{"$f":"SUMIFS(Покупка!Z$15:Z$54,Покупка!$A$15:$A$54,$A512,Покупка!$M$15:$M$54,$B512)","v":0},{"$f":"SUMIFS(Покупка!AA$15:AA$54,Покупка!$A$15:$A$54,$A512,Покупка!$M$15:$M$54,$B512)","v":0},{"$f":"SUMIFS(Покупка!AB$15:AB$54,Покупка!$A$15:$A$54,$A512,Покупка!$M$15:$M$54,$B512)","v":0},{"$f":"SUMIFS(Покупка!AC$15:AC$54,Покупка!$A$15:$A$54,$A512,Покупка!$M$15:$M$54,$B512)","v":0},{"$f":"SUMIFS(Покупка!AD$15:AD$54,Покупка!$A$15:$A$54,$A512,Покупка!$M$15:$M$54,$B512)","v":0},{"$f":"SUMIFS(Покупка!AE$15:AE$54,Покупка!$A$15:$A$54,$A512,Покупка!$M$15:$M$54,$B512)","v":0},{"$f":"SUMIFS(Покупка!AF$15:AF$54,Покупка!$A$15:$A$54,$A512,Покупка!$M$15:$M$54,$B512)","v":0},{"$f":"SUMIFS(Покупка!AG$15:AG$54,Покупка!$A$15:$A$54,$A512,Покупка!$M$15:$M$54,$B512)","v":0},{"$f":"SUMIFS(Покупка!AH$15:AH$54,Покупка!$A$15:$A$54,$A512,Покупка!$M$15:$M$54,$B512)","v":0},{"$f":"SUMIFS(Покупка!AI$15:AI$54,Покупка!$A$15:$A$54,$A512,Покупка!$M$15:$M$54,$B512)","v":0},{"$f":"SUMIFS(Покупка!AJ$15:AJ$54,Покупка!$A$15:$A$54,$A512,Покупка!$M$15:$M$54,$B512)","v":0},{"$f":"SUMIFS(Покупка!AK$15:AK$54,Покупка!$A$15:$A$54,$A512,Покупка!$M$15:$M$54,$B512)","v":0},{"$f":"SUMIFS(Покупка!AL$15:AL$54,Покупка!$A$15:$A$54,$A512,Покупка!$M$15:$M$54,$B512)","v":0},{"$f":"IF(S512=0,0,(AD512-S512)/S512*100)","v":0},0,0,0,0,0,0,0,0,0]
["1","Затраты на очистку сточных вод",null,"L2_1_10",null,null,null,null,null,null,null,"2.1.10","услуги по очистке сточных вод","тыс.руб.",{"$f":"SUMIFS(Покупка!O$15:O$54,Покупка!$A$15:$A$54,$A513,Покупка!$M$15:$M$54,$B513)","v":0},{"$f":"SUMIFS(Покупка!P$15:P$54,Покупка!$A$15:$A$54,$A513,Покупка!$M$15:$M$54,$B513)","v":0},{"$f":"SUMIFS(Покупка!Q$15:Q$54,Покупка!$A$15:$A$54,$A513,Покупка!$M$15:$M$54,$B513)","v":0},0,{"$f":"SUMIFS(Покупка!R$15:R$54,Покупка!$A$15:$A$54,$A513,Покупка!$M$15:$M$54,$B513)","v":0},{"$f":"SUMIFS(Покупка!S$15:S$54,Покупка!$A$15:$A$54,$A513,Покупка!$M$15:$M$54,$B513)","v":0},{"$f":"SUMIFS(Покупка!T$15:T$54,Покупка!$A$15:$A$54,$A513,Покупка!$M$15:$M$54,$B513)","v":0},{"$f":"SUMIFS(Покупка!U$15:U$54,Покупка!$A$15:$A$54,$A513,Покупка!$M$15:$M$54,$B513)","v":0},{"$f":"SUMIFS(Покупка!V$15:V$54,Покупка!$A$15:$A$54,$A513,Покупка!$M$15:$M$54,$B513)","v":0},{"$f":"SUMIFS(Покупка!W$15:W$54,Покупка!$A$15:$A$54,$A513,Покупка!$M$15:$M$54,$B513)","v":0},{"$f":"SUMIFS(Покупка!X$15:X$54,Покупка!$A$15:$A$54,$A513,Покупка!$M$15:$M$54,$B513)","v":0},{"$f":"SUMIFS(Покупка!Y$15:Y$54,Покупка!$A$15:$A$54,$A513,Покупка!$M$15:$M$54,$B513)","v":0},{"$f":"SUMIFS(Покупка!Z$15:Z$54,Покупка!$A$15:$A$54,$A513,Покупка!$M$15:$M$54,$B513)","v":0},{"$f":"SUMIFS(Покупка!AA$15:AA$54,Покупка!$A$15:$A$54,$A513,Покупка!$M$15:$M$54,$B513)","v":0},{"$f":"SUMIFS(Покупка!AB$15:AB$54,Покупка!$A$15:$A$54,$A513,Покупка!$M$15:$M$54,$B513)","v":0},{"$f":"SUMIFS(Покупка!AC$15:AC$54,Покупка!$A$15:$A$54,$A513,Покупка!$M$15:$M$54,$B513)","v":0},{"$f":"SUMIFS(Покупка!AD$15:AD$54,Покупка!$A$15:$A$54,$A513,Покупка!$M$15:$M$54,$B513)","v":0},{"$f":"SUMIFS(Покупка!AE$15:AE$54,Покупка!$A$15:$A$54,$A513,Покупка!$M$15:$M$54,$B513)","v":0},{"$f":"SUMIFS(Покупка!AF$15:AF$54,Покупка!$A$15:$A$54,$A513,Покупка!$M$15:$M$54,$B513)","v":0},{"$f":"SUMIFS(Покупка!AG$15:AG$54,Покупка!$A$15:$A$54,$A513,Покупка!$M$15:$M$54,$B513)","v":0},{"$f":"SUMIFS(Покупка!AH$15:AH$54,Покупка!$A$15:$A$54,$A513,Покупка!$M$15:$M$54,$B513)","v":0},{"$f":"SUMIFS(Покупка!AI$15:AI$54,Покупка!$A$15:$A$54,$A513,Покупка!$M$15:$M$54,$B513)","v":0},{"$f":"SUMIFS(Покупка!AJ$15:AJ$54,Покупка!$A$15:$A$54,$A513,Покупка!$M$15:$M$54,$B513)","v":0},{"$f":"SUMIFS(Покупка!AK$15:AK$54,Покупка!$A$15:$A$54,$A513,Покупка!$M$15:$M$54,$B513)","v":0},{"$f":"SUMIFS(Покупка!AL$15:AL$54,Покупка!$A$15:$A$54,$A513,Покупка!$M$15:$M$54,$B513)","v":0},{"$f":"IF(S513=0,0,(AD513-S513)/S513*100)","v":0},0,0,0,0,0,0,0,0,0]
["1",null,null,"L2_2",null,null,null,null,null,null,null,"2.2","Расходы на реагенты","тыс.руб.",{"$f":"SUMIFS(Реагенты!O$15:O$29,Реагенты!$A$15:$A$29,$A514,Реагенты!$M$15:$M$29,\"Всего по тарифу\")","v":0},{"$f":"SUMIFS(Реагенты!P$15:P$29,Реагенты!$A$15:$A$29,$A514,Реагенты!$M$15:$M$29,\"Всего по тарифу\")","v":0},{"$f":"SUMIFS(Реагенты!Q$15:Q$29,Реагенты!$A$15:$A$29,$A514,Реагенты!$M$15:$M$29,\"Всего по тарифу\")","v":0},0,{"$f":"SUMIFS(Реагенты!R$15:R$29,Реагенты!$A$15:$A$29,$A514,Реагенты!$M$15:$M$29,\"Всего по тарифу\")","v":0},{"$f":"SUMIFS(Реагенты!S$15:S$29,Реагенты!$A$15:$A$29,$A514,Реагенты!$M$15:$M$29,\"Всего по тарифу\")","v":171.16},{"$f":"SUMIFS(Реагенты!T$15:T$29,Реагенты!$A$15:$A$29,$A514,Реагенты!$M$15:$M$29,\"Всего по тарифу\")","v":178},{"$f":"SUMIFS(Реагенты!U$15:U$29,Реагенты!$A$15:$A$29,$A514,Реагенты!$M$15:$M$29,\"Всего по тарифу\")","v":185.12},{"$f":"SUMIFS(Реагенты!V$15:V$29,Реагенты!$A$15:$A$29,$A514,Реагенты!$M$15:$M$29,\"Всего по тарифу\")","v":192.53},{"$f":"SUMIFS(Реагенты!W$15:W$29,Реагенты!$A$15:$A$29,$A514,Реагенты!$M$15:$M$29,\"Всего по тарифу\")","v":200.23},{"$f":"SUMIFS(Реагенты!X$15:X$29,Реагенты!$A$15:$A$29,$A514,Реагенты!$M$15:$M$29,\"Всего по тарифу\")","v":0},{"$f":"SUMIFS(Реагенты!Y$15:Y$29,Реагенты!$A$15:$A$29,$A514,Реагенты!$M$15:$M$29,\"Всего по тарифу\")","v":0},{"$f":"SUMIFS(Реагенты!Z$15:Z$29,Реагенты!$A$15:$A$29,$A514,Реагенты!$M$15:$M$29,\"Всего по тарифу\")","v":0},{"$f":"SUMIFS(Реагенты!AA$15:AA$29,Реагенты!$A$15:$A$29,$A514,Реагенты!$M$15:$M$29,\"Всего по тарифу\")","v":0},{"$f":"SUMIFS(Реагенты!AB$15:AB$29,Реагенты!$A$15:$A$29,$A514,Реагенты!$M$15:$M$29,\"Всего по тарифу\")","v":0},{"$f":"SUMIFS(Реагенты!AC$15:AC$29,Реагенты!$A$15:$A$29,$A514,Реагенты!$M$15:$M$29,\"Всего по тарифу\")","v":103.88800353842301},{"$f":"SUMIFS(Реагенты!AD$15:AD$29,Реагенты!$A$15:$A$29,$A514,Реагенты!$M$15:$M$29,\"Всего по тарифу\")","v":108.251299687037},{"$f":"SUMIFS(Реагенты!AE$15:AE$29,Реагенты!$A$15:$A$29,$A514,Реагенты!$M$15:$M$29,\"Всего по тарифу\")","v":112.581351674518},{"$f":"SUMIFS(Реагенты!AF$15:AF$29,Реагенты!$A$15:$A$29,$A514,Реагенты!$M$15:$M$29,\"Всего по тарифу\")","v":117.084605741499},{"$f":"SUMIFS(Реагенты!AG$15:AG$29,Реагенты!$A$15:$A$29,$A514,Реагенты!$M$15:$M$29,\"Всего по тарифу\")","v":121.767989971159},{"$f":"SUMIFS(Реагенты!AH$15:AH$29,Реагенты!$A$15:$A$29,$A514,Реагенты!$M$15:$M$29,\"Всего по тарифу\")","v":0},{"$f":"SUMIFS(Реагенты!AI$15:AI$29,Реагенты!$A$15:$A$29,$A514,Реагенты!$M$15:$M$29,\"Всего по тарифу\")","v":0},{"$f":"SUMIFS(Реагенты!AJ$15:AJ$29,Реагенты!$A$15:$A$29,$A514,Реагенты!$M$15:$M$29,\"Всего по тарифу\")","v":0},{"$f":"SUMIFS(Реагенты!AK$15:AK$29,Реагенты!$A$15:$A$29,$A514,Реагенты!$M$15:$M$29,\"Всего по тарифу\")","v":0},{"$f":"SUMIFS(Реагенты!AL$15:AL$29,Реагенты!$A$15:$A$29,$A514,Реагенты!$M$15:$M$29,\"Всего по тарифу\")","v":0},{"$f":"IF(S514=0,0,(AD514-S514)/S514*100)","v":0},4.2000000000002231,3.9999999999995559,4.0000000000002496,4.0000000000000275,-100,0,0,0,0]
["1",null,null,"L2_3",null,null,null,null,null,null,null,"2.3","Налоги и сборы","тыс.руб.",{"$f":"SUM(O516:O524)","v":1.5},{"$f":"SUM(P516:P524)","v":1.5},1.5,{"$f":"Q515-P515","v":0},1.496,1.496,0,0,0,0,0,0,0,0,0,1.496,1.496,1.496,1.496,1.496,0,0,0,0,0,0,0,0,0,0,-100,0,0,0,0]
["1","Налог на прибыль",null,"L2_3_1",null,null,null,null,null,null,null,"2.3.1","налог на прибыль","тыс.руб.",{"$f":"SUMIFS(Налоги!O$15:O$42,Налоги!$A$15:$A$42,$A516,Налоги!$M$15:$M$42,$B516)","v":0},{"$f":"SUMIFS(Налоги!P$15:P$42,Налоги!$A$15:$A$42,$A516,Налоги!$M$15:$M$42,$B516)","v":0},{"$f":"SUMIFS(Налоги!Q$15:Q$42,Налоги!$A$15:$A$42,$A516,Налоги!$M$15:$M$42,$B516)","v":0},0,{"$f":"SUMIFS(Налоги!R$15:R$42,Налоги!$A$15:$A$42,$A516,Налоги!$M$15:$M$42,$B516)","v":0},{"$f":"SUMIFS(Налоги!S$15:S$42,Налоги!$A$15:$A$42,$A516,Налоги!$M$15:$M$42,$B516)","v":0},{"$f":"SUMIFS(Налоги!T$15:T$42,Налоги!$A$15:$A$42,$A516,Налоги!$M$15:$M$42,$B516)","v":0},{"$f":"SUMIFS(Налоги!U$15:U$42,Налоги!$A$15:$A$42,$A516,Налоги!$M$15:$M$42,$B516)","v":0},{"$f":"SUMIFS(Налоги!V$15:V$42,Налоги!$A$15:$A$42,$A516,Налоги!$M$15:$M$42,$B516)","v":0},{"$f":"SUMIFS(Налоги!W$15:W$42,Налоги!$A$15:$A$42,$A516,Налоги!$M$15:$M$42,$B516)","v":0},{"$f":"SUMIFS(Налоги!X$15:X$42,Налоги!$A$15:$A$42,$A516,Налоги!$M$15:$M$42,$B516)","v":0},{"$f":"SUMIFS(Налоги!Y$15:Y$42,Налоги!$A$15:$A$42,$A516,Налоги!$M$15:$M$42,$B516)","v":0},{"$f":"SUMIFS(Налоги!Z$15:Z$42,Налоги!$A$15:$A$42,$A516,Налоги!$M$15:$M$42,$B516)","v":0},{"$f":"SUMIFS(Налоги!AA$15:AA$42,Налоги!$A$15:$A$42,$A516,Налоги!$M$15:$M$42,$B516)","v":0},{"$f":"SUMIFS(Налоги!AB$15:AB$42,Налоги!$A$15:$A$42,$A516,Налоги!$M$15:$M$42,$B516)","v":0},{"$f":"SUMIFS(Налоги!AC$15:AC$42,Налоги!$A$15:$A$42,$A516,Налоги!$M$15:$M$42,$B516)","v":0},{"$f":"SUMIFS(Налоги!AD$15:AD$42,Налоги!$A$15:$A$42,$A516,Налоги!$M$15:$M$42,$B516)","v":0},{"$f":"SUMIFS(Налоги!AE$15:AE$42,Налоги!$A$15:$A$42,$A516,Налоги!$M$15:$M$42,$B516)","v":0},{"$f":"SUMIFS(Налоги!AF$15:AF$42,Налоги!$A$15:$A$42,$A516,Налоги!$M$15:$M$42,$B516)","v":0},{"$f":"SUMIFS(Налоги!AG$15:AG$42,Налоги!$A$15:$A$42,$A516,Налоги!$M$15:$M$42,$B516)","v":0},{"$f":"SUMIFS(Налоги!AH$15:AH$42,Налоги!$A$15:$A$42,$A516,Налоги!$M$15:$M$42,$B516)","v":0},{"$f":"SUMIFS(Налоги!AI$15:AI$42,Налоги!$A$15:$A$42,$A516,Налоги!$M$15:$M$42,$B516)","v":0},{"$f":"SUMIFS(Налоги!AJ$15:AJ$42,Налоги!$A$15:$A$42,$A516,Налоги!$M$15:$M$42,$B516)","v":0},{"$f":"SUMIFS(Налоги!AK$15:AK$42,Налоги!$A$15:$A$42,$A516,Налоги!$M$15:$M$42,$B516)","v":0},{"$f":"SUMIFS(Налоги!AL$15:AL$42,Налоги!$A$15:$A$42,$A516,Налоги!$M$15:$M$42,$B516)","v":0},0,0,0,0,0,0,0,0,0,0]
[{"$f":"A516","v":"1"},"Налог на имущество",null,"L2_3_2",null,null,null,null,null,null,null,"2.3.2","налог на имущество организаций","тыс.руб.",{"$f":"SUMIFS(Налоги!O$15:O$42,Налоги!$A$15:$A$42,$A517,Налоги!$M$15:$M$42,$B517)","v":0},{"$f":"SUMIFS(Налоги!P$15:P$42,Налоги!$A$15:$A$42,$A517,Налоги!$M$15:$M$42,$B517)","v":0},{"$f":"SUMIFS(Налоги!Q$15:Q$42,Налоги!$A$15:$A$42,$A517,Налоги!$M$15:$M$42,$B517)","v":0},0,{"$f":"SUMIFS(Налоги!R$15:R$42,Налоги!$A$15:$A$42,$A517,Налоги!$M$15:$M$42,$B517)","v":0},{"$f":"SUMIFS(Налоги!S$15:S$42,Налоги!$A$15:$A$42,$A517,Налоги!$M$15:$M$42,$B517)","v":0},{"$f":"SUMIFS(Налоги!T$15:T$42,Налоги!$A$15:$A$42,$A517,Налоги!$M$15:$M$42,$B517)","v":0},{"$f":"SUMIFS(Налоги!U$15:U$42,Налоги!$A$15:$A$42,$A517,Налоги!$M$15:$M$42,$B517)","v":0},{"$f":"SUMIFS(Налоги!V$15:V$42,Налоги!$A$15:$A$42,$A517,Налоги!$M$15:$M$42,$B517)","v":0},{"$f":"SUMIFS(Налоги!W$15:W$42,Налоги!$A$15:$A$42,$A517,Налоги!$M$15:$M$42,$B517)","v":0},{"$f":"SUMIFS(Налоги!X$15:X$42,Налоги!$A$15:$A$42,$A517,Налоги!$M$15:$M$42,$B517)","v":0},{"$f":"SUMIFS(Налоги!Y$15:Y$42,Налоги!$A$15:$A$42,$A517,Налоги!$M$15:$M$42,$B517)","v":0},{"$f":"SUMIFS(Налоги!Z$15:Z$42,Налоги!$A$15:$A$42,$A517,Налоги!$M$15:$M$42,$B517)","v":0},{"$f":"SUMIFS(Налоги!AA$15:AA$42,Налоги!$A$15:$A$42,$A517,Налоги!$M$15:$M$42,$B517)","v":0},{"$f":"SUMIFS(Налоги!AB$15:AB$42,Налоги!$A$15:$A$42,$A517,Налоги!$M$15:$M$42,$B517)","v":0},{"$f":"SUMIFS(Налоги!AC$15:AC$42,Налоги!$A$15:$A$42,$A517,Налоги!$M$15:$M$42,$B517)","v":0},{"$f":"SUMIFS(Налоги!AD$15:AD$42,Налоги!$A$15:$A$42,$A517,Налоги!$M$15:$M$42,$B517)","v":0},{"$f":"SUMIFS(Налоги!AE$15:AE$42,Налоги!$A$15:$A$42,$A517,Налоги!$M$15:$M$42,$B517)","v":0},{"$f":"SUMIFS(Налоги!AF$15:AF$42,Налоги!$A$15:$A$42,$A517,Налоги!$M$15:$M$42,$B517)","v":0},{"$f":"SUMIFS(Налоги!AG$15:AG$42,Налоги!$A$15:$A$42,$A517,Налоги!$M$15:$M$42,$B517)","v":0},{"$f":"SUMIFS(Налоги!AH$15:AH$42,Налоги!$A$15:$A$42,$A517,Налоги!$M$15:$M$42,$B517)","v":0},{"$f":"SUMIFS(Налоги!AI$15:AI$42,Налоги!$A$15:$A$42,$A517,Налоги!$M$15:$M$42,$B517)","v":0},{"$f":"SUMIFS(Налоги!AJ$15:AJ$42,Налоги!$A$15:$A$42,$A517,Налоги!$M$15:$M$42,$B517)","v":0},{"$f":"SUMIFS(Налоги!AK$15:AK$42,Налоги!$A$15:$A$42,$A517,Налоги!$M$15:$M$42,$B517)","v":0},{"$f":"SUMIFS(Налоги!AL$15:AL$42,Налоги!$A$15:$A$42,$A517,Налоги!$M$15:$M$42,$B517)","v":0},0,0,0,0,0,0,0,0,0,0]
["1","Земельный налог",null,"L2_3_3",null,null,null,null,null,null,null,"2.3.3","земельный налог и арендная плата за землю","тыс.руб.",{"$f":"SUMIFS(Налоги!O$15:O$42,Налоги!$A$15:$A$42,$A518,Налоги!$M$15:$M$42,$B518)","v":0},{"$f":"SUMIFS(Налоги!P$15:P$42,Налоги!$A$15:$A$42,$A518,Налоги!$M$15:$M$42,$B518)","v":0},{"$f":"SUMIFS(Налоги!Q$15:Q$42,Налоги!$A$15:$A$42,$A518,Налоги!$M$15:$M$42,$B518)","v":0},0,{"$f":"SUMIFS(Налоги!R$15:R$42,Налоги!$A$15:$A$42,$A518,Налоги!$M$15:$M$42,$B518)","v":0},{"$f":"SUMIFS(Налоги!S$15:S$42,Налоги!$A$15:$A$42,$A518,Налоги!$M$15:$M$42,$B518)","v":0},{"$f":"SUMIFS(Налоги!T$15:T$42,Налоги!$A$15:$A$42,$A518,Налоги!$M$15:$M$42,$B518)","v":0},{"$f":"SUMIFS(Налоги!U$15:U$42,Налоги!$A$15:$A$42,$A518,Налоги!$M$15:$M$42,$B518)","v":0},{"$f":"SUMIFS(Налоги!V$15:V$42,Налоги!$A$15:$A$42,$A518,Налоги!$M$15:$M$42,$B518)","v":0},{"$f":"SUMIFS(Налоги!W$15:W$42,Налоги!$A$15:$A$42,$A518,Налоги!$M$15:$M$42,$B518)","v":0},{"$f":"SUMIFS(Налоги!X$15:X$42,Налоги!$A$15:$A$42,$A518,Налоги!$M$15:$M$42,$B518)","v":0},{"$f":"SUMIFS(Налоги!Y$15:Y$42,Налоги!$A$15:$A$42,$A518,Налоги!$M$15:$M$42,$B518)","v":0},{"$f":"SUMIFS(Налоги!Z$15:Z$42,Налоги!$A$15:$A$42,$A518,Налоги!$M$15:$M$42,$B518)","v":0},{"$f":"SUMIFS(Налоги!AA$15:AA$42,Налоги!$A$15:$A$42,$A518,Налоги!$M$15:$M$42,$B518)","v":0},{"$f":"SUMIFS(Налоги!AB$15:AB$42,Налоги!$A$15:$A$42,$A518,Налоги!$M$15:$M$42,$B518)","v":0},{"$f":"SUMIFS(Налоги!AC$15:AC$42,Налоги!$A$15:$A$42,$A518,Налоги!$M$15:$M$42,$B518)","v":0},{"$f":"SUMIFS(Налоги!AD$15:AD$42,Налоги!$A$15:$A$42,$A518,Налоги!$M$15:$M$42,$B518)","v":0},{"$f":"SUMIFS(Налоги!AE$15:AE$42,Налоги!$A$15:$A$42,$A518,Налоги!$M$15:$M$42,$B518)","v":0},{"$f":"SUMIFS(Налоги!AF$15:AF$42,Налоги!$A$15:$A$42,$A518,Налоги!$M$15:$M$42,$B518)","v":0},{"$f":"SUMIFS(Налоги!AG$15:AG$42,Налоги!$A$15:$A$42,$A518,Налоги!$M$15:$M$42,$B518)","v":0},{"$f":"SUMIFS(Налоги!AH$15:AH$42,Налоги!$A$15:$A$42,$A518,Налоги!$M$15:$M$42,$B518)","v":0},{"$f":"SUMIFS(Налоги!AI$15:AI$42,Налоги!$A$15:$A$42,$A518,Налоги!$M$15:$M$42,$B518)","v":0},{"$f":"SUMIFS(Налоги!AJ$15:AJ$42,Налоги!$A$15:$A$42,$A518,Налоги!$M$15:$M$42,$B518)","v":0},{"$f":"SUMIFS(Налоги!AK$15:AK$42,Налоги!$A$15:$A$42,$A518,Налоги!$M$15:$M$42,$B518)","v":0},{"$f":"SUMIFS(Налоги!AL$15:AL$42,Налоги!$A$15:$A$42,$A518,Налоги!$M$15:$M$42,$B518)","v":0},0,0,0,0,0,0,0,0,0,0]
["1","Водный налог",null,"L2_3_4",null,null,null,null,null,null,null,"2.3.4","водный налог","тыс.руб.",{"$f":"SUMIFS(Налоги!O$15:O$42,Налоги!$A$15:$A$42,$A519,Налоги!$M$15:$M$42,$B519)","v":0},{"$f":"SUMIFS(Налоги!P$15:P$42,Налоги!$A$15:$A$42,$A519,Налоги!$M$15:$M$42,$B519)","v":0},{"$f":"SUMIFS(Налоги!Q$15:Q$42,Налоги!$A$15:$A$42,$A519,Налоги!$M$15:$M$42,$B519)","v":0},0,{"$f":"SUMIFS(Налоги!R$15:R$42,Налоги!$A$15:$A$42,$A519,Налоги!$M$15:$M$42,$B519)","v":0},{"$f":"SUMIFS(Налоги!S$15:S$42,Налоги!$A$15:$A$42,$A519,Налоги!$M$15:$M$42,$B519)","v":0},{"$f":"SUMIFS(Налоги!T$15:T$42,Налоги!$A$15:$A$42,$A519,Налоги!$M$15:$M$42,$B519)","v":0},{"$f":"SUMIFS(Налоги!U$15:U$42,Налоги!$A$15:$A$42,$A519,Налоги!$M$15:$M$42,$B519)","v":0},{"$f":"SUMIFS(Налоги!V$15:V$42,Налоги!$A$15:$A$42,$A519,Налоги!$M$15:$M$42,$B519)","v":0},{"$f":"SUMIFS(Налоги!W$15:W$42,Налоги!$A$15:$A$42,$A519,Налоги!$M$15:$M$42,$B519)","v":0},{"$f":"SUMIFS(Налоги!X$15:X$42,Налоги!$A$15:$A$42,$A519,Налоги!$M$15:$M$42,$B519)","v":0},{"$f":"SUMIFS(Налоги!Y$15:Y$42,Налоги!$A$15:$A$42,$A519,Налоги!$M$15:$M$42,$B519)","v":0},{"$f":"SUMIFS(Налоги!Z$15:Z$42,Налоги!$A$15:$A$42,$A519,Налоги!$M$15:$M$42,$B519)","v":0},{"$f":"SUMIFS(Налоги!AA$15:AA$42,Налоги!$A$15:$A$42,$A519,Налоги!$M$15:$M$42,$B519)","v":0},{"$f":"SUMIFS(Налоги!AB$15:AB$42,Налоги!$A$15:$A$42,$A519,Налоги!$M$15:$M$42,$B519)","v":0},{"$f":"SUMIFS(Налоги!AC$15:AC$42,Налоги!$A$15:$A$42,$A519,Налоги!$M$15:$M$42,$B519)","v":0},{"$f":"SUMIFS(Налоги!AD$15:AD$42,Налоги!$A$15:$A$42,$A519,Налоги!$M$15:$M$42,$B519)","v":0},{"$f":"SUMIFS(Налоги!AE$15:AE$42,Налоги!$A$15:$A$42,$A519,Налоги!$M$15:$M$42,$B519)","v":0},{"$f":"SUMIFS(Налоги!AF$15:AF$42,Налоги!$A$15:$A$42,$A519,Налоги!$M$15:$M$42,$B519)","v":0},{"$f":"SUMIFS(Налоги!AG$15:AG$42,Налоги!$A$15:$A$42,$A519,Налоги!$M$15:$M$42,$B519)","v":0},{"$f":"SUMIFS(Налоги!AH$15:AH$42,Налоги!$A$15:$A$42,$A519,Налоги!$M$15:$M$42,$B519)","v":0},{"$f":"SUMIFS(Налоги!AI$15:AI$42,Налоги!$A$15:$A$42,$A519,Налоги!$M$15:$M$42,$B519)","v":0},{"$f":"SUMIFS(Налоги!AJ$15:AJ$42,Налоги!$A$15:$A$42,$A519,Налоги!$M$15:$M$42,$B519)","v":0},{"$f":"SUMIFS(Налоги!AK$15:AK$42,Налоги!$A$15:$A$42,$A519,Налоги!$M$15:$M$42,$B519)","v":0},{"$f":"SUMIFS(Налоги!AL$15:AL$42,Налоги!$A$15:$A$42,$A519,Налоги!$M$15:$M$42,$B519)","v":0},0,0,0,0,0,0,0,0,0,0]
["1","Плата за пользование водным объектом",null,"L2_3_5",null,null,null,null,null,null,null,"2.3.5","плата за пользование водным объектом","тыс.руб.",{"$f":"SUMIFS(Налоги!O$15:O$42,Налоги!$A$15:$A$42,$A520,Налоги!$M$15:$M$42,$B520)","v":0},{"$f":"SUMIFS(Налоги!P$15:P$42,Налоги!$A$15:$A$42,$A520,Налоги!$M$15:$M$42,$B520)","v":0},{"$f":"SUMIFS(Налоги!Q$15:Q$42,Налоги!$A$15:$A$42,$A520,Налоги!$M$15:$M$42,$B520)","v":0},0,{"$f":"SUMIFS(Налоги!R$15:R$42,Налоги!$A$15:$A$42,$A520,Налоги!$M$15:$M$42,$B520)","v":0},{"$f":"SUMIFS(Налоги!S$15:S$42,Налоги!$A$15:$A$42,$A520,Налоги!$M$15:$M$42,$B520)","v":0},{"$f":"SUMIFS(Налоги!T$15:T$42,Налоги!$A$15:$A$42,$A520,Налоги!$M$15:$M$42,$B520)","v":0},{"$f":"SUMIFS(Налоги!U$15:U$42,Налоги!$A$15:$A$42,$A520,Налоги!$M$15:$M$42,$B520)","v":0},{"$f":"SUMIFS(Налоги!V$15:V$42,Налоги!$A$15:$A$42,$A520,Налоги!$M$15:$M$42,$B520)","v":0},{"$f":"SUMIFS(Налоги!W$15:W$42,Налоги!$A$15:$A$42,$A520,Налоги!$M$15:$M$42,$B520)","v":0},{"$f":"SUMIFS(Налоги!X$15:X$42,Налоги!$A$15:$A$42,$A520,Налоги!$M$15:$M$42,$B520)","v":0},{"$f":"SUMIFS(Налоги!Y$15:Y$42,Налоги!$A$15:$A$42,$A520,Налоги!$M$15:$M$42,$B520)","v":0},{"$f":"SUMIFS(Налоги!Z$15:Z$42,Налоги!$A$15:$A$42,$A520,Налоги!$M$15:$M$42,$B520)","v":0},{"$f":"SUMIFS(Налоги!AA$15:AA$42,Налоги!$A$15:$A$42,$A520,Налоги!$M$15:$M$42,$B520)","v":0},{"$f":"SUMIFS(Налоги!AB$15:AB$42,Налоги!$A$15:$A$42,$A520,Налоги!$M$15:$M$42,$B520)","v":0},{"$f":"SUMIFS(Налоги!AC$15:AC$42,Налоги!$A$15:$A$42,$A520,Налоги!$M$15:$M$42,$B520)","v":0},{"$f":"SUMIFS(Налоги!AD$15:AD$42,Налоги!$A$15:$A$42,$A520,Налоги!$M$15:$M$42,$B520)","v":0},{"$f":"SUMIFS(Налоги!AE$15:AE$42,Налоги!$A$15:$A$42,$A520,Налоги!$M$15:$M$42,$B520)","v":0},{"$f":"SUMIFS(Налоги!AF$15:AF$42,Налоги!$A$15:$A$42,$A520,Налоги!$M$15:$M$42,$B520)","v":0},{"$f":"SUMIFS(Налоги!AG$15:AG$42,Налоги!$A$15:$A$42,$A520,Налоги!$M$15:$M$42,$B520)","v":0},{"$f":"SUMIFS(Налоги!AH$15:AH$42,Налоги!$A$15:$A$42,$A520,Налоги!$M$15:$M$42,$B520)","v":0},{"$f":"SUMIFS(Налоги!AI$15:AI$42,Налоги!$A$15:$A$42,$A520,Налоги!$M$15:$M$42,$B520)","v":0},{"$f":"SUMIFS(Налоги!AJ$15:AJ$42,Налоги!$A$15:$A$42,$A520,Налоги!$M$15:$M$42,$B520)","v":0},{"$f":"SUMIFS(Налоги!AK$15:AK$42,Налоги!$A$15:$A$42,$A520,Налоги!$M$15:$M$42,$B520)","v":0},{"$f":"SUMIFS(Налоги!AL$15:AL$42,Налоги!$A$15:$A$42,$A520,Налоги!$M$15:$M$42,$B520)","v":0},0,0,0,0,0,0,0,0,0,0]
["1","Транспортный налог",null,"L2_3_6",null,null,null,null,null,null,null,"2.3.6","транспортный налог","тыс.руб.",{"$f":"SUMIFS(Налоги!O$15:O$42,Налоги!$A$15:$A$42,$A521,Налоги!$M$15:$M$42,$B521)","v":1.5},{"$f":"SUMIFS(Налоги!P$15:P$42,Налоги!$A$15:$A$42,$A521,Налоги!$M$15:$M$42,$B521)","v":1.5},{"$f":"SUMIFS(Налоги!Q$15:Q$42,Налоги!$A$15:$A$42,$A521,Налоги!$M$15:$M$42,$B521)","v":1.5},0,{"$f":"SUMIFS(Налоги!R$15:R$42,Налоги!$A$15:$A$42,$A521,Налоги!$M$15:$M$42,$B521)","v":1.496},{"$f":"SUMIFS(Налоги!S$15:S$42,Налоги!$A$15:$A$42,$A521,Налоги!$M$15:$M$42,$B521)","v":1.496},{"$f":"SUMIFS(Налоги!T$15:T$42,Налоги!$A$15:$A$42,$A521,Налоги!$M$15:$M$42,$B521)","v":0},{"$f":"SUMIFS(Налоги!U$15:U$42,Налоги!$A$15:$A$42,$A521,Налоги!$M$15:$M$42,$B521)","v":0},{"$f":"SUMIFS(Налоги!V$15:V$42,Налоги!$A$15:$A$42,$A521,Налоги!$M$15:$M$42,$B521)","v":0},{"$f":"SUMIFS(Налоги!W$15:W$42,Налоги!$A$15:$A$42,$A521,Налоги!$M$15:$M$42,$B521)","v":0},{"$f":"SUMIFS(Налоги!X$15:X$42,Налоги!$A$15:$A$42,$A521,Налоги!$M$15:$M$42,$B521)","v":0},{"$f":"SUMIFS(Налоги!Y$15:Y$42,Налоги!$A$15:$A$42,$A521,Налоги!$M$15:$M$42,$B521)","v":0},{"$f":"SUMIFS(Налоги!Z$15:Z$42,Налоги!$A$15:$A$42,$A521,Налоги!$M$15:$M$42,$B521)","v":0},{"$f":"SUMIFS(Налоги!AA$15:AA$42,Налоги!$A$15:$A$42,$A521,Налоги!$M$15:$M$42,$B521)","v":0},{"$f":"SUMIFS(Налоги!AB$15:AB$42,Налоги!$A$15:$A$42,$A521,Налоги!$M$15:$M$42,$B521)","v":0},{"$f":"SUMIFS(Налоги!AC$15:AC$42,Налоги!$A$15:$A$42,$A521,Налоги!$M$15:$M$42,$B521)","v":1.496},{"$f":"SUMIFS(Налоги!AD$15:AD$42,Налоги!$A$15:$A$42,$A521,Налоги!$M$15:$M$42,$B521)","v":1.496},{"$f":"SUMIFS(Налоги!AE$15:AE$42,Налоги!$A$15:$A$42,$A521,Налоги!$M$15:$M$42,$B521)","v":1.496},{"$f":"SUMIFS(Налоги!AF$15:AF$42,Налоги!$A$15:$A$42,$A521,Налоги!$M$15:$M$42,$B521)","v":1.496},{"$f":"SUMIFS(Налоги!AG$15:AG$42,Налоги!$A$15:$A$42,$A521,Налоги!$M$15:$M$42,$B521)","v":1.496},{"$f":"SUMIFS(Налоги!AH$15:AH$42,Налоги!$A$15:$A$42,$A521,Налоги!$M$15:$M$42,$B521)","v":0},{"$f":"SUMIFS(Налоги!AI$15:AI$42,Налоги!$A$15:$A$42,$A521,Налоги!$M$15:$M$42,$B521)","v":0},{"$f":"SUMIFS(Налоги!AJ$15:AJ$42,Налоги!$A$15:$A$42,$A521,Налоги!$M$15:$M$42,$B521)","v":0},{"$f":"SUMIFS(Налоги!AK$15:AK$42,Налоги!$A$15:$A$42,$A521,Налоги!$M$15:$M$42,$B521)","v":0},{"$f":"SUMIFS(Налоги!AL$15:AL$42,Налоги!$A$15:$A$42,$A521,Налоги!$M$15:$M$42,$B521)","v":0},0,0,0,0,0,-100,0,0,0,0]
["1","Плата за негативное воздействие на окружающую среду",null,"L2_3_7",null,null,null,null,null,null,null,"2.3.7","плата за негативное воздействие на окружающую среду","тыс.руб.",{"$f":"SUMIFS(Налоги!O$15:O$42,Налоги!$A$15:$A$42,$A522,Налоги!$M$15:$M$42,$B522)","v":0},{"$f":"SUMIFS(Налоги!P$15:P$42,Налоги!$A$15:$A$42,$A522,Налоги!$M$15:$M$42,$B522)","v":0},{"$f":"SUMIFS(Налоги!Q$15:Q$42,Налоги!$A$15:$A$42,$A522,Налоги!$M$15:$M$42,$B522)","v":0},0,{"$f":"SUMIFS(Налоги!R$15:R$42,Налоги!$A$15:$A$42,$A522,Налоги!$M$15:$M$42,$B522)","v":0},{"$f":"SUMIFS(Налоги!S$15:S$42,Налоги!$A$15:$A$42,$A522,Налоги!$M$15:$M$42,$B522)","v":0},{"$f":"SUMIFS(Налоги!T$15:T$42,Налоги!$A$15:$A$42,$A522,Налоги!$M$15:$M$42,$B522)","v":0},{"$f":"SUMIFS(Налоги!U$15:U$42,Налоги!$A$15:$A$42,$A522,Налоги!$M$15:$M$42,$B522)","v":0},{"$f":"SUMIFS(Налоги!V$15:V$42,Налоги!$A$15:$A$42,$A522,Налоги!$M$15:$M$42,$B522)","v":0},{"$f":"SUMIFS(Налоги!W$15:W$42,Налоги!$A$15:$A$42,$A522,Налоги!$M$15:$M$42,$B522)","v":0},{"$f":"SUMIFS(Налоги!X$15:X$42,Налоги!$A$15:$A$42,$A522,Налоги!$M$15:$M$42,$B522)","v":0},{"$f":"SUMIFS(Налоги!Y$15:Y$42,Налоги!$A$15:$A$42,$A522,Налоги!$M$15:$M$42,$B522)","v":0},{"$f":"SUMIFS(Налоги!Z$15:Z$42,Налоги!$A$15:$A$42,$A522,Налоги!$M$15:$M$42,$B522)","v":0},{"$f":"SUMIFS(Налоги!AA$15:AA$42,Налоги!$A$15:$A$42,$A522,Налоги!$M$15:$M$42,$B522)","v":0},{"$f":"SUMIFS(Налоги!AB$15:AB$42,Налоги!$A$15:$A$42,$A522,Налоги!$M$15:$M$42,$B522)","v":0},{"$f":"SUMIFS(Налоги!AC$15:AC$42,Налоги!$A$15:$A$42,$A522,Налоги!$M$15:$M$42,$B522)","v":0},{"$f":"SUMIFS(Налоги!AD$15:AD$42,Налоги!$A$15:$A$42,$A522,Налоги!$M$15:$M$42,$B522)","v":0},{"$f":"SUMIFS(Налоги!AE$15:AE$42,Налоги!$A$15:$A$42,$A522,Налоги!$M$15:$M$42,$B522)","v":0},{"$f":"SUMIFS(Налоги!AF$15:AF$42,Налоги!$A$15:$A$42,$A522,Налоги!$M$15:$M$42,$B522)","v":0},{"$f":"SUMIFS(Налоги!AG$15:AG$42,Налоги!$A$15:$A$42,$A522,Налоги!$M$15:$M$42,$B522)","v":0},{"$f":"SUMIFS(Налоги!AH$15:AH$42,Налоги!$A$15:$A$42,$A522,Налоги!$M$15:$M$42,$B522)","v":0},{"$f":"SUMIFS(Налоги!AI$15:AI$42,Налоги!$A$15:$A$42,$A522,Налоги!$M$15:$M$42,$B522)","v":0},{"$f":"SUMIFS(Налоги!AJ$15:AJ$42,Налоги!$A$15:$A$42,$A522,Налоги!$M$15:$M$42,$B522)","v":0},{"$f":"SUMIFS(Налоги!AK$15:AK$42,Налоги!$A$15:$A$42,$A522,Налоги!$M$15:$M$42,$B522)","v":0},{"$f":"SUMIFS(Налоги!AL$15:AL$42,Налоги!$A$15:$A$42,$A522,Налоги!$M$15:$M$42,$B522)","v":0},0,0,0,0,0,0,0,0,0,0]
["1","Единый налог при упрощенной системе налогообложения",null,"L2_3_8",null,null,null,null,null,null,null,"2.3.8","единый налог при УСН","тыс.руб.",{"$f":"SUMIFS(Налоги!O$15:O$42,Налоги!$A$15:$A$42,$A523,Налоги!$M$15:$M$42,$B523)","v":0},{"$f":"SUMIFS(Налоги!P$15:P$42,Налоги!$A$15:$A$42,$A523,Налоги!$M$15:$M$42,$B523)","v":0},{"$f":"SUMIFS(Налоги!Q$15:Q$42,Налоги!$A$15:$A$42,$A523,Налоги!$M$15:$M$42,$B523)","v":0},{"$f":"Q523-P523","v":0},{"$f":"SUMIFS(Налоги!R$15:R$42,Налоги!$A$15:$A$42,$A523,Налоги!$M$15:$M$42,$B523)","v":0},{"$f":"SUMIFS(Налоги!S$15:S$42,Налоги!$A$15:$A$42,$A523,Налоги!$M$15:$M$42,$B523)","v":0},{"$f":"SUMIFS(Налоги!T$15:T$42,Налоги!$A$15:$A$42,$A523,Налоги!$M$15:$M$42,$B523)","v":0},{"$f":"SUMIFS(Налоги!U$15:U$42,Налоги!$A$15:$A$42,$A523,Налоги!$M$15:$M$42,$B523)","v":0},{"$f":"SUMIFS(Налоги!V$15:V$42,Налоги!$A$15:$A$42,$A523,Налоги!$M$15:$M$42,$B523)","v":0},{"$f":"SUMIFS(Налоги!W$15:W$42,Налоги!$A$15:$A$42,$A523,Налоги!$M$15:$M$42,$B523)","v":0},{"$f":"SUMIFS(Налоги!X$15:X$42,Налоги!$A$15:$A$42,$A523,Налоги!$M$15:$M$42,$B523)","v":0},{"$f":"SUMIFS(Налоги!Y$15:Y$42,Налоги!$A$15:$A$42,$A523,Налоги!$M$15:$M$42,$B523)","v":0},{"$f":"SUMIFS(Налоги!Z$15:Z$42,Налоги!$A$15:$A$42,$A523,Налоги!$M$15:$M$42,$B523)","v":0},{"$f":"SUMIFS(Налоги!AA$15:AA$42,Налоги!$A$15:$A$42,$A523,Налоги!$M$15:$M$42,$B523)","v":0},{"$f":"SUMIFS(Налоги!AB$15:AB$42,Налоги!$A$15:$A$42,$A523,Налоги!$M$15:$M$42,$B523)","v":0},{"$f":"SUMIFS(Налоги!AC$15:AC$42,Налоги!$A$15:$A$42,$A523,Налоги!$M$15:$M$42,$B523)","v":0},{"$f":"SUMIFS(Налоги!AD$15:AD$42,Налоги!$A$15:$A$42,$A523,Налоги!$M$15:$M$42,$B523)","v":0},{"$f":"SUMIFS(Налоги!AE$15:AE$42,Налоги!$A$15:$A$42,$A523,Налоги!$M$15:$M$42,$B523)","v":0},{"$f":"SUMIFS(Налоги!AF$15:AF$42,Налоги!$A$15:$A$42,$A523,Налоги!$M$15:$M$42,$B523)","v":0},{"$f":"SUMIFS(Налоги!AG$15:AG$42,Налоги!$A$15:$A$42,$A523,Налоги!$M$15:$M$42,$B523)","v":0},{"$f":"SUMIFS(Налоги!AH$15:AH$42,Налоги!$A$15:$A$42,$A523,Налоги!$M$15:$M$42,$B523)","v":0},{"$f":"SUMIFS(Налоги!AI$15:AI$42,Налоги!$A$15:$A$42,$A523,Налоги!$M$15:$M$42,$B523)","v":0},{"$f":"SUMIFS(Налоги!AJ$15:AJ$42,Налоги!$A$15:$A$42,$A523,Налоги!$M$15:$M$42,$B523)","v":0},{"$f":"SUMIFS(Налоги!AK$15:AK$42,Налоги!$A$15:$A$42,$A523,Налоги!$M$15:$M$42,$B523)","v":0},{"$f":"SUMIFS(Налоги!AL$15:AL$42,Налоги!$A$15:$A$42,$A523,Налоги!$M$15:$M$42,$B523)","v":0},0,0,0,0,0,0,0,0,0,0]
["1","Прочие налоги и сборы",null,"L2_3_9",null,null,null,null,null,null,null,"2.3.9","прочие налоги и сборы","тыс.руб.",{"$f":"SUMIFS(Налоги!O$15:O$42,Налоги!$A$15:$A$42,$A524,Налоги!$M$15:$M$42,$B524)","v":0},{"$f":"SUMIFS(Налоги!P$15:P$42,Налоги!$A$15:$A$42,$A524,Налоги!$M$15:$M$42,$B524)","v":0},{"$f":"SUMIFS(Налоги!Q$15:Q$42,Налоги!$A$15:$A$42,$A524,Налоги!$M$15:$M$42,$B524)","v":0},0,{"$f":"SUMIFS(Налоги!R$15:R$42,Налоги!$A$15:$A$42,$A524,Налоги!$M$15:$M$42,$B524)","v":0},{"$f":"SUMIFS(Налоги!S$15:S$42,Налоги!$A$15:$A$42,$A524,Налоги!$M$15:$M$42,$B524)","v":0},{"$f":"SUMIFS(Налоги!T$15:T$42,Налоги!$A$15:$A$42,$A524,Налоги!$M$15:$M$42,$B524)","v":0},{"$f":"SUMIFS(Налоги!U$15:U$42,Налоги!$A$15:$A$42,$A524,Налоги!$M$15:$M$42,$B524)","v":0},{"$f":"SUMIFS(Налоги!V$15:V$42,Налоги!$A$15:$A$42,$A524,Налоги!$M$15:$M$42,$B524)","v":0},{"$f":"SUMIFS(Налоги!W$15:W$42,Налоги!$A$15:$A$42,$A524,Налоги!$M$15:$M$42,$B524)","v":0},{"$f":"SUMIFS(Налоги!X$15:X$42,Налоги!$A$15:$A$42,$A524,Налоги!$M$15:$M$42,$B524)","v":0},{"$f":"SUMIFS(Налоги!Y$15:Y$42,Налоги!$A$15:$A$42,$A524,Налоги!$M$15:$M$42,$B524)","v":0},{"$f":"SUMIFS(Налоги!Z$15:Z$42,Налоги!$A$15:$A$42,$A524,Налоги!$M$15:$M$42,$B524)","v":0},{"$f":"SUMIFS(Налоги!AA$15:AA$42,Налоги!$A$15:$A$42,$A524,Налоги!$M$15:$M$42,$B524)","v":0},{"$f":"SUMIFS(Налоги!AB$15:AB$42,Налоги!$A$15:$A$42,$A524,Налоги!$M$15:$M$42,$B524)","v":0},{"$f":"SUMIFS(Налоги!AC$15:AC$42,Налоги!$A$15:$A$42,$A524,Налоги!$M$15:$M$42,$B524)","v":0},{"$f":"SUMIFS(Налоги!AD$15:AD$42,Налоги!$A$15:$A$42,$A524,Налоги!$M$15:$M$42,$B524)","v":0},{"$f":"SUMIFS(Налоги!AE$15:AE$42,Налоги!$A$15:$A$42,$A524,Налоги!$M$15:$M$42,$B524)","v":0},{"$f":"SUMIFS(Налоги!AF$15:AF$42,Налоги!$A$15:$A$42,$A524,Налоги!$M$15:$M$42,$B524)","v":0},{"$f":"SUMIFS(Налоги!AG$15:AG$42,Налоги!$A$15:$A$42,$A524,Налоги!$M$15:$M$42,$B524)","v":0},{"$f":"SUMIFS(Налоги!AH$15:AH$42,Налоги!$A$15:$A$42,$A524,Налоги!$M$15:$M$42,$B524)","v":0},{"$f":"SUMIFS(Налоги!AI$15:AI$42,Налоги!$A$15:$A$42,$A524,Налоги!$M$15:$M$42,$B524)","v":0},{"$f":"SUMIFS(Налоги!AJ$15:AJ$42,Налоги!$A$15:$A$42,$A524,Налоги!$M$15:$M$42,$B524)","v":0},{"$f":"SUMIFS(Налоги!AK$15:AK$42,Налоги!$A$15:$A$42,$A524,Налоги!$M$15:$M$42,$B524)","v":0},{"$f":"SUMIFS(Налоги!AL$15:AL$42,Налоги!$A$15:$A$42,$A524,Налоги!$M$15:$M$42,$B524)","v":0},0,0,0,0,0,0,0,0,0,0]
["1","Расходы на мероприятия по защите централизованных систем водоснабжения",null,"L2_4",null,null,null,null,null,null,null,"2.4","Расходы на мероприятия по защите централизованных систем водоснабжения и (или) водоотведения и их отдельных объектов от угроз техногенного, природного характера и террористических актов, по предотвращению возникновения аварийных ситуаций, снижению риска и смягчению последствий чрезвычайных ситуаций (за исключением мероприятий, включенных в инвестиционную программу)","тыс.руб.",null,null,null,0,null,null,null,null,null,null,null,null,null,null,null,null,null,null,null,null,null,null,null,null,null,0,{"$f":"IF(AD525=0,0,(AE525-AD525)/AD525*100)","v":0},0,0,0,0,0,0,0,0]
["1","Арендная и концессионная плата, лизинговые платежи",null,"L2_5",null,null,null,null,null,null,null,"2.5","Арендная и концессионная плата, лизинговые платежи","тыс.руб.",{"$f":"SUMIFS(Аренда!O$15:O$32,Аренда!$A$15:$A$32,$A526,Аренда!$M$15:$M$32,\"Арендная и концессионная плата. Лизинговые платежи\")","v":4.3753200000000003},{"$f":"SUMIFS(Аренда!P$15:P$32,Аренда!$A$15:$A$32,$A526,Аренда!$M$15:$M$32,\"Арендная и концессионная плата. Лизинговые платежи\")","v":0},{"$f":"SUMIFS(Аренда!Q$15:Q$32,Аренда!$A$15:$A$32,$A526,Аренда!$M$15:$M$32,\"Арендная и концессионная плата. Лизинговые платежи\")","v":6.8},6.8,{"$f":"SUMIFS(Аренда!R$15:R$32,Аренда!$A$15:$A$32,$A526,Аренда!$M$15:$M$32,\"Арендная и концессионная плата. Лизинговые платежи\")","v":0},{"$f":"SUMIFS(Аренда!S$15:S$32,Аренда!$A$15:$A$32,$A526,Аренда!$M$15:$M$32,\"Арендная и концессионная плата. Лизинговые платежи\")","v":0},{"$f":"SUMIFS(Аренда!T$15:T$32,Аренда!$A$15:$A$32,$A526,Аренда!$M$15:$M$32,\"Арендная и концессионная плата. Лизинговые платежи\")","v":0},{"$f":"SUMIFS(Аренда!U$15:U$32,Аренда!$A$15:$A$32,$A526,Аренда!$M$15:$M$32,\"Арендная и концессионная плата. Лизинговые платежи\")","v":0},{"$f":"SUMIFS(Аренда!V$15:V$32,Аренда!$A$15:$A$32,$A526,Аренда!$M$15:$M$32,\"Арендная и концессионная плата. Лизинговые платежи\")","v":0},{"$f":"SUMIFS(Аренда!W$15:W$32,Аренда!$A$15:$A$32,$A526,Аренда!$M$15:$M$32,\"Арендная и концессионная плата. Лизинговые платежи\")","v":0},{"$f":"SUMIFS(Аренда!X$15:X$32,Аренда!$A$15:$A$32,$A526,Аренда!$M$15:$M$32,\"Арендная и концессионная плата. Лизинговые платежи\")","v":0},{"$f":"SUMIFS(Аренда!Y$15:Y$32,Аренда!$A$15:$A$32,$A526,Аренда!$M$15:$M$32,\"Арендная и концессионная плата. Лизинговые платежи\")","v":0},{"$f":"SUMIFS(Аренда!Z$15:Z$32,Аренда!$A$15:$A$32,$A526,Аренда!$M$15:$M$32,\"Арендная и концессионная плата. Лизинговые платежи\")","v":0},{"$f":"SUMIFS(Аренда!AA$15:AA$32,Аренда!$A$15:$A$32,$A526,Аренда!$M$15:$M$32,\"Арендная и концессионная плата. Лизинговые платежи\")","v":0},{"$f":"SUMIFS(Аренда!AB$15:AB$32,Аренда!$A$15:$A$32,$A526,Аренда!$M$15:$M$32,\"Арендная и концессионная плата. Лизинговые платежи\")","v":0},{"$f":"SUMIFS(Аренда!AC$15:AC$32,Аренда!$A$15:$A$32,$A526,Аренда!$M$15:$M$32,\"Арендная и концессионная плата. Лизинговые платежи\")","v":0},{"$f":"SUMIFS(Аренда!AD$15:AD$32,Аренда!$A$15:$A$32,$A526,Аренда!$M$15:$M$32,\"Арендная и концессионная плата. Лизинговые платежи\")","v":0},{"$f":"SUMIFS(Аренда!AE$15:AE$32,Аренда!$A$15:$A$32,$A526,Аренда!$M$15:$M$32,\"Арендная и концессионная плата. Лизинговые платежи\")","v":0},{"$f":"SUMIFS(Аренда!AF$15:AF$32,Аренда!$A$15:$A$32,$A526,Аренда!$M$15:$M$32,\"Арендная и концессионная плата. Лизинговые платежи\")","v":0},{"$f":"SUMIFS(Аренда!AG$15:AG$32,Аренда!$A$15:$A$32,$A526,Аренда!$M$15:$M$32,\"Арендная и концессионная плата. Лизинговые платежи\")","v":0},{"$f":"SUMIFS(Аренда!AH$15:AH$32,Аренда!$A$15:$A$32,$A526,Аренда!$M$15:$M$32,\"Арендная и концессионная плата. Лизинговые платежи\")","v":0},{"$f":"SUMIFS(Аренда!AI$15:AI$32,Аренда!$A$15:$A$32,$A526,Аренда!$M$15:$M$32,\"Арендная и концессионная плата. Лизинговые платежи\")","v":0},{"$f":"SUMIFS(Аренда!AJ$15:AJ$32,Аренда!$A$15:$A$32,$A526,Аренда!$M$15:$M$32,\"Арендная и концессионная плата. Лизинговые платежи\")","v":0},{"$f":"SUMIFS(Аренда!AK$15:AK$32,Аренда!$A$15:$A$32,$A526,Аренда!$M$15:$M$32,\"Арендная и концессионная плата. Лизинговые платежи\")","v":0},{"$f":"SUMIFS(Аренда!AL$15:AL$32,Аренда!$A$15:$A$32,$A526,Аренда!$M$15:$M$32,\"Арендная и концессионная плата. Лизинговые платежи\")","v":0},{"$f":"IF(S526=0,0,(AD526-S526)/S526*100)","v":0},0,0,0,0,0,0,0,0,0]
["1",null,null,"L2_6",null,null,null,null,null,null,null,"2.6","Сбытовые расходы гарантирующей организации","тыс.руб.",{"$f":"O528","v":0},{"$f":"P528","v":0},{"$f":"Q528","v":0},0,{"$f":"S528","v":0},0,0,0,0,0,0,0,0,0,0,0,0,0,0,0,0,0,0,0,0,0,0,0,0,0,0,0,0,0,0]
["1","резерв по сомнительным долгам гарантирующей организации",null,"L2_6_1",null,null,null,null,null,null,null,"2.6.1","резерв по сомнительным долгам гарантирующей организации","тыс.руб.",{"$f":"SUMIFS('Сбытовые расходы ГО'!O$15:O$40,'Сбытовые расходы ГО'!$A$15:$A$40,$A528,'Сбытовые расходы ГО'!$B$15:$B$40,\"L1\")","v":0},{"$f":"SUMIFS('Сбытовые расходы ГО'!P$15:P$40,'Сбытовые расходы ГО'!$A$15:$A$40,$A528,'Сбытовые расходы ГО'!$B$15:$B$40,\"L1\")","v":0},{"$f":"SUMIFS('Сбытовые расходы ГО'!Q$15:Q$40,'Сбытовые расходы ГО'!$A$15:$A$40,$A528,'Сбытовые расходы ГО'!$B$15:$B$40,\"L1\")","v":0},0,{"$f":"SUMIFS('Сбытовые расходы ГО'!R$15:R$40,'Сбытовые расходы ГО'!$A$15:$A$40,$A528,'Сбытовые расходы ГО'!$B$15:$B$40,\"L1\")","v":0},{"$f":"SUMIFS('Сбытовые расходы ГО'!S$15:S$40,'Сбытовые расходы ГО'!$A$15:$A$40,$A528,'Сбытовые расходы ГО'!$B$15:$B$40,\"L1\")","v":0},null,null,null,null,null,null,null,null,null,{"$f":"SUMIFS('Сбытовые расходы ГО'!T$15:T$40,'Сбытовые расходы ГО'!$A$15:$A$40,$A528,'Сбытовые расходы ГО'!$B$15:$B$40,\"L1\")","v":0},null,null,null,null,null,null,null,null,null,0,0,0,0,0,0,0,0,0,0]
["1","Экономия расходов",null,"L2_7",null,null,null,null,null,null,null,"2.7","Экономия расходов","тыс.руб.",null,null,null,0,null,{"$f":"SUMIFS(Экономия_корр!O$15:O$32,Экономия_корр!$A$15:$A$32,$A529,Экономия_корр!$M$15:$M$32,\"Экономия расходов с учетом ИПЦ\")","v":0},{"$f":"SUMIFS(Экономия_корр!P$15:P$32,Экономия_корр!$A$15:$A$32,$A529,Экономия_корр!$M$15:$M$32,\"Экономия расходов с учетом ИПЦ\")","v":0},{"$f":"SUMIFS(Экономия_корр!Q$15:Q$32,Экономия_корр!$A$15:$A$32,$A529,Экономия_корр!$M$15:$M$32,\"Экономия расходов с учетом ИПЦ\")","v":0},{"$f":"SUMIFS(Экономия_корр!R$15:R$32,Экономия_корр!$A$15:$A$32,$A529,Экономия_корр!$M$15:$M$32,\"Экономия расходов с учетом ИПЦ\")","v":0},{"$f":"SUMIFS(Экономия_корр!S$15:S$32,Экономия_корр!$A$15:$A$32,$A529,Экономия_корр!$M$15:$M$32,\"Экономия расходов с учетом ИПЦ\")","v":0},{"$f":"SUMIFS(Экономия_корр!T$15:T$32,Экономия_корр!$A$15:$A$32,$A529,Экономия_корр!$M$15:$M$32,\"Экономия расходов с учетом ИПЦ\")","v":0},{"$f":"SUMIFS(Экономия_корр!U$15:U$32,Экономия_корр!$A$15:$A$32,$A529,Экономия_корр!$M$15:$M$32,\"Экономия расходов с учетом ИПЦ\")","v":0},{"$f":"SUMIFS(Экономия_корр!V$15:V$32,Экономия_корр!$A$15:$A$32,$A529,Экономия_корр!$M$15:$M$32,\"Экономия расходов с учетом ИПЦ\")","v":0},{"$f":"SUMIFS(Экономия_корр!W$15:W$32,Экономия_корр!$A$15:$A$32,$A529,Экономия_корр!$M$15:$M$32,\"Экономия расходов с учетом ИПЦ\")","v":0},{"$f":"SUMIFS(Экономия_корр!X$15:X$32,Экономия_корр!$A$15:$A$32,$A529,Экономия_корр!$M$15:$M$32,\"Экономия расходов с учетом ИПЦ\")","v":0},{"$f":"SUMIFS(Экономия_корр!Y$15:Y$32,Экономия_корр!$A$15:$A$32,$A529,Экономия_корр!$M$15:$M$32,\"Экономия расходов с учетом ИПЦ\")","v":0},{"$f":"SUMIFS(Экономия_корр!Z$15:Z$32,Экономия_корр!$A$15:$A$32,$A529,Экономия_корр!$M$15:$M$32,\"Экономия расходов с учетом ИПЦ\")","v":0},{"$f":"SUMIFS(Экономия_корр!AA$15:AA$32,Экономия_корр!$A$15:$A$32,$A529,Экономия_корр!$M$15:$M$32,\"Экономия расходов с учетом ИПЦ\")","v":0},{"$f":"SUMIFS(Экономия_корр!AB$15:AB$32,Экономия_корр!$A$15:$A$32,$A529,Экономия_корр!$M$15:$M$32,\"Экономия расходов с учетом ИПЦ\")","v":0},{"$f":"SUMIFS(Экономия_корр!AC$15:AC$32,Экономия_корр!$A$15:$A$32,$A529,Экономия_корр!$M$15:$M$32,\"Экономия расходов с учетом ИПЦ\")","v":0},{"$f":"SUMIFS(Экономия_корр!AD$15:AD$32,Экономия_корр!$A$15:$A$32,$A529,Экономия_корр!$M$15:$M$32,\"Экономия расходов с учетом ИПЦ\")","v":0},{"$f":"SUMIFS(Экономия_корр!AE$15:AE$32,Экономия_корр!$A$15:$A$32,$A529,Экономия_корр!$M$15:$M$32,\"Экономия расходов с учетом ИПЦ\")","v":0},{"$f":"SUMIFS(Экономия_корр!AF$15:AF$32,Экономия_корр!$A$15:$A$32,$A529,Экономия_корр!$M$15:$M$32,\"Экономия расходов с учетом ИПЦ\")","v":0},{"$f":"SUMIFS(Экономия_корр!AG$15:AG$32,Экономия_корр!$A$15:$A$32,$A529,Экономия_корр!$M$15:$M$32,\"Экономия расходов с учетом ИПЦ\")","v":0},{"$f":"SUMIFS(Экономия_корр!AH$15:AH$32,Экономия_корр!$A$15:$A$32,$A529,Экономия_корр!$M$15:$M$32,\"Экономия расходов с учетом ИПЦ\")","v":0},0,0,0,0,0,0,0,0,0,0]
["1","Расходы на обслуживание бесхозяйных сетей",null,"L2_8",null,null,null,null,null,null,null,"2.8","Расходы на обслуживание бесхозяйных сетей","тыс.руб.",null,null,null,0,null,null,null,null,null,null,null,null,null,null,null,null,null,null,null,null,null,null,null,null,null,0,0,0,0,0,0,0,0,0,0]
["1","Расходы на компенсацию экономически обоснованных расходов",null,"L2_9",null,null,null,null,null,null,null,"2.9","Расходы на компенсацию экономически обоснованных расходов","тыс.руб.",null,null,null,0,null,null,null,null,null,null,null,null,null,null,null,null,null,null,null,null,null,null,null,null,null,0,0,0,0,0,0,0,0,0,0]
["1","Займы и кредиты (для метода индексации)",null,"L2_10",null,null,null,null,null,null,null,"2.10","Займы и кредиты (для метода индексации)","тыс.руб.",{"$f":"SUM(O533,O534)","v":0},{"$f":"SUM(P533,P534)","v":0},0,0,0,0,0,0,0,0,0,0,0,0,0,0,0,0,0,0,0,0,0,0,0,0,0,0,0,0,0,0,0,0,0]
["1",null,null,"L2_10_1",null,null,null,null,null,null,null,"2.10.1","возврат займов и кредитов","тыс.руб.",null,null,null,0,null,null,null,null,null,null,null,null,null,null,null,null,null,null,null,null,null,null,null,null,null,0,0,0,0,0,0,0,0,0,0]
["1",null,null,"L2_10_2",null,null,null,null,null,null,null,"2.10.2","проценты по займам и кредитам","тыс.руб.",null,null,null,0,null,null,null,null,null,null,null,null,null,null,null,null,null,null,null,null,null,null,null,null,null,0,0,0,0,0,0,0,0,0,0]
["1","Расходы концессионера на осуществление государственного кадастрового учета",null,"L2_11",null,null,null,null,null,null,null,"2.11","Расходы концессионера на осуществление государственного кадастрового учета и (или) государственной регистрации права собственности концедента","тыс.руб.",null,null,null,0,null,null,null,null,null,null,null,null,null,null,null,null,null,null,null,null,null,null,null,null,null,0,0,0,0,0,0,0,0,0,0]
["1","ээ",null,"L3",null,null,null,null,null,null,null,"3","Расходы на электрическую энергию","тыс.руб.",{"$f":"SUMIFS(ЭЭ!O$15:O$42,ЭЭ!$A$15:$A$42,$A536,ЭЭ!$M$15:$M$42,\"Всего по тарифу\")","v":3397.4385362937101},{"$f":"SUMIFS(ЭЭ!P$15:P$42,ЭЭ!$A$15:$A$42,$A536,ЭЭ!$M$15:$M$42,\"Всего по тарифу\")","v":2122.2399999999998},{"$f":"SUMIFS(ЭЭ!Q$15:Q$42,ЭЭ!$A$15:$A$42,$A536,ЭЭ!$M$15:$M$42,\"Всего по тарифу\")","v":2119.2759999999998},{"$f":"Q536-P536","v":-2.9639999999999418},{"$f":"SUMIFS(ЭЭ!R$15:R$42,ЭЭ!$A$15:$A$42,$A536,ЭЭ!$M$15:$M$42,\"Всего по тарифу\")","v":3785.0518374274302},{"$f":"SUMIFS(ЭЭ!S$15:S$42,ЭЭ!$A$15:$A$42,$A536,ЭЭ!$M$15:$M$42,\"Всего по тарифу\")","v":4287.9799999999996},{"$f":"SUMIFS(ЭЭ!T$15:T$42,ЭЭ!$A$15:$A$42,$A536,ЭЭ!$M$15:$M$42,\"Всего по тарифу\")","v":4545.26},{"$f":"SUMIFS(ЭЭ!U$15:U$42,ЭЭ!$A$15:$A$42,$A536,ЭЭ!$M$15:$M$42,\"Всего по тарифу\")","v":4772.5200000000004},{"$f":"SUMIFS(ЭЭ!V$15:V$42,ЭЭ!$A$15:$A$42,$A536,ЭЭ!$M$15:$M$42,\"Всего по тарифу\")","v":5011.1499999999996},{"$f":"SUMIFS(ЭЭ!W$15:W$42,ЭЭ!$A$15:$A$42,$A536,ЭЭ!$M$15:$M$42,\"Всего по тарифу\")","v":5261.71},{"$f":"SUMIFS(ЭЭ!X$15:X$42,ЭЭ!$A$15:$A$42,$A536,ЭЭ!$M$15:$M$42,\"Всего по тарифу\")","v":0},{"$f":"SUMIFS(ЭЭ!Y$15:Y$42,ЭЭ!$A$15:$A$42,$A536,ЭЭ!$M$15:$M$42,\"Всего по тарифу\")","v":0},{"$f":"SUMIFS(ЭЭ!Z$15:Z$42,ЭЭ!$A$15:$A$42,$A536,ЭЭ!$M$15:$M$42,\"Всего по тарифу\")","v":0},{"$f":"SUMIFS(ЭЭ!AA$15:AA$42,ЭЭ!$A$15:$A$42,$A536,ЭЭ!$M$15:$M$42,\"Всего по тарифу\")","v":0},{"$f":"SUMIFS(ЭЭ!AB$15:AB$42,ЭЭ!$A$15:$A$42,$A536,ЭЭ!$M$15:$M$42,\"Всего по тарифу\")","v":0},{"$f":"SUMIFS(ЭЭ!AC$15:AC$42,ЭЭ!$A$15:$A$42,$A536,ЭЭ!$M$15:$M$42,\"Всего по тарифу\")","v":2495.62029618017},{"$f":"SUMIFS(ЭЭ!AD$15:AD$42,ЭЭ!$A$15:$A$42,$A536,ЭЭ!$M$15:$M$42,\"Всего по тарифу\")","v":2617.905690693},{"$f":"SUMIFS(ЭЭ!AE$15:AE$42,ЭЭ!$A$15:$A$42,$A536,ЭЭ!$M$15:$M$42,\"Всего по тарифу\")","v":2696.4428614137901},{"$f":"SUMIFS(ЭЭ!AF$15:AF$42,ЭЭ!$A$15:$A$42,$A536,ЭЭ!$M$15:$M$42,\"Всего по тарифу\")","v":2777.3361472562001},{"$f":"SUMIFS(ЭЭ!AG$15:AG$42,ЭЭ!$A$15:$A$42,$A536,ЭЭ!$M$15:$M$42,\"Всего по тарифу\")","v":2860.65623167389},{"$f":"SUMIFS(ЭЭ!AH$15:AH$42,ЭЭ!$A$15:$A$42,$A536,ЭЭ!$M$15:$M$42,\"Всего по тарифу\")","v":0},{"$f":"SUMIFS(ЭЭ!AI$15:AI$42,ЭЭ!$A$15:$A$42,$A536,ЭЭ!$M$15:$M$42,\"Всего по тарифу\")","v":0},{"$f":"SUMIFS(ЭЭ!AJ$15:AJ$42,ЭЭ!$A$15:$A$42,$A536,ЭЭ!$M$15:$M$42,\"Всего по тарифу\")","v":0},{"$f":"SUMIFS(ЭЭ!AK$15:AK$42,ЭЭ!$A$15:$A$42,$A536,ЭЭ!$M$15:$M$42,\"Всего по тарифу\")","v":0},{"$f":"SUMIFS(ЭЭ!AL$15:AL$42,ЭЭ!$A$15:$A$42,$A536,ЭЭ!$M$15:$M$42,\"Всего по тарифу\")","v":0},{"$f":"IF(S536=0,0,(AD536-S536)/S536*100)","v":-34.066416964150285},{"$f":"IF(AD536=0,0,(AE536-AD536)/AD536*100)","v":4.9000000000000643},3.0000000000000027,2.9999999999998637,3.0000000000001417,-100,0,0,0,0]
["1","амортизация",null,"L4",null,null,null,null,null,null,null,"4","Амортизация основных средств и нематериальных активов, относимых к объектам централизованной системы водоснабжения (водоотведения)","тыс.руб.",{"$f":"SUMIFS(Амортизация!O$15:O$114,Амортизация!$A$15:$A$114,$A537,Амортизация!$M$15:$M$114,\"Сумма амортизационных отчислений\")","v":345.99},{"$f":"SUMIFS(Амортизация!P$15:P$114,Амортизация!$A$15:$A$114,$A537,Амортизация!$M$15:$M$114,\"Сумма амортизационных отчислений\")","v":0.33400000000000002},{"$f":"SUMIFS(Амортизация!Q$15:Q$114,Амортизация!$A$15:$A$114,$A537,Амортизация!$M$15:$M$114,\"Сумма амортизационных отчислений\")","v":235.18046000000001},234.84646000000001,{"$f":"SUMIFS(Амортизация!R$15:R$114,Амортизация!$A$15:$A$114,$A537,Амортизация!$M$15:$M$114,\"Сумма амортизационных отчислений\")","v":83.8},{"$f":"SUMIFS(Амортизация!S$15:S$114,Амортизация!$A$15:$A$114,$A537,Амортизация!$M$15:$M$114,\"Сумма амортизационных отчислений\")","v":0.14161000000000001},{"$f":"SUMIFS(Амортизация!T$15:T$114,Амортизация!$A$15:$A$114,$A537,Амортизация!$M$15:$M$114,\"Сумма амортизационных отчислений\")","v":0},{"$f":"SUMIFS(Амортизация!U$15:U$114,Амортизация!$A$15:$A$114,$A537,Амортизация!$M$15:$M$114,\"Сумма амортизационных отчислений\")","v":0},{"$f":"SUMIFS(Амортизация!V$15:V$114,Амортизация!$A$15:$A$114,$A537,Амортизация!$M$15:$M$114,\"Сумма амортизационных отчислений\")","v":0},{"$f":"SUMIFS(Амортизация!W$15:W$114,Амортизация!$A$15:$A$114,$A537,Амортизация!$M$15:$M$114,\"Сумма амортизационных отчислений\")","v":0},{"$f":"SUMIFS(Амортизация!X$15:X$114,Амортизация!$A$15:$A$114,$A537,Амортизация!$M$15:$M$114,\"Сумма амортизационных отчислений\")","v":0},{"$f":"SUMIFS(Амортизация!Y$15:Y$114,Амортизация!$A$15:$A$114,$A537,Амортизация!$M$15:$M$114,\"Сумма амортизационных отчислений\")","v":0},{"$f":"SUMIFS(Амортизация!Z$15:Z$114,Амортизация!$A$15:$A$114,$A537,Амортизация!$M$15:$M$114,\"Сумма амортизационных отчислений\")","v":0},{"$f":"SUMIFS(Амортизация!AA$15:AA$114,Амортизация!$A$15:$A$114,$A537,Амортизация!$M$15:$M$114,\"Сумма амортизационных отчислений\")","v":0},{"$f":"SUMIFS(Амортизация!AB$15:AB$114,Амортизация!$A$15:$A$114,$A537,Амортизация!$M$15:$M$114,\"Сумма амортизационных отчислений\")","v":0},{"$f":"SUMIFS(Амортизация!AC$15:AC$114,Амортизация!$A$15:$A$114,$A537,Амортизация!$M$15:$M$114,\"Сумма амортизационных отчислений\")","v":69.16352000000002},{"$f":"SUMIFS(Амортизация!AD$15:AD$114,Амортизация!$A$15:$A$114,$A537,Амортизация!$M$15:$M$114,\"Сумма амортизационных отчислений\")","v":0},{"$f":"SUMIFS(Амортизация!AE$15:AE$114,Амортизация!$A$15:$A$114,$A537,Амортизация!$M$15:$M$114,\"Сумма амортизационных отчислений\")","v":0},{"$f":"SUMIFS(Амортизация!AF$15:AF$114,Амортизация!$A$15:$A$114,$A537,Амортизация!$M$15:$M$114,\"Сумма амортизационных отчислений\")","v":0},{"$f":"SUMIFS(Амортизация!AG$15:AG$114,Амортизация!$A$15:$A$114,$A537,Амортизация!$M$15:$M$114,\"Сумма амортизационных отчислений\")","v":0},{"$f":"SUMIFS(Амортизация!AH$15:AH$114,Амортизация!$A$15:$A$114,$A537,Амортизация!$M$15:$M$114,\"Сумма амортизационных отчислений\")","v":0},{"$f":"SUMIFS(Амортизация!AI$15:AI$114,Амортизация!$A$15:$A$114,$A537,Амортизация!$M$15:$M$114,\"Сумма амортизационных отчислений\")","v":0},{"$f":"SUMIFS(Амортизация!AJ$15:AJ$114,Амортизация!$A$15:$A$114,$A537,Амортизация!$M$15:$M$114,\"Сумма амортизационных отчислений\")","v":0},{"$f":"SUMIFS(Амортизация!AK$15:AK$114,Амортизация!$A$15:$A$114,$A537,Амортизация!$M$15:$M$114,\"Сумма амортизационных отчислений\")","v":0},{"$f":"SUMIFS(Амортизация!AL$15:AL$114,Амортизация!$A$15:$A$114,$A537,Амортизация!$M$15:$M$114,\"Сумма амортизационных отчислений\")","v":0},-17.465966587112145,-100,0,0,0,0,0,0,0,0]
["1",null,null,"L4_1",null,null,null,null,null,null,null,"4.1","в том числе инвестиционная (справочно)","тыс.руб.",{"$f":"SUMIFS('ИП + источники'!P$17:P$89,'ИП + источники'!$A$17:$A$89,$A538,'ИП + источники'!$M$17:$M$89,\"Амортизационные отчисления\")+SUMIFS('ИП + источники'!P$17:P$89,'ИП + источники'!$A$17:$A$89,$A538,'ИП + источники'!$M$17:$M$89,\"погашение займов и кредитов из амортизации\")","v":0},{"$f":"SUMIFS('ИП + источники'!Q$17:Q$89,'ИП + источники'!$A$17:$A$89,$A538,'ИП + источники'!$M$17:$M$89,\"Амортизационные отчисления\")+SUMIFS('ИП + источники'!Q$17:Q$89,'ИП + источники'!$A$17:$A$89,$A538,'ИП + источники'!$M$17:$M$89,\"погашение займов и кредитов из амортизации\")","v":0},{"$f":"SUMIFS('ИП + источники'!R$17:R$89,'ИП + источники'!$A$17:$A$89,$A538,'ИП + источники'!$M$17:$M$89,\"Амортизационные отчисления\")+SUMIFS('ИП + источники'!R$17:R$89,'ИП + источники'!$A$17:$A$89,$A538,'ИП + источники'!$M$17:$M$89,\"погашение займов и кредитов из амортизации\")","v":0},0,{"$f":"SUMIFS('ИП + источники'!T$17:T$89,'ИП + источники'!$A$17:$A$89,$A538,'ИП + источники'!$M$17:$M$89,\"Амортизационные отчисления\")+SUMIFS('ИП + источники'!T$17:T$89,'ИП + источники'!$A$17:$A$89,$A538,'ИП + источники'!$M$17:$M$89,\"погашение займов и кредитов из амортизации\")","v":0},{"$f":"SUMIFS('ИП + источники'!U$17:U$89,'ИП + источники'!$A$17:$A$89,$A538,'ИП + источники'!$M$17:$M$89,\"Амортизационные отчисления\")+SUMIFS('ИП + источники'!U$17:U$89,'ИП + источники'!$A$17:$A$89,$A538,'ИП + источники'!$M$17:$M$89,\"погашение займов и кредитов из амортизации\")","v":0},{"$f":"SUMIFS('ИП + источники'!V$17:V$89,'ИП + источники'!$A$17:$A$89,$A538,'ИП + источники'!$M$17:$M$89,\"Амортизационные отчисления\")+SUMIFS('ИП + источники'!V$17:V$89,'ИП + источники'!$A$17:$A$89,$A538,'ИП + источники'!$M$17:$M$89,\"погашение займов и кредитов из амортизации\")","v":0},{"$f":"SUMIFS('ИП + источники'!W$17:W$89,'ИП + источники'!$A$17:$A$89,$A538,'ИП + источники'!$M$17:$M$89,\"Амортизационные отчисления\")+SUMIFS('ИП + источники'!W$17:W$89,'ИП + источники'!$A$17:$A$89,$A538,'ИП + источники'!$M$17:$M$89,\"погашение займов и кредитов из амортизации\")","v":0},{"$f":"SUMIFS('ИП + источники'!X$17:X$89,'ИП + источники'!$A$17:$A$89,$A538,'ИП + источники'!$M$17:$M$89,\"Амортизационные отчисления\")+SUMIFS('ИП + источники'!X$17:X$89,'ИП + источники'!$A$17:$A$89,$A538,'ИП + источники'!$M$17:$M$89,\"погашение займов и кредитов из амортизации\")","v":0},{"$f":"SUMIFS('ИП + источники'!Y$17:Y$89,'ИП + источники'!$A$17:$A$89,$A538,'ИП + источники'!$M$17:$M$89,\"Амортизационные отчисления\")+SUMIFS('ИП + источники'!Y$17:Y$89,'ИП + источники'!$A$17:$A$89,$A538,'ИП + источники'!$M$17:$M$89,\"погашение займов и кредитов из амортизации\")","v":0},{"$f":"SUMIFS('ИП + источники'!Z$17:Z$89,'ИП + источники'!$A$17:$A$89,$A538,'ИП + источники'!$M$17:$M$89,\"Амортизационные отчисления\")+SUMIFS('ИП + источники'!Z$17:Z$89,'ИП + источники'!$A$17:$A$89,$A538,'ИП + источники'!$M$17:$M$89,\"погашение займов и кредитов из амортизации\")","v":0},{"$f":"SUMIFS('ИП + источники'!AA$17:AA$89,'ИП + источники'!$A$17:$A$89,$A538,'ИП + источники'!$M$17:$M$89,\"Амортизационные отчисления\")+SUMIFS('ИП + источники'!AA$17:AA$89,'ИП + источники'!$A$17:$A$89,$A538,'ИП + источники'!$M$17:$M$89,\"погашение займов и кредитов из амортизации\")","v":0},{"$f":"SUMIFS('ИП + источники'!AB$17:AB$89,'ИП + источники'!$A$17:$A$89,$A538,'ИП + источники'!$M$17:$M$89,\"Амортизационные отчисления\")+SUMIFS('ИП + источники'!AB$17:AB$89,'ИП + источники'!$A$17:$A$89,$A538,'ИП + источники'!$M$17:$M$89,\"погашение займов и кредитов из амортизации\")","v":0},{"$f":"SUMIFS('ИП + источники'!AC$17:AC$89,'ИП + источники'!$A$17:$A$89,$A538,'ИП + источники'!$M$17:$M$89,\"Амортизационные отчисления\")+SUMIFS('ИП + источники'!AC$17:AC$89,'ИП + источники'!$A$17:$A$89,$A538,'ИП + источники'!$M$17:$M$89,\"погашение займов и кредитов из амортизации\")","v":0},{"$f":"SUMIFS('ИП + источники'!AD$17:AD$89,'ИП + источники'!$A$17:$A$89,$A538,'ИП + источники'!$M$17:$M$89,\"Амортизационные отчисления\")+SUMIFS('ИП + источники'!AD$17:AD$89,'ИП + источники'!$A$17:$A$89,$A538,'ИП + источники'!$M$17:$M$89,\"погашение займов и кредитов из амортизации\")","v":0},{"$f":"SUMIFS('ИП + источники'!AE$17:AE$89,'ИП + источники'!$A$17:$A$89,$A538,'ИП + источники'!$M$17:$M$89,\"Амортизационные отчисления\")+SUMIFS('ИП + источники'!AE$17:AE$89,'ИП + источники'!$A$17:$A$89,$A538,'ИП + источники'!$M$17:$M$89,\"погашение займов и кредитов из амортизации\")","v":0},{"$f":"SUMIFS('ИП + источники'!AF$17:AF$89,'ИП + источники'!$A$17:$A$89,$A538,'ИП + источники'!$M$17:$M$89,\"Амортизационные отчисления\")+SUMIFS('ИП + источники'!AF$17:AF$89,'ИП + источники'!$A$17:$A$89,$A538,'ИП + источники'!$M$17:$M$89,\"погашение займов и кредитов из амортизации\")","v":0},{"$f":"SUMIFS('ИП + источники'!AG$17:AG$89,'ИП + источники'!$A$17:$A$89,$A538,'ИП + источники'!$M$17:$M$89,\"Амортизационные отчисления\")+SUMIFS('ИП + источники'!AG$17:AG$89,'ИП + источники'!$A$17:$A$89,$A538,'ИП + источники'!$M$17:$M$89,\"погашение займов и кредитов из амортизации\")","v":0},{"$f":"SUMIFS('ИП + источники'!AH$17:AH$89,'ИП + источники'!$A$17:$A$89,$A538,'ИП + источники'!$M$17:$M$89,\"Амортизационные отчисления\")+SUMIFS('ИП + источники'!AH$17:AH$89,'ИП + источники'!$A$17:$A$89,$A538,'ИП + источники'!$M$17:$M$89,\"погашение займов и кредитов из амортизации\")","v":0},{"$f":"SUMIFS('ИП + источники'!AI$17:AI$89,'ИП + источники'!$A$17:$A$89,$A538,'ИП + источники'!$M$17:$M$89,\"Амортизационные отчисления\")+SUMIFS('ИП + источники'!AI$17:AI$89,'ИП + источники'!$A$17:$A$89,$A538,'ИП + источники'!$M$17:$M$89,\"погашение займов и кредитов из амортизации\")","v":0},{"$f":"SUMIFS('ИП + источники'!AJ$17:AJ$89,'ИП + источники'!$A$17:$A$89,$A538,'ИП + источники'!$M$17:$M$89,\"Амортизационные отчисления\")+SUMIFS('ИП + источники'!AJ$17:AJ$89,'ИП + источники'!$A$17:$A$89,$A538,'ИП + источники'!$M$17:$M$89,\"погашение займов и кредитов из амортизации\")","v":0},{"$f":"SUMIFS('ИП + источники'!AK$17:AK$89,'ИП + источники'!$A$17:$A$89,$A538,'ИП + источники'!$M$17:$M$89,\"Амортизационные отчисления\")+SUMIFS('ИП + источники'!AK$17:AK$89,'ИП + источники'!$A$17:$A$89,$A538,'ИП + источники'!$M$17:$M$89,\"погашение займов и кредитов из амортизации\")","v":0},{"$f":"SUMIFS('ИП + источники'!AL$17:AL$89,'ИП + источники'!$A$17:$A$89,$A538,'ИП + источники'!$M$17:$M$89,\"Амортизационные отчисления\")+SUMIFS('ИП + источники'!AL$17:AL$89,'ИП + источники'!$A$17:$A$89,$A538,'ИП + источники'!$M$17:$M$89,\"погашение займов и кредитов из амортизации\")","v":0},{"$f":"SUMIFS('ИП + источники'!AM$17:AM$89,'ИП + источники'!$A$17:$A$89,$A538,'ИП + источники'!$M$17:$M$89,\"Амортизационные отчисления\")+SUMIFS('ИП + источники'!AM$17:AM$89,'ИП + источники'!$A$17:$A$89,$A538,'ИП + источники'!$M$17:$M$89,\"погашение займов и кредитов из амортизации\")","v":0},{"$f":"SUMIFS('ИП + источники'!AN$17:AN$89,'ИП + источники'!$A$17:$A$89,$A538,'ИП + источники'!$M$17:$M$89,\"Амортизационные отчисления\")+SUMIFS('ИП + источники'!AN$17:AN$89,'ИП + источники'!$A$17:$A$89,$A538,'ИП + источники'!$M$17:$M$89,\"погашение займов и кредитов из амортизации\")","v":0},0,0,0,0,0,0,0,0,0,0]
["1","Нормативная прибыль",null,"L5",null,null,null,null,null,null,null,"5","Нормативная прибыль","тыс.руб.",{"$f":"O540+O541+O542+O543","v":0},{"$f":"P540+P541+P542+P543","v":0},0,0,0,0,0,0,0,0,0,0,0,0,0,0,0,0,0,0,0,0,0,0,0,0,0,0,0,0,0,0,0,0,0]
["1",null,null,"L5_1",null,null,null,null,null,null,null,"5.1","средства на возврат инвестиционных займов","тыс.руб.",{"$f":"SUMIFS('ИП + источники'!P$15:P$89,'ИП + источники'!$A$15:$A$89,$A540,'ИП + источники'!$M$15:$M$89,\"погашение займов и кредитов из нормативной прибыли\")","v":0},{"$f":"SUMIFS('ИП + источники'!Q$15:Q$89,'ИП + источники'!$A$15:$A$89,$A540,'ИП + источники'!$M$15:$M$89,\"погашение займов и кредитов из нормативной прибыли\")","v":0},{"$f":"SUMIFS('ИП + источники'!R$15:R$89,'ИП + источники'!$A$15:$A$89,$A540,'ИП + источники'!$M$15:$M$89,\"погашение займов и кредитов из нормативной прибыли\")","v":0},0,{"$f":"SUMIFS('ИП + источники'!T$15:T$89,'ИП + источники'!$A$15:$A$89,$A540,'ИП + источники'!$M$15:$M$89,\"погашение займов и кредитов из нормативной прибыли\")","v":0},{"$f":"SUMIFS('ИП + источники'!U$15:U$89,'ИП + источники'!$A$15:$A$89,$A540,'ИП + источники'!$M$15:$M$89,\"погашение займов и кредитов из нормативной прибыли\")","v":0},{"$f":"SUMIFS('ИП + источники'!V$15:V$89,'ИП + источники'!$A$15:$A$89,$A540,'ИП + источники'!$M$15:$M$89,\"погашение займов и кредитов из нормативной прибыли\")","v":0},{"$f":"SUMIFS('ИП + источники'!W$15:W$89,'ИП + источники'!$A$15:$A$89,$A540,'ИП + источники'!$M$15:$M$89,\"погашение займов и кредитов из нормативной прибыли\")","v":0},{"$f":"SUMIFS('ИП + источники'!X$15:X$89,'ИП + источники'!$A$15:$A$89,$A540,'ИП + источники'!$M$15:$M$89,\"погашение займов и кредитов из нормативной прибыли\")","v":0},{"$f":"SUMIFS('ИП + источники'!Y$15:Y$89,'ИП + источники'!$A$15:$A$89,$A540,'ИП + источники'!$M$15:$M$89,\"погашение займов и кредитов из нормативной прибыли\")","v":0},{"$f":"SUMIFS('ИП + источники'!Z$15:Z$89,'ИП + источники'!$A$15:$A$89,$A540,'ИП + источники'!$M$15:$M$89,\"погашение займов и кредитов из нормативной прибыли\")","v":0},{"$f":"SUMIFS('ИП + источники'!AA$15:AA$89,'ИП + источники'!$A$15:$A$89,$A540,'ИП + источники'!$M$15:$M$89,\"погашение займов и кредитов из нормативной прибыли\")","v":0},{"$f":"SUMIFS('ИП + источники'!AB$15:AB$89,'ИП + источники'!$A$15:$A$89,$A540,'ИП + источники'!$M$15:$M$89,\"погашение займов и кредитов из нормативной прибыли\")","v":0},{"$f":"SUMIFS('ИП + источники'!AC$15:AC$89,'ИП + источники'!$A$15:$A$89,$A540,'ИП + источники'!$M$15:$M$89,\"погашение займов и кредитов из нормативной прибыли\")","v":0},{"$f":"SUMIFS('ИП + источники'!AD$15:AD$89,'ИП + источники'!$A$15:$A$89,$A540,'ИП + источники'!$M$15:$M$89,\"погашение займов и кредитов из нормативной прибыли\")","v":0},{"$f":"SUMIFS('ИП + источники'!AE$15:AE$89,'ИП + источники'!$A$15:$A$89,$A540,'ИП + источники'!$M$15:$M$89,\"погашение займов и кредитов из нормативной прибыли\")","v":0},{"$f":"SUMIFS('ИП + источники'!AF$15:AF$89,'ИП + источники'!$A$15:$A$89,$A540,'ИП + источники'!$M$15:$M$89,\"погашение займов и кредитов из нормативной прибыли\")","v":0},{"$f":"SUMIFS('ИП + источники'!AG$15:AG$89,'ИП + источники'!$A$15:$A$89,$A540,'ИП + источники'!$M$15:$M$89,\"погашение займов и кредитов из нормативной прибыли\")","v":0},{"$f":"SUMIFS('ИП + источники'!AH$15:AH$89,'ИП + источники'!$A$15:$A$89,$A540,'ИП + источники'!$M$15:$M$89,\"погашение займов и кредитов из нормативной прибыли\")","v":0},{"$f":"SUMIFS('ИП + источники'!AI$15:AI$89,'ИП + источники'!$A$15:$A$89,$A540,'ИП + источники'!$M$15:$M$89,\"погашение займов и кредитов из нормативной прибыли\")","v":0},{"$f":"SUMIFS('ИП + источники'!AJ$15:AJ$89,'ИП + источники'!$A$15:$A$89,$A540,'ИП + источники'!$M$15:$M$89,\"погашение займов и кредитов из нормативной прибыли\")","v":0},{"$f":"SUMIFS('ИП + источники'!AK$15:AK$89,'ИП + источники'!$A$15:$A$89,$A540,'ИП + источники'!$M$15:$M$89,\"погашение займов и кредитов из нормативной прибыли\")","v":0},{"$f":"SUMIFS('ИП + источники'!AL$15:AL$89,'ИП + источники'!$A$15:$A$89,$A540,'ИП + источники'!$M$15:$M$89,\"погашение займов и кредитов из нормативной прибыли\")","v":0},{"$f":"SUMIFS('ИП + источники'!AM$15:AM$89,'ИП + источники'!$A$15:$A$89,$A540,'ИП + источники'!$M$15:$M$89,\"погашение займов и кредитов из нормативной прибыли\")","v":0},{"$f":"SUMIFS('ИП + источники'!AN$15:AN$89,'ИП + источники'!$A$15:$A$89,$A540,'ИП + источники'!$M$15:$M$89,\"погашение займов и кредитов из нормативной прибыли\")","v":0},0,0,0,0,0,0,0,0,0,0]
["1",null,null,"L5_2",null,null,null,null,null,null,null,"5.2","средства на уплату процентов по инвестиционным займам","тыс.руб.",{"$f":"SUMIFS('ИП + источники'!P$15:P$89,'ИП + источники'!$A$15:$A$89,$A541,'ИП + источники'!$M$15:$M$89,\"уплата процентов по кредитам из нормативной прибыли\")","v":0},{"$f":"SUMIFS('ИП + источники'!Q$15:Q$89,'ИП + источники'!$A$15:$A$89,$A541,'ИП + источники'!$M$15:$M$89,\"уплата процентов по кредитам из нормативной прибыли\")","v":0},{"$f":"SUMIFS('ИП + источники'!R$15:R$89,'ИП + источники'!$A$15:$A$89,$A541,'ИП + источники'!$M$15:$M$89,\"уплата процентов по кредитам из нормативной прибыли\")","v":0},0,{"$f":"SUMIFS('ИП + источники'!T$15:T$89,'ИП + источники'!$A$15:$A$89,$A541,'ИП + источники'!$M$15:$M$89,\"уплата процентов по кредитам из нормативной прибыли\")","v":0},{"$f":"SUMIFS('ИП + источники'!U$15:U$89,'ИП + источники'!$A$15:$A$89,$A541,'ИП + источники'!$M$15:$M$89,\"уплата процентов по кредитам из нормативной прибыли\")","v":0},{"$f":"SUMIFS('ИП + источники'!V$15:V$89,'ИП + источники'!$A$15:$A$89,$A541,'ИП + источники'!$M$15:$M$89,\"уплата процентов по кредитам из нормативной прибыли\")","v":0},{"$f":"SUMIFS('ИП + источники'!W$15:W$89,'ИП + источники'!$A$15:$A$89,$A541,'ИП + источники'!$M$15:$M$89,\"уплата процентов по кредитам из нормативной прибыли\")","v":0},{"$f":"SUMIFS('ИП + источники'!X$15:X$89,'ИП + источники'!$A$15:$A$89,$A541,'ИП + источники'!$M$15:$M$89,\"уплата процентов по кредитам из нормативной прибыли\")","v":0},{"$f":"SUMIFS('ИП + источники'!Y$15:Y$89,'ИП + источники'!$A$15:$A$89,$A541,'ИП + источники'!$M$15:$M$89,\"уплата процентов по кредитам из нормативной прибыли\")","v":0},{"$f":"SUMIFS('ИП + источники'!Z$15:Z$89,'ИП + источники'!$A$15:$A$89,$A541,'ИП + источники'!$M$15:$M$89,\"уплата процентов по кредитам из нормативной прибыли\")","v":0},{"$f":"SUMIFS('ИП + источники'!AA$15:AA$89,'ИП + источники'!$A$15:$A$89,$A541,'ИП + источники'!$M$15:$M$89,\"уплата процентов по кредитам из нормативной прибыли\")","v":0},{"$f":"SUMIFS('ИП + источники'!AB$15:AB$89,'ИП + источники'!$A$15:$A$89,$A541,'ИП + источники'!$M$15:$M$89,\"уплата процентов по кредитам из нормативной прибыли\")","v":0},{"$f":"SUMIFS('ИП + источники'!AC$15:AC$89,'ИП + источники'!$A$15:$A$89,$A541,'ИП + источники'!$M$15:$M$89,\"уплата процентов по кредитам из нормативной прибыли\")","v":0},{"$f":"SUMIFS('ИП + источники'!AD$15:AD$89,'ИП + источники'!$A$15:$A$89,$A541,'ИП + источники'!$M$15:$M$89,\"уплата процентов по кредитам из нормативной прибыли\")","v":0},{"$f":"SUMIFS('ИП + источники'!AE$15:AE$89,'ИП + источники'!$A$15:$A$89,$A541,'ИП + источники'!$M$15:$M$89,\"уплата процентов по кредитам из нормативной прибыли\")","v":0},{"$f":"SUMIFS('ИП + источники'!AF$15:AF$89,'ИП + источники'!$A$15:$A$89,$A541,'ИП + источники'!$M$15:$M$89,\"уплата процентов по кредитам из нормативной прибыли\")","v":0},{"$f":"SUMIFS('ИП + источники'!AG$15:AG$89,'ИП + источники'!$A$15:$A$89,$A541,'ИП + источники'!$M$15:$M$89,\"уплата процентов по кредитам из нормативной прибыли\")","v":0},{"$f":"SUMIFS('ИП + источники'!AH$15:AH$89,'ИП + источники'!$A$15:$A$89,$A541,'ИП + источники'!$M$15:$M$89,\"уплата процентов по кредитам из нормативной прибыли\")","v":0},{"$f":"SUMIFS('ИП + источники'!AI$15:AI$89,'ИП + источники'!$A$15:$A$89,$A541,'ИП + источники'!$M$15:$M$89,\"уплата процентов по кредитам из нормативной прибыли\")","v":0},{"$f":"SUMIFS('ИП + источники'!AJ$15:AJ$89,'ИП + источники'!$A$15:$A$89,$A541,'ИП + источники'!$M$15:$M$89,\"уплата процентов по кредитам из нормативной прибыли\")","v":0},{"$f":"SUMIFS('ИП + источники'!AK$15:AK$89,'ИП + источники'!$A$15:$A$89,$A541,'ИП + источники'!$M$15:$M$89,\"уплата процентов по кредитам из нормативной прибыли\")","v":0},{"$f":"SUMIFS('ИП + источники'!AL$15:AL$89,'ИП + источники'!$A$15:$A$89,$A541,'ИП + источники'!$M$15:$M$89,\"уплата процентов по кредитам из нормативной прибыли\")","v":0},{"$f":"SUMIFS('ИП + источники'!AM$15:AM$89,'ИП + источники'!$A$15:$A$89,$A541,'ИП + источники'!$M$15:$M$89,\"уплата процентов по кредитам из нормативной прибыли\")","v":0},{"$f":"SUMIFS('ИП + источники'!AN$15:AN$89,'ИП + источники'!$A$15:$A$89,$A541,'ИП + источники'!$M$15:$M$89,\"уплата процентов по кредитам из нормативной прибыли\")","v":0},0,0,0,0,0,0,0,0,0,0]
["1",null,null,"L5_3",null,null,null,null,null,null,null,"5.3","капитальные расходы","тыс.руб.",{"$f":"SUMIFS('ИП + источники'!P$15:P$89,'ИП + источники'!$A$15:$A$89,$A542,'ИП + источники'!$M$15:$M$89,\"Прибыль на капвложения\")","v":0},{"$f":"SUMIFS('ИП + источники'!Q$15:Q$89,'ИП + источники'!$A$15:$A$89,$A542,'ИП + источники'!$M$15:$M$89,\"Прибыль на капвложения\")","v":0},{"$f":"SUMIFS('ИП + источники'!R$15:R$89,'ИП + источники'!$A$15:$A$89,$A542,'ИП + источники'!$M$15:$M$89,\"Прибыль на капвложения\")","v":0},0,{"$f":"SUMIFS('ИП + источники'!T$15:T$89,'ИП + источники'!$A$15:$A$89,$A542,'ИП + источники'!$M$15:$M$89,\"Прибыль на капвложения\")","v":0},{"$f":"SUMIFS('ИП + источники'!U$15:U$89,'ИП + источники'!$A$15:$A$89,$A542,'ИП + источники'!$M$15:$M$89,\"Прибыль на капвложения\")","v":0},{"$f":"SUMIFS('ИП + источники'!V$15:V$89,'ИП + источники'!$A$15:$A$89,$A542,'ИП + источники'!$M$15:$M$89,\"Прибыль на капвложения\")","v":0},{"$f":"SUMIFS('ИП + источники'!W$15:W$89,'ИП + источники'!$A$15:$A$89,$A542,'ИП + источники'!$M$15:$M$89,\"Прибыль на капвложения\")","v":0},{"$f":"SUMIFS('ИП + источники'!X$15:X$89,'ИП + источники'!$A$15:$A$89,$A542,'ИП + источники'!$M$15:$M$89,\"Прибыль на капвложения\")","v":0},{"$f":"SUMIFS('ИП + источники'!Y$15:Y$89,'ИП + источники'!$A$15:$A$89,$A542,'ИП + источники'!$M$15:$M$89,\"Прибыль на капвложения\")","v":0},{"$f":"SUMIFS('ИП + источники'!Z$15:Z$89,'ИП + источники'!$A$15:$A$89,$A542,'ИП + источники'!$M$15:$M$89,\"Прибыль на капвложения\")","v":0},{"$f":"SUMIFS('ИП + источники'!AA$15:AA$89,'ИП + источники'!$A$15:$A$89,$A542,'ИП + источники'!$M$15:$M$89,\"Прибыль на капвложения\")","v":0},{"$f":"SUMIFS('ИП + источники'!AB$15:AB$89,'ИП + источники'!$A$15:$A$89,$A542,'ИП + источники'!$M$15:$M$89,\"Прибыль на капвложения\")","v":0},{"$f":"SUMIFS('ИП + источники'!AC$15:AC$89,'ИП + источники'!$A$15:$A$89,$A542,'ИП + источники'!$M$15:$M$89,\"Прибыль на капвложения\")","v":0},{"$f":"SUMIFS('ИП + источники'!AD$15:AD$89,'ИП + источники'!$A$15:$A$89,$A542,'ИП + источники'!$M$15:$M$89,\"Прибыль на капвложения\")","v":0},{"$f":"SUMIFS('ИП + источники'!AE$15:AE$89,'ИП + источники'!$A$15:$A$89,$A542,'ИП + источники'!$M$15:$M$89,\"Прибыль на капвложения\")","v":0},{"$f":"SUMIFS('ИП + источники'!AF$15:AF$89,'ИП + источники'!$A$15:$A$89,$A542,'ИП + источники'!$M$15:$M$89,\"Прибыль на капвложения\")","v":0},{"$f":"SUMIFS('ИП + источники'!AG$15:AG$89,'ИП + источники'!$A$15:$A$89,$A542,'ИП + источники'!$M$15:$M$89,\"Прибыль на капвложения\")","v":0},{"$f":"SUMIFS('ИП + источники'!AH$15:AH$89,'ИП + источники'!$A$15:$A$89,$A542,'ИП + источники'!$M$15:$M$89,\"Прибыль на капвложения\")","v":0},{"$f":"SUMIFS('ИП + источники'!AI$15:AI$89,'ИП + источники'!$A$15:$A$89,$A542,'ИП + источники'!$M$15:$M$89,\"Прибыль на капвложения\")","v":0},{"$f":"SUMIFS('ИП + источники'!AJ$15:AJ$89,'ИП + источники'!$A$15:$A$89,$A542,'ИП + источники'!$M$15:$M$89,\"Прибыль на капвложения\")","v":0},{"$f":"SUMIFS('ИП + источники'!AK$15:AK$89,'ИП + источники'!$A$15:$A$89,$A542,'ИП + источники'!$M$15:$M$89,\"Прибыль на капвложения\")","v":0},{"$f":"SUMIFS('ИП + источники'!AL$15:AL$89,'ИП + источники'!$A$15:$A$89,$A542,'ИП + источники'!$M$15:$M$89,\"Прибыль на капвложения\")","v":0},{"$f":"SUMIFS('ИП + источники'!AM$15:AM$89,'ИП + источники'!$A$15:$A$89,$A542,'ИП + источники'!$M$15:$M$89,\"Прибыль на капвложения\")","v":0},{"$f":"SUMIFS('ИП + источники'!AN$15:AN$89,'ИП + источники'!$A$15:$A$89,$A542,'ИП + источники'!$M$15:$M$89,\"Прибыль на капвложения\")","v":0},0,0,0,0,0,0,0,0,0,0]
["1","иные экономически обоснованные расходы на социальные нужды",null,"L5_4",null,null,null,null,null,null,null,"5.4","иные экономически обоснованные расходы на социальные нужды в соответствии с пунктом 86 настоящих Методических указаний","тыс.руб.",null,null,null,0,null,null,null,null,null,null,null,null,null,null,null,null,null,null,null,null,null,null,null,null,null,0,0,0,0,0,0,0,0,0,0]
["1","Расчетная предпринимательская прибыль гарантирующей организации",null,"L6",null,null,null,null,null,null,null,"6","Расчетная предпринимательская прибыль гарантирующей организации","тыс.руб.",null,null,null,0,null,null,null,null,null,null,null,null,null,null,null,null,null,null,null,null,null,null,null,null,null,0,0,0,0,0,0,0,0,0,0]
["1","L11",null,"L7_0",null,null,null,null,null,null,null,"7","Корректировка НВВ всего","тыс.руб.",null,null,null,0,null,{"$f":"SUMIFS('Корректировка НВВ'!$P$15:$P$104,'Корректировка НВВ'!$A$15:$A$104,$A545,'Корректировка НВВ'!$D$15:$D$104,$B545)","v":0},null,null,null,null,null,null,null,null,null,{"$f":"SUMIFS('Корректировка НВВ'!$Q$15:$Q$104,'Корректировка НВВ'!$A$15:$A$104,$A545,'Корректировка НВВ'!$D$15:$D$104,$B545)","v":0},null,null,null,null,null,null,null,null,null,0,0,0,0,0,0,0,0,0,0]
["1",null,null,null,null,null,null,null,null,null,null,null,"Справочно в том числе:"]
["1","L3",null,"L7",null,null,null,null,null,null,null,"7.1","Ввод объектов системы водоснабжения и (или) водоотведения в эксплуатацию и изменение утверждённой инвестиционной программы","тыс.руб.",null,null,null,0,null,{"$f":"SUMIFS('Корректировка НВВ'!$P$15:$P$104,'Корректировка НВВ'!$A$15:$A$104,$A547,'Корректировка НВВ'!$D$15:$D$104,$B547)","v":0},null,null,null,null,null,null,null,null,null,{"$f":"SUMIFS('Корректировка НВВ'!$Q$15:$Q$104,'Корректировка НВВ'!$A$15:$A$104,$A547,'Корректировка НВВ'!$D$15:$D$104,$B547)","v":0}]
["1","L4",null,"L8",null,null,null,null,null,null,null,"7.2","Степень исполнения регулируемой организацией обязательств по созданию и (или) реконструкции объектов концессионного соглашения, по эксплуатации объектов по договору аренды централизованных систем горячего водоснабжения, холодного водоснабжения и (или) водоотведения, отдельных объектов таких систем, находящихся в государственной или муниципальной собственности, по реализации инвестиционной программы, производственной программы при недостижении регулируемой организацией утверждённых плановых значений показателей надежности и качества объектов централизованных систем водоснабжения и (или) водоотведения","тыс.руб.",null,null,null,0,null,{"$f":"SUMIFS('Корректировка НВВ'!$P$15:$P$104,'Корректировка НВВ'!$A$15:$A$104,$A548,'Корректировка НВВ'!$D$15:$D$104,$B548)","v":0},null,null,null,null,null,null,null,null,null,{"$f":"SUMIFS('Корректировка НВВ'!$Q$15:$Q$104,'Корректировка НВВ'!$A$15:$A$104,$A548,'Корректировка НВВ'!$D$15:$D$104,$B548)","v":0}]
["1",null,null,"L9",null,null,null,null,null,null,null,"7.3","Размер корректировки НВВ по результатам деятельности прошлых периодов регулирования, а также осуществляемой с целью учета отклонения фактических значений параметров расчета тарифов от значений, учтенных при установлении тарифов","тыс.руб.",null,null,null,0,null,{"$f":"SUMIFS('Корректировка НВВ'!$P$15:$P$104,'Корректировка НВВ'!$A$15:$A$104,$A549,'Корректировка НВВ'!$D$15:$D$104,\"L1\")+SUMIFS('Корректировка НВВ'!$P$15:$P$104,'Корректировка НВВ'!$A$15:$A$104,$A549,'Корректировка НВВ'!$D$15:$D$104,\"L2\")","v":0},null,null,null,null,null,null,null,null,null,{"$f":"SUMIFS('Корректировка НВВ'!$Q$15:$Q$104,'Корректировка НВВ'!$A$15:$A$104,$A549,'Корректировка НВВ'!$D$15:$D$104,\"L1\")+SUMIFS('Корректировка НВВ'!$Q$15:$Q$104,'Корректировка НВВ'!$A$15:$A$104,$A549,'Корректировка НВВ'!$D$15:$D$104,\"L2\")","v":0}]
["1","L5",{"$f":"D451=\"Водоотведение\"","v":false},"L12",null,null,null,null,null,null,null,"7.4","Доходы от взимания платы за нарушение нормативов по объёму и (или) составу сточных вод, за исключением направленных целевым образом на внесение платы за негативное воздействие на окружающую среду, компенсацию вреда, причиненного водному объекту, и финансирование мероприятий инвестиционной программы по строительству, реконструкции и модернизации объектов централизованной системы водоотведения (в соответствии с пунктом 26(1) Основ ценообразования в сфере водоснабжения и водоотведения)","тыс.руб.",null,null,null,{"$f":"Q550-P550","v":0},null,{"$f":"SUMIFS('Корректировка НВВ'!$P$15:$P$104,'Корректировка НВВ'!$A$15:$A$104,$A550,'Корректировка НВВ'!$D$15:$D$104,$B550)","v":0},null,null,null,null,null,null,null,null,null,{"$f":"SUMIFS('Корректировка НВВ'!$Q$15:$Q$104,'Корректировка НВВ'!$A$15:$A$104,$A550,'Корректировка НВВ'!$D$15:$D$104,$B550)","v":0}]
["1","L6",{"$f":"D451=\"Водоотведение\"","v":false},"L13",null,null,null,null,null,null,null,"7.5","Доходы от взимания платы за негативное воздействие на централизован-ную систему водоотведения, за исключением направленных целевым образом на финансирование мероприятий инвестиционной и (или) производственной программы организации (в соответствии с пунктом 26(1) Основ ценообразования в сфере водоснабжения и водоотведения)","тыс.руб.",null,null,null,0,null,{"$f":"SUMIFS('Корректировка НВВ'!$P$15:$P$104,'Корректировка НВВ'!$A$15:$A$104,$A551,'Корректировка НВВ'!$D$15:$D$104,$B551)","v":0},null,null,null,null,null,null,null,null,null,{"$f":"SUMIFS('Корректировка НВВ'!$Q$15:$Q$104,'Корректировка НВВ'!$A$15:$A$104,$A551,'Корректировка НВВ'!$D$15:$D$104,$B551)","v":0}]
["1","L7",null,"L14",null,null,null,null,null,null,null,"7.6","Недополученные доходы / Выпадающие расходы","тыс.руб.",null,null,null,0,null,{"$f":"SUMIFS('Корректировка НВВ'!$P$15:$P$104,'Корректировка НВВ'!$A$15:$A$104,$A552,'Корректировка НВВ'!$D$15:$D$104,$B552)","v":0},null,null,null,null,null,null,null,null,null,{"$f":"SUMIFS('Корректировка НВВ'!$Q$15:$Q$104,'Корректировка НВВ'!$A$15:$A$104,$A552,'Корректировка НВВ'!$D$15:$D$104,$B552)","v":0}]
["1","L8",null,"L15",null,null,null,null,null,null,null,"7.7","Избыток средств, полученный за отчётные периоды регулирования","тыс.руб.",{"$f":"O554+O555","v":0},{"$f":"P554+P555","v":0},{"$f":"Q554+Q555","v":0},0,{"$f":"S554+S555","v":0},{"$f":"SUMIFS('Корректировка НВВ'!$P$15:$P$104,'Корректировка НВВ'!$A$15:$A$104,$A553,'Корректировка НВВ'!$D$15:$D$104,$B553)","v":0},0,0,0,0,0,0,0,0,0,{"$f":"SUMIFS('Корректировка НВВ'!$Q$15:$Q$104,'Корректировка НВВ'!$A$15:$A$104,$A553,'Корректировка НВВ'!$D$15:$D$104,$B553)","v":0},0,0,0,0,0,0,0,0,0,{"$f":"IF(S553=0,0,(AD553-S553)/S553*100)","v":0},{"$f":"IF(AD553=0,0,(AE553-AD553)/AD553*100)","v":0},0,0,0,0,0,0,0,0]
["1","L8_1",null,"L15_1",null,null,null,null,null,null,null,"7.7.1","Экономически не обоснованные доходы / расходы прошлых периодов регулирования","тыс.руб.",null,null,null,0,null,{"$f":"SUMIFS('Корректировка НВВ'!$P$15:$P$104,'Корректировка НВВ'!$A$15:$A$104,$A554,'Корректировка НВВ'!$D$15:$D$104,$B554)","v":0},null,null,null,null,null,null,null,null,null,{"$f":"SUMIFS('Корректировка НВВ'!$Q$15:$Q$104,'Корректировка НВВ'!$A$15:$A$104,$A554,'Корректировка НВВ'!$D$15:$D$104,$B554)","v":0}]
["1","L8_2",null,"L15_2",null,null,null,null,null,null,null,"7.7.2","Бюджетные субсидии, полученные на финансирование расходов, учтенных в тарифах","тыс.руб.",null,null,null,0,null,{"$f":"SUMIFS('Корректировка НВВ'!$P$15:$P$104,'Корректировка НВВ'!$A$15:$A$104,$A555,'Корректировка НВВ'!$D$15:$D$104,$B555)","v":0},null,null,null,null,null,null,null,null,null,{"$f":"SUMIFS('Корректировка НВВ'!$Q$15:$Q$104,'Корректировка НВВ'!$A$15:$A$104,$A555,'Корректировка НВВ'!$D$15:$D$104,$B555)","v":0}]
["1","L9",null,"L16",null,null,null,null,null,null,null,"7.8","Величина отклонения по результатам досудебного рассмотрения споров","тыс.руб.",null,null,null,0,null,{"$f":"SUMIFS('Корректировка НВВ'!$P$15:$P$104,'Корректировка НВВ'!$A$15:$A$104,$A556,'Корректировка НВВ'!$D$15:$D$104,$B556)","v":0},null,null,null,null,null,null,null,null,null,{"$f":"SUMIFS('Корректировка НВВ'!$Q$15:$Q$104,'Корректировка НВВ'!$A$15:$A$104,$A556,'Корректировка НВВ'!$D$15:$D$104,$B556)","v":0}]
["1","L10",null,"L17",null,null,null,null,null,null,null,"7.9","Величина отклонения по результатам рассмотрения разногласий","тыс.руб.",null,null,null,0,null,{"$f":"SUMIFS('Корректировка НВВ'!$P$15:$P$104,'Корректировка НВВ'!$A$15:$A$104,$A557,'Корректировка НВВ'!$D$15:$D$104,$B557)","v":0},null,null,null,null,null,null,null,null,null,{"$f":"SUMIFS('Корректировка НВВ'!$Q$15:$Q$104,'Корректировка НВВ'!$A$15:$A$104,$A557,'Корректировка НВВ'!$D$15:$D$104,$B557)","v":0}]
["1",null,null,"L10",null,null,null,null,null,null,null,"8","Величина сглаживания НВВ","тыс.руб.",null,null,null,0]
["1",null,null,"L10_1",null,null,null,null,null,null,null,"8.1","% сглаживания НВВ","%",{"$f":"IF(O560=0,0,O558/O560*100)","v":0},{"$f":"IF(P560=0,0,P558/P560*100)","v":0},{"$f":"IF(Q560=0,0,Q558/Q560*100)","v":0},{"$f":"Q559-P559","v":0},{"$f":"IF(S560=0,0,S558/S560*100)","v":0},0,{"$error":"#N/A"},{"$error":"#N/A"},{"$error":"#N/A"},{"$error":"#N/A"},{"$error":"#N/A"},{"$error":"#N/A"},{"$error":"#N/A"},{"$error":"#N/A"},{"$error":"#N/A"},0,{"$error":"#N/A"},{"$error":"#N/A"},{"$error":"#N/A"},{"$error":"#N/A"},{"$error":"#N/A"},{"$error":"#N/A"},{"$error":"#N/A"},{"$error":"#N/A"},{"$error":"#N/A"}]
["1",null,null,"L11",null,null,null,null,null,null,null,"9","Необходимая валовая выручка","тыс.руб.",{"$f":"O452+O502+O536+O537+O539+O544","v":7117.4535959516652},{"$f":"P452+P502+P536+P537+P539+P544","v":7384.0305599999992},{"$f":"Q452+Q502+Q536+Q537+Q539+Q544","v":7966.2757219999994},{"$f":"Q560-P560","v":582.24516200000016},{"$f":"S452+S502+S536+S537+S539+S544","v":7755.7002850855324},10685.587184451198,{"$error":"#N/A"},{"$error":"#N/A"},{"$error":"#N/A"},{"$error":"#N/A"},{"$error":"#N/A"},{"$error":"#N/A"},{"$error":"#N/A"},{"$error":"#N/A"},{"$error":"#N/A"},8162.6052567620845,{"$error":"#N/A"},{"$error":"#N/A"},{"$error":"#N/A"},{"$error":"#N/A"},{"$error":"#N/A"},{"$error":"#N/A"},{"$error":"#N/A"},{"$error":"#N/A"},{"$error":"#N/A"},{"$f":"IF(S560=0,0,(AD560-S560)/S560*100)","v":5.2465278017388552},{"$f":"IF(AD560=0,0,(AE560-AD560)/AD560*100)","v":{"$error":"#N/A"}},{"$error":"#N/A"},{"$error":"#N/A"},{"$error":"#N/A"},{"$error":"#N/A"},{"$error":"#N/A"},{"$error":"#N/A"},{"$error":"#N/A"},{"$error":"#N/A"}]
["1",null,null,"L18",null,null,null,null,null,null,null,"10","Итого НВВ для расчёта тарифа","тыс.руб.",{"$f":"O560+O545+O558","v":7117.4535959516652},7384.0305599999992,7966.2757219999994,582.24516200000016,7755.7002850855324,10685.587184451198,{"$error":"#N/A"},{"$error":"#N/A"},{"$error":"#N/A"},{"$error":"#N/A"},{"$error":"#N/A"},{"$error":"#N/A"},{"$error":"#N/A"},{"$error":"#N/A"},{"$error":"#N/A"},8162.6052567620845,{"$error":"#N/A"},{"$error":"#N/A"},{"$error":"#N/A"},{"$error":"#N/A"},{"$error":"#N/A"},{"$error":"#N/A"},{"$error":"#N/A"},{"$error":"#N/A"},{"$error":"#N/A"},{"$f":"IF(S561=0,0,(AD561-S561)/S561*100)","v":5.2465278017388552},{"$error":"#N/A"},{"$error":"#N/A"},{"$error":"#N/A"},{"$error":"#N/A"},{"$error":"#N/A"},{"$error":"#N/A"},{"$error":"#N/A"},{"$error":"#N/A"},{"$error":"#N/A"}]
["1",null,{"$f":"B451=\"двухставочный\"","v":false},"L18_1",null,null,null,null,null,null,null,"10.1","в части условно-переменных расходов","тыс.руб.",null,null,null,{"$f":"Q562-P562","v":0}]
["1",null,{"$f":"B451=\"двухставочный\"","v":false},"L18_2",null,null,null,null,null,null,null,"10.2","в части условно-постоянных расходов","тыс.руб.",null,null,null,{"$f":"Q563-P563","v":0}]
["1","ПО.прочие",null,"L19",null,null,null,null,null,null,null,"11","Полезный отпуск без разбивки по группам потребителей","тыс.куб.м",{"$f":"SUMIFS(Баланс!O$16:O$95,Баланс!$A$16:$A$95,$A564,Баланс!$B$16:$B$95,\"ПО\")","v":740.15734179999993},{"$f":"SUMIFS(Баланс!P$16:P$95,Баланс!$A$16:$A$95,$A564,Баланс!$B$16:$B$95,\"ПО\")","v":560.22500000000002},{"$f":"SUMIFS(Баланс!Q$16:Q$95,Баланс!$A$16:$A$95,$A564,Баланс!$B$16:$B$95,\"ПО\")","v":560.22500000000002},{"$f":"Q564-P564","v":0},{"$f":"SUMIFS(Баланс!R$16:R$95,Баланс!$A$16:$A$95,$A564,Баланс!$B$16:$B$95,\"ПО\")","v":738.72995553999999},{"$f":"SUMIFS(Баланс!S$16:S$95,Баланс!$A$16:$A$95,$A564,Баланс!$B$16:$B$95,\"ПО\")","v":595.93099999999993},{"$f":"SUMIFS(Баланс!T$16:T$95,Баланс!$A$16:$A$95,$A564,Баланс!$B$16:$B$95,\"ПО\")","v":595.93099999999993},{"$f":"SUMIFS(Баланс!U$16:U$95,Баланс!$A$16:$A$95,$A564,Баланс!$B$16:$B$95,\"ПО\")","v":595.93099999999993},{"$f":"SUMIFS(Баланс!V$16:V$95,Баланс!$A$16:$A$95,$A564,Баланс!$B$16:$B$95,\"ПО\")","v":595.93099999999993},{"$f":"SUMIFS(Баланс!W$16:W$95,Баланс!$A$16:$A$95,$A564,Баланс!$B$16:$B$95,\"ПО\")","v":595.93099999999993},{"$f":"SUMIFS(Баланс!X$16:X$95,Баланс!$A$16:$A$95,$A564,Баланс!$B$16:$B$95,\"ПО\")","v":0},{"$f":"SUMIFS(Баланс!Y$16:Y$95,Баланс!$A$16:$A$95,$A564,Баланс!$B$16:$B$95,\"ПО\")","v":0},{"$f":"SUMIFS(Баланс!Z$16:Z$95,Баланс!$A$16:$A$95,$A564,Баланс!$B$16:$B$95,\"ПО\")","v":0},{"$f":"SUMIFS(Баланс!AA$16:AA$95,Баланс!$A$16:$A$95,$A564,Баланс!$B$16:$B$95,\"ПО\")","v":0},{"$f":"SUMIFS(Баланс!AB$16:AB$95,Баланс!$A$16:$A$95,$A564,Баланс!$B$16:$B$95,\"ПО\")","v":0},{"$f":"SUMIFS(Баланс!AC$16:AC$95,Баланс!$A$16:$A$95,$A564,Баланс!$B$16:$B$95,\"ПО\")","v":554.77947737},{"$f":"SUMIFS(Баланс!AD$16:AD$95,Баланс!$A$16:$A$95,$A564,Баланс!$B$16:$B$95,\"ПО\")","v":554.77947737},{"$f":"SUMIFS(Баланс!AE$16:AE$95,Баланс!$A$16:$A$95,$A564,Баланс!$B$16:$B$95,\"ПО\")","v":554.77947737},{"$f":"SUMIFS(Баланс!AF$16:AF$95,Баланс!$A$16:$A$95,$A564,Баланс!$B$16:$B$95,\"ПО\")","v":554.77947737},{"$f":"SUMIFS(Баланс!AG$16:AG$95,Баланс!$A$16:$A$95,$A564,Баланс!$B$16:$B$95,\"ПО\")","v":554.77947737},{"$f":"SUMIFS(Баланс!AH$16:AH$95,Баланс!$A$16:$A$95,$A564,Баланс!$B$16:$B$95,\"ПО\")","v":0},{"$f":"SUMIFS(Баланс!AI$16:AI$95,Баланс!$A$16:$A$95,$A564,Баланс!$B$16:$B$95,\"ПО\")","v":0},{"$f":"SUMIFS(Баланс!AJ$16:AJ$95,Баланс!$A$16:$A$95,$A564,Баланс!$B$16:$B$95,\"ПО\")","v":0},{"$f":"SUMIFS(Баланс!AK$16:AK$95,Баланс!$A$16:$A$95,$A564,Баланс!$B$16:$B$95,\"ПО\")","v":0},{"$f":"SUMIFS(Баланс!AL$16:AL$95,Баланс!$A$16:$A$95,$A564,Баланс!$B$16:$B$95,\"ПО\")","v":0}]
["1","ПО.прочие.I",null,"L19_1",null,null,null,null,null,null,null,"11.1","I полугодие: объём реализации","тыс.куб.м",{"$f":"O564/2","v":370.07867089999996},{"$f":"P564/2","v":280.11250000000001},{"$f":"Q564/2","v":280.11250000000001},0,{"$f":"S564/2","v":369.36497777},297.96549999999996,297.96549999999996,297.96549999999996,297.96549999999996,297.96549999999996,0,0,0,0,0,277.389738685,277.389738685,277.389738685,277.389738685,277.389738685,0,0,0,0,0]
["1","тариф.прочие.I",null,"L19_2",null,null,null,null,null,null,null,"11.2","I полугодие: тариф","руб./куб.м",null,null,null,0]
["1","ПО.прочие.II",null,"L19_3",null,null,null,null,null,null,null,"11.3","II полугодие: объём реализации","тыс.куб.м",{"$f":"O564-O565","v":370.07867089999996},{"$f":"P564-P565","v":280.11250000000001},{"$f":"Q564-Q565","v":280.11250000000001},0,{"$f":"S564-S565","v":369.36497777},297.96549999999996,297.96549999999996,297.96549999999996,297.96549999999996,297.96549999999996,0,0,0,0,0,277.389738685,277.389738685,277.389738685,277.389738685,277.389738685,0,0,0,0,0]
["1","тариф.прочие.II",null,"L19_4",null,null,null,null,null,null,null,"11.4","II полугодие: тариф","руб./куб.м",{"$f":"IF(O567=0,0,(O561-O565*O566)/O567)","v":19.232271826535211},{"$f":"IF(P567=0,0,(P561-P565*P566)/P567)","v":26.360946262662321},{"$f":"IF(Q567=0,0,(Q561-Q565*Q566)/Q567)","v":28.439558113258062},2.0786118505957418,{"$f":"IF(S567=0,0,(S561-S565*S566)/S567)","v":20.997389443660065},{"$f":"IF(T567=0,0,(T561-T565*T566)/T567)","v":35.861826904293281},{"$error":"#N/A"},{"$error":"#N/A"},{"$error":"#N/A"},{"$error":"#N/A"},0,0,0,0,0,{"$f":"IF(AD567=0,0,(AD561-AD565*AD566)/AD567)","v":29.42648598126922},{"$f":"IF(AE567=0,0,(AE561-AE565*AE566)/AE567)","v":{"$error":"#N/A"}},{"$f":"IF(AF567=0,0,(AF561-AF565*AF566)/AF567)","v":{"$error":"#N/A"}},{"$error":"#N/A"},{"$error":"#N/A"},0,0,0,0,0]
["1",null,null,"L19_5",null,null,null,null,null,null,null,"11.5","темп роста тарифа","%",{"$f":"IF(O566=0,0,O568/O566*100)","v":0},{"$f":"IF(P566=0,0,P568/P566*100)","v":0},{"$f":"IF(Q566=0,0,Q568/Q566*100)","v":0},null,{"$f":"IF(S566=0,0,S568/S566*100)","v":0},0,0,0,0,0,0,0,0,0,0,0,0,0,0,0,0,0,0,0,0]
["1",null,null,"L19_6",null,null,null,null,null,null,null,"11.6","средневзвешенный тариф","руб./куб.м",{"$f":"IF(O564=0,0,O561/O564)","v":9.6161359132676054},{"$f":"IF(P564=0,0,P561/P564)","v":13.18047313133116},{"$f":"IF(Q564=0,0,Q561/Q564)","v":14.219779056629031},1.0393059252978709,{"$f":"IF(S564=0,0,S561/S564)","v":10.498694721830033},{"$f":"IF(T564=0,0,T561/T564)","v":17.93091345214664},{"$f":"IF(U564=0,0,U561/U564)","v":{"$error":"#N/A"}},{"$error":"#N/A"},{"$error":"#N/A"},{"$error":"#N/A"},0,0,0,0,0,{"$f":"IF(AD564=0,0,AD561/AD564)","v":14.71324299063461},{"$f":"IF(AE564=0,0,AE561/AE564)","v":{"$error":"#N/A"}},{"$f":"IF(AF564=0,0,AF561/AF564)","v":{"$error":"#N/A"}},{"$error":"#N/A"},{"$error":"#N/A"},0,0,0,0,0]
["1",null,null,"L20",null,null,null,null,null,null,null,"12","Итого НВВ для населения","тыс.руб.",{"$f":"IF(O564=0,0,O561/O564*O572)","v":0},{"$f":"IF(P564=0,0,P561/P564*P572)","v":0},{"$f":"IF(Q564=0,0,Q561/Q564*Q572)","v":0},{"$f":"R573*R574+R575*R576","v":0},{"$f":"IF(S564=0,0,S561/S564*S572)","v":0},{"$f":"IF(T564=0,0,T561/T564*T572)","v":0},{"$f":"IF(U564=0,0,U561/U564*U572)","v":{"$error":"#N/A"}},{"$error":"#N/A"},{"$error":"#N/A"},{"$error":"#N/A"},0,0,0,0,0,{"$f":"IF(AD564=0,0,AD561/AD564*AD572)","v":0},{"$f":"IF(AE564=0,0,AE561/AE564*AE572)","v":{"$error":"#N/A"}},{"$f":"IF(AF564=0,0,AF561/AF564*AF572)","v":{"$error":"#N/A"}},{"$error":"#N/A"},{"$error":"#N/A"},0,0,0,0,0,{"$f":"IF(S571=0,0,(AD571-S571)/S571*100)","v":0},{"$f":"IF(AD571=0,0,(AE571-AD571)/AD571*100)","v":0},{"$f":"IF(AE571=0,0,(AF571-AE571)/AE571*100)","v":{"$error":"#N/A"}},{"$f":"IF(AF571=0,0,(AG571-AF571)/AF571*100)","v":{"$error":"#N/A"}},{"$f":"IF(AG571=0,0,(AH571-AG571)/AG571*100)","v":{"$error":"#N/A"}},{"$error":"#N/A"},0,0,0,0]
["1","ПО.население",null,"L21",null,null,null,null,null,null,null,"13","Полезный отпуск для населения:","тыс.куб.м",{"$f":"SUMIFS(Баланс!O$16:O$95,Баланс!$A$16:$A$95,$A572,Баланс!$B$16:$B$95,\"население\")","v":0},{"$f":"SUMIFS(Баланс!P$16:P$95,Баланс!$A$16:$A$95,$A572,Баланс!$B$16:$B$95,\"население\")","v":0},{"$f":"SUMIFS(Баланс!Q$16:Q$95,Баланс!$A$16:$A$95,$A572,Баланс!$B$16:$B$95,\"население\")","v":0},{"$f":"Q572-P572","v":0},{"$f":"SUMIFS(Баланс!R$16:R$95,Баланс!$A$16:$A$95,$A572,Баланс!$B$16:$B$95,\"население\")","v":0},{"$f":"SUMIFS(Баланс!S$16:S$95,Баланс!$A$16:$A$95,$A572,Баланс!$B$16:$B$95,\"население\")","v":0},{"$f":"SUMIFS(Баланс!T$16:T$95,Баланс!$A$16:$A$95,$A572,Баланс!$B$16:$B$95,\"население\")","v":0},{"$f":"SUMIFS(Баланс!U$16:U$95,Баланс!$A$16:$A$95,$A572,Баланс!$B$16:$B$95,\"население\")","v":0},{"$f":"SUMIFS(Баланс!V$16:V$95,Баланс!$A$16:$A$95,$A572,Баланс!$B$16:$B$95,\"население\")","v":0},{"$f":"SUMIFS(Баланс!W$16:W$95,Баланс!$A$16:$A$95,$A572,Баланс!$B$16:$B$95,\"население\")","v":0},{"$f":"SUMIFS(Баланс!X$16:X$95,Баланс!$A$16:$A$95,$A572,Баланс!$B$16:$B$95,\"население\")","v":0},{"$f":"SUMIFS(Баланс!Y$16:Y$95,Баланс!$A$16:$A$95,$A572,Баланс!$B$16:$B$95,\"население\")","v":0},{"$f":"SUMIFS(Баланс!Z$16:Z$95,Баланс!$A$16:$A$95,$A572,Баланс!$B$16:$B$95,\"население\")","v":0},{"$f":"SUMIFS(Баланс!AA$16:AA$95,Баланс!$A$16:$A$95,$A572,Баланс!$B$16:$B$95,\"население\")","v":0},{"$f":"SUMIFS(Баланс!AB$16:AB$95,Баланс!$A$16:$A$95,$A572,Баланс!$B$16:$B$95,\"население\")","v":0},{"$f":"SUMIFS(Баланс!AC$16:AC$95,Баланс!$A$16:$A$95,$A572,Баланс!$B$16:$B$95,\"население\")","v":0},{"$f":"SUMIFS(Баланс!AD$16:AD$95,Баланс!$A$16:$A$95,$A572,Баланс!$B$16:$B$95,\"население\")","v":0},{"$f":"SUMIFS(Баланс!AE$16:AE$95,Баланс!$A$16:$A$95,$A572,Баланс!$B$16:$B$95,\"население\")","v":0},{"$f":"SUMIFS(Баланс!AF$16:AF$95,Баланс!$A$16:$A$95,$A572,Баланс!$B$16:$B$95,\"население\")","v":0},{"$f":"SUMIFS(Баланс!AG$16:AG$95,Баланс!$A$16:$A$95,$A572,Баланс!$B$16:$B$95,\"население\")","v":0},{"$f":"SUMIFS(Баланс!AH$16:AH$95,Баланс!$A$16:$A$95,$A572,Баланс!$B$16:$B$95,\"население\")","v":0},{"$f":"SUMIFS(Баланс!AI$16:AI$95,Баланс!$A$16:$A$95,$A572,Баланс!$B$16:$B$95,\"население\")","v":0},{"$f":"SUMIFS(Баланс!AJ$16:AJ$95,Баланс!$A$16:$A$95,$A572,Баланс!$B$16:$B$95,\"население\")","v":0},{"$f":"SUMIFS(Баланс!AK$16:AK$95,Баланс!$A$16:$A$95,$A572,Баланс!$B$16:$B$95,\"население\")","v":0},{"$f":"SUMIFS(Баланс!AL$16:AL$95,Баланс!$A$16:$A$95,$A572,Баланс!$B$16:$B$95,\"население\")","v":0}]
["1","ПО.население.I",null,"L21_1",null,null,null,null,null,null,null,"13.1","I полугодие: объём реализации по населению","тыс.куб.м",{"$f":"O572/2","v":0},{"$f":"P572/2","v":0},{"$f":"Q572/2","v":0},{"$f":"Q573-P573","v":0},{"$f":"S572/2","v":0},{"$f":"T572/2","v":0},0,0,0,0,0,0,0,0,0,0,0,0,0,0,0,0,0,0,0]
["1","тариф.население.I",null,"L21_2",null,null,null,null,null,null,null,"13.2","I полугодие: тариф для населения","руб./куб.м",{"$f":"IF(O572=0,0,O566*IF(plat_nds=\"да\",1.2,1) )","v":0},{"$f":"IF(P572=0,0,P566*IF(plat_nds=\"да\",1.2,1) )","v":0},{"$f":"IF(Q572=0,0,Q566*IF(plat_nds=\"да\",1.2,1) )","v":0},{"$f":"Q574-P574","v":0},{"$f":"IF(S572=0,0,S566*IF(plat_nds=\"да\",1.2,1) )","v":0},0,0,0,0,0,0,0,0,0,0,0,0,0,0,0,0,0,0,0,0]
["1","ПО.население.II",null,"L21_3",null,null,null,null,null,null,null,"13.3","II полугодие: объём реализации по населению","тыс.куб.м",{"$f":"O572-O573","v":0},{"$f":"P572-P573","v":0},{"$f":"Q572-Q573","v":0},{"$f":"Q575-P575","v":0},{"$f":"S572-S573","v":0},0,0,0,0,0,0,0,0,0,0,0,0,0,0,0,0,0,0,0,0]
["1","тариф.население.II",null,"L21_4",null,null,null,null,null,null,null,"13.4","II полугодие: тариф для населения","руб./куб.м",{"$f":"IF(O572=0,0,O568*IF(plat_nds=\"да\",1.2,1) )","v":0},{"$f":"IF(P572=0,0,P568*IF(plat_nds=\"да\",1.2,1) )","v":0},{"$f":"IF(Q572=0,0,Q568*IF(plat_nds=\"да\",1.2,1) )","v":0},{"$f":"Q576-P576","v":0},{"$f":"IF(S572=0,0,S568*IF(plat_nds=\"да\",1.2,1) )","v":0},0,0,0,0,0,0,0,0,0,0,0,0,0,0,0,0,0,0,0,0]
["et_List15_1"]
[{"$f":"OFFSET(A578,-1,0)","v":"et_List15_1"},null,null,"L1_7",{"$f":"M578","v":0},null,null,null,null,null,"О","1.7.1",null,"тыс.руб.",null,null,null,{"$f":"Q578-P578","v":0},null,null,null,null,null,null,null,null,null,null,null,null,null,null,null,null,null,null,null,null,null,{"$f":"IF(S578=0,0,(AD578-S578)/S578*100)","v":0}]
[]
["16. ТМ"]
["et_List16_tariff"]
["1",null,null,null,null,{"$f":"INDEX('Общие сведения'!$N$121:$N$148,MATCH($A582,'Общие сведения'!$D$121:$D$148,0))","v":"одноставочный"},null,null,null,null,null,"№ п/п",null,{"$f":"\"Тариф \" & A582","v":"Тариф 1"}]
[{"$f":"A582","v":"1"},null,null,null,null,null,null,null,null,null,null,"Вид воды / сточных вод",null,{"$f":"INDEX('Общие сведения'!$K$121:$K$148,MATCH($A583,'Общие сведения'!$D$121:$D$148,0))","v":"питьевая вода"}]
[{"$f":"A583","v":"1"},null,null,null,null,null,null,null,null,null,null,"Утверждаемый тариф",null,{"$f":"INDEX('Общие сведения'!$L$121:$L$148,MATCH($A584,'Общие сведения'!$D$121:$D$148,0))","v":"тариф на питьевую воду"}]
["1",null,null,null,null,null,null,null,null,null,null,"Дополнительные признаки дифференциации тарифов",null,{"$f":"INDEX('Общие сведения'!$M$121:$M$148,MATCH($A585,'Общие сведения'!$D$121:$D$148,0))","v":0}]
["1",null,null,null,null,null,{"$f":"F582=\"одноставочный\"","v":true},null,null,null,null,"Одноставочный тариф:"]
["1","тариф.прочие.I","L1_1","для прочих потребителей с 01.01 по 30.06 без НДС",null,null,{"$f":"F582=\"одноставочный\"","v":true},null,null,null,null,"Тариф с 01.01 по 30.06 для прочих потребителей без НДС","руб./куб.м",{"$f":"SUMIFS(INDEX(Калькуляция!$T$15:$AM$268,,MATCH(N$3,Калькуляция!$T$3:$AM$3,0)),Калькуляция!$A$15:$A$268,$A587,Калькуляция!$B$15:$B$268,$B587)","v":{"$error":"#N/A"}},{"$f":"SUMIFS(INDEX(Калькуляция!$T$15:$AM$268,,MATCH(O$3,Калькуляция!$T$3:$AM$3,0)),Калькуляция!$A$15:$A$268,$A587,Калькуляция!$B$15:$B$268,$B587)","v":{"$error":"#N/A"}},{"$f":"IF(N587=0,0,(O587-N587)/N587*100)","v":{"$error":"#N/A"}},{"$f":"SUMIFS(INDEX(Калькуляция!$T$15:$AM$268,,MATCH(Q$3,Калькуляция!$T$3:$AM$3,0)),Калькуляция!$A$15:$A$268,$A587,Калькуляция!$B$15:$B$268,$B587)","v":{"$error":"#N/A"}},{"$f":"SUMIFS(INDEX(Калькуляция!$T$15:$AM$268,,MATCH(R$3,Калькуляция!$T$3:$AM$3,0)),Калькуляция!$A$15:$A$268,$A587,Калькуляция!$B$15:$B$268,$B587)","v":{"$error":"#N/A"}},{"$f":"IF(Q587=0,0,(R587-Q587)/Q587*100)","v":{"$error":"#N/A"}},{"$f":"SUMIFS(INDEX(Калькуляция!$T$15:$AM$268,,MATCH(T$3,Калькуляция!$T$3:$AM$3,0)),Калькуляция!$A$15:$A$268,$A587,Калькуляция!$B$15:$B$268,$B587)","v":{"$error":"#N/A"}},{"$f":"SUMIFS(INDEX(Калькуляция!$T$15:$AM$268,,MATCH(U$3,Калькуляция!$T$3:$AM$3,0)),Калькуляция!$A$15:$A$268,$A587,Калькуляция!$B$15:$B$268,$B587)","v":{"$error":"#N/A"}},{"$f":"IF(T587=0,0,(U587-T587)/T587*100)","v":{"$error":"#N/A"}},{"$f":"SUMIFS(INDEX(Калькуляция!$T$15:$AM$268,,MATCH(W$3,Калькуляция!$T$3:$AM$3,0)),Калькуляция!$A$15:$A$268,$A587,Калькуляция!$B$15:$B$268,$B587)","v":{"$error":"#N/A"}},{"$f":"SUMIFS(INDEX(Калькуляция!$T$15:$AM$268,,MATCH(X$3,Калькуляция!$T$3:$AM$3,0)),Калькуляция!$A$15:$A$268,$A587,Калькуляция!$B$15:$B$268,$B587)","v":{"$error":"#N/A"}},{"$f":"IF(W587=0,0,(X587-W587)/W587*100)","v":{"$error":"#N/A"}},{"$f":"SUMIFS(INDEX(Калькуляция!$T$15:$AM$268,,MATCH(Z$3,Калькуляция!$T$3:$AM$3,0)),Калькуляция!$A$15:$A$268,$A587,Калькуляция!$B$15:$B$268,$B587)","v":{"$error":"#N/A"}},{"$f":"SUMIFS(INDEX(Калькуляция!$T$15:$AM$268,,MATCH(AA$3,Калькуляция!$T$3:$AM$3,0)),Калькуляция!$A$15:$A$268,$A587,Калькуляция!$B$15:$B$268,$B587)","v":{"$error":"#N/A"}},{"$f":"IF(Z587=0,0,(AA587-Z587)/Z587*100)","v":{"$error":"#N/A"}},{"$f":"SUMIFS(INDEX(Калькуляция!$T$15:$AM$268,,MATCH(AC$3,Калькуляция!$T$3:$AM$3,0)),Калькуляция!$A$15:$A$268,$A587,Калькуляция!$B$15:$B$268,$B587)","v":{"$error":"#N/A"}},{"$f":"SUMIFS(INDEX(Калькуляция!$T$15:$AM$268,,MATCH(AD$3,Калькуляция!$T$3:$AM$3,0)),Калькуляция!$A$15:$A$268,$A587,Калькуляция!$B$15:$B$268,$B587)","v":{"$error":"#N/A"}},{"$f":"IF(AC587=0,0,(AD587-AC587)/AC587*100)","v":{"$error":"#N/A"}},{"$f":"SUMIFS(INDEX(Калькуляция!$T$15:$AM$268,,MATCH(AF$3,Калькуляция!$T$3:$AM$3,0)),Калькуляция!$A$15:$A$268,$A587,Калькуляция!$B$15:$B$268,$B587)","v":{"$error":"#N/A"}},{"$f":"SUMIFS(INDEX(Калькуляция!$T$15:$AM$268,,MATCH(AG$3,Калькуляция!$T$3:$AM$3,0)),Калькуляция!$A$15:$A$268,$A587,Калькуляция!$B$15:$B$268,$B587)","v":{"$error":"#N/A"}},{"$f":"IF(AF587=0,0,(AG587-AF587)/AF587*100)","v":{"$error":"#N/A"}},{"$f":"SUMIFS(INDEX(Калькуляция!$T$15:$AM$268,,MATCH(AI$3,Калькуляция!$T$3:$AM$3,0)),Калькуляция!$A$15:$A$268,$A587,Калькуляция!$B$15:$B$268,$B587)","v":{"$error":"#N/A"}},{"$f":"SUMIFS(INDEX(Калькуляция!$T$15:$AM$268,,MATCH(AJ$3,Калькуляция!$T$3:$AM$3,0)),Калькуляция!$A$15:$A$268,$A587,Калькуляция!$B$15:$B$268,$B587)","v":{"$error":"#N/A"}},{"$f":"IF(AI587=0,0,(AJ587-AI587)/AI587*100)","v":{"$error":"#N/A"}},{"$f":"SUMIFS(INDEX(Калькуляция!$T$15:$AM$268,,MATCH(AL$3,Калькуляция!$T$3:$AM$3,0)),Калькуляция!$A$15:$A$268,$A587,Калькуляция!$B$15:$B$268,$B587)","v":{"$error":"#N/A"}},{"$f":"SUMIFS(INDEX(Калькуляция!$T$15:$AM$268,,MATCH(AM$3,Калькуляция!$T$3:$AM$3,0)),Калькуляция!$A$15:$A$268,$A587,Калькуляция!$B$15:$B$268,$B587)","v":{"$error":"#N/A"}},{"$f":"IF(AL587=0,0,(AM587-AL587)/AL587*100)","v":{"$error":"#N/A"}},{"$f":"SUMIFS(INDEX(Калькуляция!$T$15:$AM$268,,MATCH(AO$3,Калькуляция!$T$3:$AM$3,0)),Калькуляция!$A$15:$A$268,$A587,Калькуляция!$B$15:$B$268,$B587)","v":{"$error":"#N/A"}},{"$f":"SUMIFS(INDEX(Калькуляция!$T$15:$AM$268,,MATCH(AP$3,Калькуляция!$T$3:$AM$3,0)),Калькуляция!$A$15:$A$268,$A587,Калькуляция!$B$15:$B$268,$B587)","v":{"$error":"#N/A"}},{"$f":"IF(AO587=0,0,(AP587-AO587)/AO587*100)","v":{"$error":"#N/A"}},null,null,{"$f":"IF(AR587=0,0,(AS587-AR587)/AR587*100)","v":0},null,null,{"$f":"IF(AU587=0,0,(AV587-AU587)/AU587*100)","v":0},null,null,{"$f":"IF(AX587=0,0,(AY587-AX587)/AX587*100)","v":0},null,null,{"$f":"IF(BA587=0,0,(BB587-BA587)/BA587*100)","v":0},null,null,{"$f":"IF(BD587=0,0,(BE587-BD587)/BD587*100)","v":0},null,null,{"$f":"IF(BG587=0,0,(BH587-BG587)/BG587*100)","v":0},null,null,{"$f":"IF(BJ587=0,0,(BK587-BJ587)/BJ587*100)","v":0},null,null,{"$f":"IF(BM587=0,0,(BN587-BM587)/BM587*100)","v":0},null,null,{"$f":"IF(BP587=0,0,(BQ587-BP587)/BP587*100)","v":0},null,null,{"$f":"IF(BS587=0,0,(BT587-BS587)/BS587*100)","v":0},null,null,{"$f":"IF(BV587=0,0,(BW587-BV587)/BV587*100)","v":0},null,null,{"$f":"IF(BY587=0,0,(BZ587-BY587)/BY587*100)","v":0},null,null,{"$f":"IF(CB587=0,0,(CC587-CB587)/CB587*100)","v":0},null,null,{"$f":"IF(CE587=0,0,(CF587-CE587)/CE587*100)","v":0},null,null,{"$f":"IF(CH587=0,0,(CI587-CH587)/CH587*100)","v":0},null,null,{"$f":"IF(CK587=0,0,(CL587-CK587)/CK587*100)","v":0},null,null,{"$f":"IF(CN587=0,0,(CO587-CN587)/CN587*100)","v":0},null,null,{"$f":"IF(CQ587=0,0,(CR587-CQ587)/CQ587*100)","v":0},null,null,{"$f":"IF(CT587=0,0,(CU587-CT587)/CT587*100)","v":0},null,null,{"$f":"IF(CW587=0,0,(CX587-CW587)/CW587*100)","v":0},null,null,{"$f":"IF(CZ587=0,0,(DA587-CZ587)/CZ587*100)","v":0},null,null,{"$f":"IF(DC587=0,0,(DD587-DC587)/DC587*100)","v":0},null,null,{"$f":"IF(DF587=0,0,(DG587-DF587)/DF587*100)","v":0},null,null,{"$f":"IF(DI587=0,0,(DJ587-DI587)/DI587*100)","v":0},null,null,{"$f":"IF(DL587=0,0,(DM587-DL587)/DL587*100)","v":0},null,null,{"$f":"IF(DO587=0,0,(DP587-DO587)/DO587*100)","v":0},null,null,{"$f":"IF(DR587=0,0,(DS587-DR587)/DR587*100)","v":0},null,null,{"$f":"IF(DU587=0,0,(DV587-DU587)/DU587*100)","v":0},null,null,{"$f":"IF(DX587=0,0,(DY587-DX587)/DX587*100)","v":0},null,null,{"$f":"IF(EA587=0,0,(EB587-EA587)/EA587*100)","v":0},null,null,{"$f":"IF(ED587=0,0,(EE587-ED587)/ED587*100)","v":0},null,null,{"$f":"IF(EG587=0,0,(EH587-EG587)/EG587*100)","v":0},null,null,{"$f":"IF(EJ587=0,0,(EK587-EJ587)/EJ587*100)","v":0},null,null,{"$f":"IF(EM587=0,0,(EN587-EM587)/EM587*100)","v":0},null,null,{"$f":"IF(EP587=0,0,(EQ587-EP587)/EP587*100)","v":0},null,null,{"$f":"IF(ES587=0,0,(ET587-ES587)/ES587*100)","v":0},null,null,{"$f":"IF(EV587=0,0,(EW587-EV587)/EV587*100)","v":0},null,null,{"$f":"IF(EY587=0,0,(EZ587-EY587)/EY587*100)","v":0},null,null,{"$f":"IF(FB587=0,0,(FC587-FB587)/FB587*100)","v":0},null,null,{"$f":"IF(FE587=0,0,(FF587-FE587)/FE587*100)","v":0}]
["1","тариф.прочие.II","L1_1","для прочих потребителей с 01.07 по 31.12 без НДС",null,null,{"$f":"F582=\"одноставочный\"","v":true},null,null,null,null,"Тариф с 01.07 по 31.12 для прочих потребителей без НДС","руб./куб.м",{"$f":"SUMIFS(INDEX(Калькуляция!$T$15:$AM$268,,MATCH(N$3,Калькуляция!$T$3:$AM$3,0)),Калькуляция!$A$15:$A$268,$A588,Калькуляция!$B$15:$B$268,$B588)","v":{"$error":"#N/A"}},{"$f":"SUMIFS(INDEX(Калькуляция!$T$15:$AM$268,,MATCH(O$3,Калькуляция!$T$3:$AM$3,0)),Калькуляция!$A$15:$A$268,$A588,Калькуляция!$B$15:$B$268,$B588)","v":{"$error":"#N/A"}},{"$f":"IF(N588=0,0,(O588-N588)/N588*100)","v":{"$error":"#N/A"}},{"$f":"SUMIFS(INDEX(Калькуляция!$T$15:$AM$268,,MATCH(Q$3,Калькуляция!$T$3:$AM$3,0)),Калькуляция!$A$15:$A$268,$A588,Калькуляция!$B$15:$B$268,$B588)","v":{"$error":"#N/A"}},{"$f":"SUMIFS(INDEX(Калькуляция!$T$15:$AM$268,,MATCH(R$3,Калькуляция!$T$3:$AM$3,0)),Калькуляция!$A$15:$A$268,$A588,Калькуляция!$B$15:$B$268,$B588)","v":{"$error":"#N/A"}},{"$f":"IF(Q588=0,0,(R588-Q588)/Q588*100)","v":{"$error":"#N/A"}},{"$f":"SUMIFS(INDEX(Калькуляция!$T$15:$AM$268,,MATCH(T$3,Калькуляция!$T$3:$AM$3,0)),Калькуляция!$A$15:$A$268,$A588,Калькуляция!$B$15:$B$268,$B588)","v":{"$error":"#N/A"}},{"$f":"SUMIFS(INDEX(Калькуляция!$T$15:$AM$268,,MATCH(U$3,Калькуляция!$T$3:$AM$3,0)),Калькуляция!$A$15:$A$268,$A588,Калькуляция!$B$15:$B$268,$B588)","v":{"$error":"#N/A"}},{"$f":"IF(T588=0,0,(U588-T588)/T588*100)","v":{"$error":"#N/A"}},{"$f":"SUMIFS(INDEX(Калькуляция!$T$15:$AM$268,,MATCH(W$3,Калькуляция!$T$3:$AM$3,0)),Калькуляция!$A$15:$A$268,$A588,Калькуляция!$B$15:$B$268,$B588)","v":{"$error":"#N/A"}},{"$f":"SUMIFS(INDEX(Калькуляция!$T$15:$AM$268,,MATCH(X$3,Калькуляция!$T$3:$AM$3,0)),Калькуляция!$A$15:$A$268,$A588,Калькуляция!$B$15:$B$268,$B588)","v":{"$error":"#N/A"}},{"$f":"IF(W588=0,0,(X588-W588)/W588*100)","v":{"$error":"#N/A"}},{"$f":"SUMIFS(INDEX(Калькуляция!$T$15:$AM$268,,MATCH(Z$3,Калькуляция!$T$3:$AM$3,0)),Калькуляция!$A$15:$A$268,$A588,Калькуляция!$B$15:$B$268,$B588)","v":{"$error":"#N/A"}},{"$f":"SUMIFS(INDEX(Калькуляция!$T$15:$AM$268,,MATCH(AA$3,Калькуляция!$T$3:$AM$3,0)),Калькуляция!$A$15:$A$268,$A588,Калькуляция!$B$15:$B$268,$B588)","v":{"$error":"#N/A"}},{"$f":"IF(Z588=0,0,(AA588-Z588)/Z588*100)","v":{"$error":"#N/A"}},{"$f":"SUMIFS(INDEX(Калькуляция!$T$15:$AM$268,,MATCH(AC$3,Калькуляция!$T$3:$AM$3,0)),Калькуляция!$A$15:$A$268,$A588,Калькуляция!$B$15:$B$268,$B588)","v":{"$error":"#N/A"}},{"$f":"SUMIFS(INDEX(Калькуляция!$T$15:$AM$268,,MATCH(AD$3,Калькуляция!$T$3:$AM$3,0)),Калькуляция!$A$15:$A$268,$A588,Калькуляция!$B$15:$B$268,$B588)","v":{"$error":"#N/A"}},{"$f":"IF(AC588=0,0,(AD588-AC588)/AC588*100)","v":{"$error":"#N/A"}},{"$f":"SUMIFS(INDEX(Калькуляция!$T$15:$AM$268,,MATCH(AF$3,Калькуляция!$T$3:$AM$3,0)),Калькуляция!$A$15:$A$268,$A588,Калькуляция!$B$15:$B$268,$B588)","v":{"$error":"#N/A"}},{"$f":"SUMIFS(INDEX(Калькуляция!$T$15:$AM$268,,MATCH(AG$3,Калькуляция!$T$3:$AM$3,0)),Калькуляция!$A$15:$A$268,$A588,Калькуляция!$B$15:$B$268,$B588)","v":{"$error":"#N/A"}},{"$f":"IF(AF588=0,0,(AG588-AF588)/AF588*100)","v":{"$error":"#N/A"}},{"$f":"SUMIFS(INDEX(Калькуляция!$T$15:$AM$268,,MATCH(AI$3,Калькуляция!$T$3:$AM$3,0)),Калькуляция!$A$15:$A$268,$A588,Калькуляция!$B$15:$B$268,$B588)","v":{"$error":"#N/A"}},{"$f":"SUMIFS(INDEX(Калькуляция!$T$15:$AM$268,,MATCH(AJ$3,Калькуляция!$T$3:$AM$3,0)),Калькуляция!$A$15:$A$268,$A588,Калькуляция!$B$15:$B$268,$B588)","v":{"$error":"#N/A"}},{"$f":"IF(AI588=0,0,(AJ588-AI588)/AI588*100)","v":{"$error":"#N/A"}},{"$f":"SUMIFS(INDEX(Калькуляция!$T$15:$AM$268,,MATCH(AL$3,Калькуляция!$T$3:$AM$3,0)),Калькуляция!$A$15:$A$268,$A588,Калькуляция!$B$15:$B$268,$B588)","v":{"$error":"#N/A"}},{"$f":"SUMIFS(INDEX(Калькуляция!$T$15:$AM$268,,MATCH(AM$3,Калькуляция!$T$3:$AM$3,0)),Калькуляция!$A$15:$A$268,$A588,Калькуляция!$B$15:$B$268,$B588)","v":{"$error":"#N/A"}},{"$f":"IF(AL588=0,0,(AM588-AL588)/AL588*100)","v":{"$error":"#N/A"}},{"$f":"SUMIFS(INDEX(Калькуляция!$T$15:$AM$268,,MATCH(AO$3,Калькуляция!$T$3:$AM$3,0)),Калькуляция!$A$15:$A$268,$A588,Калькуляция!$B$15:$B$268,$B588)","v":{"$error":"#N/A"}},{"$f":"SUMIFS(INDEX(Калькуляция!$T$15:$AM$268,,MATCH(AP$3,Калькуляция!$T$3:$AM$3,0)),Калькуляция!$A$15:$A$268,$A588,Калькуляция!$B$15:$B$268,$B588)","v":{"$error":"#N/A"}},{"$f":"IF(AO588=0,0,(AP588-AO588)/AO588*100)","v":{"$error":"#N/A"}},null,null,{"$f":"IF(AR588=0,0,(AS588-AR588)/AR588*100)","v":0},null,null,{"$f":"IF(AU588=0,0,(AV588-AU588)/AU588*100)","v":0},null,null,{"$f":"IF(AX588=0,0,(AY588-AX588)/AX588*100)","v":0},null,null,{"$f":"IF(BA588=0,0,(BB588-BA588)/BA588*100)","v":0},null,null,{"$f":"IF(BD588=0,0,(BE588-BD588)/BD588*100)","v":0},null,null,{"$f":"IF(BG588=0,0,(BH588-BG588)/BG588*100)","v":0},null,null,{"$f":"IF(BJ588=0,0,(BK588-BJ588)/BJ588*100)","v":0},null,null,{"$f":"IF(BM588=0,0,(BN588-BM588)/BM588*100)","v":0},null,null,{"$f":"IF(BP588=0,0,(BQ588-BP588)/BP588*100)","v":0},null,null,{"$f":"IF(BS588=0,0,(BT588-BS588)/BS588*100)","v":0},null,null,{"$f":"IF(BV588=0,0,(BW588-BV588)/BV588*100)","v":0},null,null,{"$f":"IF(BY588=0,0,(BZ588-BY588)/BY588*100)","v":0},null,null,{"$f":"IF(CB588=0,0,(CC588-CB588)/CB588*100)","v":0},null,null,{"$f":"IF(CE588=0,0,(CF588-CE588)/CE588*100)","v":0},null,null,{"$f":"IF(CH588=0,0,(CI588-CH588)/CH588*100)","v":0},null,null,{"$f":"IF(CK588=0,0,(CL588-CK588)/CK588*100)","v":0},null,null,{"$f":"IF(CN588=0,0,(CO588-CN588)/CN588*100)","v":0},null,null,{"$f":"IF(CQ588=0,0,(CR588-CQ588)/CQ588*100)","v":0},null,null,{"$f":"IF(CT588=0,0,(CU588-CT588)/CT588*100)","v":0},null,null,{"$f":"IF(CW588=0,0,(CX588-CW588)/CW588*100)","v":0},null,null,{"$f":"IF(CZ588=0,0,(DA588-CZ588)/CZ588*100)","v":0},null,null,{"$f":"IF(DC588=0,0,(DD588-DC588)/DC588*100)","v":0},null,null,{"$f":"IF(DF588=0,0,(DG588-DF588)/DF588*100)","v":0},null,null,{"$f":"IF(DI588=0,0,(DJ588-DI588)/DI588*100)","v":0},null,null,{"$f":"IF(DL588=0,0,(DM588-DL588)/DL588*100)","v":0},null,null,{"$f":"IF(DO588=0,0,(DP588-DO588)/DO588*100)","v":0},null,null,{"$f":"IF(DR588=0,0,(DS588-DR588)/DR588*100)","v":0},null,null,{"$f":"IF(DU588=0,0,(DV588-DU588)/DU588*100)","v":0},null,null,{"$f":"IF(DX588=0,0,(DY588-DX588)/DX588*100)","v":0},null,null,{"$f":"IF(EA588=0,0,(EB588-EA588)/EA588*100)","v":0},null,null,{"$f":"IF(ED588=0,0,(EE588-ED588)/ED588*100)","v":0},null,null,{"$f":"IF(EG588=0,0,(EH588-EG588)/EG588*100)","v":0},null,null,{"$f":"IF(EJ588=0,0,(EK588-EJ588)/EJ588*100)","v":0},null,null,{"$f":"IF(EM588=0,0,(EN588-EM588)/EM588*100)","v":0},null,null,{"$f":"IF(EP588=0,0,(EQ588-EP588)/EP588*100)","v":0},null,null,{"$f":"IF(ES588=0,0,(ET588-ES588)/ES588*100)","v":0},null,null,{"$f":"IF(EV588=0,0,(EW588-EV588)/EV588*100)","v":0},null,null,{"$f":"IF(EY588=0,0,(EZ588-EY588)/EY588*100)","v":0},null,null,{"$f":"IF(FB588=0,0,(FC588-FB588)/FB588*100)","v":0},null,null,{"$f":"IF(FE588=0,0,(FF588-FE588)/FE588*100)","v":0}]
["1",null,"L1_2","для прочих потребителей без НДС",null,null,{"$f":"F582=\"одноставочный\"","v":true},null,null,null,null,"Темп роста тарифов с 01.07","%",{"$f":"IF(N587=0,0,N588/N587)*100","v":{"$error":"#N/A"}},{"$f":"IF(O587=0,0,O588/O587)*100","v":{"$error":"#N/A"}},null,{"$f":"IF(Q587=0,0,Q588/Q587)*100","v":{"$error":"#N/A"}},{"$f":"IF(R587=0,0,R588/R587)*100","v":{"$error":"#N/A"}},null,{"$f":"IF(T587=0,0,T588/T587)*100","v":{"$error":"#N/A"}},{"$f":"IF(U587=0,0,U588/U587)*100","v":{"$error":"#N/A"}},null,{"$f":"IF(W587=0,0,W588/W587)*100","v":{"$error":"#N/A"}},{"$f":"IF(X587=0,0,X588/X587)*100","v":{"$error":"#N/A"}},null,{"$f":"IF(Z587=0,0,Z588/Z587)*100","v":{"$error":"#N/A"}},{"$f":"IF(AA587=0,0,AA588/AA587)*100","v":{"$error":"#N/A"}},null,{"$f":"IF(AC587=0,0,AC588/AC587)*100","v":{"$error":"#N/A"}},{"$f":"IF(AD587=0,0,AD588/AD587)*100","v":{"$error":"#N/A"}},null,{"$f":"IF(AF587=0,0,AF588/AF587)*100","v":{"$error":"#N/A"}},{"$f":"IF(AG587=0,0,AG588/AG587)*100","v":{"$error":"#N/A"}},null,{"$f":"IF(AI587=0,0,AI588/AI587)*100","v":{"$error":"#N/A"}},{"$f":"IF(AJ587=0,0,AJ588/AJ587)*100","v":{"$error":"#N/A"}},null,{"$f":"IF(AL587=0,0,AL588/AL587)*100","v":{"$error":"#N/A"}},{"$f":"IF(AM587=0,0,AM588/AM587)*100","v":{"$error":"#N/A"}},null,{"$f":"IF(AO587=0,0,AO588/AO587)*100","v":{"$error":"#N/A"}},{"$f":"IF(AP587=0,0,AP588/AP587)*100","v":{"$error":"#N/A"}},null,{"$f":"IF(AR587=0,0,AR588/AR587)*100","v":0},{"$f":"IF(AS587=0,0,AS588/AS587)*100","v":0},null,{"$f":"IF(AU587=0,0,AU588/AU587)*100","v":0},{"$f":"IF(AV587=0,0,AV588/AV587)*100","v":0},null,{"$f":"IF(AX587=0,0,AX588/AX587)*100","v":0},{"$f":"IF(AY587=0,0,AY588/AY587)*100","v":0},null,{"$f":"IF(BA587=0,0,BA588/BA587)*100","v":0},{"$f":"IF(BB587=0,0,BB588/BB587)*100","v":0},null,{"$f":"IF(BD587=0,0,BD588/BD587)*100","v":0},{"$f":"IF(BE587=0,0,BE588/BE587)*100","v":0},null,{"$f":"IF(BG587=0,0,BG588/BG587)*100","v":0},{"$f":"IF(BH587=0,0,BH588/BH587)*100","v":0},null,{"$f":"IF(BJ587=0,0,BJ588/BJ587)*100","v":0},{"$f":"IF(BK587=0,0,BK588/BK587)*100","v":0},null,{"$f":"IF(BM587=0,0,BM588/BM587)*100","v":0},{"$f":"IF(BN587=0,0,BN588/BN587)*100","v":0},null,{"$f":"IF(BP587=0,0,BP588/BP587)*100","v":0},{"$f":"IF(BQ587=0,0,BQ588/BQ587)*100","v":0},null,{"$f":"IF(BS587=0,0,BS588/BS587)*100","v":0},{"$f":"IF(BT587=0,0,BT588/BT587)*100","v":0},null,{"$f":"IF(BV587=0,0,BV588/BV587)*100","v":0},{"$f":"IF(BW587=0,0,BW588/BW587)*100","v":0},null,{"$f":"IF(BY587=0,0,BY588/BY587)*100","v":0},{"$f":"IF(BZ587=0,0,BZ588/BZ587)*100","v":0},null,{"$f":"IF(CB587=0,0,CB588/CB587)*100","v":0},{"$f":"IF(CC587=0,0,CC588/CC587)*100","v":0},null,{"$f":"IF(CE587=0,0,CE588/CE587)*100","v":0},{"$f":"IF(CF587=0,0,CF588/CF587)*100","v":0},null,{"$f":"IF(CH587=0,0,CH588/CH587)*100","v":0},{"$f":"IF(CI587=0,0,CI588/CI587)*100","v":0},null,{"$f":"IF(CK587=0,0,CK588/CK587)*100","v":0},{"$f":"IF(CL587=0,0,CL588/CL587)*100","v":0},null,{"$f":"IF(CN587=0,0,CN588/CN587)*100","v":0},{"$f":"IF(CO587=0,0,CO588/CO587)*100","v":0},null,{"$f":"IF(CQ587=0,0,CQ588/CQ587)*100","v":0},{"$f":"IF(CR587=0,0,CR588/CR587)*100","v":0},null,{"$f":"IF(CT587=0,0,CT588/CT587)*100","v":0},{"$f":"IF(CU587=0,0,CU588/CU587)*100","v":0},null,{"$f":"IF(CW587=0,0,CW588/CW587)*100","v":0},{"$f":"IF(CX587=0,0,CX588/CX587)*100","v":0},null,{"$f":"IF(CZ587=0,0,CZ588/CZ587)*100","v":0},{"$f":"IF(DA587=0,0,DA588/DA587)*100","v":0},null,{"$f":"IF(DC587=0,0,DC588/DC587)*100","v":0},{"$f":"IF(DD587=0,0,DD588/DD587)*100","v":0},null,{"$f":"IF(DF587=0,0,DF588/DF587)*100","v":0},{"$f":"IF(DG587=0,0,DG588/DG587)*100","v":0},null,{"$f":"IF(DI587=0,0,DI588/DI587)*100","v":0},{"$f":"IF(DJ587=0,0,DJ588/DJ587)*100","v":0},null,{"$f":"IF(DL587=0,0,DL588/DL587)*100","v":0},{"$f":"IF(DM587=0,0,DM588/DM587)*100","v":0},null,{"$f":"IF(DO587=0,0,DO588/DO587)*100","v":0},{"$f":"IF(DP587=0,0,DP588/DP587)*100","v":0},null,{"$f":"IF(DR587=0,0,DR588/DR587)*100","v":0},{"$f":"IF(DS587=0,0,DS588/DS587)*100","v":0},null,{"$f":"IF(DU587=0,0,DU588/DU587)*100","v":0},{"$f":"IF(DV587=0,0,DV588/DV587)*100","v":0},null,{"$f":"IF(DX587=0,0,DX588/DX587)*100","v":0},{"$f":"IF(DY587=0,0,DY588/DY587)*100","v":0},null,{"$f":"IF(EA587=0,0,EA588/EA587)*100","v":0},{"$f":"IF(EB587=0,0,EB588/EB587)*100","v":0},null,{"$f":"IF(ED587=0,0,ED588/ED587)*100","v":0},{"$f":"IF(EE587=0,0,EE588/EE587)*100","v":0},null,{"$f":"IF(EG587=0,0,EG588/EG587)*100","v":0},{"$f":"IF(EH587=0,0,EH588/EH587)*100","v":0},null,{"$f":"IF(EJ587=0,0,EJ588/EJ587)*100","v":0},{"$f":"IF(EK587=0,0,EK588/EK587)*100","v":0},null,{"$f":"IF(EM587=0,0,EM588/EM587)*100","v":0},{"$f":"IF(EN587=0,0,EN588/EN587)*100","v":0},null,{"$f":"IF(EP587=0,0,EP588/EP587)*100","v":0},{"$f":"IF(EQ587=0,0,EQ588/EQ587)*100","v":0},null,{"$f":"IF(ES587=0,0,ES588/ES587)*100","v":0},{"$f":"IF(ET587=0,0,ET588/ET587)*100","v":0},null,{"$f":"IF(EV587=0,0,EV588/EV587)*100","v":0},{"$f":"IF(EW587=0,0,EW588/EW587)*100","v":0},null,{"$f":"IF(EY587=0,0,EY588/EY587)*100","v":0},{"$f":"IF(EZ587=0,0,EZ588/EZ587)*100","v":0},null,{"$f":"IF(FB587=0,0,FB588/FB587)*100","v":0},{"$f":"IF(FC587=0,0,FC588/FC587)*100","v":0},null,{"$f":"IF(FE587=0,0,FE588/FE587)*100","v":0},{"$f":"IF(FF587=0,0,FF588/FF587)*100","v":0}]
["1","ПО.прочие","L1_3","для прочих потребителей без НДС",null,null,{"$f":"F582=\"одноставочный\"","v":true},null,null,null,null,"Объём реализации услуги с 01.01 по 31.12","тыс.куб.м",{"$f":"SUMIFS(INDEX(Калькуляция!$T$15:$AM$268,,MATCH(N$3,Калькуляция!$T$3:$AM$3,0)),Калькуляция!$A$15:$A$268,$A590,Калькуляция!$B$15:$B$268,$B590)","v":{"$error":"#N/A"}},{"$f":"SUMIFS(INDEX(Калькуляция!$T$15:$AM$268,,MATCH(O$3,Калькуляция!$T$3:$AM$3,0)),Калькуляция!$A$15:$A$268,$A590,Калькуляция!$B$15:$B$268,$B590)","v":{"$error":"#N/A"}},{"$f":"IF(N590=0,0,(O590-N590)/N590*100)","v":{"$error":"#N/A"}},{"$f":"SUMIFS(INDEX(Калькуляция!$T$15:$AM$268,,MATCH(Q$3,Калькуляция!$T$3:$AM$3,0)),Калькуляция!$A$15:$A$268,$A590,Калькуляция!$B$15:$B$268,$B590)","v":{"$error":"#N/A"}},{"$f":"SUMIFS(INDEX(Калькуляция!$T$15:$AM$268,,MATCH(R$3,Калькуляция!$T$3:$AM$3,0)),Калькуляция!$A$15:$A$268,$A590,Калькуляция!$B$15:$B$268,$B590)","v":{"$error":"#N/A"}},{"$f":"IF(Q590=0,0,(R590-Q590)/Q590*100)","v":{"$error":"#N/A"}},{"$f":"SUMIFS(INDEX(Калькуляция!$T$15:$AM$268,,MATCH(T$3,Калькуляция!$T$3:$AM$3,0)),Калькуляция!$A$15:$A$268,$A590,Калькуляция!$B$15:$B$268,$B590)","v":{"$error":"#N/A"}},{"$f":"SUMIFS(INDEX(Калькуляция!$T$15:$AM$268,,MATCH(U$3,Калькуляция!$T$3:$AM$3,0)),Калькуляция!$A$15:$A$268,$A590,Калькуляция!$B$15:$B$268,$B590)","v":{"$error":"#N/A"}},{"$f":"IF(T590=0,0,(U590-T590)/T590*100)","v":{"$error":"#N/A"}},{"$f":"SUMIFS(INDEX(Калькуляция!$T$15:$AM$268,,MATCH(W$3,Калькуляция!$T$3:$AM$3,0)),Калькуляция!$A$15:$A$268,$A590,Калькуляция!$B$15:$B$268,$B590)","v":{"$error":"#N/A"}},{"$f":"SUMIFS(INDEX(Калькуляция!$T$15:$AM$268,,MATCH(X$3,Калькуляция!$T$3:$AM$3,0)),Калькуляция!$A$15:$A$268,$A590,Калькуляция!$B$15:$B$268,$B590)","v":{"$error":"#N/A"}},{"$f":"IF(W590=0,0,(X590-W590)/W590*100)","v":{"$error":"#N/A"}},{"$f":"SUMIFS(INDEX(Калькуляция!$T$15:$AM$268,,MATCH(Z$3,Калькуляция!$T$3:$AM$3,0)),Калькуляция!$A$15:$A$268,$A590,Калькуляция!$B$15:$B$268,$B590)","v":{"$error":"#N/A"}},{"$f":"SUMIFS(INDEX(Калькуляция!$T$15:$AM$268,,MATCH(AA$3,Калькуляция!$T$3:$AM$3,0)),Калькуляция!$A$15:$A$268,$A590,Калькуляция!$B$15:$B$268,$B590)","v":{"$error":"#N/A"}},{"$f":"IF(Z590=0,0,(AA590-Z590)/Z590*100)","v":{"$error":"#N/A"}},{"$f":"SUMIFS(INDEX(Калькуляция!$T$15:$AM$268,,MATCH(AC$3,Калькуляция!$T$3:$AM$3,0)),Калькуляция!$A$15:$A$268,$A590,Калькуляция!$B$15:$B$268,$B590)","v":{"$error":"#N/A"}},{"$f":"SUMIFS(INDEX(Калькуляция!$T$15:$AM$268,,MATCH(AD$3,Калькуляция!$T$3:$AM$3,0)),Калькуляция!$A$15:$A$268,$A590,Калькуляция!$B$15:$B$268,$B590)","v":{"$error":"#N/A"}},{"$f":"IF(AC590=0,0,(AD590-AC590)/AC590*100)","v":{"$error":"#N/A"}},{"$f":"SUMIFS(INDEX(Калькуляция!$T$15:$AM$268,,MATCH(AF$3,Калькуляция!$T$3:$AM$3,0)),Калькуляция!$A$15:$A$268,$A590,Калькуляция!$B$15:$B$268,$B590)","v":{"$error":"#N/A"}},{"$f":"SUMIFS(INDEX(Калькуляция!$T$15:$AM$268,,MATCH(AG$3,Калькуляция!$T$3:$AM$3,0)),Калькуляция!$A$15:$A$268,$A590,Калькуляция!$B$15:$B$268,$B590)","v":{"$error":"#N/A"}},{"$f":"IF(AF590=0,0,(AG590-AF590)/AF590*100)","v":{"$error":"#N/A"}},{"$f":"SUMIFS(INDEX(Калькуляция!$T$15:$AM$268,,MATCH(AI$3,Калькуляция!$T$3:$AM$3,0)),Калькуляция!$A$15:$A$268,$A590,Калькуляция!$B$15:$B$268,$B590)","v":{"$error":"#N/A"}},{"$f":"SUMIFS(INDEX(Калькуляция!$T$15:$AM$268,,MATCH(AJ$3,Калькуляция!$T$3:$AM$3,0)),Калькуляция!$A$15:$A$268,$A590,Калькуляция!$B$15:$B$268,$B590)","v":{"$error":"#N/A"}},{"$f":"IF(AI590=0,0,(AJ590-AI590)/AI590*100)","v":{"$error":"#N/A"}},{"$f":"SUMIFS(INDEX(Калькуляция!$T$15:$AM$268,,MATCH(AL$3,Калькуляция!$T$3:$AM$3,0)),Калькуляция!$A$15:$A$268,$A590,Калькуляция!$B$15:$B$268,$B590)","v":{"$error":"#N/A"}},{"$f":"SUMIFS(INDEX(Калькуляция!$T$15:$AM$268,,MATCH(AM$3,Калькуляция!$T$3:$AM$3,0)),Калькуляция!$A$15:$A$268,$A590,Калькуляция!$B$15:$B$268,$B590)","v":{"$error":"#N/A"}},{"$f":"IF(AL590=0,0,(AM590-AL590)/AL590*100)","v":{"$error":"#N/A"}},{"$f":"SUMIFS(INDEX(Калькуляция!$T$15:$AM$268,,MATCH(AO$3,Калькуляция!$T$3:$AM$3,0)),Калькуляция!$A$15:$A$268,$A590,Калькуляция!$B$15:$B$268,$B590)","v":{"$error":"#N/A"}},{"$f":"SUMIFS(INDEX(Калькуляция!$T$15:$AM$268,,MATCH(AP$3,Калькуляция!$T$3:$AM$3,0)),Калькуляция!$A$15:$A$268,$A590,Калькуляция!$B$15:$B$268,$B590)","v":{"$error":"#N/A"}},{"$f":"IF(AO590=0,0,(AP590-AO590)/AO590*100)","v":{"$error":"#N/A"}},null,null,{"$f":"IF(AR590=0,0,(AS590-AR590)/AR590*100)","v":0},null,null,{"$f":"IF(AU590=0,0,(AV590-AU590)/AU590*100)","v":0},null,null,{"$f":"IF(AX590=0,0,(AY590-AX590)/AX590*100)","v":0},null,null,{"$f":"IF(BA590=0,0,(BB590-BA590)/BA590*100)","v":0},null,null,{"$f":"IF(BD590=0,0,(BE590-BD590)/BD590*100)","v":0},null,null,{"$f":"IF(BG590=0,0,(BH590-BG590)/BG590*100)","v":0},null,null,{"$f":"IF(BJ590=0,0,(BK590-BJ590)/BJ590*100)","v":0},null,null,{"$f":"IF(BM590=0,0,(BN590-BM590)/BM590*100)","v":0},null,null,{"$f":"IF(BP590=0,0,(BQ590-BP590)/BP590*100)","v":0},null,null,{"$f":"IF(BS590=0,0,(BT590-BS590)/BS590*100)","v":0},null,null,{"$f":"IF(BV590=0,0,(BW590-BV590)/BV590*100)","v":0},null,null,{"$f":"IF(BY590=0,0,(BZ590-BY590)/BY590*100)","v":0},null,null,{"$f":"IF(CB590=0,0,(CC590-CB590)/CB590*100)","v":0},null,null,{"$f":"IF(CE590=0,0,(CF590-CE590)/CE590*100)","v":0},null,null,{"$f":"IF(CH590=0,0,(CI590-CH590)/CH590*100)","v":0},null,null,{"$f":"IF(CK590=0,0,(CL590-CK590)/CK590*100)","v":0},null,null,{"$f":"IF(CN590=0,0,(CO590-CN590)/CN590*100)","v":0},null,null,{"$f":"IF(CQ590=0,0,(CR590-CQ590)/CQ590*100)","v":0},null,null,{"$f":"IF(CT590=0,0,(CU590-CT590)/CT590*100)","v":0},null,null,{"$f":"IF(CW590=0,0,(CX590-CW590)/CW590*100)","v":0},null,null,{"$f":"IF(CZ590=0,0,(DA590-CZ590)/CZ590*100)","v":0},null,null,{"$f":"IF(DC590=0,0,(DD590-DC590)/DC590*100)","v":0},null,null,{"$f":"IF(DF590=0,0,(DG590-DF590)/DF590*100)","v":0},null,null,{"$f":"IF(DI590=0,0,(DJ590-DI590)/DI590*100)","v":0},null,null,{"$f":"IF(DL590=0,0,(DM590-DL590)/DL590*100)","v":0},null,null,{"$f":"IF(DO590=0,0,(DP590-DO590)/DO590*100)","v":0},null,null,{"$f":"IF(DR590=0,0,(DS590-DR590)/DR590*100)","v":0},null,null,{"$f":"IF(DU590=0,0,(DV590-DU590)/DU590*100)","v":0},null,null,{"$f":"IF(DX590=0,0,(DY590-DX590)/DX590*100)","v":0},null,null,{"$f":"IF(EA590=0,0,(EB590-EA590)/EA590*100)","v":0},null,null,{"$f":"IF(ED590=0,0,(EE590-ED590)/ED590*100)","v":0},null,null,{"$f":"IF(EG590=0,0,(EH590-EG590)/EG590*100)","v":0},null,null,{"$f":"IF(EJ590=0,0,(EK590-EJ590)/EJ590*100)","v":0},null,null,{"$f":"IF(EM590=0,0,(EN590-EM590)/EM590*100)","v":0},null,null,{"$f":"IF(EP590=0,0,(EQ590-EP590)/EP590*100)","v":0},null,null,{"$f":"IF(ES590=0,0,(ET590-ES590)/ES590*100)","v":0},null,null,{"$f":"IF(EV590=0,0,(EW590-EV590)/EV590*100)","v":0},null,null,{"$f":"IF(EY590=0,0,(EZ590-EY590)/EY590*100)","v":0},null,null,{"$f":"IF(FB590=0,0,(FC590-FB590)/FB590*100)","v":0},null,null,{"$f":"IF(FE590=0,0,(FF590-FE590)/FE590*100)","v":0}]
["1","тариф.население.I","L1_1","для населения с 01.01 по 30.06 с НДС",null,null,{"$f":"F582=\"одноставочный\"","v":true},null,null,null,null,"Тариф с 01.01 по 30.06 для населения с НДС","руб./куб.м",{"$f":"SUMIFS(INDEX(Калькуляция!$T$15:$AM$268,,MATCH(N$3,Калькуляция!$T$3:$AM$3,0)),Калькуляция!$A$15:$A$268,$A591,Калькуляция!$B$15:$B$268,$B591)","v":{"$error":"#N/A"}},{"$f":"SUMIFS(INDEX(Калькуляция!$T$15:$AM$268,,MATCH(O$3,Калькуляция!$T$3:$AM$3,0)),Калькуляция!$A$15:$A$268,$A591,Калькуляция!$B$15:$B$268,$B591)","v":{"$error":"#N/A"}},{"$f":"IF(N591=0,0,(O591-N591)/N591*100)","v":{"$error":"#N/A"}},{"$f":"SUMIFS(INDEX(Калькуляция!$T$15:$AM$268,,MATCH(Q$3,Калькуляция!$T$3:$AM$3,0)),Калькуляция!$A$15:$A$268,$A591,Калькуляция!$B$15:$B$268,$B591)","v":{"$error":"#N/A"}},{"$f":"SUMIFS(INDEX(Калькуляция!$T$15:$AM$268,,MATCH(R$3,Калькуляция!$T$3:$AM$3,0)),Калькуляция!$A$15:$A$268,$A591,Калькуляция!$B$15:$B$268,$B591)","v":{"$error":"#N/A"}},{"$f":"IF(Q591=0,0,(R591-Q591)/Q591*100)","v":{"$error":"#N/A"}},{"$f":"SUMIFS(INDEX(Калькуляция!$T$15:$AM$268,,MATCH(T$3,Калькуляция!$T$3:$AM$3,0)),Калькуляция!$A$15:$A$268,$A591,Калькуляция!$B$15:$B$268,$B591)","v":{"$error":"#N/A"}},{"$f":"SUMIFS(INDEX(Калькуляция!$T$15:$AM$268,,MATCH(U$3,Калькуляция!$T$3:$AM$3,0)),Калькуляция!$A$15:$A$268,$A591,Калькуляция!$B$15:$B$268,$B591)","v":{"$error":"#N/A"}},{"$f":"IF(T591=0,0,(U591-T591)/T591*100)","v":{"$error":"#N/A"}},{"$f":"SUMIFS(INDEX(Калькуляция!$T$15:$AM$268,,MATCH(W$3,Калькуляция!$T$3:$AM$3,0)),Калькуляция!$A$15:$A$268,$A591,Калькуляция!$B$15:$B$268,$B591)","v":{"$error":"#N/A"}},{"$f":"SUMIFS(INDEX(Калькуляция!$T$15:$AM$268,,MATCH(X$3,Калькуляция!$T$3:$AM$3,0)),Калькуляция!$A$15:$A$268,$A591,Калькуляция!$B$15:$B$268,$B591)","v":{"$error":"#N/A"}},{"$f":"IF(W591=0,0,(X591-W591)/W591*100)","v":{"$error":"#N/A"}},{"$f":"SUMIFS(INDEX(Калькуляция!$T$15:$AM$268,,MATCH(Z$3,Калькуляция!$T$3:$AM$3,0)),Калькуляция!$A$15:$A$268,$A591,Калькуляция!$B$15:$B$268,$B591)","v":{"$error":"#N/A"}},{"$f":"SUMIFS(INDEX(Калькуляция!$T$15:$AM$268,,MATCH(AA$3,Калькуляция!$T$3:$AM$3,0)),Калькуляция!$A$15:$A$268,$A591,Калькуляция!$B$15:$B$268,$B591)","v":{"$error":"#N/A"}},{"$f":"IF(Z591=0,0,(AA591-Z591)/Z591*100)","v":{"$error":"#N/A"}},{"$f":"SUMIFS(INDEX(Калькуляция!$T$15:$AM$268,,MATCH(AC$3,Калькуляция!$T$3:$AM$3,0)),Калькуляция!$A$15:$A$268,$A591,Калькуляция!$B$15:$B$268,$B591)","v":{"$error":"#N/A"}},{"$f":"SUMIFS(INDEX(Калькуляция!$T$15:$AM$268,,MATCH(AD$3,Калькуляция!$T$3:$AM$3,0)),Калькуляция!$A$15:$A$268,$A591,Калькуляция!$B$15:$B$268,$B591)","v":{"$error":"#N/A"}},{"$f":"IF(AC591=0,0,(AD591-AC591)/AC591*100)","v":{"$error":"#N/A"}},{"$f":"SUMIFS(INDEX(Калькуляция!$T$15:$AM$268,,MATCH(AF$3,Калькуляция!$T$3:$AM$3,0)),Калькуляция!$A$15:$A$268,$A591,Калькуляция!$B$15:$B$268,$B591)","v":{"$error":"#N/A"}},{"$f":"SUMIFS(INDEX(Калькуляция!$T$15:$AM$268,,MATCH(AG$3,Калькуляция!$T$3:$AM$3,0)),Калькуляция!$A$15:$A$268,$A591,Калькуляция!$B$15:$B$268,$B591)","v":{"$error":"#N/A"}},{"$f":"IF(AF591=0,0,(AG591-AF591)/AF591*100)","v":{"$error":"#N/A"}},{"$f":"SUMIFS(INDEX(Калькуляция!$T$15:$AM$268,,MATCH(AI$3,Калькуляция!$T$3:$AM$3,0)),Калькуляция!$A$15:$A$268,$A591,Калькуляция!$B$15:$B$268,$B591)","v":{"$error":"#N/A"}},{"$f":"SUMIFS(INDEX(Калькуляция!$T$15:$AM$268,,MATCH(AJ$3,Калькуляция!$T$3:$AM$3,0)),Калькуляция!$A$15:$A$268,$A591,Калькуляция!$B$15:$B$268,$B591)","v":{"$error":"#N/A"}},{"$f":"IF(AI591=0,0,(AJ591-AI591)/AI591*100)","v":{"$error":"#N/A"}},{"$f":"SUMIFS(INDEX(Калькуляция!$T$15:$AM$268,,MATCH(AL$3,Калькуляция!$T$3:$AM$3,0)),Калькуляция!$A$15:$A$268,$A591,Калькуляция!$B$15:$B$268,$B591)","v":{"$error":"#N/A"}},{"$f":"SUMIFS(INDEX(Калькуляция!$T$15:$AM$268,,MATCH(AM$3,Калькуляция!$T$3:$AM$3,0)),Калькуляция!$A$15:$A$268,$A591,Калькуляция!$B$15:$B$268,$B591)","v":{"$error":"#N/A"}},{"$f":"IF(AL591=0,0,(AM591-AL591)/AL591*100)","v":{"$error":"#N/A"}},{"$f":"SUMIFS(INDEX(Калькуляция!$T$15:$AM$268,,MATCH(AO$3,Калькуляция!$T$3:$AM$3,0)),Калькуляция!$A$15:$A$268,$A591,Калькуляция!$B$15:$B$268,$B591)","v":{"$error":"#N/A"}},{"$f":"SUMIFS(INDEX(Калькуляция!$T$15:$AM$268,,MATCH(AP$3,Калькуляция!$T$3:$AM$3,0)),Калькуляция!$A$15:$A$268,$A591,Калькуляция!$B$15:$B$268,$B591)","v":{"$error":"#N/A"}},{"$f":"IF(AO591=0,0,(AP591-AO591)/AO591*100)","v":{"$error":"#N/A"}},null,null,{"$f":"IF(AR591=0,0,(AS591-AR591)/AR591*100)","v":0},null,null,{"$f":"IF(AU591=0,0,(AV591-AU591)/AU591*100)","v":0},null,null,{"$f":"IF(AX591=0,0,(AY591-AX591)/AX591*100)","v":0},null,null,{"$f":"IF(BA591=0,0,(BB591-BA591)/BA591*100)","v":0},null,null,{"$f":"IF(BD591=0,0,(BE591-BD591)/BD591*100)","v":0},null,null,{"$f":"IF(BG591=0,0,(BH591-BG591)/BG591*100)","v":0},null,null,{"$f":"IF(BJ591=0,0,(BK591-BJ591)/BJ591*100)","v":0},null,null,{"$f":"IF(BM591=0,0,(BN591-BM591)/BM591*100)","v":0},null,null,{"$f":"IF(BP591=0,0,(BQ591-BP591)/BP591*100)","v":0},null,null,{"$f":"IF(BS591=0,0,(BT591-BS591)/BS591*100)","v":0},null,null,{"$f":"IF(BV591=0,0,(BW591-BV591)/BV591*100)","v":0},null,null,{"$f":"IF(BY591=0,0,(BZ591-BY591)/BY591*100)","v":0},null,null,{"$f":"IF(CB591=0,0,(CC591-CB591)/CB591*100)","v":0},null,null,{"$f":"IF(CE591=0,0,(CF591-CE591)/CE591*100)","v":0},null,null,{"$f":"IF(CH591=0,0,(CI591-CH591)/CH591*100)","v":0},null,null,{"$f":"IF(CK591=0,0,(CL591-CK591)/CK591*100)","v":0},null,null,{"$f":"IF(CN591=0,0,(CO591-CN591)/CN591*100)","v":0},null,null,{"$f":"IF(CQ591=0,0,(CR591-CQ591)/CQ591*100)","v":0},null,null,{"$f":"IF(CT591=0,0,(CU591-CT591)/CT591*100)","v":0},null,null,{"$f":"IF(CW591=0,0,(CX591-CW591)/CW591*100)","v":0},null,null,{"$f":"IF(CZ591=0,0,(DA591-CZ591)/CZ591*100)","v":0},null,null,{"$f":"IF(DC591=0,0,(DD591-DC591)/DC591*100)","v":0},null,null,{"$f":"IF(DF591=0,0,(DG591-DF591)/DF591*100)","v":0},null,null,{"$f":"IF(DI591=0,0,(DJ591-DI591)/DI591*100)","v":0},null,null,{"$f":"IF(DL591=0,0,(DM591-DL591)/DL591*100)","v":0},null,null,{"$f":"IF(DO591=0,0,(DP591-DO591)/DO591*100)","v":0},null,null,{"$f":"IF(DR591=0,0,(DS591-DR591)/DR591*100)","v":0},null,null,{"$f":"IF(DU591=0,0,(DV591-DU591)/DU591*100)","v":0},null,null,{"$f":"IF(DX591=0,0,(DY591-DX591)/DX591*100)","v":0},null,null,{"$f":"IF(EA591=0,0,(EB591-EA591)/EA591*100)","v":0},null,null,{"$f":"IF(ED591=0,0,(EE591-ED591)/ED591*100)","v":0},null,null,{"$f":"IF(EG591=0,0,(EH591-EG591)/EG591*100)","v":0},null,null,{"$f":"IF(EJ591=0,0,(EK591-EJ591)/EJ591*100)","v":0},null,null,{"$f":"IF(EM591=0,0,(EN591-EM591)/EM591*100)","v":0},null,null,{"$f":"IF(EP591=0,0,(EQ591-EP591)/EP591*100)","v":0},null,null,{"$f":"IF(ES591=0,0,(ET591-ES591)/ES591*100)","v":0},null,null,{"$f":"IF(EV591=0,0,(EW591-EV591)/EV591*100)","v":0},null,null,{"$f":"IF(EY591=0,0,(EZ591-EY591)/EY591*100)","v":0},null,null,{"$f":"IF(FB591=0,0,(FC591-FB591)/FB591*100)","v":0},null,null,{"$f":"IF(FE591=0,0,(FF591-FE591)/FE591*100)","v":0}]
["1","тариф.население.II","L1_1","для населения с 01.07 по 31.12 с НДС",null,null,{"$f":"F582=\"одноставочный\"","v":true},null,null,null,null,"Тариф с 01.07 по 31.12 для населения с НДС","руб./куб.м",{"$f":"SUMIFS(INDEX(Калькуляция!$T$15:$AM$268,,MATCH(N$3,Калькуляция!$T$3:$AM$3,0)),Калькуляция!$A$15:$A$268,$A592,Калькуляция!$B$15:$B$268,$B592)","v":{"$error":"#N/A"}},{"$f":"SUMIFS(INDEX(Калькуляция!$T$15:$AM$268,,MATCH(O$3,Калькуляция!$T$3:$AM$3,0)),Калькуляция!$A$15:$A$268,$A592,Калькуляция!$B$15:$B$268,$B592)","v":{"$error":"#N/A"}},{"$f":"IF(N592=0,0,(O592-N592)/N592*100)","v":{"$error":"#N/A"}},{"$f":"SUMIFS(INDEX(Калькуляция!$T$15:$AM$268,,MATCH(Q$3,Калькуляция!$T$3:$AM$3,0)),Калькуляция!$A$15:$A$268,$A592,Калькуляция!$B$15:$B$268,$B592)","v":{"$error":"#N/A"}},{"$f":"SUMIFS(INDEX(Калькуляция!$T$15:$AM$268,,MATCH(R$3,Калькуляция!$T$3:$AM$3,0)),Калькуляция!$A$15:$A$268,$A592,Калькуляция!$B$15:$B$268,$B592)","v":{"$error":"#N/A"}},{"$f":"IF(Q592=0,0,(R592-Q592)/Q592*100)","v":{"$error":"#N/A"}},{"$f":"SUMIFS(INDEX(Калькуляция!$T$15:$AM$268,,MATCH(T$3,Калькуляция!$T$3:$AM$3,0)),Калькуляция!$A$15:$A$268,$A592,Калькуляция!$B$15:$B$268,$B592)","v":{"$error":"#N/A"}},{"$f":"SUMIFS(INDEX(Калькуляция!$T$15:$AM$268,,MATCH(U$3,Калькуляция!$T$3:$AM$3,0)),Калькуляция!$A$15:$A$268,$A592,Калькуляция!$B$15:$B$268,$B592)","v":{"$error":"#N/A"}},{"$f":"IF(T592=0,0,(U592-T592)/T592*100)","v":{"$error":"#N/A"}},{"$f":"SUMIFS(INDEX(Калькуляция!$T$15:$AM$268,,MATCH(W$3,Калькуляция!$T$3:$AM$3,0)),Калькуляция!$A$15:$A$268,$A592,Калькуляция!$B$15:$B$268,$B592)","v":{"$error":"#N/A"}},{"$f":"SUMIFS(INDEX(Калькуляция!$T$15:$AM$268,,MATCH(X$3,Калькуляция!$T$3:$AM$3,0)),Калькуляция!$A$15:$A$268,$A592,Калькуляция!$B$15:$B$268,$B592)","v":{"$error":"#N/A"}},{"$f":"IF(W592=0,0,(X592-W592)/W592*100)","v":{"$error":"#N/A"}},{"$f":"SUMIFS(INDEX(Калькуляция!$T$15:$AM$268,,MATCH(Z$3,Калькуляция!$T$3:$AM$3,0)),Калькуляция!$A$15:$A$268,$A592,Калькуляция!$B$15:$B$268,$B592)","v":{"$error":"#N/A"}},{"$f":"SUMIFS(INDEX(Калькуляция!$T$15:$AM$268,,MATCH(AA$3,Калькуляция!$T$3:$AM$3,0)),Калькуляция!$A$15:$A$268,$A592,Калькуляция!$B$15:$B$268,$B592)","v":{"$error":"#N/A"}},{"$f":"IF(Z592=0,0,(AA592-Z592)/Z592*100)","v":{"$error":"#N/A"}},{"$f":"SUMIFS(INDEX(Калькуляция!$T$15:$AM$268,,MATCH(AC$3,Калькуляция!$T$3:$AM$3,0)),Калькуляция!$A$15:$A$268,$A592,Калькуляция!$B$15:$B$268,$B592)","v":{"$error":"#N/A"}},{"$f":"SUMIFS(INDEX(Калькуляция!$T$15:$AM$268,,MATCH(AD$3,Калькуляция!$T$3:$AM$3,0)),Калькуляция!$A$15:$A$268,$A592,Калькуляция!$B$15:$B$268,$B592)","v":{"$error":"#N/A"}},{"$f":"IF(AC592=0,0,(AD592-AC592)/AC592*100)","v":{"$error":"#N/A"}},{"$f":"SUMIFS(INDEX(Калькуляция!$T$15:$AM$268,,MATCH(AF$3,Калькуляция!$T$3:$AM$3,0)),Калькуляция!$A$15:$A$268,$A592,Калькуляция!$B$15:$B$268,$B592)","v":{"$error":"#N/A"}},{"$f":"SUMIFS(INDEX(Калькуляция!$T$15:$AM$268,,MATCH(AG$3,Калькуляция!$T$3:$AM$3,0)),Калькуляция!$A$15:$A$268,$A592,Калькуляция!$B$15:$B$268,$B592)","v":{"$error":"#N/A"}},{"$f":"IF(AF592=0,0,(AG592-AF592)/AF592*100)","v":{"$error":"#N/A"}},{"$f":"SUMIFS(INDEX(Калькуляция!$T$15:$AM$268,,MATCH(AI$3,Калькуляция!$T$3:$AM$3,0)),Калькуляция!$A$15:$A$268,$A592,Калькуляция!$B$15:$B$268,$B592)","v":{"$error":"#N/A"}},{"$f":"SUMIFS(INDEX(Калькуляция!$T$15:$AM$268,,MATCH(AJ$3,Калькуляция!$T$3:$AM$3,0)),Калькуляция!$A$15:$A$268,$A592,Калькуляция!$B$15:$B$268,$B592)","v":{"$error":"#N/A"}},{"$f":"IF(AI592=0,0,(AJ592-AI592)/AI592*100)","v":{"$error":"#N/A"}},{"$f":"SUMIFS(INDEX(Калькуляция!$T$15:$AM$268,,MATCH(AL$3,Калькуляция!$T$3:$AM$3,0)),Калькуляция!$A$15:$A$268,$A592,Калькуляция!$B$15:$B$268,$B592)","v":{"$error":"#N/A"}},{"$f":"SUMIFS(INDEX(Калькуляция!$T$15:$AM$268,,MATCH(AM$3,Калькуляция!$T$3:$AM$3,0)),Калькуляция!$A$15:$A$268,$A592,Калькуляция!$B$15:$B$268,$B592)","v":{"$error":"#N/A"}},{"$f":"IF(AL592=0,0,(AM592-AL592)/AL592*100)","v":{"$error":"#N/A"}},{"$f":"SUMIFS(INDEX(Калькуляция!$T$15:$AM$268,,MATCH(AO$3,Калькуляция!$T$3:$AM$3,0)),Калькуляция!$A$15:$A$268,$A592,Калькуляция!$B$15:$B$268,$B592)","v":{"$error":"#N/A"}},{"$f":"SUMIFS(INDEX(Калькуляция!$T$15:$AM$268,,MATCH(AP$3,Калькуляция!$T$3:$AM$3,0)),Калькуляция!$A$15:$A$268,$A592,Калькуляция!$B$15:$B$268,$B592)","v":{"$error":"#N/A"}},{"$f":"IF(AO592=0,0,(AP592-AO592)/AO592*100)","v":{"$error":"#N/A"}},null,null,{"$f":"IF(AR592=0,0,(AS592-AR592)/AR592*100)","v":0},null,null,{"$f":"IF(AU592=0,0,(AV592-AU592)/AU592*100)","v":0},null,null,{"$f":"IF(AX592=0,0,(AY592-AX592)/AX592*100)","v":0},null,null,{"$f":"IF(BA592=0,0,(BB592-BA592)/BA592*100)","v":0},null,null,{"$f":"IF(BD592=0,0,(BE592-BD592)/BD592*100)","v":0},null,null,{"$f":"IF(BG592=0,0,(BH592-BG592)/BG592*100)","v":0},null,null,{"$f":"IF(BJ592=0,0,(BK592-BJ592)/BJ592*100)","v":0},null,null,{"$f":"IF(BM592=0,0,(BN592-BM592)/BM592*100)","v":0},null,null,{"$f":"IF(BP592=0,0,(BQ592-BP592)/BP592*100)","v":0},null,null,{"$f":"IF(BS592=0,0,(BT592-BS592)/BS592*100)","v":0},null,null,{"$f":"IF(BV592=0,0,(BW592-BV592)/BV592*100)","v":0},null,null,{"$f":"IF(BY592=0,0,(BZ592-BY592)/BY592*100)","v":0},null,null,{"$f":"IF(CB592=0,0,(CC592-CB592)/CB592*100)","v":0},null,null,{"$f":"IF(CE592=0,0,(CF592-CE592)/CE592*100)","v":0},null,null,{"$f":"IF(CH592=0,0,(CI592-CH592)/CH592*100)","v":0},null,null,{"$f":"IF(CK592=0,0,(CL592-CK592)/CK592*100)","v":0},null,null,{"$f":"IF(CN592=0,0,(CO592-CN592)/CN592*100)","v":0},null,null,{"$f":"IF(CQ592=0,0,(CR592-CQ592)/CQ592*100)","v":0},null,null,{"$f":"IF(CT592=0,0,(CU592-CT592)/CT592*100)","v":0},null,null,{"$f":"IF(CW592=0,0,(CX592-CW592)/CW592*100)","v":0},null,null,{"$f":"IF(CZ592=0,0,(DA592-CZ592)/CZ592*100)","v":0},null,null,{"$f":"IF(DC592=0,0,(DD592-DC592)/DC592*100)","v":0},null,null,{"$f":"IF(DF592=0,0,(DG592-DF592)/DF592*100)","v":0},null,null,{"$f":"IF(DI592=0,0,(DJ592-DI592)/DI592*100)","v":0},null,null,{"$f":"IF(DL592=0,0,(DM592-DL592)/DL592*100)","v":0},null,null,{"$f":"IF(DO592=0,0,(DP592-DO592)/DO592*100)","v":0},null,null,{"$f":"IF(DR592=0,0,(DS592-DR592)/DR592*100)","v":0},null,null,{"$f":"IF(DU592=0,0,(DV592-DU592)/DU592*100)","v":0},null,null,{"$f":"IF(DX592=0,0,(DY592-DX592)/DX592*100)","v":0},null,null,{"$f":"IF(EA592=0,0,(EB592-EA592)/EA592*100)","v":0},null,null,{"$f":"IF(ED592=0,0,(EE592-ED592)/ED592*100)","v":0},null,null,{"$f":"IF(EG592=0,0,(EH592-EG592)/EG592*100)","v":0},null,null,{"$f":"IF(EJ592=0,0,(EK592-EJ592)/EJ592*100)","v":0},null,null,{"$f":"IF(EM592=0,0,(EN592-EM592)/EM592*100)","v":0},null,null,{"$f":"IF(EP592=0,0,(EQ592-EP592)/EP592*100)","v":0},null,null,{"$f":"IF(ES592=0,0,(ET592-ES592)/ES592*100)","v":0},null,null,{"$f":"IF(EV592=0,0,(EW592-EV592)/EV592*100)","v":0},null,null,{"$f":"IF(EY592=0,0,(EZ592-EY592)/EY592*100)","v":0},null,null,{"$f":"IF(FB592=0,0,(FC592-FB592)/FB592*100)","v":0},null,null,{"$f":"IF(FE592=0,0,(FF592-FE592)/FE592*100)","v":0}]
["1",null,"L1_2","для населения с НДС",null,null,{"$f":"F582=\"одноставочный\"","v":true},null,null,null,null,"Темп роста тарифов с 01.07","%",{"$f":"IF(N591=0,0,N592/N591)*100","v":{"$error":"#N/A"}},{"$f":"IF(O591=0,0,O592/O591)*100","v":{"$error":"#N/A"}},null,{"$f":"IF(Q591=0,0,Q592/Q591)*100","v":{"$error":"#N/A"}},{"$f":"IF(R591=0,0,R592/R591)*100","v":{"$error":"#N/A"}},null,{"$f":"IF(T591=0,0,T592/T591)*100","v":{"$error":"#N/A"}},{"$f":"IF(U591=0,0,U592/U591)*100","v":{"$error":"#N/A"}},null,{"$f":"IF(W591=0,0,W592/W591)*100","v":{"$error":"#N/A"}},{"$f":"IF(X591=0,0,X592/X591)*100","v":{"$error":"#N/A"}},null,{"$f":"IF(Z591=0,0,Z592/Z591)*100","v":{"$error":"#N/A"}},{"$f":"IF(AA591=0,0,AA592/AA591)*100","v":{"$error":"#N/A"}},null,{"$f":"IF(AC591=0,0,AC592/AC591)*100","v":{"$error":"#N/A"}},{"$f":"IF(AD591=0,0,AD592/AD591)*100","v":{"$error":"#N/A"}},null,{"$f":"IF(AF591=0,0,AF592/AF591)*100","v":{"$error":"#N/A"}},{"$f":"IF(AG591=0,0,AG592/AG591)*100","v":{"$error":"#N/A"}},null,{"$f":"IF(AI591=0,0,AI592/AI591)*100","v":{"$error":"#N/A"}},{"$f":"IF(AJ591=0,0,AJ592/AJ591)*100","v":{"$error":"#N/A"}},null,{"$f":"IF(AL591=0,0,AL592/AL591)*100","v":{"$error":"#N/A"}},{"$f":"IF(AM591=0,0,AM592/AM591)*100","v":{"$error":"#N/A"}},null,{"$f":"IF(AO591=0,0,AO592/AO591)*100","v":{"$error":"#N/A"}},{"$f":"IF(AP591=0,0,AP592/AP591)*100","v":{"$error":"#N/A"}},null,{"$f":"IF(AR591=0,0,AR592/AR591)*100","v":0},{"$f":"IF(AS591=0,0,AS592/AS591)*100","v":0},null,{"$f":"IF(AU591=0,0,AU592/AU591)*100","v":0},{"$f":"IF(AV591=0,0,AV592/AV591)*100","v":0},null,{"$f":"IF(AX591=0,0,AX592/AX591)*100","v":0},{"$f":"IF(AY591=0,0,AY592/AY591)*100","v":0},null,{"$f":"IF(BA591=0,0,BA592/BA591)*100","v":0},{"$f":"IF(BB591=0,0,BB592/BB591)*100","v":0},null,{"$f":"IF(BD591=0,0,BD592/BD591)*100","v":0},{"$f":"IF(BE591=0,0,BE592/BE591)*100","v":0},null,{"$f":"IF(BG591=0,0,BG592/BG591)*100","v":0},{"$f":"IF(BH591=0,0,BH592/BH591)*100","v":0},null,{"$f":"IF(BJ591=0,0,BJ592/BJ591)*100","v":0},{"$f":"IF(BK591=0,0,BK592/BK591)*100","v":0},null,{"$f":"IF(BM591=0,0,BM592/BM591)*100","v":0},{"$f":"IF(BN591=0,0,BN592/BN591)*100","v":0},null,{"$f":"IF(BP591=0,0,BP592/BP591)*100","v":0},{"$f":"IF(BQ591=0,0,BQ592/BQ591)*100","v":0},null,{"$f":"IF(BS591=0,0,BS592/BS591)*100","v":0},{"$f":"IF(BT591=0,0,BT592/BT591)*100","v":0},null,{"$f":"IF(BV591=0,0,BV592/BV591)*100","v":0},{"$f":"IF(BW591=0,0,BW592/BW591)*100","v":0},null,{"$f":"IF(BY591=0,0,BY592/BY591)*100","v":0},{"$f":"IF(BZ591=0,0,BZ592/BZ591)*100","v":0},null,{"$f":"IF(CB591=0,0,CB592/CB591)*100","v":0},{"$f":"IF(CC591=0,0,CC592/CC591)*100","v":0},null,{"$f":"IF(CE591=0,0,CE592/CE591)*100","v":0},{"$f":"IF(CF591=0,0,CF592/CF591)*100","v":0},null,{"$f":"IF(CH591=0,0,CH592/CH591)*100","v":0},{"$f":"IF(CI591=0,0,CI592/CI591)*100","v":0},null,{"$f":"IF(CK591=0,0,CK592/CK591)*100","v":0},{"$f":"IF(CL591=0,0,CL592/CL591)*100","v":0},null,{"$f":"IF(CN591=0,0,CN592/CN591)*100","v":0},{"$f":"IF(CO591=0,0,CO592/CO591)*100","v":0},null,{"$f":"IF(CQ591=0,0,CQ592/CQ591)*100","v":0},{"$f":"IF(CR591=0,0,CR592/CR591)*100","v":0},null,{"$f":"IF(CT591=0,0,CT592/CT591)*100","v":0},{"$f":"IF(CU591=0,0,CU592/CU591)*100","v":0},null,{"$f":"IF(CW591=0,0,CW592/CW591)*100","v":0},{"$f":"IF(CX591=0,0,CX592/CX591)*100","v":0},null,{"$f":"IF(CZ591=0,0,CZ592/CZ591)*100","v":0},{"$f":"IF(DA591=0,0,DA592/DA591)*100","v":0},null,{"$f":"IF(DC591=0,0,DC592/DC591)*100","v":0},{"$f":"IF(DD591=0,0,DD592/DD591)*100","v":0},null,{"$f":"IF(DF591=0,0,DF592/DF591)*100","v":0},{"$f":"IF(DG591=0,0,DG592/DG591)*100","v":0},null,{"$f":"IF(DI591=0,0,DI592/DI591)*100","v":0},{"$f":"IF(DJ591=0,0,DJ592/DJ591)*100","v":0},null,{"$f":"IF(DL591=0,0,DL592/DL591)*100","v":0},{"$f":"IF(DM591=0,0,DM592/DM591)*100","v":0},null,{"$f":"IF(DO591=0,0,DO592/DO591)*100","v":0},{"$f":"IF(DP591=0,0,DP592/DP591)*100","v":0},null,{"$f":"IF(DR591=0,0,DR592/DR591)*100","v":0},{"$f":"IF(DS591=0,0,DS592/DS591)*100","v":0},null,{"$f":"IF(DU591=0,0,DU592/DU591)*100","v":0},{"$f":"IF(DV591=0,0,DV592/DV591)*100","v":0},null,{"$f":"IF(DX591=0,0,DX592/DX591)*100","v":0},{"$f":"IF(DY591=0,0,DY592/DY591)*100","v":0},null,{"$f":"IF(EA591=0,0,EA592/EA591)*100","v":0},{"$f":"IF(EB591=0,0,EB592/EB591)*100","v":0},null,{"$f":"IF(ED591=0,0,ED592/ED591)*100","v":0},{"$f":"IF(EE591=0,0,EE592/EE591)*100","v":0},null,{"$f":"IF(EG591=0,0,EG592/EG591)*100","v":0},{"$f":"IF(EH591=0,0,EH592/EH591)*100","v":0},null,{"$f":"IF(EJ591=0,0,EJ592/EJ591)*100","v":0},{"$f":"IF(EK591=0,0,EK592/EK591)*100","v":0},null,{"$f":"IF(EM591=0,0,EM592/EM591)*100","v":0},{"$f":"IF(EN591=0,0,EN592/EN591)*100","v":0},null,{"$f":"IF(EP591=0,0,EP592/EP591)*100","v":0},{"$f":"IF(EQ591=0,0,EQ592/EQ591)*100","v":0},null,{"$f":"IF(ES591=0,0,ES592/ES591)*100","v":0},{"$f":"IF(ET591=0,0,ET592/ET591)*100","v":0},null,{"$f":"IF(EV591=0,0,EV592/EV591)*100","v":0},{"$f":"IF(EW591=0,0,EW592/EW591)*100","v":0},null,{"$f":"IF(EY591=0,0,EY592/EY591)*100","v":0},{"$f":"IF(EZ591=0,0,EZ592/EZ591)*100","v":0},null,{"$f":"IF(FB591=0,0,FB592/FB591)*100","v":0},{"$f":"IF(FC591=0,0,FC592/FC591)*100","v":0},null,{"$f":"IF(FE591=0,0,FE592/FE591)*100","v":0},{"$f":"IF(FF591=0,0,FF592/FF591)*100","v":0}]
["1","ПО.население","L1_3","для населения с НДС",null,null,{"$f":"F582=\"одноставочный\"","v":true},null,null,null,null,"Объём реализации услуги для населения с 01.01 по 31.12","тыс.куб.м",{"$f":"SUMIFS(INDEX(Калькуляция!$T$15:$AM$268,,MATCH(N$3,Калькуляция!$T$3:$AM$3,0)),Калькуляция!$A$15:$A$268,$A594,Калькуляция!$B$15:$B$268,$B594)","v":{"$error":"#N/A"}},{"$f":"SUMIFS(INDEX(Калькуляция!$T$15:$AM$268,,MATCH(O$3,Калькуляция!$T$3:$AM$3,0)),Калькуляция!$A$15:$A$268,$A594,Калькуляция!$B$15:$B$268,$B594)","v":{"$error":"#N/A"}},{"$f":"IF(N594=0,0,(O594-N594)/N594*100)","v":{"$error":"#N/A"}},{"$f":"SUMIFS(INDEX(Калькуляция!$T$15:$AM$268,,MATCH(Q$3,Калькуляция!$T$3:$AM$3,0)),Калькуляция!$A$15:$A$268,$A594,Калькуляция!$B$15:$B$268,$B594)","v":{"$error":"#N/A"}},{"$f":"SUMIFS(INDEX(Калькуляция!$T$15:$AM$268,,MATCH(R$3,Калькуляция!$T$3:$AM$3,0)),Калькуляция!$A$15:$A$268,$A594,Калькуляция!$B$15:$B$268,$B594)","v":{"$error":"#N/A"}},{"$f":"IF(Q594=0,0,(R594-Q594)/Q594*100)","v":{"$error":"#N/A"}},{"$f":"SUMIFS(INDEX(Калькуляция!$T$15:$AM$268,,MATCH(T$3,Калькуляция!$T$3:$AM$3,0)),Калькуляция!$A$15:$A$268,$A594,Калькуляция!$B$15:$B$268,$B594)","v":{"$error":"#N/A"}},{"$f":"SUMIFS(INDEX(Калькуляция!$T$15:$AM$268,,MATCH(U$3,Калькуляция!$T$3:$AM$3,0)),Калькуляция!$A$15:$A$268,$A594,Калькуляция!$B$15:$B$268,$B594)","v":{"$error":"#N/A"}},{"$f":"IF(T594=0,0,(U594-T594)/T594*100)","v":{"$error":"#N/A"}},{"$f":"SUMIFS(INDEX(Калькуляция!$T$15:$AM$268,,MATCH(W$3,Калькуляция!$T$3:$AM$3,0)),Калькуляция!$A$15:$A$268,$A594,Калькуляция!$B$15:$B$268,$B594)","v":{"$error":"#N/A"}},{"$f":"SUMIFS(INDEX(Калькуляция!$T$15:$AM$268,,MATCH(X$3,Калькуляция!$T$3:$AM$3,0)),Калькуляция!$A$15:$A$268,$A594,Калькуляция!$B$15:$B$268,$B594)","v":{"$error":"#N/A"}},{"$f":"IF(W594=0,0,(X594-W594)/W594*100)","v":{"$error":"#N/A"}},{"$f":"SUMIFS(INDEX(Калькуляция!$T$15:$AM$268,,MATCH(Z$3,Калькуляция!$T$3:$AM$3,0)),Калькуляция!$A$15:$A$268,$A594,Калькуляция!$B$15:$B$268,$B594)","v":{"$error":"#N/A"}},{"$f":"SUMIFS(INDEX(Калькуляция!$T$15:$AM$268,,MATCH(AA$3,Калькуляция!$T$3:$AM$3,0)),Калькуляция!$A$15:$A$268,$A594,Калькуляция!$B$15:$B$268,$B594)","v":{"$error":"#N/A"}},{"$f":"IF(Z594=0,0,(AA594-Z594)/Z594*100)","v":{"$error":"#N/A"}},{"$f":"SUMIFS(INDEX(Калькуляция!$T$15:$AM$268,,MATCH(AC$3,Калькуляция!$T$3:$AM$3,0)),Калькуляция!$A$15:$A$268,$A594,Калькуляция!$B$15:$B$268,$B594)","v":{"$error":"#N/A"}},{"$f":"SUMIFS(INDEX(Калькуляция!$T$15:$AM$268,,MATCH(AD$3,Калькуляция!$T$3:$AM$3,0)),Калькуляция!$A$15:$A$268,$A594,Калькуляция!$B$15:$B$268,$B594)","v":{"$error":"#N/A"}},{"$f":"IF(AC594=0,0,(AD594-AC594)/AC594*100)","v":{"$error":"#N/A"}},{"$f":"SUMIFS(INDEX(Калькуляция!$T$15:$AM$268,,MATCH(AF$3,Калькуляция!$T$3:$AM$3,0)),Калькуляция!$A$15:$A$268,$A594,Калькуляция!$B$15:$B$268,$B594)","v":{"$error":"#N/A"}},{"$f":"SUMIFS(INDEX(Калькуляция!$T$15:$AM$268,,MATCH(AG$3,Калькуляция!$T$3:$AM$3,0)),Калькуляция!$A$15:$A$268,$A594,Калькуляция!$B$15:$B$268,$B594)","v":{"$error":"#N/A"}},{"$f":"IF(AF594=0,0,(AG594-AF594)/AF594*100)","v":{"$error":"#N/A"}},{"$f":"SUMIFS(INDEX(Калькуляция!$T$15:$AM$268,,MATCH(AI$3,Калькуляция!$T$3:$AM$3,0)),Калькуляция!$A$15:$A$268,$A594,Калькуляция!$B$15:$B$268,$B594)","v":{"$error":"#N/A"}},{"$f":"SUMIFS(INDEX(Калькуляция!$T$15:$AM$268,,MATCH(AJ$3,Калькуляция!$T$3:$AM$3,0)),Калькуляция!$A$15:$A$268,$A594,Калькуляция!$B$15:$B$268,$B594)","v":{"$error":"#N/A"}},{"$f":"IF(AI594=0,0,(AJ594-AI594)/AI594*100)","v":{"$error":"#N/A"}},{"$f":"SUMIFS(INDEX(Калькуляция!$T$15:$AM$268,,MATCH(AL$3,Калькуляция!$T$3:$AM$3,0)),Калькуляция!$A$15:$A$268,$A594,Калькуляция!$B$15:$B$268,$B594)","v":{"$error":"#N/A"}},{"$f":"SUMIFS(INDEX(Калькуляция!$T$15:$AM$268,,MATCH(AM$3,Калькуляция!$T$3:$AM$3,0)),Калькуляция!$A$15:$A$268,$A594,Калькуляция!$B$15:$B$268,$B594)","v":{"$error":"#N/A"}},{"$f":"IF(AL594=0,0,(AM594-AL594)/AL594*100)","v":{"$error":"#N/A"}},{"$f":"SUMIFS(INDEX(Калькуляция!$T$15:$AM$268,,MATCH(AO$3,Калькуляция!$T$3:$AM$3,0)),Калькуляция!$A$15:$A$268,$A594,Калькуляция!$B$15:$B$268,$B594)","v":{"$error":"#N/A"}},{"$f":"SUMIFS(INDEX(Калькуляция!$T$15:$AM$268,,MATCH(AP$3,Калькуляция!$T$3:$AM$3,0)),Калькуляция!$A$15:$A$268,$A594,Калькуляция!$B$15:$B$268,$B594)","v":{"$error":"#N/A"}},{"$f":"IF(AO594=0,0,(AP594-AO594)/AO594*100)","v":{"$error":"#N/A"}},null,null,{"$f":"IF(AR594=0,0,(AS594-AR594)/AR594*100)","v":0},null,null,{"$f":"IF(AU594=0,0,(AV594-AU594)/AU594*100)","v":0},null,null,{"$f":"IF(AX594=0,0,(AY594-AX594)/AX594*100)","v":0},null,null,{"$f":"IF(BA594=0,0,(BB594-BA594)/BA594*100)","v":0},null,null,{"$f":"IF(BD594=0,0,(BE594-BD594)/BD594*100)","v":0},null,null,{"$f":"IF(BG594=0,0,(BH594-BG594)/BG594*100)","v":0},null,null,{"$f":"IF(BJ594=0,0,(BK594-BJ594)/BJ594*100)","v":0},null,null,{"$f":"IF(BM594=0,0,(BN594-BM594)/BM594*100)","v":0},null,null,{"$f":"IF(BP594=0,0,(BQ594-BP594)/BP594*100)","v":0},null,null,{"$f":"IF(BS594=0,0,(BT594-BS594)/BS594*100)","v":0},null,null,{"$f":"IF(BV594=0,0,(BW594-BV594)/BV594*100)","v":0},null,null,{"$f":"IF(BY594=0,0,(BZ594-BY594)/BY594*100)","v":0},null,null,{"$f":"IF(CB594=0,0,(CC594-CB594)/CB594*100)","v":0},null,null,{"$f":"IF(CE594=0,0,(CF594-CE594)/CE594*100)","v":0},null,null,{"$f":"IF(CH594=0,0,(CI594-CH594)/CH594*100)","v":0},null,null,{"$f":"IF(CK594=0,0,(CL594-CK594)/CK594*100)","v":0},null,null,{"$f":"IF(CN594=0,0,(CO594-CN594)/CN594*100)","v":0},null,null,{"$f":"IF(CQ594=0,0,(CR594-CQ594)/CQ594*100)","v":0},null,null,{"$f":"IF(CT594=0,0,(CU594-CT594)/CT594*100)","v":0},null,null,{"$f":"IF(CW594=0,0,(CX594-CW594)/CW594*100)","v":0},null,null,{"$f":"IF(CZ594=0,0,(DA594-CZ594)/CZ594*100)","v":0},null,null,{"$f":"IF(DC594=0,0,(DD594-DC594)/DC594*100)","v":0},null,null,{"$f":"IF(DF594=0,0,(DG594-DF594)/DF594*100)","v":0},null,null,{"$f":"IF(DI594=0,0,(DJ594-DI594)/DI594*100)","v":0},null,null,{"$f":"IF(DL594=0,0,(DM594-DL594)/DL594*100)","v":0},null,null,{"$f":"IF(DO594=0,0,(DP594-DO594)/DO594*100)","v":0},null,null,{"$f":"IF(DR594=0,0,(DS594-DR594)/DR594*100)","v":0},null,null,{"$f":"IF(DU594=0,0,(DV594-DU594)/DU594*100)","v":0},null,null,{"$f":"IF(DX594=0,0,(DY594-DX594)/DX594*100)","v":0},null,null,{"$f":"IF(EA594=0,0,(EB594-EA594)/EA594*100)","v":0},null,null,{"$f":"IF(ED594=0,0,(EE594-ED594)/ED594*100)","v":0},null,null,{"$f":"IF(EG594=0,0,(EH594-EG594)/EG594*100)","v":0},null,null,{"$f":"IF(EJ594=0,0,(EK594-EJ594)/EJ594*100)","v":0},null,null,{"$f":"IF(EM594=0,0,(EN594-EM594)/EM594*100)","v":0},null,null,{"$f":"IF(EP594=0,0,(EQ594-EP594)/EP594*100)","v":0},null,null,{"$f":"IF(ES594=0,0,(ET594-ES594)/ES594*100)","v":0},null,null,{"$f":"IF(EV594=0,0,(EW594-EV594)/EV594*100)","v":0},null,null,{"$f":"IF(EY594=0,0,(EZ594-EY594)/EY594*100)","v":0},null,null,{"$f":"IF(FB594=0,0,(FC594-FB594)/FB594*100)","v":0},null,null,{"$f":"IF(FE594=0,0,(FF594-FE594)/FE594*100)","v":0}]
["1",null,{"$f":"A595&\"pIns1\"","v":"1pIns1"},null,null,null,{"$f":"F582=\"одноставочный\"","v":true},null,null,"о",null,"Добавить"]
[{"$f":"A594","v":"1"},null,null,null,null,null,{"$f":"F582=\"двухставочный\"","v":false},null,null,null,null,"Двухставочный тариф:"]
["1",null,null,null,null,null,{"$f":"F582=\"двухставочный\"","v":false},null,null,null,null,"Тариф с 01.01 по 30.06 для прочих потребителей без НДС:"]
["1",null,"L2_1_1","для прочих потребителей с 01.01 по 30.06 без НДС",null,null,{"$f":"F582=\"двухставочный\"","v":false},null,null,null,null,"перевод двухставочного тарифа в одноставочный тариф","руб./куб.м",{"$f":"IF(N600=0,0,(N599*N600+N601*N602*6)/N600)","v":{"$error":"#N/A"}},{"$f":"IF(O600=0,0,(O599*O600+O601*O602*6)/O600)","v":{"$error":"#N/A"}},{"$f":"IF(N598=0,0,(O598-N598)/N598*100)","v":{"$error":"#N/A"}},{"$f":"IF(Q600=0,0,(Q599*Q600+Q601*Q602*6)/Q600)","v":{"$error":"#N/A"}},{"$f":"IF(R600=0,0,(R599*R600+R601*R602*6)/R600)","v":{"$error":"#N/A"}},{"$f":"IF(Q598=0,0,(R598-Q598)/Q598*100)","v":{"$error":"#N/A"}},{"$f":"IF(T600=0,0,(T599*T600+T601*T602*6)/T600)","v":{"$error":"#N/A"}},{"$f":"IF(U600=0,0,(U599*U600+U601*U602*6)/U600)","v":{"$error":"#N/A"}},{"$f":"IF(T598=0,0,(U598-T598)/T598*100)","v":{"$error":"#N/A"}},{"$f":"IF(W600=0,0,(W599*W600+W601*W602*6)/W600)","v":{"$error":"#N/A"}},{"$f":"IF(X600=0,0,(X599*X600+X601*X602*6)/X600)","v":{"$error":"#N/A"}},{"$f":"IF(W598=0,0,(X598-W598)/W598*100)","v":{"$error":"#N/A"}},{"$f":"IF(Z600=0,0,(Z599*Z600+Z601*Z602*6)/Z600)","v":{"$error":"#N/A"}},{"$f":"IF(AA600=0,0,(AA599*AA600+AA601*AA602*6)/AA600)","v":{"$error":"#N/A"}},{"$f":"IF(Z598=0,0,(AA598-Z598)/Z598*100)","v":{"$error":"#N/A"}},{"$f":"IF(AC600=0,0,(AC599*AC600+AC601*AC602*6)/AC600)","v":{"$error":"#N/A"}},{"$f":"IF(AD600=0,0,(AD599*AD600+AD601*AD602*6)/AD600)","v":{"$error":"#N/A"}},{"$f":"IF(AC598=0,0,(AD598-AC598)/AC598*100)","v":{"$error":"#N/A"}},{"$f":"IF(AF600=0,0,(AF599*AF600+AF601*AF602*6)/AF600)","v":{"$error":"#N/A"}},{"$f":"IF(AG600=0,0,(AG599*AG600+AG601*AG602*6)/AG600)","v":{"$error":"#N/A"}},{"$f":"IF(AF598=0,0,(AG598-AF598)/AF598*100)","v":{"$error":"#N/A"}},{"$f":"IF(AI600=0,0,(AI599*AI600+AI601*AI602*6)/AI600)","v":{"$error":"#N/A"}},{"$f":"IF(AJ600=0,0,(AJ599*AJ600+AJ601*AJ602*6)/AJ600)","v":{"$error":"#N/A"}},{"$f":"IF(AI598=0,0,(AJ598-AI598)/AI598*100)","v":{"$error":"#N/A"}},{"$f":"IF(AL600=0,0,(AL599*AL600+AL601*AL602*6)/AL600)","v":{"$error":"#N/A"}},{"$f":"IF(AM600=0,0,(AM599*AM600+AM601*AM602*6)/AM600)","v":{"$error":"#N/A"}},{"$f":"IF(AL598=0,0,(AM598-AL598)/AL598*100)","v":{"$error":"#N/A"}},{"$f":"IF(AO600=0,0,(AO599*AO600+AO601*AO602*6)/AO600)","v":{"$error":"#N/A"}},{"$f":"IF(AP600=0,0,(AP599*AP600+AP601*AP602*6)/AP600)","v":{"$error":"#N/A"}},{"$f":"IF(AO598=0,0,(AP598-AO598)/AO598*100)","v":{"$error":"#N/A"}},{"$f":"IF(AR600=0,0,(AR599*AR600+AR601*AR602*6)/AR600)","v":0},{"$f":"IF(AS600=0,0,(AS599*AS600+AS601*AS602*6)/AS600)","v":0},{"$f":"IF(AR598=0,0,(AS598-AR598)/AR598*100)","v":0},{"$f":"IF(AU600=0,0,(AU599*AU600+AU601*AU602*6)/AU600)","v":0},{"$f":"IF(AV600=0,0,(AV599*AV600+AV601*AV602*6)/AV600)","v":0},{"$f":"IF(AU598=0,0,(AV598-AU598)/AU598*100)","v":0},{"$f":"IF(AX600=0,0,(AX599*AX600+AX601*AX602*6)/AX600)","v":0},{"$f":"IF(AY600=0,0,(AY599*AY600+AY601*AY602*6)/AY600)","v":0},{"$f":"IF(AX598=0,0,(AY598-AX598)/AX598*100)","v":0},{"$f":"IF(BA600=0,0,(BA599*BA600+BA601*BA602*6)/BA600)","v":0},{"$f":"IF(BB600=0,0,(BB599*BB600+BB601*BB602*6)/BB600)","v":0},{"$f":"IF(BA598=0,0,(BB598-BA598)/BA598*100)","v":0},{"$f":"IF(BD600=0,0,(BD599*BD600+BD601*BD602*6)/BD600)","v":0},{"$f":"IF(BE600=0,0,(BE599*BE600+BE601*BE602*6)/BE600)","v":0},{"$f":"IF(BD598=0,0,(BE598-BD598)/BD598*100)","v":0},{"$f":"IF(BG600=0,0,(BG599*BG600+BG601*BG602*6)/BG600)","v":0},{"$f":"IF(BH600=0,0,(BH599*BH600+BH601*BH602*6)/BH600)","v":0},{"$f":"IF(BG598=0,0,(BH598-BG598)/BG598*100)","v":0},{"$f":"IF(BJ600=0,0,(BJ599*BJ600+BJ601*BJ602*6)/BJ600)","v":0},{"$f":"IF(BK600=0,0,(BK599*BK600+BK601*BK602*6)/BK600)","v":0},{"$f":"IF(BJ598=0,0,(BK598-BJ598)/BJ598*100)","v":0},{"$f":"IF(BM600=0,0,(BM599*BM600+BM601*BM602*6)/BM600)","v":0},{"$f":"IF(BN600=0,0,(BN599*BN600+BN601*BN602*6)/BN600)","v":0},{"$f":"IF(BM598=0,0,(BN598-BM598)/BM598*100)","v":0},{"$f":"IF(BP600=0,0,(BP599*BP600+BP601*BP602*6)/BP600)","v":0},{"$f":"IF(BQ600=0,0,(BQ599*BQ600+BQ601*BQ602*6)/BQ600)","v":0},{"$f":"IF(BP598=0,0,(BQ598-BP598)/BP598*100)","v":0},{"$f":"IF(BS600=0,0,(BS599*BS600+BS601*BS602*6)/BS600)","v":0},{"$f":"IF(BT600=0,0,(BT599*BT600+BT601*BT602*6)/BT600)","v":0},{"$f":"IF(BS598=0,0,(BT598-BS598)/BS598*100)","v":0},{"$f":"IF(BV600=0,0,(BV599*BV600+BV601*BV602*6)/BV600)","v":0},{"$f":"IF(BW600=0,0,(BW599*BW600+BW601*BW602*6)/BW600)","v":0},{"$f":"IF(BV598=0,0,(BW598-BV598)/BV598*100)","v":0},{"$f":"IF(BY600=0,0,(BY599*BY600+BY601*BY602*6)/BY600)","v":0},{"$f":"IF(BZ600=0,0,(BZ599*BZ600+BZ601*BZ602*6)/BZ600)","v":0},{"$f":"IF(BY598=0,0,(BZ598-BY598)/BY598*100)","v":0},{"$f":"IF(CB600=0,0,(CB599*CB600+CB601*CB602*6)/CB600)","v":0},{"$f":"IF(CC600=0,0,(CC599*CC600+CC601*CC602*6)/CC600)","v":0},{"$f":"IF(CB598=0,0,(CC598-CB598)/CB598*100)","v":0},{"$f":"IF(CE600=0,0,(CE599*CE600+CE601*CE602*6)/CE600)","v":0},{"$f":"IF(CF600=0,0,(CF599*CF600+CF601*CF602*6)/CF600)","v":0},{"$f":"IF(CE598=0,0,(CF598-CE598)/CE598*100)","v":0},{"$f":"IF(CH600=0,0,(CH599*CH600+CH601*CH602*6)/CH600)","v":0},{"$f":"IF(CI600=0,0,(CI599*CI600+CI601*CI602*6)/CI600)","v":0},{"$f":"IF(CH598=0,0,(CI598-CH598)/CH598*100)","v":0},{"$f":"IF(CK600=0,0,(CK599*CK600+CK601*CK602*6)/CK600)","v":0},{"$f":"IF(CL600=0,0,(CL599*CL600+CL601*CL602*6)/CL600)","v":0},{"$f":"IF(CK598=0,0,(CL598-CK598)/CK598*100)","v":0},{"$f":"IF(CN600=0,0,(CN599*CN600+CN601*CN602*6)/CN600)","v":0},{"$f":"IF(CO600=0,0,(CO599*CO600+CO601*CO602*6)/CO600)","v":0},{"$f":"IF(CN598=0,0,(CO598-CN598)/CN598*100)","v":0},{"$f":"IF(CQ600=0,0,(CQ599*CQ600+CQ601*CQ602*6)/CQ600)","v":0},{"$f":"IF(CR600=0,0,(CR599*CR600+CR601*CR602*6)/CR600)","v":0},{"$f":"IF(CQ598=0,0,(CR598-CQ598)/CQ598*100)","v":0},{"$f":"IF(CT600=0,0,(CT599*CT600+CT601*CT602*6)/CT600)","v":0},{"$f":"IF(CU600=0,0,(CU599*CU600+CU601*CU602*6)/CU600)","v":0},{"$f":"IF(CT598=0,0,(CU598-CT598)/CT598*100)","v":0},{"$f":"IF(CW600=0,0,(CW599*CW600+CW601*CW602*6)/CW600)","v":0},{"$f":"IF(CX600=0,0,(CX599*CX600+CX601*CX602*6)/CX600)","v":0},{"$f":"IF(CW598=0,0,(CX598-CW598)/CW598*100)","v":0},{"$f":"IF(CZ600=0,0,(CZ599*CZ600+CZ601*CZ602*6)/CZ600)","v":0},{"$f":"IF(DA600=0,0,(DA599*DA600+DA601*DA602*6)/DA600)","v":0},{"$f":"IF(CZ598=0,0,(DA598-CZ598)/CZ598*100)","v":0},{"$f":"IF(DC600=0,0,(DC599*DC600+DC601*DC602*6)/DC600)","v":0},{"$f":"IF(DD600=0,0,(DD599*DD600+DD601*DD602*6)/DD600)","v":0},{"$f":"IF(DC598=0,0,(DD598-DC598)/DC598*100)","v":0},{"$f":"IF(DF600=0,0,(DF599*DF600+DF601*DF602*6)/DF600)","v":0},{"$f":"IF(DG600=0,0,(DG599*DG600+DG601*DG602*6)/DG600)","v":0},{"$f":"IF(DF598=0,0,(DG598-DF598)/DF598*100)","v":0},{"$f":"IF(DI600=0,0,(DI599*DI600+DI601*DI602*6)/DI600)","v":0},{"$f":"IF(DJ600=0,0,(DJ599*DJ600+DJ601*DJ602*6)/DJ600)","v":0},{"$f":"IF(DI598=0,0,(DJ598-DI598)/DI598*100)","v":0},{"$f":"IF(DL600=0,0,(DL599*DL600+DL601*DL602*6)/DL600)","v":0},{"$f":"IF(DM600=0,0,(DM599*DM600+DM601*DM602*6)/DM600)","v":0},{"$f":"IF(DL598=0,0,(DM598-DL598)/DL598*100)","v":0},{"$f":"IF(DO600=0,0,(DO599*DO600+DO601*DO602*6)/DO600)","v":0},{"$f":"IF(DP600=0,0,(DP599*DP600+DP601*DP602*6)/DP600)","v":0},{"$f":"IF(DO598=0,0,(DP598-DO598)/DO598*100)","v":0},{"$f":"IF(DR600=0,0,(DR599*DR600+DR601*DR602*6)/DR600)","v":0},{"$f":"IF(DS600=0,0,(DS599*DS600+DS601*DS602*6)/DS600)","v":0},{"$f":"IF(DR598=0,0,(DS598-DR598)/DR598*100)","v":0},{"$f":"IF(DU600=0,0,(DU599*DU600+DU601*DU602*6)/DU600)","v":0},{"$f":"IF(DV600=0,0,(DV599*DV600+DV601*DV602*6)/DV600)","v":0},{"$f":"IF(DU598=0,0,(DV598-DU598)/DU598*100)","v":0},{"$f":"IF(DX600=0,0,(DX599*DX600+DX601*DX602*6)/DX600)","v":0},{"$f":"IF(DY600=0,0,(DY599*DY600+DY601*DY602*6)/DY600)","v":0},{"$f":"IF(DX598=0,0,(DY598-DX598)/DX598*100)","v":0},{"$f":"IF(EA600=0,0,(EA599*EA600+EA601*EA602*6)/EA600)","v":0},{"$f":"IF(EB600=0,0,(EB599*EB600+EB601*EB602*6)/EB600)","v":0},{"$f":"IF(EA598=0,0,(EB598-EA598)/EA598*100)","v":0},{"$f":"IF(ED600=0,0,(ED599*ED600+ED601*ED602*6)/ED600)","v":0},{"$f":"IF(EE600=0,0,(EE599*EE600+EE601*EE602*6)/EE600)","v":0},{"$f":"IF(ED598=0,0,(EE598-ED598)/ED598*100)","v":0},{"$f":"IF(EG600=0,0,(EG599*EG600+EG601*EG602*6)/EG600)","v":0},{"$f":"IF(EH600=0,0,(EH599*EH600+EH601*EH602*6)/EH600)","v":0},{"$f":"IF(EG598=0,0,(EH598-EG598)/EG598*100)","v":0},{"$f":"IF(EJ600=0,0,(EJ599*EJ600+EJ601*EJ602*6)/EJ600)","v":0},{"$f":"IF(EK600=0,0,(EK599*EK600+EK601*EK602*6)/EK600)","v":0},{"$f":"IF(EJ598=0,0,(EK598-EJ598)/EJ598*100)","v":0},{"$f":"IF(EM600=0,0,(EM599*EM600+EM601*EM602*6)/EM600)","v":0},{"$f":"IF(EN600=0,0,(EN599*EN600+EN601*EN602*6)/EN600)","v":0},{"$f":"IF(EM598=0,0,(EN598-EM598)/EM598*100)","v":0},{"$f":"IF(EP600=0,0,(EP599*EP600+EP601*EP602*6)/EP600)","v":0},{"$f":"IF(EQ600=0,0,(EQ599*EQ600+EQ601*EQ602*6)/EQ600)","v":0},{"$f":"IF(EP598=0,0,(EQ598-EP598)/EP598*100)","v":0},{"$f":"IF(ES600=0,0,(ES599*ES600+ES601*ES602*6)/ES600)","v":0},{"$f":"IF(ET600=0,0,(ET599*ET600+ET601*ET602*6)/ET600)","v":0},{"$f":"IF(ES598=0,0,(ET598-ES598)/ES598*100)","v":0},{"$f":"IF(EV600=0,0,(EV599*EV600+EV601*EV602*6)/EV600)","v":0},{"$f":"IF(EW600=0,0,(EW599*EW600+EW601*EW602*6)/EW600)","v":0},{"$f":"IF(EV598=0,0,(EW598-EV598)/EV598*100)","v":0},{"$f":"IF(EY600=0,0,(EY599*EY600+EY601*EY602*6)/EY600)","v":0},{"$f":"IF(EZ600=0,0,(EZ599*EZ600+EZ601*EZ602*6)/EZ600)","v":0},{"$f":"IF(EY598=0,0,(EZ598-EY598)/EY598*100)","v":0},{"$f":"IF(FB600=0,0,(FB599*FB600+FB601*FB602*6)/FB600)","v":0},{"$f":"IF(FC600=0,0,(FC599*FC600+FC601*FC602*6)/FC600)","v":0},{"$f":"IF(FB598=0,0,(FC598-FB598)/FB598*100)","v":0},{"$f":"IF(FE600=0,0,(FE599*FE600+FE601*FE602*6)/FE600)","v":0},{"$f":"IF(FF600=0,0,(FF599*FF600+FF601*FF602*6)/FF600)","v":0},{"$f":"IF(FE598=0,0,(FF598-FE598)/FE598*100)","v":0}]
["1",null,"L2_1_2","для прочих потребителей с 01.01 по 30.06 без НДС",null,null,{"$f":"F582=\"двухставочный\"","v":false},null,null,null,null,"ставка платы за потребление 1 куб.м холодной воды","руб./куб.м",null,null,{"$f":"IF(N599=0,0,(O599-N599)/N599*100)","v":0},null,null,{"$f":"IF(Q599=0,0,(R599-Q599)/Q599*100)","v":0},null,null,{"$f":"IF(T599=0,0,(U599-T599)/T599*100)","v":0},null,null,{"$f":"IF(W599=0,0,(X599-W599)/W599*100)","v":0},null,null,{"$f":"IF(Z599=0,0,(AA599-Z599)/Z599*100)","v":0},null,null,{"$f":"IF(AC599=0,0,(AD599-AC599)/AC599*100)","v":0},null,null,{"$f":"IF(AF599=0,0,(AG599-AF599)/AF599*100)","v":0},null,null,{"$f":"IF(AI599=0,0,(AJ599-AI599)/AI599*100)","v":0},null,null,{"$f":"IF(AL599=0,0,(AM599-AL599)/AL599*100)","v":0},null,null,{"$f":"IF(AO599=0,0,(AP599-AO599)/AO599*100)","v":0},null,null,{"$f":"IF(AR599=0,0,(AS599-AR599)/AR599*100)","v":0},null,null,{"$f":"IF(AU599=0,0,(AV599-AU599)/AU599*100)","v":0},null,null,{"$f":"IF(AX599=0,0,(AY599-AX599)/AX599*100)","v":0},null,null,{"$f":"IF(BA599=0,0,(BB599-BA599)/BA599*100)","v":0},null,null,{"$f":"IF(BD599=0,0,(BE599-BD599)/BD599*100)","v":0},null,null,{"$f":"IF(BG599=0,0,(BH599-BG599)/BG599*100)","v":0},null,null,{"$f":"IF(BJ599=0,0,(BK599-BJ599)/BJ599*100)","v":0},null,null,{"$f":"IF(BM599=0,0,(BN599-BM599)/BM599*100)","v":0},null,null,{"$f":"IF(BP599=0,0,(BQ599-BP599)/BP599*100)","v":0},null,null,{"$f":"IF(BS599=0,0,(BT599-BS599)/BS599*100)","v":0},null,null,{"$f":"IF(BV599=0,0,(BW599-BV599)/BV599*100)","v":0},null,null,{"$f":"IF(BY599=0,0,(BZ599-BY599)/BY599*100)","v":0},null,null,{"$f":"IF(CB599=0,0,(CC599-CB599)/CB599*100)","v":0},null,null,{"$f":"IF(CE599=0,0,(CF599-CE599)/CE599*100)","v":0},null,null,{"$f":"IF(CH599=0,0,(CI599-CH599)/CH599*100)","v":0},null,null,{"$f":"IF(CK599=0,0,(CL599-CK599)/CK599*100)","v":0},null,null,{"$f":"IF(CN599=0,0,(CO599-CN599)/CN599*100)","v":0},null,null,{"$f":"IF(CQ599=0,0,(CR599-CQ599)/CQ599*100)","v":0},null,null,{"$f":"IF(CT599=0,0,(CU599-CT599)/CT599*100)","v":0},null,null,{"$f":"IF(CW599=0,0,(CX599-CW599)/CW599*100)","v":0},null,null,{"$f":"IF(CZ599=0,0,(DA599-CZ599)/CZ599*100)","v":0},null,null,{"$f":"IF(DC599=0,0,(DD599-DC599)/DC599*100)","v":0},null,null,{"$f":"IF(DF599=0,0,(DG599-DF599)/DF599*100)","v":0},null,null,{"$f":"IF(DI599=0,0,(DJ599-DI599)/DI599*100)","v":0},null,null,{"$f":"IF(DL599=0,0,(DM599-DL599)/DL599*100)","v":0},null,null,{"$f":"IF(DO599=0,0,(DP599-DO599)/DO599*100)","v":0},null,null,{"$f":"IF(DR599=0,0,(DS599-DR599)/DR599*100)","v":0},null,null,{"$f":"IF(DU599=0,0,(DV599-DU599)/DU599*100)","v":0},null,null,{"$f":"IF(DX599=0,0,(DY599-DX599)/DX599*100)","v":0},null,null,{"$f":"IF(EA599=0,0,(EB599-EA599)/EA599*100)","v":0},null,null,{"$f":"IF(ED599=0,0,(EE599-ED599)/ED599*100)","v":0},null,null,{"$f":"IF(EG599=0,0,(EH599-EG599)/EG599*100)","v":0},null,null,{"$f":"IF(EJ599=0,0,(EK599-EJ599)/EJ599*100)","v":0},null,null,{"$f":"IF(EM599=0,0,(EN599-EM599)/EM599*100)","v":0},null,null,{"$f":"IF(EP599=0,0,(EQ599-EP599)/EP599*100)","v":0},null,null,{"$f":"IF(ES599=0,0,(ET599-ES599)/ES599*100)","v":0},null,null,{"$f":"IF(EV599=0,0,(EW599-EV599)/EV599*100)","v":0},null,null,{"$f":"IF(EY599=0,0,(EZ599-EY599)/EY599*100)","v":0},null,null,{"$f":"IF(FB599=0,0,(FC599-FB599)/FB599*100)","v":0},null,null,{"$f":"IF(FE599=0,0,(FF599-FE599)/FE599*100)","v":0}]
["1","ПО.прочие.I","L2_1_3","для прочих потребителей с 01.01 по 30.06 без НДС",null,null,{"$f":"F582=\"двухставочный\"","v":false},null,null,null,null,"объём потребления холодной воды","тыс.куб.м",{"$f":"SUMIFS(INDEX(Калькуляция!$T$15:$AM$268,,MATCH(N$3,Калькуляция!$T$3:$AM$3,0)),Калькуляция!$A$15:$A$268,$A600,Калькуляция!$B$15:$B$268,$B600)","v":{"$error":"#N/A"}},{"$f":"SUMIFS(INDEX(Калькуляция!$T$15:$AM$268,,MATCH(O$3,Калькуляция!$T$3:$AM$3,0)),Калькуляция!$A$15:$A$268,$A600,Калькуляция!$B$15:$B$268,$B600)","v":{"$error":"#N/A"}},{"$f":"IF(N600=0,0,(O600-N600)/N600*100)","v":{"$error":"#N/A"}},{"$f":"SUMIFS(INDEX(Калькуляция!$T$15:$AM$268,,MATCH(Q$3,Калькуляция!$T$3:$AM$3,0)),Калькуляция!$A$15:$A$268,$A600,Калькуляция!$B$15:$B$268,$B600)","v":{"$error":"#N/A"}},{"$f":"SUMIFS(INDEX(Калькуляция!$T$15:$AM$268,,MATCH(R$3,Калькуляция!$T$3:$AM$3,0)),Калькуляция!$A$15:$A$268,$A600,Калькуляция!$B$15:$B$268,$B600)","v":{"$error":"#N/A"}},{"$f":"IF(Q600=0,0,(R600-Q600)/Q600*100)","v":{"$error":"#N/A"}},{"$f":"SUMIFS(INDEX(Калькуляция!$T$15:$AM$268,,MATCH(T$3,Калькуляция!$T$3:$AM$3,0)),Калькуляция!$A$15:$A$268,$A600,Калькуляция!$B$15:$B$268,$B600)","v":{"$error":"#N/A"}},{"$f":"SUMIFS(INDEX(Калькуляция!$T$15:$AM$268,,MATCH(U$3,Калькуляция!$T$3:$AM$3,0)),Калькуляция!$A$15:$A$268,$A600,Калькуляция!$B$15:$B$268,$B600)","v":{"$error":"#N/A"}},{"$f":"IF(T600=0,0,(U600-T600)/T600*100)","v":{"$error":"#N/A"}},{"$f":"SUMIFS(INDEX(Калькуляция!$T$15:$AM$268,,MATCH(W$3,Калькуляция!$T$3:$AM$3,0)),Калькуляция!$A$15:$A$268,$A600,Калькуляция!$B$15:$B$268,$B600)","v":{"$error":"#N/A"}},{"$f":"SUMIFS(INDEX(Калькуляция!$T$15:$AM$268,,MATCH(X$3,Калькуляция!$T$3:$AM$3,0)),Калькуляция!$A$15:$A$268,$A600,Калькуляция!$B$15:$B$268,$B600)","v":{"$error":"#N/A"}},{"$f":"IF(W600=0,0,(X600-W600)/W600*100)","v":{"$error":"#N/A"}},{"$f":"SUMIFS(INDEX(Калькуляция!$T$15:$AM$268,,MATCH(Z$3,Калькуляция!$T$3:$AM$3,0)),Калькуляция!$A$15:$A$268,$A600,Калькуляция!$B$15:$B$268,$B600)","v":{"$error":"#N/A"}},{"$f":"SUMIFS(INDEX(Калькуляция!$T$15:$AM$268,,MATCH(AA$3,Калькуляция!$T$3:$AM$3,0)),Калькуляция!$A$15:$A$268,$A600,Калькуляция!$B$15:$B$268,$B600)","v":{"$error":"#N/A"}},{"$f":"IF(Z600=0,0,(AA600-Z600)/Z600*100)","v":{"$error":"#N/A"}},{"$f":"SUMIFS(INDEX(Калькуляция!$T$15:$AM$268,,MATCH(AC$3,Калькуляция!$T$3:$AM$3,0)),Калькуляция!$A$15:$A$268,$A600,Калькуляция!$B$15:$B$268,$B600)","v":{"$error":"#N/A"}},{"$f":"SUMIFS(INDEX(Калькуляция!$T$15:$AM$268,,MATCH(AD$3,Калькуляция!$T$3:$AM$3,0)),Калькуляция!$A$15:$A$268,$A600,Калькуляция!$B$15:$B$268,$B600)","v":{"$error":"#N/A"}},{"$f":"IF(AC600=0,0,(AD600-AC600)/AC600*100)","v":{"$error":"#N/A"}},{"$f":"SUMIFS(INDEX(Калькуляция!$T$15:$AM$268,,MATCH(AF$3,Калькуляция!$T$3:$AM$3,0)),Калькуляция!$A$15:$A$268,$A600,Калькуляция!$B$15:$B$268,$B600)","v":{"$error":"#N/A"}},{"$f":"SUMIFS(INDEX(Калькуляция!$T$15:$AM$268,,MATCH(AG$3,Калькуляция!$T$3:$AM$3,0)),Калькуляция!$A$15:$A$268,$A600,Калькуляция!$B$15:$B$268,$B600)","v":{"$error":"#N/A"}},{"$f":"IF(AF600=0,0,(AG600-AF600)/AF600*100)","v":{"$error":"#N/A"}},{"$f":"SUMIFS(INDEX(Калькуляция!$T$15:$AM$268,,MATCH(AI$3,Калькуляция!$T$3:$AM$3,0)),Калькуляция!$A$15:$A$268,$A600,Калькуляция!$B$15:$B$268,$B600)","v":{"$error":"#N/A"}},{"$f":"SUMIFS(INDEX(Калькуляция!$T$15:$AM$268,,MATCH(AJ$3,Калькуляция!$T$3:$AM$3,0)),Калькуляция!$A$15:$A$268,$A600,Калькуляция!$B$15:$B$268,$B600)","v":{"$error":"#N/A"}},{"$f":"IF(AI600=0,0,(AJ600-AI600)/AI600*100)","v":{"$error":"#N/A"}},{"$f":"SUMIFS(INDEX(Калькуляция!$T$15:$AM$268,,MATCH(AL$3,Калькуляция!$T$3:$AM$3,0)),Калькуляция!$A$15:$A$268,$A600,Калькуляция!$B$15:$B$268,$B600)","v":{"$error":"#N/A"}},{"$f":"SUMIFS(INDEX(Калькуляция!$T$15:$AM$268,,MATCH(AM$3,Калькуляция!$T$3:$AM$3,0)),Калькуляция!$A$15:$A$268,$A600,Калькуляция!$B$15:$B$268,$B600)","v":{"$error":"#N/A"}},{"$f":"IF(AL600=0,0,(AM600-AL600)/AL600*100)","v":{"$error":"#N/A"}},{"$f":"SUMIFS(INDEX(Калькуляция!$T$15:$AM$268,,MATCH(AO$3,Калькуляция!$T$3:$AM$3,0)),Калькуляция!$A$15:$A$268,$A600,Калькуляция!$B$15:$B$268,$B600)","v":{"$error":"#N/A"}},{"$f":"SUMIFS(INDEX(Калькуляция!$T$15:$AM$268,,MATCH(AP$3,Калькуляция!$T$3:$AM$3,0)),Калькуляция!$A$15:$A$268,$A600,Калькуляция!$B$15:$B$268,$B600)","v":{"$error":"#N/A"}},{"$f":"IF(AO600=0,0,(AP600-AO600)/AO600*100)","v":{"$error":"#N/A"}},null,null,{"$f":"IF(AR600=0,0,(AS600-AR600)/AR600*100)","v":0},null,null,{"$f":"IF(AU600=0,0,(AV600-AU600)/AU600*100)","v":0},null,null,{"$f":"IF(AX600=0,0,(AY600-AX600)/AX600*100)","v":0},null,null,{"$f":"IF(BA600=0,0,(BB600-BA600)/BA600*100)","v":0},null,null,{"$f":"IF(BD600=0,0,(BE600-BD600)/BD600*100)","v":0},null,null,{"$f":"IF(BG600=0,0,(BH600-BG600)/BG600*100)","v":0},null,null,{"$f":"IF(BJ600=0,0,(BK600-BJ600)/BJ600*100)","v":0},null,null,{"$f":"IF(BM600=0,0,(BN600-BM600)/BM600*100)","v":0},null,null,{"$f":"IF(BP600=0,0,(BQ600-BP600)/BP600*100)","v":0},null,null,{"$f":"IF(BS600=0,0,(BT600-BS600)/BS600*100)","v":0},null,null,{"$f":"IF(BV600=0,0,(BW600-BV600)/BV600*100)","v":0},null,null,{"$f":"IF(BY600=0,0,(BZ600-BY600)/BY600*100)","v":0},null,null,{"$f":"IF(CB600=0,0,(CC600-CB600)/CB600*100)","v":0},null,null,{"$f":"IF(CE600=0,0,(CF600-CE600)/CE600*100)","v":0},null,null,{"$f":"IF(CH600=0,0,(CI600-CH600)/CH600*100)","v":0},null,null,{"$f":"IF(CK600=0,0,(CL600-CK600)/CK600*100)","v":0},null,null,{"$f":"IF(CN600=0,0,(CO600-CN600)/CN600*100)","v":0},null,null,{"$f":"IF(CQ600=0,0,(CR600-CQ600)/CQ600*100)","v":0},null,null,{"$f":"IF(CT600=0,0,(CU600-CT600)/CT600*100)","v":0},null,null,{"$f":"IF(CW600=0,0,(CX600-CW600)/CW600*100)","v":0},null,null,{"$f":"IF(CZ600=0,0,(DA600-CZ600)/CZ600*100)","v":0},null,null,{"$f":"IF(DC600=0,0,(DD600-DC600)/DC600*100)","v":0},null,null,{"$f":"IF(DF600=0,0,(DG600-DF600)/DF600*100)","v":0},null,null,{"$f":"IF(DI600=0,0,(DJ600-DI600)/DI600*100)","v":0},null,null,{"$f":"IF(DL600=0,0,(DM600-DL600)/DL600*100)","v":0},null,null,{"$f":"IF(DO600=0,0,(DP600-DO600)/DO600*100)","v":0},null,null,{"$f":"IF(DR600=0,0,(DS600-DR600)/DR600*100)","v":0},null,null,{"$f":"IF(DU600=0,0,(DV600-DU600)/DU600*100)","v":0},null,null,{"$f":"IF(DX600=0,0,(DY600-DX600)/DX600*100)","v":0},null,null,{"$f":"IF(EA600=0,0,(EB600-EA600)/EA600*100)","v":0},null,null,{"$f":"IF(ED600=0,0,(EE600-ED600)/ED600*100)","v":0},null,null,{"$f":"IF(EG600=0,0,(EH600-EG600)/EG600*100)","v":0},null,null,{"$f":"IF(EJ600=0,0,(EK600-EJ600)/EJ600*100)","v":0},null,null,{"$f":"IF(EM600=0,0,(EN600-EM600)/EM600*100)","v":0},null,null,{"$f":"IF(EP600=0,0,(EQ600-EP600)/EP600*100)","v":0},null,null,{"$f":"IF(ES600=0,0,(ET600-ES600)/ES600*100)","v":0},null,null,{"$f":"IF(EV600=0,0,(EW600-EV600)/EV600*100)","v":0},null,null,{"$f":"IF(EY600=0,0,(EZ600-EY600)/EY600*100)","v":0},null,null,{"$f":"IF(FB600=0,0,(FC600-FB600)/FB600*100)","v":0},null,null,{"$f":"IF(FE600=0,0,(FF600-FE600)/FE600*100)","v":0}]
["1",null,"L2_1_4","для прочих потребителей с 01.01 по 30.06 без НДС",null,null,{"$f":"F582=\"двухставочный\"","v":false},null,null,null,null,"ставка платы за содержание системы холодного водоснабжения","тыс.руб./куб.м*час/в месяц",null,null,{"$f":"IF(N601=0,0,(O601-N601)/N601*100)","v":0},null,null,{"$f":"IF(Q601=0,0,(R601-Q601)/Q601*100)","v":0},null,null,{"$f":"IF(T601=0,0,(U601-T601)/T601*100)","v":0},null,null,{"$f":"IF(W601=0,0,(X601-W601)/W601*100)","v":0},null,null,{"$f":"IF(Z601=0,0,(AA601-Z601)/Z601*100)","v":0},null,null,{"$f":"IF(AC601=0,0,(AD601-AC601)/AC601*100)","v":0},null,null,{"$f":"IF(AF601=0,0,(AG601-AF601)/AF601*100)","v":0},null,null,{"$f":"IF(AI601=0,0,(AJ601-AI601)/AI601*100)","v":0},null,null,{"$f":"IF(AL601=0,0,(AM601-AL601)/AL601*100)","v":0},null,null,{"$f":"IF(AO601=0,0,(AP601-AO601)/AO601*100)","v":0},null,null,{"$f":"IF(AR601=0,0,(AS601-AR601)/AR601*100)","v":0},null,null,{"$f":"IF(AU601=0,0,(AV601-AU601)/AU601*100)","v":0},null,null,{"$f":"IF(AX601=0,0,(AY601-AX601)/AX601*100)","v":0},null,null,{"$f":"IF(BA601=0,0,(BB601-BA601)/BA601*100)","v":0},null,null,{"$f":"IF(BD601=0,0,(BE601-BD601)/BD601*100)","v":0},null,null,{"$f":"IF(BG601=0,0,(BH601-BG601)/BG601*100)","v":0},null,null,{"$f":"IF(BJ601=0,0,(BK601-BJ601)/BJ601*100)","v":0},null,null,{"$f":"IF(BM601=0,0,(BN601-BM601)/BM601*100)","v":0},null,null,{"$f":"IF(BP601=0,0,(BQ601-BP601)/BP601*100)","v":0},null,null,{"$f":"IF(BS601=0,0,(BT601-BS601)/BS601*100)","v":0},null,null,{"$f":"IF(BV601=0,0,(BW601-BV601)/BV601*100)","v":0},null,null,{"$f":"IF(BY601=0,0,(BZ601-BY601)/BY601*100)","v":0},null,null,{"$f":"IF(CB601=0,0,(CC601-CB601)/CB601*100)","v":0},null,null,{"$f":"IF(CE601=0,0,(CF601-CE601)/CE601*100)","v":0},null,null,{"$f":"IF(CH601=0,0,(CI601-CH601)/CH601*100)","v":0},null,null,{"$f":"IF(CK601=0,0,(CL601-CK601)/CK601*100)","v":0},null,null,{"$f":"IF(CN601=0,0,(CO601-CN601)/CN601*100)","v":0},null,null,{"$f":"IF(CQ601=0,0,(CR601-CQ601)/CQ601*100)","v":0},null,null,{"$f":"IF(CT601=0,0,(CU601-CT601)/CT601*100)","v":0},null,null,{"$f":"IF(CW601=0,0,(CX601-CW601)/CW601*100)","v":0},null,null,{"$f":"IF(CZ601=0,0,(DA601-CZ601)/CZ601*100)","v":0},null,null,{"$f":"IF(DC601=0,0,(DD601-DC601)/DC601*100)","v":0},null,null,{"$f":"IF(DF601=0,0,(DG601-DF601)/DF601*100)","v":0},null,null,{"$f":"IF(DI601=0,0,(DJ601-DI601)/DI601*100)","v":0},null,null,{"$f":"IF(DL601=0,0,(DM601-DL601)/DL601*100)","v":0},null,null,{"$f":"IF(DO601=0,0,(DP601-DO601)/DO601*100)","v":0},null,null,{"$f":"IF(DR601=0,0,(DS601-DR601)/DR601*100)","v":0},null,null,{"$f":"IF(DU601=0,0,(DV601-DU601)/DU601*100)","v":0},null,null,{"$f":"IF(DX601=0,0,(DY601-DX601)/DX601*100)","v":0},null,null,{"$f":"IF(EA601=0,0,(EB601-EA601)/EA601*100)","v":0},null,null,{"$f":"IF(ED601=0,0,(EE601-ED601)/ED601*100)","v":0},null,null,{"$f":"IF(EG601=0,0,(EH601-EG601)/EG601*100)","v":0},null,null,{"$f":"IF(EJ601=0,0,(EK601-EJ601)/EJ601*100)","v":0},null,null,{"$f":"IF(EM601=0,0,(EN601-EM601)/EM601*100)","v":0},null,null,{"$f":"IF(EP601=0,0,(EQ601-EP601)/EP601*100)","v":0},null,null,{"$f":"IF(ES601=0,0,(ET601-ES601)/ES601*100)","v":0},null,null,{"$f":"IF(EV601=0,0,(EW601-EV601)/EV601*100)","v":0},null,null,{"$f":"IF(EY601=0,0,(EZ601-EY601)/EY601*100)","v":0},null,null,{"$f":"IF(FB601=0,0,(FC601-FB601)/FB601*100)","v":0},null,null,{"$f":"IF(FE601=0,0,(FF601-FE601)/FE601*100)","v":0}]
["1",null,"L2_1_5","для прочих потребителей с 01.01 по 30.06 без НДС",null,null,{"$f":"F582=\"двухставочный\"","v":false},null,null,null,null,"величина присоединённой мощности","куб.м*час",null,null,{"$f":"IF(N602=0,0,(O602-N602)/N602*100)","v":0},null,null,{"$f":"IF(Q602=0,0,(R602-Q602)/Q602*100)","v":0},null,null,{"$f":"IF(T602=0,0,(U602-T602)/T602*100)","v":0},null,null,{"$f":"IF(W602=0,0,(X602-W602)/W602*100)","v":0},null,null,{"$f":"IF(Z602=0,0,(AA602-Z602)/Z602*100)","v":0},null,null,{"$f":"IF(AC602=0,0,(AD602-AC602)/AC602*100)","v":0},null,null,{"$f":"IF(AF602=0,0,(AG602-AF602)/AF602*100)","v":0},null,null,{"$f":"IF(AI602=0,0,(AJ602-AI602)/AI602*100)","v":0},null,null,{"$f":"IF(AL602=0,0,(AM602-AL602)/AL602*100)","v":0},null,null,{"$f":"IF(AO602=0,0,(AP602-AO602)/AO602*100)","v":0},null,null,{"$f":"IF(AR602=0,0,(AS602-AR602)/AR602*100)","v":0},null,null,{"$f":"IF(AU602=0,0,(AV602-AU602)/AU602*100)","v":0},null,null,{"$f":"IF(AX602=0,0,(AY602-AX602)/AX602*100)","v":0},null,null,{"$f":"IF(BA602=0,0,(BB602-BA602)/BA602*100)","v":0},null,null,{"$f":"IF(BD602=0,0,(BE602-BD602)/BD602*100)","v":0},null,null,{"$f":"IF(BG602=0,0,(BH602-BG602)/BG602*100)","v":0},null,null,{"$f":"IF(BJ602=0,0,(BK602-BJ602)/BJ602*100)","v":0},null,null,{"$f":"IF(BM602=0,0,(BN602-BM602)/BM602*100)","v":0},null,null,{"$f":"IF(BP602=0,0,(BQ602-BP602)/BP602*100)","v":0},null,null,{"$f":"IF(BS602=0,0,(BT602-BS602)/BS602*100)","v":0},null,null,{"$f":"IF(BV602=0,0,(BW602-BV602)/BV602*100)","v":0},null,null,{"$f":"IF(BY602=0,0,(BZ602-BY602)/BY602*100)","v":0},null,null,{"$f":"IF(CB602=0,0,(CC602-CB602)/CB602*100)","v":0},null,null,{"$f":"IF(CE602=0,0,(CF602-CE602)/CE602*100)","v":0},null,null,{"$f":"IF(CH602=0,0,(CI602-CH602)/CH602*100)","v":0},null,null,{"$f":"IF(CK602=0,0,(CL602-CK602)/CK602*100)","v":0},null,null,{"$f":"IF(CN602=0,0,(CO602-CN602)/CN602*100)","v":0},null,null,{"$f":"IF(CQ602=0,0,(CR602-CQ602)/CQ602*100)","v":0},null,null,{"$f":"IF(CT602=0,0,(CU602-CT602)/CT602*100)","v":0},null,null,{"$f":"IF(CW602=0,0,(CX602-CW602)/CW602*100)","v":0},null,null,{"$f":"IF(CZ602=0,0,(DA602-CZ602)/CZ602*100)","v":0},null,null,{"$f":"IF(DC602=0,0,(DD602-DC602)/DC602*100)","v":0},null,null,{"$f":"IF(DF602=0,0,(DG602-DF602)/DF602*100)","v":0},null,null,{"$f":"IF(DI602=0,0,(DJ602-DI602)/DI602*100)","v":0},null,null,{"$f":"IF(DL602=0,0,(DM602-DL602)/DL602*100)","v":0},null,null,{"$f":"IF(DO602=0,0,(DP602-DO602)/DO602*100)","v":0},null,null,{"$f":"IF(DR602=0,0,(DS602-DR602)/DR602*100)","v":0},null,null,{"$f":"IF(DU602=0,0,(DV602-DU602)/DU602*100)","v":0},null,null,{"$f":"IF(DX602=0,0,(DY602-DX602)/DX602*100)","v":0},null,null,{"$f":"IF(EA602=0,0,(EB602-EA602)/EA602*100)","v":0},null,null,{"$f":"IF(ED602=0,0,(EE602-ED602)/ED602*100)","v":0},null,null,{"$f":"IF(EG602=0,0,(EH602-EG602)/EG602*100)","v":0},null,null,{"$f":"IF(EJ602=0,0,(EK602-EJ602)/EJ602*100)","v":0},null,null,{"$f":"IF(EM602=0,0,(EN602-EM602)/EM602*100)","v":0},null,null,{"$f":"IF(EP602=0,0,(EQ602-EP602)/EP602*100)","v":0},null,null,{"$f":"IF(ES602=0,0,(ET602-ES602)/ES602*100)","v":0},null,null,{"$f":"IF(EV602=0,0,(EW602-EV602)/EV602*100)","v":0},null,null,{"$f":"IF(EY602=0,0,(EZ602-EY602)/EY602*100)","v":0},null,null,{"$f":"IF(FB602=0,0,(FC602-FB602)/FB602*100)","v":0},null,null,{"$f":"IF(FE602=0,0,(FF602-FE602)/FE602*100)","v":0}]
["1",null,null,null,null,null,{"$f":"F582=\"двухставочный\"","v":false},null,null,null,null,"Тариф с 01.07 по 31.12 для прочих потребителей без НДС:"]
["1",null,"L2_1_1","для прочих потребителей с 01.07 по 31.12 без НДС",null,null,{"$f":"F582=\"двухставочный\"","v":false},null,null,null,null,"перевод двухставочного тарифа в одноставочный тариф","руб./куб.м",{"$f":"IF(N606=0,0,(N605*N606+N607*N608*6)/N606)","v":{"$error":"#N/A"}},{"$f":"IF(O606=0,0,(O605*O606+O607*O608*6)/O606)","v":{"$error":"#N/A"}},{"$f":"IF(N604=0,0,(O604-N604)/N604*100)","v":{"$error":"#N/A"}},{"$f":"IF(Q606=0,0,(Q605*Q606+Q607*Q608*6)/Q606)","v":{"$error":"#N/A"}},{"$f":"IF(R606=0,0,(R605*R606+R607*R608*6)/R606)","v":{"$error":"#N/A"}},{"$f":"IF(Q604=0,0,(R604-Q604)/Q604*100)","v":{"$error":"#N/A"}},{"$f":"IF(T606=0,0,(T605*T606+T607*T608*6)/T606)","v":{"$error":"#N/A"}},{"$f":"IF(U606=0,0,(U605*U606+U607*U608*6)/U606)","v":{"$error":"#N/A"}},{"$f":"IF(T604=0,0,(U604-T604)/T604*100)","v":{"$error":"#N/A"}},{"$f":"IF(W606=0,0,(W605*W606+W607*W608*6)/W606)","v":{"$error":"#N/A"}},{"$f":"IF(X606=0,0,(X605*X606+X607*X608*6)/X606)","v":{"$error":"#N/A"}},{"$f":"IF(W604=0,0,(X604-W604)/W604*100)","v":{"$error":"#N/A"}},{"$f":"IF(Z606=0,0,(Z605*Z606+Z607*Z608*6)/Z606)","v":{"$error":"#N/A"}},{"$f":"IF(AA606=0,0,(AA605*AA606+AA607*AA608*6)/AA606)","v":{"$error":"#N/A"}},{"$f":"IF(Z604=0,0,(AA604-Z604)/Z604*100)","v":{"$error":"#N/A"}},{"$f":"IF(AC606=0,0,(AC605*AC606+AC607*AC608*6)/AC606)","v":{"$error":"#N/A"}},{"$f":"IF(AD606=0,0,(AD605*AD606+AD607*AD608*6)/AD606)","v":{"$error":"#N/A"}},{"$f":"IF(AC604=0,0,(AD604-AC604)/AC604*100)","v":{"$error":"#N/A"}},{"$f":"IF(AF606=0,0,(AF605*AF606+AF607*AF608*6)/AF606)","v":{"$error":"#N/A"}},{"$f":"IF(AG606=0,0,(AG605*AG606+AG607*AG608*6)/AG606)","v":{"$error":"#N/A"}},{"$f":"IF(AF604=0,0,(AG604-AF604)/AF604*100)","v":{"$error":"#N/A"}},{"$f":"IF(AI606=0,0,(AI605*AI606+AI607*AI608*6)/AI606)","v":{"$error":"#N/A"}},{"$f":"IF(AJ606=0,0,(AJ605*AJ606+AJ607*AJ608*6)/AJ606)","v":{"$error":"#N/A"}},{"$f":"IF(AI604=0,0,(AJ604-AI604)/AI604*100)","v":{"$error":"#N/A"}},{"$f":"IF(AL606=0,0,(AL605*AL606+AL607*AL608*6)/AL606)","v":{"$error":"#N/A"}},{"$f":"IF(AM606=0,0,(AM605*AM606+AM607*AM608*6)/AM606)","v":{"$error":"#N/A"}},{"$f":"IF(AL604=0,0,(AM604-AL604)/AL604*100)","v":{"$error":"#N/A"}},{"$f":"IF(AO606=0,0,(AO605*AO606+AO607*AO608*6)/AO606)","v":{"$error":"#N/A"}},{"$f":"IF(AP606=0,0,(AP605*AP606+AP607*AP608*6)/AP606)","v":{"$error":"#N/A"}},{"$f":"IF(AO604=0,0,(AP604-AO604)/AO604*100)","v":{"$error":"#N/A"}},{"$f":"IF(AR606=0,0,(AR605*AR606+AR607*AR608*6)/AR606)","v":0},{"$f":"IF(AS606=0,0,(AS605*AS606+AS607*AS608*6)/AS606)","v":0},{"$f":"IF(AR604=0,0,(AS604-AR604)/AR604*100)","v":0},{"$f":"IF(AU606=0,0,(AU605*AU606+AU607*AU608*6)/AU606)","v":0},{"$f":"IF(AV606=0,0,(AV605*AV606+AV607*AV608*6)/AV606)","v":0},{"$f":"IF(AU604=0,0,(AV604-AU604)/AU604*100)","v":0},{"$f":"IF(AX606=0,0,(AX605*AX606+AX607*AX608*6)/AX606)","v":0},{"$f":"IF(AY606=0,0,(AY605*AY606+AY607*AY608*6)/AY606)","v":0},{"$f":"IF(AX604=0,0,(AY604-AX604)/AX604*100)","v":0},{"$f":"IF(BA606=0,0,(BA605*BA606+BA607*BA608*6)/BA606)","v":0},{"$f":"IF(BB606=0,0,(BB605*BB606+BB607*BB608*6)/BB606)","v":0},{"$f":"IF(BA604=0,0,(BB604-BA604)/BA604*100)","v":0},{"$f":"IF(BD606=0,0,(BD605*BD606+BD607*BD608*6)/BD606)","v":0},{"$f":"IF(BE606=0,0,(BE605*BE606+BE607*BE608*6)/BE606)","v":0},{"$f":"IF(BD604=0,0,(BE604-BD604)/BD604*100)","v":0},{"$f":"IF(BG606=0,0,(BG605*BG606+BG607*BG608*6)/BG606)","v":0},{"$f":"IF(BH606=0,0,(BH605*BH606+BH607*BH608*6)/BH606)","v":0},{"$f":"IF(BG604=0,0,(BH604-BG604)/BG604*100)","v":0},{"$f":"IF(BJ606=0,0,(BJ605*BJ606+BJ607*BJ608*6)/BJ606)","v":0},{"$f":"IF(BK606=0,0,(BK605*BK606+BK607*BK608*6)/BK606)","v":0},{"$f":"IF(BJ604=0,0,(BK604-BJ604)/BJ604*100)","v":0},{"$f":"IF(BM606=0,0,(BM605*BM606+BM607*BM608*6)/BM606)","v":0},{"$f":"IF(BN606=0,0,(BN605*BN606+BN607*BN608*6)/BN606)","v":0},{"$f":"IF(BM604=0,0,(BN604-BM604)/BM604*100)","v":0},{"$f":"IF(BP606=0,0,(BP605*BP606+BP607*BP608*6)/BP606)","v":0},{"$f":"IF(BQ606=0,0,(BQ605*BQ606+BQ607*BQ608*6)/BQ606)","v":0},{"$f":"IF(BP604=0,0,(BQ604-BP604)/BP604*100)","v":0},{"$f":"IF(BS606=0,0,(BS605*BS606+BS607*BS608*6)/BS606)","v":0},{"$f":"IF(BT606=0,0,(BT605*BT606+BT607*BT608*6)/BT606)","v":0},{"$f":"IF(BS604=0,0,(BT604-BS604)/BS604*100)","v":0},{"$f":"IF(BV606=0,0,(BV605*BV606+BV607*BV608*6)/BV606)","v":0},{"$f":"IF(BW606=0,0,(BW605*BW606+BW607*BW608*6)/BW606)","v":0},{"$f":"IF(BV604=0,0,(BW604-BV604)/BV604*100)","v":0},{"$f":"IF(BY606=0,0,(BY605*BY606+BY607*BY608*6)/BY606)","v":0},{"$f":"IF(BZ606=0,0,(BZ605*BZ606+BZ607*BZ608*6)/BZ606)","v":0},{"$f":"IF(BY604=0,0,(BZ604-BY604)/BY604*100)","v":0},{"$f":"IF(CB606=0,0,(CB605*CB606+CB607*CB608*6)/CB606)","v":0},{"$f":"IF(CC606=0,0,(CC605*CC606+CC607*CC608*6)/CC606)","v":0},{"$f":"IF(CB604=0,0,(CC604-CB604)/CB604*100)","v":0},{"$f":"IF(CE606=0,0,(CE605*CE606+CE607*CE608*6)/CE606)","v":0},{"$f":"IF(CF606=0,0,(CF605*CF606+CF607*CF608*6)/CF606)","v":0},{"$f":"IF(CE604=0,0,(CF604-CE604)/CE604*100)","v":0},{"$f":"IF(CH606=0,0,(CH605*CH606+CH607*CH608*6)/CH606)","v":0},{"$f":"IF(CI606=0,0,(CI605*CI606+CI607*CI608*6)/CI606)","v":0},{"$f":"IF(CH604=0,0,(CI604-CH604)/CH604*100)","v":0},{"$f":"IF(CK606=0,0,(CK605*CK606+CK607*CK608*6)/CK606)","v":0},{"$f":"IF(CL606=0,0,(CL605*CL606+CL607*CL608*6)/CL606)","v":0},{"$f":"IF(CK604=0,0,(CL604-CK604)/CK604*100)","v":0},{"$f":"IF(CN606=0,0,(CN605*CN606+CN607*CN608*6)/CN606)","v":0},{"$f":"IF(CO606=0,0,(CO605*CO606+CO607*CO608*6)/CO606)","v":0},{"$f":"IF(CN604=0,0,(CO604-CN604)/CN604*100)","v":0},{"$f":"IF(CQ606=0,0,(CQ605*CQ606+CQ607*CQ608*6)/CQ606)","v":0},{"$f":"IF(CR606=0,0,(CR605*CR606+CR607*CR608*6)/CR606)","v":0},{"$f":"IF(CQ604=0,0,(CR604-CQ604)/CQ604*100)","v":0},{"$f":"IF(CT606=0,0,(CT605*CT606+CT607*CT608*6)/CT606)","v":0},{"$f":"IF(CU606=0,0,(CU605*CU606+CU607*CU608*6)/CU606)","v":0},{"$f":"IF(CT604=0,0,(CU604-CT604)/CT604*100)","v":0},{"$f":"IF(CW606=0,0,(CW605*CW606+CW607*CW608*6)/CW606)","v":0},{"$f":"IF(CX606=0,0,(CX605*CX606+CX607*CX608*6)/CX606)","v":0},{"$f":"IF(CW604=0,0,(CX604-CW604)/CW604*100)","v":0},{"$f":"IF(CZ606=0,0,(CZ605*CZ606+CZ607*CZ608*6)/CZ606)","v":0},{"$f":"IF(DA606=0,0,(DA605*DA606+DA607*DA608*6)/DA606)","v":0},{"$f":"IF(CZ604=0,0,(DA604-CZ604)/CZ604*100)","v":0},{"$f":"IF(DC606=0,0,(DC605*DC606+DC607*DC608*6)/DC606)","v":0},{"$f":"IF(DD606=0,0,(DD605*DD606+DD607*DD608*6)/DD606)","v":0},{"$f":"IF(DC604=0,0,(DD604-DC604)/DC604*100)","v":0},{"$f":"IF(DF606=0,0,(DF605*DF606+DF607*DF608*6)/DF606)","v":0},{"$f":"IF(DG606=0,0,(DG605*DG606+DG607*DG608*6)/DG606)","v":0},{"$f":"IF(DF604=0,0,(DG604-DF604)/DF604*100)","v":0},{"$f":"IF(DI606=0,0,(DI605*DI606+DI607*DI608*6)/DI606)","v":0},{"$f":"IF(DJ606=0,0,(DJ605*DJ606+DJ607*DJ608*6)/DJ606)","v":0},{"$f":"IF(DI604=0,0,(DJ604-DI604)/DI604*100)","v":0},{"$f":"IF(DL606=0,0,(DL605*DL606+DL607*DL608*6)/DL606)","v":0},{"$f":"IF(DM606=0,0,(DM605*DM606+DM607*DM608*6)/DM606)","v":0},{"$f":"IF(DL604=0,0,(DM604-DL604)/DL604*100)","v":0},{"$f":"IF(DO606=0,0,(DO605*DO606+DO607*DO608*6)/DO606)","v":0},{"$f":"IF(DP606=0,0,(DP605*DP606+DP607*DP608*6)/DP606)","v":0},{"$f":"IF(DO604=0,0,(DP604-DO604)/DO604*100)","v":0},{"$f":"IF(DR606=0,0,(DR605*DR606+DR607*DR608*6)/DR606)","v":0},{"$f":"IF(DS606=0,0,(DS605*DS606+DS607*DS608*6)/DS606)","v":0},{"$f":"IF(DR604=0,0,(DS604-DR604)/DR604*100)","v":0},{"$f":"IF(DU606=0,0,(DU605*DU606+DU607*DU608*6)/DU606)","v":0},{"$f":"IF(DV606=0,0,(DV605*DV606+DV607*DV608*6)/DV606)","v":0},{"$f":"IF(DU604=0,0,(DV604-DU604)/DU604*100)","v":0},{"$f":"IF(DX606=0,0,(DX605*DX606+DX607*DX608*6)/DX606)","v":0},{"$f":"IF(DY606=0,0,(DY605*DY606+DY607*DY608*6)/DY606)","v":0},{"$f":"IF(DX604=0,0,(DY604-DX604)/DX604*100)","v":0},{"$f":"IF(EA606=0,0,(EA605*EA606+EA607*EA608*6)/EA606)","v":0},{"$f":"IF(EB606=0,0,(EB605*EB606+EB607*EB608*6)/EB606)","v":0},{"$f":"IF(EA604=0,0,(EB604-EA604)/EA604*100)","v":0},{"$f":"IF(ED606=0,0,(ED605*ED606+ED607*ED608*6)/ED606)","v":0},{"$f":"IF(EE606=0,0,(EE605*EE606+EE607*EE608*6)/EE606)","v":0},{"$f":"IF(ED604=0,0,(EE604-ED604)/ED604*100)","v":0},{"$f":"IF(EG606=0,0,(EG605*EG606+EG607*EG608*6)/EG606)","v":0},{"$f":"IF(EH606=0,0,(EH605*EH606+EH607*EH608*6)/EH606)","v":0},{"$f":"IF(EG604=0,0,(EH604-EG604)/EG604*100)","v":0},{"$f":"IF(EJ606=0,0,(EJ605*EJ606+EJ607*EJ608*6)/EJ606)","v":0},{"$f":"IF(EK606=0,0,(EK605*EK606+EK607*EK608*6)/EK606)","v":0},{"$f":"IF(EJ604=0,0,(EK604-EJ604)/EJ604*100)","v":0},{"$f":"IF(EM606=0,0,(EM605*EM606+EM607*EM608*6)/EM606)","v":0},{"$f":"IF(EN606=0,0,(EN605*EN606+EN607*EN608*6)/EN606)","v":0},{"$f":"IF(EM604=0,0,(EN604-EM604)/EM604*100)","v":0},{"$f":"IF(EP606=0,0,(EP605*EP606+EP607*EP608*6)/EP606)","v":0},{"$f":"IF(EQ606=0,0,(EQ605*EQ606+EQ607*EQ608*6)/EQ606)","v":0},{"$f":"IF(EP604=0,0,(EQ604-EP604)/EP604*100)","v":0},{"$f":"IF(ES606=0,0,(ES605*ES606+ES607*ES608*6)/ES606)","v":0},{"$f":"IF(ET606=0,0,(ET605*ET606+ET607*ET608*6)/ET606)","v":0},{"$f":"IF(ES604=0,0,(ET604-ES604)/ES604*100)","v":0},{"$f":"IF(EV606=0,0,(EV605*EV606+EV607*EV608*6)/EV606)","v":0},{"$f":"IF(EW606=0,0,(EW605*EW606+EW607*EW608*6)/EW606)","v":0},{"$f":"IF(EV604=0,0,(EW604-EV604)/EV604*100)","v":0},{"$f":"IF(EY606=0,0,(EY605*EY606+EY607*EY608*6)/EY606)","v":0},{"$f":"IF(EZ606=0,0,(EZ605*EZ606+EZ607*EZ608*6)/EZ606)","v":0},{"$f":"IF(EY604=0,0,(EZ604-EY604)/EY604*100)","v":0},{"$f":"IF(FB606=0,0,(FB605*FB606+FB607*FB608*6)/FB606)","v":0},{"$f":"IF(FC606=0,0,(FC605*FC606+FC607*FC608*6)/FC606)","v":0},{"$f":"IF(FB604=0,0,(FC604-FB604)/FB604*100)","v":0},{"$f":"IF(FE606=0,0,(FE605*FE606+FE607*FE608*6)/FE606)","v":0},{"$f":"IF(FF606=0,0,(FF605*FF606+FF607*FF608*6)/FF606)","v":0},{"$f":"IF(FE604=0,0,(FF604-FE604)/FE604*100)","v":0}]
["1",null,"L2_1_2","для прочих потребителей с 01.07 по 31.12 без НДС",null,null,{"$f":"F582=\"двухставочный\"","v":false},null,null,null,null,"ставка платы за потребление 1 куб.м холодной воды","руб./куб.м",null,null,{"$f":"IF(N605=0,0,(O605-N605)/N605*100)","v":0},null,null,{"$f":"IF(Q605=0,0,(R605-Q605)/Q605*100)","v":0},null,null,{"$f":"IF(T605=0,0,(U605-T605)/T605*100)","v":0},null,null,{"$f":"IF(W605=0,0,(X605-W605)/W605*100)","v":0},null,null,{"$f":"IF(Z605=0,0,(AA605-Z605)/Z605*100)","v":0},null,null,{"$f":"IF(AC605=0,0,(AD605-AC605)/AC605*100)","v":0},null,null,{"$f":"IF(AF605=0,0,(AG605-AF605)/AF605*100)","v":0},null,null,{"$f":"IF(AI605=0,0,(AJ605-AI605)/AI605*100)","v":0},null,null,{"$f":"IF(AL605=0,0,(AM605-AL605)/AL605*100)","v":0},null,null,{"$f":"IF(AO605=0,0,(AP605-AO605)/AO605*100)","v":0},null,null,{"$f":"IF(AR605=0,0,(AS605-AR605)/AR605*100)","v":0},null,null,{"$f":"IF(AU605=0,0,(AV605-AU605)/AU605*100)","v":0},null,null,{"$f":"IF(AX605=0,0,(AY605-AX605)/AX605*100)","v":0},null,null,{"$f":"IF(BA605=0,0,(BB605-BA605)/BA605*100)","v":0},null,null,{"$f":"IF(BD605=0,0,(BE605-BD605)/BD605*100)","v":0},null,null,{"$f":"IF(BG605=0,0,(BH605-BG605)/BG605*100)","v":0},null,null,{"$f":"IF(BJ605=0,0,(BK605-BJ605)/BJ605*100)","v":0},null,null,{"$f":"IF(BM605=0,0,(BN605-BM605)/BM605*100)","v":0},null,null,{"$f":"IF(BP605=0,0,(BQ605-BP605)/BP605*100)","v":0},null,null,{"$f":"IF(BS605=0,0,(BT605-BS605)/BS605*100)","v":0},null,null,{"$f":"IF(BV605=0,0,(BW605-BV605)/BV605*100)","v":0},null,null,{"$f":"IF(BY605=0,0,(BZ605-BY605)/BY605*100)","v":0},null,null,{"$f":"IF(CB605=0,0,(CC605-CB605)/CB605*100)","v":0},null,null,{"$f":"IF(CE605=0,0,(CF605-CE605)/CE605*100)","v":0},null,null,{"$f":"IF(CH605=0,0,(CI605-CH605)/CH605*100)","v":0},null,null,{"$f":"IF(CK605=0,0,(CL605-CK605)/CK605*100)","v":0},null,null,{"$f":"IF(CN605=0,0,(CO605-CN605)/CN605*100)","v":0},null,null,{"$f":"IF(CQ605=0,0,(CR605-CQ605)/CQ605*100)","v":0},null,null,{"$f":"IF(CT605=0,0,(CU605-CT605)/CT605*100)","v":0},null,null,{"$f":"IF(CW605=0,0,(CX605-CW605)/CW605*100)","v":0},null,null,{"$f":"IF(CZ605=0,0,(DA605-CZ605)/CZ605*100)","v":0},null,null,{"$f":"IF(DC605=0,0,(DD605-DC605)/DC605*100)","v":0},null,null,{"$f":"IF(DF605=0,0,(DG605-DF605)/DF605*100)","v":0},null,null,{"$f":"IF(DI605=0,0,(DJ605-DI605)/DI605*100)","v":0},null,null,{"$f":"IF(DL605=0,0,(DM605-DL605)/DL605*100)","v":0},null,null,{"$f":"IF(DO605=0,0,(DP605-DO605)/DO605*100)","v":0},null,null,{"$f":"IF(DR605=0,0,(DS605-DR605)/DR605*100)","v":0},null,null,{"$f":"IF(DU605=0,0,(DV605-DU605)/DU605*100)","v":0},null,null,{"$f":"IF(DX605=0,0,(DY605-DX605)/DX605*100)","v":0},null,null,{"$f":"IF(EA605=0,0,(EB605-EA605)/EA605*100)","v":0},null,null,{"$f":"IF(ED605=0,0,(EE605-ED605)/ED605*100)","v":0},null,null,{"$f":"IF(EG605=0,0,(EH605-EG605)/EG605*100)","v":0},null,null,{"$f":"IF(EJ605=0,0,(EK605-EJ605)/EJ605*100)","v":0},null,null,{"$f":"IF(EM605=0,0,(EN605-EM605)/EM605*100)","v":0},null,null,{"$f":"IF(EP605=0,0,(EQ605-EP605)/EP605*100)","v":0},null,null,{"$f":"IF(ES605=0,0,(ET605-ES605)/ES605*100)","v":0},null,null,{"$f":"IF(EV605=0,0,(EW605-EV605)/EV605*100)","v":0},null,null,{"$f":"IF(EY605=0,0,(EZ605-EY605)/EY605*100)","v":0},null,null,{"$f":"IF(FB605=0,0,(FC605-FB605)/FB605*100)","v":0},null,null,{"$f":"IF(FE605=0,0,(FF605-FE605)/FE605*100)","v":0}]
["1","ПО.прочие.II","L2_1_3","для прочих потребителей с 01.07 по 31.12 без НДС",null,null,{"$f":"F582=\"двухставочный\"","v":false},null,null,null,null,"объём потребления холодной воды","тыс.куб.м",{"$f":"SUMIFS(INDEX(Калькуляция!$T$15:$AM$268,,MATCH(N$3,Калькуляция!$T$3:$AM$3,0)),Калькуляция!$A$15:$A$268,$A606,Калькуляция!$B$15:$B$268,$B606)","v":{"$error":"#N/A"}},{"$f":"SUMIFS(INDEX(Калькуляция!$T$15:$AM$268,,MATCH(O$3,Калькуляция!$T$3:$AM$3,0)),Калькуляция!$A$15:$A$268,$A606,Калькуляция!$B$15:$B$268,$B606)","v":{"$error":"#N/A"}},{"$f":"IF(N606=0,0,(O606-N606)/N606*100)","v":{"$error":"#N/A"}},{"$f":"SUMIFS(INDEX(Калькуляция!$T$15:$AM$268,,MATCH(Q$3,Калькуляция!$T$3:$AM$3,0)),Калькуляция!$A$15:$A$268,$A606,Калькуляция!$B$15:$B$268,$B606)","v":{"$error":"#N/A"}},{"$f":"SUMIFS(INDEX(Калькуляция!$T$15:$AM$268,,MATCH(R$3,Калькуляция!$T$3:$AM$3,0)),Калькуляция!$A$15:$A$268,$A606,Калькуляция!$B$15:$B$268,$B606)","v":{"$error":"#N/A"}},{"$f":"IF(Q606=0,0,(R606-Q606)/Q606*100)","v":{"$error":"#N/A"}},{"$f":"SUMIFS(INDEX(Калькуляция!$T$15:$AM$268,,MATCH(T$3,Калькуляция!$T$3:$AM$3,0)),Калькуляция!$A$15:$A$268,$A606,Калькуляция!$B$15:$B$268,$B606)","v":{"$error":"#N/A"}},{"$f":"SUMIFS(INDEX(Калькуляция!$T$15:$AM$268,,MATCH(U$3,Калькуляция!$T$3:$AM$3,0)),Калькуляция!$A$15:$A$268,$A606,Калькуляция!$B$15:$B$268,$B606)","v":{"$error":"#N/A"}},{"$f":"IF(T606=0,0,(U606-T606)/T606*100)","v":{"$error":"#N/A"}},{"$f":"SUMIFS(INDEX(Калькуляция!$T$15:$AM$268,,MATCH(W$3,Калькуляция!$T$3:$AM$3,0)),Калькуляция!$A$15:$A$268,$A606,Калькуляция!$B$15:$B$268,$B606)","v":{"$error":"#N/A"}},{"$f":"SUMIFS(INDEX(Калькуляция!$T$15:$AM$268,,MATCH(X$3,Калькуляция!$T$3:$AM$3,0)),Калькуляция!$A$15:$A$268,$A606,Калькуляция!$B$15:$B$268,$B606)","v":{"$error":"#N/A"}},{"$f":"IF(W606=0,0,(X606-W606)/W606*100)","v":{"$error":"#N/A"}},{"$f":"SUMIFS(INDEX(Калькуляция!$T$15:$AM$268,,MATCH(Z$3,Калькуляция!$T$3:$AM$3,0)),Калькуляция!$A$15:$A$268,$A606,Калькуляция!$B$15:$B$268,$B606)","v":{"$error":"#N/A"}},{"$f":"SUMIFS(INDEX(Калькуляция!$T$15:$AM$268,,MATCH(AA$3,Калькуляция!$T$3:$AM$3,0)),Калькуляция!$A$15:$A$268,$A606,Калькуляция!$B$15:$B$268,$B606)","v":{"$error":"#N/A"}},{"$f":"IF(Z606=0,0,(AA606-Z606)/Z606*100)","v":{"$error":"#N/A"}},{"$f":"SUMIFS(INDEX(Калькуляция!$T$15:$AM$268,,MATCH(AC$3,Калькуляция!$T$3:$AM$3,0)),Калькуляция!$A$15:$A$268,$A606,Калькуляция!$B$15:$B$268,$B606)","v":{"$error":"#N/A"}},{"$f":"SUMIFS(INDEX(Калькуляция!$T$15:$AM$268,,MATCH(AD$3,Калькуляция!$T$3:$AM$3,0)),Калькуляция!$A$15:$A$268,$A606,Калькуляция!$B$15:$B$268,$B606)","v":{"$error":"#N/A"}},{"$f":"IF(AC606=0,0,(AD606-AC606)/AC606*100)","v":{"$error":"#N/A"}},{"$f":"SUMIFS(INDEX(Калькуляция!$T$15:$AM$268,,MATCH(AF$3,Калькуляция!$T$3:$AM$3,0)),Калькуляция!$A$15:$A$268,$A606,Калькуляция!$B$15:$B$268,$B606)","v":{"$error":"#N/A"}},{"$f":"SUMIFS(INDEX(Калькуляция!$T$15:$AM$268,,MATCH(AG$3,Калькуляция!$T$3:$AM$3,0)),Калькуляция!$A$15:$A$268,$A606,Калькуляция!$B$15:$B$268,$B606)","v":{"$error":"#N/A"}},{"$f":"IF(AF606=0,0,(AG606-AF606)/AF606*100)","v":{"$error":"#N/A"}},{"$f":"SUMIFS(INDEX(Калькуляция!$T$15:$AM$268,,MATCH(AI$3,Калькуляция!$T$3:$AM$3,0)),Калькуляция!$A$15:$A$268,$A606,Калькуляция!$B$15:$B$268,$B606)","v":{"$error":"#N/A"}},{"$f":"SUMIFS(INDEX(Калькуляция!$T$15:$AM$268,,MATCH(AJ$3,Калькуляция!$T$3:$AM$3,0)),Калькуляция!$A$15:$A$268,$A606,Калькуляция!$B$15:$B$268,$B606)","v":{"$error":"#N/A"}},{"$f":"IF(AI606=0,0,(AJ606-AI606)/AI606*100)","v":{"$error":"#N/A"}},{"$f":"SUMIFS(INDEX(Калькуляция!$T$15:$AM$268,,MATCH(AL$3,Калькуляция!$T$3:$AM$3,0)),Калькуляция!$A$15:$A$268,$A606,Калькуляция!$B$15:$B$268,$B606)","v":{"$error":"#N/A"}},{"$f":"SUMIFS(INDEX(Калькуляция!$T$15:$AM$268,,MATCH(AM$3,Калькуляция!$T$3:$AM$3,0)),Калькуляция!$A$15:$A$268,$A606,Калькуляция!$B$15:$B$268,$B606)","v":{"$error":"#N/A"}},{"$f":"IF(AL606=0,0,(AM606-AL606)/AL606*100)","v":{"$error":"#N/A"}},{"$f":"SUMIFS(INDEX(Калькуляция!$T$15:$AM$268,,MATCH(AO$3,Калькуляция!$T$3:$AM$3,0)),Калькуляция!$A$15:$A$268,$A606,Калькуляция!$B$15:$B$268,$B606)","v":{"$error":"#N/A"}},{"$f":"SUMIFS(INDEX(Калькуляция!$T$15:$AM$268,,MATCH(AP$3,Калькуляция!$T$3:$AM$3,0)),Калькуляция!$A$15:$A$268,$A606,Калькуляция!$B$15:$B$268,$B606)","v":{"$error":"#N/A"}},{"$f":"IF(AO606=0,0,(AP606-AO606)/AO606*100)","v":{"$error":"#N/A"}},null,null,{"$f":"IF(AR606=0,0,(AS606-AR606)/AR606*100)","v":0},null,null,{"$f":"IF(AU606=0,0,(AV606-AU606)/AU606*100)","v":0},null,null,{"$f":"IF(AX606=0,0,(AY606-AX606)/AX606*100)","v":0},null,null,{"$f":"IF(BA606=0,0,(BB606-BA606)/BA606*100)","v":0},null,null,{"$f":"IF(BD606=0,0,(BE606-BD606)/BD606*100)","v":0},null,null,{"$f":"IF(BG606=0,0,(BH606-BG606)/BG606*100)","v":0},null,null,{"$f":"IF(BJ606=0,0,(BK606-BJ606)/BJ606*100)","v":0},null,null,{"$f":"IF(BM606=0,0,(BN606-BM606)/BM606*100)","v":0},null,null,{"$f":"IF(BP606=0,0,(BQ606-BP606)/BP606*100)","v":0},null,null,{"$f":"IF(BS606=0,0,(BT606-BS606)/BS606*100)","v":0},null,null,{"$f":"IF(BV606=0,0,(BW606-BV606)/BV606*100)","v":0},null,null,{"$f":"IF(BY606=0,0,(BZ606-BY606)/BY606*100)","v":0},null,null,{"$f":"IF(CB606=0,0,(CC606-CB606)/CB606*100)","v":0},null,null,{"$f":"IF(CE606=0,0,(CF606-CE606)/CE606*100)","v":0},null,null,{"$f":"IF(CH606=0,0,(CI606-CH606)/CH606*100)","v":0},null,null,{"$f":"IF(CK606=0,0,(CL606-CK606)/CK606*100)","v":0},null,null,{"$f":"IF(CN606=0,0,(CO606-CN606)/CN606*100)","v":0},null,null,{"$f":"IF(CQ606=0,0,(CR606-CQ606)/CQ606*100)","v":0},null,null,{"$f":"IF(CT606=0,0,(CU606-CT606)/CT606*100)","v":0},null,null,{"$f":"IF(CW606=0,0,(CX606-CW606)/CW606*100)","v":0},null,null,{"$f":"IF(CZ606=0,0,(DA606-CZ606)/CZ606*100)","v":0},null,null,{"$f":"IF(DC606=0,0,(DD606-DC606)/DC606*100)","v":0},null,null,{"$f":"IF(DF606=0,0,(DG606-DF606)/DF606*100)","v":0},null,null,{"$f":"IF(DI606=0,0,(DJ606-DI606)/DI606*100)","v":0},null,null,{"$f":"IF(DL606=0,0,(DM606-DL606)/DL606*100)","v":0},null,null,{"$f":"IF(DO606=0,0,(DP606-DO606)/DO606*100)","v":0},null,null,{"$f":"IF(DR606=0,0,(DS606-DR606)/DR606*100)","v":0},null,null,{"$f":"IF(DU606=0,0,(DV606-DU606)/DU606*100)","v":0},null,null,{"$f":"IF(DX606=0,0,(DY606-DX606)/DX606*100)","v":0},null,null,{"$f":"IF(EA606=0,0,(EB606-EA606)/EA606*100)","v":0},null,null,{"$f":"IF(ED606=0,0,(EE606-ED606)/ED606*100)","v":0},null,null,{"$f":"IF(EG606=0,0,(EH606-EG606)/EG606*100)","v":0},null,null,{"$f":"IF(EJ606=0,0,(EK606-EJ606)/EJ606*100)","v":0},null,null,{"$f":"IF(EM606=0,0,(EN606-EM606)/EM606*100)","v":0},null,null,{"$f":"IF(EP606=0,0,(EQ606-EP606)/EP606*100)","v":0},null,null,{"$f":"IF(ES606=0,0,(ET606-ES606)/ES606*100)","v":0},null,null,{"$f":"IF(EV606=0,0,(EW606-EV606)/EV606*100)","v":0},null,null,{"$f":"IF(EY606=0,0,(EZ606-EY606)/EY606*100)","v":0},null,null,{"$f":"IF(FB606=0,0,(FC606-FB606)/FB606*100)","v":0},null,null,{"$f":"IF(FE606=0,0,(FF606-FE606)/FE606*100)","v":0}]
["1",null,"L2_1_4","для прочих потребителей с 01.07 по 31.12 без НДС",null,null,{"$f":"F582=\"двухставочный\"","v":false},null,null,null,null,"ставка платы за содержание системы холодного водоснабжения","тыс.руб./куб.м*час/в месяц",null,null,{"$f":"IF(N607=0,0,(O607-N607)/N607*100)","v":0},null,null,{"$f":"IF(Q607=0,0,(R607-Q607)/Q607*100)","v":0},null,null,{"$f":"IF(T607=0,0,(U607-T607)/T607*100)","v":0},null,null,{"$f":"IF(W607=0,0,(X607-W607)/W607*100)","v":0},null,null,{"$f":"IF(Z607=0,0,(AA607-Z607)/Z607*100)","v":0},null,null,{"$f":"IF(AC607=0,0,(AD607-AC607)/AC607*100)","v":0},null,null,{"$f":"IF(AF607=0,0,(AG607-AF607)/AF607*100)","v":0},null,null,{"$f":"IF(AI607=0,0,(AJ607-AI607)/AI607*100)","v":0},null,null,{"$f":"IF(AL607=0,0,(AM607-AL607)/AL607*100)","v":0},null,null,{"$f":"IF(AO607=0,0,(AP607-AO607)/AO607*100)","v":0},null,null,{"$f":"IF(AR607=0,0,(AS607-AR607)/AR607*100)","v":0},null,null,{"$f":"IF(AU607=0,0,(AV607-AU607)/AU607*100)","v":0},null,null,{"$f":"IF(AX607=0,0,(AY607-AX607)/AX607*100)","v":0},null,null,{"$f":"IF(BA607=0,0,(BB607-BA607)/BA607*100)","v":0},null,null,{"$f":"IF(BD607=0,0,(BE607-BD607)/BD607*100)","v":0},null,null,{"$f":"IF(BG607=0,0,(BH607-BG607)/BG607*100)","v":0},null,null,{"$f":"IF(BJ607=0,0,(BK607-BJ607)/BJ607*100)","v":0},null,null,{"$f":"IF(BM607=0,0,(BN607-BM607)/BM607*100)","v":0},null,null,{"$f":"IF(BP607=0,0,(BQ607-BP607)/BP607*100)","v":0},null,null,{"$f":"IF(BS607=0,0,(BT607-BS607)/BS607*100)","v":0},null,null,{"$f":"IF(BV607=0,0,(BW607-BV607)/BV607*100)","v":0},null,null,{"$f":"IF(BY607=0,0,(BZ607-BY607)/BY607*100)","v":0},null,null,{"$f":"IF(CB607=0,0,(CC607-CB607)/CB607*100)","v":0},null,null,{"$f":"IF(CE607=0,0,(CF607-CE607)/CE607*100)","v":0},null,null,{"$f":"IF(CH607=0,0,(CI607-CH607)/CH607*100)","v":0},null,null,{"$f":"IF(CK607=0,0,(CL607-CK607)/CK607*100)","v":0},null,null,{"$f":"IF(CN607=0,0,(CO607-CN607)/CN607*100)","v":0},null,null,{"$f":"IF(CQ607=0,0,(CR607-CQ607)/CQ607*100)","v":0},null,null,{"$f":"IF(CT607=0,0,(CU607-CT607)/CT607*100)","v":0},null,null,{"$f":"IF(CW607=0,0,(CX607-CW607)/CW607*100)","v":0},null,null,{"$f":"IF(CZ607=0,0,(DA607-CZ607)/CZ607*100)","v":0},null,null,{"$f":"IF(DC607=0,0,(DD607-DC607)/DC607*100)","v":0},null,null,{"$f":"IF(DF607=0,0,(DG607-DF607)/DF607*100)","v":0},null,null,{"$f":"IF(DI607=0,0,(DJ607-DI607)/DI607*100)","v":0},null,null,{"$f":"IF(DL607=0,0,(DM607-DL607)/DL607*100)","v":0},null,null,{"$f":"IF(DO607=0,0,(DP607-DO607)/DO607*100)","v":0},null,null,{"$f":"IF(DR607=0,0,(DS607-DR607)/DR607*100)","v":0},null,null,{"$f":"IF(DU607=0,0,(DV607-DU607)/DU607*100)","v":0},null,null,{"$f":"IF(DX607=0,0,(DY607-DX607)/DX607*100)","v":0},null,null,{"$f":"IF(EA607=0,0,(EB607-EA607)/EA607*100)","v":0},null,null,{"$f":"IF(ED607=0,0,(EE607-ED607)/ED607*100)","v":0},null,null,{"$f":"IF(EG607=0,0,(EH607-EG607)/EG607*100)","v":0},null,null,{"$f":"IF(EJ607=0,0,(EK607-EJ607)/EJ607*100)","v":0},null,null,{"$f":"IF(EM607=0,0,(EN607-EM607)/EM607*100)","v":0},null,null,{"$f":"IF(EP607=0,0,(EQ607-EP607)/EP607*100)","v":0},null,null,{"$f":"IF(ES607=0,0,(ET607-ES607)/ES607*100)","v":0},null,null,{"$f":"IF(EV607=0,0,(EW607-EV607)/EV607*100)","v":0},null,null,{"$f":"IF(EY607=0,0,(EZ607-EY607)/EY607*100)","v":0},null,null,{"$f":"IF(FB607=0,0,(FC607-FB607)/FB607*100)","v":0},null,null,{"$f":"IF(FE607=0,0,(FF607-FE607)/FE607*100)","v":0}]
["1",null,"L2_1_5","для прочих потребителей с 01.07 по 31.12 без НДС",null,null,{"$f":"F582=\"двухставочный\"","v":false},null,null,null,null,"величина присоединённой мощности","куб.м*час",null,null,{"$f":"IF(N608=0,0,(O608-N608)/N608*100)","v":0},null,null,{"$f":"IF(Q608=0,0,(R608-Q608)/Q608*100)","v":0},null,null,{"$f":"IF(T608=0,0,(U608-T608)/T608*100)","v":0},null,null,{"$f":"IF(W608=0,0,(X608-W608)/W608*100)","v":0},null,null,{"$f":"IF(Z608=0,0,(AA608-Z608)/Z608*100)","v":0},null,null,{"$f":"IF(AC608=0,0,(AD608-AC608)/AC608*100)","v":0},null,null,{"$f":"IF(AF608=0,0,(AG608-AF608)/AF608*100)","v":0},null,null,{"$f":"IF(AI608=0,0,(AJ608-AI608)/AI608*100)","v":0},null,null,{"$f":"IF(AL608=0,0,(AM608-AL608)/AL608*100)","v":0},null,null,{"$f":"IF(AO608=0,0,(AP608-AO608)/AO608*100)","v":0},null,null,{"$f":"IF(AR608=0,0,(AS608-AR608)/AR608*100)","v":0},null,null,{"$f":"IF(AU608=0,0,(AV608-AU608)/AU608*100)","v":0},null,null,{"$f":"IF(AX608=0,0,(AY608-AX608)/AX608*100)","v":0},null,null,{"$f":"IF(BA608=0,0,(BB608-BA608)/BA608*100)","v":0},null,null,{"$f":"IF(BD608=0,0,(BE608-BD608)/BD608*100)","v":0},null,null,{"$f":"IF(BG608=0,0,(BH608-BG608)/BG608*100)","v":0},null,null,{"$f":"IF(BJ608=0,0,(BK608-BJ608)/BJ608*100)","v":0},null,null,{"$f":"IF(BM608=0,0,(BN608-BM608)/BM608*100)","v":0},null,null,{"$f":"IF(BP608=0,0,(BQ608-BP608)/BP608*100)","v":0},null,null,{"$f":"IF(BS608=0,0,(BT608-BS608)/BS608*100)","v":0},null,null,{"$f":"IF(BV608=0,0,(BW608-BV608)/BV608*100)","v":0},null,null,{"$f":"IF(BY608=0,0,(BZ608-BY608)/BY608*100)","v":0},null,null,{"$f":"IF(CB608=0,0,(CC608-CB608)/CB608*100)","v":0},null,null,{"$f":"IF(CE608=0,0,(CF608-CE608)/CE608*100)","v":0},null,null,{"$f":"IF(CH608=0,0,(CI608-CH608)/CH608*100)","v":0},null,null,{"$f":"IF(CK608=0,0,(CL608-CK608)/CK608*100)","v":0},null,null,{"$f":"IF(CN608=0,0,(CO608-CN608)/CN608*100)","v":0},null,null,{"$f":"IF(CQ608=0,0,(CR608-CQ608)/CQ608*100)","v":0},null,null,{"$f":"IF(CT608=0,0,(CU608-CT608)/CT608*100)","v":0},null,null,{"$f":"IF(CW608=0,0,(CX608-CW608)/CW608*100)","v":0},null,null,{"$f":"IF(CZ608=0,0,(DA608-CZ608)/CZ608*100)","v":0},null,null,{"$f":"IF(DC608=0,0,(DD608-DC608)/DC608*100)","v":0},null,null,{"$f":"IF(DF608=0,0,(DG608-DF608)/DF608*100)","v":0},null,null,{"$f":"IF(DI608=0,0,(DJ608-DI608)/DI608*100)","v":0},null,null,{"$f":"IF(DL608=0,0,(DM608-DL608)/DL608*100)","v":0},null,null,{"$f":"IF(DO608=0,0,(DP608-DO608)/DO608*100)","v":0},null,null,{"$f":"IF(DR608=0,0,(DS608-DR608)/DR608*100)","v":0},null,null,{"$f":"IF(DU608=0,0,(DV608-DU608)/DU608*100)","v":0},null,null,{"$f":"IF(DX608=0,0,(DY608-DX608)/DX608*100)","v":0},null,null,{"$f":"IF(EA608=0,0,(EB608-EA608)/EA608*100)","v":0},null,null,{"$f":"IF(ED608=0,0,(EE608-ED608)/ED608*100)","v":0},null,null,{"$f":"IF(EG608=0,0,(EH608-EG608)/EG608*100)","v":0},null,null,{"$f":"IF(EJ608=0,0,(EK608-EJ608)/EJ608*100)","v":0},null,null,{"$f":"IF(EM608=0,0,(EN608-EM608)/EM608*100)","v":0},null,null,{"$f":"IF(EP608=0,0,(EQ608-EP608)/EP608*100)","v":0},null,null,{"$f":"IF(ES608=0,0,(ET608-ES608)/ES608*100)","v":0},null,null,{"$f":"IF(EV608=0,0,(EW608-EV608)/EV608*100)","v":0},null,null,{"$f":"IF(EY608=0,0,(EZ608-EY608)/EY608*100)","v":0},null,null,{"$f":"IF(FB608=0,0,(FC608-FB608)/FB608*100)","v":0},null,null,{"$f":"IF(FE608=0,0,(FF608-FE608)/FE608*100)","v":0}]
["1",null,null,null,null,null,{"$f":"F582=\"двухставочный\"","v":false},null,null,null,null,"Тариф с 01.01 по 30.06 для населения с НДС:"]
["1",null,"L2_1_1","для населения с 01.01 по 30.06 с НДС",null,null,{"$f":"F582=\"двухставочный\"","v":false},null,null,null,null,"перевод двухставочного тарифа в одноставочный тариф","руб./куб.м",{"$f":"IF(N612=0,0,(N611*N612+N613*N614*6)/N612)","v":{"$error":"#N/A"}},{"$f":"IF(O612=0,0,(O611*O612+O613*O614*6)/O612)","v":{"$error":"#N/A"}},{"$f":"IF(N610=0,0,(O610-N610)/N610*100)","v":{"$error":"#N/A"}},{"$f":"IF(Q612=0,0,(Q611*Q612+Q613*Q614*6)/Q612)","v":{"$error":"#N/A"}},{"$f":"IF(R612=0,0,(R611*R612+R613*R614*6)/R612)","v":{"$error":"#N/A"}},{"$f":"IF(Q610=0,0,(R610-Q610)/Q610*100)","v":{"$error":"#N/A"}},{"$f":"IF(T612=0,0,(T611*T612+T613*T614*6)/T612)","v":{"$error":"#N/A"}},{"$f":"IF(U612=0,0,(U611*U612+U613*U614*6)/U612)","v":{"$error":"#N/A"}},{"$f":"IF(T610=0,0,(U610-T610)/T610*100)","v":{"$error":"#N/A"}},{"$f":"IF(W612=0,0,(W611*W612+W613*W614*6)/W612)","v":{"$error":"#N/A"}},{"$f":"IF(X612=0,0,(X611*X612+X613*X614*6)/X612)","v":{"$error":"#N/A"}},{"$f":"IF(W610=0,0,(X610-W610)/W610*100)","v":{"$error":"#N/A"}},{"$f":"IF(Z612=0,0,(Z611*Z612+Z613*Z614*6)/Z612)","v":{"$error":"#N/A"}},{"$f":"IF(AA612=0,0,(AA611*AA612+AA613*AA614*6)/AA612)","v":{"$error":"#N/A"}},{"$f":"IF(Z610=0,0,(AA610-Z610)/Z610*100)","v":{"$error":"#N/A"}},{"$f":"IF(AC612=0,0,(AC611*AC612+AC613*AC614*6)/AC612)","v":{"$error":"#N/A"}},{"$f":"IF(AD612=0,0,(AD611*AD612+AD613*AD614*6)/AD612)","v":{"$error":"#N/A"}},{"$f":"IF(AC610=0,0,(AD610-AC610)/AC610*100)","v":{"$error":"#N/A"}},{"$f":"IF(AF612=0,0,(AF611*AF612+AF613*AF614*6)/AF612)","v":{"$error":"#N/A"}},{"$f":"IF(AG612=0,0,(AG611*AG612+AG613*AG614*6)/AG612)","v":{"$error":"#N/A"}},{"$f":"IF(AF610=0,0,(AG610-AF610)/AF610*100)","v":{"$error":"#N/A"}},{"$f":"IF(AI612=0,0,(AI611*AI612+AI613*AI614*6)/AI612)","v":{"$error":"#N/A"}},{"$f":"IF(AJ612=0,0,(AJ611*AJ612+AJ613*AJ614*6)/AJ612)","v":{"$error":"#N/A"}},{"$f":"IF(AI610=0,0,(AJ610-AI610)/AI610*100)","v":{"$error":"#N/A"}},{"$f":"IF(AL612=0,0,(AL611*AL612+AL613*AL614*6)/AL612)","v":{"$error":"#N/A"}},{"$f":"IF(AM612=0,0,(AM611*AM612+AM613*AM614*6)/AM612)","v":{"$error":"#N/A"}},{"$f":"IF(AL610=0,0,(AM610-AL610)/AL610*100)","v":{"$error":"#N/A"}},{"$f":"IF(AO612=0,0,(AO611*AO612+AO613*AO614*6)/AO612)","v":{"$error":"#N/A"}},{"$f":"IF(AP612=0,0,(AP611*AP612+AP613*AP614*6)/AP612)","v":{"$error":"#N/A"}},{"$f":"IF(AO610=0,0,(AP610-AO610)/AO610*100)","v":{"$error":"#N/A"}},{"$f":"IF(AR612=0,0,(AR611*AR612+AR613*AR614*6)/AR612)","v":0},{"$f":"IF(AS612=0,0,(AS611*AS612+AS613*AS614*6)/AS612)","v":0},{"$f":"IF(AR610=0,0,(AS610-AR610)/AR610*100)","v":0},{"$f":"IF(AU612=0,0,(AU611*AU612+AU613*AU614*6)/AU612)","v":0},{"$f":"IF(AV612=0,0,(AV611*AV612+AV613*AV614*6)/AV612)","v":0},{"$f":"IF(AU610=0,0,(AV610-AU610)/AU610*100)","v":0},{"$f":"IF(AX612=0,0,(AX611*AX612+AX613*AX614*6)/AX612)","v":0},{"$f":"IF(AY612=0,0,(AY611*AY612+AY613*AY614*6)/AY612)","v":0},{"$f":"IF(AX610=0,0,(AY610-AX610)/AX610*100)","v":0},{"$f":"IF(BA612=0,0,(BA611*BA612+BA613*BA614*6)/BA612)","v":0},{"$f":"IF(BB612=0,0,(BB611*BB612+BB613*BB614*6)/BB612)","v":0},{"$f":"IF(BA610=0,0,(BB610-BA610)/BA610*100)","v":0},{"$f":"IF(BD612=0,0,(BD611*BD612+BD613*BD614*6)/BD612)","v":0},{"$f":"IF(BE612=0,0,(BE611*BE612+BE613*BE614*6)/BE612)","v":0},{"$f":"IF(BD610=0,0,(BE610-BD610)/BD610*100)","v":0},{"$f":"IF(BG612=0,0,(BG611*BG612+BG613*BG614*6)/BG612)","v":0},{"$f":"IF(BH612=0,0,(BH611*BH612+BH613*BH614*6)/BH612)","v":0},{"$f":"IF(BG610=0,0,(BH610-BG610)/BG610*100)","v":0},{"$f":"IF(BJ612=0,0,(BJ611*BJ612+BJ613*BJ614*6)/BJ612)","v":0},{"$f":"IF(BK612=0,0,(BK611*BK612+BK613*BK614*6)/BK612)","v":0},{"$f":"IF(BJ610=0,0,(BK610-BJ610)/BJ610*100)","v":0},{"$f":"IF(BM612=0,0,(BM611*BM612+BM613*BM614*6)/BM612)","v":0},{"$f":"IF(BN612=0,0,(BN611*BN612+BN613*BN614*6)/BN612)","v":0},{"$f":"IF(BM610=0,0,(BN610-BM610)/BM610*100)","v":0},{"$f":"IF(BP612=0,0,(BP611*BP612+BP613*BP614*6)/BP612)","v":0},{"$f":"IF(BQ612=0,0,(BQ611*BQ612+BQ613*BQ614*6)/BQ612)","v":0},{"$f":"IF(BP610=0,0,(BQ610-BP610)/BP610*100)","v":0},{"$f":"IF(BS612=0,0,(BS611*BS612+BS613*BS614*6)/BS612)","v":0},{"$f":"IF(BT612=0,0,(BT611*BT612+BT613*BT614*6)/BT612)","v":0},{"$f":"IF(BS610=0,0,(BT610-BS610)/BS610*100)","v":0},{"$f":"IF(BV612=0,0,(BV611*BV612+BV613*BV614*6)/BV612)","v":0},{"$f":"IF(BW612=0,0,(BW611*BW612+BW613*BW614*6)/BW612)","v":0},{"$f":"IF(BV610=0,0,(BW610-BV610)/BV610*100)","v":0},{"$f":"IF(BY612=0,0,(BY611*BY612+BY613*BY614*6)/BY612)","v":0},{"$f":"IF(BZ612=0,0,(BZ611*BZ612+BZ613*BZ614*6)/BZ612)","v":0},{"$f":"IF(BY610=0,0,(BZ610-BY610)/BY610*100)","v":0},{"$f":"IF(CB612=0,0,(CB611*CB612+CB613*CB614*6)/CB612)","v":0},{"$f":"IF(CC612=0,0,(CC611*CC612+CC613*CC614*6)/CC612)","v":0},{"$f":"IF(CB610=0,0,(CC610-CB610)/CB610*100)","v":0},{"$f":"IF(CE612=0,0,(CE611*CE612+CE613*CE614*6)/CE612)","v":0},{"$f":"IF(CF612=0,0,(CF611*CF612+CF613*CF614*6)/CF612)","v":0},{"$f":"IF(CE610=0,0,(CF610-CE610)/CE610*100)","v":0},{"$f":"IF(CH612=0,0,(CH611*CH612+CH613*CH614*6)/CH612)","v":0},{"$f":"IF(CI612=0,0,(CI611*CI612+CI613*CI614*6)/CI612)","v":0},{"$f":"IF(CH610=0,0,(CI610-CH610)/CH610*100)","v":0},{"$f":"IF(CK612=0,0,(CK611*CK612+CK613*CK614*6)/CK612)","v":0},{"$f":"IF(CL612=0,0,(CL611*CL612+CL613*CL614*6)/CL612)","v":0},{"$f":"IF(CK610=0,0,(CL610-CK610)/CK610*100)","v":0},{"$f":"IF(CN612=0,0,(CN611*CN612+CN613*CN614*6)/CN612)","v":0},{"$f":"IF(CO612=0,0,(CO611*CO612+CO613*CO614*6)/CO612)","v":0},{"$f":"IF(CN610=0,0,(CO610-CN610)/CN610*100)","v":0},{"$f":"IF(CQ612=0,0,(CQ611*CQ612+CQ613*CQ614*6)/CQ612)","v":0},{"$f":"IF(CR612=0,0,(CR611*CR612+CR613*CR614*6)/CR612)","v":0},{"$f":"IF(CQ610=0,0,(CR610-CQ610)/CQ610*100)","v":0},{"$f":"IF(CT612=0,0,(CT611*CT612+CT613*CT614*6)/CT612)","v":0},{"$f":"IF(CU612=0,0,(CU611*CU612+CU613*CU614*6)/CU612)","v":0},{"$f":"IF(CT610=0,0,(CU610-CT610)/CT610*100)","v":0},{"$f":"IF(CW612=0,0,(CW611*CW612+CW613*CW614*6)/CW612)","v":0},{"$f":"IF(CX612=0,0,(CX611*CX612+CX613*CX614*6)/CX612)","v":0},{"$f":"IF(CW610=0,0,(CX610-CW610)/CW610*100)","v":0},{"$f":"IF(CZ612=0,0,(CZ611*CZ612+CZ613*CZ614*6)/CZ612)","v":0},{"$f":"IF(DA612=0,0,(DA611*DA612+DA613*DA614*6)/DA612)","v":0},{"$f":"IF(CZ610=0,0,(DA610-CZ610)/CZ610*100)","v":0},{"$f":"IF(DC612=0,0,(DC611*DC612+DC613*DC614*6)/DC612)","v":0},{"$f":"IF(DD612=0,0,(DD611*DD612+DD613*DD614*6)/DD612)","v":0},{"$f":"IF(DC610=0,0,(DD610-DC610)/DC610*100)","v":0},{"$f":"IF(DF612=0,0,(DF611*DF612+DF613*DF614*6)/DF612)","v":0},{"$f":"IF(DG612=0,0,(DG611*DG612+DG613*DG614*6)/DG612)","v":0},{"$f":"IF(DF610=0,0,(DG610-DF610)/DF610*100)","v":0},{"$f":"IF(DI612=0,0,(DI611*DI612+DI613*DI614*6)/DI612)","v":0},{"$f":"IF(DJ612=0,0,(DJ611*DJ612+DJ613*DJ614*6)/DJ612)","v":0},{"$f":"IF(DI610=0,0,(DJ610-DI610)/DI610*100)","v":0},{"$f":"IF(DL612=0,0,(DL611*DL612+DL613*DL614*6)/DL612)","v":0},{"$f":"IF(DM612=0,0,(DM611*DM612+DM613*DM614*6)/DM612)","v":0},{"$f":"IF(DL610=0,0,(DM610-DL610)/DL610*100)","v":0},{"$f":"IF(DO612=0,0,(DO611*DO612+DO613*DO614*6)/DO612)","v":0},{"$f":"IF(DP612=0,0,(DP611*DP612+DP613*DP614*6)/DP612)","v":0},{"$f":"IF(DO610=0,0,(DP610-DO610)/DO610*100)","v":0},{"$f":"IF(DR612=0,0,(DR611*DR612+DR613*DR614*6)/DR612)","v":0},{"$f":"IF(DS612=0,0,(DS611*DS612+DS613*DS614*6)/DS612)","v":0},{"$f":"IF(DR610=0,0,(DS610-DR610)/DR610*100)","v":0},{"$f":"IF(DU612=0,0,(DU611*DU612+DU613*DU614*6)/DU612)","v":0},{"$f":"IF(DV612=0,0,(DV611*DV612+DV613*DV614*6)/DV612)","v":0},{"$f":"IF(DU610=0,0,(DV610-DU610)/DU610*100)","v":0},{"$f":"IF(DX612=0,0,(DX611*DX612+DX613*DX614*6)/DX612)","v":0},{"$f":"IF(DY612=0,0,(DY611*DY612+DY613*DY614*6)/DY612)","v":0},{"$f":"IF(DX610=0,0,(DY610-DX610)/DX610*100)","v":0},{"$f":"IF(EA612=0,0,(EA611*EA612+EA613*EA614*6)/EA612)","v":0},{"$f":"IF(EB612=0,0,(EB611*EB612+EB613*EB614*6)/EB612)","v":0},{"$f":"IF(EA610=0,0,(EB610-EA610)/EA610*100)","v":0},{"$f":"IF(ED612=0,0,(ED611*ED612+ED613*ED614*6)/ED612)","v":0},{"$f":"IF(EE612=0,0,(EE611*EE612+EE613*EE614*6)/EE612)","v":0},{"$f":"IF(ED610=0,0,(EE610-ED610)/ED610*100)","v":0},{"$f":"IF(EG612=0,0,(EG611*EG612+EG613*EG614*6)/EG612)","v":0},{"$f":"IF(EH612=0,0,(EH611*EH612+EH613*EH614*6)/EH612)","v":0},{"$f":"IF(EG610=0,0,(EH610-EG610)/EG610*100)","v":0},{"$f":"IF(EJ612=0,0,(EJ611*EJ612+EJ613*EJ614*6)/EJ612)","v":0},{"$f":"IF(EK612=0,0,(EK611*EK612+EK613*EK614*6)/EK612)","v":0},{"$f":"IF(EJ610=0,0,(EK610-EJ610)/EJ610*100)","v":0},{"$f":"IF(EM612=0,0,(EM611*EM612+EM613*EM614*6)/EM612)","v":0},{"$f":"IF(EN612=0,0,(EN611*EN612+EN613*EN614*6)/EN612)","v":0},{"$f":"IF(EM610=0,0,(EN610-EM610)/EM610*100)","v":0},{"$f":"IF(EP612=0,0,(EP611*EP612+EP613*EP614*6)/EP612)","v":0},{"$f":"IF(EQ612=0,0,(EQ611*EQ612+EQ613*EQ614*6)/EQ612)","v":0},{"$f":"IF(EP610=0,0,(EQ610-EP610)/EP610*100)","v":0},{"$f":"IF(ES612=0,0,(ES611*ES612+ES613*ES614*6)/ES612)","v":0},{"$f":"IF(ET612=0,0,(ET611*ET612+ET613*ET614*6)/ET612)","v":0},{"$f":"IF(ES610=0,0,(ET610-ES610)/ES610*100)","v":0},{"$f":"IF(EV612=0,0,(EV611*EV612+EV613*EV614*6)/EV612)","v":0},{"$f":"IF(EW612=0,0,(EW611*EW612+EW613*EW614*6)/EW612)","v":0},{"$f":"IF(EV610=0,0,(EW610-EV610)/EV610*100)","v":0},{"$f":"IF(EY612=0,0,(EY611*EY612+EY613*EY614*6)/EY612)","v":0},{"$f":"IF(EZ612=0,0,(EZ611*EZ612+EZ613*EZ614*6)/EZ612)","v":0},{"$f":"IF(EY610=0,0,(EZ610-EY610)/EY610*100)","v":0},{"$f":"IF(FB612=0,0,(FB611*FB612+FB613*FB614*6)/FB612)","v":0},{"$f":"IF(FC612=0,0,(FC611*FC612+FC613*FC614*6)/FC612)","v":0},{"$f":"IF(FB610=0,0,(FC610-FB610)/FB610*100)","v":0},{"$f":"IF(FE612=0,0,(FE611*FE612+FE613*FE614*6)/FE612)","v":0},{"$f":"IF(FF612=0,0,(FF611*FF612+FF613*FF614*6)/FF612)","v":0},{"$f":"IF(FE610=0,0,(FF610-FE610)/FE610*100)","v":0}]
["1",null,"L2_1_2","для населения с 01.01 по 30.06 с НДС",null,null,{"$f":"F582=\"двухставочный\"","v":false},null,null,null,null,"ставка платы за потребление 1 куб.м холодной воды","руб./куб.м",null,null,{"$f":"IF(N611=0,0,(O611-N611)/N611*100)","v":0},null,null,{"$f":"IF(Q611=0,0,(R611-Q611)/Q611*100)","v":0},null,null,{"$f":"IF(T611=0,0,(U611-T611)/T611*100)","v":0},null,null,{"$f":"IF(W611=0,0,(X611-W611)/W611*100)","v":0},null,null,{"$f":"IF(Z611=0,0,(AA611-Z611)/Z611*100)","v":0},null,null,{"$f":"IF(AC611=0,0,(AD611-AC611)/AC611*100)","v":0},null,null,{"$f":"IF(AF611=0,0,(AG611-AF611)/AF611*100)","v":0},null,null,{"$f":"IF(AI611=0,0,(AJ611-AI611)/AI611*100)","v":0},null,null,{"$f":"IF(AL611=0,0,(AM611-AL611)/AL611*100)","v":0},null,null,{"$f":"IF(AO611=0,0,(AP611-AO611)/AO611*100)","v":0},null,null,{"$f":"IF(AR611=0,0,(AS611-AR611)/AR611*100)","v":0},null,null,{"$f":"IF(AU611=0,0,(AV611-AU611)/AU611*100)","v":0},null,null,{"$f":"IF(AX611=0,0,(AY611-AX611)/AX611*100)","v":0},null,null,{"$f":"IF(BA611=0,0,(BB611-BA611)/BA611*100)","v":0},null,null,{"$f":"IF(BD611=0,0,(BE611-BD611)/BD611*100)","v":0},null,null,{"$f":"IF(BG611=0,0,(BH611-BG611)/BG611*100)","v":0},null,null,{"$f":"IF(BJ611=0,0,(BK611-BJ611)/BJ611*100)","v":0},null,null,{"$f":"IF(BM611=0,0,(BN611-BM611)/BM611*100)","v":0},null,null,{"$f":"IF(BP611=0,0,(BQ611-BP611)/BP611*100)","v":0},null,null,{"$f":"IF(BS611=0,0,(BT611-BS611)/BS611*100)","v":0},null,null,{"$f":"IF(BV611=0,0,(BW611-BV611)/BV611*100)","v":0},null,null,{"$f":"IF(BY611=0,0,(BZ611-BY611)/BY611*100)","v":0},null,null,{"$f":"IF(CB611=0,0,(CC611-CB611)/CB611*100)","v":0},null,null,{"$f":"IF(CE611=0,0,(CF611-CE611)/CE611*100)","v":0},null,null,{"$f":"IF(CH611=0,0,(CI611-CH611)/CH611*100)","v":0},null,null,{"$f":"IF(CK611=0,0,(CL611-CK611)/CK611*100)","v":0},null,null,{"$f":"IF(CN611=0,0,(CO611-CN611)/CN611*100)","v":0},null,null,{"$f":"IF(CQ611=0,0,(CR611-CQ611)/CQ611*100)","v":0},null,null,{"$f":"IF(CT611=0,0,(CU611-CT611)/CT611*100)","v":0},null,null,{"$f":"IF(CW611=0,0,(CX611-CW611)/CW611*100)","v":0},null,null,{"$f":"IF(CZ611=0,0,(DA611-CZ611)/CZ611*100)","v":0},null,null,{"$f":"IF(DC611=0,0,(DD611-DC611)/DC611*100)","v":0},null,null,{"$f":"IF(DF611=0,0,(DG611-DF611)/DF611*100)","v":0},null,null,{"$f":"IF(DI611=0,0,(DJ611-DI611)/DI611*100)","v":0},null,null,{"$f":"IF(DL611=0,0,(DM611-DL611)/DL611*100)","v":0},null,null,{"$f":"IF(DO611=0,0,(DP611-DO611)/DO611*100)","v":0},null,null,{"$f":"IF(DR611=0,0,(DS611-DR611)/DR611*100)","v":0},null,null,{"$f":"IF(DU611=0,0,(DV611-DU611)/DU611*100)","v":0},null,null,{"$f":"IF(DX611=0,0,(DY611-DX611)/DX611*100)","v":0},null,null,{"$f":"IF(EA611=0,0,(EB611-EA611)/EA611*100)","v":0},null,null,{"$f":"IF(ED611=0,0,(EE611-ED611)/ED611*100)","v":0},null,null,{"$f":"IF(EG611=0,0,(EH611-EG611)/EG611*100)","v":0},null,null,{"$f":"IF(EJ611=0,0,(EK611-EJ611)/EJ611*100)","v":0},null,null,{"$f":"IF(EM611=0,0,(EN611-EM611)/EM611*100)","v":0},null,null,{"$f":"IF(EP611=0,0,(EQ611-EP611)/EP611*100)","v":0},null,null,{"$f":"IF(ES611=0,0,(ET611-ES611)/ES611*100)","v":0},null,null,{"$f":"IF(EV611=0,0,(EW611-EV611)/EV611*100)","v":0},null,null,{"$f":"IF(EY611=0,0,(EZ611-EY611)/EY611*100)","v":0},null,null,{"$f":"IF(FB611=0,0,(FC611-FB611)/FB611*100)","v":0},null,null,{"$f":"IF(FE611=0,0,(FF611-FE611)/FE611*100)","v":0}]
["1","ПО.население.I","L2_1_3","для населения с 01.01 по 30.06 с НДС",null,null,{"$f":"F582=\"двухставочный\"","v":false},null,null,null,null,"объём потребления холодной воды","тыс.куб.м",{"$f":"SUMIFS(INDEX(Калькуляция!$T$15:$AM$268,,MATCH(N$3,Калькуляция!$T$3:$AM$3,0)),Калькуляция!$A$15:$A$268,$A612,Калькуляция!$B$15:$B$268,$B612)","v":{"$error":"#N/A"}},{"$f":"SUMIFS(INDEX(Калькуляция!$T$15:$AM$268,,MATCH(O$3,Калькуляция!$T$3:$AM$3,0)),Калькуляция!$A$15:$A$268,$A612,Калькуляция!$B$15:$B$268,$B612)","v":{"$error":"#N/A"}},{"$f":"IF(N612=0,0,(O612-N612)/N612*100)","v":{"$error":"#N/A"}},{"$f":"SUMIFS(INDEX(Калькуляция!$T$15:$AM$268,,MATCH(Q$3,Калькуляция!$T$3:$AM$3,0)),Калькуляция!$A$15:$A$268,$A612,Калькуляция!$B$15:$B$268,$B612)","v":{"$error":"#N/A"}},{"$f":"SUMIFS(INDEX(Калькуляция!$T$15:$AM$268,,MATCH(R$3,Калькуляция!$T$3:$AM$3,0)),Калькуляция!$A$15:$A$268,$A612,Калькуляция!$B$15:$B$268,$B612)","v":{"$error":"#N/A"}},{"$f":"IF(Q612=0,0,(R612-Q612)/Q612*100)","v":{"$error":"#N/A"}},{"$f":"SUMIFS(INDEX(Калькуляция!$T$15:$AM$268,,MATCH(T$3,Калькуляция!$T$3:$AM$3,0)),Калькуляция!$A$15:$A$268,$A612,Калькуляция!$B$15:$B$268,$B612)","v":{"$error":"#N/A"}},{"$f":"SUMIFS(INDEX(Калькуляция!$T$15:$AM$268,,MATCH(U$3,Калькуляция!$T$3:$AM$3,0)),Калькуляция!$A$15:$A$268,$A612,Калькуляция!$B$15:$B$268,$B612)","v":{"$error":"#N/A"}},{"$f":"IF(T612=0,0,(U612-T612)/T612*100)","v":{"$error":"#N/A"}},{"$f":"SUMIFS(INDEX(Калькуляция!$T$15:$AM$268,,MATCH(W$3,Калькуляция!$T$3:$AM$3,0)),Калькуляция!$A$15:$A$268,$A612,Калькуляция!$B$15:$B$268,$B612)","v":{"$error":"#N/A"}},{"$f":"SUMIFS(INDEX(Калькуляция!$T$15:$AM$268,,MATCH(X$3,Калькуляция!$T$3:$AM$3,0)),Калькуляция!$A$15:$A$268,$A612,Калькуляция!$B$15:$B$268,$B612)","v":{"$error":"#N/A"}},{"$f":"IF(W612=0,0,(X612-W612)/W612*100)","v":{"$error":"#N/A"}},{"$f":"SUMIFS(INDEX(Калькуляция!$T$15:$AM$268,,MATCH(Z$3,Калькуляция!$T$3:$AM$3,0)),Калькуляция!$A$15:$A$268,$A612,Калькуляция!$B$15:$B$268,$B612)","v":{"$error":"#N/A"}},{"$f":"SUMIFS(INDEX(Калькуляция!$T$15:$AM$268,,MATCH(AA$3,Калькуляция!$T$3:$AM$3,0)),Калькуляция!$A$15:$A$268,$A612,Калькуляция!$B$15:$B$268,$B612)","v":{"$error":"#N/A"}},{"$f":"IF(Z612=0,0,(AA612-Z612)/Z612*100)","v":{"$error":"#N/A"}},{"$f":"SUMIFS(INDEX(Калькуляция!$T$15:$AM$268,,MATCH(AC$3,Калькуляция!$T$3:$AM$3,0)),Калькуляция!$A$15:$A$268,$A612,Калькуляция!$B$15:$B$268,$B612)","v":{"$error":"#N/A"}},{"$f":"SUMIFS(INDEX(Калькуляция!$T$15:$AM$268,,MATCH(AD$3,Калькуляция!$T$3:$AM$3,0)),Калькуляция!$A$15:$A$268,$A612,Калькуляция!$B$15:$B$268,$B612)","v":{"$error":"#N/A"}},{"$f":"IF(AC612=0,0,(AD612-AC612)/AC612*100)","v":{"$error":"#N/A"}},{"$f":"SUMIFS(INDEX(Калькуляция!$T$15:$AM$268,,MATCH(AF$3,Калькуляция!$T$3:$AM$3,0)),Калькуляция!$A$15:$A$268,$A612,Калькуляция!$B$15:$B$268,$B612)","v":{"$error":"#N/A"}},{"$f":"SUMIFS(INDEX(Калькуляция!$T$15:$AM$268,,MATCH(AG$3,Калькуляция!$T$3:$AM$3,0)),Калькуляция!$A$15:$A$268,$A612,Калькуляция!$B$15:$B$268,$B612)","v":{"$error":"#N/A"}},{"$f":"IF(AF612=0,0,(AG612-AF612)/AF612*100)","v":{"$error":"#N/A"}},{"$f":"SUMIFS(INDEX(Калькуляция!$T$15:$AM$268,,MATCH(AI$3,Калькуляция!$T$3:$AM$3,0)),Калькуляция!$A$15:$A$268,$A612,Калькуляция!$B$15:$B$268,$B612)","v":{"$error":"#N/A"}},{"$f":"SUMIFS(INDEX(Калькуляция!$T$15:$AM$268,,MATCH(AJ$3,Калькуляция!$T$3:$AM$3,0)),Калькуляция!$A$15:$A$268,$A612,Калькуляция!$B$15:$B$268,$B612)","v":{"$error":"#N/A"}},{"$f":"IF(AI612=0,0,(AJ612-AI612)/AI612*100)","v":{"$error":"#N/A"}},{"$f":"SUMIFS(INDEX(Калькуляция!$T$15:$AM$268,,MATCH(AL$3,Калькуляция!$T$3:$AM$3,0)),Калькуляция!$A$15:$A$268,$A612,Калькуляция!$B$15:$B$268,$B612)","v":{"$error":"#N/A"}},{"$f":"SUMIFS(INDEX(Калькуляция!$T$15:$AM$268,,MATCH(AM$3,Калькуляция!$T$3:$AM$3,0)),Калькуляция!$A$15:$A$268,$A612,Калькуляция!$B$15:$B$268,$B612)","v":{"$error":"#N/A"}},{"$f":"IF(AL612=0,0,(AM612-AL612)/AL612*100)","v":{"$error":"#N/A"}},{"$f":"SUMIFS(INDEX(Калькуляция!$T$15:$AM$268,,MATCH(AO$3,Калькуляция!$T$3:$AM$3,0)),Калькуляция!$A$15:$A$268,$A612,Калькуляция!$B$15:$B$268,$B612)","v":{"$error":"#N/A"}},{"$f":"SUMIFS(INDEX(Калькуляция!$T$15:$AM$268,,MATCH(AP$3,Калькуляция!$T$3:$AM$3,0)),Калькуляция!$A$15:$A$268,$A612,Калькуляция!$B$15:$B$268,$B612)","v":{"$error":"#N/A"}},{"$f":"IF(AO612=0,0,(AP612-AO612)/AO612*100)","v":{"$error":"#N/A"}},null,null,{"$f":"IF(AR612=0,0,(AS612-AR612)/AR612*100)","v":0},null,null,{"$f":"IF(AU612=0,0,(AV612-AU612)/AU612*100)","v":0},null,null,{"$f":"IF(AX612=0,0,(AY612-AX612)/AX612*100)","v":0},null,null,{"$f":"IF(BA612=0,0,(BB612-BA612)/BA612*100)","v":0},null,null,{"$f":"IF(BD612=0,0,(BE612-BD612)/BD612*100)","v":0},null,null,{"$f":"IF(BG612=0,0,(BH612-BG612)/BG612*100)","v":0},null,null,{"$f":"IF(BJ612=0,0,(BK612-BJ612)/BJ612*100)","v":0},null,null,{"$f":"IF(BM612=0,0,(BN612-BM612)/BM612*100)","v":0},null,null,{"$f":"IF(BP612=0,0,(BQ612-BP612)/BP612*100)","v":0},null,null,{"$f":"IF(BS612=0,0,(BT612-BS612)/BS612*100)","v":0},null,null,{"$f":"IF(BV612=0,0,(BW612-BV612)/BV612*100)","v":0},null,null,{"$f":"IF(BY612=0,0,(BZ612-BY612)/BY612*100)","v":0},null,null,{"$f":"IF(CB612=0,0,(CC612-CB612)/CB612*100)","v":0},null,null,{"$f":"IF(CE612=0,0,(CF612-CE612)/CE612*100)","v":0},null,null,{"$f":"IF(CH612=0,0,(CI612-CH612)/CH612*100)","v":0},null,null,{"$f":"IF(CK612=0,0,(CL612-CK612)/CK612*100)","v":0},null,null,{"$f":"IF(CN612=0,0,(CO612-CN612)/CN612*100)","v":0},null,null,{"$f":"IF(CQ612=0,0,(CR612-CQ612)/CQ612*100)","v":0},null,null,{"$f":"IF(CT612=0,0,(CU612-CT612)/CT612*100)","v":0},null,null,{"$f":"IF(CW612=0,0,(CX612-CW612)/CW612*100)","v":0},null,null,{"$f":"IF(CZ612=0,0,(DA612-CZ612)/CZ612*100)","v":0},null,null,{"$f":"IF(DC612=0,0,(DD612-DC612)/DC612*100)","v":0},null,null,{"$f":"IF(DF612=0,0,(DG612-DF612)/DF612*100)","v":0},null,null,{"$f":"IF(DI612=0,0,(DJ612-DI612)/DI612*100)","v":0},null,null,{"$f":"IF(DL612=0,0,(DM612-DL612)/DL612*100)","v":0},null,null,{"$f":"IF(DO612=0,0,(DP612-DO612)/DO612*100)","v":0},null,null,{"$f":"IF(DR612=0,0,(DS612-DR612)/DR612*100)","v":0},null,null,{"$f":"IF(DU612=0,0,(DV612-DU612)/DU612*100)","v":0},null,null,{"$f":"IF(DX612=0,0,(DY612-DX612)/DX612*100)","v":0},null,null,{"$f":"IF(EA612=0,0,(EB612-EA612)/EA612*100)","v":0},null,null,{"$f":"IF(ED612=0,0,(EE612-ED612)/ED612*100)","v":0},null,null,{"$f":"IF(EG612=0,0,(EH612-EG612)/EG612*100)","v":0},null,null,{"$f":"IF(EJ612=0,0,(EK612-EJ612)/EJ612*100)","v":0},null,null,{"$f":"IF(EM612=0,0,(EN612-EM612)/EM612*100)","v":0},null,null,{"$f":"IF(EP612=0,0,(EQ612-EP612)/EP612*100)","v":0},null,null,{"$f":"IF(ES612=0,0,(ET612-ES612)/ES612*100)","v":0},null,null,{"$f":"IF(EV612=0,0,(EW612-EV612)/EV612*100)","v":0},null,null,{"$f":"IF(EY612=0,0,(EZ612-EY612)/EY612*100)","v":0},null,null,{"$f":"IF(FB612=0,0,(FC612-FB612)/FB612*100)","v":0},null,null,{"$f":"IF(FE612=0,0,(FF612-FE612)/FE612*100)","v":0}]
["1",null,"L2_1_4","для населения с 01.01 по 30.06 с НДС",null,null,{"$f":"F582=\"двухставочный\"","v":false},null,null,null,null,"ставка платы за содержание системы холодного водоснабжения","тыс.руб./куб.м*час/в месяц",null,null,{"$f":"IF(N613=0,0,(O613-N613)/N613*100)","v":0},null,null,{"$f":"IF(Q613=0,0,(R613-Q613)/Q613*100)","v":0},null,null,{"$f":"IF(T613=0,0,(U613-T613)/T613*100)","v":0},null,null,{"$f":"IF(W613=0,0,(X613-W613)/W613*100)","v":0},null,null,{"$f":"IF(Z613=0,0,(AA613-Z613)/Z613*100)","v":0},null,null,{"$f":"IF(AC613=0,0,(AD613-AC613)/AC613*100)","v":0},null,null,{"$f":"IF(AF613=0,0,(AG613-AF613)/AF613*100)","v":0},null,null,{"$f":"IF(AI613=0,0,(AJ613-AI613)/AI613*100)","v":0},null,null,{"$f":"IF(AL613=0,0,(AM613-AL613)/AL613*100)","v":0},null,null,{"$f":"IF(AO613=0,0,(AP613-AO613)/AO613*100)","v":0},null,null,{"$f":"IF(AR613=0,0,(AS613-AR613)/AR613*100)","v":0},null,null,{"$f":"IF(AU613=0,0,(AV613-AU613)/AU613*100)","v":0},null,null,{"$f":"IF(AX613=0,0,(AY613-AX613)/AX613*100)","v":0},null,null,{"$f":"IF(BA613=0,0,(BB613-BA613)/BA613*100)","v":0},null,null,{"$f":"IF(BD613=0,0,(BE613-BD613)/BD613*100)","v":0},null,null,{"$f":"IF(BG613=0,0,(BH613-BG613)/BG613*100)","v":0},null,null,{"$f":"IF(BJ613=0,0,(BK613-BJ613)/BJ613*100)","v":0},null,null,{"$f":"IF(BM613=0,0,(BN613-BM613)/BM613*100)","v":0},null,null,{"$f":"IF(BP613=0,0,(BQ613-BP613)/BP613*100)","v":0},null,null,{"$f":"IF(BS613=0,0,(BT613-BS613)/BS613*100)","v":0},null,null,{"$f":"IF(BV613=0,0,(BW613-BV613)/BV613*100)","v":0},null,null,{"$f":"IF(BY613=0,0,(BZ613-BY613)/BY613*100)","v":0},null,null,{"$f":"IF(CB613=0,0,(CC613-CB613)/CB613*100)","v":0},null,null,{"$f":"IF(CE613=0,0,(CF613-CE613)/CE613*100)","v":0},null,null,{"$f":"IF(CH613=0,0,(CI613-CH613)/CH613*100)","v":0},null,null,{"$f":"IF(CK613=0,0,(CL613-CK613)/CK613*100)","v":0},null,null,{"$f":"IF(CN613=0,0,(CO613-CN613)/CN613*100)","v":0},null,null,{"$f":"IF(CQ613=0,0,(CR613-CQ613)/CQ613*100)","v":0},null,null,{"$f":"IF(CT613=0,0,(CU613-CT613)/CT613*100)","v":0},null,null,{"$f":"IF(CW613=0,0,(CX613-CW613)/CW613*100)","v":0},null,null,{"$f":"IF(CZ613=0,0,(DA613-CZ613)/CZ613*100)","v":0},null,null,{"$f":"IF(DC613=0,0,(DD613-DC613)/DC613*100)","v":0},null,null,{"$f":"IF(DF613=0,0,(DG613-DF613)/DF613*100)","v":0},null,null,{"$f":"IF(DI613=0,0,(DJ613-DI613)/DI613*100)","v":0},null,null,{"$f":"IF(DL613=0,0,(DM613-DL613)/DL613*100)","v":0},null,null,{"$f":"IF(DO613=0,0,(DP613-DO613)/DO613*100)","v":0},null,null,{"$f":"IF(DR613=0,0,(DS613-DR613)/DR613*100)","v":0},null,null,{"$f":"IF(DU613=0,0,(DV613-DU613)/DU613*100)","v":0},null,null,{"$f":"IF(DX613=0,0,(DY613-DX613)/DX613*100)","v":0},null,null,{"$f":"IF(EA613=0,0,(EB613-EA613)/EA613*100)","v":0},null,null,{"$f":"IF(ED613=0,0,(EE613-ED613)/ED613*100)","v":0},null,null,{"$f":"IF(EG613=0,0,(EH613-EG613)/EG613*100)","v":0},null,null,{"$f":"IF(EJ613=0,0,(EK613-EJ613)/EJ613*100)","v":0},null,null,{"$f":"IF(EM613=0,0,(EN613-EM613)/EM613*100)","v":0},null,null,{"$f":"IF(EP613=0,0,(EQ613-EP613)/EP613*100)","v":0},null,null,{"$f":"IF(ES613=0,0,(ET613-ES613)/ES613*100)","v":0},null,null,{"$f":"IF(EV613=0,0,(EW613-EV613)/EV613*100)","v":0},null,null,{"$f":"IF(EY613=0,0,(EZ613-EY613)/EY613*100)","v":0},null,null,{"$f":"IF(FB613=0,0,(FC613-FB613)/FB613*100)","v":0},null,null,{"$f":"IF(FE613=0,0,(FF613-FE613)/FE613*100)","v":0}]
["1",null,"L2_1_5","для населения с 01.01 по 30.06 с НДС",null,null,{"$f":"F582=\"двухставочный\"","v":false},null,null,null,null,"величина присоединённой мощности","куб.м*час",null,null,{"$f":"IF(N614=0,0,(O614-N614)/N614*100)","v":0},null,null,{"$f":"IF(Q614=0,0,(R614-Q614)/Q614*100)","v":0},null,null,{"$f":"IF(T614=0,0,(U614-T614)/T614*100)","v":0},null,null,{"$f":"IF(W614=0,0,(X614-W614)/W614*100)","v":0},null,null,{"$f":"IF(Z614=0,0,(AA614-Z614)/Z614*100)","v":0},null,null,{"$f":"IF(AC614=0,0,(AD614-AC614)/AC614*100)","v":0},null,null,{"$f":"IF(AF614=0,0,(AG614-AF614)/AF614*100)","v":0},null,null,{"$f":"IF(AI614=0,0,(AJ614-AI614)/AI614*100)","v":0},null,null,{"$f":"IF(AL614=0,0,(AM614-AL614)/AL614*100)","v":0},null,null,{"$f":"IF(AO614=0,0,(AP614-AO614)/AO614*100)","v":0},null,null,{"$f":"IF(AR614=0,0,(AS614-AR614)/AR614*100)","v":0},null,null,{"$f":"IF(AU614=0,0,(AV614-AU614)/AU614*100)","v":0},null,null,{"$f":"IF(AX614=0,0,(AY614-AX614)/AX614*100)","v":0},null,null,{"$f":"IF(BA614=0,0,(BB614-BA614)/BA614*100)","v":0},null,null,{"$f":"IF(BD614=0,0,(BE614-BD614)/BD614*100)","v":0},null,null,{"$f":"IF(BG614=0,0,(BH614-BG614)/BG614*100)","v":0},null,null,{"$f":"IF(BJ614=0,0,(BK614-BJ614)/BJ614*100)","v":0},null,null,{"$f":"IF(BM614=0,0,(BN614-BM614)/BM614*100)","v":0},null,null,{"$f":"IF(BP614=0,0,(BQ614-BP614)/BP614*100)","v":0},null,null,{"$f":"IF(BS614=0,0,(BT614-BS614)/BS614*100)","v":0},null,null,{"$f":"IF(BV614=0,0,(BW614-BV614)/BV614*100)","v":0},null,null,{"$f":"IF(BY614=0,0,(BZ614-BY614)/BY614*100)","v":0},null,null,{"$f":"IF(CB614=0,0,(CC614-CB614)/CB614*100)","v":0},null,null,{"$f":"IF(CE614=0,0,(CF614-CE614)/CE614*100)","v":0},null,null,{"$f":"IF(CH614=0,0,(CI614-CH614)/CH614*100)","v":0},null,null,{"$f":"IF(CK614=0,0,(CL614-CK614)/CK614*100)","v":0},null,null,{"$f":"IF(CN614=0,0,(CO614-CN614)/CN614*100)","v":0},null,null,{"$f":"IF(CQ614=0,0,(CR614-CQ614)/CQ614*100)","v":0},null,null,{"$f":"IF(CT614=0,0,(CU614-CT614)/CT614*100)","v":0},null,null,{"$f":"IF(CW614=0,0,(CX614-CW614)/CW614*100)","v":0},null,null,{"$f":"IF(CZ614=0,0,(DA614-CZ614)/CZ614*100)","v":0},null,null,{"$f":"IF(DC614=0,0,(DD614-DC614)/DC614*100)","v":0},null,null,{"$f":"IF(DF614=0,0,(DG614-DF614)/DF614*100)","v":0},null,null,{"$f":"IF(DI614=0,0,(DJ614-DI614)/DI614*100)","v":0},null,null,{"$f":"IF(DL614=0,0,(DM614-DL614)/DL614*100)","v":0},null,null,{"$f":"IF(DO614=0,0,(DP614-DO614)/DO614*100)","v":0},null,null,{"$f":"IF(DR614=0,0,(DS614-DR614)/DR614*100)","v":0},null,null,{"$f":"IF(DU614=0,0,(DV614-DU614)/DU614*100)","v":0},null,null,{"$f":"IF(DX614=0,0,(DY614-DX614)/DX614*100)","v":0},null,null,{"$f":"IF(EA614=0,0,(EB614-EA614)/EA614*100)","v":0},null,null,{"$f":"IF(ED614=0,0,(EE614-ED614)/ED614*100)","v":0},null,null,{"$f":"IF(EG614=0,0,(EH614-EG614)/EG614*100)","v":0},null,null,{"$f":"IF(EJ614=0,0,(EK614-EJ614)/EJ614*100)","v":0},null,null,{"$f":"IF(EM614=0,0,(EN614-EM614)/EM614*100)","v":0},null,null,{"$f":"IF(EP614=0,0,(EQ614-EP614)/EP614*100)","v":0},null,null,{"$f":"IF(ES614=0,0,(ET614-ES614)/ES614*100)","v":0},null,null,{"$f":"IF(EV614=0,0,(EW614-EV614)/EV614*100)","v":0},null,null,{"$f":"IF(EY614=0,0,(EZ614-EY614)/EY614*100)","v":0},null,null,{"$f":"IF(FB614=0,0,(FC614-FB614)/FB614*100)","v":0},null,null,{"$f":"IF(FE614=0,0,(FF614-FE614)/FE614*100)","v":0}]
["1",null,null,null,null,null,{"$f":"F582=\"двухставочный\"","v":false},null,null,null,null,"Тариф с 01.01 по 30.06 для населения с НДС:"]
["1",null,"L2_1_1","для населения с 01.07 по 31.12 с НДС",null,null,{"$f":"F582=\"двухставочный\"","v":false},null,null,null,null,"перевод двухставочного тарифа в одноставочный тариф","руб./куб.м",{"$f":"IF(N618=0,0,(N617*N618+N619*N620*6)/N618)","v":{"$error":"#N/A"}},{"$f":"IF(O618=0,0,(O617*O618+O619*O620*6)/O618)","v":{"$error":"#N/A"}},{"$f":"IF(N616=0,0,(O616-N616)/N616*100)","v":{"$error":"#N/A"}},{"$f":"IF(Q618=0,0,(Q617*Q618+Q619*Q620*6)/Q618)","v":{"$error":"#N/A"}},{"$f":"IF(R618=0,0,(R617*R618+R619*R620*6)/R618)","v":{"$error":"#N/A"}},{"$f":"IF(Q616=0,0,(R616-Q616)/Q616*100)","v":{"$error":"#N/A"}},{"$f":"IF(T618=0,0,(T617*T618+T619*T620*6)/T618)","v":{"$error":"#N/A"}},{"$f":"IF(U618=0,0,(U617*U618+U619*U620*6)/U618)","v":{"$error":"#N/A"}},{"$f":"IF(T616=0,0,(U616-T616)/T616*100)","v":{"$error":"#N/A"}},{"$f":"IF(W618=0,0,(W617*W618+W619*W620*6)/W618)","v":{"$error":"#N/A"}},{"$f":"IF(X618=0,0,(X617*X618+X619*X620*6)/X618)","v":{"$error":"#N/A"}},{"$f":"IF(W616=0,0,(X616-W616)/W616*100)","v":{"$error":"#N/A"}},{"$f":"IF(Z618=0,0,(Z617*Z618+Z619*Z620*6)/Z618)","v":{"$error":"#N/A"}},{"$f":"IF(AA618=0,0,(AA617*AA618+AA619*AA620*6)/AA618)","v":{"$error":"#N/A"}},{"$f":"IF(Z616=0,0,(AA616-Z616)/Z616*100)","v":{"$error":"#N/A"}},{"$f":"IF(AC618=0,0,(AC617*AC618+AC619*AC620*6)/AC618)","v":{"$error":"#N/A"}},{"$f":"IF(AD618=0,0,(AD617*AD618+AD619*AD620*6)/AD618)","v":{"$error":"#N/A"}},{"$f":"IF(AC616=0,0,(AD616-AC616)/AC616*100)","v":{"$error":"#N/A"}},{"$f":"IF(AF618=0,0,(AF617*AF618+AF619*AF620*6)/AF618)","v":{"$error":"#N/A"}},{"$f":"IF(AG618=0,0,(AG617*AG618+AG619*AG620*6)/AG618)","v":{"$error":"#N/A"}},{"$f":"IF(AF616=0,0,(AG616-AF616)/AF616*100)","v":{"$error":"#N/A"}},{"$f":"IF(AI618=0,0,(AI617*AI618+AI619*AI620*6)/AI618)","v":{"$error":"#N/A"}},{"$f":"IF(AJ618=0,0,(AJ617*AJ618+AJ619*AJ620*6)/AJ618)","v":{"$error":"#N/A"}},{"$f":"IF(AI616=0,0,(AJ616-AI616)/AI616*100)","v":{"$error":"#N/A"}},{"$f":"IF(AL618=0,0,(AL617*AL618+AL619*AL620*6)/AL618)","v":{"$error":"#N/A"}},{"$f":"IF(AM618=0,0,(AM617*AM618+AM619*AM620*6)/AM618)","v":{"$error":"#N/A"}},{"$f":"IF(AL616=0,0,(AM616-AL616)/AL616*100)","v":{"$error":"#N/A"}},{"$f":"IF(AO618=0,0,(AO617*AO618+AO619*AO620*6)/AO618)","v":{"$error":"#N/A"}},{"$f":"IF(AP618=0,0,(AP617*AP618+AP619*AP620*6)/AP618)","v":{"$error":"#N/A"}},{"$f":"IF(AO616=0,0,(AP616-AO616)/AO616*100)","v":{"$error":"#N/A"}},{"$f":"IF(AR618=0,0,(AR617*AR618+AR619*AR620*6)/AR618)","v":0},{"$f":"IF(AS618=0,0,(AS617*AS618+AS619*AS620*6)/AS618)","v":0},{"$f":"IF(AR616=0,0,(AS616-AR616)/AR616*100)","v":0},{"$f":"IF(AU618=0,0,(AU617*AU618+AU619*AU620*6)/AU618)","v":0},{"$f":"IF(AV618=0,0,(AV617*AV618+AV619*AV620*6)/AV618)","v":0},{"$f":"IF(AU616=0,0,(AV616-AU616)/AU616*100)","v":0},{"$f":"IF(AX618=0,0,(AX617*AX618+AX619*AX620*6)/AX618)","v":0},{"$f":"IF(AY618=0,0,(AY617*AY618+AY619*AY620*6)/AY618)","v":0},{"$f":"IF(AX616=0,0,(AY616-AX616)/AX616*100)","v":0},{"$f":"IF(BA618=0,0,(BA617*BA618+BA619*BA620*6)/BA618)","v":0},{"$f":"IF(BB618=0,0,(BB617*BB618+BB619*BB620*6)/BB618)","v":0},{"$f":"IF(BA616=0,0,(BB616-BA616)/BA616*100)","v":0},{"$f":"IF(BD618=0,0,(BD617*BD618+BD619*BD620*6)/BD618)","v":0},{"$f":"IF(BE618=0,0,(BE617*BE618+BE619*BE620*6)/BE618)","v":0},{"$f":"IF(BD616=0,0,(BE616-BD616)/BD616*100)","v":0},{"$f":"IF(BG618=0,0,(BG617*BG618+BG619*BG620*6)/BG618)","v":0},{"$f":"IF(BH618=0,0,(BH617*BH618+BH619*BH620*6)/BH618)","v":0},{"$f":"IF(BG616=0,0,(BH616-BG616)/BG616*100)","v":0},{"$f":"IF(BJ618=0,0,(BJ617*BJ618+BJ619*BJ620*6)/BJ618)","v":0},{"$f":"IF(BK618=0,0,(BK617*BK618+BK619*BK620*6)/BK618)","v":0},{"$f":"IF(BJ616=0,0,(BK616-BJ616)/BJ616*100)","v":0},{"$f":"IF(BM618=0,0,(BM617*BM618+BM619*BM620*6)/BM618)","v":0},{"$f":"IF(BN618=0,0,(BN617*BN618+BN619*BN620*6)/BN618)","v":0},{"$f":"IF(BM616=0,0,(BN616-BM616)/BM616*100)","v":0},{"$f":"IF(BP618=0,0,(BP617*BP618+BP619*BP620*6)/BP618)","v":0},{"$f":"IF(BQ618=0,0,(BQ617*BQ618+BQ619*BQ620*6)/BQ618)","v":0},{"$f":"IF(BP616=0,0,(BQ616-BP616)/BP616*100)","v":0},{"$f":"IF(BS618=0,0,(BS617*BS618+BS619*BS620*6)/BS618)","v":0},{"$f":"IF(BT618=0,0,(BT617*BT618+BT619*BT620*6)/BT618)","v":0},{"$f":"IF(BS616=0,0,(BT616-BS616)/BS616*100)","v":0},{"$f":"IF(BV618=0,0,(BV617*BV618+BV619*BV620*6)/BV618)","v":0},{"$f":"IF(BW618=0,0,(BW617*BW618+BW619*BW620*6)/BW618)","v":0},{"$f":"IF(BV616=0,0,(BW616-BV616)/BV616*100)","v":0},{"$f":"IF(BY618=0,0,(BY617*BY618+BY619*BY620*6)/BY618)","v":0},{"$f":"IF(BZ618=0,0,(BZ617*BZ618+BZ619*BZ620*6)/BZ618)","v":0},{"$f":"IF(BY616=0,0,(BZ616-BY616)/BY616*100)","v":0},{"$f":"IF(CB618=0,0,(CB617*CB618+CB619*CB620*6)/CB618)","v":0},{"$f":"IF(CC618=0,0,(CC617*CC618+CC619*CC620*6)/CC618)","v":0},{"$f":"IF(CB616=0,0,(CC616-CB616)/CB616*100)","v":0},{"$f":"IF(CE618=0,0,(CE617*CE618+CE619*CE620*6)/CE618)","v":0},{"$f":"IF(CF618=0,0,(CF617*CF618+CF619*CF620*6)/CF618)","v":0},{"$f":"IF(CE616=0,0,(CF616-CE616)/CE616*100)","v":0},{"$f":"IF(CH618=0,0,(CH617*CH618+CH619*CH620*6)/CH618)","v":0},{"$f":"IF(CI618=0,0,(CI617*CI618+CI619*CI620*6)/CI618)","v":0},{"$f":"IF(CH616=0,0,(CI616-CH616)/CH616*100)","v":0},{"$f":"IF(CK618=0,0,(CK617*CK618+CK619*CK620*6)/CK618)","v":0},{"$f":"IF(CL618=0,0,(CL617*CL618+CL619*CL620*6)/CL618)","v":0},{"$f":"IF(CK616=0,0,(CL616-CK616)/CK616*100)","v":0},{"$f":"IF(CN618=0,0,(CN617*CN618+CN619*CN620*6)/CN618)","v":0},{"$f":"IF(CO618=0,0,(CO617*CO618+CO619*CO620*6)/CO618)","v":0},{"$f":"IF(CN616=0,0,(CO616-CN616)/CN616*100)","v":0},{"$f":"IF(CQ618=0,0,(CQ617*CQ618+CQ619*CQ620*6)/CQ618)","v":0},{"$f":"IF(CR618=0,0,(CR617*CR618+CR619*CR620*6)/CR618)","v":0},{"$f":"IF(CQ616=0,0,(CR616-CQ616)/CQ616*100)","v":0},{"$f":"IF(CT618=0,0,(CT617*CT618+CT619*CT620*6)/CT618)","v":0},{"$f":"IF(CU618=0,0,(CU617*CU618+CU619*CU620*6)/CU618)","v":0},{"$f":"IF(CT616=0,0,(CU616-CT616)/CT616*100)","v":0},{"$f":"IF(CW618=0,0,(CW617*CW618+CW619*CW620*6)/CW618)","v":0},{"$f":"IF(CX618=0,0,(CX617*CX618+CX619*CX620*6)/CX618)","v":0},{"$f":"IF(CW616=0,0,(CX616-CW616)/CW616*100)","v":0},{"$f":"IF(CZ618=0,0,(CZ617*CZ618+CZ619*CZ620*6)/CZ618)","v":0},{"$f":"IF(DA618=0,0,(DA617*DA618+DA619*DA620*6)/DA618)","v":0},{"$f":"IF(CZ616=0,0,(DA616-CZ616)/CZ616*100)","v":0},{"$f":"IF(DC618=0,0,(DC617*DC618+DC619*DC620*6)/DC618)","v":0},{"$f":"IF(DD618=0,0,(DD617*DD618+DD619*DD620*6)/DD618)","v":0},{"$f":"IF(DC616=0,0,(DD616-DC616)/DC616*100)","v":0},{"$f":"IF(DF618=0,0,(DF617*DF618+DF619*DF620*6)/DF618)","v":0},{"$f":"IF(DG618=0,0,(DG617*DG618+DG619*DG620*6)/DG618)","v":0},{"$f":"IF(DF616=0,0,(DG616-DF616)/DF616*100)","v":0},{"$f":"IF(DI618=0,0,(DI617*DI618+DI619*DI620*6)/DI618)","v":0},{"$f":"IF(DJ618=0,0,(DJ617*DJ618+DJ619*DJ620*6)/DJ618)","v":0},{"$f":"IF(DI616=0,0,(DJ616-DI616)/DI616*100)","v":0},{"$f":"IF(DL618=0,0,(DL617*DL618+DL619*DL620*6)/DL618)","v":0},{"$f":"IF(DM618=0,0,(DM617*DM618+DM619*DM620*6)/DM618)","v":0},{"$f":"IF(DL616=0,0,(DM616-DL616)/DL616*100)","v":0},{"$f":"IF(DO618=0,0,(DO617*DO618+DO619*DO620*6)/DO618)","v":0},{"$f":"IF(DP618=0,0,(DP617*DP618+DP619*DP620*6)/DP618)","v":0},{"$f":"IF(DO616=0,0,(DP616-DO616)/DO616*100)","v":0},{"$f":"IF(DR618=0,0,(DR617*DR618+DR619*DR620*6)/DR618)","v":0},{"$f":"IF(DS618=0,0,(DS617*DS618+DS619*DS620*6)/DS618)","v":0},{"$f":"IF(DR616=0,0,(DS616-DR616)/DR616*100)","v":0},{"$f":"IF(DU618=0,0,(DU617*DU618+DU619*DU620*6)/DU618)","v":0},{"$f":"IF(DV618=0,0,(DV617*DV618+DV619*DV620*6)/DV618)","v":0},{"$f":"IF(DU616=0,0,(DV616-DU616)/DU616*100)","v":0},{"$f":"IF(DX618=0,0,(DX617*DX618+DX619*DX620*6)/DX618)","v":0},{"$f":"IF(DY618=0,0,(DY617*DY618+DY619*DY620*6)/DY618)","v":0},{"$f":"IF(DX616=0,0,(DY616-DX616)/DX616*100)","v":0},{"$f":"IF(EA618=0,0,(EA617*EA618+EA619*EA620*6)/EA618)","v":0},{"$f":"IF(EB618=0,0,(EB617*EB618+EB619*EB620*6)/EB618)","v":0},{"$f":"IF(EA616=0,0,(EB616-EA616)/EA616*100)","v":0},{"$f":"IF(ED618=0,0,(ED617*ED618+ED619*ED620*6)/ED618)","v":0},{"$f":"IF(EE618=0,0,(EE617*EE618+EE619*EE620*6)/EE618)","v":0},{"$f":"IF(ED616=0,0,(EE616-ED616)/ED616*100)","v":0},{"$f":"IF(EG618=0,0,(EG617*EG618+EG619*EG620*6)/EG618)","v":0},{"$f":"IF(EH618=0,0,(EH617*EH618+EH619*EH620*6)/EH618)","v":0},{"$f":"IF(EG616=0,0,(EH616-EG616)/EG616*100)","v":0},{"$f":"IF(EJ618=0,0,(EJ617*EJ618+EJ619*EJ620*6)/EJ618)","v":0},{"$f":"IF(EK618=0,0,(EK617*EK618+EK619*EK620*6)/EK618)","v":0},{"$f":"IF(EJ616=0,0,(EK616-EJ616)/EJ616*100)","v":0},{"$f":"IF(EM618=0,0,(EM617*EM618+EM619*EM620*6)/EM618)","v":0},{"$f":"IF(EN618=0,0,(EN617*EN618+EN619*EN620*6)/EN618)","v":0},{"$f":"IF(EM616=0,0,(EN616-EM616)/EM616*100)","v":0},{"$f":"IF(EP618=0,0,(EP617*EP618+EP619*EP620*6)/EP618)","v":0},{"$f":"IF(EQ618=0,0,(EQ617*EQ618+EQ619*EQ620*6)/EQ618)","v":0},{"$f":"IF(EP616=0,0,(EQ616-EP616)/EP616*100)","v":0},{"$f":"IF(ES618=0,0,(ES617*ES618+ES619*ES620*6)/ES618)","v":0},{"$f":"IF(ET618=0,0,(ET617*ET618+ET619*ET620*6)/ET618)","v":0},{"$f":"IF(ES616=0,0,(ET616-ES616)/ES616*100)","v":0},{"$f":"IF(EV618=0,0,(EV617*EV618+EV619*EV620*6)/EV618)","v":0},{"$f":"IF(EW618=0,0,(EW617*EW618+EW619*EW620*6)/EW618)","v":0},{"$f":"IF(EV616=0,0,(EW616-EV616)/EV616*100)","v":0},{"$f":"IF(EY618=0,0,(EY617*EY618+EY619*EY620*6)/EY618)","v":0},{"$f":"IF(EZ618=0,0,(EZ617*EZ618+EZ619*EZ620*6)/EZ618)","v":0},{"$f":"IF(EY616=0,0,(EZ616-EY616)/EY616*100)","v":0},{"$f":"IF(FB618=0,0,(FB617*FB618+FB619*FB620*6)/FB618)","v":0},{"$f":"IF(FC618=0,0,(FC617*FC618+FC619*FC620*6)/FC618)","v":0},{"$f":"IF(FB616=0,0,(FC616-FB616)/FB616*100)","v":0},{"$f":"IF(FE618=0,0,(FE617*FE618+FE619*FE620*6)/FE618)","v":0},{"$f":"IF(FF618=0,0,(FF617*FF618+FF619*FF620*6)/FF618)","v":0},{"$f":"IF(FE616=0,0,(FF616-FE616)/FE616*100)","v":0}]
["1",null,"L2_1_2","для населения с 01.07 по 31.12 с НДС",null,null,{"$f":"F582=\"двухставочный\"","v":false},null,null,null,null,"ставка платы за потребление 1 куб.м холодной воды","руб./куб.м",null,null,{"$f":"IF(N617=0,0,(O617-N617)/N617*100)","v":0},null,null,{"$f":"IF(Q617=0,0,(R617-Q617)/Q617*100)","v":0},null,null,{"$f":"IF(T617=0,0,(U617-T617)/T617*100)","v":0},null,null,{"$f":"IF(W617=0,0,(X617-W617)/W617*100)","v":0},null,null,{"$f":"IF(Z617=0,0,(AA617-Z617)/Z617*100)","v":0},null,null,{"$f":"IF(AC617=0,0,(AD617-AC617)/AC617*100)","v":0},null,null,{"$f":"IF(AF617=0,0,(AG617-AF617)/AF617*100)","v":0},null,null,{"$f":"IF(AI617=0,0,(AJ617-AI617)/AI617*100)","v":0},null,null,{"$f":"IF(AL617=0,0,(AM617-AL617)/AL617*100)","v":0},null,null,{"$f":"IF(AO617=0,0,(AP617-AO617)/AO617*100)","v":0},null,null,{"$f":"IF(AR617=0,0,(AS617-AR617)/AR617*100)","v":0},null,null,{"$f":"IF(AU617=0,0,(AV617-AU617)/AU617*100)","v":0},null,null,{"$f":"IF(AX617=0,0,(AY617-AX617)/AX617*100)","v":0},null,null,{"$f":"IF(BA617=0,0,(BB617-BA617)/BA617*100)","v":0},null,null,{"$f":"IF(BD617=0,0,(BE617-BD617)/BD617*100)","v":0},null,null,{"$f":"IF(BG617=0,0,(BH617-BG617)/BG617*100)","v":0},null,null,{"$f":"IF(BJ617=0,0,(BK617-BJ617)/BJ617*100)","v":0},null,null,{"$f":"IF(BM617=0,0,(BN617-BM617)/BM617*100)","v":0},null,null,{"$f":"IF(BP617=0,0,(BQ617-BP617)/BP617*100)","v":0},null,null,{"$f":"IF(BS617=0,0,(BT617-BS617)/BS617*100)","v":0},null,null,{"$f":"IF(BV617=0,0,(BW617-BV617)/BV617*100)","v":0},null,null,{"$f":"IF(BY617=0,0,(BZ617-BY617)/BY617*100)","v":0},null,null,{"$f":"IF(CB617=0,0,(CC617-CB617)/CB617*100)","v":0},null,null,{"$f":"IF(CE617=0,0,(CF617-CE617)/CE617*100)","v":0},null,null,{"$f":"IF(CH617=0,0,(CI617-CH617)/CH617*100)","v":0},null,null,{"$f":"IF(CK617=0,0,(CL617-CK617)/CK617*100)","v":0},null,null,{"$f":"IF(CN617=0,0,(CO617-CN617)/CN617*100)","v":0},null,null,{"$f":"IF(CQ617=0,0,(CR617-CQ617)/CQ617*100)","v":0},null,null,{"$f":"IF(CT617=0,0,(CU617-CT617)/CT617*100)","v":0},null,null,{"$f":"IF(CW617=0,0,(CX617-CW617)/CW617*100)","v":0},null,null,{"$f":"IF(CZ617=0,0,(DA617-CZ617)/CZ617*100)","v":0},null,null,{"$f":"IF(DC617=0,0,(DD617-DC617)/DC617*100)","v":0},null,null,{"$f":"IF(DF617=0,0,(DG617-DF617)/DF617*100)","v":0},null,null,{"$f":"IF(DI617=0,0,(DJ617-DI617)/DI617*100)","v":0},null,null,{"$f":"IF(DL617=0,0,(DM617-DL617)/DL617*100)","v":0},null,null,{"$f":"IF(DO617=0,0,(DP617-DO617)/DO617*100)","v":0},null,null,{"$f":"IF(DR617=0,0,(DS617-DR617)/DR617*100)","v":0},null,null,{"$f":"IF(DU617=0,0,(DV617-DU617)/DU617*100)","v":0},null,null,{"$f":"IF(DX617=0,0,(DY617-DX617)/DX617*100)","v":0},null,null,{"$f":"IF(EA617=0,0,(EB617-EA617)/EA617*100)","v":0},null,null,{"$f":"IF(ED617=0,0,(EE617-ED617)/ED617*100)","v":0},null,null,{"$f":"IF(EG617=0,0,(EH617-EG617)/EG617*100)","v":0},null,null,{"$f":"IF(EJ617=0,0,(EK617-EJ617)/EJ617*100)","v":0},null,null,{"$f":"IF(EM617=0,0,(EN617-EM617)/EM617*100)","v":0},null,null,{"$f":"IF(EP617=0,0,(EQ617-EP617)/EP617*100)","v":0},null,null,{"$f":"IF(ES617=0,0,(ET617-ES617)/ES617*100)","v":0},null,null,{"$f":"IF(EV617=0,0,(EW617-EV617)/EV617*100)","v":0},null,null,{"$f":"IF(EY617=0,0,(EZ617-EY617)/EY617*100)","v":0},null,null,{"$f":"IF(FB617=0,0,(FC617-FB617)/FB617*100)","v":0},null,null,{"$f":"IF(FE617=0,0,(FF617-FE617)/FE617*100)","v":0}]
["1","ПО.население.II","L2_1_3","для населения с 01.07 по 31.12 с НДС",null,null,{"$f":"F582=\"двухставочный\"","v":false},null,null,null,null,"объём потребления холодной воды","тыс.куб.м",{"$f":"SUMIFS(INDEX(Калькуляция!$T$15:$AM$268,,MATCH(N$3,Калькуляция!$T$3:$AM$3,0)),Калькуляция!$A$15:$A$268,$A618,Калькуляция!$B$15:$B$268,$B618)","v":{"$error":"#N/A"}},{"$f":"SUMIFS(INDEX(Калькуляция!$T$15:$AM$268,,MATCH(O$3,Калькуляция!$T$3:$AM$3,0)),Калькуляция!$A$15:$A$268,$A618,Калькуляция!$B$15:$B$268,$B618)","v":{"$error":"#N/A"}},{"$f":"IF(N618=0,0,(O618-N618)/N618*100)","v":{"$error":"#N/A"}},{"$f":"SUMIFS(INDEX(Калькуляция!$T$15:$AM$268,,MATCH(Q$3,Калькуляция!$T$3:$AM$3,0)),Калькуляция!$A$15:$A$268,$A618,Калькуляция!$B$15:$B$268,$B618)","v":{"$error":"#N/A"}},{"$f":"SUMIFS(INDEX(Калькуляция!$T$15:$AM$268,,MATCH(R$3,Калькуляция!$T$3:$AM$3,0)),Калькуляция!$A$15:$A$268,$A618,Калькуляция!$B$15:$B$268,$B618)","v":{"$error":"#N/A"}},{"$f":"IF(Q618=0,0,(R618-Q618)/Q618*100)","v":{"$error":"#N/A"}},{"$f":"SUMIFS(INDEX(Калькуляция!$T$15:$AM$268,,MATCH(T$3,Калькуляция!$T$3:$AM$3,0)),Калькуляция!$A$15:$A$268,$A618,Калькуляция!$B$15:$B$268,$B618)","v":{"$error":"#N/A"}},{"$f":"SUMIFS(INDEX(Калькуляция!$T$15:$AM$268,,MATCH(U$3,Калькуляция!$T$3:$AM$3,0)),Калькуляция!$A$15:$A$268,$A618,Калькуляция!$B$15:$B$268,$B618)","v":{"$error":"#N/A"}},{"$f":"IF(T618=0,0,(U618-T618)/T618*100)","v":{"$error":"#N/A"}},{"$f":"SUMIFS(INDEX(Калькуляция!$T$15:$AM$268,,MATCH(W$3,Калькуляция!$T$3:$AM$3,0)),Калькуляция!$A$15:$A$268,$A618,Калькуляция!$B$15:$B$268,$B618)","v":{"$error":"#N/A"}},{"$f":"SUMIFS(INDEX(Калькуляция!$T$15:$AM$268,,MATCH(X$3,Калькуляция!$T$3:$AM$3,0)),Калькуляция!$A$15:$A$268,$A618,Калькуляция!$B$15:$B$268,$B618)","v":{"$error":"#N/A"}},{"$f":"IF(W618=0,0,(X618-W618)/W618*100)","v":{"$error":"#N/A"}},{"$f":"SUMIFS(INDEX(Калькуляция!$T$15:$AM$268,,MATCH(Z$3,Калькуляция!$T$3:$AM$3,0)),Калькуляция!$A$15:$A$268,$A618,Калькуляция!$B$15:$B$268,$B618)","v":{"$error":"#N/A"}},{"$f":"SUMIFS(INDEX(Калькуляция!$T$15:$AM$268,,MATCH(AA$3,Калькуляция!$T$3:$AM$3,0)),Калькуляция!$A$15:$A$268,$A618,Калькуляция!$B$15:$B$268,$B618)","v":{"$error":"#N/A"}},{"$f":"IF(Z618=0,0,(AA618-Z618)/Z618*100)","v":{"$error":"#N/A"}},{"$f":"SUMIFS(INDEX(Калькуляция!$T$15:$AM$268,,MATCH(AC$3,Калькуляция!$T$3:$AM$3,0)),Калькуляция!$A$15:$A$268,$A618,Калькуляция!$B$15:$B$268,$B618)","v":{"$error":"#N/A"}},{"$f":"SUMIFS(INDEX(Калькуляция!$T$15:$AM$268,,MATCH(AD$3,Калькуляция!$T$3:$AM$3,0)),Калькуляция!$A$15:$A$268,$A618,Калькуляция!$B$15:$B$268,$B618)","v":{"$error":"#N/A"}},{"$f":"IF(AC618=0,0,(AD618-AC618)/AC618*100)","v":{"$error":"#N/A"}},{"$f":"SUMIFS(INDEX(Калькуляция!$T$15:$AM$268,,MATCH(AF$3,Калькуляция!$T$3:$AM$3,0)),Калькуляция!$A$15:$A$268,$A618,Калькуляция!$B$15:$B$268,$B618)","v":{"$error":"#N/A"}},{"$f":"SUMIFS(INDEX(Калькуляция!$T$15:$AM$268,,MATCH(AG$3,Калькуляция!$T$3:$AM$3,0)),Калькуляция!$A$15:$A$268,$A618,Калькуляция!$B$15:$B$268,$B618)","v":{"$error":"#N/A"}},{"$f":"IF(AF618=0,0,(AG618-AF618)/AF618*100)","v":{"$error":"#N/A"}},{"$f":"SUMIFS(INDEX(Калькуляция!$T$15:$AM$268,,MATCH(AI$3,Калькуляция!$T$3:$AM$3,0)),Калькуляция!$A$15:$A$268,$A618,Калькуляция!$B$15:$B$268,$B618)","v":{"$error":"#N/A"}},{"$f":"SUMIFS(INDEX(Калькуляция!$T$15:$AM$268,,MATCH(AJ$3,Калькуляция!$T$3:$AM$3,0)),Калькуляция!$A$15:$A$268,$A618,Калькуляция!$B$15:$B$268,$B618)","v":{"$error":"#N/A"}},{"$f":"IF(AI618=0,0,(AJ618-AI618)/AI618*100)","v":{"$error":"#N/A"}},{"$f":"SUMIFS(INDEX(Калькуляция!$T$15:$AM$268,,MATCH(AL$3,Калькуляция!$T$3:$AM$3,0)),Калькуляция!$A$15:$A$268,$A618,Калькуляция!$B$15:$B$268,$B618)","v":{"$error":"#N/A"}},{"$f":"SUMIFS(INDEX(Калькуляция!$T$15:$AM$268,,MATCH(AM$3,Калькуляция!$T$3:$AM$3,0)),Калькуляция!$A$15:$A$268,$A618,Калькуляция!$B$15:$B$268,$B618)","v":{"$error":"#N/A"}},{"$f":"IF(AL618=0,0,(AM618-AL618)/AL618*100)","v":{"$error":"#N/A"}},{"$f":"SUMIFS(INDEX(Калькуляция!$T$15:$AM$268,,MATCH(AO$3,Калькуляция!$T$3:$AM$3,0)),Калькуляция!$A$15:$A$268,$A618,Калькуляция!$B$15:$B$268,$B618)","v":{"$error":"#N/A"}},{"$f":"SUMIFS(INDEX(Калькуляция!$T$15:$AM$268,,MATCH(AP$3,Калькуляция!$T$3:$AM$3,0)),Калькуляция!$A$15:$A$268,$A618,Калькуляция!$B$15:$B$268,$B618)","v":{"$error":"#N/A"}},{"$f":"IF(AO618=0,0,(AP618-AO618)/AO618*100)","v":{"$error":"#N/A"}},null,null,{"$f":"IF(AR618=0,0,(AS618-AR618)/AR618*100)","v":0},null,null,{"$f":"IF(AU618=0,0,(AV618-AU618)/AU618*100)","v":0},null,null,{"$f":"IF(AX618=0,0,(AY618-AX618)/AX618*100)","v":0},null,null,{"$f":"IF(BA618=0,0,(BB618-BA618)/BA618*100)","v":0},null,null,{"$f":"IF(BD618=0,0,(BE618-BD618)/BD618*100)","v":0},null,null,{"$f":"IF(BG618=0,0,(BH618-BG618)/BG618*100)","v":0},null,null,{"$f":"IF(BJ618=0,0,(BK618-BJ618)/BJ618*100)","v":0},null,null,{"$f":"IF(BM618=0,0,(BN618-BM618)/BM618*100)","v":0},null,null,{"$f":"IF(BP618=0,0,(BQ618-BP618)/BP618*100)","v":0},null,null,{"$f":"IF(BS618=0,0,(BT618-BS618)/BS618*100)","v":0},null,null,{"$f":"IF(BV618=0,0,(BW618-BV618)/BV618*100)","v":0},null,null,{"$f":"IF(BY618=0,0,(BZ618-BY618)/BY618*100)","v":0},null,null,{"$f":"IF(CB618=0,0,(CC618-CB618)/CB618*100)","v":0},null,null,{"$f":"IF(CE618=0,0,(CF618-CE618)/CE618*100)","v":0},null,null,{"$f":"IF(CH618=0,0,(CI618-CH618)/CH618*100)","v":0},null,null,{"$f":"IF(CK618=0,0,(CL618-CK618)/CK618*100)","v":0},null,null,{"$f":"IF(CN618=0,0,(CO618-CN618)/CN618*100)","v":0},null,null,{"$f":"IF(CQ618=0,0,(CR618-CQ618)/CQ618*100)","v":0},null,null,{"$f":"IF(CT618=0,0,(CU618-CT618)/CT618*100)","v":0},null,null,{"$f":"IF(CW618=0,0,(CX618-CW618)/CW618*100)","v":0},null,null,{"$f":"IF(CZ618=0,0,(DA618-CZ618)/CZ618*100)","v":0},null,null,{"$f":"IF(DC618=0,0,(DD618-DC618)/DC618*100)","v":0},null,null,{"$f":"IF(DF618=0,0,(DG618-DF618)/DF618*100)","v":0},null,null,{"$f":"IF(DI618=0,0,(DJ618-DI618)/DI618*100)","v":0},null,null,{"$f":"IF(DL618=0,0,(DM618-DL618)/DL618*100)","v":0},null,null,{"$f":"IF(DO618=0,0,(DP618-DO618)/DO618*100)","v":0},null,null,{"$f":"IF(DR618=0,0,(DS618-DR618)/DR618*100)","v":0},null,null,{"$f":"IF(DU618=0,0,(DV618-DU618)/DU618*100)","v":0},null,null,{"$f":"IF(DX618=0,0,(DY618-DX618)/DX618*100)","v":0},null,null,{"$f":"IF(EA618=0,0,(EB618-EA618)/EA618*100)","v":0},null,null,{"$f":"IF(ED618=0,0,(EE618-ED618)/ED618*100)","v":0},null,null,{"$f":"IF(EG618=0,0,(EH618-EG618)/EG618*100)","v":0},null,null,{"$f":"IF(EJ618=0,0,(EK618-EJ618)/EJ618*100)","v":0},null,null,{"$f":"IF(EM618=0,0,(EN618-EM618)/EM618*100)","v":0},null,null,{"$f":"IF(EP618=0,0,(EQ618-EP618)/EP618*100)","v":0},null,null,{"$f":"IF(ES618=0,0,(ET618-ES618)/ES618*100)","v":0},null,null,{"$f":"IF(EV618=0,0,(EW618-EV618)/EV618*100)","v":0},null,null,{"$f":"IF(EY618=0,0,(EZ618-EY618)/EY618*100)","v":0},null,null,{"$f":"IF(FB618=0,0,(FC618-FB618)/FB618*100)","v":0},null,null,{"$f":"IF(FE618=0,0,(FF618-FE618)/FE618*100)","v":0}]
["1",null,"L2_1_4","для населения с 01.07 по 31.12 с НДС",null,null,{"$f":"F582=\"двухставочный\"","v":false},null,null,null,null,"ставка платы за содержание системы холодного водоснабжения","тыс.руб./куб.м*час/в месяц",null,null,{"$f":"IF(N619=0,0,(O619-N619)/N619*100)","v":0},null,null,{"$f":"IF(Q619=0,0,(R619-Q619)/Q619*100)","v":0},null,null,{"$f":"IF(T619=0,0,(U619-T619)/T619*100)","v":0},null,null,{"$f":"IF(W619=0,0,(X619-W619)/W619*100)","v":0},null,null,{"$f":"IF(Z619=0,0,(AA619-Z619)/Z619*100)","v":0},null,null,{"$f":"IF(AC619=0,0,(AD619-AC619)/AC619*100)","v":0},null,null,{"$f":"IF(AF619=0,0,(AG619-AF619)/AF619*100)","v":0},null,null,{"$f":"IF(AI619=0,0,(AJ619-AI619)/AI619*100)","v":0},null,null,{"$f":"IF(AL619=0,0,(AM619-AL619)/AL619*100)","v":0},null,null,{"$f":"IF(AO619=0,0,(AP619-AO619)/AO619*100)","v":0},null,null,{"$f":"IF(AR619=0,0,(AS619-AR619)/AR619*100)","v":0},null,null,{"$f":"IF(AU619=0,0,(AV619-AU619)/AU619*100)","v":0},null,null,{"$f":"IF(AX619=0,0,(AY619-AX619)/AX619*100)","v":0},null,null,{"$f":"IF(BA619=0,0,(BB619-BA619)/BA619*100)","v":0},null,null,{"$f":"IF(BD619=0,0,(BE619-BD619)/BD619*100)","v":0},null,null,{"$f":"IF(BG619=0,0,(BH619-BG619)/BG619*100)","v":0},null,null,{"$f":"IF(BJ619=0,0,(BK619-BJ619)/BJ619*100)","v":0},null,null,{"$f":"IF(BM619=0,0,(BN619-BM619)/BM619*100)","v":0},null,null,{"$f":"IF(BP619=0,0,(BQ619-BP619)/BP619*100)","v":0},null,null,{"$f":"IF(BS619=0,0,(BT619-BS619)/BS619*100)","v":0},null,null,{"$f":"IF(BV619=0,0,(BW619-BV619)/BV619*100)","v":0},null,null,{"$f":"IF(BY619=0,0,(BZ619-BY619)/BY619*100)","v":0},null,null,{"$f":"IF(CB619=0,0,(CC619-CB619)/CB619*100)","v":0},null,null,{"$f":"IF(CE619=0,0,(CF619-CE619)/CE619*100)","v":0},null,null,{"$f":"IF(CH619=0,0,(CI619-CH619)/CH619*100)","v":0},null,null,{"$f":"IF(CK619=0,0,(CL619-CK619)/CK619*100)","v":0},null,null,{"$f":"IF(CN619=0,0,(CO619-CN619)/CN619*100)","v":0},null,null,{"$f":"IF(CQ619=0,0,(CR619-CQ619)/CQ619*100)","v":0},null,null,{"$f":"IF(CT619=0,0,(CU619-CT619)/CT619*100)","v":0},null,null,{"$f":"IF(CW619=0,0,(CX619-CW619)/CW619*100)","v":0},null,null,{"$f":"IF(CZ619=0,0,(DA619-CZ619)/CZ619*100)","v":0},null,null,{"$f":"IF(DC619=0,0,(DD619-DC619)/DC619*100)","v":0},null,null,{"$f":"IF(DF619=0,0,(DG619-DF619)/DF619*100)","v":0},null,null,{"$f":"IF(DI619=0,0,(DJ619-DI619)/DI619*100)","v":0},null,null,{"$f":"IF(DL619=0,0,(DM619-DL619)/DL619*100)","v":0},null,null,{"$f":"IF(DO619=0,0,(DP619-DO619)/DO619*100)","v":0},null,null,{"$f":"IF(DR619=0,0,(DS619-DR619)/DR619*100)","v":0},null,null,{"$f":"IF(DU619=0,0,(DV619-DU619)/DU619*100)","v":0},null,null,{"$f":"IF(DX619=0,0,(DY619-DX619)/DX619*100)","v":0},null,null,{"$f":"IF(EA619=0,0,(EB619-EA619)/EA619*100)","v":0},null,null,{"$f":"IF(ED619=0,0,(EE619-ED619)/ED619*100)","v":0},null,null,{"$f":"IF(EG619=0,0,(EH619-EG619)/EG619*100)","v":0},null,null,{"$f":"IF(EJ619=0,0,(EK619-EJ619)/EJ619*100)","v":0},null,null,{"$f":"IF(EM619=0,0,(EN619-EM619)/EM619*100)","v":0},null,null,{"$f":"IF(EP619=0,0,(EQ619-EP619)/EP619*100)","v":0},null,null,{"$f":"IF(ES619=0,0,(ET619-ES619)/ES619*100)","v":0},null,null,{"$f":"IF(EV619=0,0,(EW619-EV619)/EV619*100)","v":0},null,null,{"$f":"IF(EY619=0,0,(EZ619-EY619)/EY619*100)","v":0},null,null,{"$f":"IF(FB619=0,0,(FC619-FB619)/FB619*100)","v":0},null,null,{"$f":"IF(FE619=0,0,(FF619-FE619)/FE619*100)","v":0}]
["1",null,"L2_1_5","для населения с 01.07 по 31.12 с НДС",null,null,{"$f":"F582=\"двухставочный\"","v":false},null,null,null,null,"величина присоединённой мощности","куб.м*час",null,null,{"$f":"IF(N620=0,0,(O620-N620)/N620*100)","v":0},null,null,{"$f":"IF(Q620=0,0,(R620-Q620)/Q620*100)","v":0},null,null,{"$f":"IF(T620=0,0,(U620-T620)/T620*100)","v":0},null,null,{"$f":"IF(W620=0,0,(X620-W620)/W620*100)","v":0},null,null,{"$f":"IF(Z620=0,0,(AA620-Z620)/Z620*100)","v":0},null,null,{"$f":"IF(AC620=0,0,(AD620-AC620)/AC620*100)","v":0},null,null,{"$f":"IF(AF620=0,0,(AG620-AF620)/AF620*100)","v":0},null,null,{"$f":"IF(AI620=0,0,(AJ620-AI620)/AI620*100)","v":0},null,null,{"$f":"IF(AL620=0,0,(AM620-AL620)/AL620*100)","v":0},null,null,{"$f":"IF(AO620=0,0,(AP620-AO620)/AO620*100)","v":0},null,null,{"$f":"IF(AR620=0,0,(AS620-AR620)/AR620*100)","v":0},null,null,{"$f":"IF(AU620=0,0,(AV620-AU620)/AU620*100)","v":0},null,null,{"$f":"IF(AX620=0,0,(AY620-AX620)/AX620*100)","v":0},null,null,{"$f":"IF(BA620=0,0,(BB620-BA620)/BA620*100)","v":0},null,null,{"$f":"IF(BD620=0,0,(BE620-BD620)/BD620*100)","v":0},null,null,{"$f":"IF(BG620=0,0,(BH620-BG620)/BG620*100)","v":0},null,null,{"$f":"IF(BJ620=0,0,(BK620-BJ620)/BJ620*100)","v":0},null,null,{"$f":"IF(BM620=0,0,(BN620-BM620)/BM620*100)","v":0},null,null,{"$f":"IF(BP620=0,0,(BQ620-BP620)/BP620*100)","v":0},null,null,{"$f":"IF(BS620=0,0,(BT620-BS620)/BS620*100)","v":0},null,null,{"$f":"IF(BV620=0,0,(BW620-BV620)/BV620*100)","v":0},null,null,{"$f":"IF(BY620=0,0,(BZ620-BY620)/BY620*100)","v":0},null,null,{"$f":"IF(CB620=0,0,(CC620-CB620)/CB620*100)","v":0},null,null,{"$f":"IF(CE620=0,0,(CF620-CE620)/CE620*100)","v":0},null,null,{"$f":"IF(CH620=0,0,(CI620-CH620)/CH620*100)","v":0},null,null,{"$f":"IF(CK620=0,0,(CL620-CK620)/CK620*100)","v":0},null,null,{"$f":"IF(CN620=0,0,(CO620-CN620)/CN620*100)","v":0},null,null,{"$f":"IF(CQ620=0,0,(CR620-CQ620)/CQ620*100)","v":0},null,null,{"$f":"IF(CT620=0,0,(CU620-CT620)/CT620*100)","v":0},null,null,{"$f":"IF(CW620=0,0,(CX620-CW620)/CW620*100)","v":0},null,null,{"$f":"IF(CZ620=0,0,(DA620-CZ620)/CZ620*100)","v":0},null,null,{"$f":"IF(DC620=0,0,(DD620-DC620)/DC620*100)","v":0},null,null,{"$f":"IF(DF620=0,0,(DG620-DF620)/DF620*100)","v":0},null,null,{"$f":"IF(DI620=0,0,(DJ620-DI620)/DI620*100)","v":0},null,null,{"$f":"IF(DL620=0,0,(DM620-DL620)/DL620*100)","v":0},null,null,{"$f":"IF(DO620=0,0,(DP620-DO620)/DO620*100)","v":0},null,null,{"$f":"IF(DR620=0,0,(DS620-DR620)/DR620*100)","v":0},null,null,{"$f":"IF(DU620=0,0,(DV620-DU620)/DU620*100)","v":0},null,null,{"$f":"IF(DX620=0,0,(DY620-DX620)/DX620*100)","v":0},null,null,{"$f":"IF(EA620=0,0,(EB620-EA620)/EA620*100)","v":0},null,null,{"$f":"IF(ED620=0,0,(EE620-ED620)/ED620*100)","v":0},null,null,{"$f":"IF(EG620=0,0,(EH620-EG620)/EG620*100)","v":0},null,null,{"$f":"IF(EJ620=0,0,(EK620-EJ620)/EJ620*100)","v":0},null,null,{"$f":"IF(EM620=0,0,(EN620-EM620)/EM620*100)","v":0},null,null,{"$f":"IF(EP620=0,0,(EQ620-EP620)/EP620*100)","v":0},null,null,{"$f":"IF(ES620=0,0,(ET620-ES620)/ES620*100)","v":0},null,null,{"$f":"IF(EV620=0,0,(EW620-EV620)/EV620*100)","v":0},null,null,{"$f":"IF(EY620=0,0,(EZ620-EY620)/EY620*100)","v":0},null,null,{"$f":"IF(FB620=0,0,(FC620-FB620)/FB620*100)","v":0},null,null,{"$f":"IF(FE620=0,0,(FF620-FE620)/FE620*100)","v":0}]
["1",null,{"$f":"A621&\"pIns2\"","v":"1pIns2"},null,null,null,{"$f":"F582=\"двухставочный\"","v":false},null,null,"д",null,"Добавить"]
["et_List16_tariff_transp"]
["1",null,null,null,null,null,null,null,null,null,null,"№ п/п",null,{"$f":"\"Тариф \" & A623","v":"Тариф 1"}]
[{"$f":"A623","v":"1"},null,null,null,null,null,null,null,null,null,null,"Вид воды / сточных вод",null,{"$f":"INDEX('Общие сведения'!$K$121:$K$148,MATCH($A624,'Общие сведения'!$D$121:$D$148,0))","v":"питьевая вода"}]
["1",null,null,null,null,null,null,null,null,null,null,"Утверждаемый тариф",null,{"$f":"INDEX('Общие сведения'!$L$121:$L$148,MATCH($A625,'Общие сведения'!$D$121:$D$148,0))","v":"тариф на питьевую воду"}]
["1",null,null,null,null,null,null,null,null,null,null,"Дополнительные признаки дифференциации тарифов",null,{"$f":"INDEX('Общие сведения'!$M$121:$M$148,MATCH($A626,'Общие сведения'!$D$121:$D$148,0))","v":0}]
["1",null,"L1_1","с 01.01 по 30.06 без НДС",null,null,null,null,null,null,null,"Тариф с 01.01 по 30.06 без НДС","руб./куб.м",null,null,{"$f":"IF(N627=0,0,(O627-N627)/N627*100)","v":0},null,null,{"$f":"IF(Q627=0,0,(R627-Q627)/Q627*100)","v":0},null,null,{"$f":"IF(T627=0,0,(U627-T627)/T627*100)","v":0},null,null,{"$f":"IF(W627=0,0,(X627-W627)/W627*100)","v":0},null,null,{"$f":"IF(Z627=0,0,(AA627-Z627)/Z627*100)","v":0},null,null,{"$f":"IF(AC627=0,0,(AD627-AC627)/AC627*100)","v":0},null,null,{"$f":"IF(AF627=0,0,(AG627-AF627)/AF627*100)","v":0},null,null,{"$f":"IF(AI627=0,0,(AJ627-AI627)/AI627*100)","v":0},null,null,{"$f":"IF(AL627=0,0,(AM627-AL627)/AL627*100)","v":0},null,null,{"$f":"IF(AO627=0,0,(AP627-AO627)/AO627*100)","v":0},null,null,{"$f":"IF(AR627=0,0,(AS627-AR627)/AR627*100)","v":0},null,null,{"$f":"IF(AU627=0,0,(AV627-AU627)/AU627*100)","v":0},null,null,{"$f":"IF(AX627=0,0,(AY627-AX627)/AX627*100)","v":0},null,null,{"$f":"IF(BA627=0,0,(BB627-BA627)/BA627*100)","v":0},null,null,{"$f":"IF(BD627=0,0,(BE627-BD627)/BD627*100)","v":0},null,null,{"$f":"IF(BG627=0,0,(BH627-BG627)/BG627*100)","v":0},null,null,{"$f":"IF(BJ627=0,0,(BK627-BJ627)/BJ627*100)","v":0},null,null,{"$f":"IF(BM627=0,0,(BN627-BM627)/BM627*100)","v":0},null,null,{"$f":"IF(BP627=0,0,(BQ627-BP627)/BP627*100)","v":0},null,null,{"$f":"IF(BS627=0,0,(BT627-BS627)/BS627*100)","v":0},null,null,{"$f":"IF(BV627=0,0,(BW627-BV627)/BV627*100)","v":0},null,null,{"$f":"IF(BY627=0,0,(BZ627-BY627)/BY627*100)","v":0},null,null,{"$f":"IF(CB627=0,0,(CC627-CB627)/CB627*100)","v":0},null,null,{"$f":"IF(CE627=0,0,(CF627-CE627)/CE627*100)","v":0},null,null,{"$f":"IF(CH627=0,0,(CI627-CH627)/CH627*100)","v":0},null,null,{"$f":"IF(CK627=0,0,(CL627-CK627)/CK627*100)","v":0},null,null,{"$f":"IF(CN627=0,0,(CO627-CN627)/CN627*100)","v":0},null,null,{"$f":"IF(CQ627=0,0,(CR627-CQ627)/CQ627*100)","v":0},null,null,{"$f":"IF(CT627=0,0,(CU627-CT627)/CT627*100)","v":0},null,null,{"$f":"IF(CW627=0,0,(CX627-CW627)/CW627*100)","v":0},null,null,{"$f":"IF(CZ627=0,0,(DA627-CZ627)/CZ627*100)","v":0},null,null,{"$f":"IF(DC627=0,0,(DD627-DC627)/DC627*100)","v":0},null,null,{"$f":"IF(DF627=0,0,(DG627-DF627)/DF627*100)","v":0},null,null,{"$f":"IF(DI627=0,0,(DJ627-DI627)/DI627*100)","v":0},null,null,{"$f":"IF(DL627=0,0,(DM627-DL627)/DL627*100)","v":0},null,null,{"$f":"IF(DO627=0,0,(DP627-DO627)/DO627*100)","v":0},null,null,{"$f":"IF(DR627=0,0,(DS627-DR627)/DR627*100)","v":0},null,null,{"$f":"IF(DU627=0,0,(DV627-DU627)/DU627*100)","v":0},null,null,{"$f":"IF(DX627=0,0,(DY627-DX627)/DX627*100)","v":0},null,null,{"$f":"IF(EA627=0,0,(EB627-EA627)/EA627*100)","v":0},null,null,{"$f":"IF(ED627=0,0,(EE627-ED627)/ED627*100)","v":0},null,null,{"$f":"IF(EG627=0,0,(EH627-EG627)/EG627*100)","v":0},null,null,{"$f":"IF(EJ627=0,0,(EK627-EJ627)/EJ627*100)","v":0},null,null,{"$f":"IF(EM627=0,0,(EN627-EM627)/EM627*100)","v":0},null,null,{"$f":"IF(EP627=0,0,(EQ627-EP627)/EP627*100)","v":0},null,null,{"$f":"IF(ES627=0,0,(ET627-ES627)/ES627*100)","v":0},null,null,{"$f":"IF(EV627=0,0,(EW627-EV627)/EV627*100)","v":0},null,null,{"$f":"IF(EY627=0,0,(EZ627-EY627)/EY627*100)","v":0},null,null,{"$f":"IF(FB627=0,0,(FC627-FB627)/FB627*100)","v":0},null,null,{"$f":"IF(FE627=0,0,(FF627-FE627)/FE627*100)","v":0}]
["1",null,"L1_1","с 01.07 по 31.12 без НДС",null,null,null,null,null,null,null,"Тариф с 01.07 по 31.12 без НДС","руб./куб.м",null,null,{"$f":"IF(N628=0,0,(O628-N628)/N628*100)","v":0},null,null,{"$f":"IF(Q628=0,0,(R628-Q628)/Q628*100)","v":0},null,null,{"$f":"IF(T628=0,0,(U628-T628)/T628*100)","v":0},null,null,{"$f":"IF(W628=0,0,(X628-W628)/W628*100)","v":0},null,null,{"$f":"IF(Z628=0,0,(AA628-Z628)/Z628*100)","v":0},null,null,{"$f":"IF(AC628=0,0,(AD628-AC628)/AC628*100)","v":0},null,null,{"$f":"IF(AF628=0,0,(AG628-AF628)/AF628*100)","v":0},null,null,{"$f":"IF(AI628=0,0,(AJ628-AI628)/AI628*100)","v":0},null,null,{"$f":"IF(AL628=0,0,(AM628-AL628)/AL628*100)","v":0},null,null,{"$f":"IF(AO628=0,0,(AP628-AO628)/AO628*100)","v":0},null,null,{"$f":"IF(AR628=0,0,(AS628-AR628)/AR628*100)","v":0},null,null,{"$f":"IF(AU628=0,0,(AV628-AU628)/AU628*100)","v":0},null,null,{"$f":"IF(AX628=0,0,(AY628-AX628)/AX628*100)","v":0},null,null,{"$f":"IF(BA628=0,0,(BB628-BA628)/BA628*100)","v":0},null,null,{"$f":"IF(BD628=0,0,(BE628-BD628)/BD628*100)","v":0},null,null,{"$f":"IF(BG628=0,0,(BH628-BG628)/BG628*100)","v":0},null,null,{"$f":"IF(BJ628=0,0,(BK628-BJ628)/BJ628*100)","v":0},null,null,{"$f":"IF(BM628=0,0,(BN628-BM628)/BM628*100)","v":0},null,null,{"$f":"IF(BP628=0,0,(BQ628-BP628)/BP628*100)","v":0},null,null,{"$f":"IF(BS628=0,0,(BT628-BS628)/BS628*100)","v":0},null,null,{"$f":"IF(BV628=0,0,(BW628-BV628)/BV628*100)","v":0},null,null,{"$f":"IF(BY628=0,0,(BZ628-BY628)/BY628*100)","v":0},null,null,{"$f":"IF(CB628=0,0,(CC628-CB628)/CB628*100)","v":0},null,null,{"$f":"IF(CE628=0,0,(CF628-CE628)/CE628*100)","v":0},null,null,{"$f":"IF(CH628=0,0,(CI628-CH628)/CH628*100)","v":0},null,null,{"$f":"IF(CK628=0,0,(CL628-CK628)/CK628*100)","v":0},null,null,{"$f":"IF(CN628=0,0,(CO628-CN628)/CN628*100)","v":0},null,null,{"$f":"IF(CQ628=0,0,(CR628-CQ628)/CQ628*100)","v":0},null,null,{"$f":"IF(CT628=0,0,(CU628-CT628)/CT628*100)","v":0},null,null,{"$f":"IF(CW628=0,0,(CX628-CW628)/CW628*100)","v":0},null,null,{"$f":"IF(CZ628=0,0,(DA628-CZ628)/CZ628*100)","v":0},null,null,{"$f":"IF(DC628=0,0,(DD628-DC628)/DC628*100)","v":0},null,null,{"$f":"IF(DF628=0,0,(DG628-DF628)/DF628*100)","v":0},null,null,{"$f":"IF(DI628=0,0,(DJ628-DI628)/DI628*100)","v":0},null,null,{"$f":"IF(DL628=0,0,(DM628-DL628)/DL628*100)","v":0},null,null,{"$f":"IF(DO628=0,0,(DP628-DO628)/DO628*100)","v":0},null,null,{"$f":"IF(DR628=0,0,(DS628-DR628)/DR628*100)","v":0},null,null,{"$f":"IF(DU628=0,0,(DV628-DU628)/DU628*100)","v":0},null,null,{"$f":"IF(DX628=0,0,(DY628-DX628)/DX628*100)","v":0},null,null,{"$f":"IF(EA628=0,0,(EB628-EA628)/EA628*100)","v":0},null,null,{"$f":"IF(ED628=0,0,(EE628-ED628)/ED628*100)","v":0},null,null,{"$f":"IF(EG628=0,0,(EH628-EG628)/EG628*100)","v":0},null,null,{"$f":"IF(EJ628=0,0,(EK628-EJ628)/EJ628*100)","v":0},null,null,{"$f":"IF(EM628=0,0,(EN628-EM628)/EM628*100)","v":0},null,null,{"$f":"IF(EP628=0,0,(EQ628-EP628)/EP628*100)","v":0},null,null,{"$f":"IF(ES628=0,0,(ET628-ES628)/ES628*100)","v":0},null,null,{"$f":"IF(EV628=0,0,(EW628-EV628)/EV628*100)","v":0},null,null,{"$f":"IF(EY628=0,0,(EZ628-EY628)/EY628*100)","v":0},null,null,{"$f":"IF(FB628=0,0,(FC628-FB628)/FB628*100)","v":0},null,null,{"$f":"IF(FE628=0,0,(FF628-FE628)/FE628*100)","v":0}]
["1",null,"L1_2",null,null,null,null,null,null,null,null,"Темп роста тарифов с 01.07","%",{"$f":"IF(N627=0,0,N628/N627)*100","v":0},{"$f":"IF(O627=0,0,O628/O627)*100","v":0},null,{"$f":"IF(Q627=0,0,Q628/Q627)*100","v":0},{"$f":"IF(R627=0,0,R628/R627)*100","v":0},null,{"$f":"IF(T627=0,0,T628/T627)*100","v":0},{"$f":"IF(U627=0,0,U628/U627)*100","v":0},null,{"$f":"IF(W627=0,0,W628/W627)*100","v":0},{"$f":"IF(X627=0,0,X628/X627)*100","v":0},null,{"$f":"IF(Z627=0,0,Z628/Z627)*100","v":0},{"$f":"IF(AA627=0,0,AA628/AA627)*100","v":0},null,{"$f":"IF(AC627=0,0,AC628/AC627)*100","v":0},{"$f":"IF(AD627=0,0,AD628/AD627)*100","v":0},null,{"$f":"IF(AF627=0,0,AF628/AF627)*100","v":0},{"$f":"IF(AG627=0,0,AG628/AG627)*100","v":0},null,{"$f":"IF(AI627=0,0,AI628/AI627)*100","v":0},{"$f":"IF(AJ627=0,0,AJ628/AJ627)*100","v":0},null,{"$f":"IF(AL627=0,0,AL628/AL627)*100","v":0},{"$f":"IF(AM627=0,0,AM628/AM627)*100","v":0},null,{"$f":"IF(AO627=0,0,AO628/AO627)*100","v":0},{"$f":"IF(AP627=0,0,AP628/AP627)*100","v":0},null,{"$f":"IF(AR627=0,0,AR628/AR627)*100","v":0},{"$f":"IF(AS627=0,0,AS628/AS627)*100","v":0},null,{"$f":"IF(AU627=0,0,AU628/AU627)*100","v":0},{"$f":"IF(AV627=0,0,AV628/AV627)*100","v":0},null,{"$f":"IF(AX627=0,0,AX628/AX627)*100","v":0},{"$f":"IF(AY627=0,0,AY628/AY627)*100","v":0},null,{"$f":"IF(BA627=0,0,BA628/BA627)*100","v":0},{"$f":"IF(BB627=0,0,BB628/BB627)*100","v":0},null,{"$f":"IF(BD627=0,0,BD628/BD627)*100","v":0},{"$f":"IF(BE627=0,0,BE628/BE627)*100","v":0},null,{"$f":"IF(BG627=0,0,BG628/BG627)*100","v":0},{"$f":"IF(BH627=0,0,BH628/BH627)*100","v":0},null,{"$f":"IF(BJ627=0,0,BJ628/BJ627)*100","v":0},{"$f":"IF(BK627=0,0,BK628/BK627)*100","v":0},null,{"$f":"IF(BM627=0,0,BM628/BM627)*100","v":0},{"$f":"IF(BN627=0,0,BN628/BN627)*100","v":0},null,{"$f":"IF(BP627=0,0,BP628/BP627)*100","v":0},{"$f":"IF(BQ627=0,0,BQ628/BQ627)*100","v":0},null,{"$f":"IF(BS627=0,0,BS628/BS627)*100","v":0},{"$f":"IF(BT627=0,0,BT628/BT627)*100","v":0},null,{"$f":"IF(BV627=0,0,BV628/BV627)*100","v":0},{"$f":"IF(BW627=0,0,BW628/BW627)*100","v":0},null,{"$f":"IF(BY627=0,0,BY628/BY627)*100","v":0},{"$f":"IF(BZ627=0,0,BZ628/BZ627)*100","v":0},null,{"$f":"IF(CB627=0,0,CB628/CB627)*100","v":0},{"$f":"IF(CC627=0,0,CC628/CC627)*100","v":0},null,{"$f":"IF(CE627=0,0,CE628/CE627)*100","v":0},{"$f":"IF(CF627=0,0,CF628/CF627)*100","v":0},null,{"$f":"IF(CH627=0,0,CH628/CH627)*100","v":0},{"$f":"IF(CI627=0,0,CI628/CI627)*100","v":0},null,{"$f":"IF(CK627=0,0,CK628/CK627)*100","v":0},{"$f":"IF(CL627=0,0,CL628/CL627)*100","v":0},null,{"$f":"IF(CN627=0,0,CN628/CN627)*100","v":0},{"$f":"IF(CO627=0,0,CO628/CO627)*100","v":0},null,{"$f":"IF(CQ627=0,0,CQ628/CQ627)*100","v":0},{"$f":"IF(CR627=0,0,CR628/CR627)*100","v":0},null,{"$f":"IF(CT627=0,0,CT628/CT627)*100","v":0},{"$f":"IF(CU627=0,0,CU628/CU627)*100","v":0},null,{"$f":"IF(CW627=0,0,CW628/CW627)*100","v":0},{"$f":"IF(CX627=0,0,CX628/CX627)*100","v":0},null,{"$f":"IF(CZ627=0,0,CZ628/CZ627)*100","v":0},{"$f":"IF(DA627=0,0,DA628/DA627)*100","v":0},null,{"$f":"IF(DC627=0,0,DC628/DC627)*100","v":0},{"$f":"IF(DD627=0,0,DD628/DD627)*100","v":0},null,{"$f":"IF(DF627=0,0,DF628/DF627)*100","v":0},{"$f":"IF(DG627=0,0,DG628/DG627)*100","v":0},null,{"$f":"IF(DI627=0,0,DI628/DI627)*100","v":0},{"$f":"IF(DJ627=0,0,DJ628/DJ627)*100","v":0},null,{"$f":"IF(DL627=0,0,DL628/DL627)*100","v":0},{"$f":"IF(DM627=0,0,DM628/DM627)*100","v":0},null,{"$f":"IF(DO627=0,0,DO628/DO627)*100","v":0},{"$f":"IF(DP627=0,0,DP628/DP627)*100","v":0},null,{"$f":"IF(DR627=0,0,DR628/DR627)*100","v":0},{"$f":"IF(DS627=0,0,DS628/DS627)*100","v":0},null,{"$f":"IF(DU627=0,0,DU628/DU627)*100","v":0},{"$f":"IF(DV627=0,0,DV628/DV627)*100","v":0},null,{"$f":"IF(DX627=0,0,DX628/DX627)*100","v":0},{"$f":"IF(DY627=0,0,DY628/DY627)*100","v":0},null,{"$f":"IF(EA627=0,0,EA628/EA627)*100","v":0},{"$f":"IF(EB627=0,0,EB628/EB627)*100","v":0},null,{"$f":"IF(ED627=0,0,ED628/ED627)*100","v":0},{"$f":"IF(EE627=0,0,EE628/EE627)*100","v":0},null,{"$f":"IF(EG627=0,0,EG628/EG627)*100","v":0},{"$f":"IF(EH627=0,0,EH628/EH627)*100","v":0},null,{"$f":"IF(EJ627=0,0,EJ628/EJ627)*100","v":0},{"$f":"IF(EK627=0,0,EK628/EK627)*100","v":0},null,{"$f":"IF(EM627=0,0,EM628/EM627)*100","v":0},{"$f":"IF(EN627=0,0,EN628/EN627)*100","v":0},null,{"$f":"IF(EP627=0,0,EP628/EP627)*100","v":0},{"$f":"IF(EQ627=0,0,EQ628/EQ627)*100","v":0},null,{"$f":"IF(ES627=0,0,ES628/ES627)*100","v":0},{"$f":"IF(ET627=0,0,ET628/ET627)*100","v":0},null,{"$f":"IF(EV627=0,0,EV628/EV627)*100","v":0},{"$f":"IF(EW627=0,0,EW628/EW627)*100","v":0},null,{"$f":"IF(EY627=0,0,EY628/EY627)*100","v":0},{"$f":"IF(EZ627=0,0,EZ628/EZ627)*100","v":0},null,{"$f":"IF(FB627=0,0,FB628/FB627)*100","v":0},{"$f":"IF(FC627=0,0,FC628/FC627)*100","v":0},null,{"$f":"IF(FE627=0,0,FE628/FE627)*100","v":0},{"$f":"IF(FF627=0,0,FF628/FF627)*100","v":0}]
["1",null,{"$f":"A630&\"pIns3\"","v":"1pIns3"},null,null,null,null,null,null,"т",null,"Добавить"]
["et_List16_line_o"]
[{"$f":"OFFSET(A632,-1,0)","v":"et_List16_line_o"},null,"L1_1",{"$f":"L632","v":0},null,null,{"$f":"OFFSET(G632,-1,0)","v":0},null,null,null,"О",null,"руб./куб.м",null,null,{"$f":"IF(N632=0,0,(O632-N632)/N632*100)","v":0},null,null,{"$f":"IF(Q632=0,0,(R632-Q632)/Q632*100)","v":0},null,null,{"$f":"IF(T632=0,0,(U632-T632)/T632*100)","v":0},null,null,{"$f":"IF(W632=0,0,(X632-W632)/W632*100)","v":0},null,null,{"$f":"IF(Z632=0,0,(AA632-Z632)/Z632*100)","v":0},null,null,{"$f":"IF(AC632=0,0,(AD632-AC632)/AC632*100)","v":0},null,null,{"$f":"IF(AF632=0,0,(AG632-AF632)/AF632*100)","v":0},null,null,{"$f":"IF(AI632=0,0,(AJ632-AI632)/AI632*100)","v":0},null,null,{"$f":"IF(AL632=0,0,(AM632-AL632)/AL632*100)","v":0},null,null,{"$f":"IF(AO632=0,0,(AP632-AO632)/AO632*100)","v":0},null,null,{"$f":"IF(AR632=0,0,(AS632-AR632)/AR632*100)","v":0},null,null,{"$f":"IF(AU632=0,0,(AV632-AU632)/AU632*100)","v":0},null,null,{"$f":"IF(AX632=0,0,(AY632-AX632)/AX632*100)","v":0},null,null,{"$f":"IF(BA632=0,0,(BB632-BA632)/BA632*100)","v":0},null,null,{"$f":"IF(BD632=0,0,(BE632-BD632)/BD632*100)","v":0},null,null,{"$f":"IF(BG632=0,0,(BH632-BG632)/BG632*100)","v":0},null,null,{"$f":"IF(BJ632=0,0,(BK632-BJ632)/BJ632*100)","v":0},null,null,{"$f":"IF(BM632=0,0,(BN632-BM632)/BM632*100)","v":0},null,null,{"$f":"IF(BP632=0,0,(BQ632-BP632)/BP632*100)","v":0},null,null,{"$f":"IF(BS632=0,0,(BT632-BS632)/BS632*100)","v":0},null,null,{"$f":"IF(BV632=0,0,(BW632-BV632)/BV632*100)","v":0},null,null,{"$f":"IF(BY632=0,0,(BZ632-BY632)/BY632*100)","v":0},null,null,{"$f":"IF(CB632=0,0,(CC632-CB632)/CB632*100)","v":0},null,null,{"$f":"IF(CE632=0,0,(CF632-CE632)/CE632*100)","v":0},null,null,{"$f":"IF(CH632=0,0,(CI632-CH632)/CH632*100)","v":0},null,null,{"$f":"IF(CK632=0,0,(CL632-CK632)/CK632*100)","v":0},null,null,{"$f":"IF(CN632=0,0,(CO632-CN632)/CN632*100)","v":0},null,null,{"$f":"IF(CQ632=0,0,(CR632-CQ632)/CQ632*100)","v":0},null,null,{"$f":"IF(CT632=0,0,(CU632-CT632)/CT632*100)","v":0},null,null,{"$f":"IF(CW632=0,0,(CX632-CW632)/CW632*100)","v":0},null,null,{"$f":"IF(CZ632=0,0,(DA632-CZ632)/CZ632*100)","v":0},null,null,{"$f":"IF(DC632=0,0,(DD632-DC632)/DC632*100)","v":0},null,null,{"$f":"IF(DF632=0,0,(DG632-DF632)/DF632*100)","v":0},null,null,{"$f":"IF(DI632=0,0,(DJ632-DI632)/DI632*100)","v":0},null,null,{"$f":"IF(DL632=0,0,(DM632-DL632)/DL632*100)","v":0},null,null,{"$f":"IF(DO632=0,0,(DP632-DO632)/DO632*100)","v":0},null,null,{"$f":"IF(DR632=0,0,(DS632-DR632)/DR632*100)","v":0},null,null,{"$f":"IF(DU632=0,0,(DV632-DU632)/DU632*100)","v":0},null,null,{"$f":"IF(DX632=0,0,(DY632-DX632)/DX632*100)","v":0},null,null,{"$f":"IF(EA632=0,0,(EB632-EA632)/EA632*100)","v":0},null,null,{"$f":"IF(ED632=0,0,(EE632-ED632)/ED632*100)","v":0},null,null,{"$f":"IF(EG632=0,0,(EH632-EG632)/EG632*100)","v":0},null,null,{"$f":"IF(EJ632=0,0,(EK632-EJ632)/EJ632*100)","v":0},null,null,{"$f":"IF(EM632=0,0,(EN632-EM632)/EM632*100)","v":0},null,null,{"$f":"IF(EP632=0,0,(EQ632-EP632)/EP632*100)","v":0},null,null,{"$f":"IF(ES632=0,0,(ET632-ES632)/ES632*100)","v":0},null,null,{"$f":"IF(EV632=0,0,(EW632-EV632)/EV632*100)","v":0},null,null,{"$f":"IF(EY632=0,0,(EZ632-EY632)/EY632*100)","v":0},null,null,{"$f":"IF(FB632=0,0,(FC632-FB632)/FB632*100)","v":0},null,null,{"$f":"IF(FE632=0,0,(FF632-FE632)/FE632*100)","v":0}]
[{"$f":"OFFSET(A633,-1,0)","v":"et_List16_line_o"},null,"L1_3",{"$f":"D632","v":0},null,null,{"$f":"OFFSET(G633,-1,0)","v":0},null,null,null,null,"Объём реализации услуги","тыс.куб.м",null,null,{"$f":"IF(N633=0,0,(O633-N633)/N633*100)","v":0},null,null,{"$f":"IF(Q633=0,0,(R633-Q633)/Q633*100)","v":0},null,null,{"$f":"IF(T633=0,0,(U633-T633)/T633*100)","v":0},null,null,{"$f":"IF(W633=0,0,(X633-W633)/W633*100)","v":0},null,null,{"$f":"IF(Z633=0,0,(AA633-Z633)/Z633*100)","v":0},null,null,{"$f":"IF(AC633=0,0,(AD633-AC633)/AC633*100)","v":0},null,null,{"$f":"IF(AF633=0,0,(AG633-AF633)/AF633*100)","v":0},null,null,{"$f":"IF(AI633=0,0,(AJ633-AI633)/AI633*100)","v":0},null,null,{"$f":"IF(AL633=0,0,(AM633-AL633)/AL633*100)","v":0},null,null,{"$f":"IF(AO633=0,0,(AP633-AO633)/AO633*100)","v":0},null,null,{"$f":"IF(AR633=0,0,(AS633-AR633)/AR633*100)","v":0},null,null,{"$f":"IF(AU633=0,0,(AV633-AU633)/AU633*100)","v":0},null,null,{"$f":"IF(AX633=0,0,(AY633-AX633)/AX633*100)","v":0},null,null,{"$f":"IF(BA633=0,0,(BB633-BA633)/BA633*100)","v":0},null,null,{"$f":"IF(BD633=0,0,(BE633-BD633)/BD633*100)","v":0},null,null,{"$f":"IF(BG633=0,0,(BH633-BG633)/BG633*100)","v":0},null,null,{"$f":"IF(BJ633=0,0,(BK633-BJ633)/BJ633*100)","v":0},null,null,{"$f":"IF(BM633=0,0,(BN633-BM633)/BM633*100)","v":0},null,null,{"$f":"IF(BP633=0,0,(BQ633-BP633)/BP633*100)","v":0},null,null,{"$f":"IF(BS633=0,0,(BT633-BS633)/BS633*100)","v":0},null,null,{"$f":"IF(BV633=0,0,(BW633-BV633)/BV633*100)","v":0},null,null,{"$f":"IF(BY633=0,0,(BZ633-BY633)/BY633*100)","v":0},null,null,{"$f":"IF(CB633=0,0,(CC633-CB633)/CB633*100)","v":0},null,null,{"$f":"IF(CE633=0,0,(CF633-CE633)/CE633*100)","v":0},null,null,{"$f":"IF(CH633=0,0,(CI633-CH633)/CH633*100)","v":0},null,null,{"$f":"IF(CK633=0,0,(CL633-CK633)/CK633*100)","v":0},null,null,{"$f":"IF(CN633=0,0,(CO633-CN633)/CN633*100)","v":0},null,null,{"$f":"IF(CQ633=0,0,(CR633-CQ633)/CQ633*100)","v":0},null,null,{"$f":"IF(CT633=0,0,(CU633-CT633)/CT633*100)","v":0},null,null,{"$f":"IF(CW633=0,0,(CX633-CW633)/CW633*100)","v":0},null,null,{"$f":"IF(CZ633=0,0,(DA633-CZ633)/CZ633*100)","v":0},null,null,{"$f":"IF(DC633=0,0,(DD633-DC633)/DC633*100)","v":0},null,null,{"$f":"IF(DF633=0,0,(DG633-DF633)/DF633*100)","v":0},null,null,{"$f":"IF(DI633=0,0,(DJ633-DI633)/DI633*100)","v":0},null,null,{"$f":"IF(DL633=0,0,(DM633-DL633)/DL633*100)","v":0},null,null,{"$f":"IF(DO633=0,0,(DP633-DO633)/DO633*100)","v":0},null,null,{"$f":"IF(DR633=0,0,(DS633-DR633)/DR633*100)","v":0},null,null,{"$f":"IF(DU633=0,0,(DV633-DU633)/DU633*100)","v":0},null,null,{"$f":"IF(DX633=0,0,(DY633-DX633)/DX633*100)","v":0},null,null,{"$f":"IF(EA633=0,0,(EB633-EA633)/EA633*100)","v":0},null,null,{"$f":"IF(ED633=0,0,(EE633-ED633)/ED633*100)","v":0},null,null,{"$f":"IF(EG633=0,0,(EH633-EG633)/EG633*100)","v":0},null,null,{"$f":"IF(EJ633=0,0,(EK633-EJ633)/EJ633*100)","v":0},null,null,{"$f":"IF(EM633=0,0,(EN633-EM633)/EM633*100)","v":0},null,null,{"$f":"IF(EP633=0,0,(EQ633-EP633)/EP633*100)","v":0},null,null,{"$f":"IF(ES633=0,0,(ET633-ES633)/ES633*100)","v":0},null,null,{"$f":"IF(EV633=0,0,(EW633-EV633)/EV633*100)","v":0},null,null,{"$f":"IF(EY633=0,0,(EZ633-EY633)/EY633*100)","v":0},null,null,{"$f":"IF(FB633=0,0,(FC633-FB633)/FB633*100)","v":0},null,null,{"$f":"IF(FE633=0,0,(FF633-FE633)/FE633*100)","v":0}]
["et_List16_line_d"]
[{"$f":"OFFSET(A635,-1,0)","v":"et_List16_line_d"},null,null,null,null,null,{"$f":"OFFSET(G635,-1,0)","v":0},null,null,null,"О"]
["et_List16_line_d",null,"L2_1_1",{"$f":"L635","v":0},null,null,0,null,null,null,null,"перевод двухставочного тарифа в одноставочный тариф","руб./куб.м",{"$f":"IF(N638=0,0,(N637*N638+N639*N640*6)/N638)","v":0},{"$f":"IF(O638=0,0,(O637*O638+O639*O640*6)/O638)","v":0},{"$f":"IF(N636=0,0,(O636-N636)/N636*100)","v":0},{"$f":"IF(Q638=0,0,(Q637*Q638+Q639*Q640*6)/Q638)","v":0},{"$f":"IF(R638=0,0,(R637*R638+R639*R640*6)/R638)","v":0},{"$f":"IF(Q636=0,0,(R636-Q636)/Q636*100)","v":0},{"$f":"IF(T638=0,0,(T637*T638+T639*T640*6)/T638)","v":0},{"$f":"IF(U638=0,0,(U637*U638+U639*U640*6)/U638)","v":0},{"$f":"IF(T636=0,0,(U636-T636)/T636*100)","v":0},{"$f":"IF(W638=0,0,(W637*W638+W639*W640*6)/W638)","v":0},{"$f":"IF(X638=0,0,(X637*X638+X639*X640*6)/X638)","v":0},{"$f":"IF(W636=0,0,(X636-W636)/W636*100)","v":0},{"$f":"IF(Z638=0,0,(Z637*Z638+Z639*Z640*6)/Z638)","v":0},{"$f":"IF(AA638=0,0,(AA637*AA638+AA639*AA640*6)/AA638)","v":0},{"$f":"IF(Z636=0,0,(AA636-Z636)/Z636*100)","v":0},{"$f":"IF(AC638=0,0,(AC637*AC638+AC639*AC640*6)/AC638)","v":0},{"$f":"IF(AD638=0,0,(AD637*AD638+AD639*AD640*6)/AD638)","v":0},{"$f":"IF(AC636=0,0,(AD636-AC636)/AC636*100)","v":0},{"$f":"IF(AF638=0,0,(AF637*AF638+AF639*AF640*6)/AF638)","v":0},{"$f":"IF(AG638=0,0,(AG637*AG638+AG639*AG640*6)/AG638)","v":0},{"$f":"IF(AF636=0,0,(AG636-AF636)/AF636*100)","v":0},{"$f":"IF(AI638=0,0,(AI637*AI638+AI639*AI640*6)/AI638)","v":0},{"$f":"IF(AJ638=0,0,(AJ637*AJ638+AJ639*AJ640*6)/AJ638)","v":0},{"$f":"IF(AI636=0,0,(AJ636-AI636)/AI636*100)","v":0},{"$f":"IF(AL638=0,0,(AL637*AL638+AL639*AL640*6)/AL638)","v":0},{"$f":"IF(AM638=0,0,(AM637*AM638+AM639*AM640*6)/AM638)","v":0},{"$f":"IF(AL636=0,0,(AM636-AL636)/AL636*100)","v":0},{"$f":"IF(AO638=0,0,(AO637*AO638+AO639*AO640*6)/AO638)","v":0},{"$f":"IF(AP638=0,0,(AP637*AP638+AP639*AP640*6)/AP638)","v":0},{"$f":"IF(AO636=0,0,(AP636-AO636)/AO636*100)","v":0},{"$f":"IF(AR638=0,0,(AR637*AR638+AR639*AR640*6)/AR638)","v":0},{"$f":"IF(AS638=0,0,(AS637*AS638+AS639*AS640*6)/AS638)","v":0},{"$f":"IF(AR636=0,0,(AS636-AR636)/AR636*100)","v":0},{"$f":"IF(AU638=0,0,(AU637*AU638+AU639*AU640*6)/AU638)","v":0},{"$f":"IF(AV638=0,0,(AV637*AV638+AV639*AV640*6)/AV638)","v":0},{"$f":"IF(AU636=0,0,(AV636-AU636)/AU636*100)","v":0},{"$f":"IF(AX638=0,0,(AX637*AX638+AX639*AX640*6)/AX638)","v":0},{"$f":"IF(AY638=0,0,(AY637*AY638+AY639*AY640*6)/AY638)","v":0},{"$f":"IF(AX636=0,0,(AY636-AX636)/AX636*100)","v":0},{"$f":"IF(BA638=0,0,(BA637*BA638+BA639*BA640*6)/BA638)","v":0},{"$f":"IF(BB638=0,0,(BB637*BB638+BB639*BB640*6)/BB638)","v":0},{"$f":"IF(BA636=0,0,(BB636-BA636)/BA636*100)","v":0},{"$f":"IF(BD638=0,0,(BD637*BD638+BD639*BD640*6)/BD638)","v":0},{"$f":"IF(BE638=0,0,(BE637*BE638+BE639*BE640*6)/BE638)","v":0},{"$f":"IF(BD636=0,0,(BE636-BD636)/BD636*100)","v":0},{"$f":"IF(BG638=0,0,(BG637*BG638+BG639*BG640*6)/BG638)","v":0},{"$f":"IF(BH638=0,0,(BH637*BH638+BH639*BH640*6)/BH638)","v":0},{"$f":"IF(BG636=0,0,(BH636-BG636)/BG636*100)","v":0},{"$f":"IF(BJ638=0,0,(BJ637*BJ638+BJ639*BJ640*6)/BJ638)","v":0},{"$f":"IF(BK638=0,0,(BK637*BK638+BK639*BK640*6)/BK638)","v":0},{"$f":"IF(BJ636=0,0,(BK636-BJ636)/BJ636*100)","v":0},{"$f":"IF(BM638=0,0,(BM637*BM638+BM639*BM640*6)/BM638)","v":0},{"$f":"IF(BN638=0,0,(BN637*BN638+BN639*BN640*6)/BN638)","v":0},{"$f":"IF(BM636=0,0,(BN636-BM636)/BM636*100)","v":0},{"$f":"IF(BP638=0,0,(BP637*BP638+BP639*BP640*6)/BP638)","v":0},{"$f":"IF(BQ638=0,0,(BQ637*BQ638+BQ639*BQ640*6)/BQ638)","v":0},{"$f":"IF(BP636=0,0,(BQ636-BP636)/BP636*100)","v":0},{"$f":"IF(BS638=0,0,(BS637*BS638+BS639*BS640*6)/BS638)","v":0},{"$f":"IF(BT638=0,0,(BT637*BT638+BT639*BT640*6)/BT638)","v":0},{"$f":"IF(BS636=0,0,(BT636-BS636)/BS636*100)","v":0},{"$f":"IF(BV638=0,0,(BV637*BV638+BV639*BV640*6)/BV638)","v":0},{"$f":"IF(BW638=0,0,(BW637*BW638+BW639*BW640*6)/BW638)","v":0},{"$f":"IF(BV636=0,0,(BW636-BV636)/BV636*100)","v":0},{"$f":"IF(BY638=0,0,(BY637*BY638+BY639*BY640*6)/BY638)","v":0},{"$f":"IF(BZ638=0,0,(BZ637*BZ638+BZ639*BZ640*6)/BZ638)","v":0},{"$f":"IF(BY636=0,0,(BZ636-BY636)/BY636*100)","v":0},{"$f":"IF(CB638=0,0,(CB637*CB638+CB639*CB640*6)/CB638)","v":0},{"$f":"IF(CC638=0,0,(CC637*CC638+CC639*CC640*6)/CC638)","v":0},{"$f":"IF(CB636=0,0,(CC636-CB636)/CB636*100)","v":0},{"$f":"IF(CE638=0,0,(CE637*CE638+CE639*CE640*6)/CE638)","v":0},{"$f":"IF(CF638=0,0,(CF637*CF638+CF639*CF640*6)/CF638)","v":0},{"$f":"IF(CE636=0,0,(CF636-CE636)/CE636*100)","v":0},{"$f":"IF(CH638=0,0,(CH637*CH638+CH639*CH640*6)/CH638)","v":0},{"$f":"IF(CI638=0,0,(CI637*CI638+CI639*CI640*6)/CI638)","v":0},{"$f":"IF(CH636=0,0,(CI636-CH636)/CH636*100)","v":0},{"$f":"IF(CK638=0,0,(CK637*CK638+CK639*CK640*6)/CK638)","v":0},{"$f":"IF(CL638=0,0,(CL637*CL638+CL639*CL640*6)/CL638)","v":0},{"$f":"IF(CK636=0,0,(CL636-CK636)/CK636*100)","v":0},{"$f":"IF(CN638=0,0,(CN637*CN638+CN639*CN640*6)/CN638)","v":0},{"$f":"IF(CO638=0,0,(CO637*CO638+CO639*CO640*6)/CO638)","v":0},{"$f":"IF(CN636=0,0,(CO636-CN636)/CN636*100)","v":0},{"$f":"IF(CQ638=0,0,(CQ637*CQ638+CQ639*CQ640*6)/CQ638)","v":0},{"$f":"IF(CR638=0,0,(CR637*CR638+CR639*CR640*6)/CR638)","v":0},{"$f":"IF(CQ636=0,0,(CR636-CQ636)/CQ636*100)","v":0},{"$f":"IF(CT638=0,0,(CT637*CT638+CT639*CT640*6)/CT638)","v":0},{"$f":"IF(CU638=0,0,(CU637*CU638+CU639*CU640*6)/CU638)","v":0},{"$f":"IF(CT636=0,0,(CU636-CT636)/CT636*100)","v":0},{"$f":"IF(CW638=0,0,(CW637*CW638+CW639*CW640*6)/CW638)","v":0},{"$f":"IF(CX638=0,0,(CX637*CX638+CX639*CX640*6)/CX638)","v":0},{"$f":"IF(CW636=0,0,(CX636-CW636)/CW636*100)","v":0},{"$f":"IF(CZ638=0,0,(CZ637*CZ638+CZ639*CZ640*6)/CZ638)","v":0},{"$f":"IF(DA638=0,0,(DA637*DA638+DA639*DA640*6)/DA638)","v":0},{"$f":"IF(CZ636=0,0,(DA636-CZ636)/CZ636*100)","v":0},{"$f":"IF(DC638=0,0,(DC637*DC638+DC639*DC640*6)/DC638)","v":0},{"$f":"IF(DD638=0,0,(DD637*DD638+DD639*DD640*6)/DD638)","v":0},{"$f":"IF(DC636=0,0,(DD636-DC636)/DC636*100)","v":0},{"$f":"IF(DF638=0,0,(DF637*DF638+DF639*DF640*6)/DF638)","v":0},{"$f":"IF(DG638=0,0,(DG637*DG638+DG639*DG640*6)/DG638)","v":0},{"$f":"IF(DF636=0,0,(DG636-DF636)/DF636*100)","v":0},{"$f":"IF(DI638=0,0,(DI637*DI638+DI639*DI640*6)/DI638)","v":0},{"$f":"IF(DJ638=0,0,(DJ637*DJ638+DJ639*DJ640*6)/DJ638)","v":0},{"$f":"IF(DI636=0,0,(DJ636-DI636)/DI636*100)","v":0},{"$f":"IF(DL638=0,0,(DL637*DL638+DL639*DL640*6)/DL638)","v":0},{"$f":"IF(DM638=0,0,(DM637*DM638+DM639*DM640*6)/DM638)","v":0},{"$f":"IF(DL636=0,0,(DM636-DL636)/DL636*100)","v":0},{"$f":"IF(DO638=0,0,(DO637*DO638+DO639*DO640*6)/DO638)","v":0},{"$f":"IF(DP638=0,0,(DP637*DP638+DP639*DP640*6)/DP638)","v":0},{"$f":"IF(DO636=0,0,(DP636-DO636)/DO636*100)","v":0},{"$f":"IF(DR638=0,0,(DR637*DR638+DR639*DR640*6)/DR638)","v":0},{"$f":"IF(DS638=0,0,(DS637*DS638+DS639*DS640*6)/DS638)","v":0},{"$f":"IF(DR636=0,0,(DS636-DR636)/DR636*100)","v":0},{"$f":"IF(DU638=0,0,(DU637*DU638+DU639*DU640*6)/DU638)","v":0},{"$f":"IF(DV638=0,0,(DV637*DV638+DV639*DV640*6)/DV638)","v":0},{"$f":"IF(DU636=0,0,(DV636-DU636)/DU636*100)","v":0},{"$f":"IF(DX638=0,0,(DX637*DX638+DX639*DX640*6)/DX638)","v":0},{"$f":"IF(DY638=0,0,(DY637*DY638+DY639*DY640*6)/DY638)","v":0},{"$f":"IF(DX636=0,0,(DY636-DX636)/DX636*100)","v":0},{"$f":"IF(EA638=0,0,(EA637*EA638+EA639*EA640*6)/EA638)","v":0},{"$f":"IF(EB638=0,0,(EB637*EB638+EB639*EB640*6)/EB638)","v":0},{"$f":"IF(EA636=0,0,(EB636-EA636)/EA636*100)","v":0},{"$f":"IF(ED638=0,0,(ED637*ED638+ED639*ED640*6)/ED638)","v":0},{"$f":"IF(EE638=0,0,(EE637*EE638+EE639*EE640*6)/EE638)","v":0},{"$f":"IF(ED636=0,0,(EE636-ED636)/ED636*100)","v":0},{"$f":"IF(EG638=0,0,(EG637*EG638+EG639*EG640*6)/EG638)","v":0},{"$f":"IF(EH638=0,0,(EH637*EH638+EH639*EH640*6)/EH638)","v":0},{"$f":"IF(EG636=0,0,(EH636-EG636)/EG636*100)","v":0},{"$f":"IF(EJ638=0,0,(EJ637*EJ638+EJ639*EJ640*6)/EJ638)","v":0},{"$f":"IF(EK638=0,0,(EK637*EK638+EK639*EK640*6)/EK638)","v":0},{"$f":"IF(EJ636=0,0,(EK636-EJ636)/EJ636*100)","v":0},{"$f":"IF(EM638=0,0,(EM637*EM638+EM639*EM640*6)/EM638)","v":0},{"$f":"IF(EN638=0,0,(EN637*EN638+EN639*EN640*6)/EN638)","v":0},{"$f":"IF(EM636=0,0,(EN636-EM636)/EM636*100)","v":0},{"$f":"IF(EP638=0,0,(EP637*EP638+EP639*EP640*6)/EP638)","v":0},{"$f":"IF(EQ638=0,0,(EQ637*EQ638+EQ639*EQ640*6)/EQ638)","v":0},{"$f":"IF(EP636=0,0,(EQ636-EP636)/EP636*100)","v":0},{"$f":"IF(ES638=0,0,(ES637*ES638+ES639*ES640*6)/ES638)","v":0},{"$f":"IF(ET638=0,0,(ET637*ET638+ET639*ET640*6)/ET638)","v":0},{"$f":"IF(ES636=0,0,(ET636-ES636)/ES636*100)","v":0},{"$f":"IF(EV638=0,0,(EV637*EV638+EV639*EV640*6)/EV638)","v":0},{"$f":"IF(EW638=0,0,(EW637*EW638+EW639*EW640*6)/EW638)","v":0},{"$f":"IF(EV636=0,0,(EW636-EV636)/EV636*100)","v":0},{"$f":"IF(EY638=0,0,(EY637*EY638+EY639*EY640*6)/EY638)","v":0},{"$f":"IF(EZ638=0,0,(EZ637*EZ638+EZ639*EZ640*6)/EZ638)","v":0},{"$f":"IF(EY636=0,0,(EZ636-EY636)/EY636*100)","v":0},{"$f":"IF(FB638=0,0,(FB637*FB638+FB639*FB640*6)/FB638)","v":0},{"$f":"IF(FC638=0,0,(FC637*FC638+FC639*FC640*6)/FC638)","v":0},{"$f":"IF(FB636=0,0,(FC636-FB636)/FB636*100)","v":0},{"$f":"IF(FE638=0,0,(FE637*FE638+FE639*FE640*6)/FE638)","v":0},{"$f":"IF(FF638=0,0,(FF637*FF638+FF639*FF640*6)/FF638)","v":0},{"$f":"IF(FE636=0,0,(FF636-FE636)/FE636*100)","v":0}]
["et_List16_line_d",null,"L2_1_2",{"$f":"D636","v":0},null,null,0,null,null,null,null,"ставка платы за потребление 1 куб.м холодной воды","руб./куб.м",null,null,{"$f":"IF(N637=0,0,(O637-N637)/N637*100)","v":0},null,null,{"$f":"IF(Q637=0,0,(R637-Q637)/Q637*100)","v":0},null,null,{"$f":"IF(T637=0,0,(U637-T637)/T637*100)","v":0},null,null,{"$f":"IF(W637=0,0,(X637-W637)/W637*100)","v":0},null,null,{"$f":"IF(Z637=0,0,(AA637-Z637)/Z637*100)","v":0},null,null,{"$f":"IF(AC637=0,0,(AD637-AC637)/AC637*100)","v":0},null,null,{"$f":"IF(AF637=0,0,(AG637-AF637)/AF637*100)","v":0},null,null,{"$f":"IF(AI637=0,0,(AJ637-AI637)/AI637*100)","v":0},null,null,{"$f":"IF(AL637=0,0,(AM637-AL637)/AL637*100)","v":0},null,null,{"$f":"IF(AO637=0,0,(AP637-AO637)/AO637*100)","v":0},null,null,{"$f":"IF(AR637=0,0,(AS637-AR637)/AR637*100)","v":0},null,null,{"$f":"IF(AU637=0,0,(AV637-AU637)/AU637*100)","v":0},null,null,{"$f":"IF(AX637=0,0,(AY637-AX637)/AX637*100)","v":0},null,null,{"$f":"IF(BA637=0,0,(BB637-BA637)/BA637*100)","v":0},null,null,{"$f":"IF(BD637=0,0,(BE637-BD637)/BD637*100)","v":0},null,null,{"$f":"IF(BG637=0,0,(BH637-BG637)/BG637*100)","v":0},null,null,{"$f":"IF(BJ637=0,0,(BK637-BJ637)/BJ637*100)","v":0},null,null,{"$f":"IF(BM637=0,0,(BN637-BM637)/BM637*100)","v":0},null,null,{"$f":"IF(BP637=0,0,(BQ637-BP637)/BP637*100)","v":0},null,null,{"$f":"IF(BS637=0,0,(BT637-BS637)/BS637*100)","v":0},null,null,{"$f":"IF(BV637=0,0,(BW637-BV637)/BV637*100)","v":0},null,null,{"$f":"IF(BY637=0,0,(BZ637-BY637)/BY637*100)","v":0},null,null,{"$f":"IF(CB637=0,0,(CC637-CB637)/CB637*100)","v":0},null,null,{"$f":"IF(CE637=0,0,(CF637-CE637)/CE637*100)","v":0},null,null,{"$f":"IF(CH637=0,0,(CI637-CH637)/CH637*100)","v":0},null,null,{"$f":"IF(CK637=0,0,(CL637-CK637)/CK637*100)","v":0},null,null,{"$f":"IF(CN637=0,0,(CO637-CN637)/CN637*100)","v":0},null,null,{"$f":"IF(CQ637=0,0,(CR637-CQ637)/CQ637*100)","v":0},null,null,{"$f":"IF(CT637=0,0,(CU637-CT637)/CT637*100)","v":0},null,null,{"$f":"IF(CW637=0,0,(CX637-CW637)/CW637*100)","v":0},null,null,{"$f":"IF(CZ637=0,0,(DA637-CZ637)/CZ637*100)","v":0},null,null,{"$f":"IF(DC637=0,0,(DD637-DC637)/DC637*100)","v":0},null,null,{"$f":"IF(DF637=0,0,(DG637-DF637)/DF637*100)","v":0},null,null,{"$f":"IF(DI637=0,0,(DJ637-DI637)/DI637*100)","v":0},null,null,{"$f":"IF(DL637=0,0,(DM637-DL637)/DL637*100)","v":0},null,null,{"$f":"IF(DO637=0,0,(DP637-DO637)/DO637*100)","v":0},null,null,{"$f":"IF(DR637=0,0,(DS637-DR637)/DR637*100)","v":0},null,null,{"$f":"IF(DU637=0,0,(DV637-DU637)/DU637*100)","v":0},null,null,{"$f":"IF(DX637=0,0,(DY637-DX637)/DX637*100)","v":0},null,null,{"$f":"IF(EA637=0,0,(EB637-EA637)/EA637*100)","v":0},null,null,{"$f":"IF(ED637=0,0,(EE637-ED637)/ED637*100)","v":0},null,null,{"$f":"IF(EG637=0,0,(EH637-EG637)/EG637*100)","v":0},null,null,{"$f":"IF(EJ637=0,0,(EK637-EJ637)/EJ637*100)","v":0},null,null,{"$f":"IF(EM637=0,0,(EN637-EM637)/EM637*100)","v":0},null,null,{"$f":"IF(EP637=0,0,(EQ637-EP637)/EP637*100)","v":0},null,null,{"$f":"IF(ES637=0,0,(ET637-ES637)/ES637*100)","v":0},null,null,{"$f":"IF(EV637=0,0,(EW637-EV637)/EV637*100)","v":0},null,null,{"$f":"IF(EY637=0,0,(EZ637-EY637)/EY637*100)","v":0},null,null,{"$f":"IF(FB637=0,0,(FC637-FB637)/FB637*100)","v":0},null,null,{"$f":"IF(FE637=0,0,(FF637-FE637)/FE637*100)","v":0}]
["et_List16_line_d",null,"L2_1_3",{"$f":"D637","v":0},null,null,0,null,null,null,null,"объём потребления холодной воды","тыс.куб.м",null,null,{"$f":"IF(N638=0,0,(O638-N638)/N638*100)","v":0},null,null,{"$f":"IF(Q638=0,0,(R638-Q638)/Q638*100)","v":0},null,null,{"$f":"IF(T638=0,0,(U638-T638)/T638*100)","v":0},null,null,{"$f":"IF(W638=0,0,(X638-W638)/W638*100)","v":0},null,null,{"$f":"IF(Z638=0,0,(AA638-Z638)/Z638*100)","v":0},null,null,{"$f":"IF(AC638=0,0,(AD638-AC638)/AC638*100)","v":0},null,null,{"$f":"IF(AF638=0,0,(AG638-AF638)/AF638*100)","v":0},null,null,{"$f":"IF(AI638=0,0,(AJ638-AI638)/AI638*100)","v":0},null,null,{"$f":"IF(AL638=0,0,(AM638-AL638)/AL638*100)","v":0},null,null,{"$f":"IF(AO638=0,0,(AP638-AO638)/AO638*100)","v":0},null,null,{"$f":"IF(AR638=0,0,(AS638-AR638)/AR638*100)","v":0},null,null,{"$f":"IF(AU638=0,0,(AV638-AU638)/AU638*100)","v":0},null,null,{"$f":"IF(AX638=0,0,(AY638-AX638)/AX638*100)","v":0},null,null,{"$f":"IF(BA638=0,0,(BB638-BA638)/BA638*100)","v":0},null,null,{"$f":"IF(BD638=0,0,(BE638-BD638)/BD638*100)","v":0},null,null,{"$f":"IF(BG638=0,0,(BH638-BG638)/BG638*100)","v":0},null,null,{"$f":"IF(BJ638=0,0,(BK638-BJ638)/BJ638*100)","v":0},null,null,{"$f":"IF(BM638=0,0,(BN638-BM638)/BM638*100)","v":0},null,null,{"$f":"IF(BP638=0,0,(BQ638-BP638)/BP638*100)","v":0},null,null,{"$f":"IF(BS638=0,0,(BT638-BS638)/BS638*100)","v":0},null,null,{"$f":"IF(BV638=0,0,(BW638-BV638)/BV638*100)","v":0},null,null,{"$f":"IF(BY638=0,0,(BZ638-BY638)/BY638*100)","v":0},null,null,{"$f":"IF(CB638=0,0,(CC638-CB638)/CB638*100)","v":0},null,null,{"$f":"IF(CE638=0,0,(CF638-CE638)/CE638*100)","v":0},null,null,{"$f":"IF(CH638=0,0,(CI638-CH638)/CH638*100)","v":0},null,null,{"$f":"IF(CK638=0,0,(CL638-CK638)/CK638*100)","v":0},null,null,{"$f":"IF(CN638=0,0,(CO638-CN638)/CN638*100)","v":0},null,null,{"$f":"IF(CQ638=0,0,(CR638-CQ638)/CQ638*100)","v":0},null,null,{"$f":"IF(CT638=0,0,(CU638-CT638)/CT638*100)","v":0},null,null,{"$f":"IF(CW638=0,0,(CX638-CW638)/CW638*100)","v":0},null,null,{"$f":"IF(CZ638=0,0,(DA638-CZ638)/CZ638*100)","v":0},null,null,{"$f":"IF(DC638=0,0,(DD638-DC638)/DC638*100)","v":0},null,null,{"$f":"IF(DF638=0,0,(DG638-DF638)/DF638*100)","v":0},null,null,{"$f":"IF(DI638=0,0,(DJ638-DI638)/DI638*100)","v":0},null,null,{"$f":"IF(DL638=0,0,(DM638-DL638)/DL638*100)","v":0},null,null,{"$f":"IF(DO638=0,0,(DP638-DO638)/DO638*100)","v":0},null,null,{"$f":"IF(DR638=0,0,(DS638-DR638)/DR638*100)","v":0},null,null,{"$f":"IF(DU638=0,0,(DV638-DU638)/DU638*100)","v":0},null,null,{"$f":"IF(DX638=0,0,(DY638-DX638)/DX638*100)","v":0},null,null,{"$f":"IF(EA638=0,0,(EB638-EA638)/EA638*100)","v":0},null,null,{"$f":"IF(ED638=0,0,(EE638-ED638)/ED638*100)","v":0},null,null,{"$f":"IF(EG638=0,0,(EH638-EG638)/EG638*100)","v":0},null,null,{"$f":"IF(EJ638=0,0,(EK638-EJ638)/EJ638*100)","v":0},null,null,{"$f":"IF(EM638=0,0,(EN638-EM638)/EM638*100)","v":0},null,null,{"$f":"IF(EP638=0,0,(EQ638-EP638)/EP638*100)","v":0},null,null,{"$f":"IF(ES638=0,0,(ET638-ES638)/ES638*100)","v":0},null,null,{"$f":"IF(EV638=0,0,(EW638-EV638)/EV638*100)","v":0},null,null,{"$f":"IF(EY638=0,0,(EZ638-EY638)/EY638*100)","v":0},null,null,{"$f":"IF(FB638=0,0,(FC638-FB638)/FB638*100)","v":0},null,null,{"$f":"IF(FE638=0,0,(FF638-FE638)/FE638*100)","v":0}]
["et_List16_line_d",null,"L2_1_4",{"$f":"D638","v":0},null,null,0,null,null,null,null,"ставка платы за содержание системы холодного водоснабжения","тыс.руб./куб.м*час/в месяц",null,null,{"$f":"IF(N639=0,0,(O639-N639)/N639*100)","v":0},null,null,{"$f":"IF(Q639=0,0,(R639-Q639)/Q639*100)","v":0},null,null,{"$f":"IF(T639=0,0,(U639-T639)/T639*100)","v":0},null,null,{"$f":"IF(W639=0,0,(X639-W639)/W639*100)","v":0},null,null,{"$f":"IF(Z639=0,0,(AA639-Z639)/Z639*100)","v":0},null,null,{"$f":"IF(AC639=0,0,(AD639-AC639)/AC639*100)","v":0},null,null,{"$f":"IF(AF639=0,0,(AG639-AF639)/AF639*100)","v":0},null,null,{"$f":"IF(AI639=0,0,(AJ639-AI639)/AI639*100)","v":0},null,null,{"$f":"IF(AL639=0,0,(AM639-AL639)/AL639*100)","v":0},null,null,{"$f":"IF(AO639=0,0,(AP639-AO639)/AO639*100)","v":0},null,null,{"$f":"IF(AR639=0,0,(AS639-AR639)/AR639*100)","v":0},null,null,{"$f":"IF(AU639=0,0,(AV639-AU639)/AU639*100)","v":0},null,null,{"$f":"IF(AX639=0,0,(AY639-AX639)/AX639*100)","v":0},null,null,{"$f":"IF(BA639=0,0,(BB639-BA639)/BA639*100)","v":0},null,null,{"$f":"IF(BD639=0,0,(BE639-BD639)/BD639*100)","v":0},null,null,{"$f":"IF(BG639=0,0,(BH639-BG639)/BG639*100)","v":0},null,null,{"$f":"IF(BJ639=0,0,(BK639-BJ639)/BJ639*100)","v":0},null,null,{"$f":"IF(BM639=0,0,(BN639-BM639)/BM639*100)","v":0},null,null,{"$f":"IF(BP639=0,0,(BQ639-BP639)/BP639*100)","v":0},null,null,{"$f":"IF(BS639=0,0,(BT639-BS639)/BS639*100)","v":0},null,null,{"$f":"IF(BV639=0,0,(BW639-BV639)/BV639*100)","v":0},null,null,{"$f":"IF(BY639=0,0,(BZ639-BY639)/BY639*100)","v":0},null,null,{"$f":"IF(CB639=0,0,(CC639-CB639)/CB639*100)","v":0},null,null,{"$f":"IF(CE639=0,0,(CF639-CE639)/CE639*100)","v":0},null,null,{"$f":"IF(CH639=0,0,(CI639-CH639)/CH639*100)","v":0},null,null,{"$f":"IF(CK639=0,0,(CL639-CK639)/CK639*100)","v":0},null,null,{"$f":"IF(CN639=0,0,(CO639-CN639)/CN639*100)","v":0},null,null,{"$f":"IF(CQ639=0,0,(CR639-CQ639)/CQ639*100)","v":0},null,null,{"$f":"IF(CT639=0,0,(CU639-CT639)/CT639*100)","v":0},null,null,{"$f":"IF(CW639=0,0,(CX639-CW639)/CW639*100)","v":0},null,null,{"$f":"IF(CZ639=0,0,(DA639-CZ639)/CZ639*100)","v":0},null,null,{"$f":"IF(DC639=0,0,(DD639-DC639)/DC639*100)","v":0},null,null,{"$f":"IF(DF639=0,0,(DG639-DF639)/DF639*100)","v":0},null,null,{"$f":"IF(DI639=0,0,(DJ639-DI639)/DI639*100)","v":0},null,null,{"$f":"IF(DL639=0,0,(DM639-DL639)/DL639*100)","v":0},null,null,{"$f":"IF(DO639=0,0,(DP639-DO639)/DO639*100)","v":0},null,null,{"$f":"IF(DR639=0,0,(DS639-DR639)/DR639*100)","v":0},null,null,{"$f":"IF(DU639=0,0,(DV639-DU639)/DU639*100)","v":0},null,null,{"$f":"IF(DX639=0,0,(DY639-DX639)/DX639*100)","v":0},null,null,{"$f":"IF(EA639=0,0,(EB639-EA639)/EA639*100)","v":0},null,null,{"$f":"IF(ED639=0,0,(EE639-ED639)/ED639*100)","v":0},null,null,{"$f":"IF(EG639=0,0,(EH639-EG639)/EG639*100)","v":0},null,null,{"$f":"IF(EJ639=0,0,(EK639-EJ639)/EJ639*100)","v":0},null,null,{"$f":"IF(EM639=0,0,(EN639-EM639)/EM639*100)","v":0},null,null,{"$f":"IF(EP639=0,0,(EQ639-EP639)/EP639*100)","v":0},null,null,{"$f":"IF(ES639=0,0,(ET639-ES639)/ES639*100)","v":0},null,null,{"$f":"IF(EV639=0,0,(EW639-EV639)/EV639*100)","v":0},null,null,{"$f":"IF(EY639=0,0,(EZ639-EY639)/EY639*100)","v":0},null,null,{"$f":"IF(FB639=0,0,(FC639-FB639)/FB639*100)","v":0},null,null,{"$f":"IF(FE639=0,0,(FF639-FE639)/FE639*100)","v":0}]
["et_List16_line_d",null,"L2_1_5",{"$f":"D639","v":0},null,null,0,null,null,null,null,"величина присоединённой мощности","куб.м*час",null,null,{"$f":"IF(N640=0,0,(O640-N640)/N640*100)","v":0},null,null,{"$f":"IF(Q640=0,0,(R640-Q640)/Q640*100)","v":0},null,null,{"$f":"IF(T640=0,0,(U640-T640)/T640*100)","v":0},null,null,{"$f":"IF(W640=0,0,(X640-W640)/W640*100)","v":0},null,null,{"$f":"IF(Z640=0,0,(AA640-Z640)/Z640*100)","v":0},null,null,{"$f":"IF(AC640=0,0,(AD640-AC640)/AC640*100)","v":0},null,null,{"$f":"IF(AF640=0,0,(AG640-AF640)/AF640*100)","v":0},null,null,{"$f":"IF(AI640=0,0,(AJ640-AI640)/AI640*100)","v":0},null,null,{"$f":"IF(AL640=0,0,(AM640-AL640)/AL640*100)","v":0},null,null,{"$f":"IF(AO640=0,0,(AP640-AO640)/AO640*100)","v":0},null,null,{"$f":"IF(AR640=0,0,(AS640-AR640)/AR640*100)","v":0},null,null,{"$f":"IF(AU640=0,0,(AV640-AU640)/AU640*100)","v":0},null,null,{"$f":"IF(AX640=0,0,(AY640-AX640)/AX640*100)","v":0},null,null,{"$f":"IF(BA640=0,0,(BB640-BA640)/BA640*100)","v":0},null,null,{"$f":"IF(BD640=0,0,(BE640-BD640)/BD640*100)","v":0},null,null,{"$f":"IF(BG640=0,0,(BH640-BG640)/BG640*100)","v":0},null,null,{"$f":"IF(BJ640=0,0,(BK640-BJ640)/BJ640*100)","v":0},null,null,{"$f":"IF(BM640=0,0,(BN640-BM640)/BM640*100)","v":0},null,null,{"$f":"IF(BP640=0,0,(BQ640-BP640)/BP640*100)","v":0},null,null,{"$f":"IF(BS640=0,0,(BT640-BS640)/BS640*100)","v":0},null,null,{"$f":"IF(BV640=0,0,(BW640-BV640)/BV640*100)","v":0},null,null,{"$f":"IF(BY640=0,0,(BZ640-BY640)/BY640*100)","v":0},null,null,{"$f":"IF(CB640=0,0,(CC640-CB640)/CB640*100)","v":0},null,null,{"$f":"IF(CE640=0,0,(CF640-CE640)/CE640*100)","v":0},null,null,{"$f":"IF(CH640=0,0,(CI640-CH640)/CH640*100)","v":0},null,null,{"$f":"IF(CK640=0,0,(CL640-CK640)/CK640*100)","v":0},null,null,{"$f":"IF(CN640=0,0,(CO640-CN640)/CN640*100)","v":0},null,null,{"$f":"IF(CQ640=0,0,(CR640-CQ640)/CQ640*100)","v":0},null,null,{"$f":"IF(CT640=0,0,(CU640-CT640)/CT640*100)","v":0},null,null,{"$f":"IF(CW640=0,0,(CX640-CW640)/CW640*100)","v":0},null,null,{"$f":"IF(CZ640=0,0,(DA640-CZ640)/CZ640*100)","v":0},null,null,{"$f":"IF(DC640=0,0,(DD640-DC640)/DC640*100)","v":0},null,null,{"$f":"IF(DF640=0,0,(DG640-DF640)/DF640*100)","v":0},null,null,{"$f":"IF(DI640=0,0,(DJ640-DI640)/DI640*100)","v":0},null,null,{"$f":"IF(DL640=0,0,(DM640-DL640)/DL640*100)","v":0},null,null,{"$f":"IF(DO640=0,0,(DP640-DO640)/DO640*100)","v":0},null,null,{"$f":"IF(DR640=0,0,(DS640-DR640)/DR640*100)","v":0},null,null,{"$f":"IF(DU640=0,0,(DV640-DU640)/DU640*100)","v":0},null,null,{"$f":"IF(DX640=0,0,(DY640-DX640)/DX640*100)","v":0},null,null,{"$f":"IF(EA640=0,0,(EB640-EA640)/EA640*100)","v":0},null,null,{"$f":"IF(ED640=0,0,(EE640-ED640)/ED640*100)","v":0},null,null,{"$f":"IF(EG640=0,0,(EH640-EG640)/EG640*100)","v":0},null,null,{"$f":"IF(EJ640=0,0,(EK640-EJ640)/EJ640*100)","v":0},null,null,{"$f":"IF(EM640=0,0,(EN640-EM640)/EM640*100)","v":0},null,null,{"$f":"IF(EP640=0,0,(EQ640-EP640)/EP640*100)","v":0},null,null,{"$f":"IF(ES640=0,0,(ET640-ES640)/ES640*100)","v":0},null,null,{"$f":"IF(EV640=0,0,(EW640-EV640)/EV640*100)","v":0},null,null,{"$f":"IF(EY640=0,0,(EZ640-EY640)/EY640*100)","v":0},null,null,{"$f":"IF(FB640=0,0,(FC640-FB640)/FB640*100)","v":0},null,null,{"$f":"IF(FE640=0,0,(FF640-FE640)/FE640*100)","v":0}]
["et_List16_line_transp"]
[{"$f":"OFFSET(A642,-1,0)","v":"et_List16_line_transp"},null,"L1_1",{"$f":"L642","v":0},null,null,null,null,null,null,"О",null,"руб./куб.м",null,null,{"$f":"IF(N642=0,0,(O642-N642)/N642*100)","v":0},null,null,{"$f":"IF(Q642=0,0,(R642-Q642)/Q642*100)","v":0},null,null,{"$f":"IF(T642=0,0,(U642-T642)/T642*100)","v":0},null,null,{"$f":"IF(W642=0,0,(X642-W642)/W642*100)","v":0},null,null,{"$f":"IF(Z642=0,0,(AA642-Z642)/Z642*100)","v":0},null,null,{"$f":"IF(AC642=0,0,(AD642-AC642)/AC642*100)","v":0},null,null,{"$f":"IF(AF642=0,0,(AG642-AF642)/AF642*100)","v":0},null,null,{"$f":"IF(AI642=0,0,(AJ642-AI642)/AI642*100)","v":0},null,null,{"$f":"IF(AL642=0,0,(AM642-AL642)/AL642*100)","v":0},null,null,{"$f":"IF(AO642=0,0,(AP642-AO642)/AO642*100)","v":0},null,null,{"$f":"IF(AR642=0,0,(AS642-AR642)/AR642*100)","v":0},null,null,{"$f":"IF(AU642=0,0,(AV642-AU642)/AU642*100)","v":0},null,null,{"$f":"IF(AX642=0,0,(AY642-AX642)/AX642*100)","v":0},null,null,{"$f":"IF(BA642=0,0,(BB642-BA642)/BA642*100)","v":0},null,null,{"$f":"IF(BD642=0,0,(BE642-BD642)/BD642*100)","v":0},null,null,{"$f":"IF(BG642=0,0,(BH642-BG642)/BG642*100)","v":0},null,null,{"$f":"IF(BJ642=0,0,(BK642-BJ642)/BJ642*100)","v":0},null,null,{"$f":"IF(BM642=0,0,(BN642-BM642)/BM642*100)","v":0},null,null,{"$f":"IF(BP642=0,0,(BQ642-BP642)/BP642*100)","v":0},null,null,{"$f":"IF(BS642=0,0,(BT642-BS642)/BS642*100)","v":0},null,null,{"$f":"IF(BV642=0,0,(BW642-BV642)/BV642*100)","v":0},null,null,{"$f":"IF(BY642=0,0,(BZ642-BY642)/BY642*100)","v":0},null,null,{"$f":"IF(CB642=0,0,(CC642-CB642)/CB642*100)","v":0},null,null,{"$f":"IF(CE642=0,0,(CF642-CE642)/CE642*100)","v":0},null,null,{"$f":"IF(CH642=0,0,(CI642-CH642)/CH642*100)","v":0},null,null,{"$f":"IF(CK642=0,0,(CL642-CK642)/CK642*100)","v":0},null,null,{"$f":"IF(CN642=0,0,(CO642-CN642)/CN642*100)","v":0},null,null,{"$f":"IF(CQ642=0,0,(CR642-CQ642)/CQ642*100)","v":0},null,null,{"$f":"IF(CT642=0,0,(CU642-CT642)/CT642*100)","v":0},null,null,{"$f":"IF(CW642=0,0,(CX642-CW642)/CW642*100)","v":0},null,null,{"$f":"IF(CZ642=0,0,(DA642-CZ642)/CZ642*100)","v":0},null,null,{"$f":"IF(DC642=0,0,(DD642-DC642)/DC642*100)","v":0},null,null,{"$f":"IF(DF642=0,0,(DG642-DF642)/DF642*100)","v":0},null,null,{"$f":"IF(DI642=0,0,(DJ642-DI642)/DI642*100)","v":0},null,null,{"$f":"IF(DL642=0,0,(DM642-DL642)/DL642*100)","v":0},null,null,{"$f":"IF(DO642=0,0,(DP642-DO642)/DO642*100)","v":0},null,null,{"$f":"IF(DR642=0,0,(DS642-DR642)/DR642*100)","v":0},null,null,{"$f":"IF(DU642=0,0,(DV642-DU642)/DU642*100)","v":0},null,null,{"$f":"IF(DX642=0,0,(DY642-DX642)/DX642*100)","v":0},null,null,{"$f":"IF(EA642=0,0,(EB642-EA642)/EA642*100)","v":0},null,null,{"$f":"IF(ED642=0,0,(EE642-ED642)/ED642*100)","v":0},null,null,{"$f":"IF(EG642=0,0,(EH642-EG642)/EG642*100)","v":0},null,null,{"$f":"IF(EJ642=0,0,(EK642-EJ642)/EJ642*100)","v":0},null,null,{"$f":"IF(EM642=0,0,(EN642-EM642)/EM642*100)","v":0},null,null,{"$f":"IF(EP642=0,0,(EQ642-EP642)/EP642*100)","v":0},null,null,{"$f":"IF(ES642=0,0,(ET642-ES642)/ES642*100)","v":0},null,null,{"$f":"IF(EV642=0,0,(EW642-EV642)/EV642*100)","v":0},null,null,{"$f":"IF(EY642=0,0,(EZ642-EY642)/EY642*100)","v":0},null,null,{"$f":"IF(FB642=0,0,(FC642-FB642)/FB642*100)","v":0},null,null,{"$f":"IF(FE642=0,0,(FF642-FE642)/FE642*100)","v":0}]
[]
["17. ДПР"]
["et_List17_tariff_vs"]
["1",null,null,null,null,null,null,null,null,null,null,{"$f":"INDEX('Общие сведения'!$J$121:$J$148,MATCH($A646,'Общие сведения'!$D$121:$D$148,0))","v":"Тариф 1 (Водоснабжение) - тариф на питьевую воду"}]
[{"$f":"A646","v":"1"},null,null,null,null,{"$f":"first_year","v":2024},{"$f":"F647<first_year+PERIOD_LENGTH","v":true},null,null,null,null,{"$f":"F647& \" год\"","v":"2024 год"},{"$f":"IFERROR(SUMIFS(INDEX(Калькуляция!$O$15:$AM$268,,MATCH(F647&\"Принято органом регулирования\",Калькуляция!$O$3:$AM$3,0)),Калькуляция!$A$15:$A$268,A647,Калькуляция!$M$15:$M$268,\"Операционные расходы\"),0)","v":6219.4017696687306},{"$f":"IFERROR(SUMIFS(INDEX(Сценарии!$O$15:$AP$53,,MATCH($F647&\"Принято органом регулирования\",Сценарии!$O$3:$AP$3,0)),Сценарии!$A$15:$A$53,$A647,Сценарии!$M$15:$M$53,\"Индекс эффективности операционных расходов\"),0)","v":0},null,{"$f":"IFERROR(SUMIFS(INDEX(Баланс!$O$16:$AL$95,,MATCH($F647&\"Принято органом регулирования\",Баланс!$O$3:$AL$3,0)),Баланс!$A$16:$A$95,$A647,Баланс!$M$16:$M$95,\"Уровень потерь воды\"),0)","v":0},{"$f":"IFERROR(SUMIFS(INDEX(ЭЭ!$O$15:$AL$42,,MATCH($F647&\"Принято органом регулирования\",ЭЭ!$O$3:$AL$3,0)),ЭЭ!$A$15:$A$42,$A647,ЭЭ!$M$15:$M$42,\"Удельный расход электроэнергии\"),0)","v":0.98},{"$f":"IFERROR(SUMIFS(INDEX(ЭЭ!$O$15:$AL$42,,MATCH($F647&\"Принято органом регулирования\",ЭЭ!$O$3:$AL$3,0)),ЭЭ!$A$15:$A$42,$A647,ЭЭ!$M$15:$M$42,\"Удельный расход электроэнергии\"),0)","v":0.98},{"$f":"IFERROR(SUMIFS(INDEX(ЭЭ!$O$15:$AL$42,,MATCH($F647&\"Принято органом регулирования\",ЭЭ!$O$3:$AL$3,0)),ЭЭ!$A$15:$A$42,$A647,ЭЭ!$M$15:$M$42,\"Удельный расход электроэнергии\"),0)","v":0.98}]
["1",null,null,null,null,{"$f":"first_year+1","v":2025},true,null,null,null,null,"2025 год",null,{"$f":"IFERROR(SUMIFS(INDEX(Сценарии!$O$15:$AP$53,,MATCH(F648&\"Принято органом регулирования\",Сценарии!$O$3:$AP$3,0)),Сценарии!$A$15:$A$53,A648,Сценарии!$M$15:$M$53,\"Индекс эффективности операционных расходов\"),0)","v":1},null,{"$f":"IFERROR(SUMIFS(INDEX(Баланс!$O$16:$AL$95,,MATCH($F648&\"Принято органом регулирования\",Баланс!$O$3:$AL$3,0)),Баланс!$A$16:$A$95,$A648,Баланс!$M$16:$M$95,\"Уровень потерь воды\"),0)","v":0},{"$f":"IFERROR(SUMIFS(INDEX(ЭЭ!$O$15:$AL$42,,MATCH($F648&\"Принято органом регулирования\",ЭЭ!$O$3:$AL$3,0)),ЭЭ!$A$15:$A$42,$A648,ЭЭ!$M$15:$M$42,\"Удельный расход электроэнергии\"),0)","v":0.98},{"$f":"IFERROR(SUMIFS(INDEX(ЭЭ!$O$15:$AL$42,,MATCH($F648&\"Принято органом регулирования\",ЭЭ!$O$3:$AL$3,0)),ЭЭ!$A$15:$A$42,$A648,ЭЭ!$M$15:$M$42,\"Удельный расход электроэнергии\"),0)","v":0.98},{"$f":"IFERROR(SUMIFS(INDEX(ЭЭ!$O$15:$AL$42,,MATCH($F648&\"Принято органом регулирования\",ЭЭ!$O$3:$AL$3,0)),ЭЭ!$A$15:$A$42,$A648,ЭЭ!$M$15:$M$42,\"Удельный расход электроэнергии\"),0)","v":0.98}]
["1",null,null,null,null,{"$f":"first_year+2","v":2026},true,null,null,null,null,"2026 год",null,{"$f":"IFERROR(SUMIFS(INDEX(Сценарии!$O$15:$AP$53,,MATCH(F649&\"Принято органом регулирования\",Сценарии!$O$3:$AP$3,0)),Сценарии!$A$15:$A$53,A649,Сценарии!$M$15:$M$53,\"Индекс эффективности операционных расходов\"),0)","v":1},null,{"$f":"IFERROR(SUMIFS(INDEX(Баланс!$O$16:$AL$95,,MATCH($F649&\"Принято органом регулирования\",Баланс!$O$3:$AL$3,0)),Баланс!$A$16:$A$95,$A649,Баланс!$M$16:$M$95,\"Уровень потерь воды\"),0)","v":0},{"$f":"IFERROR(SUMIFS(INDEX(ЭЭ!$O$15:$AL$42,,MATCH($F649&\"Принято органом регулирования\",ЭЭ!$O$3:$AL$3,0)),ЭЭ!$A$15:$A$42,$A649,ЭЭ!$M$15:$M$42,\"Удельный расход электроэнергии\"),0)","v":0.98},{"$f":"IFERROR(SUMIFS(INDEX(ЭЭ!$O$15:$AL$42,,MATCH($F649&\"Принято органом регулирования\",ЭЭ!$O$3:$AL$3,0)),ЭЭ!$A$15:$A$42,$A649,ЭЭ!$M$15:$M$42,\"Удельный расход электроэнергии\"),0)","v":0.98},{"$f":"IFERROR(SUMIFS(INDEX(ЭЭ!$O$15:$AL$42,,MATCH($F649&\"Принято органом регулирования\",ЭЭ!$O$3:$AL$3,0)),ЭЭ!$A$15:$A$42,$A649,ЭЭ!$M$15:$M$42,\"Удельный расход электроэнергии\"),0)","v":0.98}]
["1",null,null,null,null,{"$f":"first_year+3","v":2027},true,null,null,null,null,"2027 год",null,{"$f":"IFERROR(SUMIFS(INDEX(Сценарии!$O$15:$AP$53,,MATCH(F650&\"Принято органом регулирования\",Сценарии!$O$3:$AP$3,0)),Сценарии!$A$15:$A$53,A650,Сценарии!$M$15:$M$53,\"Индекс эффективности операционных расходов\"),0)","v":1},null,{"$f":"IFERROR(SUMIFS(INDEX(Баланс!$O$16:$AL$95,,MATCH($F650&\"Принято органом регулирования\",Баланс!$O$3:$AL$3,0)),Баланс!$A$16:$A$95,$A650,Баланс!$M$16:$M$95,\"Уровень потерь воды\"),0)","v":0},{"$f":"IFERROR(SUMIFS(INDEX(ЭЭ!$O$15:$AL$42,,MATCH($F650&\"Принято органом регулирования\",ЭЭ!$O$3:$AL$3,0)),ЭЭ!$A$15:$A$42,$A650,ЭЭ!$M$15:$M$42,\"Удельный расход электроэнергии\"),0)","v":0.98},{"$f":"IFERROR(SUMIFS(INDEX(ЭЭ!$O$15:$AL$42,,MATCH($F650&\"Принято органом регулирования\",ЭЭ!$O$3:$AL$3,0)),ЭЭ!$A$15:$A$42,$A650,ЭЭ!$M$15:$M$42,\"Удельный расход электроэнергии\"),0)","v":0.98},{"$f":"IFERROR(SUMIFS(INDEX(ЭЭ!$O$15:$AL$42,,MATCH($F650&\"Принято органом регулирования\",ЭЭ!$O$3:$AL$3,0)),ЭЭ!$A$15:$A$42,$A650,ЭЭ!$M$15:$M$42,\"Удельный расход электроэнергии\"),0)","v":0.98}]
["1",null,null,null,null,{"$f":"first_year+4","v":2028},true,null,null,null,null,"2028 год",null,{"$f":"IFERROR(SUMIFS(INDEX(Сценарии!$O$15:$AP$53,,MATCH(F651&\"Принято органом регулирования\",Сценарии!$O$3:$AP$3,0)),Сценарии!$A$15:$A$53,A651,Сценарии!$M$15:$M$53,\"Индекс эффективности операционных расходов\"),0)","v":1},null,{"$f":"IFERROR(SUMIFS(INDEX(Баланс!$O$16:$AL$95,,MATCH($F651&\"Принято органом регулирования\",Баланс!$O$3:$AL$3,0)),Баланс!$A$16:$A$95,$A651,Баланс!$M$16:$M$95,\"Уровень потерь воды\"),0)","v":0},{"$f":"IFERROR(SUMIFS(INDEX(ЭЭ!$O$15:$AL$42,,MATCH($F651&\"Принято органом регулирования\",ЭЭ!$O$3:$AL$3,0)),ЭЭ!$A$15:$A$42,$A651,ЭЭ!$M$15:$M$42,\"Удельный расход электроэнергии\"),0)","v":0.98},{"$f":"IFERROR(SUMIFS(INDEX(ЭЭ!$O$15:$AL$42,,MATCH($F651&\"Принято органом регулирования\",ЭЭ!$O$3:$AL$3,0)),ЭЭ!$A$15:$A$42,$A651,ЭЭ!$M$15:$M$42,\"Удельный расход электроэнергии\"),0)","v":0.98},{"$f":"IFERROR(SUMIFS(INDEX(ЭЭ!$O$15:$AL$42,,MATCH($F651&\"Принято органом регулирования\",ЭЭ!$O$3:$AL$3,0)),ЭЭ!$A$15:$A$42,$A651,ЭЭ!$M$15:$M$42,\"Удельный расход электроэнергии\"),0)","v":0.98}]
["1",null,null,null,null,{"$f":"first_year+5","v":2029},false,null,null,null,null,"2029 год",null,{"$f":"IFERROR(SUMIFS(INDEX(Сценарии!$O$15:$AP$53,,MATCH(F652&\"Принято органом регулирования\",Сценарии!$O$3:$AP$3,0)),Сценарии!$A$15:$A$53,A652,Сценарии!$M$15:$M$53,\"Индекс эффективности операционных расходов\"),0)","v":0},null,{"$f":"IFERROR(SUMIFS(INDEX(Баланс!$O$16:$AL$95,,MATCH($F652&\"Принято органом регулирования\",Баланс!$O$3:$AL$3,0)),Баланс!$A$16:$A$95,$A652,Баланс!$M$16:$M$95,\"Уровень потерь воды\"),0)","v":0},{"$f":"IFERROR(SUMIFS(INDEX(ЭЭ!$O$15:$AL$42,,MATCH($F652&\"Принято органом регулирования\",ЭЭ!$O$3:$AL$3,0)),ЭЭ!$A$15:$A$42,$A652,ЭЭ!$M$15:$M$42,\"Удельный расход электроэнергии\"),0)","v":0},{"$f":"IFERROR(SUMIFS(INDEX(ЭЭ!$O$15:$AL$42,,MATCH($F652&\"Принято органом регулирования\",ЭЭ!$O$3:$AL$3,0)),ЭЭ!$A$15:$A$42,$A652,ЭЭ!$M$15:$M$42,\"Удельный расход электроэнергии\"),0)","v":0},{"$f":"IFERROR(SUMIFS(INDEX(ЭЭ!$O$15:$AL$42,,MATCH($F652&\"Принято органом регулирования\",ЭЭ!$O$3:$AL$3,0)),ЭЭ!$A$15:$A$42,$A652,ЭЭ!$M$15:$M$42,\"Удельный расход электроэнергии\"),0)","v":0}]
["1",null,null,null,null,{"$f":"first_year+6","v":2030},false,null,null,null,null,"2030 год",null,{"$f":"IFERROR(SUMIFS(INDEX(Сценарии!$O$15:$AP$53,,MATCH(F653&\"Принято органом регулирования\",Сценарии!$O$3:$AP$3,0)),Сценарии!$A$15:$A$53,A653,Сценарии!$M$15:$M$53,\"Индекс эффективности операционных расходов\"),0)","v":0},null,{"$f":"IFERROR(SUMIFS(INDEX(Баланс!$O$16:$AL$95,,MATCH($F653&\"Принято органом регулирования\",Баланс!$O$3:$AL$3,0)),Баланс!$A$16:$A$95,$A653,Баланс!$M$16:$M$95,\"Уровень потерь воды\"),0)","v":0},{"$f":"IFERROR(SUMIFS(INDEX(ЭЭ!$O$15:$AL$42,,MATCH($F653&\"Принято органом регулирования\",ЭЭ!$O$3:$AL$3,0)),ЭЭ!$A$15:$A$42,$A653,ЭЭ!$M$15:$M$42,\"Удельный расход электроэнергии\"),0)","v":0},{"$f":"IFERROR(SUMIFS(INDEX(ЭЭ!$O$15:$AL$42,,MATCH($F653&\"Принято органом регулирования\",ЭЭ!$O$3:$AL$3,0)),ЭЭ!$A$15:$A$42,$A653,ЭЭ!$M$15:$M$42,\"Удельный расход электроэнергии\"),0)","v":0},{"$f":"IFERROR(SUMIFS(INDEX(ЭЭ!$O$15:$AL$42,,MATCH($F653&\"Принято органом регулирования\",ЭЭ!$O$3:$AL$3,0)),ЭЭ!$A$15:$A$42,$A653,ЭЭ!$M$15:$M$42,\"Удельный расход электроэнергии\"),0)","v":0}]
["1",null,null,null,null,{"$f":"first_year+7","v":2031},false,null,null,null,null,"2031 год",null,{"$f":"IFERROR(SUMIFS(INDEX(Сценарии!$O$15:$AP$53,,MATCH(F654&\"Принято органом регулирования\",Сценарии!$O$3:$AP$3,0)),Сценарии!$A$15:$A$53,A654,Сценарии!$M$15:$M$53,\"Индекс эффективности операционных расходов\"),0)","v":0},null,{"$f":"IFERROR(SUMIFS(INDEX(Баланс!$O$16:$AL$95,,MATCH($F654&\"Принято органом регулирования\",Баланс!$O$3:$AL$3,0)),Баланс!$A$16:$A$95,$A654,Баланс!$M$16:$M$95,\"Уровень потерь воды\"),0)","v":0},{"$f":"IFERROR(SUMIFS(INDEX(ЭЭ!$O$15:$AL$42,,MATCH($F654&\"Принято органом регулирования\",ЭЭ!$O$3:$AL$3,0)),ЭЭ!$A$15:$A$42,$A654,ЭЭ!$M$15:$M$42,\"Удельный расход электроэнергии\"),0)","v":0},{"$f":"IFERROR(SUMIFS(INDEX(ЭЭ!$O$15:$AL$42,,MATCH($F654&\"Принято органом регулирования\",ЭЭ!$O$3:$AL$3,0)),ЭЭ!$A$15:$A$42,$A654,ЭЭ!$M$15:$M$42,\"Удельный расход электроэнергии\"),0)","v":0},{"$f":"IFERROR(SUMIFS(INDEX(ЭЭ!$O$15:$AL$42,,MATCH($F654&\"Принято органом регулирования\",ЭЭ!$O$3:$AL$3,0)),ЭЭ!$A$15:$A$42,$A654,ЭЭ!$M$15:$M$42,\"Удельный расход электроэнергии\"),0)","v":0}]
["1",null,null,null,null,{"$f":"first_year+8","v":2032},false,null,null,null,null,"2032 год",null,{"$f":"IFERROR(SUMIFS(INDEX(Сценарии!$O$15:$AP$53,,MATCH(F655&\"Принято органом регулирования\",Сценарии!$O$3:$AP$3,0)),Сценарии!$A$15:$A$53,A655,Сценарии!$M$15:$M$53,\"Индекс эффективности операционных расходов\"),0)","v":0},null,{"$f":"IFERROR(SUMIFS(INDEX(Баланс!$O$16:$AL$95,,MATCH($F655&\"Принято органом регулирования\",Баланс!$O$3:$AL$3,0)),Баланс!$A$16:$A$95,$A655,Баланс!$M$16:$M$95,\"Уровень потерь воды\"),0)","v":0},{"$f":"IFERROR(SUMIFS(INDEX(ЭЭ!$O$15:$AL$42,,MATCH($F655&\"Принято органом регулирования\",ЭЭ!$O$3:$AL$3,0)),ЭЭ!$A$15:$A$42,$A655,ЭЭ!$M$15:$M$42,\"Удельный расход электроэнергии\"),0)","v":0},{"$f":"IFERROR(SUMIFS(INDEX(ЭЭ!$O$15:$AL$42,,MATCH($F655&\"Принято органом регулирования\",ЭЭ!$O$3:$AL$3,0)),ЭЭ!$A$15:$A$42,$A655,ЭЭ!$M$15:$M$42,\"Удельный расход электроэнергии\"),0)","v":0},{"$f":"IFERROR(SUMIFS(INDEX(ЭЭ!$O$15:$AL$42,,MATCH($F655&\"Принято органом регулирования\",ЭЭ!$O$3:$AL$3,0)),ЭЭ!$A$15:$A$42,$A655,ЭЭ!$M$15:$M$42,\"Удельный расход электроэнергии\"),0)","v":0}]
["1",null,null,null,null,{"$f":"first_year+9","v":2033},{"$f":"F656<first_year+PERIOD_LENGTH","v":false},null,null,null,null,{"$f":"F656& \" год\"","v":"2033 год"},null,{"$f":"IFERROR(SUMIFS(INDEX(Сценарии!$O$15:$AP$53,,MATCH(F656&\"Принято органом регулирования\",Сценарии!$O$3:$AP$3,0)),Сценарии!$A$15:$A$53,A656,Сценарии!$M$15:$M$53,\"Индекс эффективности операционных расходов\"),0)","v":0},null,{"$f":"IFERROR(SUMIFS(INDEX(Баланс!$O$16:$AL$95,,MATCH($F656&\"Принято органом регулирования\",Баланс!$O$3:$AL$3,0)),Баланс!$A$16:$A$95,$A656,Баланс!$M$16:$M$95,\"Уровень потерь воды\"),0)","v":0},{"$f":"IFERROR(SUMIFS(INDEX(ЭЭ!$O$15:$AL$42,,MATCH($F656&\"Принято органом регулирования\",ЭЭ!$O$3:$AL$3,0)),ЭЭ!$A$15:$A$42,$A656,ЭЭ!$M$15:$M$42,\"Удельный расход электроэнергии\"),0)","v":0},{"$f":"IFERROR(SUMIFS(INDEX(ЭЭ!$O$15:$AL$42,,MATCH($F656&\"Принято органом регулирования\",ЭЭ!$O$3:$AL$3,0)),ЭЭ!$A$15:$A$42,$A656,ЭЭ!$M$15:$M$42,\"Удельный расход электроэнергии\"),0)","v":0},{"$f":"IFERROR(SUMIFS(INDEX(ЭЭ!$O$15:$AL$42,,MATCH($F656&\"Принято органом регулирования\",ЭЭ!$O$3:$AL$3,0)),ЭЭ!$A$15:$A$42,$A656,ЭЭ!$M$15:$M$42,\"Удельный расход электроэнергии\"),0)","v":0}]
["1",null,null,null,null,{"$f":"first_year+10","v":2034},false,null,null,null,null,"2034 год"]
["1",null,null,null,null,{"$f":"first_year+11","v":2035},false,null,null,null,null,"2035 год"]
["1",null,null,null,null,{"$f":"first_year+12","v":2036},false,null,null,null,null,"2036 год"]
["1",null,null,null,null,{"$f":"first_year+13","v":2037},false,null,null,null,null,"2037 год"]
["1",null,null,null,null,{"$f":"first_year+14","v":2038},false,null,null,null,null,"2038 год"]
["1",null,null,null,null,{"$f":"first_year+15","v":2039},false,null,null,null,null,"2039 год"]
["1",null,null,null,null,{"$f":"first_year+16","v":2040},false,null,null,null,null,"2040 год"]
["1",null,null,null,null,{"$f":"first_year+17","v":2041},false,null,null,null,null,"2041 год"]
["1",null,null,null,null,{"$f":"first_year+18","v":2042},false,null,null,null,null,"2042 год"]
["1",null,null,null,null,{"$f":"first_year+19","v":2043},false,null,null,null,null,"2043 год"]
["1",null,null,null,null,{"$f":"first_year+20","v":2044},false,null,null,null,null,"2044 год"]
["1",null,null,null,null,{"$f":"first_year+21","v":2045},false,null,null,null,null,"2045 год"]
["1",null,null,null,null,{"$f":"first_year+22","v":2046},false,null,null,null,null,"2046 год"]
["1",null,null,null,null,{"$f":"first_year+23","v":2047},false,null,null,null,null,"2047 год"]
["1",null,null,null,null,{"$f":"first_year+24","v":2048},false,null,null,null,null,"2048 год"]
["1",null,null,null,null,{"$f":"first_year+25","v":2049},false,null,null,null,null,"2049 год"]
["1",null,null,null,null,{"$f":"first_year+26","v":2050},false,null,null,null,null,"2050 год"]
["1",null,null,null,null,{"$f":"first_year+27","v":2051},false,null,null,null,null,"2051 год"]
["1",null,null,null,null,{"$f":"first_year+28","v":2052},false,null,null,null,null,"2052 год"]
["1",null,null,null,null,{"$f":"first_year+29","v":2053},false,null,null,null,null,"2053 год"]
["1",null,null,null,null,{"$f":"first_year+30","v":2054},false,null,null,null,null,"2054 год"]
["1",null,null,null,null,{"$f":"first_year+31","v":2055},false,null,null,null,null,"2055 год"]
["1",null,null,null,null,{"$f":"first_year+32","v":2056},false,null,null,null,null,"2056 год"]
["1",null,null,null,null,{"$f":"first_year+33","v":2057},false,null,null,null,null,"2057 год"]
["1",null,null,null,null,{"$f":"first_year+34","v":2058},false,null,null,null,null,"2058 год"]
["1",null,null,null,null,{"$f":"first_year+35","v":2059},false,null,null,null,null,"2059 год"]
["1",null,null,null,null,{"$f":"first_year+36","v":2060},false,null,null,null,null,"2060 год"]
["1",null,null,null,null,{"$f":"first_year+37","v":2061},false,null,null,null,null,"2061 год"]
["1",null,null,null,null,{"$f":"first_year+38","v":2062},false,null,null,null,null,"2062 год"]
["1",null,null,null,null,{"$f":"first_year+39","v":2063},false,null,null,null,null,"2063 год"]
["1",null,null,null,null,{"$f":"first_year+40","v":2064},false,null,null,null,null,"2064 год"]
["1",null,null,null,null,{"$f":"first_year+41","v":2065},false,null,null,null,null,"2065 год"]
["1",null,null,null,null,{"$f":"first_year+42","v":2066},false,null,null,null,null,"2066 год"]
["1",null,null,null,null,{"$f":"first_year+43","v":2067},false,null,null,null,null,"2067 год"]
["1",null,null,null,null,{"$f":"first_year+44","v":2068},false,null,null,null,null,"2068 год"]
["1",null,null,null,null,{"$f":"first_year+45","v":2069},false,null,null,null,null,"2069 год"]
["1",null,null,null,null,{"$f":"first_year+46","v":2070},false,null,null,null,null,"2070 год"]
["1",null,null,null,null,{"$f":"first_year+47","v":2071},false,null,null,null,null,"2071 год"]
["1",null,null,null,null,{"$f":"first_year+48","v":2072},false,null,null,null,null,"2072 год"]
["1",null,null,null,null,{"$f":"first_year+49","v":2073},{"$f":"F696<first_year+PERIOD_LENGTH","v":false},null,null,null,null,{"$f":"F696& \" год\"","v":"2073 год"}]
["et_List17_tariff_vo"]
["1",null,null,null,null,null,null,null,null,null,null,{"$f":"INDEX('Общие сведения'!$J$121:$J$148,MATCH($A698,'Общие сведения'!$D$121:$D$148,0))","v":"Тариф 1 (Водоснабжение) - тариф на питьевую воду"}]
[{"$f":"A698","v":"1"},null,null,null,null,{"$f":"first_year","v":2024},{"$f":"F699<first_year+PERIOD_LENGTH","v":true},null,null,null,null,{"$f":"F699& \" год\"","v":"2024 год"},{"$f":"IFERROR(SUMIFS(INDEX(Калькуляция!$O$15:$AM$268,,MATCH(F699&\"Принято органом регулирования\",Калькуляция!$O$3:$AM$3,0)),Калькуляция!$A$15:$A$268,A699,Калькуляция!$M$15:$M$268,\"Операционные расходы\"),0)","v":6219.4017696687306},{"$f":"IFERROR(SUMIFS(INDEX(Сценарии!$O$15:$AP$53,,MATCH($F699&\"Принято органом регулирования\",Сценарии!$O$3:$AP$3,0)),Сценарии!$A$15:$A$53,$A699,Сценарии!$M$15:$M$53,\"Индекс эффективности операционных расходов\"),0)","v":0},null,null,{"$f":"IFERROR(SUMIFS(INDEX(ЭЭ!$O$15:$AL$42,,MATCH($F699&\"Принято органом регулирования\",ЭЭ!$O$3:$AL$3,0)),ЭЭ!$A$15:$A$42,$A699,ЭЭ!$M$15:$M$42,\"Удельный расход электроэнергии\"),0)","v":0.98},null,null,{"$f":"IFERROR(SUMIFS(INDEX(ЭЭ!$O$15:$AL$42,,MATCH($F699&\"Принято органом регулирования\",ЭЭ!$O$3:$AL$3,0)),ЭЭ!$A$15:$A$42,$A699,ЭЭ!$M$15:$M$42,\"Удельный расход электроэнергии\"),0)","v":0.98},{"$f":"IFERROR(SUMIFS(INDEX(ЭЭ!$O$15:$AL$42,,MATCH($F699&\"Принято органом регулирования\",ЭЭ!$O$3:$AL$3,0)),ЭЭ!$A$15:$A$42,$A699,ЭЭ!$M$15:$M$42,\"Удельный расход электроэнергии\"),0)","v":0.98}]
["1",null,null,null,null,{"$f":"first_year+1","v":2025},true,null,null,null,null,"2025 год",null,{"$f":"IFERROR(SUMIFS(INDEX(Сценарии!$O$15:$AP$53,,MATCH(F700&\"Принято органом регулирования\",Сценарии!$O$3:$AP$3,0)),Сценарии!$A$15:$A$53,A700,Сценарии!$M$15:$M$53,\"Индекс эффективности операционных расходов\"),0)","v":1},null,null,{"$f":"IFERROR(SUMIFS(INDEX(ЭЭ!$O$15:$AL$42,,MATCH($F700&\"Принято органом регулирования\",ЭЭ!$O$3:$AL$3,0)),ЭЭ!$A$15:$A$42,$A700,ЭЭ!$M$15:$M$42,\"Удельный расход электроэнергии\"),0)","v":0.98},null,null,{"$f":"IFERROR(SUMIFS(INDEX(ЭЭ!$O$15:$AL$42,,MATCH($F700&\"Принято органом регулирования\",ЭЭ!$O$3:$AL$3,0)),ЭЭ!$A$15:$A$42,$A700,ЭЭ!$M$15:$M$42,\"Удельный расход электроэнергии\"),0)","v":0.98},{"$f":"IFERROR(SUMIFS(INDEX(ЭЭ!$O$15:$AL$42,,MATCH($F700&\"Принято органом регулирования\",ЭЭ!$O$3:$AL$3,0)),ЭЭ!$A$15:$A$42,$A700,ЭЭ!$M$15:$M$42,\"Удельный расход электроэнергии\"),0)","v":0.98}]
["1",null,null,null,null,{"$f":"first_year+2","v":2026},true,null,null,null,null,"2026 год",null,{"$f":"IFERROR(SUMIFS(INDEX(Сценарии!$O$15:$AP$53,,MATCH(F701&\"Принято органом регулирования\",Сценарии!$O$3:$AP$3,0)),Сценарии!$A$15:$A$53,A701,Сценарии!$M$15:$M$53,\"Индекс эффективности операционных расходов\"),0)","v":1},null,null,{"$f":"IFERROR(SUMIFS(INDEX(ЭЭ!$O$15:$AL$42,,MATCH($F701&\"Принято органом регулирования\",ЭЭ!$O$3:$AL$3,0)),ЭЭ!$A$15:$A$42,$A701,ЭЭ!$M$15:$M$42,\"Удельный расход электроэнергии\"),0)","v":0.98},null,null,{"$f":"IFERROR(SUMIFS(INDEX(ЭЭ!$O$15:$AL$42,,MATCH($F701&\"Принято органом регулирования\",ЭЭ!$O$3:$AL$3,0)),ЭЭ!$A$15:$A$42,$A701,ЭЭ!$M$15:$M$42,\"Удельный расход электроэнергии\"),0)","v":0.98},{"$f":"IFERROR(SUMIFS(INDEX(ЭЭ!$O$15:$AL$42,,MATCH($F701&\"Принято органом регулирования\",ЭЭ!$O$3:$AL$3,0)),ЭЭ!$A$15:$A$42,$A701,ЭЭ!$M$15:$M$42,\"Удельный расход электроэнергии\"),0)","v":0.98}]
["1",null,null,null,null,{"$f":"first_year+3","v":2027},true,null,null,null,null,"2027 год",null,{"$f":"IFERROR(SUMIFS(INDEX(Сценарии!$O$15:$AP$53,,MATCH(F702&\"Принято органом регулирования\",Сценарии!$O$3:$AP$3,0)),Сценарии!$A$15:$A$53,A702,Сценарии!$M$15:$M$53,\"Индекс эффективности операционных расходов\"),0)","v":1},null,null,{"$f":"IFERROR(SUMIFS(INDEX(ЭЭ!$O$15:$AL$42,,MATCH($F702&\"Принято органом регулирования\",ЭЭ!$O$3:$AL$3,0)),ЭЭ!$A$15:$A$42,$A702,ЭЭ!$M$15:$M$42,\"Удельный расход электроэнергии\"),0)","v":0.98},null,null,{"$f":"IFERROR(SUMIFS(INDEX(ЭЭ!$O$15:$AL$42,,MATCH($F702&\"Принято органом регулирования\",ЭЭ!$O$3:$AL$3,0)),ЭЭ!$A$15:$A$42,$A702,ЭЭ!$M$15:$M$42,\"Удельный расход электроэнергии\"),0)","v":0.98},{"$f":"IFERROR(SUMIFS(INDEX(ЭЭ!$O$15:$AL$42,,MATCH($F702&\"Принято органом регулирования\",ЭЭ!$O$3:$AL$3,0)),ЭЭ!$A$15:$A$42,$A702,ЭЭ!$M$15:$M$42,\"Удельный расход электроэнергии\"),0)","v":0.98}]
["1",null,null,null,null,{"$f":"first_year+4","v":2028},true,null,null,null,null,"2028 год",null,{"$f":"IFERROR(SUMIFS(INDEX(Сценарии!$O$15:$AP$53,,MATCH(F703&\"Принято органом регулирования\",Сценарии!$O$3:$AP$3,0)),Сценарии!$A$15:$A$53,A703,Сценарии!$M$15:$M$53,\"Индекс эффективности операционных расходов\"),0)","v":1},null,null,{"$f":"IFERROR(SUMIFS(INDEX(ЭЭ!$O$15:$AL$42,,MATCH($F703&\"Принято органом регулирования\",ЭЭ!$O$3:$AL$3,0)),ЭЭ!$A$15:$A$42,$A703,ЭЭ!$M$15:$M$42,\"Удельный расход электроэнергии\"),0)","v":0.98},null,null,{"$f":"IFERROR(SUMIFS(INDEX(ЭЭ!$O$15:$AL$42,,MATCH($F703&\"Принято органом регулирования\",ЭЭ!$O$3:$AL$3,0)),ЭЭ!$A$15:$A$42,$A703,ЭЭ!$M$15:$M$42,\"Удельный расход электроэнергии\"),0)","v":0.98},{"$f":"IFERROR(SUMIFS(INDEX(ЭЭ!$O$15:$AL$42,,MATCH($F703&\"Принято органом регулирования\",ЭЭ!$O$3:$AL$3,0)),ЭЭ!$A$15:$A$42,$A703,ЭЭ!$M$15:$M$42,\"Удельный расход электроэнергии\"),0)","v":0.98}]
["1",null,null,null,null,{"$f":"first_year+5","v":2029},false,null,null,null,null,"2029 год",null,{"$f":"IFERROR(SUMIFS(INDEX(Сценарии!$O$15:$AP$53,,MATCH(F704&\"Принято органом регулирования\",Сценарии!$O$3:$AP$3,0)),Сценарии!$A$15:$A$53,A704,Сценарии!$M$15:$M$53,\"Индекс эффективности операционных расходов\"),0)","v":0},null,null,{"$f":"IFERROR(SUMIFS(INDEX(ЭЭ!$O$15:$AL$42,,MATCH($F704&\"Принято органом регулирования\",ЭЭ!$O$3:$AL$3,0)),ЭЭ!$A$15:$A$42,$A704,ЭЭ!$M$15:$M$42,\"Удельный расход электроэнергии\"),0)","v":0},null,null,{"$f":"IFERROR(SUMIFS(INDEX(ЭЭ!$O$15:$AL$42,,MATCH($F704&\"Принято органом регулирования\",ЭЭ!$O$3:$AL$3,0)),ЭЭ!$A$15:$A$42,$A704,ЭЭ!$M$15:$M$42,\"Удельный расход электроэнергии\"),0)","v":0},{"$f":"IFERROR(SUMIFS(INDEX(ЭЭ!$O$15:$AL$42,,MATCH($F704&\"Принято органом регулирования\",ЭЭ!$O$3:$AL$3,0)),ЭЭ!$A$15:$A$42,$A704,ЭЭ!$M$15:$M$42,\"Удельный расход электроэнергии\"),0)","v":0}]
["1",null,null,null,null,{"$f":"first_year+6","v":2030},false,null,null,null,null,"2030 год",null,{"$f":"IFERROR(SUMIFS(INDEX(Сценарии!$O$15:$AP$53,,MATCH(F705&\"Принято органом регулирования\",Сценарии!$O$3:$AP$3,0)),Сценарии!$A$15:$A$53,A705,Сценарии!$M$15:$M$53,\"Индекс эффективности операционных расходов\"),0)","v":0},null,null,{"$f":"IFERROR(SUMIFS(INDEX(ЭЭ!$O$15:$AL$42,,MATCH($F705&\"Принято органом регулирования\",ЭЭ!$O$3:$AL$3,0)),ЭЭ!$A$15:$A$42,$A705,ЭЭ!$M$15:$M$42,\"Удельный расход электроэнергии\"),0)","v":0},null,null,{"$f":"IFERROR(SUMIFS(INDEX(ЭЭ!$O$15:$AL$42,,MATCH($F705&\"Принято органом регулирования\",ЭЭ!$O$3:$AL$3,0)),ЭЭ!$A$15:$A$42,$A705,ЭЭ!$M$15:$M$42,\"Удельный расход электроэнергии\"),0)","v":0},{"$f":"IFERROR(SUMIFS(INDEX(ЭЭ!$O$15:$AL$42,,MATCH($F705&\"Принято органом регулирования\",ЭЭ!$O$3:$AL$3,0)),ЭЭ!$A$15:$A$42,$A705,ЭЭ!$M$15:$M$42,\"Удельный расход электроэнергии\"),0)","v":0}]
["1",null,null,null,null,{"$f":"first_year+7","v":2031},false,null,null,null,null,"2031 год",null,{"$f":"IFERROR(SUMIFS(INDEX(Сценарии!$O$15:$AP$53,,MATCH(F706&\"Принято органом регулирования\",Сценарии!$O$3:$AP$3,0)),Сценарии!$A$15:$A$53,A706,Сценарии!$M$15:$M$53,\"Индекс эффективности операционных расходов\"),0)","v":0},null,null,{"$f":"IFERROR(SUMIFS(INDEX(ЭЭ!$O$15:$AL$42,,MATCH($F706&\"Принято органом регулирования\",ЭЭ!$O$3:$AL$3,0)),ЭЭ!$A$15:$A$42,$A706,ЭЭ!$M$15:$M$42,\"Удельный расход электроэнергии\"),0)","v":0},null,null,{"$f":"IFERROR(SUMIFS(INDEX(ЭЭ!$O$15:$AL$42,,MATCH($F706&\"Принято органом регулирования\",ЭЭ!$O$3:$AL$3,0)),ЭЭ!$A$15:$A$42,$A706,ЭЭ!$M$15:$M$42,\"Удельный расход электроэнергии\"),0)","v":0},{"$f":"IFERROR(SUMIFS(INDEX(ЭЭ!$O$15:$AL$42,,MATCH($F706&\"Принято органом регулирования\",ЭЭ!$O$3:$AL$3,0)),ЭЭ!$A$15:$A$42,$A706,ЭЭ!$M$15:$M$42,\"Удельный расход электроэнергии\"),0)","v":0}]
["1",null,null,null,null,{"$f":"first_year+8","v":2032},false,null,null,null,null,"2032 год",null,{"$f":"IFERROR(SUMIFS(INDEX(Сценарии!$O$15:$AP$53,,MATCH(F707&\"Принято органом регулирования\",Сценарии!$O$3:$AP$3,0)),Сценарии!$A$15:$A$53,A707,Сценарии!$M$15:$M$53,\"Индекс эффективности операционных расходов\"),0)","v":0},null,null,{"$f":"IFERROR(SUMIFS(INDEX(ЭЭ!$O$15:$AL$42,,MATCH($F707&\"Принято органом регулирования\",ЭЭ!$O$3:$AL$3,0)),ЭЭ!$A$15:$A$42,$A707,ЭЭ!$M$15:$M$42,\"Удельный расход электроэнергии\"),0)","v":0},null,null,{"$f":"IFERROR(SUMIFS(INDEX(ЭЭ!$O$15:$AL$42,,MATCH($F707&\"Принято органом регулирования\",ЭЭ!$O$3:$AL$3,0)),ЭЭ!$A$15:$A$42,$A707,ЭЭ!$M$15:$M$42,\"Удельный расход электроэнергии\"),0)","v":0},{"$f":"IFERROR(SUMIFS(INDEX(ЭЭ!$O$15:$AL$42,,MATCH($F707&\"Принято органом регулирования\",ЭЭ!$O$3:$AL$3,0)),ЭЭ!$A$15:$A$42,$A707,ЭЭ!$M$15:$M$42,\"Удельный расход электроэнергии\"),0)","v":0}]
["1",null,null,null,null,{"$f":"first_year+9","v":2033},{"$f":"F708<first_year+PERIOD_LENGTH","v":false},null,null,null,null,{"$f":"F708& \" год\"","v":"2033 год"},null,{"$f":"IFERROR(SUMIFS(INDEX(Сценарии!$O$15:$AP$53,,MATCH(F708&\"Принято органом регулирования\",Сценарии!$O$3:$AP$3,0)),Сценарии!$A$15:$A$53,A708,Сценарии!$M$15:$M$53,\"Индекс эффективности операционных расходов\"),0)","v":0},null,null,{"$f":"IFERROR(SUMIFS(INDEX(ЭЭ!$O$15:$AL$42,,MATCH($F708&\"Принято органом регулирования\",ЭЭ!$O$3:$AL$3,0)),ЭЭ!$A$15:$A$42,$A708,ЭЭ!$M$15:$M$42,\"Удельный расход электроэнергии\"),0)","v":0},null,null,{"$f":"IFERROR(SUMIFS(INDEX(ЭЭ!$O$15:$AL$42,,MATCH($F708&\"Принято органом регулирования\",ЭЭ!$O$3:$AL$3,0)),ЭЭ!$A$15:$A$42,$A708,ЭЭ!$M$15:$M$42,\"Удельный расход электроэнергии\"),0)","v":0},{"$f":"IFERROR(SUMIFS(INDEX(ЭЭ!$O$15:$AL$42,,MATCH($F708&\"Принято органом регулирования\",ЭЭ!$O$3:$AL$3,0)),ЭЭ!$A$15:$A$42,$A708,ЭЭ!$M$15:$M$42,\"Удельный расход электроэнергии\"),0)","v":0}]
["1",null,null,null,null,{"$f":"first_year+10","v":2034},false,null,null,null,null,"2034 год"]
["1",null,null,null,null,{"$f":"first_year+11","v":2035},false,null,null,null,null,"2035 год"]
["1",null,null,null,null,{"$f":"first_year+12","v":2036},false,null,null,null,null,"2036 год"]
["1",null,null,null,null,{"$f":"first_year+13","v":2037},false,null,null,null,null,"2037 год"]
["1",null,null,null,null,{"$f":"first_year+14","v":2038},false,null,null,null,null,"2038 год"]
["1",null,null,null,null,{"$f":"first_year+15","v":2039},false,null,null,null,null,"2039 год"]
["1",null,null,null,null,{"$f":"first_year+16","v":2040},false,null,null,null,null,"2040 год"]
["1",null,null,null,null,{"$f":"first_year+17","v":2041},false,null,null,null,null,"2041 год"]
["1",null,null,null,null,{"$f":"first_year+18","v":2042},false,null,null,null,null,"2042 год"]
["1",null,null,null,null,{"$f":"first_year+19","v":2043},false,null,null,null,null,"2043 год"]
["1",null,null,null,null,{"$f":"first_year+20","v":2044},false,null,null,null,null,"2044 год"]
["1",null,null,null,null,{"$f":"first_year+21","v":2045},false,null,null,null,null,"2045 год"]
["1",null,null,null,null,{"$f":"first_year+22","v":2046},false,null,null,null,null,"2046 год"]
["1",null,null,null,null,{"$f":"first_year+23","v":2047},false,null,null,null,null,"2047 год"]
["1",null,null,null,null,{"$f":"first_year+24","v":2048},false,null,null,null,null,"2048 год"]
["1",null,null,null,null,{"$f":"first_year+25","v":2049},false,null,null,null,null,"2049 год"]
["1",null,null,null,null,{"$f":"first_year+26","v":2050},false,null,null,null,null,"2050 год"]
["1",null,null,null,null,{"$f":"first_year+27","v":2051},false,null,null,null,null,"2051 год"]
["1",null,null,null,null,{"$f":"first_year+28","v":2052},false,null,null,null,null,"2052 год"]
["1",null,null,null,null,{"$f":"first_year+29","v":2053},false,null,null,null,null,"2053 год"]
["1",null,null,null,null,{"$f":"first_year+30","v":2054},false,null,null,null,null,"2054 год"]
["1",null,null,null,null,{"$f":"first_year+31","v":2055},false,null,null,null,null,"2055 год"]
["1",null,null,null,null,{"$f":"first_year+32","v":2056},false,null,null,null,null,"2056 год"]
["1",null,null,null,null,{"$f":"first_year+33","v":2057},false,null,null,null,null,"2057 год"]
["1",null,null,null,null,{"$f":"first_year+34","v":2058},false,null,null,null,null,"2058 год"]
["1",null,null,null,null,{"$f":"first_year+35","v":2059},false,null,null,null,null,"2059 год"]
["1",null,null,null,null,{"$f":"first_year+36","v":2060},false,null,null,null,null,"2060 год"]
["1",null,null,null,null,{"$f":"first_year+37","v":2061},false,null,null,null,null,"2061 год"]
["1",null,null,null,null,{"$f":"first_year+38","v":2062},false,null,null,null,null,"2062 год"]
["1",null,null,null,null,{"$f":"first_year+39","v":2063},false,null,null,null,null,"2063 год"]
["1",null,null,null,null,{"$f":"first_year+40","v":2064},false,null,null,null,null,"2064 год"]
["1",null,null,null,null,{"$f":"first_year+41","v":2065},false,null,null,null,null,"2065 год"]
["1",null,null,null,null,{"$f":"first_year+42","v":2066},false,null,null,null,null,"2066 год"]
["1",null,null,null,null,{"$f":"first_year+43","v":2067},false,null,null,null,null,"2067 год"]
["1",null,null,null,null,{"$f":"first_year+44","v":2068},false,null,null,null,null,"2068 год"]
["1",null,null,null,null,{"$f":"first_year+45","v":2069},false,null,null,null,null,"2069 год"]
["1",null,null,null,null,{"$f":"first_year+46","v":2070},false,null,null,null,null,"2070 год"]
["1",null,null,null,null,{"$f":"first_year+47","v":2071},false,null,null,null,null,"2071 год"]
["1",null,null,null,null,{"$f":"first_year+48","v":2072},false,null,null,null,null,"2072 год"]
["1",null,null,null,null,{"$f":"first_year+49","v":2073},{"$f":"F748<first_year+PERIOD_LENGTH","v":false},null,null,null,null,{"$f":"F748& \" год\"","v":"2073 год"}]
[]
["18. ДПР (концессии)"]
["et_List18_tariff"]
["1",null,null,null,null,null,null,null,null,null,null,{"$f":"INDEX('Общие сведения'!$J$121:$J$148,MATCH($A752,'Общие сведения'!$D$121:$D$148,0))","v":"Тариф 1 (Водоснабжение) - тариф на питьевую воду"}]
[{"$f":"A752","v":"1"},{"$f":"A753&\"pIns\"","v":"1pIns"},null,null,null,null,null,null,null,null,null,"Добавить"]
["et_List18_block"]
[{"$f":"OFFSET(B755,-1,-1)","v":"et_List18_block"},{"$f":"L755","v":0},null,null,null,null,null,null,null,null,"О"]
[{"$f":"OFFSET(B756,-1,-1)","v":"et_List18_block"},{"$f":"B755","v":0},null,null,null,{"$f":"first_year","v":2024},{"$f":"F756<first_year+PERIOD_LENGTH","v":true},null,null,null,null,{"$f":"F756& \" год\"","v":"2024 год"}]
["et_List18_block",{"$f":"B756","v":0},null,null,null,{"$f":"first_year+1","v":2025},true,null,null,null,null,{"$f":"F757& \" год\"","v":"2025 год"}]
["et_List18_block",0,null,null,null,{"$f":"first_year+2","v":2026},true,null,null,null,null,"2026 год"]
["et_List18_block",0,null,null,null,{"$f":"first_year+3","v":2027},true,null,null,null,null,"2027 год"]
["et_List18_block",0,null,null,null,{"$f":"first_year+4","v":2028},true,null,null,null,null,"2028 год"]
["et_List18_block",0,null,null,null,{"$f":"first_year+5","v":2029},false,null,null,null,null,"2029 год"]
["et_List18_block",0,null,null,null,{"$f":"first_year+6","v":2030},false,null,null,null,null,"2030 год"]
["et_List18_block",0,null,null,null,{"$f":"first_year+7","v":2031},false,null,null,null,null,"2031 год"]
["et_List18_block",0,null,null,null,{"$f":"first_year+8","v":2032},false,null,null,null,null,"2032 год"]
["et_List18_block",0,null,null,null,{"$f":"first_year+9","v":2033},{"$f":"F765<first_year+PERIOD_LENGTH","v":false},null,null,null,null,{"$f":"F765& \" год\"","v":"2033 год"}]
["et_List18_block",0,null,null,null,{"$f":"first_year+10","v":2034},false,null,null,null,null,"2034 год"]
["et_List18_block",0,null,null,null,{"$f":"first_year+11","v":2035},false,null,null,null,null,"2035 год"]
["et_List18_block",0,null,null,null,{"$f":"first_year+12","v":2036},false,null,null,null,null,"2036 год"]
["et_List18_block",0,null,null,null,{"$f":"first_year+13","v":2037},false,null,null,null,null,"2037 год"]
["et_List18_block",0,null,null,null,{"$f":"first_year+14","v":2038},false,null,null,null,null,"2038 год"]
["et_List18_block",0,null,null,null,{"$f":"first_year+15","v":2039},false,null,null,null,null,"2039 год"]
["et_List18_block",0,null,null,null,{"$f":"first_year+16","v":2040},false,null,null,null,null,"2040 год"]
["et_List18_block",0,null,null,null,{"$f":"first_year+17","v":2041},false,null,null,null,null,"2041 год"]
["et_List18_block",0,null,null,null,{"$f":"first_year+18","v":2042},false,null,null,null,null,"2042 год"]
["et_List18_block",0,null,null,null,{"$f":"first_year+19","v":2043},false,null,null,null,null,"2043 год"]
["et_List18_block",0,null,null,null,{"$f":"first_year+20","v":2044},false,null,null,null,null,"2044 год"]
["et_List18_block",0,null,null,null,{"$f":"first_year+21","v":2045},false,null,null,null,null,"2045 год"]
["et_List18_block",0,null,null,null,{"$f":"first_year+22","v":2046},false,null,null,null,null,"2046 год"]
["et_List18_block",0,null,null,null,{"$f":"first_year+23","v":2047},false,null,null,null,null,"2047 год"]
["et_List18_block",0,null,null,null,{"$f":"first_year+24","v":2048},false,null,null,null,null,"2048 год"]
["et_List18_block",0,null,null,null,{"$f":"first_year+25","v":2049},false,null,null,null,null,"2049 год"]
["et_List18_block",0,null,null,null,{"$f":"first_year+26","v":2050},false,null,null,null,null,"2050 год"]
["et_List18_block",0,null,null,null,{"$f":"first_year+27","v":2051},false,null,null,null,null,"2051 год"]
["et_List18_block",0,null,null,null,{"$f":"first_year+28","v":2052},false,null,null,null,null,"2052 год"]
["et_List18_block",0,null,null,null,{"$f":"first_year+29","v":2053},false,null,null,null,null,"2053 год"]
["et_List18_block",0,null,null,null,{"$f":"first_year+30","v":2054},false,null,null,null,null,"2054 год"]
["et_List18_block",0,null,null,null,{"$f":"first_year+31","v":2055},false,null,null,null,null,"2055 год"]
["et_List18_block",0,null,null,null,{"$f":"first_year+32","v":2056},false,null,null,null,null,"2056 год"]
["et_List18_block",0,null,null,null,{"$f":"first_year+33","v":2057},false,null,null,null,null,"2057 год"]
["et_List18_block",0,null,null,null,{"$f":"first_year+34","v":2058},false,null,null,null,null,"2058 год"]
["et_List18_block",0,null,null,null,{"$f":"first_year+35","v":2059},false,null,null,null,null,"2059 год"]
["et_List18_block",0,null,null,null,{"$f":"first_year+36","v":2060},false,null,null,null,null,"2060 год"]
["et_List18_block",0,null,null,null,{"$f":"first_year+37","v":2061},false,null,null,null,null,"2061 год"]
["et_List18_block",0,null,null,null,{"$f":"first_year+38","v":2062},false,null,null,null,null,"2062 год"]
["et_List18_block",0,null,null,null,{"$f":"first_year+39","v":2063},false,null,null,null,null,"2063 год"]
["et_List18_block",0,null,null,null,{"$f":"first_year+40","v":2064},false,null,null,null,null,"2064 год"]
["et_List18_block",0,null,null,null,{"$f":"first_year+41","v":2065},false,null,null,null,null,"2065 год"]
["et_List18_block",0,null,null,null,{"$f":"first_year+42","v":2066},false,null,null,null,null,"2066 год"]
["et_List18_block",0,null,null,null,{"$f":"first_year+43","v":2067},false,null,null,null,null,"2067 год"]
["et_List18_block",0,null,null,null,{"$f":"first_year+44","v":2068},false,null,null,null,null,"2068 год"]
["et_List18_block",0,null,null,null,{"$f":"first_year+45","v":2069},false,null,null,null,null,"2069 год"]
["et_List18_block",0,null,null,null,{"$f":"first_year+46","v":2070},false,null,null,null,null,"2070 год"]
["et_List18_block",0,null,null,null,{"$f":"first_year+47","v":2071},false,null,null,null,null,"2071 год"]
["et_List18_block",0,null,null,null,{"$f":"first_year+48","v":2072},false,null,null,null,null,"2072 год"]
["et_List18_block",0,null,null,null,{"$f":"first_year+49","v":2073},false,null,null,null,null,{"$f":"F805& \" год\"","v":"2073 год"}]
[]
["ФОТ"]
["et_List19_tariff"]
["1",null,null,null,null,null,null,null,null,null,null,{"$f":"INDEX('Общие сведения'!$J$121:$J$148,MATCH($A809,'Общие сведения'!$D$121:$D$148,0))","v":"Тариф 1 (Водоснабжение) - тариф на питьевую воду"},null,null,{"$f":"O810+O813+O814+O817+O818+O821+O822+O825","v":{"$error":"#N/A"}},{"$error":"#N/A"},{"$error":"#N/A"},{"$error":"#N/A"},{"$error":"#N/A"},{"$error":"#N/A"}]
[{"$f":"A809","v":"1"},"ПП","L1",null,null,null,null,null,null,null,null,1,"Расходы на оплату труда основного производственного персонала","тыс.руб.",null,null,null,null,{"$f":"SUMIFS(S811:S812,$N811:$N812,$N810)","v":0},{"$f":"SUMIFS(T811:T812,$N811:$N812,$N810)","v":0}]
[{"$f":"A810","v":"1"},null,null,null,null,null,null,null,null,"1.0"]
["1",null,{"$f":"A812&\"pIns1\"","v":"1pIns1"},null,null,null,null,null,null,null,null,null,"Добавить"]
["1","СОЦ_ПП","L2",null,null,null,null,null,null,null,null,"2","Страховые взносы на обязательное социальное страхование основного производственного персонала","тыс.руб.",{"$f":"O810*SUMIFS(INDEX(Сценарии!$O$15:$AP$53,,MATCH(O$3,Сценарии!$O$3:$AP$3,0)),Сценарии!$A$15:$A$53,$A813,Сценарии!$B$15:$B$53,\"СВФОТ\")/100","v":{"$error":"#N/A"}},{"$f":"P810*SUMIFS(INDEX(Сценарии!$O$15:$AP$53,,MATCH(P$3,Сценарии!$O$3:$AP$3,0)),Сценарии!$A$15:$A$53,$A813,Сценарии!$B$15:$B$53,\"СВФОТ\")/100","v":{"$error":"#N/A"}},{"$f":"Q810*SUMIFS(INDEX(Сценарии!$O$15:$AP$53,,MATCH(Q$3,Сценарии!$O$3:$AP$3,0)),Сценарии!$A$15:$A$53,$A813,Сценарии!$B$15:$B$53,\"СВФОТ\")/100","v":{"$error":"#N/A"}},{"$f":"R810*SUMIFS(INDEX(Сценарии!$O$15:$AP$53,,MATCH(R$3,Сценарии!$O$3:$AP$3,0)),Сценарии!$A$15:$A$53,$A813,Сценарии!$B$15:$B$53,\"СВФОТ\")/100","v":{"$error":"#N/A"}},{"$f":"S810*SUMIFS(INDEX(Сценарии!$O$15:$AP$53,,MATCH(S$3,Сценарии!$O$3:$AP$3,0)),Сценарии!$A$15:$A$53,$A813,Сценарии!$B$15:$B$53,\"СВФОТ\")/100","v":{"$error":"#N/A"}},{"$f":"T810*SUMIFS(INDEX(Сценарии!$O$15:$AP$53,,MATCH(T$3,Сценарии!$O$3:$AP$3,0)),Сценарии!$A$15:$A$53,$A813,Сценарии!$B$15:$B$53,\"СВФОТ\")/100","v":{"$error":"#N/A"}}]
["1","РП","L3",null,null,null,null,null,null,null,null,"3","Расходы на оплату труда ремонтного персонала","тыс.руб.",null,null,null,null,{"$f":"SUMIFS(S815:S816,$N815:$N816,$N814)","v":0},{"$f":"SUMIFS(T815:T816,$N815:$N816,$N814)","v":0}]
["1",null,null,null,null,null,null,null,null,"3.0"]
["1",null,{"$f":"A816&\"pIns2\"","v":"1pIns2"},null,null,null,null,null,null,null,null,null,"Добавить"]
["1","СОЦ_РП","L4",null,null,null,null,null,null,null,null,"4","Страховые взносы на обязательное социальное страхование ремонтного персонала","тыс.руб.",{"$f":"O814*SUMIFS(INDEX(Сценарии!$O$15:$AP$53,,MATCH(O$3,Сценарии!$O$3:$AP$3,0)),Сценарии!$A$15:$A$53,$A817,Сценарии!$B$15:$B$53,\"СВФОТ\")/100","v":{"$error":"#N/A"}},{"$f":"P814*SUMIFS(INDEX(Сценарии!$O$15:$AP$53,,MATCH(P$3,Сценарии!$O$3:$AP$3,0)),Сценарии!$A$15:$A$53,$A817,Сценарии!$B$15:$B$53,\"СВФОТ\")/100","v":{"$error":"#N/A"}},{"$f":"Q814*SUMIFS(INDEX(Сценарии!$O$15:$AP$53,,MATCH(Q$3,Сценарии!$O$3:$AP$3,0)),Сценарии!$A$15:$A$53,$A817,Сценарии!$B$15:$B$53,\"СВФОТ\")/100","v":{"$error":"#N/A"}},{"$f":"R814*SUMIFS(INDEX(Сценарии!$O$15:$AP$53,,MATCH(R$3,Сценарии!$O$3:$AP$3,0)),Сценарии!$A$15:$A$53,$A817,Сценарии!$B$15:$B$53,\"СВФОТ\")/100","v":{"$error":"#N/A"}},{"$f":"S814*SUMIFS(INDEX(Сценарии!$O$15:$AP$53,,MATCH(S$3,Сценарии!$O$3:$AP$3,0)),Сценарии!$A$15:$A$53,$A817,Сценарии!$B$15:$B$53,\"СВФОТ\")/100","v":{"$error":"#N/A"}},{"$f":"T814*SUMIFS(INDEX(Сценарии!$O$15:$AP$53,,MATCH(T$3,Сценарии!$O$3:$AP$3,0)),Сценарии!$A$15:$A$53,$A817,Сценарии!$B$15:$B$53,\"СВФОТ\")/100","v":{"$error":"#N/A"}}]
["1","АУП","L5",null,null,null,null,null,null,null,null,"5","Расходы на оплату труда административно-управленческого персонала","тыс.руб.",null,null,null,null,{"$f":"SUMIFS(S819:S820,$N819:$N820,$N818)","v":0},{"$f":"SUMIFS(T819:T820,$N819:$N820,$N818)","v":0}]
["1",null,null,null,null,null,null,null,null,"5.0"]
["1",null,{"$f":"A820&\"pIns3\"","v":"1pIns3"},null,null,null,null,null,null,null,null,null,"Добавить"]
["1","СОЦ_АУП","L6",null,null,null,null,null,null,null,null,"6","Страховые взносы на обязательное социальное страхование административно-управленческого персонала","тыс.руб.",{"$f":"O818*SUMIFS(INDEX(Сценарии!$O$15:$AP$53,,MATCH(O$3,Сценарии!$O$3:$AP$3,0)),Сценарии!$A$15:$A$53,$A821,Сценарии!$B$15:$B$53,\"СВФОТ\")/100","v":{"$error":"#N/A"}},{"$f":"P818*SUMIFS(INDEX(Сценарии!$O$15:$AP$53,,MATCH(P$3,Сценарии!$O$3:$AP$3,0)),Сценарии!$A$15:$A$53,$A821,Сценарии!$B$15:$B$53,\"СВФОТ\")/100","v":{"$error":"#N/A"}},{"$f":"Q818*SUMIFS(INDEX(Сценарии!$O$15:$AP$53,,MATCH(Q$3,Сценарии!$O$3:$AP$3,0)),Сценарии!$A$15:$A$53,$A821,Сценарии!$B$15:$B$53,\"СВФОТ\")/100","v":{"$error":"#N/A"}},{"$f":"R818*SUMIFS(INDEX(Сценарии!$O$15:$AP$53,,MATCH(R$3,Сценарии!$O$3:$AP$3,0)),Сценарии!$A$15:$A$53,$A821,Сценарии!$B$15:$B$53,\"СВФОТ\")/100","v":{"$error":"#N/A"}},{"$f":"S818*SUMIFS(INDEX(Сценарии!$O$15:$AP$53,,MATCH(S$3,Сценарии!$O$3:$AP$3,0)),Сценарии!$A$15:$A$53,$A821,Сценарии!$B$15:$B$53,\"СВФОТ\")/100","v":{"$error":"#N/A"}},{"$f":"T818*SUMIFS(INDEX(Сценарии!$O$15:$AP$53,,MATCH(T$3,Сценарии!$O$3:$AP$3,0)),Сценарии!$A$15:$A$53,$A821,Сценарии!$B$15:$B$53,\"СВФОТ\")/100","v":{"$error":"#N/A"}}]
["1","СП","L7",null,null,null,null,null,null,null,null,"7","Расходы на оплату труда сбытового персонала","тыс.руб.",null,null,null,null,{"$f":"SUMIFS(S823:S824,$N823:$N824,$N822)","v":0},{"$f":"SUMIFS(T823:T824,$N823:$N824,$N822)","v":0}]
["1",null,null,null,null,null,null,null,null,"7.0"]
["1",null,{"$f":"A824&\"pIns4\"","v":"1pIns4"},null,null,null,null,null,null,null,null,null,"Добавить"]
["1","СОЦ_СП","L8",null,null,null,null,null,null,null,null,"8","Страховые взносы на обязательное социальное страхование сбытового персонала","тыс.руб.",{"$f":"O822*SUMIFS(INDEX(Сценарии!$O$15:$AP$53,,MATCH(O$3,Сценарии!$O$3:$AP$3,0)),Сценарии!$A$15:$A$53,$A825,Сценарии!$B$15:$B$53,\"СВФОТ\")/100","v":{"$error":"#N/A"}},{"$f":"P822*SUMIFS(INDEX(Сценарии!$O$15:$AP$53,,MATCH(P$3,Сценарии!$O$3:$AP$3,0)),Сценарии!$A$15:$A$53,$A825,Сценарии!$B$15:$B$53,\"СВФОТ\")/100","v":{"$error":"#N/A"}},{"$f":"Q822*SUMIFS(INDEX(Сценарии!$O$15:$AP$53,,MATCH(Q$3,Сценарии!$O$3:$AP$3,0)),Сценарии!$A$15:$A$53,$A825,Сценарии!$B$15:$B$53,\"СВФОТ\")/100","v":{"$error":"#N/A"}},{"$f":"R822*SUMIFS(INDEX(Сценарии!$O$15:$AP$53,,MATCH(R$3,Сценарии!$O$3:$AP$3,0)),Сценарии!$A$15:$A$53,$A825,Сценарии!$B$15:$B$53,\"СВФОТ\")/100","v":{"$error":"#N/A"}},{"$f":"S822*SUMIFS(INDEX(Сценарии!$O$15:$AP$53,,MATCH(S$3,Сценарии!$O$3:$AP$3,0)),Сценарии!$A$15:$A$53,$A825,Сценарии!$B$15:$B$53,\"СВФОТ\")/100","v":{"$error":"#N/A"}},{"$f":"T822*SUMIFS(INDEX(Сценарии!$O$15:$AP$53,,MATCH(T$3,Сценарии!$O$3:$AP$3,0)),Сценарии!$A$15:$A$53,$A825,Сценарии!$B$15:$B$53,\"СВФОТ\")/100","v":{"$error":"#N/A"}}]
["et_List19_dolj"]
[{"$f":"OFFSET(A827,-1,0)","v":"et_List19_dolj"},null,"L1",{"$f":"M827","v":0},null,null,null,null,null,"1.1","О",{"$f":"J827","v":"1.1"},null,"тыс.руб.",null,null,null,null,{"$f":"S828*S829*12/1000","v":0},{"$f":"T828*T829*12/1000","v":0}]
[{"$f":"A827","v":"et_List19_dolj"},null,{"$f":"C827&\"_1\"","v":"L1_1"},{"$f":"D827","v":0},null,null,null,null,null,null,null,{"$f":"L827&\".1\"","v":"1.1.1"},"численность","чел."]
[{"$f":"A828","v":"et_List19_dolj"},null,{"$f":"C827&\"_2\"","v":"L1_2"},{"$f":"D828","v":0},null,null,null,null,null,null,null,{"$f":"L827&\".2\"","v":"1.1.2"},"среднемесячная заработная плата","руб./чел."]
[]
["Административные"]
["et_List20_tariff"]
["1",null,null,null,null,null,null,null,null,null,null,{"$f":"INDEX('Общие сведения'!$J$121:$J$148,MATCH($A833,'Общие сведения'!$D$121:$D$148,0))","v":"Тариф 1 (Водоснабжение) - тариф на питьевую воду"},null,null,{"$f":"O834+O835+O836+O844+O845+O846+O847+O848","v":750.28105202587767},601.08132000000001,2072.5886999999998,865.491901264543,766.6970032511997,766.6970032511997]
[{"$f":"A833","v":"1"},null,"L1",null,null,null,null,null,null,null,null,1,"Расходы на оплату труда административно-управленческого персонала","тыс.руб.",{"$f":"SUMIFS(ФОТ!O$15:O$65,ФОТ!$A$15:$A$65,$A834,ФОТ!$M$15:$M$65,$M834)","v":576.25272813047434},{"$f":"SUMIFS(ФОТ!P$15:P$65,ФОТ!$A$15:$A$65,$A834,ФОТ!$M$15:$M$65,$M834)","v":461.66},{"$f":"SUMIFS(ФОТ!Q$15:Q$65,ФОТ!$A$15:$A$65,$A834,ФОТ!$M$15:$M$65,$M834)","v":1591.85},{"$f":"SUMIFS(ФОТ!R$15:R$65,ФОТ!$A$15:$A$65,$A834,ФОТ!$M$15:$M$65,$M834)","v":664.74032355187637},{"$f":"SUMIFS(ФОТ!S$15:S$65,ФОТ!$A$15:$A$65,$A834,ФОТ!$M$15:$M$65,$M834)","v":588.86098559999982},{"$f":"SUMIFS(ФОТ!T$15:T$65,ФОТ!$A$15:$A$65,$A834,ФОТ!$M$15:$M$65,$M834)","v":588.86098559999982}]
[{"$f":"A834","v":"1"},null,"L2",null,null,null,null,null,null,null,null,"2","Страховые взносы на обязательное социальное страхование административно-управленческого персонала","тыс.руб.",{"$f":"SUMIFS(ФОТ!O$15:O$65,ФОТ!$A$15:$A$65,$A835,ФОТ!$M$15:$M$65,$M835)","v":174.02832389540328},{"$f":"SUMIFS(ФОТ!P$15:P$65,ФОТ!$A$15:$A$65,$A835,ФОТ!$M$15:$M$65,$M835)","v":139.42132000000001},{"$f":"SUMIFS(ФОТ!Q$15:Q$65,ФОТ!$A$15:$A$65,$A835,ФОТ!$M$15:$M$65,$M835)","v":480.73869999999994},{"$f":"SUMIFS(ФОТ!R$15:R$65,ФОТ!$A$15:$A$65,$A835,ФОТ!$M$15:$M$65,$M835)","v":200.75157771266666},{"$f":"SUMIFS(ФОТ!S$15:S$65,ФОТ!$A$15:$A$65,$A835,ФОТ!$M$15:$M$65,$M835)","v":177.83601765119994},{"$f":"SUMIFS(ФОТ!T$15:T$65,ФОТ!$A$15:$A$65,$A835,ФОТ!$M$15:$M$65,$M835)","v":177.83601765119994}]
["1","p3","L3",null,null,null,null,null,null,null,null,"3","Оплата работ и (или) услуг, выполняемых по договорам сторонними организациями или индивидуальными предпринимателями:","тыс.руб.",{"$f":"SUM(O837:O843)","v":0},0,0,0,0,0]
["1","p3_1","L3_1",null,null,null,null,null,null,null,null,"3.1","услуги связи и интернет","тыс.руб."]
["1","p3_2","L3_2",null,null,null,null,null,null,null,null,"3.2","юридические услуги","тыс.руб."]
["1","p3_3","L3_3",null,null,null,null,null,null,null,null,"3.3","аудиторские услуги","тыс.руб."]
["1","p3_4","L3_4",null,null,null,null,null,null,null,null,"3.4","консультационные услуги","тыс.руб."]
["1","p3_5","L3_5",null,null,null,null,null,null,null,null,"3.5","услуги по вневедомственной охране объектов и территорий","тыс.руб."]
["1","p3_6","L3_6",null,null,null,null,null,null,null,null,"3.6","информационные услуги","тыс.руб."]
["1","p3_7","L3_7",null,null,null,null,null,null,null,null,"3.7","иные работы и (или) услуги","тыс.руб."]
["1","p4","L4",null,null,null,null,null,null,null,null,"4","Арендная плата, лизинговые платежи, не связанные с арендой (лизингом) централизованных систем водоснабжения (водоотведения) либо объектов, входящих в состав таких систем","тыс.руб."]
["1","p5","L5",null,null,null,null,null,null,null,null,"5","Служебные командировки","тыс.руб."]
["1","p6","L6",null,null,null,null,null,null,null,null,"6","Обучение персонала","тыс.руб."]
["1","p7","L7",null,null,null,null,null,null,null,null,"7","Страхование производственных объектов","тыс.руб."]
["1","p8","L8",null,null,null,null,null,null,null,null,"8","Прочие расходы, всего:","тыс.руб.",{"$f":"SUM(O849:O851)","v":0},0,0,0,0,0]
["1","p8_1","L8_1",null,null,null,null,null,null,null,null,"8.1","амортизация непроизводственных активов","тыс.руб."]
["1","p8_2","L8_2",null,null,null,null,null,null,null,null,"8.2","оплата услуг сторонних организаций по обеспечению безопасности функционирования объектов централизованных систем водоснабжения (водоотведения), в том числе расходы на защиту от террористических угроз","тыс.руб."]
["1","p8_3","L8_3",null,null,null,null,null,null,null,null,"8.3","иные расходы","тыс.руб."]
["et_List20_1"]
[{"$f":"A852","v":"et_List20_1"},null,null,null,null,null,null,null,null,null,"О",null,null,"тыс.руб."]
[]
["Сбытовые расходы ГО"]
["et_List21_tariff"]
["1","L0",null,null,null,null,null,null,null,null,null,{"$f":"INDEX('Общие сведения'!$J$121:$J$148,MATCH($A857,'Общие сведения'!$D$121:$D$148,0))","v":"Тариф 1 (Водоснабжение) - тариф на питьевую воду"},null,null,{"$f":"SUM(O858:O866)","v":0},0,0,0,0,0]
[{"$f":"A857","v":"1"},"L1",null,null,null,null,null,null,null,null,null,"1","Расходы на формирование резервов по сомнительным долгам (дебиторской задолженности)","тыс.руб."]
[{"$f":"A858","v":"1"},"L2",null,null,null,null,null,null,null,null,null,"2","Расходы на приобретение материалов, связанные со сбытовой деятельностью","тыс.руб."]
["1","L3",null,null,null,null,null,null,null,null,null,"3","Расходы на содержание помещений, используемых при осуществлении сбытовой деятельности","тыс.руб."]
["1","L4",null,null,null,null,null,null,null,null,null,4,"Расходы на оплату труда, страховые взносы на обязательное социальное страхование, выплачиваемые из фонда оплаты труда сбытового персонала","тыс.руб.",{"$f":"SUMIFS(ФОТ!O$15:O$65,ФОТ!$A$15:$A$65,$A861,ФОТ!$B$15:$B$65,\"СП\")+SUMIFS(ФОТ!O$15:O$65,ФОТ!$A$15:$A$65,$A861,ФОТ!$B$15:$B$65,\"СОЦ_СП\")","v":0},{"$f":"SUMIFS(ФОТ!P$15:P$65,ФОТ!$A$15:$A$65,$A861,ФОТ!$B$15:$B$65,\"СП\")+SUMIFS(ФОТ!P$15:P$65,ФОТ!$A$15:$A$65,$A861,ФОТ!$B$15:$B$65,\"СОЦ_СП\")","v":0},{"$f":"SUMIFS(ФОТ!Q$15:Q$65,ФОТ!$A$15:$A$65,$A861,ФОТ!$B$15:$B$65,\"СП\")+SUMIFS(ФОТ!Q$15:Q$65,ФОТ!$A$15:$A$65,$A861,ФОТ!$B$15:$B$65,\"СОЦ_СП\")","v":0},{"$f":"SUMIFS(ФОТ!R$15:R$65,ФОТ!$A$15:$A$65,$A861,ФОТ!$B$15:$B$65,\"СП\")+SUMIFS(ФОТ!R$15:R$65,ФОТ!$A$15:$A$65,$A861,ФОТ!$B$15:$B$65,\"СОЦ_СП\")","v":0},{"$f":"SUMIFS(ФОТ!S$15:S$65,ФОТ!$A$15:$A$65,$A861,ФОТ!$B$15:$B$65,\"СП\")+SUMIFS(ФОТ!S$15:S$65,ФОТ!$A$15:$A$65,$A861,ФОТ!$B$15:$B$65,\"СОЦ_СП\")","v":0},{"$f":"SUMIFS(ФОТ!T$15:T$65,ФОТ!$A$15:$A$65,$A861,ФОТ!$B$15:$B$65,\"СП\")+SUMIFS(ФОТ!T$15:T$65,ФОТ!$A$15:$A$65,$A861,ФОТ!$B$15:$B$65,\"СОЦ_СП\")","v":0}]
["1","L5",null,null,null,null,null,null,null,null,null,"5","Расходы на амортизацию основных средств и нематериальных активов, используемых при осуществлении сбытовой деятельности","тыс.руб."]
["1","L6",null,null,null,null,null,null,null,null,null,"6","Расходы на аренду, лизинг имущества, используемого при осуществлении сбытовой деятельности","тыс.руб."]
["1","L7",null,null,null,null,null,null,null,null,null,"7","Расходы на уплату процентов по займам и кредитам, привлечение которых обосновано ростом дебиторской задолженности абонентов за регулируемые услуги водоснабжения (водоотведения)","тыс.руб."]
["1","L8",null,null,null,null,null,null,null,null,null,"8","Расходы на оплату работ и (или) услуг, выполняемых сторонними организациями или индивидуальными предпринимателями, связанных со сбытовой деятельностью","тыс.руб."]
["1","L9",null,null,null,null,null,null,null,null,null,9,"Прочие расходы, связанные со сбытовой деятельностью","тыс.руб.",{"$f":"SUM(O867:O868)","v":0},0,0,0,0,0]
["1",null,null,null,null,null,null,null,null,null,null,"9.0"]
["1",{"$f":"A868&\"pIns\"","v":"1pIns"},null,null,null,null,null,null,null,null,null,null,"Добавить"]
["et_List21_1"]
[{"$f":"A869","v":"et_List21_1"},"L9",{"$f":"M870","v":0},null,null,null,null,null,null,null,"О",null,null,"тыс.руб."]

{"sheet":"TEHSHEET","index":37,"n_rows":175,"n_cols":26,"rows_kept":175,"cut":false,"hidden":true,"merged":[]}
["Алтайский край","RU22","Алтайский край",null,null,null,"YES_NO",null,null,null,null,null,"DNS",null,null,null,"YEAR_LIST","MONTH_LIST","period_list","sphere_list","tariff_type_list","COLDVSNA_VTOV;COLDVSNA_TRANSP_VTOV","COLDVSNA_VTARIFF","osn_expl_list","VOLTAGE_LEVEL_list","VOLTAGE_LEVEL2_list"]
["Амурская область","RU28","Амурская область",null,null,null,"да",null,null,null,null,null,"https://eias.ru",null,null,null,2012,"Январь",3,"Водоснабжение","одноставочный","питьевая вода","тариф на питьевую воду","аренда","Без разбивки","Без разбивки"]
["Архангельская область","RU29","Архангельская область",null,null,null,"нет",null,null,null,null,null,null,null,null,null,2013,"Февраль",4,"Водоотведение","двухставочный","техническая вода","тариф на техническую воду","безвозмездное пользование","ВН1","ВН1"]
["Астраханская область","RU30","Астраханская область",null,null,null,null,null,null,null,null,null,"NDS",null,null,null,2014,"Март",5,null,null,"горячая вода",null,"концессионное соглашение","ВН","ВН"]
["Белгородская область","RU31","Белгородская область",null,null,null,"STATE_SHARE",null,null,null,null,null,1.2,null,null,null,2015,"Апрель",6,null,null,"VOTV_VTOV","VOTV_VTARIFF","оперативное управление","СН1","СН1"]
["Брянская область","RU32","Брянская область",null,null,null,"VALUABLE_STATE_SHARE",null,null,null,null,null,null,null,null,null,2016,"Май",7,null,null,"без дифференциации","тариф на водоотведение","собственность","СН2","СН2"]
["Владимирская область","RU33","Владимирская область",null,null,null,"менее 50 %",null,null,null,null,null,"PERIOD",null,null,null,2017,"Июнь",8,null,null,"жидкие бытовые отходы",null,"хозяйственное ведение","НН","НН"]
["Волгоградская область","RU34","Волгоградская область",null,null,null,"50 % и более",null,null,null,null,null,2021,null,null,null,2018,"Июль",9,null,null,"поверхностные сточные воды",null,"договор хранения",null,"Генерация напряжения"]
["Вологодская область","RU35","Вологодская область",null,null,null,"100 %",null,null,null,null,null,null,null,null,null,2019,"Август",10,null,null,"хозяйственно-бытовые сточные воды",null,"договор эксплуатации"]
["Воронежская область","RU36","Воронежская область",null,null,null,null,null,null,null,null,null,"Организация",null,null,null,2020,"Сентябрь",11,null,null,"сточные воды (нормативы)",null,"договор обслуживания"]
["г. Москва","RU77","Москва",null,null,null,"OWNERSHIP_TYPE",null,null,null,null,null,{"$f":"\"01.01.\" & PERIOD","v":"01.01.2021"},null,null,null,2021,"Октябрь",12,null,null,"сточные воды (иные)",null,"бесхозяйный объект"]
["г. Байконур","RU00",null,null,null,null,"NONPRIVATE_OWNERSHIP_TYPE",null,null,null,null,null,{"$f":"\"31.12.\" & PERIOD","v":"31.12.2021"},null,null,null,2022,"Ноябрь",13,null,null,null,null,"договор инвестирования"]
["г. Санкт-Петербург","RU78","Cанкт-Петербург",null,null,null,"федеральная",null,null,null,null,null,null,null,null,null,2023,"Декабрь",14,null,null,null,null,"доверительное управление"]
["г. Севастополь","RU92","Севастополь",null,null,null,"субъект РФ",null,null,null,null,null,"Виды деятельности",null,null,null,2024,null,15,null,null,null,null,"субаренда"]
["Еврейская автономная область","RU79","Еврейская автономная область",null,null,null,"муниципальная",null,null,null,null,null,{"$f":"\"01.01.\" & PERIOD","v":"01.01.2021"},null,null,null,2025,null,16]
["Забайкальский край","RU75","Забайкальский край",null,null,null,"частная",null,null,null,null,null,{"$f":"\"31.12.\" & PERIOD","v":"31.12.2021"},null,null,null,2026,null,17,null,null,null,null,"support_docs_list"]
["Ивановская область","RU37","Ивановская область",null,null,null,null,null,null,null,null,null,null,null,null,null,2027,null,18,null,null,null,null,"договор"]
["Иркутская область","RU38","Иркутская область",null,null,null,null,null,null,null,null,null,"Территории",null,null,null,2028,null,19,null,null,null,null,"свидетельство"]
["Кабардино-Балкарская республика","RU07","Республика Кабардино-Балкария",null,null,null,null,null,null,null,null,null,{"$f":"\"01.01.\" & PERIOD","v":"01.01.2021"},null,null,null,2029,null,20,null,null,null,null,"соглашение"]
["Калининградская область","RU39","Калининградская область",null,null,null,null,null,null,null,null,null,{"$f":"\"31.12.\" & PERIOD","v":"31.12.2021"},null,null,null,2030,null,21,null,null,null,null,"постановление"]
["Калужская область","RU40","Калужская область",null,null,null,null,null,null,null,null,null,null,null,null,null,null,null,22,null,null,null,null,"распоряжение"]
["Камчатский край","RU41","Камчатский край",null,null,null,null,null,null,null,null,null,null,null,null,null,null,null,23,null,null,null,null,"решение"]
["Карачаево-Черкесская республика","RU09","Республика Карачаево-Черкессия",null,null,null,null,null,null,null,null,null,null,null,null,null,null,null,24,null,null,null,null,"приказ"]
["Кемеровская область","RU42","Кемеровская область",null,null,null,null,null,null,null,null,null,null,null,null,null,null,null,25,null,null,null,null,"лицензия"]
["Кировская область","RU43","Кировская область",null,null,null,null,null,null,null,null,null,null,null,null,null,null,null,26,null,null,null,null,"акт приёма-передачи"]
["Костромская область","RU44","Костромская область",null,null,null,null,null,null,null,null,null,null,null,null,null,null,null,27,null,null,null,null,"государственный контракт"]
["Краснодарский край","RU23","Краснодарский край",null,null,null,null,null,null,null,null,null,null,null,null,null,null,null,28,null,null,null,null,"балансовая справка"]
["Красноярский край","RU24","Красноярский край",null,null,null,null,null,null,null,null,null,null,null,null,null,null,null,29,null,null,null,null,"кадастровый паспорт"]
["Курганская область","RU45","Курганская область",null,null,null,null,null,null,null,null,null,null,null,null,null,null,null,30,null,null,null,null,"технический паспорт"]
["Курская область","RU46","Курская область",null,null,null,null,null,null,null,null,null,null,null,null,null,null,null,31,null,null,null,null,"устав"]
["Ленинградская область","RU47","Ленинградская область",null,null,null,null,null,null,null,null,null,null,null,null,null,null,null,32,null,null,null,null,"акт ввода в эксплуатацию"]
["Липецкая область","RU48","Липецкая область",null,null,null,null,null,null,null,null,null,null,null,null,null,null,null,33,null,null,null,null,"план приватизации"]
["Магаданская область","RU49","Магаданская область",null,null,null,null,null,null,null,null,null,null,null,null,null,null,null,34,null,null,null,null,"разрешение на ввод объекта в эксплуатацию"]
["Московская область","RU50","Московская область",null,null,null,null,null,null,null,null,null,null,null,null,null,null,null,35,null,null,null,null,"выписка из ЕГРН"]
["Мурманская область","RU51","Мурманская область",null,null,null,null,null,null,null,null,null,null,null,null,null,null,null,36,null,null,null,null,"выписка из РФИ"]
["Ненецкий автономный округ","RU83","Ненецкий автономный округ",null,null,null,null,null,null,null,null,null,null,null,null,null,null,null,37,null,null,null,null,"документов нет вообще"]
["Нижегородская область","RU52","Нижегородская область",null,null,null,null,null,null,null,null,null,null,null,null,null,null,null,38]
["Новгородская область","RU53","Новгородская область",null,null,null,null,null,null,null,"TARIFF_CALC_METHOD",null,null,null,null,null,null,null,39]
["Новосибирская область","RU54","Новосибирская область",null,null,null,null,null,null,null,"экономически обоснованных расходов (затрат)",null,null,null,null,null,null,null,40]
["Омская область","RU55","Омская область",null,null,null,null,null,null,null,"индексации",null,null,null,null,null,null,null,41]
["Оренбургская область","RU56","Оренбургская область",null,null,null,null,null,null,null,"индексации (корректировка)",null,null,null,null,null,null,null,42]
["Орловская область","RU57","Орловская область",null,null,null,null,null,null,null,"сравнения аналогов",null,null,null,null,null,null,null,43]
["Пензенская область","RU58","Пензенская область",null,null,null,null,null,null,null,null,null,null,null,null,null,null,null,44]
["Пермский край","RU59","Пермский край",null,null,null,null,null,null,null,null,null,null,null,null,null,null,null,45]
["Приморский край","RU25","Приморский край",null,null,null,null,null,null,null,"DOCUMENT_TYPES",null,null,null,null,null,null,null,46]
["Псковская область","RU60","Псковская область",null,null,null,null,null,null,null,"постановление",null,null,null,null,null,null,null,47]
["Республика Адыгея","RU01","Республика Адыгея",null,null,null,null,null,null,null,"распоряжение",null,null,null,null,null,null,null,48]
["Республика Алтай","RU04","Республика Алтай",null,null,null,null,null,null,null,"решение",null,null,null,null,null,null,null,49]
["Республика Башкортостан","RU02","Республика Башкортостан",null,null,null,null,null,null,null,"приказ",null,null,null,null,null,null,null,50]
["Республика Бурятия","RU03","Республика Бурятия",null,null,null,null,null,null,null,"закон"]
["Республика Дагестан","RU05","Республика Дагестан",null,null,null,null,null,null,null,"соглашение"]
["Республика Ингушетия","RU06","Республика Ингушетия",null,null,null,null,null,null,null,"протокол"]
["Республика Калмыкия","RU08","Республика Калмыкия"]
["Республика Карелия","RU10","Республика Карелия"]
["Республика Коми","RU11","Республика Коми"]
["Республика Крым","RU82","Крым"]
["Республика Марий Эл","RU12","Республика Марий Эл"]
["Республика Мордовия","RU13","Республика Мордовия"]
["Республика Саха (Якутия)","RU14","Республика Саха (Якутия)"]
["Республика Северная Осетия-Алания","RU15","Республика Северная Осетия (Алания)"]
["Республика Татарстан","RU16","Республика Татарстан"]
["Республика Тыва","RU17","Республика Тыва (Тува)"]
["Республика Хакасия","RU19","Республика Хакасия"]
["Ростовская область","RU61","Ростовская область"]
["Рязанская область","RU62","Рязанская область"]
["Самарская область","RU63","Самарская область"]
["Саратовская область","RU64","Саратовская область"]
["Сахалинская область","RU65","Сахалинская область"]
["Свердловская область","RU66","Свердловская область"]
["Смоленская область","RU67","Смоленская область"]
["Ставропольский край","RU26","Ставропольский край"]
["Тамбовская область","RU68","Тамбовская область"]
["Тверская область","RU69","Тверская область"]
["Томская область","RU70","Томская область"]
["Тульская область","RU71","Тульская область"]
["Тюменская область","RU72","Тюменская область"]
["Удмуртская республика","RU18","Республика Удмуртия"]
["Ульяновская область","RU73","Ульяновская область"]
["Хабаровский край","RU27","Хабаровский край"]
["Ханты-Мансийский автономный округ","RU86","Ханты-Мансийский автономный округ"]
["Челябинская область","RU74","Челябинская область"]
["Чеченская республика","RU20","Республика Чечня"]
["Чувашская республика","RU21","Республика Чувашия"]
["Чукотский автономный округ","RU87","Чукотский автономный округ"]
["Ямало-Ненецкий автономный округ","RU89","Ямало-Ненецкий автономный округ"]
["Ярославская область","RU76","Ярославская область"]
[null,null,"Нижегородская область"]
[]
[]
["Алтайский край","Управление Алтайского края по государственному регулированию цен и тарифов"]
["Амурская область","Управление государственного регулирования цен и тарифов Амурской области"]
["Архангельская область","Агентство по тарифам Архангельской области"]
["Астраханская область","Служба по тарифам Астраханской области"]
["Белгородская область","Департамент жилищно-коммунального хозяйства Белгородской области"]
["Брянская область","Управление государственного регулирования тарифов Брянской области"]
["Владимирская область","Департамент государственного регулирования цен и тарифов Владимирской области"]
["Волгоградская область","комитет тарифного регулирования Волгоградской области"]
["Вологодская область","Департамент ТЭК и ТР Вологодской области"]
["Воронежская область","Департамент государственного регулирования тарифов Воронежской области"]
["г. Москва","Департамент экономической политики и развития города Москвы"]
["г. Байконур","Управление экономического развития администрации города Байконур"]
["г. Санкт-Петербург","Комитет по тарифам Санкт-Петербурга"]
["г. Севастополь","Управление по тарифам города Севастополя"]
["Еврейская автономная область","Комитет тарифов и цен правительства Еврейской автономной области"]
["Забайкальский край","Региональная служба по тарифам и ценообразованию Забайкальского края"]
["Ивановская область","Департамент энергетики и тарифов Ивановской области"]
["Иркутская область","Служба по тарифам Иркутской области"]
["Кабардино-Балкарская республика","Государственный комитет Кабардино-Балкарский Республики по тарифам и жилищному надзору"]
["Калининградская область","Служба по государственному регулированию цен и тарифов Калининградской области"]
["Калужская область","Министерство конкурентной политики Калужской области"]
["Камчатский край","Региональная служба по тарифам и ценам Камчатского края"]
["Карачаево-Черкесская республика","Главное управление Карачаево-Черкесской Республики по тарифам и ценам"]
["Кемеровская область","Региональная энергетическая комиссия Кузбасса"]
["Кировская область","Региональная служба по тарифам Кировской области"]
["Костромская область","Департамент государственного регулирования цен и тарифов Костромской области"]
["Краснодарский край","Департамент государственного регулирования тарифов Краснодарского края"]
["Красноярский край","Министерство тарифной политики Красноярского края"]
["Курганская область","Департамент государственного регулирования цен и тарифов Курганской области"]
["Курская область","Комитет по тарифам и ценам Курской области"]
["Ленинградская область","Комитет по тарифам и ценовой политике Ленинградской области"]
["Липецкая область","Управление энергетики и тарифов Липецкой области"]
["Магаданская область","Департамент цен и тарифов Магаданской области"]
["Московская область","Комитет по ценам и тарифам Московской области"]
["Мурманская область","Комитет по тарифному регулированию Мурманской области"]
["Ненецкий автономный округ","Управление по государственному регулированию цен (тарифов) Ненецкого автономного округа"]
["Нижегородская область","Региональная служба по тарифам Нижегородской области"]
["Новгородская область","Комитет по тарифной политике Новгородской области"]
["Новосибирская область","Департамент по тарифам Новосибирской области"]
["Омская область","Региональная энергетическая комиссия Омской области"]
["Оренбургская область","Департамент Оренбургской области по ценам и регулированию тарифов"]
["Орловская область","Управление по тарифам и ценовой политике Орловской области"]
["Пензенская область","Департамент по регулированию тарифов и энергосбережению Пензенской области"]
["Пермский край","Министерство тарифного регулирования и энергетики Пермского края"]
["Приморский край","Агентство по тарифам Приморского края"]
["Псковская область","Комитет по тарифам и энергетике Псковской области"]
["Республика Адыгея","Управление государственного регулирования цен и тарифов Республики Адыгея"]
["Республика Алтай","Комитет по тарифам Республики Алтай"]
["Республика Башкортостан","Государственный комитет Республики Башкортостан по тарифам"]
["Республика Бурятия","Республиканская служба по тарифам Республики Бурятия"]
["Республика Дагестан","Республиканская служба по тарифам Республики Дагестан"]
["Республика Ингушетия","Государственная жилищная инспекция Республики Ингушетия"]
["Республика Калмыкия","Региональная служба по тарифам Республики Калмыкия"]
["Республика Карелия","Государственный комитет Республики Карелия по ценам и тарифам"]
["Республика Коми","Комитет Республики Коми по тарифам"]
["Республика Крым","Государственный комитет по ценам и тарифам Республики Крым"]
["Республика Марий Эл","Министерство промышленности, экономического развития и торговли Республики Марий Эл"]
["Республика Мордовия","Республиканская служба по тарифам Республики Мордовия"]
["Республика Саха (Якутия)","Государственный комитет по ценовой политике Республики Саха (Якутия)"]
["Республика Северная Осетия-Алания","Региональная служба по тарифам Республики Северная Осетия-Алания"]
["Республика Татарстан","Государственный комитет Республики Татарстан по тарифам"]
["Республика Тыва","Служба по тарифам Республики Тыва"]
["Республика Хакасия","Государственный комитет энергетики и тарифного регулирования Республики Хакасия"]
["Ростовская область","Региональная служба по тарифам Ростовской области"]
["Рязанская область","Главное управление \"Региональная энергетическая комиссия\" Рязанской области"]
["Самарская область","Департамент ценового и тарифного регулирования Самарской области"]
["Саратовская область","Комитет государственного регулирования тарифов Саратовской области"]
["Сахалинская область","региональная энергетическая комиссии Сахалинской области"]
["Свердловская область","Региональная энергетическая комиссия Свердловской области"]
["Смоленская область","Департамент Смоленской области по энергетике, энергоэффективности, тарифной политике"]
["Ставропольский край","Региональная тарифная комиссия Ставропольского края"]
["Тамбовская область","Управление по регулированию тарифов Тамбовской области"]
["Тверская область","Главное управление \"Региональная энергетическая комиссия\" Тверской области"]
["Томская область","Департамент тарифного регулирования Томской области"]
["Тульская область","Комитет Тульской области по тарифам"]
["Тюменская область","Департамент тарифной и ценовой политики Тюменской области"]
["Удмуртская республика","Министерство строительства, жилищно-коммунального хозяйства и энергетики Удмуртской Республики"]
["Ульяновская область","Агентство по регулированию цен и тарифов Ульяновской области"]
["Хабаровский край","Комитет по ценам и тарифам Правительства Хабаровского края"]
["Ханты-Мансийский автономный округ","Региональная служба по тарифам Ханты-Мансийского автономного округа - Югры"]
["Челябинская область","Министерство тарифного регулирования и энергетики Челябинской области"]
["Чеченская республика","Государственный комитет цен и тарифов Чеченской Республики"]
["Чувашская республика","Государственная служба Чувашской Республики по конкурентной политике и тарифам"]
["Чукотский автономный округ","Комитет государственного регулирования цен и тарифов Чукотского автономного округа"]
["Ямало-Ненецкий автономный округ","Департамент тарифной политики, энергетики и жилищно-коммунального комплекса Ямало-Ненецкого автономного округа"]
["Ярославская область","Департамент жилищно-коммунального хозяйства, энергетики и регулирования тарифов Ярославской области"]

{"sheet":"REESTR_TARIFF","index":38,"n_rows":3,"n_cols":11,"rows_kept":3,"cut":false,"hidden":true,"merged":[]}
["TEMPLATE_LGL_ID","TEMPLATE_PRD","TEMPLATE_STATUS","TEMPLATE_DATE","TARIFF_ID","TARIFF_VID","TARIFF_TIP","TARIFF_VDET","TARIFF_VTOV","TARIFF_DOP","TARIFF_MO_LIST"]
[null,null,null,null,"ВО.42.26356891.0001","<нет шаблона>"]
[null,null,null,null,"ХВС.42.26356891.0001","<нет шаблона>"]

{"sheet":"REESTR_OBJECT","index":39,"n_rows":3,"n_cols":9,"rows_kept":3,"cut":false,"hidden":true,"merged":[]}
["SPHERE","NMBR","NMOB","STYPE","ADDRESS","L_EXPLOIT_DOC_BASE","L_EXPLOIT_DOC_TYPE","L_EXPLOIT_DOC_NUMBER","L_EXPLOIT_DOC_DATE"]
["ВС",null,"ООО \"ТВК\"","НС с сетями","пгт Грамотеино / мкр Листвяжный / 5, стр 1","аренда","договор","35_22","01.07.2022"]
["ВО",null,"ООО \"ТВК\"","КНС с ОС и сетями","пгт Грамотеино / мкр.Листвяжный / 5, стр 1","аренда","договор","35-22","01.07.2022"]

{"sheet":"modList11","index":40,"n_rows":0,"n_cols":0,"rows_kept":0,"cut":false,"hidden":true,"merged":[]}

{"sheet":"REESTR_MO","index":41,"n_rows":240,"n_cols":5,"rows_kept":240,"cut":false,"hidden":true,"merged":[]}
["MR_NAME","MO_NAME","OKTMO_NAME","MR_LIST"]
["Беловский муниципальный округ","Беловский муниципальный округ","32501000","Беловский муниципальный округ","MO_LIST_1"]
["Беловский муниципальный район","Беловский муниципальный район","32601000","Беловский муниципальный район","MO_LIST_2"]
["Беловский муниципальный район","Сельское поселение Беловского муниципального района/Бековское","32601402","Гурьевский муниципальный округ","MO_LIST_3"]
["Беловский муниципальный район","Сельское поселение Беловского муниципального района/Евтинское","32601412","Гурьевский муниципальный район","MO_LIST_4"]
["Беловский муниципальный район","Сельское поселение Беловского муниципального района/Менчерепское","32601432","Ижморский муниципальный округ","MO_LIST_5"]
["Беловский муниципальный район","Сельское поселение Беловского муниципального района/Моховское","32601436","Ижморский муниципальный район","MO_LIST_6"]
["Беловский муниципальный район","Сельское поселение Беловского муниципального района/Новобачатское","32601414","Кемеровский муниципальный округ","MO_LIST_7"]
["Беловский муниципальный район","Сельское поселение Беловского муниципального района/Пермяковское","32601444","Кемеровский муниципальный район","MO_LIST_8"]
["Беловский муниципальный район","Сельское поселение Беловского муниципального района/Старобачатское","32601451","Крапивинский муниципальный округ","MO_LIST_9"]
["Беловский муниципальный район","Сельское поселение Беловского муниципального района/Старопестеревское","32601452","Крапивинский муниципальный район","MO_LIST_10"]
["Гурьевский муниципальный округ","Гурьевский муниципальный округ","32502000","Ленинск-Кузнецкий муниципальный округ","MO_LIST_11"]
["Гурьевский муниципальный район","Городское поселение Гурьевского муниципального района/город Гурьевск","32602101","Ленинск-Кузнецкий муниципальный район","MO_LIST_12"]
["Гурьевский муниципальный район","Городское поселение Гурьевского муниципального района/город Салаир","32602104","Мариинский муниципальный округ","MO_LIST_13"]
["Гурьевский муниципальный район","Гурьевский муниципальный район","32602000","Мариинский муниципальный район","MO_LIST_14"]
["Гурьевский муниципальный район","Сельское поселение Гурьевского муниципального района/Горскинское","32602404","Новокузнецкий  муниципальный округ","MO_LIST_15"]
["Гурьевский муниципальный район","Сельское поселение Гурьевского муниципального района/Малосалаирское","32602420","Новокузнецкий муниципальный район","MO_LIST_16"]
["Гурьевский муниципальный район","Сельское поселение Гурьевского муниципального района/Новопестеревское","32602428","Прокопьевский муниципальный округ","MO_LIST_17"]
["Гурьевский муниципальный район","Сельское поселение Гурьевского муниципального района/Раздольное","32602430","Прокопьевский муниципальный район","MO_LIST_18"]
["Гурьевский муниципальный район","Сельское поселение Гурьевского муниципального района/Сосновское","32602435","Промышленновский муниципальный округ","MO_LIST_19"]
["Гурьевский муниципальный район","Сельское поселение Гурьевского муниципального района/Ур-Бедаревское","32602450","Промышленновский муниципальный район","MO_LIST_20"]
["Гурьевский муниципальный район","Сельское поселение Гурьевского муниципального района/Урское","32602455","Таштагольский муниципальный район","MO_LIST_21"]
["Ижморский муниципальный округ","Ижморский муниципальный округ","32504000","Тисульский муниципальный округ","MO_LIST_22"]
["Ижморский муниципальный район","Городское поселение Ижморского муниципального района/п.г.т. Ижморский","32604151","Тисульский муниципальный район","MO_LIST_23"]
["Ижморский муниципальный район","Ижморский муниципальный район","32604000","Топкинский муниципальный округ","MO_LIST_24"]
["Ижморский муниципальный район","Сельское поселение Ижморского муниципального района/Колыонское","32604416","Топкинский муниципальный район","MO_LIST_25"]
["Ижморский муниципальный район","Сельское поселение Ижморского муниципального района/Красноярское","32604420","Тяжинский муниципальный округ","MO_LIST_26"]
["Ижморский муниципальный район","Сельское поселение Ижморского муниципального района/Постниковское","32604424","Тяжинский муниципальный район","MO_LIST_27"]
["Ижморский муниципальный район","Сельское поселение Ижморского муниципального района/Святославское","32604428","Чебулинский муниципальный округ","MO_LIST_28"]
["Ижморский муниципальный район","Сельское поселение Ижморского муниципального района/Симбирское","32604432","Чебулинский муниципальный район","MO_LIST_29"]
["Ижморский муниципальный район","Сельское поселение Ижморского муниципального района/Троицкое","32604436","Юргинский муниципальный округ","MO_LIST_30"]
["Кемеровский муниципальный округ","Кемеровский муниципальный округ","32507000","Юргинский муниципальный район","MO_LIST_31"]
["Кемеровский муниципальный район","Кемеровский муниципальный район","32607000","Яйский муниципальный округ","MO_LIST_32"]
["Кемеровский муниципальный район","Сельское поселение Кемеровского муниципального района/Арсентьевское","32607404","Яйский муниципальный район","MO_LIST_33"]
["Кемеровский муниципальный район","Сельское поселение Кемеровского муниципального района/Береговое","32607408","Яшкинский муниципальный округ","MO_LIST_34"]
["Кемеровский муниципальный район","Сельское поселение Кемеровского муниципального района/Березовское","32607412","Яшкинский муниципальный район","MO_LIST_35"]
["Кемеровский муниципальный район","Сельское поселение Кемеровского муниципального района/Елыкаевское","32607424","город Анжеро-Судженск","MO_LIST_36"]
["Кемеровский муниципальный район","Сельское поселение Кемеровского муниципального района/Звездное","32607426","город Белово","MO_LIST_37"]
["Кемеровский муниципальный район","Сельское поселение Кемеровского муниципального района/Суховское","32607441","город Березовский","MO_LIST_38"]
["Кемеровский муниципальный район","Сельское поселение Кемеровского муниципального района/Щегловское","32607416","город Калтан","MO_LIST_39"]
["Кемеровский муниципальный район","Сельское поселение Кемеровского муниципального района/Ягуновское","32607444","город Кемерово","MO_LIST_40"]
["Кемеровский муниципальный район","Сельское поселение Кемеровского муниципального района/Ясногорское","32607428","город Киселевск","MO_LIST_41"]
["Крапивинский муниципальный округ","Крапивинский муниципальный округ","32510000","город Ленинск-Кузнецкий","MO_LIST_42"]
["Крапивинский муниципальный район","Городское поселение Крапивинского муниципального района/п.г.т. Зеленогорский","32610153","город Междуреченск","MO_LIST_43"]
["Крапивинский муниципальный район","Городское поселение Крапивинского муниципального района/п.г.т. Крапивинский","32610151","город Мыски","MO_LIST_44"]
["Крапивинский муниципальный район","Крапивинский муниципальный район","32610000","город Новокузнецк","MO_LIST_45"]
["Крапивинский муниципальный район","Сельское поселение Крапивинского муниципального района/Банновское","32610404","город Осинники","MO_LIST_46"]
["Крапивинский муниципальный район","Сельское поселение Крапивинского муниципального района/Барачатское","32610408","город Полысаево","MO_LIST_47"]
["Крапивинский муниципальный район","Сельское поселение Крапивинского муниципального района/Борисовское","32610412","город Прокопьевск","MO_LIST_48"]
["Крапивинский муниципальный район","Сельское поселение Крапивинского муниципального района/Зеленовское","32610416","город Тайга","MO_LIST_49"]
["Крапивинский муниципальный район","Сельское поселение Крапивинского муниципального района/Каменское","32610420","город Юрга","MO_LIST_50"]
["Крапивинский муниципальный район","Сельское поселение Крапивинского муниципального района/Крапивинское","32610424","поселок городского типа Краснобродский","MO_LIST_51"]
["Крапивинский муниципальный район","Сельское поселение Крапивинского муниципального района/Мельковское","32610428"]
["Крапивинский муниципальный район","Сельское поселение Крапивинского муниципального района/Тарадановское","32610436"]
["Крапивинский муниципальный район","Сельское поселение Крапивинского муниципального района/Шевелевское","32610446"]
["Ленинск-Кузнецкий муниципальный округ","Ленинск-Кузнецкий муниципальный округ","32513000"]
["Ленинск-Кузнецкий муниципальный район","Ленинск-Кузнецкий муниципальный район","32613000"]
["Ленинск-Кузнецкий муниципальный район","Сельское поселение Ленинск-Кузнецкого муниципального района/Горняцкое","32613412"]
["Ленинск-Кузнецкий муниципальный район","Сельское поселение Ленинск-Кузнецкого муниципального района/Демьяновское","32613416"]
["Ленинск-Кузнецкий муниципальный район","Сельское поселение Ленинск-Кузнецкого муниципального района/Драченинское","32613420"]
["Ленинск-Кузнецкий муниципальный район","Сельское поселение Ленинск-Кузнецкого муниципального района/Краснинское","32613432"]
["Ленинск-Кузнецкий муниципальный район","Сельское поселение Ленинск-Кузнецкого муниципального района/Подгорновское","32613448"]
["Ленинск-Кузнецкий муниципальный район","Сельское поселение Ленинск-Кузнецкого муниципального района/Чкаловское","32613452"]
["Ленинск-Кузнецкий муниципальный район","Сельское поселение Ленинск-Кузнецкого муниципального района/Чусовитинское","32613456"]
["Ленинск-Кузнецкий муниципальный район","Сельское поселение Ленинск-Кузнецкого муниципального района/Шабановское","32613460"]
["Мариинский муниципальный округ","Мариинский муниципальный округ","32516000"]
["Мариинский муниципальный район","Городское поселение Мариинского муниципального района/город Мариинск","32616101"]
["Мариинский муниципальный район","Мариинский муниципальный район","32616000"]
["Мариинский муниципальный район","Сельское поселение Мариинского муниципального района/Белогородское","32616404"]
["Мариинский муниципальный район","Сельское поселение Мариинского муниципального района/Благовещенское","32616408"]
["Мариинский муниципальный район","Сельское поселение Мариинского муниципального района/Большеантибесское","32616412"]
["Мариинский муниципальный район","Сельское поселение Мариинского муниципального района/Калининское","32616414"]
["Мариинский муниципальный район","Сельское поселение Мариинского муниципального района/Кийское","32616415"]
["Мариинский муниципальный район","Сельское поселение Мариинского муниципального района/Красноорловское","32616416"]
["Мариинский муниципальный район","Сельское поселение Мариинского муниципального района/Лебяжье","32616420"]
["Мариинский муниципальный район","Сельское поселение Мариинского муниципального района/Малопесчанское","32616424"]
["Мариинский муниципальный район","Сельское поселение Мариинского муниципального района/Николаевское","32616428"]
["Мариинский муниципальный район","Сельское поселение Мариинского муниципального района/Первомайское","32616440"]
["Мариинский муниципальный район","Сельское поселение Мариинского муниципального района/Сусловское","32616444"]
["Мариинский муниципальный район","Сельское поселение Мариинского муниципального района/Таежно-Михайловское","32616448"]
["Новокузнецкий  муниципальный округ","Новокузнецкий  муниципальный округ","32519000"]
["Новокузнецкий муниципальный район","Безруковское","32619408"]
["Новокузнецкий муниципальный район","Бунгурское","32619416"]
["Новокузнецкий муниципальный район","Еланское","32619420"]
["Новокузнецкий муниципальный район","Ильинское","32619424"]
["Новокузнецкий муниципальный район","Куртуковское","32619434"]
["Новокузнецкий муниципальный район","Металлургское","32619440"]
["Новокузнецкий муниципальный район","Новокузнецкий муниципальный район","32619000"]
["Новокузнецкий муниципальный район","Орловское","32619446"]
["Новокузнецкий муниципальный район","Сары-Чумышское","32619450"]
["Новокузнецкий муниципальный район","Сельское поселение Новокузнецкого муниципального района/Загорское","32619422"]
["Новокузнецкий муниципальный район","Сельское поселение Новокузнецкого муниципального района/Загорское","32619428"]
["Новокузнецкий муниципальный район","Сельское поселение Новокузнецкого муниципального района/Красулинское","32619432"]
["Новокузнецкий муниципальный район","Сельское поселение Новокузнецкого муниципального района/Кузедеевское","32619433"]
["Новокузнецкий муниципальный район","Сельское поселение Новокузнецкого муниципального района/Сосновское","32619460"]
["Новокузнецкий муниципальный район","Сельское поселение Новокузнецкого муниципального района/Терсинское","32619468"]
["Новокузнецкий муниципальный район","Сельское поселение Новокузнецкого муниципального района/Терсинское","32619470"]
["Новокузнецкий муниципальный район","Сельское поселение Новокузнецкого муниципального района/Центральное","32619404"]
["Новокузнецкий муниципальный район","Сельское поселение Новокузнецкого муниципального района/Центральное","32619473"]
["Новокузнецкий муниципальный район","Сидоровское","32619456"]
["Прокопьевский муниципальный округ","Прокопьевский муниципальный округ","32522000"]
["Прокопьевский муниципальный район","Прокопьевский муниципальный район","32622000"]
["Прокопьевский муниципальный район","Сельское поселение Прокопьевского муниципального района/Большеталдинское","32622404"]
["Прокопьевский муниципальный район","Сельское поселение Прокопьевского муниципального района/Бурлаковское","32622408"]
["Прокопьевский муниципальный район","Сельское поселение Прокопьевского муниципального района/Калачевское","32622420"]
["Прокопьевский муниципальный район","Сельское поселение Прокопьевского муниципального района/Каменно-Ключевское","32622424"]
["Прокопьевский муниципальный район","Сельское поселение Прокопьевского муниципального района/Кузбасское","32622436"]
["Прокопьевский муниципальный район","Сельское поселение Прокопьевского муниципального района/Михайловское","32622444"]
["Прокопьевский муниципальный район","Сельское поселение Прокопьевского муниципального района/Сафоновское","32622448"]
["Прокопьевский муниципальный район","Сельское поселение Прокопьевского муниципального района/Терентьевское","32622452"]
["Прокопьевский муниципальный район","Сельское поселение Прокопьевского муниципального района/Трудармейское","32622454"]
["Прокопьевский муниципальный район","Сельское поселение Прокопьевского муниципального района/Яснополянское","32622460"]
["Промышленновский муниципальный округ","Промышленновский муниципальный округ","32525000"]
["Промышленновский муниципальный район","Городское поселение Промышленновского муниципального района/п.г.т. Промышленная","32625151"]
["Промышленновский муниципальный район","Промышленновский муниципальный район","32625000"]
["Промышленновский муниципальный район","Сельское поселение Промышленновского муниципальног района/Вагановское","32625408"]
["Промышленновский муниципальный район","Сельское поселение Промышленновского муниципального района/Калинкинское","32625414"]
["Промышленновский муниципальный район","Сельское поселение Промышленновского муниципального района/Лебедевское","32625416"]
["Промышленновский муниципальный район","Сельское поселение Промышленновского муниципального района/Окунёвское","32625424"]
["Промышленновский муниципальный район","Сельское поселение Промышленновского муниципального района/Падунское","32625432"]
["Промышленновский муниципальный район","Сельское поселение Промышленновского муниципального района/Плотниковское","32625428"]
["Промышленновский муниципальный район","Сельское поселение Промышленновского муниципального района/Пушкинское","32625436"]
["Промышленновский муниципальный район","Сельское поселение Промышленновского муниципального района/Тарабаринское","32625440"]
["Промышленновский муниципальный район","Сельское поселение Промышленновского муниципального района/Тарасовское","32625444"]
["Промышленновский муниципальный район","Сельское поселение Промышленновского муниципального района/Титовское","32625448"]
["Таштагольский муниципальный район","Городское поселение Таштагольского муниципального района/город Таштагол","32627101"]
["Таштагольский муниципальный район","Городское поселение Таштагольского муниципального района/п.г.т. Каз","32627154"]
["Таштагольский муниципальный район","Городское поселение Таштагольского муниципального района/п.г.т. Мундыбаш","32627157"]
["Таштагольский муниципальный район","Городское поселение Таштагольского муниципального района/п.г.т. Спасск","32627162"]
["Таштагольский муниципальный район","Городское поселение Таштагольского муниципального района/п.г.т. Темиртау","32627165"]
["Таштагольский муниципальный район","Городское поселение Таштагольского муниципального района/п.г.т. Шерегеш","32627175"]
["Таштагольский муниципальный район","Сельское поселение Таштагольского муниципального района/Каларское","32627413"]
["Таштагольский муниципальный район","Сельское поселение Таштагольского муниципального района/Коуринское","32627417"]
["Таштагольский муниципальный район","Сельское поселение Таштагольского муниципального района/Кызыл-Шорское","32627420"]
["Таштагольский муниципальный район","Сельское поселение Таштагольского муниципального района/Усть-Кабырзинское","32627438"]
["Таштагольский муниципальный район","Таштагольский муниципальный район","32627000"]
["Тисульский муниципальный округ","Тисульский муниципальный округ","32528000"]
["Тисульский муниципальный район","Городское поселение Тисульского муниципального района/п.г.т. Белогорск","32628154"]
["Тисульский муниципальный район","Городское поселение Тисульского муниципального района/п.г.т. Тисуль","32628151"]
["Тисульский муниципальный район","Городское поселение Тисульского муниципального района/п.г.т.Комсомольск","32628160"]
["Тисульский муниципальный район","Сельское поселение Тисульского муниципального района/Берикульское","32628402"]
["Тисульский муниципальный район","Сельское поселение Тисульского муниципального района/Большебарандатское","32628408"]
["Тисульский муниципальный район","Сельское поселение Тисульского муниципального района/Куликовское","32628412"]
["Тисульский муниципальный район","Сельское поселение Тисульского муниципального района/Листвянское","32628415"]
["Тисульский муниципальный район","Сельское поселение Тисульского муниципального района/Полуторниковское","32628420"]
["Тисульский муниципальный район","Сельское поселение Тисульского муниципального района/Серебряковское","32628418"]
["Тисульский муниципальный район","Сельское поселение Тисульского муниципального района/Тамбарское","32628424"]
["Тисульский муниципальный район","Сельское поселение Тисульского муниципального района/Третьяковское","32628428"]
["Тисульский муниципальный район","Сельское поселение Тисульского муниципального района/Утинское","32628436"]
["Тисульский муниципальный район","Сельское поселение Тисульского муниципального района/Центральное","32628440"]
["Тисульский муниципальный район","Тисульский муниципальный район","32628000"]
["Топкинский муниципальный округ","Топкинский муниципальный округ","32531000"]
["Топкинский муниципальный район","Городское поселение Топкинского муниципального района/город Топки","32631101"]
["Топкинский муниципальный район","Сельское поселение Топкинского муниципального района/Верх-Падунское","32631404"]
["Топкинский муниципальный район","Сельское поселение Топкинского муниципального района/Зарубинское","32631412"]
["Топкинский муниципальный район","Сельское поселение Топкинского муниципального района/Лукошкинское","32631416"]
["Топкинский муниципальный район","Сельское поселение Топкинского муниципального района/Осиногривское","32631420"]
["Топкинский муниципальный район","Сельское поселение Топкинского муниципального района/Соломинское","32631424"]
["Топкинский муниципальный район","Сельское поселение Топкинского муниципального района/Топкинское","32631428"]
["Топкинский муниципальный район","Сельское поселение Топкинского муниципального района/Усть-Сосновское","32631432"]
["Топкинский муниципальный район","Сельское поселение Топкинского муниципального района/Хорошеборское","32631436"]
["Топкинский муниципальный район","Сельское поселение Топкинского муниципального района/Черемичкинское","32631440"]
["Топкинский муниципальный район","Сельское поселение Топкинского муниципального района/Шишинское","32631444"]
["Топкинский муниципальный район","Сельское поселение Топкинского муниципального района/Юрьевское","32631448"]
["Топкинский муниципальный район","Топкинский муниципальный район","32631000"]
["Тяжинский муниципальный округ","Тяжинский муниципальный округ","32534000"]
["Тяжинский муниципальный район","Городское поселение Тяжинского муниципального района/п.г.т. Итатский","32634154"]
["Тяжинский муниципальный район","Городское поселение Тяжинского муниципального района/п.г.т. Тяжинский","32634151"]
["Тяжинский муниципальный район","Сельское поселение Тяжинского муниципального района/Акимо-Анненское","32634412"]
["Тяжинский муниципальный район","Сельское поселение Тяжинского муниципального района/Кубитетское","32634404"]
["Тяжинский муниципальный район","Сельское поселение Тяжинского муниципального района/Листвянское","32634408"]
["Тяжинский муниципальный район","Сельское поселение Тяжинского муниципального района/Нововосточное","32634424"]
["Тяжинский муниципальный район","Сельское поселение Тяжинского муниципального района/Новоподзорновское","32634414"]
["Тяжинский муниципальный район","Сельское поселение Тяжинского муниципального района/Новопокровское","32634416"]
["Тяжинский муниципальный район","Сельское поселение Тяжинского муниципального района/Преображенское","32634420"]
["Тяжинский муниципальный район","Сельское поселение Тяжинского муниципального района/Ступишинское","32634428"]
["Тяжинский муниципальный район","Сельское поселение Тяжинского муниципального района/Тисульское","32634432"]
["Тяжинский муниципальный район","Сельское поселение Тяжинского муниципального района/Чулымское","32634436"]
["Тяжинский муниципальный район","Тяжинский муниципальный район","32634000"]
["Чебулинский муниципальный округ","Чебулинский муниципальный округ","32537000"]
["Чебулинский муниципальный район","Городское поселение Чебулинского муниципального района/п.г.т. Верх-Чебула","32637151"]
["Чебулинский муниципальный район","Сельское поселение Чебулинского муниципального района/Алчедатское","32637404"]
["Чебулинский муниципальный район","Сельское поселение Чебулинского муниципального района/Ивановское","32637412"]
["Чебулинский муниципальный район","Сельское поселение Чебулинского муниципального района/Усманское","32637420"]
["Чебулинский муниципальный район","Сельское поселение Чебулинского муниципального района/Усть-Сертинское","32637424"]
["Чебулинский муниципальный район","Сельское поселение Чебулинского муниципального района/Усть-Чебулинское","32637428"]
["Чебулинский муниципальный район","Сельское поселение Чебулинского муниципального района/Чумайское","32637432"]
["Чебулинский муниципальный район","Чебулинский муниципальный район","32637000"]
["Юргинский муниципальный округ","Юргинский муниципальный округ","32540000"]
["Юргинский муниципальный район","Сельское поселение Юргинского муниципального района/Арлюкское","32640404"]
["Юргинский муниципальный район","Сельское поселение Юргинского муниципального района/Зеледеевское","32640408"]
["Юргинский муниципальный район","Сельское поселение Юргинского муниципального района/Лебяжье-Асановское","32640412"]
["Юргинский муниципальный район","Сельское поселение Юргинского муниципального района/Мальцевское","32640416"]
["Юргинский муниципальный район","Сельское поселение Юргинского муниципального района/Новоромановское","32640420"]
["Юргинский муниципальный район","Сельское поселение Юргинского муниципального района/Попереченское","32640424"]
["Юргинский муниципальный район","Сельское поселение Юргинского муниципального района/Проскоковское","32640428"]
["Юргинский муниципальный район","Сельское поселение Юргинского муниципального района/Тальское","32640432"]
["Юргинский муниципальный район","Сельское поселение Юргинского муниципального района/Юргинское","32640436"]
["Юргинский муниципальный район","Юргинский муниципальный район","32640000"]
["Яйский муниципальный округ","Яйский муниципальный округ","32543000"]
["Яйский муниципальный район","Городское поселение Яйского муниципального района/ п.г.т. Яя","32643151"]
["Яйский муниципальный район","Сельское поселение Яйского муниципального района/Безлесное","32643404"]
["Яйский муниципальный район","Сельское поселение Яйского муниципального района/Бекетское","32643408"]
["Яйский муниципальный район","Сельское поселение Яйского муниципального района/Вознесенское","32643412"]
["Яйский муниципальный район","Сельское поселение Яйского муниципального района/Дачно-Троицкое","32643416"]
["Яйский муниципальный район","Сельское поселение Яйского муниципального района/Кайлинское","32643424"]
["Яйский муниципальный район","Сельское поселение Яйского муниципального района/Китатское","32643428"]
["Яйский муниципальный район","Сельское поселение Яйского муниципального района/Марьевское","32643432"]
["Яйский муниципальный район","Сельское поселение Яйского муниципального района/Судженское","32643436"]
["Яйский муниципальный район","Сельское поселение Яйского муниципального района/Улановское","32643440"]
["Яйский муниципальный район","Яйский муниципальный район","32643000"]
["Яшкинский муниципальный округ","Яшкинский муниципальный округ","32546000"]
["Яшкинский муниципальный район","Городское поселение Яшкинского муниципального района/п.г.т. Яшкино","32646151"]
["Яшкинский муниципальный район","Сельское поселение Яшкинского муниципального района/Акациевское","32646402"]
["Яшкинский муниципальный район","Сельское поселение Яшкинского муниципального района/Дубровинское","32646408"]
["Яшкинский муниципальный район","Сельское поселение Яшкинского муниципального района/Колмогоровское","32646414"]
["Яшкинский муниципальный район","Сельское поселение Яшкинского муниципального района/Ленинское","32646419"]
["Яшкинский муниципальный район","Сельское поселение Яшкинского муниципального района/Литвиновское","32646420"]
["Яшкинский муниципальный район","Сельское поселение Яшкинского муниципального района/Пачинское","32646424"]
["Яшкинский муниципальный район","Сельское поселение Яшкинского муниципального района/Пашковское","32646428"]
["Яшкинский муниципальный район","Сельское поселение Яшкинского муниципального района/Поломошинское","32646432"]
["Яшкинский муниципальный район","Сельское поселение Яшкинского муниципального района/Таловское","32646436"]
["Яшкинский муниципальный район","Сельское поселение Яшкинского муниципального района/Шахтерское","32646450"]
["Яшкинский муниципальный район","Яшкинский муниципальный район","32646000"]
["город Анжеро-Судженск","город Анжеро-Судженск","32704000"]
["город Белово","город Белово","32707000"]
["город Березовский","город Березовский","32710000"]
["город Калтан","город Калтан","32715000"]
["город Кемерово","город Кемерово","32701000"]
["город Киселевск","город Киселевск","32716000"]
["город Ленинск-Кузнецкий","город Ленинск-Кузнецкий","32719000"]
["город Междуреченск","город Междуреченск","32725000"]
["город Мыски","город Мыски","32728000"]
["город Новокузнецк","город Новокузнецк","32731000"]
["город Осинники","город Осинники","32734000"]
["город Полысаево","город Полысаево","32732000"]
["город Прокопьевск","город Прокопьевск","32737000"]
["город Тайга","город Тайга","32740000"]
["город Юрга","город Юрга","32749000"]
["поселок городского типа Краснобродский","поселок городского типа Краснобродский","32751000"]

{"sheet":"REESTR_ORG","index":42,"n_rows":304,"n_cols":10,"rows_kept":304,"cut":false,"hidden":true,"merged":[]}
["№","REGION_ID","REGION_NAME","RST_ORG_ID","ORG_NAME","INN_NAME","KPP_NAME","ORG_START_DATE","ORG_END_DATE"]
[1,"2655","Кемеровская область","26560525","АО \"ГУ ЖКХ\"","5116000922","511601001","13-05-2009 00:00:00",null,"VS"]
[2,"2655","Кемеровская область","30401246","АО \"ГУ ЖКХ\"","5116000922","540645001",null,null,"VS"]
[3,"2655","Кемеровская область","26356953","АО \"ЕВРАЗ ЗСМК\"","4218000951","421801001","30-11-1992 00:00:00",null,"VS"]
[4,"2655","Кемеровская область","28092960","АО \"КФ\" ОСП \"Юргинский ферросплавный завод\"","4216001565","422101001","19-02-2013 00:00:00",null,"VS"]
[5,"2655","Кемеровская область","27804990","АО \"Кемеровская генерация\"","4205243192","420501001","28-04-2012 00:00:00",null,"VS"]
[6,"2655","Кемеровская область","28048296","АО \"Кузбассэнерго\"","4200000333","420501001","30-12-1993 00:00:00",null,"VS"]
[7,"2655","Кемеровская область","27804826","АО \"Кузнецкая ТЭЦ\"","4205243178","420501001","28-04-2012 00:00:00",null,"VS"]
[8,"2655","Кемеровская область","26356963","АО \"ПО Водоканал\"","4223030694","422301001","06-11-2002 00:00:00",null,"VS"]
[9,"2655","Кемеровская область","26322889","АО \"РУСАЛ Новокузнецкий Алюминиевый Завод\"","4221000535","997550001","25-09-2002 00:00:00",null,"VS"]
[10,"2655","Кемеровская область","27820148","АО \"СУЭК-Кузбасс\"","4212024138","421201001","07-05-2007 00:00:00",null,"VS"]
[11,"2655","Кемеровская область","26427918","АО \"Славино\"","4238012426","423801001","17-12-2002 00:00:00","16-11-2022 00:00:00","VS"]
[12,"2655","Кемеровская область","26356905","АО \"Теплоэнерго\"","4205049011","420501001","30-04-2003 00:00:00",null,"VS"]
[13,"2655","Кемеровская область","26427149","АО \"Транснефть-Западная Сибирь\"","5502020634","546050001",null,null,"VS"]
[14,"2655","Кемеровская область","26356936","АО \"Энергетическая компания\"","4212127479","421201001","20-09-2004 00:00:00",null,"VS"]
[15,"2655","Кемеровская область","26567321","АО «Мариинский ЛВЗ»","4213003050","421301001","25-12-2002 00:00:00",null,"VS"]
[16,"2655","Кемеровская область","27295125","АО ЦОФ \"Берёзовская\"","4203001617","424950001","25-07-2002 00:00:00",null,"VS"]
[17,"2655","Кемеровская область","28976938","Анжеро-Судженская ЛПДС филиала \"Новосибирское РНУ\" АО \"Транснефть - Западная Сибирь\"","5502020634","424603001","15-06-1994 00:00:00",null,"VS"]
[18,"2655","Кемеровская область","26824672","Ачинская дистанция гражданских сооружений - СП КЖД - филиала ОАО \"РЖД\"","7708503727","421301001",null,null,"VS"]
[19,"2655","Кемеровская область","31359053","ИП Чайковский В.Л.","420300472840","отсутствует","17-10-2014 00:00:00",null,"VS"]
[20,"2655","Кемеровская область","28823439","Индивидуальный предприниматель Зубарева Евгения Анатольевна","420508603852","отсутствует","16-03-2009 00:00:00",null,"VS"]
[21,"2655","Кемеровская область","26322867","КАО \"Азот\"","4205000908","997550001","11-07-2001 00:00:00",null,"VS"]
[22,"2655","Кемеровская область","26824651","Красноярская дирекция по тепловодоснабжению","7708503727","246645014",null,null,"VS"]
[23,"2655","Кемеровская область","26824396","Кузбасский территориальный участок ЗСД по тепловодоснабжению - СП ЦД по тепловодоснабжению - филиал ОАО \"РЖД\"","7708503727","540775040",null,null,"VS"]
[24,"2655","Кемеровская область","31159489","МКП  \"Центральная ТЭЦ\"","4220039385","422001001","06-04-2009 00:00:00","01-01-2021 00:00:00","VS"]
[25,"2655","Кемеровская область","31232672","МКП \"ВКХ\"","4217191774","421701001","15-11-2018 00:00:00",null,"VS"]
[26,"2655","Кемеровская область","31387447","МКП \"Водоканал\" ТМР","4252015570","425201001","12-08-2019 00:00:00",null,"VS"]
[27,"2655","Кемеровская область","28751671","МКП \"Водоснаб НМР\"","4252003568","425201001","16-07-2012 00:00:00",null,"VS"]
[28,"2655","Кемеровская область","27978231","МКП \"ЖКХ\"","4230005515","423001001","18-09-2012 00:00:00",null,"VS"]
[29,"2655","Кемеровская область","30808700","МКП \"КОМФОРТ\"","4213011357","421301001","02-03-2016 00:00:00",null,"VS"]
[30,"2655","Кемеровская область","31319221","МКП \"КТВС НМР\"","4252015404","425201001","05-06-2019 00:00:00",null,"VS"]
[31,"2655","Кемеровская область","27819046","МКП \"КТС Новокузнецкого района\"","4252003487","425201001","26-06-2012 00:00:00",null,"VS"]
[32,"2655","Кемеровская область","28822005","МКП \"Полигон ТБО\"","4246018397","424601001","29-05-2013 00:00:00",null,"VS"]
[33,"2655","Кемеровская область","31087651","МКП \"Тепло\"","4230032501","423001001","27-02-2018 00:00:00",null,"VS"]
[34,"2655","Кемеровская область","31343443","МКП ММО \"Ресурс\"","4213012417","421301001","26-07-2019 00:00:00",null,"VS"]
[35,"2655","Кемеровская область","28221445","МП \"Водоканал\" Тайгинского городского округа","4246018157","424601001",null,null,"VS"]
[36,"2655","Кемеровская область","27542200","МП \"Жильё\"","4246000576","424601001","14-09-2011 00:00:00",null,"VS"]
[37,"2655","Кемеровская область","26486390","МП \"Исток\"","4211023572","421101001","13-03-2009 00:00:00",null,"VS"]
[38,"2655","Кемеровская область","27980182","МП \"ССК\"","4217146362","421701001","24-07-2012 00:00:00",null,"VS"]
[39,"2655","Кемеровская область","26505195","МП \"Тепло\"","4211023237","421101001","01-06-2009 00:00:00","22-09-2022 00:00:00","VS"]
[40,"2655","Кемеровская область","26530090","МУП \"Водоканал\"","4214031839","421401001","26-03-2010 00:00:00","07-09-2020 00:00:00","VS"]
[41,"2655","Кемеровская область","27977465","МУП \"Водоканал\"","4202043124","420201001","10-10-2012 00:00:00",null,"VS"]
[42,"2655","Кемеровская область","31310826","МУП \"Водоканал\"","4213012270","421301001","01-02-2019 00:00:00",null,"VS"]
[43,"2655","Кемеровская область","31159399","МУП \"Гарант\"","4213012128","421301001","29-12-2017 00:00:00","07-04-2023 00:00:00","VS"]
[44,"2655","Кемеровская область","31332720","МУП \"Гарант\" КГО","4202050210","420201001","04-12-2015 00:00:00",null,"VS"]
[45,"2655","Кемеровская область","28980595","МУП \"ЖКХ Мариинского муниципального района\"","4213011068","421301001","22-05-2015 00:00:00",null,"VS"]
[46,"2655","Кемеровская область","27826700","МУП \"Жилищно-коммунальное управление Кемеровского муниципального округа\"","4205242791","420501001","26-04-2012 00:00:00",null,"VS"]
[47,"2655","Кемеровская область","31308226","МУП \"ИЖКХ\" Ижморского муниципального округа\"","4246021336","424601001","01-06-2017 00:00:00",null,"VS"]
[48,"2655","Кемеровская область","31284269","МУП \"Комфорт\"","4230026593","423001001","29-06-2009 00:00:00",null,"VS"]
[49,"2655","Кемеровская область","31241680","МУП \"Междуреченский Водоканал\"","4214040174","421401001","26-10-2018 00:00:00",null,"VS"]
[50,"2655","Кемеровская область","28221676","МУП \"Сервис коммунальных систем\"","4213010226","421301001","13-03-2013 00:00:00","20-12-2021 00:00:00","VS"]
[51,"2655","Кемеровская область","31579664","МУП \"ТЖКХ\" Тисульского муниципального района\"","4213012375","421301001","10-07-2019 00:00:00",null,"VS"]
[52,"2655","Кемеровская область","31338382","МУП \"Тепловик\"","4246022315","424601001","25-04-2019 00:00:00",null,"VS"]
[53,"2655","Кемеровская область","28503043","МУП \"УК ЖКХ\"","4222014844","422201001","03-12-2013 00:00:00",null,"VS"]
[54,"2655","Кемеровская область","30824381","МУП \"Энерго-Сервис\"","4246019665","424601001","22-07-2016 00:00:00",null,"VS"]
[55,"2655","Кемеровская область","31218522","МУП \"ЯТО\" Яйского муниципального округа","4246022072","424601001","24-09-2018 00:00:00",null,"VS"]
[56,"2655","Кемеровская область","26322887","МУП «ЖКХ» Новокузнецкого района","4238015970","423801001","05-07-2004 00:00:00",null,"VS"]
[57,"2655","Кемеровская область","31003143","МУП Гурьевского муниципального района \"УК ЖКХ\"","4202047136","420201001","13-01-2014 00:00:00",null,"VS"]
[58,"2655","Кемеровская область","26357006","МУП ЖКУ \"Белогорск\"","4243015398","424301001","02-09-2003 00:00:00","26-05-2023 00:00:00","VS"]
[59,"2655","Кемеровская область","28954358","МУП КГО \"УКВС\"","4222015220","422201001","10-10-2014 00:00:00","02-11-2021 00:00:00","VS"]
[60,"2655","Кемеровская область","28511994","МУП ОГО \"Водоканал\"","4222014989","422201001","28-05-2014 00:00:00","20-09-2022 00:00:00","VS"]
[61,"2655","Кемеровская область","30435868","МУП ПМР \"Теплоком\"","4223095814","422301001","07-12-2015 00:00:00","01-03-2020 00:00:00","VS"]
[62,"2655","Кемеровская область","28254166","МУП ПМР \"Тепломир\"","4223060667","422301001","10-07-2013 00:00:00",null,"VS"]
[63,"2655","Кемеровская область","31159337","МУП бытового обслуживания","4244000281","421301001","17-07-1996 00:00:00","27-05-2019 00:00:00","VS"]
[64,"2655","Кемеровская область","28976969","Мариинская нефтеперекачивающая станция филиала \"Новосибирскок РНУ\" АО \"Транснефть - Западная Сибирь\"","5502020634","421303001","15-06-1994 00:00:00",null,"VS"]
[65,"2655","Кемеровская область","26472837","ОАО \"Ваганово\"","4240002697","424001001","03-09-2002 00:00:00",null,"VS"]
[66,"2655","Кемеровская область","26356896","ОАО \"Гурьевский металлургический завод\"","4204000253","421650001","12-05-1996 00:00:00",null,"VS"]
[67,"2655","Кемеровская область","26427858","ОАО \"ИжморВодСтрой\"","4246009988","424601001","28-05-2008 00:00:00","01-03-2020 00:00:00","VS"]
[68,"2655","Кемеровская область","26322895","ОАО «СКЭК»","4205153492","420501001","01-04-2008 00:00:00",null,"VS"]
[69,"2655","Кемеровская область","28119331","ООО \"АВК ПЛЮС\"","4205252430","420501001","05-03-2013 00:00:00",null,"VS"]
[70,"2655","Кемеровская область","26473644","ООО \"АВК\"","4246009378","424601001","19-02-2008 00:00:00","21-12-2020 00:00:00","VS"]
[71,"2655","Кемеровская область","26567329","ООО \"Агросервис\"","4238015106","421701001","22-11-2003 00:00:00",null,"VS"]
[72,"2655","Кемеровская область","26567354","ООО \"Благоустройство\"","4246006754","424601001","07-04-2006 00:00:00","27-10-2022 00:00:00","VS"]
[73,"2655","Кемеровская область","26428034","ООО \"ВКУ\"","4212427514","421201001","11-04-2005 00:00:00","01-03-2020 00:00:00","VS"]
[74,"2655","Кемеровская область","28817194","ООО \"ВКХ\"","4252005780","425201001","12-12-2013 00:00:00","01-01-2020 00:00:00","VS"]
[75,"2655","Кемеровская область","30988389","ООО \"ВОДОРЕСУРС\"","4253033332","425301001","31-03-2016 00:00:00",null,"VS"]
[76,"2655","Кемеровская область","27886900","ООО \"Веста плюс\"","4223057390","422301001","21-06-2012 00:00:00","01-03-2020 00:00:00","VS"]
[77,"2655","Кемеровская область","31356597","ООО \"ВодСнаб\"","4230030215","423001001","02-10-2015 00:00:00",null,"VS"]
[78,"2655","Кемеровская область","26567176","ООО \"Вода\"","4201008159","424601001","08-08-2002 00:00:00","22-05-2023 00:00:00","VS"]
[79,"2655","Кемеровская область","26427834","ООО \"Водоканал\"","4246009561","424601001","26-02-2008 00:00:00","29-06-2023 00:00:00","VS"]
[80,"2655","Кемеровская область","26427890","ООО \"Водоканал\"","4212027153","421201001","30-07-2008 00:00:00","31-07-2023 00:00:00","VS"]
[81,"2655","Кемеровская область","28869965","ООО \"Водоканал\"","4217166136","421701001","24-11-2014 00:00:00",null,"VS"]
[82,"2655","Кемеровская область","31215010","ООО \"Водоканал\"","4246021953","424601001","28-05-2018 00:00:00",null,"VS"]
[83,"2655","Кемеровская область","31336226","ООО \"Водоканал\"","4252012548","425201001","04-08-2016 00:00:00",null,"VS"]
[84,"2655","Кемеровская область","31022521","ООО \"Водоканал\"","4252014295","425201001","27-09-2017 00:00:00",null,"VS"]
[85,"2655","Кемеровская область","28452863","ООО \"Водоканал\"","4253018285","425301001","20-11-2013 00:00:00",null,"VS"]
[86,"2655","Кемеровская область","26427946","ООО \"Водопроводные сети\"","4213007304","421301001","26-03-2008 00:00:00","01-03-2020 00:00:00","VS"]
[87,"2655","Кемеровская область","27391966","ООО \"Водоснабжение\"","4252001828","425201001","28-07-2011 00:00:00","18-01-2023 00:00:00","VS"]
[88,"2655","Кемеровская область","27336388","ООО \"ГД санаторий имени \"60-летия Кузбасса\"","4218025530","421801001","15-04-2004 00:00:00","18-05-2022 00:00:00","VS"]
[89,"2655","Кемеровская область","30373418","ООО \"Горводоканал\"","4202050033","420201001","21-10-2015 00:00:00",null,"VS"]
[90,"2655","Кемеровская область","28136671","ООО \"Горводоканал\"","5406737355","540501001","20-03-2013 00:00:00",null,"VS"]
[91,"2655","Кемеровская область","31573961","ООО \"Гурьевск-Сталь\"","4202050643","420201001","01-04-2016 00:00:00",null,"VS"]
[92,"2655","Кемеровская область","26427930","ООО \"ЖКУ \"Надежда\"","4213004920","421301001","13-07-2004 00:00:00","20-12-2020 00:00:00","VS"]
[93,"2655","Кемеровская область","26476793","ООО \"ЖКХ Тамбар\"","4243006153","424301001","27-11-2007 00:00:00",null,"VS"]
[94,"2655","Кемеровская область","26356925","ООО \"ЖКХ с. Тараданово\"","4212004950","421201001","01-12-2005 00:00:00","01-03-2020 00:00:00","VS"]
[95,"2655","Кемеровская область","29645515","ООО \"ЗЖБК-Сервис+\"","4217164072","421701001","13-08-2014 00:00:00",null,"VS"]
[96,"2655","Кемеровская область","28509720","ООО \"Завод \"Горэкс-Светотехника\"","4223027701","771501001","09-10-2012 00:00:00",null,"VS"]
[97,"2655","Кемеровская область","31527562","ООО \"ИНТЕГРАЛ\"","7707422881","770701001","19-11-2018 00:00:00",null,"VS"]
[98,"2655","Кемеровская область","26476936","ООО \"Ивановское ЖКХ\"","4213006678","421301001","05-02-2007 00:00:00","28-01-2021 00:00:00","VS"]
[99,"2655","Кемеровская область","30950350","ООО \"Ижморская ТСК\"","4246021343","424601001","07-06-2017 00:00:00",null,"VS"]
[100,"2655","Кемеровская область","30854705","ООО \"КВС\"","4223104956","422301001","17-08-2016 00:00:00",null,"VS"]
[101,"2655","Кемеровская область","31656254","ООО \"КК-ИНВЕСТ\"","1901133713","190101001","03-03-2017 00:00:00",null,"VS"]
[102,"2655","Кемеровская область","28270197","ООО \"КРК-Ижморский\"","4205267517","420501001","04-06-2013 00:00:00","19-06-2020 00:00:00","VS"]
[103,"2655","Кемеровская область","26427844","ООО \"КомСервис\"","4217065924","421701001","01-07-2004 00:00:00",null,"VS"]
[104,"2655","Кемеровская область","27658715","ООО \"Коммунальные сети горы Зелёной\"","4228007586","422801001","05-12-2002 00:00:00",null,"VS"]
[105,"2655","Кемеровская область","28221643","ООО \"Компания \"Энергопромсервис\"","4205250721","420501001","14-09-2012 00:00:00","11-12-2020 00:00:00","VS"]
[106,"2655","Кемеровская область","28977055","ООО \"Комресурс\"","4202049013","420201001","05-03-2015 00:00:00","07-08-2020 00:00:00","VS"]
[107,"2655","Кемеровская область","27841462","ООО \"Комфорт - сервис\"","4212032523","421201001","07-06-2011 00:00:00","01-03-2020 00:00:00","VS"]
[108,"2655","Кемеровская область","27822745","ООО \"Мариинский спиртовой комбинат\"","4213009781","421301001","28-05-2012 00:00:00","31-08-2020 00:00:00","VS"]
[109,"2655","Кемеровская область","31424033","ООО \"НТСК\"","5406993045","540601001",null,null,"VS"]
[110,"2655","Кемеровская область","31651536","ООО \"ПК \"Юргинский машзавод\"","4230033216","423001001","18-04-2019 00:00:00",null,"VS"]
[111,"2655","Кемеровская область","26653062","ООО \"ППС Колмогоровский\"","4246016953","424601001","11-05-2010 00:00:00","01-03-2020 00:00:00","VS"]
[112,"2655","Кемеровская область","26356931","ООО \"Панфиловец\"","4212021835","421201001","24-04-2002 00:00:00",null,"VS"]
[113,"2655","Кемеровская область","26473636","ООО \"Потенциал\"","4212029048","421201001",null,"01-03-2020 00:00:00","VS"]
[114,"2655","Кемеровская область","30848646","ООО \"Програнд\"","7702549732","420501001","11-01-2005 00:00:00",null,"VS"]
[115,"2655","Кемеровская область","26428026","ООО \"Промышленновские коммунальные системы\"","4240009967","424001001","25-12-2008 00:00:00",null,"VS"]
[116,"2655","Кемеровская область","30983894","ООО \"РЭСК\"","4202050940","420201001","24-06-2016 00:00:00",null,"VS"]
[117,"2655","Кемеровская область","28151808","ООО \"Ресурс-Гарант\"","4213010240","421301001","21-03-2013 00:00:00",null,"VS"]
[118,"2655","Кемеровская область","31541617","ООО \"СДС\"","4229006578","422901001","03-03-2005 00:00:00",null,"VS"]
[119,"2655","Кемеровская область","26356987","ООО \"СПК \"Чистогорский\"","4238013194","423801001",null,null,"VS"]
[120,"2655","Кемеровская область","31040886","ООО \"СТГК\"","4217182593","421701001","22-03-2017 00:00:00",null,"VS"]
[121,"2655","Кемеровская область","28112120","ООО \"Санаторный коммунальный комплекс\"","4223058869","422301001","29-11-2012 00:00:00","01-01-2019 00:00:00","VS"]
[122,"2655","Кемеровская область","26897760","ООО \"Сибирь-Водоканал 2\"","4202041053","420201001","17-03-2011 00:00:00","01-03-2020 00:00:00","VS"]
[123,"2655","Кемеровская область","28829450","ООО \"СтройТехАгро\"","4205247334","420501001","12-07-2012 00:00:00",null,"VS"]
[124,"2655","Кемеровская область","26356891","ООО \"ТВК\"","4202026697","420201001","02-09-2005 00:00:00",null,"VS"]
[125,"2655","Кемеровская область","28284204","ООО \"ТВК\"","4230006156","423001001","20-11-2012 00:00:00",null,"VS"]
[126,"2655","Кемеровская область","31241637","ООО \"ТВКХ\"","4205375960","424601001","14-12-2018 00:00:00",null,"VS"]
[127,"2655","Кемеровская область","27978219","ООО \"Тепло\"","4246008896","424601001","18-12-2007 00:00:00",null,"VS"]
[128,"2655","Кемеровская область","28819708","ООО \"Тепло\"","4252000648","425201001","15-11-2010 00:00:00",null,"VS"]
[129,"2655","Кемеровская область","26427956","ООО \"Тепло-Водо-Канал\"","4202035660","420201001","10-10-2008 00:00:00","27-03-2020 00:00:00","VS"]
[130,"2655","Кемеровская область","26356937","ООО \"Тепло-энергетические предприятия\"","4212427497","421201001","11-04-2005 00:00:00",null,"VS"]
[131,"2655","Кемеровская область","31221182","ООО \"Тепловик\"","4213012054","421301001","16-03-2018 00:00:00",null,"VS"]
[132,"2655","Кемеровская область","28982662","ООО \"Тепловик\"","4246019841","424601001","23-04-2015 00:00:00",null,"VS"]
[133,"2655","Кемеровская область","26427866","ООО \"Теплосервис\"","4202030485","420201001","25-01-2007 00:00:00","01-03-2020 00:00:00","VS"]
[134,"2655","Кемеровская область","27880847","ООО \"Теплоснаб\"","4230004328","423001001","15-06-2012 00:00:00","13-06-2023 00:00:00","VS"]
[135,"2655","Кемеровская область","30872315","ООО \"Теплоснаб\"","4205325631","420501001","04-04-2016 00:00:00",null,"VS"]
[136,"2655","Кемеровская область","27542212","ООО \"Техстрой\"","4212032682","421201001","01-07-2011 00:00:00","01-03-2020 00:00:00","VS"]
[137,"2655","Кемеровская область","26356983","ООО \"УК \"Энерготранс-Агро\"","4230021588","423001001","29-05-2006 00:00:00",null,"VS"]
[138,"2655","Кемеровская область","30352093","ООО \"УК ЖКХ\"","4228010469","422801001","11-12-2006 00:00:00","05-02-2021 00:00:00","VS"]
[139,"2655","Кемеровская область","26356899","ООО \"УКиТС\"","4204007393","420401001","24-09-2007 00:00:00",null,"VS"]
[140,"2655","Кемеровская область","26356932","ООО \"Шанс\"","4212025734","421201001","17-01-2008 00:00:00",null,"VS"]
[141,"2655","Кемеровская область","26356972","ООО \"Шерегеш-Энерго\"","4228008050","422801001","16-06-2003 00:00:00",null,"VS"]
[142,"2655","Кемеровская область","28270293","ООО \"ЭК\"","4202044463","420201001","21-09-2012 00:00:00",null,"VS"]
[143,"2655","Кемеровская область","30992391","ООО \"ЭнергоТранзит\"","5406603432","421701001","17-10-2017 00:00:00",null,"VS"]
[144,"2655","Кемеровская область","28873362","ООО \"Энергоресурс\"","4205284720","420501001","26-03-2014 00:00:00",null,"VS"]
[145,"2655","Кемеровская область","28976681","ООО \"Энергосервис г. Гурьевска\"","4202049045","420201001","19-03-2015 00:00:00",null,"VS"]
[146,"2655","Кемеровская область","31431661","ООО \"ЮЗК\"","2466232547","540401001",null,null,"VS"]
[147,"2655","Кемеровская область","26427828","ООО \"Юрга Водтранс\"","4230020538","423001001","01-12-2005 00:00:00",null,"VS"]
[148,"2655","Кемеровская область","26427908","ООО \"Ясная поляна\"","4223048846","422301001","11-03-2008 00:00:00","20-11-2020 00:00:00","VS"]
[149,"2655","Кемеровская область","26428030","ООО\"Водоснабжение\"","4202023801","420201001","14-11-2003 00:00:00",null,"VS"]
[150,"2655","Кемеровская область","31253284","ПАО \"Южный Кузбасс\"","4214000608","997550001",null,null,"VS"]
[151,"2655","Кемеровская область",null,"РЕГИОНАЛЬНАЯ ЭНЕРГЕТИЧЕСКАЯ КОМИССИЯ КУЗБАССА","4207044509","420501001",null,null,"VS"]
[152,"2655","Кемеровская область","30903763","ФГБУ \"ЦЖКУ\" МИНОБОРОНЫ РОССИИ","7729314745","770101001",null,null,"VS"]
[153,"2655","Кемеровская область","26356939","ФГКУ комбинат \"Алтай\" Росрезерва","4213001052","421301001","19-07-1994 00:00:00",null,"VS"]
[154,"2655","Кемеровская область","26427862","ФГУП \"ПО  Прогресс\"","4210000692","420501001","21-02-2003 00:00:00",null,"VS"]
[155,"2655","Кемеровская область","30984255","ФКУ КП-3 ГУФСИН России по Кемеровской области","4244001260","421301001","22-05-1995 00:00:00",null,"VS"]
[156,"2655","Кемеровская область","26987290","Филиал \"Новосибирский\" ОАО \"Славянка\"","7702707386","420543001","30-04-2009 00:00:00","10-02-2021 00:00:00","VS"]
[157,"2655","Кемеровская область","26520873","Филиал АО \"УК \"Кузбассразрезуголь\" \"Талдинский угольный разрез\"","4205049090","423802002","05-05-2003 00:00:00",null,"VS"]
[158,"2655","Кемеровская область","26987067","Филиал АО \"УК \"Кузбассразрезуголь\" - \"Моховский угольный разрез\"","4205049090","421202001","05-05-2003 00:00:00",null,"VS"]
[159,"2655","Кемеровская область","30914574","Филиал ФГБУ \"ЦЖКУ\" МИНОБОРОНЫ РОССИИ (по ЦВО)","7729314745","667043001",null,null,"VS"]
[1,"2655","Кемеровская область","26560525","АО \"ГУ ЖКХ\"","5116000922","511601001","13-05-2009 00:00:00",null,"VO"]
[2,"2655","Кемеровская область","30401246","АО \"ГУ ЖКХ\"","5116000922","540645001",null,null,"VO"]
[3,"2655","Кемеровская область","26356953","АО \"ЕВРАЗ ЗСМК\"","4218000951","421801001","30-11-1992 00:00:00",null,"VO"]
[4,"2655","Кемеровская область","26356915","АО \"Знамя\"","4211002950","421101001","21-06-1994 00:00:00",null,"VO"]
[5,"2655","Кемеровская область","27804990","АО \"Кемеровская генерация\"","4205243192","420501001","28-04-2012 00:00:00",null,"VO"]
[6,"2655","Кемеровская область","27857950","АО \"Кузбасская птицефабрика\"","4238019693","423801001","02-10-2006 00:00:00",null,"VO"]
[7,"2655","Кемеровская область","26356963","АО \"ПО Водоканал\"","4223030694","422301001","06-11-2002 00:00:00",null,"VO"]
[8,"2655","Кемеровская область","26322889","АО \"РУСАЛ Новокузнецкий Алюминиевый Завод\"","4221000535","997550001","25-09-2002 00:00:00",null,"VO"]
[9,"2655","Кемеровская область","27820148","АО \"СУЭК-Кузбасс\"","4212024138","421201001","07-05-2007 00:00:00",null,"VO"]
[10,"2655","Кемеровская область","26427149","АО \"Транснефть-Западная Сибирь\"","5502020634","546050001",null,null,"VO"]
[11,"2655","Кемеровская область","26356936","АО \"Энергетическая компания\"","4212127479","421201001","20-09-2004 00:00:00",null,"VO"]
[12,"2655","Кемеровская область","28976938","Анжеро-Судженская ЛПДС филиала \"Новосибирское РНУ\" АО \"Транснефть - Западная Сибирь\"","5502020634","424603001","15-06-1994 00:00:00",null,"VO"]
[13,"2655","Кемеровская область","31359053","ИП Чайковский В.Л.","420300472840","отсутствует","17-10-2014 00:00:00",null,"VO"]
[14,"2655","Кемеровская область","28823439","Индивидуальный предприниматель Зубарева Евгения Анатольевна","420508603852","отсутствует","16-03-2009 00:00:00",null,"VO"]
[15,"2655","Кемеровская область","26322867","КАО \"Азот\"","4205000908","997550001","11-07-2001 00:00:00",null,"VO"]
[16,"2655","Кемеровская область","26824396","Кузбасский территориальный участок ЗСД по тепловодоснабжению - СП ЦД по тепловодоснабжению - филиал ОАО \"РЖД\"","7708503727","540775040",null,null,"VO"]
[17,"2655","Кемеровская область","30365193","МБУ \"Кемдор\"","4205159600","420501001","27-06-2008 00:00:00",null,"VO"]
[18,"2655","Кемеровская область","31232672","МКП \"ВКХ\"","4217191774","421701001","15-11-2018 00:00:00",null,"VO"]
[19,"2655","Кемеровская область","28751671","МКП \"Водоснаб НМР\"","4252003568","425201001","16-07-2012 00:00:00",null,"VO"]
[20,"2655","Кемеровская область","27978231","МКП \"ЖКХ\"","4230005515","423001001","18-09-2012 00:00:00",null,"VO"]
[21,"2655","Кемеровская область","30808700","МКП \"КОМФОРТ\"","4213011357","421301001","02-03-2016 00:00:00",null,"VO"]
[22,"2655","Кемеровская область","31319221","МКП \"КТВС НМР\"","4252015404","425201001","05-06-2019 00:00:00",null,"VO"]
[23,"2655","Кемеровская область","27819046","МКП \"КТС Новокузнецкого района\"","4252003487","425201001","26-06-2012 00:00:00",null,"VO"]
[24,"2655","Кемеровская область","27953146","МКП \"Коммунальные системы\"","4246017964","424601001","01-11-2012 00:00:00","23-08-2023 00:00:00","VO"]
[25,"2655","Кемеровская область","30353027","МКП \"ТВК\"","4246019810","424601001","21-05-2015 00:00:00",null,"VO"]
[26,"2655","Кемеровская область","31087651","МКП \"Тепло\"","4230032501","423001001","27-02-2018 00:00:00",null,"VO"]
[27,"2655","Кемеровская область","31343443","МКП ММО \"Ресурс\"","4213012417","421301001","26-07-2019 00:00:00",null,"VO"]
[28,"2655","Кемеровская область","28221445","МП \"Водоканал\" Тайгинского городского округа","4246018157","424601001",null,null,"VO"]
[29,"2655","Кемеровская область","27542200","МП \"Жильё\"","4246000576","424601001","14-09-2011 00:00:00",null,"VO"]
[30,"2655","Кемеровская область","31329806","МП \"Кристалл\"","4223124159","422301001","27-05-2019 00:00:00",null,"VO"]
[31,"2655","Кемеровская область","27980182","МП \"ССК\"","4217146362","421701001","24-07-2012 00:00:00",null,"VO"]
[32,"2655","Кемеровская область","31716615","МП ПЖРЭТ Рудничного района","4205003472","420501001","25-09-2002 00:00:00",null,"VO"]
[33,"2655","Кемеровская область","26530090","МУП \"Водоканал\"","4214031839","421401001","26-03-2010 00:00:00","07-09-2020 00:00:00","VO"]
[34,"2655","Кемеровская область","31310826","МУП \"Водоканал\"","4213012270","421301001","01-02-2019 00:00:00",null,"VO"]
[35,"2655","Кемеровская область","31159399","МУП \"Гарант\"","4213012128","421301001","29-12-2017 00:00:00","07-04-2023 00:00:00","VO"]
[36,"2655","Кемеровская область","31332720","МУП \"Гарант\" КГО","4202050210","420201001","04-12-2015 00:00:00",null,"VO"]
[37,"2655","Кемеровская область","28980595","МУП \"ЖКХ Мариинского муниципального района\"","4213011068","421301001","22-05-2015 00:00:00",null,"VO"]
[38,"2655","Кемеровская область","27826700","МУП \"Жилищно-коммунальное управление Кемеровского муниципального округа\"","4205242791","420501001","26-04-2012 00:00:00",null,"VO"]
[39,"2655","Кемеровская область","31308226","МУП \"ИЖКХ\" Ижморского муниципального округа\"","4246021336","424601001","01-06-2017 00:00:00",null,"VO"]
[40,"2655","Кемеровская область","31284269","МУП \"Комфорт\"","4230026593","423001001","29-06-2009 00:00:00",null,"VO"]
[41,"2655","Кемеровская область","31241680","МУП \"Междуреченский Водоканал\"","4214040174","421401001","26-10-2018 00:00:00",null,"VO"]
[42,"2655","Кемеровская область","28221676","МУП \"Сервис коммунальных систем\"","4213010226","421301001","13-03-2013 00:00:00","20-12-2021 00:00:00","VO"]
[43,"2655","Кемеровская область","31579664","МУП \"ТЖКХ\" Тисульского муниципального района\"","4213012375","421301001","10-07-2019 00:00:00",null,"VO"]
[44,"2655","Кемеровская область","28503043","МУП \"УК ЖКХ\"","4222014844","422201001","03-12-2013 00:00:00",null,"VO"]
[45,"2655","Кемеровская область","30824381","МУП \"Энерго-Сервис\"","4246019665","424601001","22-07-2016 00:00:00",null,"VO"]
[46,"2655","Кемеровская область","31218522","МУП \"ЯТО\" Яйского муниципального округа","4246022072","424601001","24-09-2018 00:00:00",null,"VO"]
[47,"2655","Кемеровская область","26322887","МУП «ЖКХ» Новокузнецкого района","4238015970","423801001","05-07-2004 00:00:00",null,"VO"]
[48,"2655","Кемеровская область","31003143","МУП Гурьевского муниципального района \"УК ЖКХ\"","4202047136","420201001","13-01-2014 00:00:00",null,"VO"]
[49,"2655","Кемеровская область","26357006","МУП ЖКУ \"Белогорск\"","4243015398","424301001","02-09-2003 00:00:00","26-05-2023 00:00:00","VO"]
[50,"2655","Кемеровская область","28954364","МУП КГО \"УКВО\"","4222015213","422201001","10-10-2014 00:00:00","29-03-2022 00:00:00","VO"]
[51,"2655","Кемеровская область","28954358","МУП КГО \"УКВС\"","4222015220","422201001","10-10-2014 00:00:00","02-11-2021 00:00:00","VO"]
[52,"2655","Кемеровская область","28511994","МУП ОГО \"Водоканал\"","4222014989","422201001","28-05-2014 00:00:00","20-09-2022 00:00:00","VO"]
[53,"2655","Кемеровская область","30435868","МУП ПМР \"Теплоком\"","4223095814","422301001","07-12-2015 00:00:00","01-03-2020 00:00:00","VO"]
[54,"2655","Кемеровская область","28254166","МУП ПМР \"Тепломир\"","4223060667","422301001","10-07-2013 00:00:00",null,"VO"]
[55,"2655","Кемеровская область","31159337","МУП бытового обслуживания","4244000281","421301001","17-07-1996 00:00:00","27-05-2019 00:00:00","VO"]
[56,"2655","Кемеровская область","28976969","Мариинская нефтеперекачивающая станция филиала \"Новосибирскок РНУ\" АО \"Транснефть - Западная Сибирь\"","5502020634","421303001","15-06-1994 00:00:00",null,"VO"]
[57,"2655","Кемеровская область","26356896","ОАО \"Гурьевский металлургический завод\"","4204000253","421650001","12-05-1996 00:00:00",null,"VO"]
[58,"2655","Кемеровская область","26427858","ОАО \"ИжморВодСтрой\"","4246009988","424601001","28-05-2008 00:00:00","01-03-2020 00:00:00","VO"]
[59,"2655","Кемеровская область","26567308","ОАО \"СУЭК-Кузбасс\" шахта Полысаевская","4212024138","424901001","07-05-2007 00:00:00",null,"VO"]
[60,"2655","Кемеровская область","26322895","ОАО «СКЭК»","4205153492","420501001","01-04-2008 00:00:00",null,"VO"]
[61,"2655","Кемеровская область","26473644","ООО \"АВК\"","4246009378","424601001","19-02-2008 00:00:00","21-12-2020 00:00:00","VO"]
[62,"2655","Кемеровская область","28954370","ООО \"Белсток\"","4202047785","420201001","28-04-2014 00:00:00",null,"VO"]
[63,"2655","Кемеровская область","26567354","ООО \"Благоустройство\"","4246006754","424601001","07-04-2006 00:00:00","27-10-2022 00:00:00","VO"]
[64,"2655","Кемеровская область","26428034","ООО \"ВКУ\"","4212427514","421201001","11-04-2005 00:00:00","01-03-2020 00:00:00","VO"]
[65,"2655","Кемеровская область","28817194","ООО \"ВКХ\"","4252005780","425201001","12-12-2013 00:00:00","01-01-2020 00:00:00","VO"]
[66,"2655","Кемеровская область","30988389","ООО \"ВОДОРЕСУРС\"","4253033332","425301001","31-03-2016 00:00:00",null,"VO"]
[67,"2655","Кемеровская область","27886900","ООО \"Веста плюс\"","4223057390","422301001","21-06-2012 00:00:00","01-03-2020 00:00:00","VO"]
[68,"2655","Кемеровская область","31356597","ООО \"ВодСнаб\"","4230030215","423001001","02-10-2015 00:00:00",null,"VO"]
[69,"2655","Кемеровская область","26567176","ООО \"Вода\"","4201008159","424601001","08-08-2002 00:00:00","22-05-2023 00:00:00","VO"]
[70,"2655","Кемеровская область","26427834","ООО \"Водоканал\"","4246009561","424601001","26-02-2008 00:00:00","29-06-2023 00:00:00","VO"]
[71,"2655","Кемеровская область","26427890","ООО \"Водоканал\"","4212027153","421201001","30-07-2008 00:00:00","31-07-2023 00:00:00","VO"]
[72,"2655","Кемеровская область","28869965","ООО \"Водоканал\"","4217166136","421701001","24-11-2014 00:00:00",null,"VO"]
[73,"2655","Кемеровская область","31215010","ООО \"Водоканал\"","4246021953","424601001","28-05-2018 00:00:00",null,"VO"]
[74,"2655","Кемеровская область","31336226","ООО \"Водоканал\"","4252012548","425201001","04-08-2016 00:00:00",null,"VO"]
[75,"2655","Кемеровская область","28452863","ООО \"Водоканал\"","4253018285","425301001","20-11-2013 00:00:00",null,"VO"]
[76,"2655","Кемеровская область","28113313","ООО \"Водокомплекс\"","5406734820","540501001","28-02-2013 00:00:00",null,"VO"]
[77,"2655","Кемеровская область","26427940","ООО \"Водоотведение\"","4252001810","425201001","01-01-2012 00:00:00","18-01-2023 00:00:00","VO"]
[78,"2655","Кемеровская область","26427946","ООО \"Водопроводные сети\"","4213007304","421301001","26-03-2008 00:00:00","01-03-2020 00:00:00","VO"]
[79,"2655","Кемеровская область","27336388","ООО \"ГД санаторий имени \"60-летия Кузбасса\"","4218025530","421801001","15-04-2004 00:00:00","18-05-2022 00:00:00","VO"]
[80,"2655","Кемеровская область","30373418","ООО \"Горводоканал\"","4202050033","420201001","21-10-2015 00:00:00",null,"VO"]
[81,"2655","Кемеровская область","28136671","ООО \"Горводоканал\"","5406737355","540501001","20-03-2013 00:00:00",null,"VO"]
[82,"2655","Кемеровская область","31573961","ООО \"Гурьевск-Сталь\"","4202050643","420201001","01-04-2016 00:00:00",null,"VO"]
[83,"2655","Кемеровская область","26427930","ООО \"ЖКУ \"Надежда\"","4213004920","421301001","13-07-2004 00:00:00","20-12-2020 00:00:00","VO"]
[84,"2655","Кемеровская область","29645515","ООО \"ЗЖБК-Сервис+\"","4217164072","421701001","13-08-2014 00:00:00",null,"VO"]
[85,"2655","Кемеровская область","28509720","ООО \"Завод \"Горэкс-Светотехника\"","4223027701","771501001","09-10-2012 00:00:00",null,"VO"]
[86,"2655","Кемеровская область","30950350","ООО \"Ижморская ТСК\"","4246021343","424601001","07-06-2017 00:00:00",null,"VO"]
[87,"2655","Кемеровская область","26428082","ООО \"Инженерный центр\"","4205058070","420501001","03-12-2003 00:00:00",null,"VO"]
[88,"2655","Кемеровская область","28270197","ООО \"КРК-Ижморский\"","4205267517","420501001","04-06-2013 00:00:00","19-06-2020 00:00:00","VO"]
[89,"2655","Кемеровская область","30439108","ООО \"КХ\"","4223096575","422301001","09-02-2016 00:00:00",null,"VO"]
[90,"2655","Кемеровская область","27658715","ООО \"Коммунальные сети горы Зелёной\"","4228007586","422801001","05-12-2002 00:00:00",null,"VO"]
[91,"2655","Кемеровская область","28221643","ООО \"Компания \"Энергопромсервис\"","4205250721","420501001","14-09-2012 00:00:00","11-12-2020 00:00:00","VO"]
[92,"2655","Кемеровская область","28977055","ООО \"Комресурс\"","4202049013","420201001","05-03-2015 00:00:00","07-08-2020 00:00:00","VO"]
[93,"2655","Кемеровская область","27822745","ООО \"Мариинский спиртовой комбинат\"","4213009781","421301001","28-05-2012 00:00:00","31-08-2020 00:00:00","VO"]
[94,"2655","Кемеровская область","27838991","ООО \"ОФ \"Прокопьевскуголь\"","4223036696","422301001","21-07-2004 00:00:00",null,"VO"]
[95,"2655","Кемеровская область","26653062","ООО \"ППС Колмогоровский\"","4246016953","424601001","11-05-2010 00:00:00","01-03-2020 00:00:00","VO"]
[96,"2655","Кемеровская область","26356931","ООО \"Панфиловец\"","4212021835","421201001","24-04-2002 00:00:00",null,"VO"]
[97,"2655","Кемеровская область","26473636","ООО \"Потенциал\"","4212029048","421201001",null,"01-03-2020 00:00:00","VO"]
[98,"2655","Кемеровская область","30848646","ООО \"Програнд\"","7702549732","420501001","11-01-2005 00:00:00",null,"VO"]
[99,"2655","Кемеровская область","26428026","ООО \"Промышленновские коммунальные системы\"","4240009967","424001001","25-12-2008 00:00:00",null,"VO"]
[100,"2655","Кемеровская область","30872369","ООО \"РСО УК Заповедная\"","4250011154","425001001","22-08-2016 00:00:00",null,"VO"]
[101,"2655","Кемеровская область","30983894","ООО \"РЭСК\"","4202050940","420201001","24-06-2016 00:00:00",null,"VO"]
[102,"2655","Кемеровская область","28151808","ООО \"Ресурс-Гарант\"","4213010240","421301001","21-03-2013 00:00:00",null,"VO"]
[103,"2655","Кемеровская область","31541617","ООО \"СДС\"","4229006578","422901001","03-03-2005 00:00:00",null,"VO"]
[104,"2655","Кемеровская область","31456803","ООО \"СЕТИ-КОМ\"","4246022410","424601001","12-07-2019 00:00:00",null,"VO"]
[105,"2655","Кемеровская область","26356987","ООО \"СПК \"Чистогорский\"","4238013194","423801001",null,null,"VO"]
[106,"2655","Кемеровская область","31040886","ООО \"СТГК\"","4217182593","421701001","22-03-2017 00:00:00",null,"VO"]
[107,"2655","Кемеровская область","27951927","ООО \"Сервис услуги\"","4213009774","540501001","12-11-2012 00:00:00","11-03-2020 00:00:00","VO"]
[108,"2655","Кемеровская область","26897760","ООО \"Сибирь-Водоканал 2\"","4202041053","420201001","17-03-2011 00:00:00","01-03-2020 00:00:00","VO"]
[109,"2655","Кемеровская область","26356891","ООО \"ТВК\"","4202026697","420201001","02-09-2005 00:00:00",null,"VO"]
[110,"2655","Кемеровская область","28284204","ООО \"ТВК\"","4230006156","423001001","20-11-2012 00:00:00",null,"VO"]
[111,"2655","Кемеровская область","31241637","ООО \"ТВКХ\"","4205375960","424601001","14-12-2018 00:00:00",null,"VO"]
[112,"2655","Кемеровская область","27978219","ООО \"Тепло\"","4246008896","424601001","18-12-2007 00:00:00",null,"VO"]
[113,"2655","Кемеровская область","28819708","ООО \"Тепло\"","4252000648","425201001","15-11-2010 00:00:00",null,"VO"]
[114,"2655","Кемеровская область","26427956","ООО \"Тепло-Водо-Канал\"","4202035660","420201001","10-10-2008 00:00:00","27-03-2020 00:00:00","VO"]
[115,"2655","Кемеровская область","26356937","ООО \"Тепло-энергетические предприятия\"","4212427497","421201001","11-04-2005 00:00:00",null,"VO"]
[116,"2655","Кемеровская область","26427866","ООО \"Теплосервис\"","4202030485","420201001","25-01-2007 00:00:00","01-03-2020 00:00:00","VO"]
[117,"2655","Кемеровская область","27880847","ООО \"Теплоснаб\"","4230004328","423001001","15-06-2012 00:00:00","13-06-2023 00:00:00","VO"]
[118,"2655","Кемеровская область","30872315","ООО \"Теплоснаб\"","4205325631","420501001","04-04-2016 00:00:00",null,"VO"]
[119,"2655","Кемеровская область","27542212","ООО \"Техстрой\"","4212032682","421201001","01-07-2011 00:00:00","01-03-2020 00:00:00","VO"]
[120,"2655","Кемеровская область","26356983","ООО \"УК \"Энерготранс-Агро\"","4230021588","423001001","29-05-2006 00:00:00",null,"VO"]
[121,"2655","Кемеровская область","30352093","ООО \"УК ЖКХ\"","4228010469","422801001","11-12-2006 00:00:00","05-02-2021 00:00:00","VO"]
[122,"2655","Кемеровская область","26356899","ООО \"УКиТС\"","4204007393","420401001","24-09-2007 00:00:00",null,"VO"]
[123,"2655","Кемеровская область","26755694","ООО \"Управление канализационного хозяйства\"","4211024431","421101001","14-09-2010 00:00:00","22-07-2022 00:00:00","VO"]
[124,"2655","Кемеровская область","27969207","ООО \"Центральная ТЭЦ\"","4217148426","421701001","12-10-2012 00:00:00","25-07-2022 00:00:00","VO"]
[125,"2655","Кемеровская область","30837604","ООО \"Шалым\"","4228010412","422801001","07-12-2006 00:00:00",null,"VO"]
[126,"2655","Кемеровская область","26356932","ООО \"Шанс\"","4212025734","421201001","17-01-2008 00:00:00",null,"VO"]
[127,"2655","Кемеровская область","26356972","ООО \"Шерегеш-Энерго\"","4228008050","422801001","16-06-2003 00:00:00",null,"VO"]
[128,"2655","Кемеровская область","28270293","ООО \"ЭК\"","4202044463","420201001","21-09-2012 00:00:00",null,"VO"]
[129,"2655","Кемеровская область","28873362","ООО \"Энергоресурс\"","4205284720","420501001","26-03-2014 00:00:00",null,"VO"]
[130,"2655","Кемеровская область","28976681","ООО \"Энергосервис г. Гурьевска\"","4202049045","420201001","19-03-2015 00:00:00",null,"VO"]
[131,"2655","Кемеровская область","26427828","ООО \"Юрга Водтранс\"","4230020538","423001001","01-12-2005 00:00:00",null,"VO"]
[132,"2655","Кемеровская область","26356982","ООО \"Юргинский машиностроительный завод\"","4230020425","423001001","20-10-2005 00:00:00",null,"VO"]
[133,"2655","Кемеровская область","26427908","ООО \"Ясная поляна\"","4223048846","422301001","11-03-2008 00:00:00","20-11-2020 00:00:00","VO"]
[134,"2655","Кемеровская область","26428076","ООО\"БелГОС\"","4202023230","420201001","03-07-2003 00:00:00",null,"VO"]
[135,"2655","Кемеровская область","26428030","ООО\"Водоснабжение\"","4202023801","420201001","14-11-2003 00:00:00",null,"VO"]
[136,"2655","Кемеровская область","31253284","ПАО \"Южный Кузбасс\"","4214000608","997550001",null,null,"VO"]
[137,"2655","Кемеровская область",null,"РЕГИОНАЛЬНАЯ ЭНЕРГЕТИЧЕСКАЯ КОМИССИЯ КУЗБАССА","4207044509","420501001",null,null,"VO"]
[138,"2655","Кемеровская область","30903763","ФГБУ \"ЦЖКУ\" МИНОБОРОНЫ РОССИИ","7729314745","770101001",null,null,"VO"]
[139,"2655","Кемеровская область","26356914","ФГКУ комбинат \"Малахит\"","4209023208","420501001","30-11-1995 00:00:00",null,"VO"]
[140,"2655","Кемеровская область","26427862","ФГУП \"ПО  Прогресс\"","4210000692","420501001","21-02-2003 00:00:00",null,"VO"]
[141,"2655","Кемеровская область","26987290","Филиал \"Новосибирский\" ОАО \"Славянка\"","7702707386","420543001","30-04-2009 00:00:00","10-02-2021 00:00:00","VO"]
[142,"2655","Кемеровская область","26520873","Филиал АО \"УК \"Кузбассразрезуголь\" \"Талдинский угольный разрез\"","4205049090","423802002","05-05-2003 00:00:00",null,"VO"]
[143,"2655","Кемеровская область","26987067","Филиал АО \"УК \"Кузбассразрезуголь\" - \"Моховский угольный разрез\"","4205049090","421202001","05-05-2003 00:00:00",null,"VO"]
[144,"2655","Кемеровская область","30914574","Филиал ФГБУ \"ЦЖКУ\" МИНОБОРОНЫ РОССИИ (по ЦВО)","7729314745","667043001",null,null,"VO"]

{"sheet":"DICTIONARIES","index":43,"n_rows":97,"n_cols":3,"rows_kept":97,"cut":false,"hidden":true,"merged":[]}
["OPF_VALUE","SUBSIDIARY_LIST","DPR_LIST"]
["1 10 51 | Полные товарищества","Кемеровская ГРЭС"]
["1 10 64 | Товарищества на вере (коммандитные товарищества)","Кемеровская ТЭЦ","1-го водоподъёма г. Новокузнецк"]
["1 22 47 | Публичные акционерные общества","Филиал \"Новосибирский\"","1-го водоподъёма г. Прокопьевск"]
["1 22 67 | Непубличные акционерные общества",null,"Оказание услуг на территории: Беловский муниципальный район (ОКТМО: 32601000) - эксплуатация имущества по договору аренды"]
["1 23 00 | Общества с ограниченной ответственностью",null,"Оказание услуг на территории: Беловский муниципальный район (ОКТМО: 32601000) - эксплуатация имущества по концессионному соглашению"]
["1 30 00 | Хозяйственные партнерства",null,"Оказание услуг на территории: Кемеровский муниципальный округ (ОКТМО: 32507000) - д Сухово, п Металлплощадка"]
["1 41 00 | Сельскохозяйственные производственные кооперативы",null,"Оказание услуг на территории: Крапивинский муниципальный округ (ОКТМО: 32510000) - за исключением пгт Крапивинский, пгт Зеленогорский, с Борисово"]
["1 41 53 | Сельскохозяйственные артели (колхозы)",null,"Оказание услуг на территории: Крапивинский муниципальный округ (ОКТМО: 32510000) - пгт Крапивинский, пгт Зеленогорский, с Борисово"]
["1 41 54 | Рыболовецкие артели (колхозы)",null,"Оказание услуг на территории: Крапивинский муниципальный район (ОКТМО: 32610000)"]
["1 41 55 | Кооперативные хозяйства (коопхозы)",null,"Оказание услуг на территории: Крапивинский муниципальный район (ОКТМО: 32610000) - пгт Крапивинский, пгт Зеленогорский, с Борисово"]
["1 42 00 | Производственные кооперативы (кроме сельскохозяйственных производственных кооперативов)",null,"Оказание услуг на территории: Крапивинский муниципальный район (ОКТМО: 32610000) - пгт Крапивинский, пгт Зеленогорский, с Борисово (за исключением ул. Санаторная, № 1, № 3, № 9, ГАУ КО \"Санаторий Борисовский\", ул. Юбилейная, № 16, ул. Кирова, № 79, ул. Геологов, № 1а)"]
["1 53 00 | Крестьянские (фермерские) хозяйства",null,"Оказание услуг на территории: Крапивинский муниципальный район (ОКТМО: 32610000) - с Борисово (ул. Санаторная, № 1, № 3, № 9, ГАУ КО \"Санаторий Борисовский\", ул. Юбилейная, № 16, ул. Кирова, № 79, ул. Геологов, № 1а)"]
["1 90 00 | Прочие юридические лица, являющиеся коммерческими организациями",null,"Оказание услуг на территории: Мариинский муниципальный район (ОКТМО: 32616000) - имущество, переданное по концессионному соглашению"]
["2 01 01 | Гаражные и гаражно-строительные кооперативы",null,"Оказание услуг на территории: Прокопьевский муниципальный округ (ОКТМО: 32522000) - п Большая Талда"]
["2 01 02 | Жилищные или жилищно-строительные кооперативы",null,"Оказание услуг на территории: Прокопьевский муниципальный округ (ОКТМО: 32522000) - п Калачево"]
["2 01 03 | Жилищные накопительные кооперативы",null,"Оказание услуг на территории: Прокопьевский муниципальный округ (ОКТМО: 32522000) - п Ясная Поляна"]
["2 01 04 | Кредитные потребительские кооперативы",null,"Оказание услуг на территории: Прокопьевский муниципальный округ (ОКТМО: 32522000) - пгт Краснобродский"]
["2 01 05 | Кредитные потребительские кооперативы граждан",null,"Оказание услуг на территории: Прокопьевский муниципальный округ (ОКТМО: 32522000) - пгт Краснобродский, п Артышта"]
["2 01 06 | Кредитные кооперативы второго уровня",null,"Оказание услуг на территории: Прокопьевский муниципальный округ (ОКТМО: 32522000) - с Большая Талда"]
["2 01 07 | Потребительские общества",null,"Оказание услуг на территории: Прокопьевский муниципальный район (ОКТМО: 32622000) - Большеталдинское, Калачевское, Сафоновское, Терентьевское (с Большая Талда, с Малая Талда, с Тихоновка, с Терентьевское, с Серп и Молот)"]
["2 01 08 | Общества взаимного страхования",null,"Оказание услуг на территории: Прокопьевский муниципальный район (ОКТМО: 32622000) - Бурлаковское, Каменно-Ключевское, Кузбассское, Михайловское, Терентьевское (п Кольчигиз, п Чапаевский, п Ускатский), Трудармейское"]
["2 01 09 | Сельскохозяйственные потребительские перерабатывающие кооперативы",null,"Оказание услуг на территории: Прокопьевский муниципальный район (ОКТМО: 32622000) - сельское поселение Яснополянское"]
["2 01 10 | Сельскохозяйственные потребительские сбытовые (торговые) кооперативы",null,"Оказание услуг на территории: Промышленновский муниципальный район (ОКТМО: 32625000) - пгт Промышленная"]
["2 01 11 | Сельскохозяйственные потребительские обслуживающие кооперативы",null,"Оказание услуг на территории: Топкинский муниципальный округ (ОКТМО: 32531000) - ГЛД Топкинская, квартал 43"]
["2 01 12 | Сельскохозяйственные потребительские снабженческие кооперативы",null,"Оказание услуг на территории: Топкинский муниципальный округ (ОКТМО: 32531000) - г Топки"]
["2 01 15 | Сельскохозяйственные потребительские животноводческие кооперативы",null,"Оказание услуг на территории: Топкинский муниципальный округ (ОКТМО: 32531000) - населенные пункты, за исключением ГЛД Топкинская"]
["2 01 16 | Сельскохозяйственные потребительские растениеводческие кооперативы",null,"Оказание услуг на территории: Топкинский муниципальный район (ОКТМО: 32631000) - Топкинская Роща"]
["2 01 21 | Фонды проката",null,"Оказание услуг на территории: Топкинский муниципальный район (ОКТМО: 32631000) - сельские поселения"]
["2 02 01 | Политические партии",null,"Оказание услуг на территории: Яшкинский муниципальный округ (ОКТМО: 32546000) - имущество, переданное по договору аренды"]
["2 02 02 | Профсоюзные организации",null,"Оказание услуг на территории: Яшкинский муниципальный округ (ОКТМО: 32546000) - имущество, переданное по концессионному соглашению"]
["2 02 10 | Общественные движения",null,"Оказание услуг на территории: город Березовский (ОКТМО: 32710000) - г Березовский"]
["2 02 11 | Органы общественной самодеятельности",null,"Оказание услуг на территории: город Березовский (ОКТМО: 32710000) - г Ленинск-Кузнецкий, г Полысаево"]
["2 02 17 | Территориальные общественные самоуправления",null,"Оказание услуг на территории: город Березовский (ОКТМО: 32710000) - подвоз воды"]
["2 06 01 | Ассоциации (союзы) экономического взаимодействия субъектов Российской Федерации",null,"Оказание услуг на территории: город Кемерово (ОКТМО: 32701000) - г Кемерово"]
["2 06 03 | Советы муниципальных образований субъектов Российской Федерации",null,"Оказание услуг на территории: город Кемерово (ОКТМО: 32701000) - жилые районы Кедровка, Промышленновский"]
["2 06 04 | Союзы (ассоциации) кредитных кооперативов",null,"Оказание услуг на территории: город Кемерово (ОКТМО: 32701000) - подвоз воды"]
["2 06 05 | Союзы (ассоциации) кооперативов",null,"Оказание услуг на территории: город Ленинск-Кузнецкий (ОКТМО: 32719000) - г Ленинск-Кузнецкий"]
["2 06 06 | Союзы (ассоциации) общественных объединений",null,"Оказание услуг на территории: город Ленинск-Кузнецкий (ОКТМО: 32719000) - г Ленинск-Кузнецкий, г Полысаево"]
["2 06 07 | Союзы (ассоциации) общин малочисленных народов",null,"Оказание услуг на территории: город Междуреченск (ОКТМО: 32725000) - подвоз воды"]
["2 06 08 | Союзы потребительских обществ",null,"Оказание услуг на территории: город Новокузнецк (ОКТМО: 32731000) - посёлок Абагур-Лесной"]
["2 06 09 | Адвокатские палаты",null,"Оказание услуг на территории: город Полысаево (ОКТМО: 32732000) - г Ленинск-Кузнецкий, г Полысаево"]
["2 06 10 | Нотариальные палаты",null,"Оказание услуг на территории: город Полысаево (ОКТМО: 32732000) - г Полысаево"]
["2 06 11 | Торгово-промышленные палаты",null,"Оказание услуг на территории: город Юрга (ОКТМО: 32749000) - питьевая вода для АО \"ГУ ЖКХ\""]
["2 06 12 | Объединения работодателей",null,"питьевая вода 3-го водоподъёма ЭЦ"]
["2 06 13 | Объединения фермерских хозяйств",null,"питьевая вода цеха ВС и ВО"]
["2 06 14 | Некоммерческие партнерства",null,"питьевая вода через систему водоснабжения цеха ВС и ВО"]
["2 06 15 | Адвокатские бюро",null,"техническая вода 2-го водоподъема ЭЦ"]
["2 06 16 | Коллегии адвокатов",null,"техническая вода цеха ВС и ВО"]
["2 06 19 | Саморегулируемые организации",null,"техническая осветленная вода цеха ВС и ВО"]
["2 06 20 | Объединения (ассоциации и союзы) благотворительных организаций",null,"Оказание услуг на территории: Беловский муниципальный район (ОКТМО: 32601000) - имущество, переданное по договору аренды"]
["2 07 02 | Садоводческие или огороднические некоммерческие товарищества",null,"Оказание услуг на территории: Беловский муниципальный район (ОКТМО: 32601000) - имущество, переданное по концессионному соглашению"]
["2 07 16 | Товарищества собственников жилья",null,"Оказание услуг на территории: Мариинский муниципальный район (ОКТМО: 32616000) - водоотведение через очистные сооружения, находящихся по адресу: г Мариинск, ул. Дзержинского, 9"]
["2 11 00 | Казачьи общества, внесенные в государственный реестр казачьих обществ в Российской Федерации",null,"Оказание услуг на территории: Мариинский муниципальный район (ОКТМО: 32616000) - г Мариинск, ул. Дзержинского, 9"]
["2 12 00 | Общины коренных малочисленных народов Российской Федерации",null,"Оказание услуг на территории: Мариинский муниципальный район (ОКТМО: 32616000) - за исключением водоотведения через очистные сооружения, находящихся по адресу: г Мариинск, ул. Дзержинского, 9"]
["3 00 01 | Представительства юридических лиц",null,"Оказание услуг на территории: Новокузнецкий муниципальный район (ОКТМО: 32619000) - п Степной"]
["3 00 02 | Филиалы юридических лиц",null,"Оказание услуг на территории: Прокопьевский муниципальный район (ОКТМО: 32622000) - Большеталдинское, Калачевское, Сафоновское, Терентьевское (с Большая Талда, с Малая Талда, с Тихоновка, с Терентьевское)"]
["3 00 03 | Обособленные подразделения юридических лиц",null,"Оказание услуг на территории: Прокопьевский муниципальный район (ОКТМО: 32622000) - Бурлаковское, Каменно-Ключевское, Кузбассское, Михайловское, Терентьевское (п Кольчигиз, п Чапаевский, п Ускатский)"]
["3 00 04 | Структурные подразделения обособленных подразделений юридических лиц",null,"Оказание услуг на территории: Топкинский муниципальный округ (ОКТМО: 32531000) - населенные пункты, за исключением ГЛД Топкинская, квартал 43"]
["3 00 05 | Паевые инвестиционные фонды",null,"Оказание услуг на территории: Яшкинский муниципальный район (ОКТМО: 32646000) - пгт Яшкино"]
["3 00 06 | Простые товарищества",null,"Оказание услуг на территории: Яшкинский муниципальный район (ОКТМО: 32646000) - сельские поселения"]
["3 00 08 | Районные суды, городские суды, межрайонные суды (районные суды)",null,"Оказание услуг на территории: город Калтан (ОКТМО: 32715000) - г Калтан"]
["4 00 01 | Межправительственные международные организации",null,"Оказание услуг на территории: город Кемерово (ОКТМО: 32701000) - водоотведение сточных вод, отводимых потребителями в камеру гашения по ул. Волгоградской, 45 канализационного коллектора ДУ-1000 мм"]
["4 00 02 | Неправительственные международные организации",null,"Оказание услуг на территории: город Кемерово (ОКТМО: 32701000) - г Кемерово, кроме ул. Волгоградская"]
["5 01 01 | Главы крестьянских (фермерских) хозяйств",null,"Оказание услуг на территории: город Кемерово (ОКТМО: 32701000) - г Кемерово, ул. Волгоградская"]
["5 01 02 | Индивидуальные предприниматели",null,"Оказание услуг на территории: город Новокузнецк (ОКТМО: 32731000) - водоотведение промышленно-ливневых сточных вод цеха ВС и ВО"]
["5 02 01 | Адвокаты, учредившие адвокатский кабинет",null,"Оказание услуг на территории: город Осинники (ОКТМО: 32734000) - г Осинники"]
["5 02 02 | Нотариусы, занимающиеся частной практикой",null,"Оказание услуг на территории: город Полысаево (ОКТМО: 32732000) - транспортировка"]
["6 51 41 | Федеральные казенные предприятия",null,"Оказание услуг на территории: город Юрга (ОКТМО: 32749000) - водоотведение для АО \"ГУ ЖКХ\""]
["6 51 42 | Казенные предприятия субъектов Российской Федерации",null,"водоотведение промышленно-ливневых сточных сточных вод выпусков № 2, 3 ЭЦ"]
["6 51 43 | Муниципальные казенные предприятия",null,"водоотведение сточных вод через систему водоотведения ЭЦ"]
["6 52 41 | Федеральные государственные унитарные предприятия",null,"водоотведение сточных вод через систему водоотведения цеха ВС и ВО"]
["6 52 42 | Государственные унитарные предприятия субъектов Российской Федерации"]
["6 52 43 | Муниципальные унитарные предприятия"]
["7 04 01 | Благотворительные фонды"]
["7 04 02 | Негосударственные пенсионные фонды"]
["7 04 03 | Общественные фонды"]
["7 04 04 | Экологические фонды"]
["7 14 00 | Автономные некоммерческие организации"]
["7 15 00 | Религиозные организации"]
["7 16 01 | Государственные корпорации"]
["7 16 02 | Государственные компании"]
["7 16 10 | Отделения иностранных некоммерческих неправительственных организаций"]
["7 51 01 | Федеральные государственные автономные учреждения"]
["7 51 03 | Федеральные государственные бюджетные учреждения"]
["7 51 04 | Федеральные государственные казенные учреждения"]
["7 51 05 | Государственные внебюджетные фонды Российской Федерации"]
["7 52 01 | Государственные автономные учреждения субъектов Российской Федерации"]
["7 52 03 | Государственные бюджетные учреждения субъектов Российской Федерации"]
["7 52 04 | Государственные казенные учреждения субъектов Российской Федерации"]
["7 53 00 | Государственные академии наук"]
["7 54 01 | Муниципальные автономные учреждения"]
["7 54 03 | Муниципальные бюджетные учреждения"]
["7 54 04 | Муниципальные казенные учреждения"]
["7 55 00 | Частные учреждения"]
["7 55 02 | Благотворительные учреждения"]
["7 55 05 | Общественные учреждения"]

{"sheet":"modfrmRegion","index":44,"n_rows":0,"n_cols":0,"rows_kept":0,"cut":false,"hidden":true,"merged":[]}

{"sheet":"modfrmSelectTariff","index":45,"n_rows":0,"n_cols":0,"rows_kept":0,"cut":false,"hidden":true,"merged":[]}

{"sheet":"modCheckCyan","index":46,"n_rows":56,"n_cols":1,"rows_kept":56,"cut":false,"hidden":true,"merged":[]}
[{"$f":"IF('Общие сведения'!$H$8=\"\",1,0)","v":0}]
[{"$f":"IF('Общие сведения'!$H$10=\"\",1,0)","v":0}]
[{"$f":"IF('Общие сведения'!$H$29=\"\",1,0)","v":0}]
[{"$f":"IF('Общие сведения'!$H$30=\"\",1,0)","v":0}]
[{"$f":"IF('Общие сведения'!$H$31=\"\",1,0)","v":0}]
[{"$f":"IF('Общие сведения'!$H$32=\"\",1,0)","v":0}]
[{"$f":"IF('Общие сведения'!$H$33=\"\",1,0)","v":0}]
[{"$f":"IF('Общие сведения'!$H$34=\"\",1,0)","v":0}]
[{"$f":"IF('Общие сведения'!$H$35=\"\",1,0)","v":0}]
[{"$f":"IF('Общие сведения'!$H$37=\"\",1,0)","v":0}]
[{"$f":"IF('Общие сведения'!$H$38=\"\",1,0)","v":0}]
[{"$f":"IF('Общие сведения'!$H$39=\"\",1,0)","v":0}]
[{"$f":"IF('Общие сведения'!$H$40=\"\",1,0)","v":0}]
[{"$f":"IF('Общие сведения'!$H$41=\"\",1,0)","v":0}]
[{"$f":"IF('Общие сведения'!$H$42=\"\",1,0)","v":0}]
[{"$f":"IF('Общие сведения'!$H$43=\"\",1,0)","v":0}]
[{"$f":"IF('Общие сведения'!$H$46=\"\",1,0)","v":0}]
[{"$f":"IF('Общие сведения'!$H$47=\"\",1,0)","v":0}]
[{"$f":"IF('Общие сведения'!$H$54=\"\",1,0)","v":0}]
[{"$f":"IF('Общие сведения'!$H$61=\"\",1,0)","v":0}]
[{"$f":"IF('Общие сведения'!$H$68=\"\",1,0)","v":0}]
[{"$f":"IF('Общие сведения'!$H$76=\"\",1,0)","v":0}]
[{"$f":"IF('Общие сведения'!$H$84=\"\",1,0)","v":0}]
[{"$f":"IF('Общие сведения'!$H$93=\"\",1,0)","v":0}]
[{"$f":"IF('Общие сведения'!$H$117=\"\",1,0)","v":0}]
[{"$f":"IF('Общие сведения'!$H$159=\"\",1,0)","v":0}]
[{"$f":"IF('Общие сведения'!$H$49=\"\",1,0)","v":0}]
[{"$f":"IF('Общие сведения'!$H$51=\"\",1,0)","v":0}]
[{"$f":"IF('Общие сведения'!$H$56=\"\",1,0)","v":0}]
[{"$f":"IF('Общие сведения'!$H$58=\"\",1,0)","v":0}]
[{"$f":"IF('Общие сведения'!$H$63=\"\",1,0)","v":0}]
[{"$f":"IF('Общие сведения'!$H$65=\"\",1,0)","v":0}]
[{"$f":"IF('Общие сведения'!$H$120=\"\",1,0)","v":0}]
[{"$f":"IF('Общие сведения'!$H$118=\"\",1,0)","v":0}]
[{"$f":"IF('Общие сведения'!$H$124=\"\",1,0)","v":0}]
[{"$f":"IF('Общие сведения'!$H$125=\"\",1,0)","v":0}]
[{"$f":"IF('Общие сведения'!$H$127=\"\",1,0)","v":0}]
[{"$f":"IF('Список территорий'!$M$16=\"\",1,0)","v":0}]
[{"$f":"IF('Список территорий'!$N$16=\"\",1,0)","v":0}]
[{"$f":"IF(ЭЭ!$M$23=\"\",1,0)","v":0}]
[{"$f":"IF('Общие сведения'!$H$137=\"\",1,0)","v":0}]
[{"$f":"IF('Общие сведения'!$H$138=\"\",1,0)","v":0}]
[{"$f":"IF('Общие сведения'!$H$140=\"\",1,0)","v":0}]
[{"$f":"IF('Список территорий'!$M$19=\"\",1,0)","v":0}]
[{"$f":"IF('Список территорий'!$N$19=\"\",1,0)","v":0}]
[{"$f":"IF(ЭЭ!$M$36=\"\",1,0)","v":0}]
[{"$f":"IF(ФОТ!$M$19=\"\",1,0)","v":0}]
[{"$f":"IF(ФОТ!$M$22=\"\",1,0)","v":0}]
[{"$f":"IF(ФОТ!$M$33=\"\",1,0)","v":0}]
[{"$f":"IF(ФОТ!$M$45=\"\",1,0)","v":0}]
[{"$f":"IF(ФОТ!$M$56=\"\",1,0)","v":0}]
[{"$f":"IF(Реагенты!$M$19=\"\",1,0)","v":0}]
[{"$f":"IF(Реагенты!$M$24=\"\",1,0)","v":0}]
[{"$f":"IF(Реагенты!$M$25=\"\",1,0)","v":0}]
[{"$f":"IF(Реагенты!$M$26=\"\",1,0)","v":0}]
[{"$f":"IF(Реагенты!$M$27=\"\",1,0)","v":0}]

{"sheet":"modfrmActivity","index":47,"n_rows":0,"n_cols":0,"rows_kept":0,"cut":false,"hidden":true,"merged":[]}

{"sheet":"modfrmCheckUpdates","index":48,"n_rows":0,"n_cols":0,"rows_kept":0,"cut":false,"hidden":true,"merged":[]}

{"sheet":"modUpdTemplMain","index":49,"n_rows":0,"n_cols":0,"rows_kept":0,"cut":false,"hidden":true,"merged":[]}

{"sheet":"modThisWorkbook","index":50,"n_rows":0,"n_cols":0,"rows_kept":0,"cut":false,"hidden":true,"merged":[]}

{"sheet":"modInstruction","index":51,"n_rows":0,"n_cols":0,"rows_kept":0,"cut":false,"hidden":true,"merged":[]}

{"sheet":"AllSheetsInThisWorkbook","index":52,"n_rows":42,"n_cols":2,"rows_kept":42,"cut":false,"hidden":true,"merged":[]}
["Расчетные листы","Скрытые листы"]
["Инструкция","et_union"]
["Лог обновления","TEHSHEET"]
["Пояснения","modPreload"]
["Список листов","modProv"]
["Общие сведения","REESTR_TARIFF"]
["Список территорий","REESTR_OBJECT"]
["Список объектов","modProvGeneralProc"]
["Сценарии","modList11"]
["Баланс","REESTR_MO"]
["Реагенты","REESTR_ORG"]
["ЭЭ","DICTIONARIES"]
["Амортизация","modfrmRegion"]
["Аренда","modHTTP"]
["Покупка","modfrmSelectTariff"]
["ФОТ","modCheckCyan"]
["Административные","modfrmActivity"]
["Сбытовые расходы ГО","modfrmCheckUpdates"]
["Налоги","modUpdTemplMain"]
["ИП + источники","modList00"]
["Экономия_корр","modThisWorkbook"]
["Плата за негативное возд","modInstruction"]
["Корректировка НВВ","AllSheetsInThisWorkbook"]
["Калькуляция","modHyp"]
["ТМ","modfrmReestr"]
["ДПР","modfrmReestrSource"]
["ДПР (концессии)","modfrmDPR"]
["Комментарии","modfrmSelectTemplate"]
["Проверка","modReestr"]
[null,"modList01"]
[null,"modList02"]
[null,"modList05"]
[null,"modList06"]
[null,"modList09"]
[null,"modList10"]
[null,"modList16"]
[null,"modList18"]
[null,"modList19"]
[null,"modList20"]
[null,"modList21"]
[null,"modList15"]
[null,"modList17"]

{"sheet":"modHyp","index":53,"n_rows":0,"n_cols":0,"rows_kept":0,"cut":false,"hidden":true,"merged":[]}

{"sheet":"modfrmReestr","index":54,"n_rows":0,"n_cols":0,"rows_kept":0,"cut":false,"hidden":true,"merged":[]}

{"sheet":"modfrmDPR","index":55,"n_rows":0,"n_cols":0,"rows_kept":0,"cut":false,"hidden":true,"merged":[]}

{"sheet":"modfrmSelectTemplate","index":56,"n_rows":0,"n_cols":0,"rows_kept":0,"cut":false,"hidden":true,"merged":[]}

{"sheet":"modList01","index":57,"n_rows":0,"n_cols":0,"rows_kept":0,"cut":false,"hidden":true,"merged":[]}

{"sheet":"modList05","index":58,"n_rows":0,"n_cols":0,"rows_kept":0,"cut":false,"hidden":true,"merged":[]}

{"sheet":"modList06","index":59,"n_rows":0,"n_cols":0,"rows_kept":0,"cut":false,"hidden":true,"merged":[]}

{"sheet":"modList09","index":60,"n_rows":0,"n_cols":0,"rows_kept":0,"cut":false,"hidden":true,"merged":[]}

{"sheet":"modList10","index":61,"n_rows":0,"n_cols":0,"rows_kept":0,"cut":false,"hidden":true,"merged":[]}

{"sheet":"modList16","index":62,"n_rows":0,"n_cols":0,"rows_kept":0,"cut":false,"hidden":true,"merged":[]}

{"sheet":"modList18","index":63,"n_rows":0,"n_cols":0,"rows_kept":0,"cut":false,"hidden":true,"merged":[]}

{"sheet":"modList19","index":64,"n_rows":0,"n_cols":0,"rows_kept":0,"cut":false,"hidden":true,"merged":[]}

{"sheet":"modList20","index":65,"n_rows":0,"n_cols":0,"rows_kept":0,"cut":false,"hidden":true,"merged":[]}

{"sheet":"modList21","index":66,"n_rows":0,"n_cols":0,"rows_kept":0,"cut":false,"hidden":true,"merged":[]}

{"sheet":"modList15","index":67,"n_rows":0,"n_cols":0,"rows_kept":0,"cut":false,"hidden":true,"merged":[]}

{"sheet":"modList17","index":68,"n_rows":0,"n_cols":0,"rows_kept":0,"cut":false,"hidden":true,"merged":[]}