{"text_format":"1","workbook":"xlsx","n_sheets":63,"sheets":["modList00","modProvGeneralProc","modList02","modfrmReestrSource","modHTTP","modPreload","modReestr","modProv","modfrmRegion","Инструкция","Лог обновления","Пояснения","Список листов","Общие сведения","Список территорий","Список объектов","Сценарии","Баланс","Реагенты","ЭЭ","Амортизация","Аренда","Покупка","Налоги","ИП + источники","Экономия_корр","Плата за негативное возд","Корректировка НВВ","Калькуляция","et_union","ТМ","ДПР","ДПР (концессии)","TEHSHEET","Комментарии","Проверка","REESTR_MO","REESTR_ORG","REESTR_TARIFF","REESTR_OBJECT","modfrmDPR","modfrmSelectTemplate","DICTIONARIES","modfrmSelectTariff","modCheckCyan","modfrmActivity","modfrmCheckUpdates","modUpdTemplMain","modThisWorkbook","modInstruction","AllSheetsInThisWorkbook","modHyp","modfrmReestr","modList01","modList05","modList06","modList09","modList10","modList11","modList16","modList18","modList15","modList17"],"not_rendered":{"charts":0,"images":23,"macros":1,"external_links":0,"defined_names":344,"comments":2,"pivot_tables":0},"unopened":[],"bounds":{"document_bytes":16777216,"sheet_cells":100000,"rows_first":2000,"rows_last":500,"rows_between":2000,"halvings":0,"cell_chars":16384,"cell_head_chars":4096},"cells_cut":0,"cells_raw":0,"read":"whole","date_system":"1900"}

{"sheet":"modList00","index":0,"n_rows":0,"n_cols":0,"rows_kept":0,"cut":false,"hidden":true,"merged":[]}

{"sheet":"modProvGeneralProc","index":1,"n_rows":0,"n_cols":0,"rows_kept":0,"cut":false,"hidden":true,"merged":[]}

{"sheet":"modList02","index":2,"n_rows":0,"n_cols":0,"rows_kept":0,"cut":false,"hidden":true,"merged":[]}

{"sheet":"modfrmReestrSource","index":3,"n_rows":0,"n_cols":0,"rows_kept":0,"cut":false,"hidden":true,"merged":[]}

{"sheet":"modHTTP","index":4,"n_rows":0,"n_cols":0,"rows_kept":0,"cut":false,"hidden":true,"merged":[]}

{"sheet":"modPreload","index":5,"n_rows":0,"n_cols":0,"rows_kept":0,"cut":false,"hidden":true,"merged":[]}

{"sheet":"modReestr","index":6,"n_rows":0,"n_cols":0,"rows_kept":0,"cut":false,"hidden":true,"merged":[]}

{"sheet":"modProv","index":7,"n_rows":0,"n_cols":0,"rows_kept":0,"cut":false,"hidden":true,"merged":[]}

{"sheet":"modfrmRegion","index":8,"n_rows":0,"n_cols":0,"rows_kept":0,"cut":false,"hidden":true,"merged":[]}

{"sheet":"Инструкция","index":9,"n_rows":97,"n_cols":27,"rows_kept":97,"cut":false,"hidden":false,"merged":[[80,4,80,15],[80,16,80,22],[58,4,58,23],[96,5,96,23],[92,4,92,23],[94,5,94,18],[76,4,76,21],[77,4,77,10],[77,11,77,22],[60,7,60,23],[75,4,75,6],[78,4,78,10],[78,11,78,22],[59,4,59,6],[59,7,59,23],[75,7,75,23],[69,4,74,24],[21,5,21,12],[21,15,21,23],[1,1,1,6],[2,1,2,2],[4,1,4,24],[6,4,12,23],[13,4,18,23],[20,5,20,12],[20,15,20,23],[34,4,38,23],[39,4,39,23],[57,4,57,6],[57,7,57,23],[40,4,44,23],[45,4,56,23]]}
[null,null,null,null,null,null,null,null,null,null,null,null,null,null,null,null,null,null,null,null,null,null,null,null,null,null," (требуется обновление)"]
[null,{"$f":"\"Код шаблона: \" & GetCode()","v":"Код шаблона: EXPERT.VSVO.INDEX.CORR"}]
[null,{"$f":"\"Версия \" & Getversion()","v":"Версия 4.3"}]
[]
[null,"Экспертное заключение об установлении тарифов в сфере холодного водоснабжения/водоотведения методом индексации (корректировка)"]
[]
[null,null,null,null,"• На рабочем месте должен быть установлен MS Office 2007 SP3, 2010, 2013, 2016, 2019 с полной версией MS Excel\n\n• Макросы во время работы должны быть включены (!)\n\n• Для корректной работы отчёта требуется выбрать низкий уровень безопасности\n(В меню MS Excel 2007 и выше: Параметры Excel | Центр управления безопасностью | Параметры центра управления безопасностью | Параметры макросов | Включить все макросы | ОК)\n\n"]
[]
[]
[]
[]
[]
[]
[null,null,null,null,"• Если Вы работаете в табличном процессоре MS Excel 2007 и выше, то можете использовать для работы формат XLSB (Двоичная книга Excel). При работе в формате XLSB заметно быстрее происходит сохранение файла, а также уменьшается размер по сравнению с форматами XLS и XLSM\n\n• Не рекомендуется снимать защиту с листов и каким-либо образом модифицировать защищаемые формулы и расчётные поля, в противном случае, отчёт будет отклонён системой\n\n• При сохранении не следует выбирать формат XLSX (Книга Excel), так как в указанном формате макросы, необходимые для работы отчёта, безвозвратно удаляются"]
[]
[]
[]
[]
[]
[]
[null,null,null,null,"A"," - предназначенные для заполнения",null,null,null,null,null,null,null,null,"A"," - ссылки и автозаполняемые поля"]
[null,null,null,null,"A"," - с формулами и константами",null,null,null,null,null,null,null,null,"A"," - обязательные для заполнения"]
[]
[]
[]
[]
[]
[]
[]
[]
[]
[]
[]
[]
[null,null,null,null,"Если в предложенном Вам списке необходимая организация, МР/МО отсутствуют, обновите реестры с помощью кнопок\n\nВ результате синхронизации с базой данных список организаций (МР/МО) будет заменён актуальным (механизм синхронизации требует подключения к сети Интернет и основан на использовании протокола HTTPS (TCP порт 443))\n"]
[]
[]
[]
[]
[]
[]
[]
[]
[]
[]
[null,null,null,null,"• При сохранении шаблона осуществляется проверка корректности данных, в том числе на наличие значений в ячейках, обязательных для заполнения\n\n• Если какая-то ячейка не удовлетворяет условию проверки, на лист «Проверка» добавляется гиперссылка на данную ячейку и указывается причина ошибки\n\n• В колонке «Статус» для каждого сообщения возможны 2 значения: ошибка и предупреждение\n\n• При наличии сообщений со статусом «Ошибка» шаблон будет отклонён системой и не будет загружен в хранилище данных, сообщения со статусом «Предупреждение» носят информационный характер, и такой шаблон будет принят системой"]
[]
[]
[]
[]
[]
[]
[]
[]
[]
[]
[]
[]
[null,null,null,null,"Обратиться в службу поддержки"]
[]
[]
[]
[]
[]
[]
[]
[]
[]
[]
[null,null,null,null,"Понятия, используемые в Типовом экспертном заключении:\n\"Факт, принятый органом регулирования\" - экономически обоснованные фактические значения расходов на основании данных бухгалтерской и статистической отчетности регулируемой организации за соответствующий период, с учетом данных, полученных по результатам проведенных органом регулирования тарифов мероприятий по контролю, предусмотренных Постановлением Правительства РФ от 27.06.2013 N 543;\n\"Факт по данным организации\" - экономически обоснованные фактические значения расходов в соответствии с данными раздельного учета затрат по видам деятельности организаций, осуществляющих горячее водоснабжение, холодное водоснабжение и (или) водоотведение."]
[]
[]
[]
[]
[]
[]
[]
[]
[]
[]
[]
[]
[]
[]
[]
[]
[]
[]
[]
[]
[]
[]
[null,null,null,null,"При наличии подключения к Интернет, можно автоматически проверять наличие доступных обновлений. Выберите способ оповещения о наличии обновлений для отчёта:"]
[]
[null,null,null,null,null,"проверять доступные обновления (рекомендуется)",null,null,null,null,null,null,null,null,null,null,null,null,null,null,null,null,null,null,null,null,"y"]
[]
[null,null,null,null,null,"никогда не проверять наличие обновлений (не рекомендуется)"]

{"sheet":"Лог обновления","index":10,"n_rows":18,"n_cols":3,"rows_kept":18,"cut":false,"hidden":true,"merged":[]}
["Дата/Время","Сообщение","Статус"]
[]
["2024-03-27T16:59:40","Проверка доступных обновлений...","Информация"]
["2024-03-27T16:59:41","Нет доступных обновлений для отчёта с кодом EXPERT.VSVO.INDEX.CORR!","Информация"]
["2024-03-28T09:15:16","Проверка доступных обновлений...","Информация"]
["2024-03-28T10:14:44","Проверка доступных обновлений...","Информация"]
["2024-03-28T10:14:45","Нет доступных обновлений для отчёта с кодом EXPERT.VSVO.INDEX.CORR!","Информация"]
["2024-03-28T10:44:09","Проверка доступных обновлений...","Информация"]
["2024-03-28T10:44:10","Нет доступных обновлений для отчёта с кодом EXPERT.VSVO.INDEX.CORR!","Информация"]
["2024-10-22T14:08:49","Проверка доступных обновлений...","Информация"]
["2024-10-22T14:08:53","Нет доступных обновлений для отчёта с кодом EXPERT.VSVO.INDEX.CORR!","Информация"]
["2024-10-23T08:37:47","Проверка доступных обновлений...","Информация"]
["2024-10-23T08:37:48","Нет доступных обновлений для отчёта с кодом EXPERT.VSVO.INDEX.CORR!","Информация"]
["2024-10-23T17:36:42","Проверка доступных обновлений...","Информация"]
["2024-10-23T17:36:44","Доступно обновление до версии 5.0","Информация"]
["2024-10-23T17:36:44","Описание изменений: Версия 5.0","Информация"]
["2024-10-23T17:36:44","Размер файла обновления: 0 байт","Информация"]
["2024-10-23T17:36:49","Обновление отменено пользователем","Предупреждение"]

{"sheet":"Пояснения","index":11,"n_rows":16,"n_cols":14,"rows_kept":16,"cut":false,"hidden":true,"merged":[]}
[]
[]
[]
[]
[]
[]
[]
[]
[]
[]
[]
[null,null,null,null,null,null,null,null,null,null,null,"Понятия, используемые в Типовом экспертном заключении"]
[]
[null,null,null,null,null,null,null,null,null,null,null,"№ п/п","Используемое понятие","Расшифровка (пояснения)"]
[null,null,null,null,null,null,null,null,null,null,null,1,"факт по данным организации","фактические значения расходов в соответствии с данными раздельного учета затрат по видам деятельности организаций, осуществляющих горячее водоснабжение, холодное водоснабжение и (или) водоотведение"]
[null,null,null,null,null,null,null,null,null,null,null,2,"факт, принятый органом регулирования","фактические значения расходов в соответствии с данными бухгалтерской и статистической отчетности регулируемой организации за соответствующий период, с учетом данных, полученных по результатам проведенных органом регулирования тарифов мероприятий по контролю, предусмотренных Постановление Правительства РФ от 27.06.2013 N 543 (ред. от 17.08.2020) \"О государственном контроле (надзоре) в области регулируемых государством цен (тарифов)."]

{"sheet":"Список листов","index":12,"n_rows":32,"n_cols":14,"rows_kept":32,"cut":false,"hidden":false,"merged":[]}
[]
[]
[]
[]
[]
[]
[]
[]
[]
[]
[]
[null,null,null,null,null,null,null,null,null,null,null,"Список листов"]
[null,null,null,null,null,null,null,null,null,null,null,"* для перехода на лист дважды кликните по названию"]
[null,null,null,null,null,null,null,null,null,null,null,"скрыть","Общие сведения","1. Сведения о регулируемой организации\n2. Информация о рассмотрении дела об установлении тарифов"]
[null,null,null,null,null,null,null,null,null,null,null,"скрыть","Список территорий","3. Перечень муниципальных образований, на территории которых организация оказывает услуги холодного водоснабжения / водоотведения"]
[null,null,null,null,null,null,null,null,null,null,null,"скрыть","Список объектов","4. Перечень объектов организации, с помощью которых организация оказывает услуги холодного водоснабжения/ водоотведения\n5. Правоустанавливающие и подтверждающие документы на объекты коммунальной инфраструктуры"]
[null,null,null,null,null,null,null,null,null,null,null,"скрыть","Сценарии","6. Ключевые сценарные показатели"]
[null,null,null,null,null,null,null,null,null,null,null,"скрыть","Баланс","7. Баланс водоснабжения / водоотведения"]
[null,null,null,null,null,null,null,null,null,null,null,"скрыть","Реагенты","8. Расходы на реагенты"]
[null,null,null,null,null,null,null,null,null,null,null,"скрыть","ЭЭ","9. Расходы на электрическую энергию"]
[null,null,null,null,null,null,null,null,null,null,null,"скрыть","Амортизация","10. Амортизация основных средств и нематериальных активов, относимых к объектам централизованной системы водоснабжения/водоотведения"]
[null,null,null,null,null,null,null,null,null,null,null,"скрыть","Аренда","11. Аренда"]
[null,null,null,null,null,null,null,null,null,null,null,"скрыть","Покупка","12. Расходы на оплату товаров (услуг, работ), приобретаемых у других организаций"]
[null,null,null,null,null,null,null,null,null,null,null,"скрыть","Налоги","13. Расшифровка по налогам и платежам"]
[null,null,null,null,null,null,null,null,null,null,null,"скрыть","ИП + источники","14. План и факт по источникам финансирования инвестиционной программы"]
[null,null,null,null,null,null,null,null,null,null,null,"скрыть","Экономия_корр","15. Расчет экономии средств, достигнутой в результате снижения расходов предыдущего долгосрочного периода регулирования"]
[null,null,null,null,null,null,null,null,null,null,null,"скрыть","Плата за негативное возд","16. Плата за негативное воздействие на работу централизованных систем водоотведения"]
[null,null,null,null,null,null,null,null,null,null,null,"скрыть","Корректировка НВВ","17. Расчет показателей корректировки необходимой валовой выручки"]
[null,null,null,null,null,null,null,null,null,null,null,"скрыть","Калькуляция","18. Расчет тарифа методом индексации"]
[null,null,null,null,null,null,null,null,null,null,null,"скрыть","ТМ","19. Тарифное меню"]
[null,null,null,null,null,null,null,null,null,null,null,"скрыть","ДПР","20. Долгосрочные параметры регулирования тарифов"]
[null,null,null,null,null,null,null,null,null,null,null,"скрыть","ДПР (концессии)","21. Долгосрочные параметры регулирования тарифов (концессии)"]

{"sheet":"Общие сведения","index":13,"n_rows":148,"n_cols":15,"rows_kept":148,"cut":false,"hidden":false,"merged":[[121,3,133,3],[147,4,147,6],[6,4,6,6],[13,4,13,7],[14,4,14,7],[15,4,15,7],[16,4,16,7],[17,4,17,7],[23,4,23,6],[24,4,24,6],[25,4,25,6],[26,4,26,6],[27,4,27,6],[18,4,18,7],[19,4,19,7],[41,4,41,6],[42,4,42,6],[43,4,43,6],[45,4,45,6],[46,4,46,6],[47,4,51,4],[47,5,47,6],[48,5,48,6],[49,5,49,6],[50,5,50,6],[19,11,19,12],[20,4,20,7],[21,4,21,6],[22,4,22,6],[34,4,34,6],[35,4,35,6],[36,4,38,5],[39,4,39,6],[40,4,40,6],[28,4,28,6],[29,4,29,6],[30,4,30,6],[31,4,31,6],[32,4,32,6],[33,4,33,6],[60,4,60,6],[61,4,65,4],[61,5,61,6],[62,5,62,6],[63,5,63,6],[64,5,64,6],[65,5,65,6],[51,5,51,6],[53,4,53,6],[54,4,58,4],[54,5,54,6],[55,5,55,6],[56,5,56,6],[57,5,57,6],[58,5,58,6],[75,4,75,6],[76,4,81,4],[76,5,76,6],[77,5,77,6],[78,5,78,6],[79,5,79,6],[80,5,80,6],[81,5,81,6],[67,4,67,6],[68,4,73,4],[68,5,68,6],[69,5,69,6],[70,5,70,6],[71,5,71,6],[72,5,72,6],[73,5,73,6],[101,4,101,7],[102,4,102,7],[83,4,83,6],[84,4,89,4],[84,5,84,6],[85,5,85,6],[86,5,86,6],[87,5,87,6],[88,5,88,6],[89,5,89,6],[92,4,92,6],[10,4,10,6],[116,4,119,5],[135,4,144,5],[145,4,145,6],[7,4,7,6],[8,4,8,6],[9,4,9,6],[109,4,109,7],[110,4,110,7],[111,4,111,7],[112,4,112,7],[113,4,113,7],[115,4,115,7],[103,4,103,7],[104,4,104,7],[105,4,105,7],[106,4,106,7],[107,4,107,7],[108,4,108,7],[91,4,91,6],[94,4,97,5],[99,4,99,7],[100,4,100,7],[120,4,134,5]]}
[]
[]
[]
[]
[]
[]
[null,null,null,null,"Субъект РФ",null,null,"Кемеровская область",{"$f":"INDEX(TEHSHEET!B1:B90,MATCH(region_name,REGION,0))","v":"RU42"}]
[null,null,null,null,"Период регулирования",null,null,2025]
[null,null,null,null,"Первый год долгосрочного периода регулирования",null,null,2019,{"$f":"first_year+PERIOD_LENGTH-1","v":2028},{"$f":"IF(onlyOneYear=\"да\",god, last_year)","v":2025}]
[null,null,null,null,"Период долгосрочной индексации (количество лет)",null,null,10]
[null,null,null,null,"Количество лет корректировки",null,null,{"$f":"IF(OR(PERIOD_LENGTH-god+first_year<=0,PERIOD_LENGTH-god+first_year>10),\"\",PERIOD_LENGTH-god+first_year)","v":4}]
[]
[]
[null,null,null,null,"Экспертное заключение"]
[null,null,null,null,"Региональная энергетическая комиссия Кемеровской области"]
[null,null,null,null,"по результатам экспертизы предложения"]
[null,null,null,26428076,"ООО\"БелГОС\"",null,null,null,null,null,null,null,null,null,{"$f":"region_name & \" / \" & god & \" / \" & org& \" (ИНН:\" &inn& \", КПП:\" &kpp&\") / ДПР: \" & first_year & \"-\" & last_year","v":"Кемеровская область / 2025 / ООО\"БелГОС\" (ИНН:4202023230, КПП:420201001) / ДПР: 2019-2028"}]
[null,null,null,null,{"$f":"\"об установлении тарифов в сфере \"&IF(AND(OR(hasVS,hasTranspVS),OR(hasVO,hasTranspVO)),\"холодного водоснабжения / водоотведения\",IF(OR(hasVS,hasTranspVS),\"холодного водоснабжения\",IF(OR(hasVO,hasTranspVO),\"водоотведения\",\"<не указано>\")))&\" методом индексации (корректировка)\"","v":"об установлении тарифов в сфере водоотведения методом индексации (корректировка)"}]
[null,null,null,null,{"$f":"\"на \" & IF(god=first_year, god & \"-\"&last_year & \" годы\",god & \" год\") & \" долгосрочного периода регулирования тарифов \" & first_year & \"-\"&last_year & \" гг.\"","v":"на 2025 год долгосрочного периода регулирования тарифов 2019-2028 гг."}]
[]
[null,null,null,null,"1. Сведения о регулируемой организации"]
[null,null,null,null,"Полное наименование юридического лица (индивидуального предпринимателя) в соответствии с данными из ЕГРЮЛ/ЕГРИП",null,null,"ОБЩЕСТВО С ОГРАНИЧЕННОЙ ОТВЕТСТВЕННОСТЬЮ \"БЕЛОВСКИЕ ГОРОДСКИЕ ОЧИСТНЫЕ СООРУЖЕНИЯ\""]
[null,null,null,null,"Сокращенное наименование юридического лица (индивидуального предпринимателя) в соответствии с данными из ЕГРЮЛ/ЕГРИП",null,null,"ООО \"БЕЛГОС\""]
[null,null,null,null,"Наименование (описание) обособленного подразделения"]
[null,null,null,null,"ОГРН",null,null,"1034202004407"]
[null,null,null,null,"ИНН",null,null,"4202023230"]
[null,null,null,null,"КПП",null,null,"420201001"]
[null,null,null,null,"Код по ОКПО",null,null,null,null,"L2_7"]
[null,null,null,null,"Организационно-правовая форма",null,null,"1 23 00 | Общества с ограниченной ответственностью",null,"L2_8"]
[null,null,null,null,"Юридический адрес",null,null,"652600, Кемеровская область,  г.Белово,  ул.Кузбасская, 6",null,"L2_9"]
[null,null,null,null,"Фактический адрес",null,null,"652600, Кемеровская область,  г.Белово,  ул.Кузбасская, 6",null,"L2_10"]
[null,null,null,null,"Телефон организации",null,null,"8 (384-52)4-37-28; 2-92-28",null,"L2_11"]
[null,null,null,null,"e-mail",null,null,"belgos@bk.ru",null,"L2_12"]
[null,null,null,null,"ФИО руководителя",null,null,"Трофимова Ольга Николаевна",null,"L2_13"]
[null,null,null,null,"Должность руководителя",null,null,"Генеральный директор",null,"L2_14"]
[null,null,null,null,"Официальный сайт регулируемой организации в сети \"Интернет\"",null,null,null,null,"L2_15"]
[null,null,null,null,"Государственное и (или) муниципальное участие в юридическом лице",null,"Наличие","нет",null,"L3_1"]
[null,null,null,null,null,null,"Сведения о доле, %","0 %",null,"L3_2"]
[null,null,null,null,null,null,"Преобладающий тип собственности в юридическом лице","частная",null,"L3_3"]
[null,null,null,null,"Наличие раздельного учёта затрат по регулируемым видам деятельности в сфере холодного водоснабжения / водоотведения",null,null,"нет",null,"L4_1"]
[null,null,null,null,"Плательщик НДС",null,null,"да",null,"L4_2"]
[null,null,null,null,"Является ли деятельность в сфере холодного водоснабжения / водоотведения профильным видом деятельности",null,null,"да",null,"L4_3"]
["STATUS_GO",null,null,null,"Наличие статуса гарантирующей организации (ГО)",null,null,"да",null,"L4_4"]
[null,null,null,null,"URL-ссылка на документ, подтверждающий статус ГО",null,null,"https://portal.eias.ru/Portal/DownloadPage.aspx?type=12&guid=1ca451d7-b4ef-451e-bbc8-013eb27cb258"]
["go",null,null,null,null,null,null,"Добавить"]
[null,null,null,null,"Наличие программы в области энергосбережения и повышения энергетической эффективности",null,null,"да",null,"L4_6"]
["HAS_DOC2",null,null,null,"Наличие программы комплексного развития",null,null,"да",null,"L4_7"]
[null,null,null,null,"Реквизиты решения","Наименование",null,"Об утверждении Программы комплексного развития систем коммунальной инфраструктуры Беловского городского округа Кемеровской области – Кузбасса до 2036 года. Актуализированная редакция на 2023 год"]
[null,null,null,null,null,"Вид",null,"решение"]
[null,null,null,null,null,"Номер",null,"53/294-н"]
[null,null,null,null,null,"Дата принятия",null,"19.07.2022"]
[null,null,null,null,null,"URL-ссылка на решение"]
["HAS_DOC2",null,null,null,null,null,null,"Добавить"]
["HAS_DOC3",null,null,null,"Наличие схемы холодного водоснабжения / водоотведения",null,null,"да",null,"L4_8"]
[null,null,null,null,"Реквизиты решения","Наименование",null,"Об утверждении Схемы водоснабжения и водоотведения Беловского городского округа Кемеровской области - Кузбасса до 2030 года. Актуализированная редакция на 2023 год."]
[null,null,null,null,null,"Вид",null,"постановление"]
[null,null,null,null,null,"Номер",null,"2162-п"]
[null,null,null,null,null,"Дата принятия",null,"29.07.2022"]
[null,null,null,null,null,"URL-ссылка на решение"]
["HAS_DOC3",null,null,null,null,null,null,"Добавить"]
["HAS_DOC4",null,null,null,"Наличие закона субъекта по льготным тарифам",null,null,"да",null,"L4_9"]
[null,null,null,null,"Реквизиты решения","Наименование",null,"О льготных ценах (тарифах) на тепловую энергию (мощность), теплоноситель, горячее, холодное водоснабжение, водоотведение, твердое топливо на территории Кемеровской области – Кузбасса"]
[null,null,null,null,null,"Вид",null,"закон"]
[null,null,null,null,null,"Номер",null,"№ 69-ОЗ"]
[null,null,null,null,null,"Дата принятия",null,"03.07.2020"]
[null,null,null,null,null,"URL-ссылка на решение"]
["HAS_DOC4",null,null,null,null,null,null,"Добавить"]
["HAS_DOC5",null,null,null,{"$f":"\"Наличие утверждённых ОИВ инвестиционных программ, действующих в течение \"&god-2&\" года, для организации, оказывающей услуги холодного водоснабжения/водоотведения\"","v":"Наличие утверждённых ОИВ инвестиционных программ, действующих в течение 2023 года, для организации, оказывающей услуги холодного водоснабжения/водоотведения"},null,null,"нет",null,"L4_10"]
[null,null,null,null,"Реквизиты решения","Наименование",null,""]
[null,null,null,null,null,"Вид",null,""]
[null,null,null,null,null,"Номер",null,""]
[null,null,null,null,null,"Дата принятия",null,""]
[null,null,null,null,null,"Дата начала реализации / действия инвестиционной программы",null,""]
[null,null,null,null,null,"Дата окончания реализации / действия инвестиционной программы",null,""]
["HAS_DOC5",null,null,null,null,null,null,"Добавить"]
["HAS_DOC6",null,null,null,{"$f":"\"Наличие утверждённых ОИВ инвестиционных программ, действующих в течение \"&god&\" года, для организации, оказывающей услуги холодного водоснабжения/водоотведения\"","v":"Наличие утверждённых ОИВ инвестиционных программ, действующих в течение 2025 года, для организации, оказывающей услуги холодного водоснабжения/водоотведения"},null,null,"нет",null,"L4_11"]
[null,null,null,null,"Реквизиты решения","Наименование",null,""]
[null,null,null,null,null,"Вид",null,""]
[null,null,null,null,null,"Номер",null,""]
[null,null,null,null,null,"Дата принятия",null,""]
[null,null,null,null,null,"Дата начала реализации / действия инвестиционной программы",null,""]
[null,null,null,null,null,"Дата окончания реализации / действия инвестиционной программы",null,""]
["HAS_DOC6",null,null,null,null,null,null,"Добавить"]
["HAS_DOC7",null,null,null,{"$f":"\"Наличие утверждённых ОИВ концессионных соглашений, действующих в течение \"&god&\" года, для организации, оказывающей услуги холодного водоснабжения/водоотведения\"","v":"Наличие утверждённых ОИВ концессионных соглашений, действующих в течение 2025 года, для организации, оказывающей услуги холодного водоснабжения/водоотведения"},null,null,"да",null,"L4_12"]
[null,null,null,null,"Реквизиты решения","Наименование",null,"КОНЦЕССИОННОЕ СОГЛАШЕНИЕ № 1 в отношении объектов водоотведения, находящихся в муниципальной собственности муниципального образования Беловский городской округ"]
[null,null,null,null,null,"Вид",null,"соглашение"]
[null,null,null,null,null,"Номер",null,"1"]
[null,null,null,null,null,"Дата принятия",null,"10.01.2019"]
[null,null,null,null,null,"Дата начала реализации / действия концессионного соглашения",null,"10.01.2019"]
[null,null,null,null,null,"Дата окончания реализации / действия концессионного соглашения",null,"31.12.2028"]
["HAS_DOC7",null,null,null,null,null,null,"Добавить"]
[null,null,null,null,"Иные сведения",null,null,null,null,"L4_13"]
["STATUS_GO",null,null,null,"Полезный отпуск рассчитывается с учётом собственных нужд предприятия \n(п.10.1 баланса ВС и п.6 баланса ВО)",null,null,"нет",null,"L4_14"]
[null,null,null,null,null,null,null,""]
[null,null,null,null,"Данные об ответственном исполнителе от организации",null,"ФИО исполнителя","Землянухина Людмила Дмитриевна",null,"L5_1"]
[null,null,null,null,null,null,"Должность исполнителя","Начальник Планово-экономического отдела",null,"L5_2"]
[null,null,null,null,null,null,"Контактный телефон исполнителя","8 (384-52) 96-600",null,"L5_3"]
[null,null,null,null,null,null,"e-mail исполнителя","ekonom.gos@bk.ru",null,"L5_4"]
[]
[null,null,null,null,"Перечень нормативных правовых актов, использованных в процессе проведения экспертизы предложения об установлении тарифов:"]
[null,null,null,null,"1. Гражданский кодекс Российской Федерации;"]
[null,null,null,null,"2. Налоговый кодекс Российской Федерации;"]
[null,null,null,null,"3. Федеральный закон от 17.08.1995 № 147-ФЗ \"О естественных монополиях\";"]
[null,null,null,null,"4. Федеральный закон от 26.07.2006 № 135-ФЗ \"О защите конкуренции\";"]
[null,null,null,null,"5. Федеральный закон от 07.12.2011 № 416-ФЗ \"О водоснабжении и водоотведении\";"]
[null,null,null,null,"6. Федеральный закон от 23.11.2009 № 261-ФЗ \"Об энергосбережении и о повышении энергетической эффективности, и о внесении изменений в отдельные законодательные акты Российской Федерации\";"]
[null,null,null,null,"7. Постановление Правительства Российской Федерации от 13.05.2013 № 406 \"О государственном регулировании тарифов в сфере водоснабжения и водоотведения\";"]
[null,null,null,null,"8. Постановление Правительства Российской Федерации от 29.07.2013 № 641 \"Об инвестиционных и производственных программах организаций, осуществляющих деятельность в сфере водоснабжения и водоотведения\";"]
[null,null,null,null,"9. Методические указания по расчету регулируемых тарифов в сфере водоснабжения и водоотведения, утвержденные приказом ФСТ России от 27.12.2013 № 1746-э;"]
[null,null,null,null,"10. Регламент установления регулируемых тарифов в сфере водоснабжения и водоотведения, утвержденный приказом ФСТ России от 16.07.2014 № 1154-э;"]
[null,null,null,null,"11. Приказ Минстроя России от 25.12.2014 № 22/пр \"Об утверждении Порядка ведения раздельного учета затрат по видам деятельности организаций, осуществляющих горячее водоснабжение, холодное водоснабжение и (или) водоотведение, и единой системы классификации таких затрат\";"]
[null,null,null,null,"12. Приказ Минстроя России от 04.04.2014 № 162/пр \"Об утверждении перечня показателей надежности, качества, энергетической эффективности объектов централизованных систем горячего водоснабжения, холодного водоснабжения и (или) водоотведения, порядка и правил определения плановых значений и фактических значений таких показателей\";"]
[null,null,null,null,"13. Приказ Минстроя России от 23.03.2020 №154/пр \"Об утверждении типовых отраслевых норм численности работников водопроводно-канализационного хозяйства\";"]
[null,null,null,null,"14. Иные нормативные правовые акты Российской Федерации."]
[null,null,null,null,null,null,{"$f":"COUNTIF(H121:H135,\"Водоснабжение\")-COUNTIF(H121:H135,\"Транспортировка воды\")>0","v":false},{"$f":"COUNTIF(H121:H135,\"Водоотведение\")-COUNTIF(H121:H135,\"Транспортировка сточных вод\")>0","v":true},{"$f":"COUNTIF(H121:H135,\"Транспортировка воды\")>0","v":false},{"$f":"COUNTIF(H121:H135,\"Транспортировка сточных вод\")>0","v":false}]
[null,null,null,null,"2. Информация о рассмотрении дела об установлении тарифов"]
[null,null,null,null,"Реквизиты решения, которым установлены действующие тарифы",null,"Организация регулируется впервые","нет",null,"L6_1"]
[null,null,null,null,null,null,"Вид","постановление",null,"L6_2"]
[null,null,null,null,null,null,"Номер","625",null,"L6_3"]
[null,null,null,null,null,null,"Дата принятия","25.11.2022",null,"L6_4"]
[null,null,null,"0",{"$f":"\"Заявление организации\"","v":"Заявление организации"}]
[null,null,null,"1",null,null,{"$f":"\"Тариф \" & D122","v":"Тариф 1"},"Водоотведение","О",{"$f":"G122 & \" (\" &H122& \") - \" &H124 & IF(H128=\"\",\"\",\" (\" & H128 & \")\")","v":"Тариф 1 (Водоотведение) - тариф на водоотведение"},{"$f":"H127","v":"без дифференциации"},{"$f":"H124","v":"тариф на водоотведение"},{"$f":"H128","v":0},{"$f":"H125","v":"одноставочный"}]
[null,null,null,null,null,null,"Номер тарифа (идентификатор)","ВО.42.26428076.0002"]
[null,null,null,null,null,null,"Вид тарифа","тариф на водоотведение"]
[null,null,null,null,null,null,"Тип тарифа","одноставочный"]
[null,null,null,null,null,null,"Вид(-ы) деятельности","Приём сточных вод :: Очистка сточных вод :: Транспортировка сточных вод"]
[null,null,null,null,null,null,{"$f":"IF(H122=\"Водоотведение\",\"Вид сточных вод\",\"Вид воды\")","v":"Вид сточных вод"},"без дифференциации"]
[null,null,null,null,null,null,"Дополнительный признак дифференциации тарифа"]
[null,{"$f":"org_declaration=\"Заявление организации\"","v":true},null,null,null,null,"Номер входящий"]
[null,true,null,null,null,null,"Дата регистрации"]
[null,true,null,null,null,null,"Дополнительные сведения"]
[null,true,null,null,null,null,"Метод регулирования, предложенный организацией"]
[null,true,null,null,null,null,{"$f":"IF(OR(H132=\"экономически обоснованных расходов (затрат)\",H132=\"сравнения аналогов\"),\"Период регулирования\",\"Первый год долгосрочного периода регулирования, предложенный организацией\")","v":"Первый год долгосрочного периода регулирования, предложенный организацией"}]
[null,true,null,null,null,null,"Период долгосрочной индексации (количество лет)"]
[null,null,null,null,null,null,"Добавить тариф"]
[null,null,null,null,"Решение об открытии дела об установлении тарифов",null,"Номер дела об установлении тарифа","№ 53-ВО",null,"L7_2"]
[null,null,null,null,null,null,"ФИО уполномоченного по делу","Белоусова Ирина Анатольевна",null,"L7_3"]
[null,null,null,null,null,null,"Должность уполномоченного по делу","Главный консультант",null,"L7_4"]
[null,null,null,null,null,null,"Контактный телефон уполномоченного по делу","8 (384-2) 34-94-52",null,"L7_5"]
[null,null,null,null,null,null,"e-mail уполномоченного по делу","belousova_ia.71@mail.ru",null,"L7_6"]
[null,null,null,null,null,null,"Добавить строку"]
[null,null,null,null,null,null,"Выбранный метод регулирования",{"$f":"\"индексации\" & IF(god=first_year,\"\",\" (корректировка)\")","v":"индексации (корректировка)"}]
[null,null,null,null,null,null,"Период регулирования (корректировки)",{"$f":"god","v":2025}]
[null,null,null,null,null,null,"Первый год долгосрочного периода регулирования",{"$f":"first_year","v":2019}]
[null,null,null,null,null,null,"Период долгосрочной индексации (количество лет)",{"$f":"PERIOD_LENGTH","v":10}]
[null,null,null,null,"Представленные документы и материалы достаточны и предложение регулируемой организации об установлении тарифов соответствует законодательству Российской Федерации",null,null,"да"]
[]
[null,null,null,null,"Тариф корректируется только на период регулирования",null,null,"да",null,"L9"]

{"sheet":"Список территорий","index":14,"n_rows":18,"n_cols":19,"rows_kept":18,"cut":false,"hidden":false,"merged":[[11,11,11,16]]}
[null,null,null,null,null,null,null,null,null,null,null,null,"MR_NAME","MO_NAME","OKTMO","","","",""]
[null,null,null,null,null,null,null,null,null,null,null,null,"","","","","","",""]
[null,null,null,null,null,null,null,null,null,null,null,null,"","","","","","",""]
[null,null,null,null,null,null,null,null,null,null,null,null,"","","","","","",""]
[null,null,null,null,null,null,null,null,null,null,null,null,"","","","","","",""]
[null,null,null,null,null,null,null,null,null,null,null,null,"","","","","","",""]
[null,null,null,null,null,null,null,null,null,null,null,null,"","","","","","",""]
[null,null,null,null,null,null,null,null,null,null,null,null,"","","","","","",""]
[null,null,null,null,null,null,null,null,null,null,null,null,"","","","","","",""]
[null,null,null,null,null,null,null,null,null,null,null,null,"","","","","","",""]
[null,null,null,null,null,null,null,null,null,null,null,null,{"$f":"tpl_title","v":"Кемеровская область / 2025 / ООО\"БелГОС\" (ИНН:4202023230, КПП:420201001) / ДПР: 2019-2028"},"","","","","",""]
[null,null,null,null,null,null,null,null,null,null,null,"3. Перечень муниципальных образований, на территории которых организация оказывает услуги холодного водоснабжения / водоотведения",null,null,null,null,null,"",""]
[null,null,null,null,null,null,null,null,null,null,null,null,"","","","","","",""]
[null,null,null,null,null,null,null,null,null,null,null,"№ п/п","Муниципальный район","Муниципальное образование","ОКТМО","Тип муниципального образования ","Дополнительные сведения"]
[{"$f":"'Общие сведения'!$D$122","v":"1"},null,null,null,null,null,null,null,null,null,null,{"$f":"INDEX('Общие сведения'!$J$121:$J$135,MATCH($A15,'Общие сведения'!$D$121:$D$135,0))","v":"Тариф 1 (Водоотведение) - тариф на водоотведение"}]
[{"$f":"A15","v":"1"},null,null,null,null,null,null,null,null,null,null,"1","город Белово","город Белово","32707000",null,"Зона деятельности гарантирующей организации определена в границах  центральной части г. Белово, пгт. Грамотеино, пгт. Инской."]
[{"$f":"A15","v":"1"},null,null,null,null,null,null,null,null,null,null,null,"Добавить территорию"]
[null,null,null,null,null,null,null,null,null,null,null,null,"","","","","","",""]

{"sheet":"Список объектов","index":15,"n_rows":40,"n_cols":19,"rows_kept":40,"cut":false,"hidden":false,"merged":[[20,14,20,18],[11,11,11,18],[13,11,14,11],[12,15,12,16],[13,12,14,12],[13,13,14,13],[13,18,14,18]]}
[null,null,null,null,null,null,null,null,null,null,null,null,null,null,{"$f":"god-2","v":2023},{"$f":"god-1","v":2024},{"$f":"god","v":2025},{"$f":"god","v":2025},{"$f":"god","v":2025}]
[null,null,null,null,null,null,null,null,null,null,null,null,null,null,"Не определено","Принято органом регулирования","Предложение организации","Принято органом регулирования","Не определено"]
[]
[]
[]
[]
[]
[]
[]
[]
[null,null,null,null,null,null,null,null,null,null,null,null,{"$f":"tpl_title","v":"Кемеровская область / 2025 / ООО\"БелГОС\" (ИНН:4202023230, КПП:420201001) / ДПР: 2019-2028"}]
[null,null,null,null,null,null,null,null,null,null,null,"4. Перечень объектов организации, с помощью которых организация оказывает услуги холодного водоснабжения/ водоотведения"]
[]
[null,null,null,null,null,null,null,null,null,null,null,"№ п/п","Наименование показателя","Единица измерения",{"$f":"god-2 & \" год\"","v":"2023 год"},{"$f":"god-1 & \" год\"","v":"2024 год"},{"$f":"god & \" год\"","v":"2025 год"},{"$f":"god & \" год\"","v":"2025 год"},"Комментарии"]
["t",null,null,null,null,null,null,null,null,null,null,null,null,null,"Принято органом регулирования","Принято органом регулирования","Предложение организации","Принято органом регулирования"]
[{"$f":"'Общие сведения'!$D$122","v":"1"},null,null,null,null,null,null,null,null,null,null,{"$f":"INDEX('Общие сведения'!$J$121:$J$135,MATCH($A16,'Общие сведения'!$D$121:$D$135,0))","v":"Тариф 1 (Водоотведение) - тариф на водоотведение"}]
[{"$f":"A16","v":"1"},"L1","L3",{"$f":"M17&\"::\"&N17","v":"Биологические очистные сооружения::ед."},null,null,null,null,null,null,null,1,"Биологические очистные сооружения","ед.",4,4,null,4]
[{"$f":"A17","v":"1"},"L1","L3",{"$f":"M18&\"::\"&N18","v":"Канализационные насосные станции::ед."},null,null,null,null,null,null,null,2,"Канализационные насосные станции","ед.",10,10,null,10]
[{"$f":"A18","v":"1"},"L1","L3",{"$f":"M19&\"::\"&N19","v":"Канализационные сети::км"},null,null,null,null,null,null,null,3,"Канализационные сети","км",119.3,119.3,null,119.3]
[{"$f":"A19","v":"1"},{"$f":"A20&\"pIns\"","v":"1pIns"},null,null,null,null,null,null,null,null,null,null,"Добавить"]
[{"$f":"A20","v":"1"},"L2","L3",{"$f":"M21","v":"Краткое описание технологического процесса"},null,null,null,null,null,null,null,null,"Краткое описание технологического процесса",null,"ОЧИСТНЫЕ СООРУЖЕНИЯ Г.  БЕЛОВО (ВЫПУСК № 1).  Действующие очистные сооружения канализации расположены в центральной части  г. Белово. Проектная производительность составляет 30,0 тыс. м3/сут, или 10950,0 тыс. м3/год; фактическая – около 5901,0 тыс. м3/год. Хозяйственно-бытовые сточные воды от объектов жилищного фонда, предприятий и организаций, собственных производственных участков  ООО «БелГОС», а также ливневые сточные воды поступают по коллектору в приемную камеру главной насосной станции (ГНС). С ГНС сточная вода насосами подается на механическую многоступенчатую решетку РС-1000, где задерживаются грубодисперсные минеральные примеси. Далее сточные воды поступают в песколовки, предназначенные для очищения вод от тяжелых примесей минерального происхождения. Сточная вода возвращается на ГНС, а песок с песколовок сбрасывается на песковую площадку. В первичных отстойниках осаждаются взвешенные вещества (40-70%), плавающие нефтепродукты, жиры и частично органические (15-40%) вещества, присутствующие в сточных водах. Выпавший на дно отстойника сырой осадок периодически выгружается в емкость сырого осадка и избыточного ила. Насосами насосно-воздуходувной станции сырой осадок подается в илоуплотнитель и затем на фильтр-пресс. После первичных отстойников сточная вода поступает в аэротенки для биологической очистки. Процесс биологической очистки происходит при непосредственном контакте сточных вод с микроорганизмами активного ила в присутствии растворенного кислорода. В аэротенки подается воздух с насосно-воздуходувной станции. С аэротенков очищенная вода поступает во вторичные отстойники, где происходит отделение активного ила от воды. Активный ил из вторичных отстойников возвращается в аэротенки, а излишки подаются в емкость сырого осадка и избыточного ила. Очищенная осветленная вода из вторичных отстойников поступает в контактные отстойники, куда подается гипохлорит натрия из хлораторной для обеззараживания стоков. После этого очищенная сточная вода по коллектору отводится в р. Большой Бачат. \n\nОЧИСТНЫЕ СООРУЖЕНИ ПОС. ИНСКОЙ (ВЫПУСК № 2).  Очистные сооружения расположены на левом берегу руч. Митрохин. Проектная производительность – 10 тыс. м3/сут. (3650 тыс. м3/год), фактическая – около 2549,40 тыс. м3. Сброс сточных вод осуществляется в границах населенного пункта –  городской округ г. Белово (КАР/ОБЬ/2965/542). Хозяйственно-бытовые сточные воды от объектов жилищного фонда, предприятий и организаций, собственных производственных участков  ООО «БелГОС», а также ливневые сточные воды поступают по коллектору в приемную камеру гашения напора, оборудованную насосами и решетками-дробилками. Далее стоки поступают в 2 горизонтальные песколовки с круговым движением воды. Осевший осадок с песколовок удаляется на 2 песковые площадки. Отстоянная вода с площадок вновь перекачивается в приемную камеру. Из песколовок сточная вода самотеком поступает в 4 первичных отстойника радиального типа. Биологическая очистка сточных вод происходит в 4-х аэротенках коридорного типа с пневматической аэрацией. Иловая смесь в аэротенке аэрируется сжатым воздухом. Далее стоки направляются в 4 вторичных горизонтальных отстойника для задержания активного ила. Минерализованный осадок из вторичных отстойников подается на 3 иловые карты. Обезвоживание осадка происходит естественным путем. Осветленная сточная вода отводится через лотки в трубопровод для переспуска в блок доочистки (биореакторы с сетчатой загрузкой). Биореактор представляет собой контейнеры с сетчатыми металлическими рамами, на которых прикрепляется биоценоз – сапрофитные аэробные бактерии. Сточные воды, проходя через рамы, обрабатываются прикрепленной к сеткам биомассой. Далее стоки поступают в контактные резервуары, где происходит их обеззараживание гипохлоритом натрия. Очищенная и обеззараженная сточная вода по самотечному коллектору направляется в руч. Митрохин. \n\nОЧИСТНЫЕ СООРУЖЕНИЯ ПОС. КОЛМОГОРЫ (ВЫПУСК № 3 КАР/ОБЬ/2965).  Действующие очистные сооружения с проектной производительностью 5,9 тыс. м3/сут (2153,5 тыс. м3/год, фактическая – около 980,6 тыс. м3/год) расположены на левом берегу р. Иня. Сточные воды, собираемые от абонентов в коллектор, поступают в приемную камеру насосной станции, где происходит гашение напора, и далее, пройдя через решетки, направляются на песколовки, предназначенные для освобождения стоков от тяжелых примесей минерального происхождения. Затем сточная вода распределяется по секциям блока емкостей и поступает в аэротенки продленной аэрации. Аэрация обеспечивается подачей сжатого воздуха через перфорированные трубы, уложенные на дне аэротенка. Атмосферный воздух проходит воздухозаборную камеру с фильтрами и подается турбовоздуходувками, расположенными в галерее обслуживания. Из аэротенков иловая смесь поступает во вторичные отстойники, где происходит разделение сточной воды и активного ила. Осветленная сточная вода отводится через лотки в трубопровод для переспуска в блок доочистки, а отстоявшийся активный ил эрлифтами, через объединенный трубопровод, постоянно отводится в начало аэротенков. При увеличении дозы ила в аэротенке, в результате прироста биомассы, избыточный активный ил направляется в аэробный стабилизатор, откуда стабилизированный ил отводится на иловые площадки. Очищенные стоки из блока емкостей биологической очистки поступают на доочистку, где, пройдя барабанные сетки, отводятся в приемный резервуар, который служит одновременно воздухоотделителем. Из приемного резервуара вода подается насосами во входную камеру и далее – на песчаные фильтры с восходящим потоком. Отфильтрованная вода собирается в сборный желоб, из которого отводится на контактные резервуары для обработки гипохлоритом натрия. В р. Иня стоки отводятся по самотечному коллектору диаметром 500 мм, длиной 800 м (КАР/ОБЬ/2965). )\n\nОЧИСТНЫЕ СООРУЖЕНИЯ МКР-НА \"ИВУШКИ\" (пос. ГРАМОТЕИНО, ВЫПУСК № 4). Действующие очистные сооружения расположены на левом берегу р. Мереть (выпуск КАР/ОБЬ/2965/528, на расстоянии 4 км от устья). Проектная производительность очистных сооружений – 1,4 тыс. м3/сут (511,0 тыс. м3/год), фактическая – около 248,76 тыс. м3/год. Сточные воды по коллектору поступают в приемную камеру канализационной насосной станции, оборудованной решетками-дробилками; затем проходят через песколовки. После выделения песка сточные воды самотеком поступают в аэротенки продленной аэрации. Иловая смесь в аэротенке аэрируется сжатым воздухом, подаваемым через перфорированные трубы. Из аэротенков иловая смесь подается во вторичные отстойники, где происходит осветление сточной воды. Далее стоки отводятся через лотки в трубопровод для переспуска в блок доочистки, а после доочистки – в контактные резервуары, где обеззараживаются гипохлоритом натрия. После обеззараживания сточная вода отводится по безнапорному коллектору (Ду – 450 мм, L – 260 м) в р. Мереть."]
[]
[null,null,null,null,null,null,null,null,null,null,null,"5. Правоустанавливающие и подтверждающие документы на объекты коммунальной инфраструктуры"]
[null,null,null,null,null,null,null,null,null,null,null,null,"L1","L2","L3","L4_1","L4_2","L5"]
["t",null,null,null,null,null,null,null,null,null,null,"№ п/п","Объект коммунальной инфраструктуры","Основание эксплуатации","Вид документа","Номер документа","Дата документа","Срок действия"]
[null,null,null,"ВО",null,"КНС","КНС \"Вокзал\"","г Белово / ул.Юбилейная / нет",null,null,"О",1,{"$f":"F26&\" :: \" &G26&\" :: \" & H26","v":"КНС :: КНС \"Вокзал\" :: г Белово / ул.Юбилейная / нет"},"концессионное соглашение","соглашение","№ 1","26.12.2018","10.01.2019 - 31.12.2028"]
[null,null,null,"ВО",null,"КНС","КНС \"Горсад\"","г Белово / ул.Советская / нет",null,null,"О",2,"КНС :: КНС \"Горсад\" :: г Белово / ул.Советская / нет","концессионное соглашение","соглашение","№ 1","26.12.2018","10.01.2019 - 31.12.2028"]
[null,null,null,"ВО",null,"КНС с сетями","КНС \"Машзавод\"","г Белово / ул.2-я Рабочая / нет",null,null,"О",3,"КНС с сетями :: КНС \"Машзавод\" :: г Белово / ул.2-я Рабочая / нет","аренда","договор","03/19","01.06.2019","01.06.2019 - 01.06.2022, доп. соглашением  от 02.06.2022 продлен до 31.12.2024."]
[null,null,null,"ВО",null,"КНС","КНС \"Элеватор\"","г Белово / ул.Железнодорожная / нет",null,null,"О",4,"КНС :: КНС \"Элеватор\" :: г Белово / ул.Железнодорожная / нет","концессионное соглашение","соглашение","№ 1","26.12.2018","10.01.2019 - 31.12.2028"]
[null,null,null,"ВО",null,"КНС","КНС м-н \"Ивушка\"","пгт Грамотеино / мкр. Ивушка / нет",null,null,"О",5,"КНС :: КНС м-н \"Ивушка\" :: пгт Грамотеино / мкр. Ивушка / нет","концессионное соглашение","соглашение","№ 1","26.12.2018","10.01.2019 - 31.12.2028"]
[null,null,null,"ВО",null,"КНС","КНС пгт.Грамотеино","пгт Грамотеино / ул.Светлая / нет",null,null,"О",6,"КНС :: КНС пгт.Грамотеино :: пгт Грамотеино / ул.Светлая / нет","концессионное соглашение","соглашение","№ 1","26.12.2018","10.01.2019 - 31.12.2028"]
[null,null,null,"ВО",null,"КНС","КНС пгт.Инской","пгт Инской / мкр. Технологический / 1",null,null,"О",7,"КНС :: КНС пгт.Инской :: пгт Инской / мкр. Технологический / 1","аренда","договор","Т-5-А14","17.12.2014","01.01.2015 - 25.12.2015 (ежегодная авто-пролонгация)"]
[null,null,null,"ВО",null,"ОС","Очистные сооружения г.Белово","г Белово / ул.Кузбасская / 6",null,null,"О",8,"ОС :: Очистные сооружения г.Белово :: г Белово / ул.Кузбасская / 6","концессионное соглашение","соглашение","№ 1","26.12.2018","10.01.2019 - 31.12.2028"]
[null,null,null,"ВО",null,"КНС с ОС и сетями","Очистные сооружения м-н\"Ивушка\"","пгт Грамотеино / мкр. Ивушка / нет",null,null,"О",9,"КНС с ОС и сетями :: Очистные сооружения м-н\"Ивушка\" :: пгт Грамотеино / мкр. Ивушка / нет","концессионное соглашение","соглашение","№ 1","26.12.2018","10.01.2019 - 31.12.2028"]
[null,null,null,"ВО",null,"ОС","Очистные сооружения п.Инской","пгт Инской / мкр. Технологический / 26",null,null,"О",10,"ОС :: Очистные сооружения п.Инской :: пгт Инской / мкр. Технологический / 26","концессионное соглашение","соглашение","№ 1","26.12.2018","10.01.2019 - 31.12.2028"]
[null,null,null,"ВО",null,"ОС","Очистные сооружения пгт.Грамотеино","пгт Грамотеино / нет / нет",null,null,"О",11,"ОС :: Очистные сооружения пгт.Грамотеино :: пгт Грамотеино / нет / нет","концессионное соглашение","соглашение","№ 1","26.12.2018","10.01.2019 - 31.12.2028"]
[null,null,null,"ВО",null,"сеть","Сети г.Белово","г Белово / г.Белово / нет",null,null,"О",12,"сеть :: Сети г.Белово :: г Белово / г.Белово / нет","концессионное соглашение","соглашение","№ 1","26.12.2018","10.01.2019 - 31.12.2028"]
[null,null,null,"ВО",null,"сеть","Сети п.Инской","пгт Инской / пгт Инской / нет",null,null,"О",13,"сеть :: Сети п.Инской :: пгт Инской / пгт Инской / нет","концессионное соглашение","соглашение","№ 1","26.12.2018","10.01.2019 - 31.12.2028"]
[null,null,null,"ВО",null,"сеть","Сети пгт.Грамотеино","пгт Грамотеино / пгт Грамотеино / нет",null,null,"О",14,"сеть :: Сети пгт.Грамотеино :: пгт Грамотеино / пгт Грамотеино / нет","концессионное соглашение","соглашение","№ 1","26.12.2018","10.01.2019 - 31.12.2028"]
["t",null,null,null,null,null,null,null,null,null,null,null,"Добавить объект"]

{"sheet":"Сценарии","index":16,"n_rows":34,"n_cols":42,"rows_kept":34,"cut":false,"hidden":false,"merged":[[13,11,14,11],[13,12,14,12],[13,13,14,13]]}
[null,null,null,null,null,null,null,null,null,null,null,null,null,null,{"$f":"god-2","v":2023},{"$f":"god-2","v":2023},{"$f":"god-2","v":2023},{"$f":"god-2","v":2023},{"$f":"god-1","v":2024},{"$f":"god","v":2025},{"$f":"god","v":2025},{"$f":"god","v":2025},{"$f":"god","v":2025},{"$f":"god","v":2025},{"$f":"god+1","v":2026},{"$f":"god+1","v":2026},{"$f":"god+2","v":2027},{"$f":"god+2","v":2027},{"$f":"god+3","v":2028},{"$f":"god+3","v":2028},{"$f":"god+4","v":2029},{"$f":"god+4","v":2029},{"$f":"god+5","v":2030},{"$f":"god+5","v":2030},{"$f":"god+6","v":2031},{"$f":"god+6","v":2031},{"$f":"god+7","v":2032},{"$f":"god+7","v":2032},{"$f":"god+8","v":2033},{"$f":"god+8","v":2033},{"$f":"god+9","v":2034},{"$f":"god+9","v":2034}]
[null,null,null,null,null,null,null,null,null,null,null,null,null,null,{"$f":"O15","v":"Принято органом регулирования"},"Факт по данным организации","Факт, принятый органом регулирования","Комментарии","Принято органом регулирования","Предложение организации",{"$f":"U15","v":"Принято органом регулирования"},"% роста / снижения","Отклонение (принято органом регулирования - заявлено организацией)","Комментарии","Предложение организации","Принято органом регулирования","Предложение организации","Принято органом регулирования","Предложение организации","Принято органом регулирования","Предложение организации","Принято органом регулирования","Предложение организации","Принято органом регулирования","Предложение организации","Принято органом регулирования","Предложение организации","Принято органом регулирования","Предложение организации","Принято органом регулирования","Предложение организации","Принято органом регулирования"]
[null,null,null,null,null,null,null,null,null,null,null,null,null,null,{"$f":"O1&O2","v":"2023Принято органом регулирования"},"2023Факт по данным организации","2023Факт, принятый органом регулирования","2023Комментарии","2024Принято органом регулирования","2025Предложение организации","2025Принято органом регулирования","2025% роста / снижения","2025Отклонение (принято органом регулирования - заявлено организацией)","2025Комментарии","2026Предложение организации","2026Принято органом регулирования","2027Предложение организации","2027Принято органом регулирования","2028Предложение организации","2028Принято органом регулирования","2029Предложение организации","2029Принято органом регулирования","2030Предложение организации","2030Принято органом регулирования","2031Предложение организации","2031Принято органом регулирования","2032Предложение организации","2032Принято органом регулирования","2033Предложение организации","2033Принято органом регулирования","2034Предложение организации","2034Принято органом регулирования"]
[]
[]
[]
[null,null,null,null,null,null,null,null,null,null,null,null,null,null,null,null,null,null,null,null,null,null,null,null,{"$f":"Y1<=last_year_vis","v":false},false,false,false,false,false,false,false,false,false,false,false,false,false,false,false,false,false]
[]
[]
[]
[null,null,null,null,null,null,null,null,null,null,null,null,{"$f":"tpl_title","v":"Кемеровская область / 2025 / ООО\"БелГОС\" (ИНН:4202023230, КПП:420201001) / ДПР: 2019-2028"}]
[null,null,null,null,null,null,null,null,null,null,null,"6. Ключевые сценарные показатели"]
[]
[null,null,null,null,null,null,null,null,null,null,null,"№ п/п","Наименование параметра","Единица измерения",{"$f":"god-2 & \" год\"","v":"2023 год"},{"$f":"god-2 & \" год\"","v":"2023 год"},{"$f":"god-2 & \" год\"","v":"2023 год"},{"$f":"god-2 & \" год\"","v":"2023 год"},{"$f":"god-1 & \" год\"","v":"2024 год"},{"$f":"god & \" год\"","v":"2025 год"},{"$f":"god & \" год\"","v":"2025 год"},{"$f":"god & \" год\"","v":"2025 год"},{"$f":"god & \" год\"","v":"2025 год"},{"$f":"god & \" год\"","v":"2025 год"},{"$f":"god+1 & \" год\"","v":"2026 год"},{"$f":"god+1 & \" год\"","v":"2026 год"},{"$f":"god+2 & \" год\"","v":"2027 год"},{"$f":"god+2 & \" год\"","v":"2027 год"},{"$f":"god+3 & \" год\"","v":"2028 год"},{"$f":"god+3 & \" год\"","v":"2028 год"},{"$f":"god+4 & \" год\"","v":"2029 год"},{"$f":"god+4 & \" год\"","v":"2029 год"},{"$f":"god+5 & \" год\"","v":"2030 год"},{"$f":"god+5 & \" год\"","v":"2030 год"},{"$f":"god+6 & \" год\"","v":"2031 год"},{"$f":"god+6 & \" год\"","v":"2031 год"},{"$f":"god+7 & \" год\"","v":"2032 год"},{"$f":"god+7 & \" год\"","v":"2032 год"},{"$f":"god+8 & \" год\"","v":"2033 год"},{"$f":"god+8 & \" год\"","v":"2033 год"},{"$f":"god+9 & \" год\"","v":"2034 год"},{"$f":"god+9 & \" год\"","v":"2034 год"}]
["t",null,null,null,null,null,null,null,null,null,null,null,null,null,"Принято органом регулирования","Факт по данным организации","Факт, принятый органом регулирования","Комментарии","Принято органом регулирования","Предложение организации","Принято органом регулирования","% роста / снижения","Отклонение (принято органом регулирования - заявлено организацией)","Комментарии","Предложение организации","Принято органом регулирования","Предложение организации","Принято органом регулирования","Предложение организации","Принято органом регулирования","Предложение организации","Принято органом регулирования","Предложение организации","Принято органом регулирования","Предложение организации","Принято органом регулирования","Предложение организации","Принято органом регулирования","Предложение организации","Принято органом регулирования","Предложение организации","Принято органом регулирования"]
[{"$f":"'Общие сведения'!$D$122","v":"1"},null,null,null,null,null,null,null,null,null,null,{"$f":"INDEX('Общие сведения'!$J$121:$J$135,MATCH($A16,'Общие сведения'!$D$121:$D$135,0))","v":"Тариф 1 (Водоотведение) - тариф на водоотведение"}]
[{"$f":"A16","v":"1"},"ИОР",null,null,null,null,null,null,null,null,null,null,"Индексы",null,null,null,null,null,{"$f":"(1-S18/100)*(1+S19/100)*(1+S21/100)","v":1.0692000000000002},{"$f":"(1-T18/100)*(1+T19/100)*(1+T21/100)","v":1},{"$f":"(1-U18/100)*(1+U19/100)*(1+U21/100)","v":1.04742},null,null,null,{"$f":"(1-Y18/100)*(1+Y19/100)*(1+Y21/100)","v":1},{"$f":"(1-Z18/100)*(1+Z19/100)*(1+Z21/100)","v":1},{"$f":"(1-AA18/100)*(1+AA19/100)*(1+AA21/100)","v":1},{"$f":"(1-AB18/100)*(1+AB19/100)*(1+AB21/100)","v":1},{"$f":"(1-AC18/100)*(1+AC19/100)*(1+AC21/100)","v":1},{"$f":"(1-AD18/100)*(1+AD19/100)*(1+AD21/100)","v":1},1,1,1,1,1,1,1,1,1,1,1,1]
[{"$f":"A17","v":"1"},"ИЭР","L1_1",null,null,null,null,null,null,null,null,1,"Индекс эффективности операционных расходов","%",1,null,1,"В соответствии с утвержденными долгосрочными параметрами регулирования тарифов (Постановление региональной энергетической комиссии Кемеровской области от 19.12.2018 № 759, в редакции Постановлений Региональной энергетической комиссии \nот 24.11.2020 N 427, от 11.02.2021 N 60).",1,null,1,{"$f":"IF(S18<>0,U18/S18,0)","v":1},{"$f":"U18-T18","v":1},"В соответствии с утвержденными долгосрочными параметрами регулирования тарифов (Постановление региональной энергетической комиссии Кемеровской области от 19.12.2018 № 759, в редакции Постановлений Региональной энергетической комиссии \nот 24.11.2020 N 427, от 11.02.2021 N 60)."]
["1","ИПЦ","L1_2",null,null,null,null,null,null,null,null,2,"Индекс потребительских цен","%",5.8,null,5.9,"\"Прогноз соц.-экономического развития РФ на 2025 год и на плановый период 2026 и 2027 годов\" (опубликован на официальном сайте Минэкономразвития России 30.09.2024). ",8,null,5.8,{"$f":"IF(S19<>0,U19/S19,0)","v":0.72499999999999998},{"$f":"U19-T19","v":5.8},"\"Прогноз соц.-экономического развития РФ на 2025 год и на плановый период 2026 и 2027 годов\" (опубликован на официальном сайте Минэкономразвития России 30.09.2024). "]
["1",null,"L1_3",null,null,null,null,null,null,null,null,3,"Индекс роста цен на электроэнергию","%",12,12.75,null,null,5.0999999999999996,10,9.8000000000000007,{"$f":"IF(S20<>0,U20/S20,0)","v":1.9215686274509807},{"$f":"U20-T20","v":-0.19999999999999929},"\"Прогноз соц.-экономического развития РФ на 2025 год и на плановый период 2026 и 2027 годов\" (опубликован на официальном сайте Минэкономразвития России 30.09.2024). "]
["1","ИКА","L1_4",null,null,null,null,null,null,null,null,4,"Индекс количества активов","%",0,null,0,null,0,0,0,{"$f":"IF(S21<>0,U21/S21,0)","v":0},{"$f":"U21-T21","v":0}]
["1",null,null,null,null,null,null,null,null,null,null,null,"Налоговые ставки"]
["1","СВФОТ","L2_1",null,null,null,null,null,null,null,null,1,"Ставка страховых взносов с ФОТ","%",30.46,22.43,30.46,"Предусмотрено при расчете базового уровня Операционных расходов",30.46,30.3,30.46,{"$f":"IF(S23<>0,U23/S23,0)","v":1},{"$f":"U23-T23","v":0.16000000000000014},"Предусмотрено при расчете базового уровня Операционных расходов"]
["1",null,"L2_2",null,null,null,null,null,null,null,null,2,"Ставка НДС","%",20,20,20,"Пункт 3 Статьи 164 Главы 21 \"НАЛОГ НА ДОБАВЛЕННУЮ СТОИМОСТЬ\" \"Налогового кодекса Российской Федерации (часть вторая)\" от 05.08.2000 N 117-ФЗ (в редакции от 10.07.2023 № 318-ФЗ). ",20,20,20,{"$f":"IF(S24<>0,U24/S24,0)","v":1},{"$f":"U24-T24","v":0},"Пункт 3 Статьи 164 Главы 21 \"НАЛОГ НА ДОБАВЛЕННУЮ СТОИМОСТЬ\" \"Налогового кодекса Российской Федерации (часть вторая)\" от 05.08.2000 N 117-ФЗ (в редакции от 10.07.2023 № 318-ФЗ). "]
["1",null,null,null,null,null,null,null,null,null,null,3,"Ставка водного налога"]
["1",null,"L3_1_1",null,null,null,null,null,null,null,null,"3.1.1","Ставка водного налога из поверхностных источников для населения","руб./тыс.куб.м.",null,null,null,null,null,null,null,0,0]
["1",null,"L3_1_2",null,null,null,null,null,null,null,null,"3.1.2","Ставка водного налога из поверхностных источников для прочих потребителей","руб./тыс.куб.м.",null,null,null,null,null,null,null,0,0]
["1",null,"L3_2_1",null,null,null,null,null,null,null,null,"3.2.1","Ставка водного налога из подземных источников для населения","руб./тыс.куб.м.",null,null,null,null,null,null,null,0,0]
["1",null,"L3_2_2",null,null,null,null,null,null,null,null,"3.2.2","Ставка водного налога из подземных источников для прочих потребителей","руб./тыс.куб.м.",null,null,null,null,null,null,null,0,0]
["1",null,"L4",null,null,null,null,null,null,null,null,4,"Ставки налога на имущество","%",2.2000000000000002,2.2000000000000002,null,"1) Глава 30 \"НАЛОГ НА ИМУЩЕСТВО ОРГАНИЗАЦИЙ\" \"Налогового кодекса Российской Федерации (часть вторая)\" от 05.08.2000 N 117-ФЗ (в редакции от 10.07.2023 № 318-ФЗ);  2) Закон Кемеровской области - Кузбасса от 26.11.2003 N 60-ОЗ (ред. от 04.09.2023) \"О налоге на имущество организаций\".",2.2000000000000002,2.2000000000000002,2.2000000000000002,1,0,"1) Глава 30 \"НАЛОГ НА ИМУЩЕСТВО ОРГАНИЗАЦИЙ\" \"Налогового кодекса Российской Федерации (часть вторая)\" от 05.08.2000 N 117-ФЗ (в редакции от 10.07.2023 № 318-ФЗ);  2) Закон Кемеровской области - Кузбасса от 26.11.2003 N 60-ОЗ (ред. от 04.09.2023) \"О налоге на имущество организаций\"."]
["1",null,"L5",null,null,null,null,null,null,null,null,5,"Ставка налога при УСН","%",null,null,null,null,null,null,null,0,0]
["1",null,"L6",null,null,null,null,null,null,null,null,"6","Доля общехозяйственных расходов",null,null,null,null,null,null,null,null,0,0]
["1",null,"L7",null,null,null,null,null,null,null,null,"7","Доля общепроизводственных расходов",null,null,null,null,null,null,null,null,0,0]
["t"]

{"sheet":"Баланс","index":17,"n_rows":61,"n_cols":39,"rows_kept":61,"cut":false,"hidden":false,"merged":[[17,11,17,38],[18,13,19,13],[18,38,19,38],[18,11,19,11],[18,12,19,12],[13,11,13,38],[14,13,15,13],[14,38,15,38],[14,11,15,11],[14,12,15,12],[60,11,60,12],[57,11,57,38],[58,11,58,38],[54,38,55,38],[53,11,53,38],[54,13,55,13],[54,11,55,11],[54,12,55,12],[59,11,59,38],[21,11,21,38],[22,38,23,38],[22,13,23,13],[22,11,23,11],[22,12,23,12]]}
[null,null,null,null,null,null,null,null,null,null,null,null,null,null,{"$f":"god-2","v":2023},{"$f":"god-2","v":2023},{"$f":"god-2","v":2023},{"$f":"god-1","v":2024},{"$f":"god","v":2025},{"$f":"god+1","v":2026},{"$f":"god+2","v":2027},{"$f":"god+3","v":2028},{"$f":"god+4","v":2029},{"$f":"god+5","v":2030},{"$f":"god+6","v":2031},{"$f":"god+7","v":2032},{"$f":"god+8","v":2033},{"$f":"god+9","v":2034},{"$f":"god","v":2025},{"$f":"god+1","v":2026},{"$f":"god+2","v":2027},{"$f":"god+3","v":2028},{"$f":"god+4","v":2029},{"$f":"god+5","v":2030},{"$f":"god+6","v":2031},{"$f":"god+7","v":2032},{"$f":"god+8","v":2033},{"$f":"god+9","v":2034}]
[null,null,null,null,null,null,null,null,null,null,null,null,null,null,{"$f":"O16","v":"Принято органом регулирования"},{"$f":"P16","v":"Факт по данным организации"},{"$f":"Q16","v":"Факт, принятый органом регулирования"},{"$f":"R16","v":"Принято органом регулирования"},{"$f":"S16","v":"Предложение организации"},{"$f":"T16","v":"Предложение организации"},"Предложение организации","Предложение организации","Предложение организации","Предложение организации","Предложение организации","Предложение организации","Предложение организации","Предложение организации","Принято органом регулирования","Принято органом регулирования","Принято органом регулирования","Принято органом регулирования","Принято органом регулирования","Принято органом регулирования","Принято органом регулирования","Принято органом регулирования","Принято органом регулирования","Принято органом регулирования"]
[null,null,null,null,null,null,null,null,null,null,null,null,null,null,{"$f":"O1&O2","v":"2023Принято органом регулирования"},{"$f":"P1&P2","v":"2023Факт по данным организации"},{"$f":"Q1&Q2","v":"2023Факт, принятый органом регулирования"},{"$f":"R1&R2","v":"2024Принято органом регулирования"},{"$f":"S1&S2","v":"2025Предложение организации"},{"$f":"T1&T2","v":"2026Предложение организации"},"2027Предложение организации","2028Предложение организации","2029Предложение организации","2030Предложение организации","2031Предложение организации","2032Предложение организации","2033Предложение организации","2034Предложение организации","2025Принято органом регулирования","2026Принято органом регулирования","2027Принято органом регулирования","2028Принято органом регулирования","2029Принято органом регулирования","2030Принято органом регулирования","2031Принято органом регулирования","2032Принято органом регулирования","2033Принято органом регулирования","2034Принято органом регулирования"]
[]
[]
[]
[null,null,null,null,null,null,null,null,null,null,null,null,null,null,null,null,null,null,{"$f":"S1<=last_year_vis","v":true},false,false,false,false,false,false,false,false,false,true,false,false,false,false,false,false,false,false,false]
[]
[]
[]
[null,null,null,null,null,null,null,null,null,null,null,null,{"$f":"tpl_title","v":"Кемеровская область / 2025 / ООО\"БелГОС\" (ИНН:4202023230, КПП:420201001) / ДПР: 2019-2028"}]
[null,null,null,null,null,null,null,null,null,null,null,"7. Баланс водоснабжения / водоотведения"]
[]
[null,null,null,null,null,null,{"$f":"hasVS","v":false},null,null,null,null,"7.1. Баланс водоснабжения"]
[null,null,null,null,null,null,{"$f":"hasVS","v":false},null,null,null,null,"№ п/п","Наименование показателя","Единица измерения",{"$f":"god-2 & \" год\"","v":"2023 год"},{"$f":"god-2 & \" год\"","v":"2023 год"},{"$f":"god-2 & \" год\"","v":"2023 год"},{"$f":"god-1 & \" год\"","v":"2024 год"},{"$f":"god & \" год\"","v":"2025 год"},{"$f":"god+1 & \" год\"","v":"2026 год"},{"$f":"god+2 & \" год\"","v":"2027 год"},{"$f":"god+3 & \" год\"","v":"2028 год"},{"$f":"god+4 & \" год\"","v":"2029 год"},{"$f":"god+5 & \" год\"","v":"2030 год"},{"$f":"god+6 & \" год\"","v":"2031 год"},{"$f":"god+7 & \" год\"","v":"2032 год"},{"$f":"god+8 & \" год\"","v":"2033 год"},{"$f":"god+9 & \" год\"","v":"2034 год"},{"$f":"god & \" год\"","v":"2025 год"},{"$f":"god+1 & \" год\"","v":"2026 год"},{"$f":"god+2 & \" год\"","v":"2027 год"},{"$f":"god+3 & \" год\"","v":"2028 год"},{"$f":"god+4 & \" год\"","v":"2029 год"},{"$f":"god+5 & \" год\"","v":"2030 год"},{"$f":"god+6 & \" год\"","v":"2031 год"},{"$f":"god+7 & \" год\"","v":"2032 год"},{"$f":"god+8 & \" год\"","v":"2033 год"},{"$f":"god+9 & \" год\"","v":"2034 год"},"Ссылка на правовую норму (основание для принятия показателя в расчет тарифа)"]
[null,null,null,null,null,null,{"$f":"hasVS","v":false},null,null,null,null,null,null,null,"Принято органом регулирования","Факт по данным организации","Факт, принятый органом регулирования","Принято органом регулирования","Предложение организации","Предложение организации","Предложение организации","Предложение организации","Предложение организации","Предложение организации","Предложение организации","Предложение организации","Предложение организации","Предложение организации","Принято органом регулирования","Принято органом регулирования","Принято органом регулирования","Принято органом регулирования","Принято органом регулирования","Принято органом регулирования","Принято органом регулирования","Принято органом регулирования","Принято органом регулирования","Принято органом регулирования"]
[null,null,null,null,null,null,{"$f":"hasVS","v":false}]
[null,null,null,null,null,null,{"$f":"hasTranspVS","v":false},null,null,null,null,"7.2. Баланс водоснабжения (транспортировка воды)"]
[null,null,null,null,null,null,{"$f":"hasTranspVS","v":false},null,null,null,null,"№ п/п","Наименование показателя","Единица измерения",{"$f":"god-2 & \" год\"","v":"2023 год"},{"$f":"god-2 & \" год\"","v":"2023 год"},{"$f":"god-2 & \" год\"","v":"2023 год"},{"$f":"god-1 & \" год\"","v":"2024 год"},{"$f":"god & \" год\"","v":"2025 год"},{"$f":"god+1 & \" год\"","v":"2026 год"},{"$f":"god+2 & \" год\"","v":"2027 год"},{"$f":"god+3 & \" год\"","v":"2028 год"},{"$f":"god+4 & \" год\"","v":"2029 год"},{"$f":"god+5 & \" год\"","v":"2030 год"},{"$f":"god+6 & \" год\"","v":"2031 год"},{"$f":"god+7 & \" год\"","v":"2032 год"},{"$f":"god+8 & \" год\"","v":"2033 год"},{"$f":"god+9 & \" год\"","v":"2034 год"},{"$f":"god & \" год\"","v":"2025 год"},{"$f":"god+1 & \" год\"","v":"2026 год"},{"$f":"god+2 & \" год\"","v":"2027 год"},{"$f":"god+3 & \" год\"","v":"2028 год"},{"$f":"god+4 & \" год\"","v":"2029 год"},{"$f":"god+5 & \" год\"","v":"2030 год"},{"$f":"god+6 & \" год\"","v":"2031 год"},{"$f":"god+7 & \" год\"","v":"2032 год"},{"$f":"god+8 & \" год\"","v":"2033 год"},{"$f":"god+9 & \" год\"","v":"2034 год"},"Ссылка на правовую норму (основание для принятия показателя в расчет тарифа)"]
[null,null,null,null,null,null,{"$f":"hasTranspVS","v":false},null,null,null,null,null,null,null,"Принято органом регулирования","Факт по данным организации","Факт, принятый органом регулирования","Принято органом регулирования","Предложение организации","Предложение организации","Предложение организации","Предложение организации","Предложение организации","Предложение организации","Предложение организации","Предложение организации","Предложение организации","Предложение организации","Принято органом регулирования","Принято органом регулирования","Принято органом регулирования","Принято органом регулирования","Принято органом регулирования","Принято органом регулирования","Принято органом регулирования","Принято органом регулирования","Принято органом регулирования","Принято органом регулирования"]
[null,null,null,null,null,null,{"$f":"hasTranspVS","v":false}]
[null,null,null,null,null,null,{"$f":"hasVO","v":true},null,null,null,null,"7.3. Баланс водоотведения"]
[null,null,null,null,null,null,{"$f":"hasVO","v":true},null,null,null,null,"№ п/п","Наименование показателя","Единица измерения",{"$f":"god-2 & \" год\"","v":"2023 год"},{"$f":"god-2 & \" год\"","v":"2023 год"},{"$f":"god-2 & \" год\"","v":"2023 год"},{"$f":"god-1 & \" год\"","v":"2024 год"},{"$f":"god & \" год\"","v":"2025 год"},{"$f":"god+1 & \" год\"","v":"2026 год"},{"$f":"god+2 & \" год\"","v":"2027 год"},{"$f":"god+3 & \" год\"","v":"2028 год"},{"$f":"god+4 & \" год\"","v":"2029 год"},{"$f":"god+5 & \" год\"","v":"2030 год"},{"$f":"god+6 & \" год\"","v":"2031 год"},{"$f":"god+7 & \" год\"","v":"2032 год"},{"$f":"god+8 & \" год\"","v":"2033 год"},{"$f":"god+9 & \" год\"","v":"2034 год"},{"$f":"god & \" год\"","v":"2025 год"},{"$f":"god+1 & \" год\"","v":"2026 год"},{"$f":"god+2 & \" год\"","v":"2027 год"},{"$f":"god+3 & \" год\"","v":"2028 год"},{"$f":"god+4 & \" год\"","v":"2029 год"},{"$f":"god+5 & \" год\"","v":"2030 год"},{"$f":"god+6 & \" год\"","v":"2031 год"},{"$f":"god+7 & \" год\"","v":"2032 год"},{"$f":"god+8 & \" год\"","v":"2033 год"},{"$f":"god+9 & \" год\"","v":"2034 год"},"Ссылка на правовую норму (основание для принятия показателя в расчет тарифа)"]
[null,null,null,null,null,null,{"$f":"hasVO","v":true},null,null,null,null,null,null,null,"Принято органом регулирования","Факт по данным организации","Факт, принятый органом регулирования","Принято органом регулирования","Предложение организации","Предложение организации","Предложение организации","Предложение организации","Предложение организации","Предложение организации","Предложение организации","Предложение организации","Предложение организации","Предложение организации","Принято органом регулирования","Принято органом регулирования","Принято органом регулирования","Принято органом регулирования","Принято органом регулирования","Принято органом регулирования","Принято органом регулирования","Принято органом регулирования","Принято органом регулирования","Принято органом регулирования"]
[{"$f":"'Общие сведения'!$D$122","v":"1"},null,null,null,null,null,null,null,null,null,null,{"$f":"INDEX('Общие сведения'!$J$121:$J$135,MATCH($A25,'Общие сведения'!$D$121:$D$135,0))","v":"Тариф 1 (Водоотведение) - тариф на водоотведение"}]
[{"$f":"A25","v":"1"},null,null,null,null,null,null,null,null,null,null,"1","Вид стоков",null,{"$f":"INDEX('Общие сведения'!$K$121:$K$135,MATCH($A26,'Общие сведения'!$D$121:$D$135,0))","v":"без дифференциации"}]
["1",null,"L2",null,null,null,null,null,null,null,null,"2","Установленная мощность","куб.м/час",1970.8333333333001,null,1970.8333333333001,1970.8333333333001,1970.8333333333001,null,null,null,null,null,null,null,null,null,{"$f":"47.3/24*1000","v":1970.8333333333333},null,null,null,null,null,null,null,null,null,"Согласно данным формы статистического наблюдения \"1-канализация\" за 2023 год."]
["1",null,"L3",null,null,null,null,null,null,null,null,"3","Подключённая (фактическая) нагрузка","куб.м/час",418.21053284890002,{"$f":"P29/365/24*1000","v":452.86095890410957},{"$f":"Q29/365/24*1000","v":452.86095890410957},471.96017395199999,{"$f":"S29/365/24*1000","v":461.6180365296803},0,0,0,0,0,0,0,0,0,447.28436073059362]
["1",null,"L4",null,null,null,null,null,null,null,null,"4","Принято сточных вод, всего","тыс.куб.м",{"$f":"O30+O31+O44","v":3663.5242677567999},{"$f":"P30+P31+P44","v":3967.0619999999999},3967.0619999999999,4134.3711238192,4043.7739999999999,0,0,0,0,0,0,0,0,0,3918.2110000000002,0,0,0,0,0,0,0,0,0]
["1",{"$f":"IF(OwnNeedsInPO=\"да\",\"ПО\",\"\")","v":""},"L5",null,null,null,null,null,null,null,null,"5","Хозяйственные нужды предприятия","тыс.куб.м"]
["1","ПО","L6",null,null,null,null,null,null,null,null,"6","Принято по категориям потребителей","тыс.куб.м",{"$f":"O32+O35+O38+O41","v":3663.5242677567999},{"$f":"P32+P35+P38+P41","v":3967.0619999999999},3967.0619999999999,4134.3711238192,4043.7739999999999,0,0,0,0,0,0,0,0,0,3918.2110000000002,0,0,0,0,0,0,0,0,0,"Пункт 8 Методических указаний ФСТ № 1746-э (в том числе по прочим потребителям - с учетом ожидаемых объемов выбытия указанного абонента)."]
["1",null,"L6_1",null,null,null,null,null,null,null,null,"6.1","Финансируемые из бюджетов всех уровней","тыс.куб.м",{"$f":"O33+O34","v":378.60160464580002},355.56599999999997,355.56599999999997,363.45400000000001,363.28699999999998,0,0,0,0,0,0,0,0,0,358.56700000000001,0,0,0,0,0,0,0,0,0]
["1",null,"L6_1_1",null,null,null,null,null,null,null,null,"6.1.1","по приборам учёта","тыс.куб.м",378.60160464580002,355.56599999999997,355.56599999999997,363.45400000000001,363.28699999999998,null,null,null,null,null,null,null,null,null,358.56700000000001,null,null,null,null,null,null,null,null,null,"Рассчитано в соответствии с Формулами (1) и (1.1), на основании фактических данных о динамике объемов реализации для данной категории потребителей за 2020 - 2023 гг."]
["1",null,"L6_1_2",null,null,null,null,null,null,null,null,"6.1.2","по нормативам","тыс.куб.м"]
["1","население","L6_2",null,null,null,null,null,null,null,null,"6.2","Население","тыс.куб.м",{"$f":"O36+O37","v":2665.1517855091001},2806.951,2806.951,2789.4,2791.5120000000002,0,0,0,0,0,0,0,0,0,2796.9630000000002,0,0,0,0,0,0,0,0,0]
["1",null,"L6_2_1",null,null,null,null,null,null,null,null,"6.2.1","по приборам учёта","тыс.куб.м",2665.1517855091001,2806.951,2806.951,2789.4,2791.5120000000002,null,null,null,null,null,null,null,null,null,2796.9630000000002,null,null,null,null,null,null,null,null,null,"Рассчитано в соответствии с Формулами (1) и (1.1), на основании фактических данных о динамике объемов реализации для данной категории потребителей за 2020 - 2023 гг."]
["1",null,"L6_2_2",null,null,null,null,null,null,null,null,"6.2.2","по нормативам","тыс.куб.м"]
["1",null,"L6_3",null,null,null,null,null,null,null,null,"6.3","Прочие потребители","тыс.куб.м",{"$f":"O39+O40","v":619.7708776019},804.54499999999996,804.54499999999996,981.51712381920004,888.97500000000002,0,0,0,0,0,0,0,0,0,762.68100000000004,0,0,0,0,0,0,0,0,0]
["1",null,"L6_3_1",null,null,null,null,null,null,null,null,"6.3.1","по приборам учёта","тыс.куб.м",619.7708776019,804.54499999999996,804.54499999999996,981.51712381920004,888.97500000000002,null,null,null,null,null,null,null,null,null,762.68100000000004,null,null,null,null,null,null,null,null,null,"Рассчитано в соответствии с Формулами (1) и (1.1), на основании фактических данных о динамике объемов реализации для данной категории потребителей за 2020 - 2023 гг., в том числе объемы по ООО \"Теплоэнергетик\" - на уровне факта 2023 г. (22397 м3), за вычетом объемов по УН 1612 /44  (68153 м3)."]
["1",null,"L6_3_2",null,null,null,null,null,null,null,null,"6.3.2","по нормативам","тыс.куб.м"]
["1",null,"L6_4",null,null,null,null,null,null,null,null,"6.4","Принято сточных вод от других канализационных сетей","тыс.куб.м",{"$f":"O42+O43","v":0},0,0,0,0,0,0,0,0,0,0,0,0,0,0,0,0,0,0,0,0,0,0,0]
["1",null,"L6_4_1",null,null,null,null,null,null,null,null,"6.4.1","по приборам учёта","тыс.куб.м"]
["1",null,"L6_4_2",null,null,null,null,null,null,null,null,"6.4.2","по нормативам","тыс.куб.м"]
[{"$f":"A42","v":"1"},null,"L6_5",null,null,null,null,null,null,null,null,"6.5","Получено от других территорий, дифференцированных по тарифу","тыс.куб.м"]
[{"$f":"A43","v":"1"},null,"L7",null,null,null,null,null,null,null,null,"7","Неучтённый приток сточных вод","тыс.куб.м",0,0,0,0,0,0,0,0,0,0,0,0,0,0,0,null,null,null,null,null,null,null,null,null,"Принято в соответствии с расчетом, выполненным при выдаче цен, значений, параметров регулирования  организатору конкурса на заключение концессионного соглашения (в 2018 г.)"]
["1",null,"L8",null,null,null,null,null,null,null,null,"8","Объём сточных вод, прошедших очистку (справочно)","тыс.куб.м",3663.5242677566998,{"$f":"P29","v":3967.0619999999999},{"$f":"Q29","v":3967.0619999999999},4134.3711238192,{"$f":"S29","v":4043.7739999999999},{"$f":"T29","v":0},0,0,0,0,0,0,0,0,3918.2110000000002]
["1",null,"L9",null,null,null,null,null,null,null,null,"9","Пропущено через собственные очистные сооружения","тыс.куб.м",3663.5242677566998,{"$f":"P46","v":3967.0619999999999},{"$f":"Q46","v":3967.0619999999999},4134.3711238192,{"$f":"S46","v":4043.7739999999999},{"$f":"T46","v":0},0,0,0,0,0,0,0,0,3918.2110000000002]
["1",null,"L10",null,null,null,null,null,null,null,null,"10","Передано сточных вод другим канализациям","тыс.куб.м",{"$f":"O49+O50","v":0},0,0,0,0,0,0,0,0,0,0,0,0,0,0,0,0,0,0,0,0,0,0,0]
["1",null,"L10_1",null,null,null,null,null,null,null,null,"10.1","На очистные сооружения","тыс.куб.м"]
["1",null,"L10_2",null,null,null,null,null,null,null,null,"10.2","В канализационную сеть","тыс.куб.м"]
[{"$f":"A49","v":"1"},null,"L11",null,null,null,null,null,null,null,null,"11","Передано на другие территории, дифференцированные по тарифу","тыс.куб.м"]
[{"$f":"A50","v":"1"},null,"L12",null,null,null,null,null,null,null,null,"12","Сброшенные воды без очистки","тыс.куб.м"]
[null,null,null,null,null,null,{"$f":"hasVO","v":true}]
[null,null,null,null,null,null,{"$f":"hasTranspVO","v":false},null,null,null,null,"7.4. Баланс водоотведения (транспортировка сточных вод)"]
[null,null,null,null,null,null,{"$f":"hasTranspVO","v":false},null,null,null,null,"№ п/п","Наименование показателя","Единица измерения",{"$f":"god-2 & \" год\"","v":"2023 год"},{"$f":"god-2 & \" год\"","v":"2023 год"},{"$f":"god-2 & \" год\"","v":"2023 год"},{"$f":"god-1 & \" год\"","v":"2024 год"},{"$f":"god & \" год\"","v":"2025 год"},{"$f":"god+1 & \" год\"","v":"2026 год"},{"$f":"god+2 & \" год\"","v":"2027 год"},{"$f":"god+3 & \" год\"","v":"2028 год"},{"$f":"god+4 & \" год\"","v":"2029 год"},{"$f":"god+5 & \" год\"","v":"2030 год"},{"$f":"god+6 & \" год\"","v":"2031 год"},{"$f":"god+7 & \" год\"","v":"2032 год"},{"$f":"god+8 & \" год\"","v":"2033 год"},{"$f":"god+9 & \" год\"","v":"2034 год"},{"$f":"god & \" год\"","v":"2025 год"},{"$f":"god+1 & \" год\"","v":"2026 год"},{"$f":"god+2 & \" год\"","v":"2027 год"},{"$f":"god+3 & \" год\"","v":"2028 год"},{"$f":"god+4 & \" год\"","v":"2029 год"},{"$f":"god+5 & \" год\"","v":"2030 год"},{"$f":"god+6 & \" год\"","v":"2031 год"},{"$f":"god+7 & \" год\"","v":"2032 год"},{"$f":"god+8 & \" год\"","v":"2033 год"},{"$f":"god+9 & \" год\"","v":"2034 год"},"Ссылка на правовую норму (основание для принятия показателя в расчет тарифа)"]
[null,null,null,null,null,null,{"$f":"hasTranspVO","v":false},null,null,null,null,null,null,null,"Принято органом регулирования","Факт по данным организации","Факт, принятый органом регулирования","Принято органом регулирования","Предложение организации","Предложение организации","Предложение организации","Предложение организации","Предложение организации","Предложение организации","Предложение организации","Предложение организации","Предложение организации","Предложение организации","Принято органом регулирования","Принято органом регулирования","Принято органом регулирования","Принято органом регулирования","Принято органом регулирования","Принято органом регулирования","Принято органом регулирования","Принято органом регулирования","Принято органом регулирования","Принято органом регулирования"]
[null,null,null,null,null,null,{"$f":"hasTranspVO","v":false}]
[null,null,null,null,null,null,null,null,null,null,null,"Комментарии и обоснования к разделу"]
[null,null,null,null,null,null,null,null,null,null,null,"Плановые объемы реализации рассчитаны специалистом РЭК Кзубасса на основании имеющейся в распоряжении регулирующего органа информации о динамике  фактических объемов реализации услуги водоотведения за 2020-2023 гг., в том числе  (согласно данным оборотно-сальдовой ведомости по сч. 62) с выделением объемов  ООО \"Теплоэнергетик\" и с учетом выбытия абонента УН 1612 /44 (ФКУ ИК-44 ГУФСИН России по Кемеровской области - Кузбассу). Основание: обращение ООО \"БелГОС\" от 26.09.2024 вх. № 6469  о снижении ожидаемых объемов реализации в 2025 году, вместе с приложенными документами (в том числе см. представленную копию Соглашения  № 3 от 27.06.2024 о расторжении Государственного контракта № 151-8 от 24.01.2024, а также уведомление о прекращении  поставки питьевой воды для ФКУ ИК-44 со стороны ООО \"Водоснабжение\")."]
[null,null,null,null,null,null,null,null,null,null,"О ","Снижение объемов реализации в связи с выбытием абонента ООО \"Птицефабрика \"Инская\"  будет учтено по факту выбытия по итогам соответствующего отчетного периода."]
[null,null,null,null,null,null,null,null,null,null,null,"Добавить комментарий"]

{"sheet":"Реагенты","index":18,"n_rows":26,"n_cols":39,"rows_kept":26,"cut":false,"hidden":false,"merged":[[25,11,25,12],[22,11,22,38],[23,11,23,38],[13,11,14,11],[13,12,14,12],[13,13,14,13],[13,38,14,38],[24,11,24,38]]}
[null,null,null,null,null,null,null,null,null,null,null,null,null,null,{"$f":"god-2","v":2023},{"$f":"god-2","v":2023},{"$f":"god-2","v":2023},{"$f":"god-1","v":2024},{"$f":"god","v":2025},{"$f":"god+1","v":2026},{"$f":"god+2","v":2027},{"$f":"god+3","v":2028},{"$f":"god+4","v":2029},{"$f":"god+5","v":2030},{"$f":"god+6","v":2031},{"$f":"god+7","v":2032},{"$f":"god+8","v":2033},{"$f":"god+9","v":2034},{"$f":"god","v":2025},{"$f":"god+1","v":2026},{"$f":"god+2","v":2027},{"$f":"god+3","v":2028},{"$f":"god+4","v":2029},{"$f":"god+5","v":2030},{"$f":"god+6","v":2031},{"$f":"god+7","v":2032},{"$f":"god+8","v":2033},{"$f":"god+9","v":2034}]
[null,null,null,null,null,null,null,null,null,null,null,null,null,null,{"$f":"O15","v":"Принято органом регулирования"},{"$f":"P15","v":"Факт по данным организации"},"Факт, принятый органом регулирования","Принято органом регулирования","Предложение организации","Предложение организации","Предложение организации","Предложение организации","Предложение организации","Предложение организации","Предложение организации","Предложение организации","Предложение организации","Предложение организации","Принято органом регулирования","Принято органом регулирования","Принято органом регулирования","Принято органом регулирования","Принято органом регулирования","Принято органом регулирования","Принято органом регулирования","Принято органом регулирования","Принято органом регулирования","Принято органом регулирования"]
[]
[]
[]
[]
[null,null,null,null,null,null,null,null,null,null,null,null,null,null,null,null,null,null,{"$f":"S1<=last_year_vis","v":true},false,false,false,false,false,false,false,false,false,true,false,false,false,false,false,false,false,false,false]
[]
[]
[]
[null,null,null,null,null,null,null,null,null,null,null,null,{"$f":"tpl_title","v":"Кемеровская область / 2025 / ООО\"БелГОС\" (ИНН:4202023230, КПП:420201001) / ДПР: 2019-2028"}]
[null,null,null,null,null,null,null,null,null,null,null,"8. Расходы на реагенты"]
[]
[null,null,null,null,null,null,null,null,null,null,null,"№ п/п","Наименование показателя","Единица измерения",{"$f":"god-2 & \" год\"","v":"2023 год"},{"$f":"god-2 & \" год\"","v":"2023 год"},{"$f":"god-2 & \" год\"","v":"2023 год"},{"$f":"god-1 & \" год\"","v":"2024 год"},{"$f":"god & \" год\"","v":"2025 год"},{"$f":"god+1 & \" год\"","v":"2026 год"},{"$f":"god+2 & \" год\"","v":"2027 год"},{"$f":"god+3 & \" год\"","v":"2028 год"},{"$f":"god+4 & \" год\"","v":"2029 год"},{"$f":"god+5 & \" год\"","v":"2030 год"},{"$f":"god+6 & \" год\"","v":"2031 год"},{"$f":"god+7 & \" год\"","v":"2032 год"},{"$f":"god+8 & \" год\"","v":"2033 год"},{"$f":"god+9 & \" год\"","v":"2034 год"},{"$f":"god & \" год\"","v":"2025 год"},{"$f":"god+1 & \" год\"","v":"2026 год"},{"$f":"god+2 & \" год\"","v":"2027 год"},{"$f":"god+3 & \" год\"","v":"2028 год"},{"$f":"god+4 & \" год\"","v":"2029 год"},{"$f":"god+5 & \" год\"","v":"2030 год"},{"$f":"god+6 & \" год\"","v":"2031 год"},{"$f":"god+7 & \" год\"","v":"2032 год"},{"$f":"god+8 & \" год\"","v":"2033 год"},{"$f":"god+9 & \" год\"","v":"2034 год"},"Ссылка на правовую норму (основание для принятия показателя в расчет тарифа)"]
["t",null,null,null,null,null,null,null,null,null,null,null,null,null,"Принято органом регулирования","Факт по данным организации","Факт, принятый органом регулирования","Принято органом регулирования","Предложение организации","Предложение организации","Предложение организации","Предложение организации","Предложение организации","Предложение организации","Предложение организации","Предложение организации","Предложение организации","Предложение организации","Принято органом регулирования","Принято органом регулирования","Принято органом регулирования","Принято органом регулирования","Принято органом регулирования","Принято органом регулирования","Принято органом регулирования","Принято органом регулирования","Принято органом регулирования","Принято органом регулирования"]
[{"$f":"'Общие сведения'!$D$122","v":"1"},null,null,null,null,null,null,null,null,null,null,{"$f":"INDEX('Общие сведения'!$J$121:$J$135,MATCH($A16,'Общие сведения'!$D$121:$D$135,0))","v":"Тариф 1 (Водоотведение) - тариф на водоотведение"}]
[{"$f":"A16","v":"1"},"L1","L2",null,null,null,null,null,null,null,null,null,"Всего по тарифу","тыс.руб.",{"$f":"SUM(O18:O21)","v":0},27.783000000000001,0,0,194.74,0,0,0,0,0,0,0,0,0,0,0,0,0,0,0,0,0,0,0,"Постановление региональной энергетической комиссии Кемеровской области от 19.12.2018 № 759  \"Об установлении долгосрочных параметров  регулирования тарифов в сфере водоотведения  ООО «Беловские Городские Очистные сооружения» (Беловский городской округ)\" (в редакции Постановлений Региональной энергетической комиссии от 24.11.2020 N 427, от 11.02.2021 N 60)."]
[{"$f":"A17","v":"1"},null,null,null,null,null,null,null,null,null,null,"0"]
[{"$f":"OFFSET(A19,-1,0)","v":"1"},"L1","L2",null,null,null,null,null,null,null,"О","1","Гипохлорит натрия","тыс.руб.",null,27.783000000000001,null,0,87.03]
[{"$f":"OFFSET(A20,-1,0)","v":"1"},"L1","L2",null,null,null,null,null,null,null,"О","2","Флокулянт - Магнафлок","тыс.руб.",null,0,null,0,107.71]
[{"$f":"A18","v":"1"},{"$f":"A21&\"pIns\"","v":"1pIns"},null,null,null,null,null,null,null,null,null,null,"Добавить"]
[]
[null,null,null,null,null,null,null,null,null,null,null,"Комментарии и обоснования к разделу"]
[null,null,null,null,null,null,null,null,null,null,null,"В соответствии с редакцией \"Методических указаний\" ФСТ России (приказ № 1746-э от 27.12.2013), действовавшей на момент утверждения долгосрочных параметров регулирования тарифов на водоотведение для ООО \"БелГОС\" на период  2019-2023 гг. и далее до 31.12.2028 г.,   расходы на РЕАГЕНТЫ были учтены в составе Базового уровня ОПЕРАЦИОННЫХ РАСХОДОВ (см. соответствующую статью на Листе \"Калькуляция\") и корректировке в качестве отдельной статьи затрат не подлежат."]
[null,null,null,null,null,null,null,null,null,null,"О ","Организацией затраты на реагенты (факт 2023 г. и план на 2025 г.) некорректно отражены в составе Неподконтрольных расходов."]
[null,null,null,null,null,null,null,null,null,null,null,"Добавить комментарий"]

{"sheet":"ЭЭ","index":19,"n_rows":47,"n_cols":39,"rows_kept":47,"cut":false,"hidden":false,"merged":[[22,9,24,9],[25,9,27,9],[33,9,39,9],[46,11,46,12],[43,11,43,38],[44,11,44,38],[28,9,30,9],[13,11,14,11],[13,12,14,12],[13,13,14,13],[13,38,14,38],[45,11,45,38]]}
[null,null,null,null,null,null,null,null,null,null,null,null,null,null,{"$f":"god-2","v":2023},{"$f":"god-2","v":2023},{"$f":"god-2","v":2023},{"$f":"god-1","v":2024},{"$f":"god","v":2025},{"$f":"god+1","v":2026},{"$f":"god+2","v":2027},{"$f":"god+3","v":2028},{"$f":"god+4","v":2029},{"$f":"god+5","v":2030},{"$f":"god+6","v":2031},{"$f":"god+7","v":2032},{"$f":"god+8","v":2033},{"$f":"god+9","v":2034},{"$f":"god","v":2025},{"$f":"god+1","v":2026},{"$f":"god+2","v":2027},{"$f":"god+3","v":2028},{"$f":"god+4","v":2029},{"$f":"god+5","v":2030},{"$f":"god+6","v":2031},{"$f":"god+7","v":2032},{"$f":"god+8","v":2033},{"$f":"god+9","v":2034}]
[null,null,null,null,null,null,null,null,null,null,null,null,null,null,{"$f":"O15","v":"Принято органом регулирования"},{"$f":"P15","v":"Факт по данным организации"},{"$f":"Q15","v":"Факт, принятый органом регулирования"},{"$f":"R15","v":"Принято органом регулирования"},{"$f":"$S$15","v":"Предложение организации"},{"$f":"$S$15","v":"Предложение организации"},"Предложение организации","Предложение организации","Предложение организации","Предложение организации","Предложение организации","Предложение организации","Предложение организации","Предложение организации",{"$f":"$AC$15","v":"Принято органом регулирования"},{"$f":"$AC$15","v":"Принято органом регулирования"},"Принято органом регулирования","Принято органом регулирования","Принято органом регулирования","Принято органом регулирования","Принято органом регулирования","Принято органом регулирования","Принято органом регулирования","Принято органом регулирования"]
[null,null,null,null,null,null,null,null,null,null,null,null,null,null,{"$f":"O1&O2","v":"2023Принято органом регулирования"},{"$f":"P1&P2","v":"2023Факт по данным организации"},{"$f":"Q1&Q2","v":"2023Факт, принятый органом регулирования"},{"$f":"R1&R2","v":"2024Принято органом регулирования"},{"$f":"S1&S2","v":"2025Предложение организации"},{"$f":"T1&T2","v":"2026Предложение организации"},"2027Предложение организации","2028Предложение организации","2029Предложение организации","2030Предложение организации","2031Предложение организации","2032Предложение организации","2033Предложение организации","2034Предложение организации","2025Принято органом регулирования",{"$f":"AD1&AD2","v":"2026Принято органом регулирования"},"2027Принято органом регулирования","2028Принято органом регулирования","2029Принято органом регулирования","2030Принято органом регулирования","2031Принято органом регулирования","2032Принято органом регулирования","2033Принято органом регулирования","2034Принято органом регулирования"]
[]
[]
[]
[null,null,null,null,null,null,null,null,null,null,null,null,null,null,null,null,null,null,{"$f":"S1<=last_year_vis","v":true},false,false,false,false,false,false,false,false,false,true,false,false,false,false,false,false,false,false,false]
[]
[]
[]
[null,null,null,null,null,null,null,null,null,null,null,null,{"$f":"tpl_title","v":"Кемеровская область / 2025 / ООО\"БелГОС\" (ИНН:4202023230, КПП:420201001) / ДПР: 2019-2028"}]
[null,null,null,null,null,null,null,null,null,null,null,"9. Расходы на электрическую энергию"]
[]
[null,null,null,null,null,null,null,null,null,null,null,"№ п/п","Наименование показателя","Единица измерения",{"$f":"god-2 & \" год\"","v":"2023 год"},{"$f":"god-2 & \" год\"","v":"2023 год"},{"$f":"god-2 & \" год\"","v":"2023 год"},{"$f":"god-1 & \" год\"","v":"2024 год"},{"$f":"god & \" год\"","v":"2025 год"},{"$f":"god+1 & \" год\"","v":"2026 год"},{"$f":"god+2 & \" год\"","v":"2027 год"},{"$f":"god+3 & \" год\"","v":"2028 год"},{"$f":"god+4 & \" год\"","v":"2029 год"},{"$f":"god+5 & \" год\"","v":"2030 год"},{"$f":"god+6 & \" год\"","v":"2031 год"},{"$f":"god+7 & \" год\"","v":"2032 год"},{"$f":"god+8 & \" год\"","v":"2033 год"},{"$f":"god+9 & \" год\"","v":"2034 год"},{"$f":"god & \" год\"","v":"2025 год"},{"$f":"god+1 & \" год\"","v":"2026 год"},{"$f":"god+2 & \" год\"","v":"2027 год"},{"$f":"god+3 & \" год\"","v":"2028 год"},{"$f":"god+4 & \" год\"","v":"2029 год"},{"$f":"god+5 & \" год\"","v":"2030 год"},{"$f":"god+6 & \" год\"","v":"2031 год"},{"$f":"god+7 & \" год\"","v":"2032 год"},{"$f":"god+8 & \" год\"","v":"2033 год"},{"$f":"god+9 & \" год\"","v":"2034 год"},"Ссылка на правовую норму (основание для принятия показателя в расчет тарифа)"]
[null,null,null,null,null,null,null,null,null,null,null,null,null,null,"Принято органом регулирования","Факт по данным организации","Факт, принятый органом регулирования","Принято органом регулирования","Предложение организации","Предложение организации","Предложение организации","Предложение организации","Предложение организации","Предложение организации","Предложение организации","Предложение организации","Предложение организации","Предложение организации","Принято органом регулирования","Принято органом регулирования","Принято органом регулирования","Принято органом регулирования","Принято органом регулирования","Принято органом регулирования","Принято органом регулирования","Принято органом регулирования","Принято органом регулирования","Принято органом регулирования"]
[{"$f":"'Общие сведения'!$D$122","v":"1"},null,null,null,null,null,null,null,null,null,null,{"$f":"INDEX('Общие сведения'!$J$121:$J$135,MATCH($A16,'Общие сведения'!$D$121:$D$135,0))","v":"Тариф 1 (Водоотведение) - тариф на водоотведение"}]
[{"$f":"A16","v":"1"},"L1",null,null,null,null,null,null,null,null,null,"1","Всего по тарифу","тыс.руб.",{"$f":"SUMIF(N22:N41,N17,O22:O41)","v":24069.698136298401},{"$f":"SUMIF(N22:N41,N17,P22:P41)","v":28218.17},{"$f":"SUMIF(N22:N41,N17,Q22:Q41)","v":27768.501800674559},{"$f":"SUMIF(N22:N41,N17,R22:R41)","v":30427.110693369199},{"$f":"SUMIF(N22:N41,N17,S22:S41)","v":32887.360000000001},{"$f":"SUMIF(N22:N41,N17,T22:T41)","v":0},{"$f":"SUMIF(N22:N41,N17,U22:U41)","v":0},{"$f":"SUMIF(N22:N41,N17,V22:V41)","v":0},{"$f":"SUMIF(N22:N41,N17,W22:W41)","v":0},{"$f":"SUMIF(N22:N41,N17,X22:X41)","v":0},{"$f":"SUMIF(N22:N41,N17,Y22:Y41)","v":0},{"$f":"SUMIF(N22:N41,N17,Z22:Z41)","v":0},{"$f":"SUMIF(N22:N41,N17,AA22:AA41)","v":0},{"$f":"SUMIF(N22:N41,N17,AB22:AB41)","v":0},{"$f":"SUMIF(N22:N41,N17,AC22:AC41)","v":31679.754014895945},{"$f":"SUMIF(N22:N41,N17,AD22:AD41)","v":0},{"$f":"SUMIF(N22:N41,N17,AE22:AE41)","v":0},{"$f":"SUMIF(N22:N41,N17,AF22:AF41)","v":0},{"$f":"SUMIF(N22:N41,N17,AG22:AG41)","v":0},{"$f":"SUMIF(N22:N41,N17,AH22:AH41)","v":0},{"$f":"SUMIF(N22:N41,N17,AI22:AI41)","v":0},{"$f":"SUMIF(N22:N41,N17,AJ22:AJ41)","v":0},{"$f":"SUMIF(N22:N41,N17,AK22:AK41)","v":0},{"$f":"SUMIF(N22:N41,N17,AL22:AL41)","v":0},"П. 20, 84, 88, 43, 90 Методических указаний ФСТ № 1746-э  (Формулы 39.1, 39.2, 39.3)."]
["1","L2",null,null,null,null,null,null,null,null,null,"2","Объём покупаемой электроэнергии всего","тыс.кВтч",{"$f":"SUMIF(N22:N41,N18,O22:O41)","v":4579.4053346958999},{"$f":"SUMIF(N22:N41,N18,P22:P41)","v":5045.63},{"$f":"SUMIF(N22:N41,N18,Q22:Q41)","v":4958.8279999999995},{"$f":"SUMIF(N22:N41,N18,R22:R41)","v":5167.9639047740002},{"$f":"SUMIF(N22:N41,N18,S22:S41)","v":5054.71},{"$f":"SUMIF(N22:N41,N18,T22:T41)","v":0},{"$f":"SUMIF(N22:N41,N18,U22:U41)","v":0},{"$f":"SUMIF(N22:N41,N18,V22:V41)","v":0},{"$f":"SUMIF(N22:N41,N18,W22:W41)","v":0},{"$f":"SUMIF(N22:N41,N18,X22:X41)","v":0},{"$f":"SUMIF(N22:N41,N18,Y22:Y41)","v":0},{"$f":"SUMIF(N22:N41,N18,Z22:Z41)","v":0},{"$f":"SUMIF(N22:N41,N18,AA22:AA41)","v":0},{"$f":"SUMIF(N22:N41,N18,AB22:AB41)","v":0},{"$f":"SUMIF(N22:N41,N18,AC22:AC41)","v":4897.7639999999992},{"$f":"SUMIF(N22:N41,N18,AD22:AD41)","v":0},{"$f":"SUMIF(N22:N41,N18,AE22:AE41)","v":0},{"$f":"SUMIF(N22:N41,N18,AF22:AF41)","v":0},{"$f":"SUMIF(N22:N41,N18,AG22:AG41)","v":0},{"$f":"SUMIF(N22:N41,N18,AH22:AH41)","v":0},{"$f":"SUMIF(N22:N41,N18,AI22:AI41)","v":0},{"$f":"SUMIF(N22:N41,N18,AJ22:AJ41)","v":0},{"$f":"SUMIF(N22:N41,N18,AK22:AK41)","v":0},{"$f":"SUMIF(N22:N41,N18,AL22:AL41)","v":0},"Определено на основании утвержденных показателей удельного расхода энергии (в соответствии с долгосрочными параметрами регулирования тарифов) и  принятых  годовых  объемов  пропуска сточных вод."]
["1","L3",null,null,null,null,null,null,null,null,null,"3","Объём воды/сточных вод","тыс.куб.м.",3663.5242677566998,{"$f":"Баланс!P47","v":3967.0619999999999},{"$f":"Баланс!Q47","v":3967.0619999999999},4134.3711238192,{"$f":"Баланс!S47","v":4043.7739999999999},null,null,null,null,null,null,null,null,null,{"$f":"Баланс!AC47","v":3918.2110000000002},null,null,null,null,null,null,null,null,null,"1,25 кВт*ч/м3 * 3967,062 тыс. м3 = 4958,828 тыс. кВт*ч; 1,25 кВт*ч/м3 * 3918,211 тыс. м3 = 4897,764 тыс. кВт*ч."]
["1","L4",null,null,null,null,null,null,null,null,null,"4","Средний (расчетный) тариф","руб./кВтч",{"$f":"IF(O18=0,0,O17/O18)","v":5.2560750527877813},{"$f":"IF(P18=0,0,P17/P18)","v":5.592595969185215},5.5998114475183574,5.8876399398342558,6.5062802811635088,0,0,0,0,0,0,0,0,0,6.4682075361115707,0,0,0,0,0,0,0,0,0]
["1","L5",null,null,null,null,null,null,null,null,null,"5","Удельный расход электроэнергии","кВтч/куб.м.",{"$f":"IF(O19=0,0,O18/O19)","v":1.2500000000000069},1.2718808024679222,1.2500001260378586,1.25,1.2499981452969429,0,0,0,0,0,0,0,0,0,1.2500000638046289,0,0,0,0,0,0,0,0,0,"В соответствии с утвержденными долгосрочными параметрами регулирования тарифов (Постановление региональной энергетической комиссии Кемеровской области от 19.12.2018 № 759, в редакции Постановлений Региональной энергетической комиссии  от 24.11.2020 N 427, от 11.02.2021 N 60)."]
["1",null,null,null,null,null,null,null,null,"6.0",null,null,"Одноставочный тариф"]
[{"$f":"OFFSET(A23,-1,0)","v":"1"},"L6",{"$f":"M23","v":"ВН"},null,null,null,null,null,null,"6.1","О",{"$f":"J23","v":"6.1"},"ВН","тыс.руб.",207.97594773009999,null,null,0]
[{"$f":"A23","v":"1"},"L6_1",{"$f":"C23","v":"ВН"},null,null,null,null,null,null,null,null,{"$f":"L23&\".1\"","v":"6.1.1"},"Тариф на электроэнергию","руб./кВтч",{"$f":"IF(OR(AND(O23<>0,O25=0),AND(O23=0,O25<>0)),\"Ошибка\",IF(O25=0,0,O23/O25))","v":4.6703770344035878},0,0,0,0,0,0,0,0,0,0,0,0,0,0,0,0,0,0,0,0,0,0,0]
[{"$f":"A24","v":"1"},"L6_2",{"$f":"C24","v":"ВН"},null,null,null,null,null,null,null,null,{"$f":"L23&\".2\"","v":"6.1.2"},"Объём покупной электроэнергии","тыс.кВтч",44.530868963700001,null,null,0]
[{"$f":"OFFSET(A26,-1,0)","v":"1"},"L6",{"$f":"M26","v":"НН"},null,null,null,null,null,null,"6.2","О",{"$f":"J26","v":"6.2"},"НН","тыс.руб.",135.97739373780001,168.07,{"$f":"Q28*P27","v":165.17862426693992},183.38951650979999,212.13,null,null,null,null,null,null,null,null,null,{"$f":"P27*1.051*1.098*AC28","v":188.26852092791759}]
[{"$f":"A26","v":"1"},"L6_1",{"$f":"C26","v":"НН"},null,null,null,null,null,null,null,null,{"$f":"L26&\".1\"","v":"6.2.1"},"Тариф на электроэнергию","руб./кВтч",{"$f":"IF(OR(AND(O26<>0,O28=0),AND(O26=0,O28<>0)),\"Ошибка\",IF(O28=0,0,O26/O28))","v":7.2351532637985692},7.371491228070175,7.371491228070175,8.0936688741787641,8.9018044481745697,0,0,0,0,0,0,0,0,0,8.5066861342105256,0,0,0,0,0,0,0,0,0]
[{"$f":"A27","v":"1"},"L6_2",{"$f":"C27","v":"НН"},null,null,null,null,null,null,null,null,{"$f":"L26&\".2\"","v":"6.2.2"},"Объём покупной электроэнергии","тыс.кВтч",18.793989398699999,22.8,{"$f":"P28/P18*4958.828","v":22.40776243997281},22.658391313100001,23.83,null,null,null,null,null,null,null,null,null,{"$f":"P28/P18*4897.764","v":22.131828770639146},null,null,null,null,null,null,null,null,null,"Общие фактические объемы потребления электроэнергии в отчетном 2023 году и в плановом 2025 году распределены пропорционально фактической (2023 г.) доле энергии НН в общем объеме электроэнергии."]
[{"$f":"OFFSET(A29,-1,0)","v":"1"},"L6",{"$f":"M29","v":"СН2"},null,null,null,null,null,null,"6.3","О",{"$f":"J29","v":"6.3"},"СН2","тыс.руб.",null,18562.3,{"$f":"Q31*P30+0.03","v":18242.99529559242},null,20659.400000000001,null,null,null,null,null,null,null,null,null,{"$f":"P30*1.051*1.098*AC31","v":20793.102671626613}]
[{"$f":"A29","v":"1"},"L6_1",{"$f":"C29","v":"СН2"},null,null,null,null,null,null,null,null,{"$f":"L29&\".1\"","v":"6.3.1"},"Тариф на электроэнергию","руб./кВтч",{"$f":"IF(OR(AND(O29<>0,O31=0),AND(O29=0,O31<>0)),\"Ошибка\",IF(O31=0,0,O29/O31))","v":0},5.798489955423384,5.7984994908632554,0,6.5917495445306997,0,0,0,0,0,0,0,0,0,6.6914458115786744,0,0,0,0,0,0,0,0,0]
[{"$f":"A30","v":"1"},"L6_2",{"$f":"C30","v":"СН2"},null,null,null,null,null,null,null,null,{"$f":"L29&\".2\"","v":"6.3.2"},"Объём покупной электроэнергии","тыс.кВтч",null,3201.23,{"$f":"P31/P18*4958.828","v":3146.1579541979891},null,3134.13,null,null,null,null,null,null,null,null,null,{"$f":"P31/P18*4897.764","v":3107.4155357646118},null,null,null,null,null,null,null,null,null,"Общие фактические объемы потребления электроэнергии в отчетном 2023 году и в плановом 2025 году распределены пропорционально фактической (2023 г.) доле энергии СН-2 (одноставочный тариф) в общем объеме электроэнергии."]
[{"$f":"A22","v":"1"},{"$f":"A32&\"pIns1\"","v":"1pIns1"},null,null,null,null,null,null,null,null,null,null,"Добавить"]
["1",null,null,null,null,null,null,null,null,"7.0",null,null,"Двухставочный тариф"]
[{"$f":"OFFSET(A34,-1,0)","v":"1"},"L7",{"$f":"M34","v":"СН2"},null,null,null,null,null,null,"7.1","О",{"$f":"J34","v":"7.1"},"СН2","тыс.руб.",{"$f":"O35+O38","v":23725.744794830502},{"$f":"P35+P38","v":9487.7999999999993},{"$f":"Q35+Q38","v":9360.3278808152008},{"$f":"R35+R38","v":30243.721176859399},{"$f":"S35+S38","v":12015.830000000002},{"$f":"T36*T37+T39*T40/1000*12","v":0},{"$f":"U36*U37+U39*U40/1000*12","v":0},0,0,0,0,0,0,0,10698.382822341415,0,0,0,0,0,0,0,0,0]
[{"$f":"OFFSET(A35,-1,0)","v":"1"},"L7_1",{"$f":"C34","v":"СН2"},null,null,null,null,null,null,null,null,{"$f":"L34&\".1\"","v":"7.1.1"},"Затраты на электроэнергию","тыс.руб. ",20202.021325121201,7407.7,{"$f":"Q37*P36","v":7280.2623608152007},27486.367508251398,8779.0300000000007,null,null,null,null,null,null,null,null,null,{"$f":"P36*1.051*1.098*AC37","v":8297.9515825414146}]
["1","L7_1_1","СН2",null,null,null,null,null,null,null,null,{"$f":"L34&\".1.1\"","v":"7.1.1.1"},"Тариф на электроэнергию","руб./кВтч",{"$f":"IF(OR(AND(O35<>0,O37=0),AND(O35=0,O37<>0)),\"Ошибка\",IF(O37=0,0,O35/O37))","v":4.4733528179999906},4.0665898111550289,4.0665898111550289,5.3420282695250823,4.6284592065374985,0,0,0,0,0,0,0,0,0,4.6928365088932811,0,0,0,0,0,0,0,0,0]
["1","L7_1_2","СН2",null,null,null,null,null,null,null,null,{"$f":"L34&\".1.2\"","v":"7.1.1.2"},"Объём покупной электроэнергии","тыс.кВтч",4516.0804763335,1821.6,{"$f":"P37/P18*4958.828","v":1790.262283362038},5145.3055134609003,1896.75,null,null,null,null,null,null,null,null,null,{"$f":"P37/P18*4897.764","v":1768.2166354647486},null,null,null,null,null,null,null,null,null,"Общие фактические объемы потребления электроэнергии в отчетном 2023 году и в плановом 2025 году распределены пропорционально фактической (2023 г.) доле энергии СН-2 (двухставочный тариф) в общем объеме электроэнергии."]
["1","L7_2","СН2",null,null,null,null,null,null,null,null,{"$f":"L34&\".2\"","v":"7.1.2"},"Затраты на электрическую мощность","тыс.руб. ",3523.7234697092999,2080.1,2080.0655200000001,2757.3536686080001,3236.8,null,null,null,null,null,null,null,null,null,{"$f":"P38*1.051*1.098","v":2400.4312397999997}]
["1","L7_2_1","СН2",null,null,null,null,null,null,null,null,{"$f":"L34&\".2.1\"","v":"7.1.2.1"},"Тариф на электрическую мощность","руб./МВт в мес",{"$f":"IF(OR(AND(O38<>0,O40=0),AND(O38=0,O40<>0)),\"Ошибка\",IF(O40=0,0,O38/O40*1000/12))","v":71883.383714999989},831.37490007993608,69446.631944444453,76797.952000000005,1013.7302064541992,0,0,0,0,0,0,0,0,0,80014.374659999987,0,0,0,0,0,0,0,0,0]
["1","L7_2_2","СН2",null,null,null,null,null,null,null,null,{"$f":"L34&\".2.2\"","v":"7.1.2.2"},"Объём покупной мощности","МВт в мес.",4.085,208.5,2.496,2.992,266.08,null,null,null,null,null,null,null,null,null,2.5,null,null,null,null,null,null,null,null,null,"Определено на уровне фактического годового показателя 2023 года."]
[{"$f":"A33","v":"1"},{"$f":"A41&\"pIns2\"","v":"1pIns2"},null,null,null,null,null,null,null,null,null,null,"Добавить "]
[]
[]
[null,null,null,null,null,null,null,null,null,null,null,"Комментарии и обоснования к разделу"]
[null,null,null,null,null,null,null,null,null,null,null,"Поставка электроэнергии для нужд водоотведения  в 2023 году осуществлялась на основании: 1)\t договора от 01.12.2021 № 610675 с ПАО «Кузбассэнергосбыт» (расчеты по одноставочному тарифу, по первой ценовой категории), снабжаются по низкому, среднему второму и высокому напряжению Очистные сооружения пос. Инской, Очистные сооружения пос. Колмогоры, Очистные сооружения микрорайона Ивушки, КНС );           2)\t   договора от 01.10.2013 №601224  с ПАО «Кузбассэнергосбыт»    (энергия СН-2  по двухставочному тарифу по третьей ценовой категории – снабжаются Очистные сооружения Кузбасская, 6  (Ф6-14К, Ф6-41К).  "]
[null,null,null,null,null,null,null,null,null,null,"О ","Плановые цены на электроэнергию и мощность на 2025 год  рассчитаны от фактических средневзвешенных цен 2023 г. (подтверждены счетами-фактурами за январь-декабрь 2023 г.) с учетом ИЦП (индекса цен производителей) электроэнергии на 2024 г. 105,1% ,  на 2025 г. -  109,8%  согласно \"Прогнозу социально-экономического развития РФ на 2025 год и на плановый период 2026 и 2027 годов\" от 30.09.2024.  "]
[null,null,null,null,null,null,null,null,null,null,null,"Добавить комментарий"]

{"sheet":"Амортизация","index":20,"n_rows":71,"n_cols":39,"rows_kept":71,"cut":false,"hidden":false,"merged":[[70,11,70,12],[66,11,66,38],[12,11,12,37],[13,11,14,11],[13,12,14,12],[13,13,14,13],[13,38,14,38],[65,11,65,38],[67,11,67,38],[68,11,68,38],[69,11,69,38]]}
[null,null,null,null,null,null,null,null,null,null,null,null,null,null,{"$f":"god-2","v":2023},{"$f":"god-2","v":2023},{"$f":"god-2","v":2023},{"$f":"god-1","v":2024},{"$f":"god","v":2025},{"$f":"god+1","v":2026},{"$f":"god+2","v":2027},{"$f":"god+3","v":2028},{"$f":"god+4","v":2029},{"$f":"god+5","v":2030},{"$f":"god+6","v":2031},{"$f":"god+7","v":2032},{"$f":"god+8","v":2033},{"$f":"god+9","v":2034},{"$f":"god","v":2025},{"$f":"god+1","v":2026},{"$f":"god+2","v":2027},{"$f":"god+3","v":2028},{"$f":"god+4","v":2029},{"$f":"god+5","v":2030},{"$f":"god+6","v":2031},{"$f":"god+7","v":2032},{"$f":"god+8","v":2033},{"$f":"god+9","v":2034}]
[null,null,null,null,null,null,null,null,null,null,null,null,null,null,{"$f":"O15","v":"Принято органом регулирования"},{"$f":"P15","v":"Факт по данным организации"},"Факт, принятый органом регулирования","Принято органом регулирования","Предложение организации","Предложение организации","Предложение организации","Предложение организации","Предложение организации","Предложение организации","Предложение организации","Предложение организации","Предложение организации","Предложение организации","Принято органом регулирования","Принято органом регулирования","Принято органом регулирования","Принято органом регулирования","Принято органом регулирования","Принято органом регулирования","Принято органом регулирования","Принято органом регулирования","Принято органом регулирования","Принято органом регулирования"]
[]
[]
[]
[]
[null,null,null,null,null,null,null,null,null,null,null,null,null,null,null,null,null,null,{"$f":"S1<=last_year_vis","v":true},false,false,false,false,false,false,false,false,false,true,false,false,false,false,false,false,false,false,false]
[]
[]
[]
[null,null,null,null,null,null,null,null,null,null,null,null,{"$f":"tpl_title","v":"Кемеровская область / 2025 / ООО\"БелГОС\" (ИНН:4202023230, КПП:420201001) / ДПР: 2019-2028"}]
[null,null,null,null,null,null,null,null,null,null,null,"10. Амортизация основных средств и нематериальных активов, относимых к объектам централизованной системы водоснабжения/водоотведения"]
[]
[null,null,null,null,null,null,null,null,null,null,null,"№\nп/п","Наименование","Единица измерения",{"$f":"god-2 & \" год\"","v":"2023 год"},{"$f":"god-2 & \" год\"","v":"2023 год"},{"$f":"god-2 & \" год\"","v":"2023 год"},{"$f":"god-1 & \" год\"","v":"2024 год"},{"$f":"god & \" год\"","v":"2025 год"},{"$f":"god+1 & \" год\"","v":"2026 год"},{"$f":"god+2 & \" год\"","v":"2027 год"},{"$f":"god+3 & \" год\"","v":"2028 год"},{"$f":"god+4 & \" год\"","v":"2029 год"},{"$f":"god+5 & \" год\"","v":"2030 год"},{"$f":"god+6 & \" год\"","v":"2031 год"},{"$f":"god+7 & \" год\"","v":"2032 год"},{"$f":"god+8 & \" год\"","v":"2033 год"},{"$f":"god+9 & \" год\"","v":"2034 год"},{"$f":"god & \" год\"","v":"2025 год"},{"$f":"god+1 & \" год\"","v":"2026 год"},{"$f":"god+2 & \" год\"","v":"2027 год"},{"$f":"god+3 & \" год\"","v":"2028 год"},{"$f":"god+4 & \" год\"","v":"2029 год"},{"$f":"god+5 & \" год\"","v":"2030 год"},{"$f":"god+6 & \" год\"","v":"2031 год"},{"$f":"god+7 & \" год\"","v":"2032 год"},{"$f":"god+8 & \" год\"","v":"2033 год"},{"$f":"god+9 & \" год\"","v":"2034 год"},"Ссылка на правовую норму (основание для принятия показателя в расчет тарифа)"]
[null,null,null,null,null,null,null,null,null,null,null,null,null,null,"Принято органом регулирования","Факт по данным организации","Факт, принятый органом регулирования","Принято органом регулирования","Предложение организации","Предложение организации","Предложение организации","Предложение организации","Предложение организации","Предложение организации","Предложение организации","Предложение организации","Предложение организации","Предложение организации","Принято органом регулирования","Принято органом регулирования","Принято органом регулирования","Принято органом регулирования","Принято органом регулирования","Принято органом регулирования","Принято органом регулирования","Принято органом регулирования","Принято органом регулирования","Принято органом регулирования"]
[{"$f":"'Общие сведения'!$D$122","v":"1"},null,null,null,null,null,null,null,null,null,null,{"$f":"INDEX('Общие сведения'!$J$121:$J$135,MATCH($A16,'Общие сведения'!$D$121:$D$135,0))","v":"Тариф 1 (Водоотведение) - тариф на водоотведение"}]
[{"$f":"A16","v":"1"},"L1",null,null,null,null,null,null,null,null,null,1,"Первоначальная (восстановительная) стоимость на начало периода","тыс.руб.",{"$f":"SUM(O18:O22)","v":0},{"$f":"SUM(P18:P22)","v":9442.3160900000003},{"$f":"SUM(Q18:Q22)","v":8294.4426899999999},{"$f":"SUM(R18:R22)","v":9442.3173999999999},{"$f":"SUM(S18:S22)","v":11255.027},0,0,0,0,0,0,0,{"$f":"SUM(AA18:AA22)","v":0},{"$f":"SUM(AB18:AB22)","v":0},8789.28269,0,0,0,0,0,0,0,0,0,"1) П. 89, п. 28, п 18(7)  Методических указаний ФСТ № 1746-э. 2) Постановление Правительства РФ от 01.01.2002 N 1 (ред. от 18.11.2022) \"О Классификации основных средств, включаемых в амортизационные группы\". 3) Приказ Минфина России от 17.09.2020 N 204н (ред. от 30.05.2022) \"Об утверждении Федеральных стандартов бухгалтерского учета ФСБУ 6/2020 \"Основные средства\" и ФСБУ 26/2020 \"Капитальные вложения\" (Зарегистрировано в Минюсте России 15.10.2020 N 60399). 4) Письмо> ФАС России от 05.08.2022 N МШ/74227/22 \"О новых стандартах бухгалтерского учета, подлежащих применению начиная с бухгалтерской (финансовой) отчетности за 2022 год\". 5) Учетная политика ООО \"БелГОС\" для целей бухгалтерского учета (Приказ от 30.12.2021 № 565)."]
[{"$f":"A17","v":"1"},"L1_1",null,null,null,null,null,null,null,null,null,"1.1","Здания","тыс.руб.",null,null,null,0,603.70000000000005,null,null,null,null,null,null,null,null,null,{"$f":"Q36","v":0},null,null,null,null,null,null,null,null,null,"Входят в состав имущества, переданного по Концессионному соглашению, амортизация по которому учитывается на забалансовом счете и не включается в состав себестоимости."]
["1","L1_2",null,null,null,null,null,null,null,null,null,"1.2","Сооружения и передаточные устройства","тыс.руб.",null,2625.5785000000001,2625.5785000000001,4368.4530699999996,4368.45,null,null,null,null,null,null,null,null,null,{"$f":"Q37","v":2625.5785000000001},null,null,null,null,null,null,null,null,null,"Специалистом РЭК отражена стоимость Собственных основных средств ООО \"БелГОС\", числяшихся на балансе организации."]
["1","L1_3",null,null,null,null,null,null,null,null,null,"1.3","Машины и оборудование","тыс.руб.",null,1941.7141899999999,1941.7141899999999,4138.8733300000004,5347.89,null,null,null,null,null,null,null,null,null,2436.5541899999998,null,null,null,null,null,null,null,null,null,"Специалистом РЭК отражена стоимость Собственных основных средств ООО \"БелГОС\", числяшихся на балансе организации."]
["1","L1_4",null,null,null,null,null,null,null,null,null,"1.4","Транспорт","тыс.руб.",null,798.57665999999995,0,798.577,798.577,null,null,null,null,null,null,null,null,null,0,null,null,null,null,null,null,null,null,null,"Стоимость транспортных средств к учету не принята, так как такие основные средства относятся к  объектам общепроизводственного назначения  и входят в состав Операционных расходов (Пункт 18(7)  Методических указаний ФСТ № 1746-э)."]
["1","L1_5",null,null,null,null,null,null,null,null,null,"1.5","Прочее","тыс.руб.",null,{"$f":"42+4034.44674","v":4076.4467399999999},{"$f":"42+3685.15","v":3727.15},136.41399999999999,136.41,null,null,null,null,null,null,null,null,null,3727.15,null,null,null,null,null,null,null,null,null,"Специалистом РЭК отражена стоимость Земельного участка, числящегося на балансе организации, и  стоимость мероприятий по реконструкции Объекта концессионного осглашения, предусмотренных утвержденной Инвестиционной программой ( в том числе, стоимость услуг по разработке проекта концессионного соглашения)."]
["1","L2",null,null,null,null,null,null,null,null,null,2,"Ввод основных фондов","тыс.руб.",{"$f":"SUM(O24:O28)","v":0},1812.7264499999999,494.84,0,814.1,0,0,0,0,0,0,0,{"$f":"SUM(AA24:AA28)","v":0},{"$f":"SUM(AB24:AB28)","v":0},0,0,0,0,0,0,0,0,0,0]
["1","L2_1",null,null,null,null,null,null,null,null,null,"2.1","Здания","тыс.руб.",null,0,0,null,814.1,null,null,null,null,null,null,null,null,null,0]
["1","L2_2",null,null,null,null,null,null,null,null,null,"2.2","Сооружения и передаточные устройства","тыс.руб.",null,0,0,null,null,null,null,null,null,null,null,null,null,null,0]
["1","L2_3",null,null,null,null,null,null,null,null,null,"2.3","Машины и оборудование","тыс.руб.",null,494.84,494.84,null,null,null,null,null,null,null,null,null,null,null,0]
["1","L2_4",null,null,null,null,null,null,null,null,null,"2.4","Транспорт","тыс.руб.",null,0,0,null,null,null,null,null,null,null,null,null,null,null,0]
["1","L2_5",null,null,null,null,null,null,null,null,null,"2.5","Прочее","тыс.руб.",null,1317.88645,0,null,null,null,null,null,null,null,null,null,null,null,0]
["1","L3",null,null,null,null,null,null,null,null,null,3,"Выбытие основных фондов","тыс.руб.",{"$f":"SUM(O30:O34)","v":0},0,0,0,0,0,0,0,0,0,0,0,{"$f":"SUM(AA30:AA34)","v":0},{"$f":"SUM(AB30:AB34)","v":0},0,0,0,0,0,0,0,0,0,{"$f":"SUM(AL30:AL34)","v":0}]
["1","L3_1",null,null,null,null,null,null,null,null,null,"3.1","Здания","тыс.руб.",null,0,0,null,null,null,null,null,null,null,null,null,null,null,0]
["1","L3_2",null,null,null,null,null,null,null,null,null,"3.2","Сооружения и передаточные устройства","тыс.руб.",null,0,0,null,null,null,null,null,null,null,null,null,null,null,0]
["1","L3_3",null,null,null,null,null,null,null,null,null,"3.3","Машины и оборудование","тыс.руб.",null,0,0,null,null,null,null,null,null,null,null,null,null,null,0]
["1","L3_4",null,null,null,null,null,null,null,null,null,"3.4","Транспорт","тыс.руб.",null,0,0,null,null,null,null,null,null,null,null,null,null,null,0]
["1","L3_5",null,null,null,null,null,null,null,null,null,"3.5","Прочее","тыс.руб.",null,0,0,null,null,null,null,null,null,null,null,null,null,null,0]
["1","L4",null,null,null,null,null,null,null,null,null,4,"Первоначальная (восстановительная) стоимость на конец периода","тыс.руб.",{"$f":"SUM(O36:O40)","v":0},11255.042539999999,{"$f":"SUM(Q36:Q40)","v":8789.28269},9442.3173999999999,12069.126999999999,0,0,0,0,0,0,0,{"$f":"SUM(AA36:AA40)","v":0},{"$f":"SUM(AB36:AB40)","v":0},8789.28269,0,0,0,0,0,0,0,0,0]
["1","L4_1",null,null,null,null,null,null,null,null,null,"4.1","Здания","тыс.руб.",0,{"$f":"P18+P24-P30","v":0},{"$f":"Q18+Q24-Q30","v":0},0,1417.8000000000002,0,0,0,0,0,0,0,0,0,0,0,0,0,0,0,0,0,0,0]
["1","L4_2",null,null,null,null,null,null,null,null,null,"4.2","Сооружения и передаточные устройства","тыс.руб.",0,{"$f":"P19+P25-P31","v":2625.5785000000001},{"$f":"Q19+Q25-Q31","v":2625.5785000000001},4368.4530699999996,4368.45,0,0,0,0,0,0,0,0,0,2625.5785000000001,0,0,0,0,0,0,0,0,0]
["1","L4_3",null,null,null,null,null,null,null,null,null,"4.3","Машины и оборудование","тыс.руб.",0,{"$f":"P20+P26-P32","v":2436.5541899999998},{"$f":"Q20+Q26-Q32","v":2436.5541899999998},4138.8733300000004,{"$f":"S20+S26-S32","v":5347.89},0,0,0,0,0,0,0,0,0,2436.5541899999998,0,0,0,0,0,0,0,0,{"$f":"AL20+AL26-AL32","v":0}]
["1","L4_4",null,null,null,null,null,null,null,null,null,"4.4","Транспорт","тыс.руб.",0,{"$f":"P21+P27-P33","v":798.57665999999995},{"$f":"Q21+Q27-Q33","v":0},798.577,{"$f":"S21+S27-S33","v":798.577},0,0,0,0,0,0,0,0,0,0,0,0,0,0,0,0,0,0,{"$f":"AL21+AL27-AL33","v":0}]
["1","L4_5",null,null,null,null,null,null,null,null,null,"4.5","Прочее","тыс.руб.",0,{"$f":"P22+P28-P34","v":5394.3331899999994},{"$f":"Q22+Q28-Q34","v":3727.15},136.41399999999999,{"$f":"S22+S28-S34","v":136.41},0,0,0,0,0,0,0,0,0,3727.15,0,0,0,0,0,0,0,0,{"$f":"AL22+AL28-AL34","v":0}]
["1","L5",null,null,null,null,null,null,null,null,null,5,"Среднегодовая стоимость","тыс.руб.",{"$f":"SUM(O42:O46)","v":0},{"$f":"SUM(P42:P46)","v":10348.679314999999},{"$f":"SUM(Q42:Q46)","v":8541.8626899999999},9442.3173999999999,11662.076999999999,0,0,0,0,0,0,0,{"$f":"SUM(AA42:AA46)","v":0},{"$f":"SUM(AB42:AB46)","v":0},8789.28269,0,0,0,0,0,0,0,0,0]
["1","L5_1",null,null,null,null,null,null,null,null,null,"5.1","Здания","тыс.руб.",0,{"$f":"(P36+P18)/2","v":0},{"$f":"(Q36+Q18)/2","v":0},0,1010.7500000000001,0,0,0,0,0,0,0,0,0,0,0,0,0,0,0,0,0,0,0]
["1","L5_2",null,null,null,null,null,null,null,null,null,"5.2","Сооружения и передаточные устройства","тыс.руб.",0,2625.5785000000001,{"$f":"(Q37+Q19)/2","v":2625.5785000000001},4368.4530699999996,4368.45,0,0,0,0,0,0,0,0,0,2625.5785000000001,0,0,0,0,0,0,0,0,0]
["1","L5_3",null,null,null,null,null,null,null,null,null,"5.3","Машины и оборудование","тыс.руб.",0,2189.1341899999998,{"$f":"(Q38+Q20)/2","v":2189.1341899999998},4138.8733300000004,5347.89,0,0,0,0,0,0,0,0,0,2436.5541899999998,0,0,0,0,0,0,0,0,0]
["1","L5_4",null,null,null,null,null,null,null,null,null,"5.4","Транспорт","тыс.руб.",0,798.57665999999995,{"$f":"(Q39+Q21)/2","v":0},798.577,798.577,0,0,0,0,0,0,0,0,0,0,0,0,0,0,0,0,0,0,0]
["1","L5_5",null,null,null,null,null,null,null,null,null,"5.5","Прочее","тыс.руб.",0,4735.3899649999994,{"$f":"(Q40+Q22)/2","v":3727.15},136.41399999999999,136.41,0,0,0,0,0,0,0,0,0,3727.15,0,0,0,0,0,0,0,0,0]
["1","L6",null,null,null,null,null,null,null,null,null,6,"Средняя норма амортизационных отчислений"]
["1","L6_1",null,null,null,null,null,null,null,null,null,"6.1","Здания","%",0,{"$f":"IF(P42=0,0,P54/P42*100)","v":0},0,0,29.552312639129351,0,0,0,0,0,0,0,0,0,0,0,0,0,0,0,0,0,0,0]
["1","L6_2",null,null,null,null,null,null,null,null,null,"6.2","Сооружения и передаточные устройства","%",0,4.3180426713579498,3.7655051385183618,7.7068269844000001,7.7068525449530165,0,0,0,0,0,0,0,0,0,3.7655051385183609,0,0,0,0,0,0,0,0,0]
["1","L6_3",null,null,null,null,null,null,null,null,null,"6.3","Машины и оборудование","%",0,14.422181218594005,12.591381313784758,12.4775145027,13.748038946201211,0,0,0,0,0,0,0,0,0,10.633431605858643,0,0,0,0,0,0,0,0,0]
["1","L6_4",null,null,null,null,null,null,null,null,null,"6.4","Транспорт","%",0,19.999998497326484,0,0,20.000576024603763,0,0,0,0,0,0,0,0,0,0,0,0,0,0,0,0,0,0,0]
["1","L6_5",null,null,null,null,null,null,null,null,null,"6.5","Прочее","%",0,12.083524783159016,11.755209208108072,6.9792543286999997,6.9789604867678321,0,0,0,0,0,0,0,0,0,11.755209208108072,0,0,0,0,0,0,0,0,0]
["1","L7",null,null,null,null,null,null,null,null,null,7,"Сумма амортизационных отчислений","тыс.руб.",{"$f":"SUM(O54:O58)","v":825.67000000000007},1161.0118399999999,{"$f":"SUM(Q54:Q58)","v":812.64280666666673},862.61832000000004,1539.84,0,0,0,0,0,0,0,{"$f":"SUM(AA54:AA58)","v":0},{"$f":"SUM(AB54:AB58)","v":0},796.08989666666639,0,0,0,0,0,0,0,0,0]
["1","L7_1",null,null,null,null,null,null,null,null,null,"7.1","Здания","тыс.руб.",null,0,0,0,298.7,null,null,null,null,null,null,null,null,null,0,null,null,null,null,null,null,null,null,null,"Специалистом РЭК отчисления по объектам, созданным/реконструированным в соответствии с Инвестиционной программой и отражаемых как Нематериальные активы (НМА),  учтены по пункту 7.5."]
["1","L7_2",null,null,null,null,null,null,null,null,null,"7.2","Сооружения и передаточные устройства","тыс.руб.",438.13,113.3736,{"$f":"113.3736-27.20124+190.409/15","v":98.866293333333331},336.66912000000002,336.67,null,null,null,null,null,null,null,null,null,98.866293333333303,null,null,null,null,null,null,null,null,null,"Специалистом РЭК отражена амортизация объектов имущества, находящихся в собственности ООО \"БелГОС\". Фактические суммы амортизации за 2023 год и плановые суммы амортизации на 2025 год  скорректированы, исходя из максимального нормативного срока полезного использования (15 лет), по объекту  инвентарного учета  № 330."]
["1","L7_3",null,null,null,null,null,null,null,null,null,"7.3","Машины и оборудование","тыс.руб.",null,315.72089999999997,{"$f":"315.7209-37.118-23+185.59/15+115/15","v":275.64223333333331},516.42852000000005,735.23,null,null,null,null,null,null,null,null,null,259.08932333333303,null,null,null,null,null,null,null,null,null,"Специалистом РЭК отражена амортизация объектов имущества, находящихся в собственности ООО \"БелГОС\". Фактические суммы амортизации за 2023 год и плановые суммы амортизации на 2025 год  скорректированы, исходя из максимального нормативного срока полезного использования (15 лет) по объектам  инвентарного учета № 6014, № 5932, № 6004."]
["1","L7_4",null,null,null,null,null,null,null,null,null,"7.4","Транспорт","тыс.руб.",null,159.71531999999999,0,0,159.72,null,null,null,null,null,null,null,null,null,0,null,null,null,null,null,null,null,null,null,"Начисления по транспортным средствам исключены, так как такие основные средства относятся к  объектам общепроизводственного назначения  и входят в состав Операционных расходов (Пункт 18(7)  Методических указаний ФСТ № 1746-э)."]
["1","L7_5",null,null,null,null,null,null,null,null,null,"7.5","Прочее","тыс.руб.",387.54,572.20201999999995,{"$f":"428.6136+9.52068","v":438.13428000000005},9.5206800000000005,9.52,null,null,null,null,null,null,null,null,null,{"$f":"428.6136+9.52068","v":438.13428000000005},null,null,null,null,null,null,null,null,null,"Специалистом РЭК отражены отчисления  в части НМА  (стоимость мероприятий по реконструкции Объекта концессионного соглашения, предусмотренных Инвестиционной программой, в том числе - стоимость услуг по разработке проекта концессионного соглашения)."]
["1","L8",null,null,null,null,null,null,null,null,null,8,"Переоценка на 31.12.XX","тыс.руб.",{"$f":"SUM(O60:O64)","v":0},0,{"$f":"SUM(Q60:Q64)","v":0},0,0,0,0,0,0,0,0,0,{"$f":"SUM(AA60:AA64)","v":0},{"$f":"SUM(AB60:AB64)","v":0},0,0,0,0,0,0,0,0,0,0]
["1","L8_1",null,null,null,null,null,null,null,null,null,"8.1","Здания","тыс.руб."]
["1","L8_2",null,null,null,null,null,null,null,null,null,"8.2","Сооружения и передаточные устройства","тыс.руб."]
["1","L8_3",null,null,null,null,null,null,null,null,null,"8.3","Машины и оборудование","тыс.руб."]
["1","L8_4",null,null,null,null,null,null,null,null,null,"8.4","Транспорт","тыс.руб."]
["1","L8_5",null,null,null,null,null,null,null,null,null,"8.5","Прочее","тыс.руб."]
[]
[null,null,null,null,null,null,null,null,null,null,null,"Комментарии и обоснования к разделу"]
[null,null,null,null,null,null,null,null,null,null,null,"<Письмо> ФАС России от 05.08.2022 N МШ/74227/22 \"О новых стандартах бухгалтерского учета, подлежащих применению начиная с бухгалтерской (финансовой) отчетности за 2022 год\": \"ФАС России отмечает, что экономическая обоснованность расходов и порядок их учета в составе необходимой валовой выручки регулируемых организаций определяются утверждаемыми Правительством Российской Федерации основами ценообразования в области государственного регулирования цен (тарифов) в соответствующих регулируемых сферах деятельности.\nНачиная с 2022 года применение новых стандартов бухгалтерского учета является обязательным, при этом данное обстоятельство не влечет изменение подходов к оценке экономической обоснованности расходов, учитываемых в необходимой валовой выручке (далее - НВВ) регулируемых организаций, которые основываются на принципах регулирования тарифов, установленных в отраслевых федеральных законах и в утвержденных Правительством Российской Федерации основах ценообразования. Кроме того, не меняется терминология и сущность затрат, установленные в смежных областях права (регулирование инвестиционной деятельности, требования к проведению ремонтных работ и т.п.).\nС учетом вышеизложенного ФАС России рекомендует руководствоваться следующим: (2.) Расходы на амортизацию основных средств для включения в НВВ определяются в соответствии с ОСНОВАМИ ЦЕНООБРАЗОВАНИЯ в соответствующих регулируемых сферах деятельности (на уровне, равном сумме отношений первоначальной стоимости основных средств регулируемой организации (в том числе с учетом стоимости проведенной реконструкции или модернизации) БЕЗ УЧЕТА ее увеличения на сумму затрат на ремонт, техническое обслуживание и технический осмотр, к сроку полезного использования таких активов, определяемому в момент принятия основных средств к учету или измененному в результате проведенной реконструкции или модернизации (изменение срока полезного использования, кроме указанного в настоящем абзаце, не учитывается при расчете суммы амортизации, включаемой в НВВ).\nПри расчете экономически обоснованного размера амортизации срок полезного использования активов и отнесение этих активов к соответствующей амортизационной группе определяется регулирующими органами в соответствии с максимальными сроками полезного использования, установленными Классификацией основных средств, включаемых в амортизационные группы, утвержденной постановлением Правительства Российской Федерации от 1 января 2002 г. N 1 \"О Классификации основных средств, включаемых в амортизационные группы\" (далее - Классификация ОС N 1).\nАмортизация прав пользования активами, сформированными в соответствии с нормами ФСБУ 25/2018 \"Бухгалтерский учет аренды\" и отраженными в составе основных средств, не включается в состав необходимой валовой выручки в целях исключения двойного учета затрат в составе необходимой валовой выручки регулируемой организации."]
[null,null,null,null,null,null,null,null,null,null,"О ","Регулирующим органом  приняты к учету ПО СТАТЬЕ \"АМОРТИЗАЦИЯ ОСНОВНЫХ СРЕДСТВ И НЕМАТЕРИАЛЬНЫХ АКТИВОВ, ОТНОСИМЫХ К ОБЪЕКТАМ ЦЕНТРАЛИЗОВАННОЙ СИСТЕМЫ ВОДООТВЕДЕНИЯ\"  амортизационные отчисления в части:  1)  собственного имущества ООО \"БелГОС\" (основные средства и нематериальные активы); 2)  стоимости мероприятий по реконструкции Объекта концессионного соглашения.  Пообъектный расчет сумм амортизации выполнен на основании Отчетов по основным средствам за 2023 г. и представленных инвентарных карт. "]
[null,null,null,null,null,null,null,null,null,null,"О ",""]
[null,null,null,null,null,null,null,null,null,null,"О ","ИСКЛЮЧЕНЫ: 1) начисления в части стоимости капитальных вложений в концессионное имущество, НЕ ПРЕДУСМОТРЕННЫХ Инвестиционной программой (соответствует позиции ФАС России); 2) начисления по транспортным средствам, так как они относятся к  объектам общепроизводственного назначения и учитываются в составе Операционных расходов."]
[null,null,null,null,null,null,null,null,null,null,null,"Добавить комментарий"]

{"sheet":"Аренда","index":21,"n_rows":29,"n_cols":39,"rows_kept":29,"cut":false,"hidden":false,"merged":[[28,11,28,12],[24,11,24,38],[25,11,25,38],[13,38,14,38],[13,11,14,11],[13,12,14,12],[13,13,14,13],[26,11,26,38],[27,11,27,38]]}
[null,null,null,null,null,null,null,null,null,null,null,null,null,null,{"$f":"god-2","v":2023},{"$f":"god-2","v":2023},{"$f":"god-2","v":2023},{"$f":"god-1","v":2024},{"$f":"god","v":2025},{"$f":"god+1","v":2026},{"$f":"god+2","v":2027},{"$f":"god+3","v":2028},{"$f":"god+4","v":2029},{"$f":"god+5","v":2030},{"$f":"god+6","v":2031},{"$f":"god+7","v":2032},{"$f":"god+8","v":2033},{"$f":"god+9","v":2034},{"$f":"god","v":2025},{"$f":"god+1","v":2026},{"$f":"god+2","v":2027},{"$f":"god+3","v":2028},{"$f":"god+4","v":2029},{"$f":"god+5","v":2030},{"$f":"god+6","v":2031},{"$f":"god+7","v":2032},{"$f":"god+8","v":2033},{"$f":"god+9","v":2034}]
[null,null,null,null,null,null,null,null,null,null,null,null,null,null,{"$f":"O15","v":"Принято органом регулирования"},{"$f":"P15","v":"Факт по данным организации"},"Факт, принятый органом регулирования","Принято органом регулирования","Предложение организации","Предложение организации","Предложение организации","Предложение организации","Предложение организации","Предложение организации","Предложение организации","Предложение организации","Предложение организации","Предложение организации","Принято органом регулирования","Принято органом регулирования","Принято органом регулирования","Принято органом регулирования","Принято органом регулирования","Принято органом регулирования","Принято органом регулирования","Принято органом регулирования","Принято органом регулирования","Принято органом регулирования"]
[]
[]
[]
[]
[null,null,null,null,null,null,null,null,null,null,null,null,null,null,null,null,null,null,{"$f":"S1<=last_year_vis","v":true},false,false,false,false,false,false,false,false,false,true,false,false,false,false,false,false,false,false,false]
[]
[]
[]
[null,null,null,null,null,null,null,null,null,null,null,null,{"$f":"tpl_title","v":"Кемеровская область / 2025 / ООО\"БелГОС\" (ИНН:4202023230, КПП:420201001) / ДПР: 2019-2028"}]
[null,null,null,null,null,null,null,null,null,null,null,"11. Аренда"]
[]
[null,null,null,null,null,null,null,null,null,null,null,"№ п/п","Наименование показателя","Единица измерений",{"$f":"god-2 & \" год\"","v":"2023 год"},{"$f":"god-2 & \" год\"","v":"2023 год"},{"$f":"god-2 & \" год\"","v":"2023 год"},{"$f":"god-1 & \" год\"","v":"2024 год"},{"$f":"god & \" год\"","v":"2025 год"},{"$f":"god+1 & \" год\"","v":"2026 год"},{"$f":"god+2 & \" год\"","v":"2027 год"},{"$f":"god+3 & \" год\"","v":"2028 год"},{"$f":"god+4 & \" год\"","v":"2029 год"},{"$f":"god+5 & \" год\"","v":"2030 год"},{"$f":"god+6 & \" год\"","v":"2031 год"},{"$f":"god+7 & \" год\"","v":"2032 год"},{"$f":"god+8 & \" год\"","v":"2033 год"},{"$f":"god+9 & \" год\"","v":"2034 год"},{"$f":"god & \" год\"","v":"2025 год"},{"$f":"god+1 & \" год\"","v":"2026 год"},{"$f":"god+2 & \" год\"","v":"2027 год"},{"$f":"god+3 & \" год\"","v":"2028 год"},{"$f":"god+4 & \" год\"","v":"2029 год"},{"$f":"god+5 & \" год\"","v":"2030 год"},{"$f":"god+6 & \" год\"","v":"2031 год"},{"$f":"god+7 & \" год\"","v":"2032 год"},{"$f":"god+8 & \" год\"","v":"2033 год"},{"$f":"god+9 & \" год\"","v":"2034 год"},"Ссылка на правовую норму (основание для принятия показателя в расчет тарифа)"]
[null,null,null,null,null,null,null,null,null,null,null,null,null,null,"Принято органом регулирования","Факт по данным организации","Факт, принятый органом регулирования","Принято органом регулирования","Предложение организации","Предложение организации","Предложение организации","Предложение организации","Предложение организации","Предложение организации","Предложение организации","Предложение организации","Предложение организации","Предложение организации","Принято органом регулирования","Принято органом регулирования","Принято органом регулирования","Принято органом регулирования","Принято органом регулирования","Принято органом регулирования","Принято органом регулирования","Принято органом регулирования","Принято органом регулирования","Принято органом регулирования"]
[{"$f":"'Общие сведения'!$D$122","v":"1"},null,null,null,null,null,null,null,null,null,null,{"$f":"INDEX('Общие сведения'!$J$121:$J$135,MATCH($A16,'Общие сведения'!$D$121:$D$135,0))","v":"Тариф 1 (Водоотведение) - тариф на водоотведение"}]
[{"$f":"A16","v":"1"},"L1",null,null,null,null,null,null,null,null,null,"1","Арендная и концессионная плата. Лизинговые платежи","тыс.руб.",{"$f":"O18+O21+O22+O23","v":1548.6399999999999},{"$f":"P18+P21+P22+P23","v":3035.6800000000003},2175.66,2160.7455600000003,2606.71,0,0,0,0,0,0,0,0,0,2122.1543399000002,0,0,0,0,0,0,0,0,0]
["1","L1_1",null,null,null,null,null,null,null,null,null,"1.1","Аренда имущества","тыс.руб.",890.35,{"$f":"SUM(P19:P20)","v":1750.21},890.18999999999994,875.28,1321.21,0,0,0,0,0,0,0,0,0,836.68933990000005,0,0,0,0,0,0,0,0,0,"1) Пункты 49 (3), 29, 88  Методических указаний ФСТ № 1746-э. 2) Пункт 28 абз. 4 Методических указаний ФСТ № 1746-э. 3) Постановление Правительства РФ от 01.01.2002 N 1 (ред. от 18.11.2022) \"О Классификации основных средств, включаемых в амортизационные группы\".  Постановлением Правительства РФ от 01.01.2002 N 1."]
["1","L1_1_1",null,null,null,null,null,null,null,null,null,"1.1.1","Аренда муниципальной или государственной собственности","тыс.руб.",23.84,{"$f":"1.69+427.31","v":429},{"$f":"1.69+21.99","v":23.68},23.68,0,null,null,null,null,null,null,null,null,null,0,null,null,null,null,null,null,null,null,null,"Расходы по договорам  МУ \"КЗРиМИ\"  г. Белово: 1) от 01.06.2019 № 03/19  (Аренда хозяйственно-фекального коллектора); 2) № 35/18 от 19.09.2018 (туалетная кабина). (Срок действия договоров истек к моменту проведения экспертизы тарифного дела)."]
["1","L1_1_2",null,null,null,null,null,null,null,null,null,"1.1.2","Аренда частной собственности","тыс.руб.",866.51,1321.21,866.51,851.6,1321.21,null,null,null,null,null,null,null,null,null,836.68933990000005,null,null,null,null,null,null,null,null,null,"Плата за аренду КНС согласно договора № Т-5-А14 от 17.12.2014, заключенного с  ОАО \"Кузбассэнерго\"."]
["1","L1_2",null,null,null,null,null,null,null,null,null,"1.2","Концессионная плата","тыс.руб."]
["1","L1_3",null,null,null,null,null,null,null,null,null,"1.3","Лизинговые платежи","тыс.руб."]
["1","L1_4",null,null,null,null,null,null,null,null,null,"1.4","Аренда земельных участков","тыс.руб.",658.29,1285.47,1285.47,1285.4655600000001,1285.5,null,null,null,null,null,null,null,null,null,1285.4649999999999,null,null,null,null,null,null,null,null,null,"1) Пункт 4 статьи 39.7, подпункт 2 статьи 49 \"Земельного кодекса Российской Федерации\" от 25.10.2001 N 136-ФЗ (ред. от 04.08.2023). 2) Пункт 5 «Правил определения размера арендной платы, а также порядка, условий и сроков внесения арендной платы за земли, находящиеся в собственности Российской Федерации» (утверждены Постановлением Правительства РФ от 16.07.2009 N 582 (ред. от 10.02.2023). 3) Приказ Минэкономразвития России от 23.04.2013 N 217 . 4) Приказ Минфина России от 16.10.2018 N 208н (ред. от 29.06.2022). 5) Письмо ФАС России от 05.08.2022 N МШ/74227/22."]
[]
[null,null,null,null,null,null,null,null,null,null,null,"Комментарии и обоснования к разделу"]
[null,null,null,null,null,null,null,null,null,null,null,"АРЕНДА МУНИЦИПАЛЬНОГО ИМУЩЕСТВА (ПЛАН / ФАКТ 2023 г.).  1)  Плановые расходы  на 2023 год по   договору с  МУ \"КЗРиМИ\"  г. Белово от 01.06.2019 № 03/19 (АРЕНДА ХОЗЯЙСТВЕННО-ФЕКАЛЬНОГО КОЛЛЕКТОРА) приняты  регулирующим органом  в размере 21,99 тыс. руб./год.     При корректировке тарифов на 2020 г. регулятором было установлено, что балансовая стоимость объекта, указанная в договоре аренды (8929,00 тыс. руб.), необоснованно завышена.  Экономически обоснованный размер годовой арендной  платы (21,989 тыс. руб. в год)  был определен регулятором исходя из балансовой стоимости, по которой данный объект учитывался на балансе организации в 2018 г. (439,78 тыс. руб.), и срока полезного использования 20 лет (7 аморт. группа).                                                   2) Расходы по договору № 35/18  от 19.09.2018 (туалетная кабина) приняты  в соответствии с условиями договора (1,69 тыс. руб./год)."]
[null,null,null,null,null,null,null,null,null,null,"О ","2) АРЕНДА ЧАСТНОЙ СОБСТВЕННОСТИ (План на 2025 г.). Ежемесячная плата за аренду КНС согласно договора № Т-5-А14 от 17.12.2014 (ОАО \"Кузбассэнерго\") принята исходя из суммы амортизационных отчислений  56,476 тыс. руб. и налога на землю 0,26 тыс. руб., согласно Калькуляциям (в Приложениях к договору),  скорректирована в части  налога на имущество (12,988  тыс.руб./мес.), отчислений  на капитальный ремонт (0,0 тыс. руб.) и рентабельности (0,0 тыс. руб.). Всего в месяц - 69,724 тыс. руб., * 12 мес. = 836,69 тыс. руб.                           "]
[null,null,null,null,null,null,null,null,null,null,"О ","3) АРЕНДА ЗЕМЕЛЬНЫХ УЧАСТКОВ (Факт 2023 г. / План на 2025 г.). Расходы по договору  от 21.01.2019 № 7898/19  приняты  на основании уведомления арендодателя о величине арендной платы на 2024 г.  (рассчитана в размере 0,7% от  ИЗМЕНЕННОЙ  кадастровой стоимости земельных участков)."]
[null,null,null,null,null,null,null,null,null,null,null,"Добавить комментарий"]

{"sheet":"Покупка","index":22,"n_rows":53,"n_cols":39,"rows_kept":53,"cut":false,"hidden":false,"merged":[[52,11,52,12],[38,11,38,38],[39,11,39,38],[13,11,14,11],[13,12,14,12],[13,13,14,13],[13,38,14,38],[40,11,40,38],[41,11,41,38],[42,11,42,38],[43,11,43,38],[44,11,44,38],[45,11,45,38],[46,11,46,38],[47,11,47,38],[48,11,48,38],[49,11,49,38],[50,11,50,38],[51,11,51,38],[18,9,20,9]]}
[null,null,null,null,null,null,null,null,null,null,null,null,null,null,{"$f":"god-2","v":2023},{"$f":"god-2","v":2023},{"$f":"god-2","v":2023},{"$f":"god-1","v":2024},{"$f":"god","v":2025},{"$f":"god+1","v":2026},{"$f":"god+2","v":2027},{"$f":"god+3","v":2028},{"$f":"god+4","v":2029},{"$f":"god+5","v":2030},{"$f":"god+6","v":2031},{"$f":"god+7","v":2032},{"$f":"god+8","v":2033},{"$f":"god+9","v":2034},{"$f":"god","v":2025},{"$f":"god+1","v":2026},{"$f":"god+2","v":2027},{"$f":"god+3","v":2028},{"$f":"god+4","v":2029},{"$f":"god+5","v":2030},{"$f":"god+6","v":2031},{"$f":"god+7","v":2032},{"$f":"god+8","v":2033},{"$f":"god+9","v":2034}]
[null,null,null,null,null,null,null,null,null,null,null,null,null,null,{"$f":"O15","v":"Принято органом регулирования"},{"$f":"P15","v":"Факт по данным организации"},"Факт, принятый органом регулирования","Принято органом регулирования","Предложение организации","Предложение организации","Предложение организации","Предложение организации","Предложение организации","Предложение организации","Предложение организации","Предложение организации","Предложение организации","Предложение организации","Принято органом регулирования","Принято органом регулирования","Принято органом регулирования","Принято органом регулирования","Принято органом регулирования","Принято органом регулирования","Принято органом регулирования","Принято органом регулирования","Принято органом регулирования","Принято органом регулирования"]
[]
[]
[]
[]
[null,null,null,null,null,null,null,null,null,null,null,null,null,null,null,null,null,null,{"$f":"S1<=last_year_vis","v":true},false,false,false,false,false,false,false,false,false,true,false,false,false,false,false,false,false,false,false]
[]
[]
[]
[null,null,null,null,null,null,null,null,null,null,null,null,{"$f":"tpl_title","v":"Кемеровская область / 2025 / ООО\"БелГОС\" (ИНН:4202023230, КПП:420201001) / ДПР: 2019-2028"}]
[null,null,null,null,null,null,null,null,null,null,null,"12. Расходы на оплату товаров (услуг, работ), приобретаемых у других организаций"]
[]
[null,null,null,null,null,null,null,null,null,null,null,"№\nп/п","Наименование","Единица измерения",{"$f":"god-2 & \" год\"","v":"2023 год"},{"$f":"god-2 & \" год\"","v":"2023 год"},{"$f":"god-2 & \" год\"","v":"2023 год"},{"$f":"god-1 & \" год\"","v":"2024 год"},{"$f":"god & \" год\"","v":"2025 год"},{"$f":"god+1 & \" год\"","v":"2026 год"},{"$f":"god+2 & \" год\"","v":"2027 год"},{"$f":"god+3 & \" год\"","v":"2028 год"},{"$f":"god+4 & \" год\"","v":"2029 год"},{"$f":"god+5 & \" год\"","v":"2030 год"},{"$f":"god+6 & \" год\"","v":"2031 год"},{"$f":"god+7 & \" год\"","v":"2032 год"},{"$f":"god+8 & \" год\"","v":"2033 год"},{"$f":"god+9 & \" год\"","v":"2034 год"},{"$f":"god & \" год\"","v":"2025 год"},{"$f":"god+1 & \" год\"","v":"2026 год"},{"$f":"god+2 & \" год\"","v":"2027 год"},{"$f":"god+3 & \" год\"","v":"2028 год"},{"$f":"god+4 & \" год\"","v":"2029 год"},{"$f":"god+5 & \" год\"","v":"2030 год"},{"$f":"god+6 & \" год\"","v":"2031 год"},{"$f":"god+7 & \" год\"","v":"2032 год"},{"$f":"god+8 & \" год\"","v":"2033 год"},{"$f":"god+9 & \" год\"","v":"2034 год"},"Ссылка на правовую норму (основание для принятия показателя в расчет тарифа)"]
[null,null,null,null,null,null,null,null,null,null,null,null,null,null,"Принято органом регулирования","Факт по данным организации","Факт, принятый органом регулирования","Принято органом регулирования","Предложение организации","Предложение организации","Предложение организации","Предложение организации","Предложение организации","Предложение организации","Предложение организации","Предложение организации","Предложение организации","Предложение организации","Принято органом регулирования","Принято органом регулирования","Принято органом регулирования","Принято органом регулирования","Принято органом регулирования","Принято органом регулирования","Принято органом регулирования","Принято органом регулирования","Принято органом регулирования","Принято органом регулирования"]
[{"$f":"'Общие сведения'!$D$122","v":"1"},"Итого",null,null,null,null,null,null,null,null,null,{"$f":"INDEX('Общие сведения'!$J$121:$J$135,MATCH($A16,'Общие сведения'!$D$121:$D$135,0))","v":"Тариф 1 (Водоотведение) - тариф на водоотведение"},null,null,{"$f":"O17+O23+O26+O29+O32+O35+O36+O37","v":742.92},{"$f":"P17+P23+P26+P29+P32+P35+P36+P37","v":1037.19543},734.16543000000001,835.35032780339998,1351.55,0,0,0,0,0,0,0,0,0,797.87305000000003,0,0,0,0,0,0,0,0,0]
[{"$f":"A16","v":"1"},"L1",null,null,null,null,null,null,null,null,null,1,"Затраты на холодную воду","тыс.руб.",{"$f":"SUMIF(N18:N22,N17,O18:O22)","v":0},{"$f":"SUMIF(N18:N22,N17,P18:P22)","v":303.02999999999997},{"$f":"SUMIF(N18:N22,N17,Q18:Q22)","v":0},{"$f":"SUMIF(N18:N22,N17,R18:R22)","v":0},{"$f":"SUMIF(N18:N22,N17,S18:S22)","v":394.05},{"$f":"SUMIF(N18:N22,N17,T18:T22)","v":0},{"$f":"SUMIF(N18:N22,N17,U18:U22)","v":0},{"$f":"SUMIF(N18:N22,N17,V18:V22)","v":0},{"$f":"SUMIF(N18:N22,N17,W18:W22)","v":0},{"$f":"SUMIF(N18:N22,N17,X18:X22)","v":0},{"$f":"SUMIF(N18:N22,N17,Y18:Y22)","v":0},{"$f":"SUMIF(N18:N22,N17,Z18:Z22)","v":0},{"$f":"SUMIF(N18:N22,N17,AA18:AA22)","v":0},{"$f":"SUMIF(N18:N22,N17,AB18:AB22)","v":0},{"$f":"SUMIF(N18:N22,N17,AC18:AC22)","v":0},{"$f":"SUMIF(N18:N22,N17,AD18:AD22)","v":0},{"$f":"SUMIF(N18:N22,N17,AE18:AE22)","v":0},{"$f":"SUMIF(N18:N22,N17,AF18:AF22)","v":0},{"$f":"SUMIF(N18:N22,N17,AG18:AG22)","v":0},{"$f":"SUMIF(N18:N22,N17,AH18:AH22)","v":0},{"$f":"SUMIF(N18:N22,N17,AI18:AI22)","v":0},{"$f":"SUMIF(N18:N22,N17,AJ18:AJ22)","v":0},{"$f":"SUMIF(N18:N22,N17,AK18:AK22)","v":0},{"$f":"SUMIF(N18:N22,N17,AL18:AL22)","v":0},"Данные затраты к учету в составе Неподконтрольных расходов не приняты, так как были учтены  при расчете Базового уровня  Операционных расходов."]
["1",null,null,null,null,null,null,null,null,"1.0"]
[{"$f":"OFFSET(A19,-1,0)","v":"1"},"L1",{"$f":"M19","v":"ООО\"Водоснабжение\" :: 4202023801 :: 420201001"},null,null,null,null,null,null,"1.1","О",{"$f":"J19","v":"1.1"},"ООО\"Водоснабжение\" :: 4202023801 :: 420201001","тыс.руб.",null,303.02999999999997,null,0,394.05]
[{"$f":"A19","v":"1"},"L1_1",{"$f":"C19","v":"ООО\"Водоснабжение\" :: 4202023801 :: 420201001"},null,null,null,null,null,null,null,null,{"$f":"L19&\".1\"","v":"1.1.1"},"Объём холодной воды (покупка)","тыс.куб.м",null,6.2910000000000004,null,0,6.5730000000000004]
[{"$f":"A20","v":"1"},"L1_2",{"$f":"C20","v":"ООО\"Водоснабжение\" :: 4202023801 :: 420201001"},null,null,null,null,null,null,null,null,{"$f":"L19&\".2\"","v":"1.1.2"},"Тариф на холодную воду","руб./куб.м",{"$f":"IF(OR(AND(O19<>0,O20=0),AND(O19=0,O20<>0)),\"Ошибка\",IF(O20=0,0,O19/O20))","v":0},48.168812589413442,0,0,59.949794614331353,0,0,0,0,0,0,0,0,0,0,0,0,0,0,0,0,0,0,0]
[{"$f":"A18","v":"1"},{"$f":"A22&\"pIns1\"","v":"1pIns1"},null,null,null,null,null,null,null,null,null,null,"Добавить поставщика"]
["1","L2",null,null,null,null,null,null,null,null,null,2,"Затраты на транспортировку холодной воды","тыс.руб.",{"$f":"SUMIF(N24:N25,N23,O24:O25)","v":0},{"$f":"SUMIF(N24:N25,N23,P24:P25)","v":0},{"$f":"SUMIF(N24:N25,N23,Q24:Q25)","v":0},{"$f":"SUMIF(N24:N25,N23,R24:R25)","v":0},{"$f":"SUMIF(N24:N25,N23,S24:S25)","v":0},{"$f":"SUMIF(N24:N25,N23,T24:T25)","v":0},{"$f":"SUMIF(N24:N25,N23,U24:U25)","v":0},{"$f":"SUMIF(N24:N25,N23,V24:V25)","v":0},{"$f":"SUMIF(N24:N25,N23,W24:W25)","v":0},{"$f":"SUMIF(N24:N25,N23,X24:X25)","v":0},{"$f":"SUMIF(N24:N25,N23,Y24:Y25)","v":0},{"$f":"SUMIF(N24:N25,N23,Z24:Z25)","v":0},{"$f":"SUMIF(N24:N25,N23,AA24:AA25)","v":0},{"$f":"SUMIF(N24:N25,N23,AB24:AB25)","v":0},{"$f":"SUMIF(N24:N25,N23,AC24:AC25)","v":0},{"$f":"SUMIF(N24:N25,N23,AD24:AD25)","v":0},{"$f":"SUMIF(N24:N25,N23,AE24:AE25)","v":0},{"$f":"SUMIF(N24:N25,N23,AF24:AF25)","v":0},{"$f":"SUMIF(N24:N25,N23,AG24:AG25)","v":0},{"$f":"SUMIF(N24:N25,N23,AH24:AH25)","v":0},{"$f":"SUMIF(N24:N25,N23,AI24:AI25)","v":0},{"$f":"SUMIF(N24:N25,N23,AJ24:AJ25)","v":0},{"$f":"SUMIF(N24:N25,N23,AK24:AK25)","v":0},{"$f":"SUMIF(N24:N25,N23,AL24:AL25)","v":0}]
["1",null,null,null,null,null,null,null,null,"2.0"]
["1",{"$f":"A25&\"pIns2\"","v":"1pIns2"},null,null,null,null,null,null,null,null,null,null,"Добавить поставщика"]
["1","L3",null,null,null,null,null,null,null,null,null,3,"Затраты на водоотведение","тыс.руб.",{"$f":"SUMIF(N27:N28,N26,O27:O28)","v":0},{"$f":"SUMIF(N27:N28,N26,P27:P28)","v":0},{"$f":"SUMIF(N27:N28,N26,Q27:Q28)","v":0},{"$f":"SUMIF(N27:N28,N26,R27:R28)","v":0},{"$f":"SUMIF(N27:N28,N26,S27:S28)","v":0},{"$f":"SUMIF(N27:N28,N26,T27:T28)","v":0},{"$f":"SUMIF(N27:N28,N26,U27:U28)","v":0},{"$f":"SUMIF(N27:N28,N26,V27:V28)","v":0},{"$f":"SUMIF(N27:N28,N26,W27:W28)","v":0},{"$f":"SUMIF(N27:N28,N26,X27:X28)","v":0},{"$f":"SUMIF(N27:N28,N26,Y27:Y28)","v":0},{"$f":"SUMIF(N27:N28,N26,Z27:Z28)","v":0},{"$f":"SUMIF(N27:N28,N26,AA27:AA28)","v":0},{"$f":"SUMIF(N27:N28,N26,AB27:AB28)","v":0},{"$f":"SUMIF(N27:N28,N26,AC27:AC28)","v":0},{"$f":"SUMIF(N27:N28,N26,AD27:AD28)","v":0},{"$f":"SUMIF(N27:N28,N26,AE27:AE28)","v":0},{"$f":"SUMIF(N27:N28,N26,AF27:AF28)","v":0},{"$f":"SUMIF(N27:N28,N26,AG27:AG28)","v":0},{"$f":"SUMIF(N27:N28,N26,AH27:AH28)","v":0},{"$f":"SUMIF(N27:N28,N26,AI27:AI28)","v":0},{"$f":"SUMIF(N27:N28,N26,AJ27:AJ28)","v":0},{"$f":"SUMIF(N27:N28,N26,AK27:AK28)","v":0},{"$f":"SUMIF(N27:N28,N26,AL27:AL28)","v":0}]
["1",null,null,null,null,null,null,null,null,"3.0"]
["1",{"$f":"A28&\"pIns3\"","v":"1pIns3"},null,null,null,null,null,null,null,null,null,null,"Добавить поставщика"]
["1","L4",null,null,null,null,null,null,null,null,null,4,"Затраты на транспортировку сточных вод","тыс.руб.",{"$f":"SUMIF(N30:N31,N29,O30:O31)","v":0},{"$f":"SUMIF(N30:N31,N29,P30:P31)","v":0},{"$f":"SUMIF(N30:N31,N29,Q30:Q31)","v":0},{"$f":"SUMIF(N30:N31,N29,R30:R31)","v":0},{"$f":"SUMIF(N30:N31,N29,S30:S31)","v":0},{"$f":"SUMIF(N30:N31,N29,T30:T31)","v":0},{"$f":"SUMIF(N30:N31,N29,U30:U31)","v":0},{"$f":"SUMIF(N30:N31,N29,V30:V31)","v":0},{"$f":"SUMIF(N30:N31,N29,W30:W31)","v":0},{"$f":"SUMIF(N30:N31,N29,X30:X31)","v":0},{"$f":"SUMIF(N30:N31,N29,Y30:Y31)","v":0},{"$f":"SUMIF(N30:N31,N29,Z30:Z31)","v":0},{"$f":"SUMIF(N30:N31,N29,AA30:AA31)","v":0},{"$f":"SUMIF(N30:N31,N29,AB30:AB31)","v":0},{"$f":"SUMIF(N30:N31,N29,AC30:AC31)","v":0},{"$f":"SUMIF(N30:N31,N29,AD30:AD31)","v":0},{"$f":"SUMIF(N30:N31,N29,AE30:AE31)","v":0},{"$f":"SUMIF(N30:N31,N29,AF30:AF31)","v":0},{"$f":"SUMIF(N30:N31,N29,AG30:AG31)","v":0},{"$f":"SUMIF(N30:N31,N29,AH30:AH31)","v":0},{"$f":"SUMIF(N30:N31,N29,AI30:AI31)","v":0},{"$f":"SUMIF(N30:N31,N29,AJ30:AJ31)","v":0},{"$f":"SUMIF(N30:N31,N29,AK30:AK31)","v":0},{"$f":"SUMIF(N30:N31,N29,AL30:AL31)","v":0}]
["1",null,null,null,null,null,null,null,null,"4.0"]
["1",{"$f":"A31&\"pIns5\"","v":"1pIns5"},null,null,null,null,null,null,null,null,null,null,"Добавить поставщика"]
["1","L5",null,null,null,null,null,null,null,null,null,5,"Затраты на очистку сточных вод","тыс.руб.",{"$f":"SUMIF(N33:N34,N32,O33:O34)","v":0},{"$f":"SUMIF(N33:N34,N32,P33:P34)","v":0},{"$f":"SUMIF(N33:N34,N32,Q33:Q34)","v":0},{"$f":"SUMIF(N33:N34,N32,R33:R34)","v":0},{"$f":"SUMIF(N33:N34,N32,S33:S34)","v":0},{"$f":"SUMIF(N33:N34,N32,T33:T34)","v":0},{"$f":"SUMIF(N33:N34,N32,U33:U34)","v":0},{"$f":"SUMIF(N33:N34,N32,V33:V34)","v":0},{"$f":"SUMIF(N33:N34,N32,W33:W34)","v":0},{"$f":"SUMIF(N33:N34,N32,X33:X34)","v":0},{"$f":"SUMIF(N33:N34,N32,Y33:Y34)","v":0},{"$f":"SUMIF(N33:N34,N32,Z33:Z34)","v":0},{"$f":"SUMIF(N33:N34,N32,AA33:AA34)","v":0},{"$f":"SUMIF(N33:N34,N32,AB33:AB34)","v":0},{"$f":"SUMIF(N33:N34,N32,AC33:AC34)","v":0},{"$f":"SUMIF(N33:N34,N32,AD33:AD34)","v":0},{"$f":"SUMIF(N33:N34,N32,AE33:AE34)","v":0},{"$f":"SUMIF(N33:N34,N32,AF33:AF34)","v":0},{"$f":"SUMIF(N33:N34,N32,AG33:AG34)","v":0},{"$f":"SUMIF(N33:N34,N32,AH33:AH34)","v":0},{"$f":"SUMIF(N33:N34,N32,AI33:AI34)","v":0},{"$f":"SUMIF(N33:N34,N32,AJ33:AJ34)","v":0},{"$f":"SUMIF(N33:N34,N32,AK33:AK34)","v":0},{"$f":"SUMIF(N33:N34,N32,AL33:AL34)","v":0}]
["1",null,null,null,null,null,null,null,null,"5.0"]
["1",{"$f":"A34&\"pIns5\"","v":"1pIns5"},null,null,null,null,null,null,null,null,null,null,"Добавить поставщика"]
[{"$f":"A31","v":"1"},"L6",null,null,null,null,null,null,null,null,null,6,"Затраты на тепловую энергию","тыс.руб.",{"$f":"742.92-O37","v":735.24559999999997},724.85500000000002,724.85500000000002,{"$f":"835.3503278034-R37","v":832.95160306754724},955.2,null,null,null,null,null,null,null,null,null,788.72233000000006,null,null,null,null,null,null,null,null,null,"П. 88, п. 49(1), п. 20, п. 21  Методических указаний ФСТ № 1746-э."]
["1","L7",null,null,null,null,null,null,null,null,null,7,"Затраты на теплоноситель","тыс.руб.",null,null,null,0]
["1","L8",null,null,null,null,null,null,null,null,null,8,"Затраты на горячую воду","тыс.руб.",7.6744000000000003,9.3104300000000002,9.3104300000000002,{"$f":"1.99669/3.5/4.5*1.058+1.99669*1.058*1.072","v":2.3987247358526989},2.2999999999999998,null,null,null,null,null,null,null,null,null,9.1507199999999997]
[]
[null,null,null,null,null,null,null,null,null,null,null,"Комментарии и обоснования к разделу"]
[null,null,null,null,null,null,null,null,null,null,null,"По статье \"ЗАТРАТЫ НА ТЕПЛОВУЮ ЭНЕРГИЮ\" отражена стоимость услуг ООО \"Теплоэнергетик\" (Единая теплоснабжающай организация, Беловский городской округ) по Договору теплоснабжения и поставки горячей воды  № 58. "]
[null,null,null,null,null,null,null,null,null,null,"О ","ПО УЗЛУ ТЕПЛОСНАБЖЕНИЯ \"КОТЕЛЬНАЯ 30 КВАРТАЛА\" (отопление КНС \"Горсад\", КНС \"Вокзал\") :   ОБЪЕМЫ потребления горячей воды (ГВС, компонент  \"теплоноситель\" - 29,0598 м3), ГВС - компонент \"тепловая энергия\" - (1,889 Гкал) и объем  тепловой энергии на отопление (125,0074 Гкал) приняты на уровне факта 2023 г. "]
[null,null,null,null,null,null,null,null,null,null,"О ","ТАРИФ НА ГВС (компонент ТЕПЛОНОСИТЕЛЬ)  - 14,07 руб./м3 - принят в соответствии с постановлениями РЭК Кузбасса от 19.12.2023 N 622 \"Об установлении долгосрочных параметров регулирования и долгосрочных тарифов на ТЕПЛОНОСИТЕЛЬ, реализуемый ООО \"Теплоэнергетик\" на потребительском рынке Беловского городского округа по узлу теплоснабжения котельная 30 квартала, на 2024 - 2026 годы\" и  от 19.12.2023 N 623 \"Об установлении тарифов на ГОРЯЧУЮ ВОДУ в открытой системе теплоснабжения (горячего водоснабжения), реализуемую ООО \"Теплоэнергетик\" на потребительском рынке Беловского городского округа по узлу теплоснабжения котельная 30 квартала, на 2024 год\"."]
[null,null,null,null,null,null,null,null,null,null,"О ","ТАРИФ на ГВС  (компонент ТЕПЛОВАЯ ЭНЕРГИЯ). Согласно  постановлению РЭК Кузбасса от 19.12.2023 N 623, числовое значение (цены компонента на теплоноситель) определяется единой теплоснабжающей организацией равным цене на тепловую энергию (мощность), определенной соглашением сторон договора теплоснабжения, НО НЕ ВЫШЕ  предельного уровня цены на тепловую энергию (мощность), утвержденного постановлением РЭК Кузбасса от 14.11.2023 N 275 \"Об утверждении предельных уровней цен на тепловую энергию (мощность) для ценовой зоны теплоснабжения муниципальное образование Беловский городской округ Кемеровской области - Кузбасса на 2024 год\".  Для ООО \"Теплоэнергетик\" (по узлу КОТЕЛЬНАЯ 30 КВАРТАЛА) предельные цены составили: с 01.01.2024 - 3 425,87 руб./Гкал, с 01.07.2024 - 3 490,72 руб./Гкал."]
[null,null,null,null,null,null,null,null,null,null,"О ","Специалистом РЭК  плановые цены на ТЕПЛОВУЮ ЭНЕРГИЮ (отопление) и на ГВС (компонент ТЕПЛОНОСИТЕЛЬ) определены на основании представленной копии счета-фактуры ООО \"Теплоэнергетик\" за МАЙ 2024 года  (В счете-фактуре за июль 2024 г. затраты по данному узлу - 0,00 тыс. руб.), с учетом применения ИПЦ (индекса потребительских цен) Минэкономразвития России  108,0%  с 01.07.2024 и 105,8% с  01.07.2025 г.:     2062,79 руб./Гкал * 1,08 * 1,058 = 2357,03 руб./Гкал."]
[null,null,null,null,null,null,null,null,null,null,"О ","ИТОГО затраты ПО УЗЛУ КОТЕЛЬНАЯ 30 КВАРТАЛА:  1,889 Гкал * 2357,03 руб./Гкал + 125,0074 Гкал * 2357,03 руб./Гкал + 29,0598 м3 * 14,07 руб./м3 = 299,5075 тыс. руб."]
[null,null,null,null,null,null,null,null,null,null,"О ","ПО УЗЛУ ТЕПЛОСНАБЖЕНИЯ \"КОТЕЛЬНАЯ МИКРОРАЙОНА \"ИВУШКА\" (отопление Здания фильтров, Здания хлораторной (АБК), здания компрессорной на Очистных сооружениях мкр. ИВУШКА) :   ОБЪЕМЫ потребления горячей воды (ГВС, компонент  \"теплоноситель\" - 18,2736 м3), ГВС - компонент \"тепловая энергия\" - (1,1877 Гкал) и объем  тепловой энергии на отопление (175,7879 Гкал) приняты на уровне факта 2023 г. "]
[null,null,null,null,null,null,null,null,null,null,"О ","ТАРИФЫ НА ГВС (компонент ТЕПЛОНОСИТЕЛЬ); с 01.01.2025 - 50,79 руб./3, с 01.07.2025 - 53,32 руб./м3 (среднегодовой - 52,06 руб./м3) - приняты в соответствии с постановлениями РЭК Кузбасса от 19.12.2023 N 627 \"Об установлении ООО \"Теплоэнергетик\" тарифов на ГОРЯЧУЮ ВОДУ в открытой системе горячего водоснабжения (теплоснабжения), реализуемую на потребительском рынке Беловского городского округа по узлам теплоснабжения котельная МКУ \"Сибирь - 12,9\", котельная микрорайона \"Ивушка\", на 2024 год\"  и  от 19.12.2023 N 626 \"О внесении изменений в постановление Региональной энергетической комиссии Кузбасса от 20.12.2021 N 859 \"Об установлении долгосрочных параметров регулирования и долгосрочных тарифов на ТЕПЛОНОСИТЕЛЬ, реализуемый на потребительском рынке Беловского городского округа ООО \"Теплоэнергетик\" по узлам теплоснабжения котельная МКУ \"Сибирь - 12,9\", котельная микрорайона \"Ивушка\", на 2022 - 2028 годы\", в части 2024 года\"."]
[null,null,null,null,null,null,null,null,null,null,"О ","ТАРИФ на ГВС  (компонент ТЕПЛОВАЯ ЭНЕРГИЯ). Согласно  постановлению РЭК Кузбасса от 19.12.2023 N 627, числовое значение (цены компонента на теплоноситель) определяется единой теплоснабжающей организацией равным цене на тепловую энергию (мощность), определенной соглашением сторон договора теплоснабжения, НО НЕ ВЫШЕ  предельного уровня цены на тепловую энергию (мощность), утвержденного постановлением РЭК Кузбасса от 14.11.2023 N 275 \"Об утверждении предельных уровней цен на тепловую энергию (мощность) для ценовой зоны теплоснабжения муниципальное образование Беловский городской округ Кемеровской области - Кузбасса на 2024 год\".  Для ООО \"Теплоэнергетик\" (ПО УЗЛУ ТЕПЛОСНАБЖЕНИЯ \"КОТЕЛЬНАЯ МИКРОРАЙОНА \"ИВУШКА\") предельные цены составили: с 01.01.2024 - 3 978,48 руб./Гкал, с 01.07.2024 - 3 978,48 руб./Гкал."]
[null,null,null,null,null,null,null,null,null,null,"О ","Специалистом РЭК  плановые цены на ТЕПЛОВУЮ ЭНЕРГИЮ (отопление) и на ГВС (компонент ТЕПЛОНОСИТЕЛЬ) определены на основании представленной копии счета-фактуры ООО \"Теплоэнергетик\" за ИЮЛЬ 2024 года, с учетом применения ИПЦ  Минэкономразвития России  105,8% с  01.07.2025 г.:     2656,56 руб./Гкал * 1,058 = 2810,64 руб./Гкал."]
[null,null,null,null,null,null,null,null,null,null,"О ","ИТОГО затраты ПО УЗЛУ ТЕПЛОСНАБЖЕНИЯ \"КОТЕЛЬНАЯ МИКРОРАЙОНА \"ИВУШКА\":  1,1877 Гкал * 2810,64 руб./Гкал + 175,7879 Гкал * 2810,64 руб./Гкал + 18,2736 м3 * 52,06 руб./м3 = 498,36602 тыс. руб."]
[null,null,null,null,null,null,null,null,null,null,"О ","ВСЕГО ЗАТРАТ НА ГВС:  (1,889 Гкал * 2357,03 руб./Гкал + 29,0598 м3 * 14,07 руб./м3) + (1,1877 Гкал * 2810,64 руб./Гкал + 18,2736 м3 * 52,06 руб./м3)  = 9,15082 тыс. руб."]
[null,null,null,null,null,null,null,null,null,null,"О ","ВСЕГО ЗАТРАТ НА ТЕПЛОВУЮ ЭНЕРГИЮ ДЛЯ ОТОПЛЕНИЯ: (125,0074 Гкал * 2357,03 руб./Гкал) +  (175,7879 Гкал * 2810,64 руб./Гкал) = 788,7227 тыс. руб."]
[null,null,null,null,null,null,null,null,null,null,null,"Добавить комментарий"]

{"sheet":"Налоги","index":23,"n_rows":43,"n_cols":39,"rows_kept":43,"cut":false,"hidden":false,"merged":[[40,11,40,38],[41,11,41,38],[42,11,42,12],[30,11,30,38],[31,11,31,38],[13,11,14,11],[13,12,14,12],[13,13,14,13],[13,38,14,38],[32,11,32,38],[33,11,33,38],[34,11,34,38],[35,11,35,38],[36,11,36,38],[37,11,37,38],[38,11,38,38],[39,11,39,38]]}
[null,null,null,null,null,null,null,null,null,null,null,null,null,null,{"$f":"god-2","v":2023},{"$f":"god-2","v":2023},{"$f":"god-2","v":2023},{"$f":"god-1","v":2024},{"$f":"god","v":2025},{"$f":"god+1","v":2026},{"$f":"god+2","v":2027},{"$f":"god+3","v":2028},{"$f":"god+4","v":2029},{"$f":"god+5","v":2030},{"$f":"god+6","v":2031},{"$f":"god+7","v":2032},{"$f":"god+8","v":2033},{"$f":"god+9","v":2034},{"$f":"god","v":2025},{"$f":"god+1","v":2026},{"$f":"god+2","v":2027},{"$f":"god+3","v":2028},{"$f":"god+4","v":2029},{"$f":"god+5","v":2030},{"$f":"god+6","v":2031},{"$f":"god+7","v":2032},{"$f":"god+8","v":2033},{"$f":"god+9","v":2034}]
[null,null,null,null,null,null,null,null,null,null,null,null,null,null,{"$f":"O15","v":"Принято органом регулирования"},{"$f":"P15","v":"Факт по данным организации"},"Факт, принятый органом регулирования","Принято органом регулирования","Предложение организации","Предложение организации","Предложение организации","Предложение организации","Предложение организации","Предложение организации","Предложение организации","Предложение организации","Предложение организации","Предложение организации","Принято органом регулирования","Принято органом регулирования","Принято органом регулирования","Принято органом регулирования","Принято органом регулирования","Принято органом регулирования","Принято органом регулирования","Принято органом регулирования","Принято органом регулирования","Принято органом регулирования"]
[]
[]
[]
[]
[null,null,null,null,null,null,null,null,null,null,null,null,null,null,null,null,null,null,{"$f":"S1<=last_year_vis","v":true},false,false,false,false,false,false,false,false,false,true,false,false,false,false,false,false,false,false,false]
[]
[]
[]
[null,null,null,null,null,null,null,null,null,null,null,null,{"$f":"tpl_title","v":"Кемеровская область / 2025 / ООО\"БелГОС\" (ИНН:4202023230, КПП:420201001) / ДПР: 2019-2028"}]
[null,null,null,null,null,null,null,null,null,null,null,"13. Расшифровка по налогам и платежам"]
[]
[null,null,null,null,null,null,null,null,null,null,null,"№ п/п","Наименование показателя","Единица измерений",{"$f":"god-2 & \" год\"","v":"2023 год"},{"$f":"god-2 & \" год\"","v":"2023 год"},{"$f":"god-2 & \" год\"","v":"2023 год"},{"$f":"god-1 & \" год\"","v":"2024 год"},{"$f":"god & \" год\"","v":"2025 год"},{"$f":"god+1 & \" год\"","v":"2026 год"},{"$f":"god+2 & \" год\"","v":"2027 год"},{"$f":"god+3 & \" год\"","v":"2028 год"},{"$f":"god+4 & \" год\"","v":"2029 год"},{"$f":"god+5 & \" год\"","v":"2030 год"},{"$f":"god+6 & \" год\"","v":"2031 год"},{"$f":"god+7 & \" год\"","v":"2032 год"},{"$f":"god+8 & \" год\"","v":"2033 год"},{"$f":"god+9 & \" год\"","v":"2034 год"},{"$f":"god & \" год\"","v":"2025 год"},{"$f":"god+1 & \" год\"","v":"2026 год"},{"$f":"god+2 & \" год\"","v":"2027 год"},{"$f":"god+3 & \" год\"","v":"2028 год"},{"$f":"god+4 & \" год\"","v":"2029 год"},{"$f":"god+5 & \" год\"","v":"2030 год"},{"$f":"god+6 & \" год\"","v":"2031 год"},{"$f":"god+7 & \" год\"","v":"2032 год"},{"$f":"god+8 & \" год\"","v":"2033 год"},{"$f":"god+9 & \" год\"","v":"2034 год"},"Ссылка на правовую норму (основание для принятия показателя в расчет тарифа)"]
[null,null,null,null,null,null,null,null,null,null,null,null,null,null,"Принято органом регулирования","Факт по данным организации","Факт, принятый органом регулирования","Принято органом регулирования","Предложение организации","Предложение организации","Предложение организации","Предложение организации","Предложение организации","Предложение организации","Предложение организации","Предложение организации","Предложение организации","Предложение организации","Принято органом регулирования","Принято органом регулирования","Принято органом регулирования","Принято органом регулирования","Принято органом регулирования","Принято органом регулирования","Принято органом регулирования","Принято органом регулирования","Принято органом регулирования","Принято органом регулирования"]
[{"$f":"'Общие сведения'!$D$122","v":"1"},null,null,null,null,null,null,null,null,null,null,{"$f":"INDEX('Общие сведения'!$J$121:$J$135,MATCH($A16,'Общие сведения'!$D$121:$D$135,0))","v":"Тариф 1 (Водоотведение) - тариф на водоотведение"}]
[{"$f":"A16","v":"1"},"L0",null,null,null,null,null,null,null,null,null,0,"Налоги и платежи, относимые на указанный вид деятельности","тыс.руб.",{"$f":"SUM(O18:O26)","v":1275.17521646},{"$f":"SUM(P18:P26)","v":1974.45},1433.2139999999997,1148.0340000000001,3164.46,0,0,0,0,0,0,0,0,0,979.98,0,0,0,0,0,0,0,0,0,"1) П. 49 (2) Методических указаний  ФСТ № 1746-э.  2)  \"Налоговый кодекс Российской Федерации (часть вторая)\" от 05.08.2000 N 117-ФЗ (ред. от 04.08.2023)."]
["1","L1",null,null,null,null,null,null,null,null,null,"1","Транспортный налог","тыс.руб.",13.923999999999999,13.92,13.92,13.92,13.92,null,null,null,null,null,null,null,null,null,13.92,null,null,null,null,null,null,null,null,null,"1) Глава 28 \"ТРАНСПОРТНЫЙ НАЛОГ\" Налогового кодекса РФ. 2) Закон Кемеровской области от 28.11.2002 N 95-ОЗ \"О транспортном налоге\"."]
["1","L2",null,null,null,null,null,null,null,null,null,"2","Земельный налог","тыс.руб.",null,null,null,null,18.29,null,null,null,null,null,null,null,null,null,0,null,null,null,null,null,null,null,null,null,"К учету не принято, так как земельный участок  занят объектом, фактически не используемым в регулируемой деятельности."]
["1","L3",null,null,null,null,null,null,null,null,null,"3","Плата за негативное воздействие на окружающую среду","тыс.руб.",44.151216460000001,40.28,40.28,42.49,39.770000000000003,null,null,null,null,null,null,null,null,null,40.28,null,null,null,null,null,null,null,null,null,"1) П. 49 (2) Методических указаний  ФСТ № 1746-э. 2) Постановление Правительства РФ от 13.09.2016 N 913 (ред. от 24.01.2020) \"О ставках платы за негативное воздействие на окружающую среду и дополнительных коэффициентах\"."]
["1","L4",null,null,null,null,null,null,null,null,null,4,"Водный налог","тыс.руб."]
["1","L5",null,null,null,null,null,null,null,null,null,"5","Плата за пользование водным объектом","тыс.руб."]
["1","L6",null,null,null,null,null,null,null,null,null,"6","Налог на имущество","тыс.руб.",1217.0999999999999,1217.77,1217.77,1091.624,998.26,null,null,null,null,null,null,null,null,null,925.78,null,null,null,null,null,null,null,null,null,"1) Глава 30 \"НАЛОГ НА ИМУЩЕСТВО ОРГАНИЗАЦИЙ\" Налогового кодекса РФ (Часть вторая);  2) Закон Кемеровской области - Кузбасса от 26.11.2003 N 60-ОЗ (ред. от 04.09.2023) \"О налоге на имущество организаций\"."]
["1","L7",null,null,null,null,null,null,null,null,null,"7","Налог на прибыль","тыс.руб.",0,702.48,{"$f":"(147971.36-146359.02)*50%*0.2+0.01","v":161.24399999999966},0,1747.35,null,null,null,null,null,null,null,null,null,0,null,null,null,null,null,null,null,null,null,"1) Пункт 86 Методических указаний ФСТ РФ № 1746-э; 2) Глава 25. НАЛОГ НА ПРИБЫЛЬ ОРГАНИЗАЦИЙ  Налогового кодекса РФ (Часть вторая); 3) Постановление региональной энергетической комиссии Кемеровской области от 19.12.2018 № 759, в редакции Постановлений Региональной энергетической комиссии  от 24.11.2020 N 427, от 11.02.2021 N 60."]
["1","L8",null,null,null,null,null,null,null,null,null,"8","Единый налог при упрощенной системе налогообложения","тыс.руб."]
[{"$f":"A24","v":"1"},"L9",null,null,null,null,null,null,null,null,null,9,"Прочие налоги и сборы","тыс.руб.",{"$f":"SUM(O27:O29)","v":0},{"$f":"SUM(P27:P29)","v":0},0,0,346.87,0,0,0,0,0,0,0,0,0,0,0,0,0,0,0,0,0,0,0]
["1",null,null,null,null,null,null,null,null,null,null,"9.0"]
[{"$f":"OFFSET(A28,-1,0)","v":"1"},"L9",{"$f":"M28","v":"налог на имущество (гараж), налоговые санкции и штрафы, плата за негативное воздействие (исчисленная в части выбросов и сброса загрязняющих веществ сверх установленных НДВ и НДС), земельный налог "},null,null,null,null,null,null,null,"О","9.1","налог на имущество (гараж), налоговые санкции и штрафы, плата за негативное воздействие (исчисленная в части выбросов и сброса загрязняющих веществ сверх установленных НДВ и НДС), земельный налог ","тыс.руб.",null,null,null,null,346.87,null,null,null,null,null,null,null,null,null,0,null,null,null,null,null,null,null,null,null,"1) Пункт 86 Методических указаний ФСТ РФ № 1746-э; 2) Глава 25. НАЛОГ НА ПРИБЫЛЬ ОРГАНИЗАЦИЙ  Налогового кодекса РФ (Часть вторая); 3) Постановление региональной энергетической комиссии Кемеровской области от 19.12.2018 № 759, в редакции Постановлений Региональной энергетической комиссии  от 24.11.2020 N 427, от 11.02.2021 N 60."]
[{"$f":"A27","v":"1"},{"$f":"A29&\"pIns\"","v":"1pIns"},null,null,null,null,null,null,null,null,null,null,"Добавить"]
[]
[null,null,null,null,null,null,null,null,null,null,null,"Комментарии и обоснования к разделу"]
[null,null,null,null,null,null,null,null,null,null,null,"ТРАНСПОРТНЫЙ НАЛОГ.  Плановая годовая величина налогового платежа  на 2025 г. и фактическая  величина платежа за 2023 г. приняты  регулирующим органом на уровне фактически исчисленной суммы налога, отраженной в  представленном \"Сообщении об исчисленных налоговым органом суммах транспортного налога, налога на имущество организаций, земельного налога\"  № 4197663 от 04.04.2024."]
[null,null,null,null,null,null,null,null,null,null,"О ","ЗЕМЕЛЬНЫЙ НАЛОГ: К учету не принято, так как земельный участок (кадастровый номер 42:21: 0103006: 1) занят объектом, фактически не используемым в регулируемой деятельности,  что подтверждается записью в представленной Выписке из Единого государственного реестра   налогоплательщиков в отношении организации по состоянию на 13.12.2023. Объект незавершенного строительства (гараж со складскими помещениями, кадастровый номер 42: 21: 0101001: 1543, числится на сч. 08.3.) приобретен вместе с земельным участком по Договору купли-продажи от  14.12.2017 б/н."]
[null,null,null,null,null,null,null,null,null,null,"О ","ПЛАТА ЗА НЕГАТИВНОЕ ВОЗДЕЙСТВИЕ НА ОКРУЖАЮЩУЮ СРЕДУ. Плановая годовая сумма платы  на 2025 г.  определена регулирующим органом на уровне фактически исчисленной величины согласно представленной  \"Декларации о плате за негативное воздействие на окружающую среду за 2023 г.\" (в размере сумм платы за  выброс загрязняющих веществ в атмосферу в пределах ПДВ (предельно допустимых выбросов) - 5,27982 тыс. руб. - и платы за сброс в водные объекты в пределах НДС (нормативов допустимого сброса) - 35,00345 тыс. руб.)."]
[null,null,null,null,null,null,null,null,null,null,"О ","НАЛОГ НА ИМУЩЕСТВО. Рассчитано в соответствии с положениями Главы 30 Налогового кодекса РФ, на основании данных об остаточной стоимости имущества в представленной \"Налоговой декларации по налогу на имущество организаций\" за 2023 г., \"Сводной по остаточной стоимости\" (2023 год), \"Отчета по соновным средствам\" (Концессионное имущество) за 4 квартал 2023 г.  и \"Отчетов по основным средствам\" за 2023 год (собственное имущество; Концессионное имущество Список 1.1; Концессионное имущество Список 1.2). "]
[null,null,null,null,null,null,null,null,null,null,"О "," Расчетная остаточная стоимость по состоянию на 01.01.2025: :  45414,57 тыс. руб. (в том числе  по Списку 1.1. (Объект концессионного соглашения) - 39806,85  тыс. руб., НЕДВИЖИМОЕ имущество по Списку 1.2 (Иное имущество, переданное по Концессионному соглашению) - 3804,82 тыс. руб., Собственное имущество (сооружения) - 1802,91 тыс. руб.  Расчетная остаточная стоимость по состоянию на 31.01.2025: :  38747,41 тыс. руб. (в том числе  по Списку 1.1. (Объект концессионного соглашения) - 33480,37  тыс. руб., НЕДВИЖИМОЕ имущество по Списку 1.2 (Иное имущество, переданное по Концессионному соглашению) - 3542,80 тыс. руб., Собственное имущество (сооружения) - 1724,23 тыс. руб.  "]
[null,null,null,null,null,null,null,null,null,null,"О ","НАЛОГООБЛАГАЕМАЯ БАЗА (Среднегодовая стоимость имущества ВСЕГО): ( 45414,57 тыс. руб. + 38747,41 тыс. руб. ) / 2 = 42080,99 тыс. руб.  НАЛОГ НА ИМУЩЕСТВО:   42080,99 тыс. руб. * 2,2% (налоговая ставка) =  925,78 тыс. руб."]
[null,null,null,null,null,null,null,null,null,null,"О ","НАЛОГ НА ПРИБЫЛЬ (план на 2025 г). В соответствии с пунктом 86 Методических указаний ФСТ РФ № 1746-э, величины Нормативной прибыли  рассчитаны  специалистом РЭК Кузбасса  на каждый год долгосрочного периода,  исходя из Нормативных уровней прибыли, утвержденных  Постановлением региональной энергетической комиссии Кемеровской области от 19.12.2018 № 759  \"Об установлении долгосрочных параметров регулирования тарифов в сфере водоотведения  ООО «Беловские Городские Очистные сооружения» (Беловский городской округ)\" (в редакции Постановлений Региональной энергетической комиссии от 24.11.2020 N 427, от 11.02.2021 N 60). При расчете нормативных уровней прибыли  в  состав Прибыли были включены  ТОЛЬКО расходы на выплаты, предусмотренные  Коллективным договором организации, не учитываемые при определении налоговой базы налога на прибыль (расходов, относимых на прибыль после налогообложения) в соответствии с Налоговым кодексом Российской Федерации (Пункты 21 - 29 Статьи 270 \"Налогового кодекса Российской Федерации (часть вторая)\".  Таким образом,  НАЛОГООБЛАГАЕМАЯ БАЗА по налогу на прибыль в каждом году долгосрочного периода РАВНА НУЛЮ, в связи с чем  плановые сумма налога на прибыль определена в размере 0,00 тыс. руб. "]
[null,null,null,null,null,null,null,null,null,null,"О ","НАЛОГ НА ПРИБЫЛЬ (факт 2023 г.) Согласно представленной Декларации по налогу на прибыль за 2023 год, совокупный  финансовый результат деятельности ООО \"БелГОС\"  за отчетный период  составил  положительную величину (в том числе - за счет превышения фаткических объемов реализации над плановыми) - 7024,758 тыс. руб. Сумма убытка, уменьшающего налоговую базу за отчетный (налоговый) период, - 3512,379 тыс. руб.; налоговая база для исчисления налога - 3512,379 тыс. руб.;  сумма налога на прибыль (20%) - 702,475 тыс. руб."]
[null,null,null,null,null,null,null,null,null,null,"О ","Вместе с тем, по итогам 2023 г. в организации сложилась следующая структура ДОХОДОВ:  регулируемая деятельность (сумма тарифной выручки по водоотведению без учета НДС + бюджетные субсидии на покрытие выпадающих доходов) -  147971,36 тыс. руб.;  ПЛАТА ЗА НАРУШЕНИЕ нормативов по объему и/или составу сточных вод, плата за негативное водздействие на систему водоотведения (\"ПЛАТА ЗА ПРЕВЫШЕНИЕ ПДК\") - 3173,09 тыс. руб. (без учета НДС);   доходы от прочих видов деятельности  - 3505,71 тыс. руб. (всего доходов по декларации - 154650,16 тыс. руб.).  СЕБЕСТОИМОСТЬ по регулируемой деятельности сложилась на уровне  146359,02 тыс. руб.; на ПДК расходы по себестоимости в регистрах бухгалтерского учета не отнесены (0,00 тыс. руб.);  прочие расходы (себестоимость перепродажи + внереализационные расходы) - 1266,38 тыс. руб. (ВСЕГО расходов по декларации - 147625,40 тыс. руб.  ИТОГО финансовый результат по регулируемой деятельности составил: 147971,36 тыс. руб. - 146359,02 тыс. руб. = 1612,35 тыс. руб.  С учетом убытка, уменьшающего налоговую базу за отчетный период (50%) - 806,175 тыс. руб.  НАЛОГ нА ПРИБЫЛЬ, ОТНЕСЕННЫЙ РЕГУЛИРУЮЩИМ ОРГАНОМ НА РЕГУЛИРУЕМУЮ ДЕЯТЕЛЬНОСТЬ: 806,175 тыс. руб. * 20% = 161,235 тыс. руб."]
[null,null,null,null,null,null,null,null,null,null,"О ","ПРОЧИЕ НАЛОГИ И СБОРЫ.  ОРГАНИЗАЦИЕЙ заявлены: налог на имущество (незавершенное строительство - гараж) - 265,97 тыс. руб., налоговые санкции и штрафы - 50,0 тыс. руб., плата за негативное воздействие, уплаичваемая сверх установленных НДВ (нормативов допустимого выброса загрязняющих веществ в атмосеру) и НДС (нормативов допустимого сброса загрязняющих веществ в водные объекты) - 12,6 тыс. руб., земельный налог - 18,29 тыс. руб. "]
[null,null,null,null,null,null,null,null,null,null,"О ","Расходы к учету не приняты, так как: 1) недостроенное здание не используется (исчисленные суммы налога отсутствуют в Сообщении налоговой службы от  04.04.2024; см. также пояснение по статье \"Земельный налог\");  2) сверхлимитная плата за негативное воздействие УЧТЕНА при формировании суммы по статье \"Доходы от взимания платы за нарушение нормативов по объему и /или составу сточных вод\" (см. Лист \"Плата за негативное возд.\"); 3) санкции и штрафы не учитываются в составе нормативной прибыли согласно п. 86 Методических указаний ФСТ России № 1746-э;  4) Земельный налог -  0,00 тыс. руб., так как имеет место задвоение заявленной суммы затрат, см. статью \"ЗЕМЕЛЬНЫЙ НАЛОГ\"."]
[null,null,null,null,null,null,null,null,null,null,null,"Добавить комментарий"]

{"sheet":"ИП + источники","index":24,"n_rows":70,"n_cols":41,"rows_kept":70,"cut":false,"hidden":false,"merged":[[13,11,13,12],[69,11,69,12],[15,40,16,40],[65,11,65,40],[66,11,66,40],[15,11,16,11],[15,12,16,12],[15,13,16,13],[67,11,67,40],[68,11,68,40]]}
[null,null,null,null,null,null,null,null,null,null,null,null,null,null,{"$f":"god-2","v":2023},{"$f":"god-2","v":2023},{"$f":"god-2","v":2023},{"$f":"god-2","v":2023},{"$f":"god-1","v":2024},{"$f":"god-1","v":2024},{"$f":"god","v":2025},{"$f":"god+1","v":2026},{"$f":"god+2","v":2027},{"$f":"god+3","v":2028},{"$f":"god+4","v":2029},{"$f":"god+5","v":2030},{"$f":"god+6","v":2031},{"$f":"god+7","v":2032},{"$f":"god+8","v":2033},{"$f":"god+9","v":2034},{"$f":"god","v":2025},{"$f":"god+1","v":2026},{"$f":"god+2","v":2027},{"$f":"god+3","v":2028},{"$f":"god+4","v":2029},{"$f":"god+5","v":2030},{"$f":"god+6","v":2031},{"$f":"god+7","v":2032},{"$f":"god+8","v":2033},{"$f":"god+9","v":2034}]
[null,null,null,null,null,null,null,null,null,null,null,null,null,null,{"$f":"O17","v":"Плановый размер финансирования ИП, установленной в установленном порядке"},{"$f":"P17","v":"Принято органом регулирования"},"Объем фактического ввода объектов системы водоснабжения и водоотведения в эксплуатацию по данным организации","Объем фактического ввода объектов системы водоснабжения и водоотведения в эксплуатацию, принятый органом регулирования","Плановый размер финансирования ИП, установленной в установленном порядке","Принято органом регулирования","Предложение организации","Предложение организации","Предложение организации","Предложение организации","Предложение организации","Предложение организации","Предложение организации","Предложение организации","Предложение организации","Предложение организации","Принято органом регулирования","Принято органом регулирования","Принято органом регулирования","Принято органом регулирования","Принято органом регулирования","Принято органом регулирования","Принято органом регулирования","Принято органом регулирования","Принято органом регулирования","Принято органом регулирования"]
[]
[]
[]
[]
[null,null,null,null,null,null,null,null,null,null,null,null,null,null,null,null,null,null,null,null,{"$f":"U1<=last_year_vis","v":true},false,false,false,false,false,false,false,false,false,true,false,false,false,false,false,false,false,false,false]
[]
[]
[]
[null,null,null,null,null,null,null,null,null,null,null,null,{"$f":"tpl_title","v":"Кемеровская область / 2025 / ООО\"БелГОС\" (ИНН:4202023230, КПП:420201001) / ДПР: 2019-2028"}]
[null,null,null,null,null,null,null,null,null,null,null,"14. План и факт по источникам финансирования инвестиционной программы"]
[]
[null,null,null,null,null,null,null,null,null,null,null,"Заполняется в целом по организации в случае утверждения для такой организации единой инвестиционной программы по всем видам тарифов",null,{"$f":"\"нет\"","v":"нет"}]
[]
[null,null,null,null,null,null,null,null,null,null,null,"№ п/п","Источник финансирования, без НДС","Единица измерения",{"$f":"god-2 & \" год\"","v":"2023 год"},{"$f":"god-2 & \" год\"","v":"2023 год"},{"$f":"god-2 & \" год\"","v":"2023 год"},{"$f":"god-2 & \" год\"","v":"2023 год"},{"$f":"god-1 & \" год\"","v":"2024 год"},{"$f":"god-1 & \" год\"","v":"2024 год"},{"$f":"god & \" год\"","v":"2025 год"},{"$f":"god+1 & \" год\"","v":"2026 год"},{"$f":"god+2 & \" год\"","v":"2027 год"},{"$f":"god+3 & \" год\"","v":"2028 год"},{"$f":"god+4 & \" год\"","v":"2029 год"},{"$f":"god+5 & \" год\"","v":"2030 год"},{"$f":"god+6 & \" год\"","v":"2031 год"},{"$f":"god+7 & \" год\"","v":"2032 год"},{"$f":"god+8 & \" год\"","v":"2033 год"},{"$f":"god+9 & \" год\"","v":"2034 год"},{"$f":"god & \" год\"","v":"2025 год"},{"$f":"god+1 & \" год\"","v":"2026 год"},{"$f":"god+2 & \" год\"","v":"2027 год"},{"$f":"god+3 & \" год\"","v":"2028 год"},{"$f":"god+4 & \" год\"","v":"2029 год"},{"$f":"god+5 & \" год\"","v":"2030 год"},{"$f":"god+6 & \" год\"","v":"2031 год"},{"$f":"god+7 & \" год\"","v":"2032 год"},{"$f":"god+8 & \" год\"","v":"2033 год"},{"$f":"god+9 & \" год\"","v":"2034 год"},"Ссылка на правовую норму (основание для принятия показателя в расчет тарифа)"]
[null,null,null,null,null,null,null,null,null,null,null,null,null,null,"Плановый размер финансирования ИП, установленной в установленном порядке","Принято органом регулирования","Объем фактического ввода объектов системы водоснабжения и водоотведения в эксплуатацию по данным организации","Объем фактического ввода объектов системы водоснабжения и водоотведения в эксплуатацию, принятый органом регулирования","Плановый размер финансирования ИП, установленной в установленном порядке","Принято органом регулирования","Предложение организации","Предложение организации","Предложение организации","Предложение организации","Предложение организации","Предложение организации","Предложение организации","Предложение организации","Предложение организации","Предложение организации","Принято органом регулирования","Принято органом регулирования","Принято органом регулирования","Принято органом регулирования","Принято органом регулирования","Принято органом регулирования","Принято органом регулирования","Принято органом регулирования","Принято органом регулирования","Принято органом регулирования"]
[null,{"$f":"$N$14=\"да\"","v":false},"L1",null,null,null,null,null,null,null,null,1,"Источники финансирования инвестиционной программы, всего","тыс.руб.",{"$f":"O19+O24+O28+O32","v":0},{"$f":"P19+P24+P28+P32","v":0},0,0,0,0,0,0,0,0,0,0,0,0,0,0,0,0,0,0,0,0,0,0,0,0]
[null,{"$f":"$N$14=\"да\"","v":false},"L1_1",null,null,null,null,null,null,null,null,"1.1","Собственные средства","тыс.руб.",{"$f":"O20+O21+O22+O23","v":0},{"$f":"P20+P21+P22+P23","v":0},0,0,0,0,0,0,0,0,0,0,0,0,0,0,0,0,0,0,0,0,0,0,0,0]
[null,false,"L1_1_1",null,null,null,null,null,null,null,null,"1.1.1","Амортизационные отчисления","тыс.руб."]
[null,false,"L1_1_2",null,null,null,null,null,null,null,null,"1.1.2","Прибыль на капвложения","тыс.руб."]
[null,false,"L1_1_3",null,null,null,null,null,null,null,null,"1.1.3","Прочие собственные средства","тыс.руб."]
[null,false,"L1_1_4",null,null,null,null,null,null,null,null,"1.1.4","За счет платы за технологическое присоединение","тыс.руб."]
[null,false,"L1_2",null,null,null,null,null,null,null,null,"1.2","Привлеченные средства","тыс.руб.",{"$f":"O25+O26+O27","v":0},{"$f":"P25+P26+P27","v":0},0,0,0,0,0,0,0,0,0,0,0,0,0,0,0,0,0,0,0,0,0,0,0,0]
[null,false,"L1_2_1",null,null,null,null,null,null,null,null,"1.2.1","Кредиты","тыс.руб."]
[null,false,"L1_2_2",null,null,null,null,null,null,null,null,"1.2.2","Займы","тыс.руб."]
[null,false,"L1_2_3",null,null,null,null,null,null,null,null,"1.2.3","Прочие привлеченные средства","тыс.руб."]
[null,false,"L1_3",null,null,null,null,null,null,null,null,"1.3","Бюджетное финансирование","тыс.руб.",{"$f":"O29+O30+O31","v":0},{"$f":"P29+P30+P31","v":0},0,0,0,0,0,0,0,0,0,0,0,0,0,0,0,0,0,0,0,0,0,0,0,0]
[null,false,"L1_3_1",null,null,null,null,null,null,null,null,"1.3.1","Федеральный бюджет","тыс.руб."]
[null,false,"L1_3_2",null,null,null,null,null,null,null,null,"1.3.2","Бюджет субъекта РФ","тыс.руб."]
[null,false,"L1_3_3",null,null,null,null,null,null,null,null,"1.3.3","Бюджет муниципального образования","тыс.руб."]
[null,false,"L1_4",null,null,null,null,null,null,null,null,"1.4","Прочие источники финансирования","тыс.руб.",{"$f":"O33+O34+O35+O36","v":0},{"$f":"P33+P34+P35+P36","v":0},0,0,0,0,0,0,0,0,0,0,0,0,0,0,0,0,0,0,0,0,0,0,0,0]
[null,false,"L1_4_1",null,null,null,null,null,null,null,null,"1.4.1","Лизинг","тыс.руб."]
[null,false,"L1_4_2",null,null,null,null,null,null,null,null,"1.4.2","Доход от взимания платы за нарушение нормативов по объёму и (или) составу сточных вод","тыс.руб."]
[null,false,"L1_4_3",null,null,null,null,null,null,null,null,"1.4.3","Доход от взимания платы за негативное воздействие на работу централизованной системы водоотведения","тыс.руб."]
[null,false,"L1_4_4",null,null,null,null,null,null,null,null,"1.4.4","Прочие","тыс.руб."]
[null,false,"L2",null,null,null,null,null,null,null,null,"2","График возврата и обслуживания заемных средств из тарифной выручки","тыс.руб.",{"$f":"O38+O39+O40","v":0},{"$f":"P38+P39+P40","v":0},0,0,0,0,0,0,0,0,0,0,0,0,0,0,0,0,0,0,0,0,0,0,0,0]
[null,false,"L2_1",null,null,null,null,null,null,null,null,"2.1","погашение займов и кредитов из нормативной прибыли","тыс.руб."]
[null,false,"L2_2",null,null,null,null,null,null,null,null,"2.2","уплата процентов по кредитам из нормативной прибыли","тыс.руб."]
[null,false,"L2_3",null,null,null,null,null,null,null,null,"2.3","погашение займов и кредитов из амортизации","тыс.руб."]
[{"$f":"'Общие сведения'!$D$122","v":"1"},{"$f":"'ИП + источники'!$N$14<>\"да\"","v":true},null,null,null,null,null,null,null,null,null,{"$f":"INDEX('Общие сведения'!$J$121:$J$135,MATCH($A41,'Общие сведения'!$D$121:$D$135,0))","v":"Тариф 1 (Водоотведение) - тариф на водоотведение"}]
[{"$f":"A41","v":"1"},{"$f":"'ИП + источники'!$N$14<>\"да\"","v":true},"L1",null,null,null,null,null,null,null,null,1,"Источники финансирования инвестиционной программы, всего","тыс.руб.",{"$f":"O43+O48+O52+O56","v":0},{"$f":"P43+P48+P52+P56","v":438.13427999999999},0,0,0,443.44,930.37,0,0,0,0,0,0,0,0,0,438.13427999999999,0,0,0,0,0,0,0,0,0,"1) Постановление РЭК Кемеровской области от 27.12.2018 N 748 \"Об утверждении инвестиционной программы ООО \"Беловские Городские очистные сооружения\" (Беловский городской округ) в сфере водоотведения на 2019 - 2021 годы\"."]
["1",{"$f":"'ИП + источники'!$N$14<>\"да\"","v":true},"L1_1",null,null,null,null,null,null,null,null,"1.1","Собственные средства","тыс.руб.",{"$f":"O44+O45+O46+O47","v":0},{"$f":"P44+P45+P46+P47","v":438.13427999999999},0,0,0,443.44,930.37,0,0,0,0,0,0,0,0,0,438.13427999999999,0,0,0,0,0,0,0,0,0,"2) Учетная политика ООО \"БелГОС\" для целей бухгалтерского учета (Приказ от 30.12.2021 № 565)."]
["1",{"$f":"'ИП + источники'!$N$14<>\"да\"","v":true},"L1_1_1",null,null,null,null,null,null,null,null,"1.1.1","Амортизационные отчисления","тыс.руб.",0,438.13427999999999,0,0,0,443.44,930.37,null,null,null,null,null,null,null,null,null,438.13427999999999]
["1",{"$f":"'ИП + источники'!$N$14<>\"да\"","v":true},"L1_1_2",null,null,null,null,null,null,null,null,"1.1.2","Прибыль на капвложения","тыс.руб."]
["1",{"$f":"'ИП + источники'!$N$14<>\"да\"","v":true},"L1_1_3",null,null,null,null,null,null,null,null,"1.1.3","Прочие собственные средства","тыс.руб."]
["1",{"$f":"'ИП + источники'!$N$14<>\"да\"","v":true},"L1_1_4",null,null,null,null,null,null,null,null,"1.1.4","За счет платы за технологическое присоединение","тыс.руб."]
["1",{"$f":"'ИП + источники'!$N$14<>\"да\"","v":true},"L1_2",null,null,null,null,null,null,null,null,"1.2","Привлеченные средства","тыс.руб.",{"$f":"O49+O50+O51","v":0},{"$f":"P49+P50+P51","v":0},0,0,0,0,0,0,0,0,0,0,0,0,0,0,0,0,0,0,0,0,0,0,0,0]
["1",{"$f":"'ИП + источники'!$N$14<>\"да\"","v":true},"L1_2_1",null,null,null,null,null,null,null,null,"1.2.1","Кредиты","тыс.руб."]
["1",{"$f":"'ИП + источники'!$N$14<>\"да\"","v":true},"L1_2_2",null,null,null,null,null,null,null,null,"1.2.2","Займы","тыс.руб."]
["1",{"$f":"'ИП + источники'!$N$14<>\"да\"","v":true},"L1_2_3",null,null,null,null,null,null,null,null,"1.2.3","Прочие привлеченные средства","тыс.руб."]
["1",{"$f":"'ИП + источники'!$N$14<>\"да\"","v":true},"L1_3",null,null,null,null,null,null,null,null,"1.3","Бюджетное финансирование","тыс.руб.",{"$f":"O53+O54+O55","v":0},{"$f":"P53+P54+P55","v":0},0,0,0,0,0,0,0,0,0,0,0,0,0,0,0,0,0,0,0,0,0,0,0,0]
["1",{"$f":"'ИП + источники'!$N$14<>\"да\"","v":true},"L1_3_1",null,null,null,null,null,null,null,null,"1.3.1","Федеральный бюджет","тыс.руб."]
["1",{"$f":"'ИП + источники'!$N$14<>\"да\"","v":true},"L1_3_2",null,null,null,null,null,null,null,null,"1.3.2","Бюджет субъекта РФ","тыс.руб."]
["1",{"$f":"'ИП + источники'!$N$14<>\"да\"","v":true},"L1_3_3",null,null,null,null,null,null,null,null,"1.3.3","Бюджет муниципального образования","тыс.руб."]
["1",{"$f":"'ИП + источники'!$N$14<>\"да\"","v":true},"L1_4",null,null,null,null,null,null,null,null,"1.4","Прочие источники финансирования","тыс.руб.",{"$f":"O57+O58+O59+O60","v":0},{"$f":"P57+P58+P59+P60","v":0},0,0,0,0,0,0,0,0,0,0,0,0,0,0,0,0,0,0,0,0,0,0,0,0]
["1",{"$f":"'ИП + источники'!$N$14<>\"да\"","v":true},"L1_4_1",null,null,null,null,null,null,null,null,"1.4.1","Лизинг","тыс.руб."]
["1",{"$f":"'ИП + источники'!$N$14<>\"да\"","v":true},"L1_4_2",null,null,null,null,null,null,null,null,"1.4.2","Доход от взимания платы за нарушение нормативов по объёму и (или) составу сточных вод","тыс.руб."]
["1",{"$f":"'ИП + источники'!$N$14<>\"да\"","v":true},"L1_4_3",null,null,null,null,null,null,null,null,"1.4.3","Доход от взимания платы за негативное воздействие на работу централизованной системы водоотведения","тыс.руб."]
["1",{"$f":"'ИП + источники'!$N$14<>\"да\"","v":true},"L1_4_4",null,null,null,null,null,null,null,null,"1.4.4","Прочие","тыс.руб."]
["1",{"$f":"'ИП + источники'!$N$14<>\"да\"","v":true},"L2",null,null,null,null,null,null,null,null,"2","График возврата и обслуживания заемных средств из тарифной выручки","тыс.руб.",{"$f":"O62+O63+O64","v":0},{"$f":"P62+P63+P64","v":0},0,0,0,0,0,0,0,0,0,0,0,0,0,0,0,0,0,0,0,0,0,0,0,0]
["1",{"$f":"'ИП + источники'!$N$14<>\"да\"","v":true},"L2_1",null,null,null,null,null,null,null,null,"2.1","погашение займов и кредитов из нормативной прибыли","тыс.руб."]
["1",{"$f":"'ИП + источники'!$N$14<>\"да\"","v":true},"L2_2",null,null,null,null,null,null,null,null,"2.2","уплата процентов по кредитам из нормативной прибыли","тыс.руб."]
["1",{"$f":"'ИП + источники'!$N$14<>\"да\"","v":true},"L2_3",null,null,null,null,null,null,null,null,"2.3","погашение займов и кредитов из амортизации","тыс.руб."]
[null,null,null,null,null,null,null,null,null,null,null,null,"* данные без НДС"]
[null,null,null,null,null,null,null,null,null,null,null,"Комментарии и обоснования к разделу"]
[null,null,null,null,null,null,null,null,null,null,null,"Инвестиционная программа в сфере водоотведения утверждена Постановлением РЭК Кемеровской области от 27.12.2018 N 748 \"Об утверждении инвестиционной программы ООО \"Беловские Городские очистные сооружения\" (Беловский городской округ) в сфере водоотведения на 2019 - 2021 годы\"."]
[null,null,null,null,null,null,null,null,null,null,"О ","Мероприятия Инвестиционной программы  были  запланированы и полностью выполнены в 2019-2021 гг.  В качестве единственного источника покрытия инвестиционных расходов предусматривались АМОРТИЗАЦИОННЫЕ ОТЧИСЛЕНИЯ, которые были рассчитаны по ВСЕМ объектам имущества, передаваемого в концессию. Рассчитанный таким образом регулирующим органом объем финансовых средств был достаточен для покрытия плановых  инвестиционных затрат непосредственно в течение каждого года (2019,2020,2021), в котором предусматривалось проведение таких мероприятий."]
[null,null,null,null,null,null,null,null,null,null,"О ","Однако, фактически в принятой практике бухгалтерского учета организации (как и в общепринятой практике)  амортизация имущества, переданного по Концессионному соглашению, учитывается на забалансовых счетах и не включается в себестоимость  основной деятельности.  Поэтому специалистом РЭК проведена корректировка плана финансирования мероприятий Инвестиционной программы, исходя из ожидаемых величин амортизации, начисляемой в части стоимости РЕКОНСТРУКЦИИ Объекта концессионного соглашения. данные суммы определены на основании представленных оборотно-сальдовых ведомостей по сч. 04 и 05,  Отчетов по основным средствам и инвентарных карт."]
[null,null,null,null,null,null,null,null,null,null,null,"Добавить комментарий"]

{"sheet":"Экономия_корр","index":25,"n_rows":27,"n_cols":35,"rows_kept":27,"cut":false,"hidden":true,"merged":[[26,11,26,12],[24,11,24,34],[25,11,25,34],[13,11,14,11],[13,12,14,12],[13,13,14,13],[13,34,14,34]]}
[null,null,null,null,null,null,null,null,null,null,null,null,null,null,{"$f":"god","v":2025},{"$f":"god+1","v":2026},{"$f":"god+2","v":2027},{"$f":"god+3","v":2028},{"$f":"god+4","v":2029},{"$f":"god+5","v":2030},{"$f":"god+6","v":2031},{"$f":"god+7","v":2032},{"$f":"god+8","v":2033},{"$f":"god+9","v":2034},{"$f":"god","v":2025},{"$f":"god+1","v":2026},{"$f":"god+2","v":2027},{"$f":"god+3","v":2028},{"$f":"god+4","v":2029},{"$f":"god+5","v":2030},{"$f":"god+6","v":2031},{"$f":"god+7","v":2032},{"$f":"god+8","v":2033},{"$f":"god+9","v":2034}]
[null,null,null,null,null,null,null,null,null,null,null,null,null,null,{"$f":"O15","v":"Предложения организации"},{"$f":"P15","v":"Предложения организации"},"Предложения организации","Предложения организации","Предложения организации","Предложения организации","Предложения организации","Предложения организации","Предложения организации","Предложения организации","Принято органом регулирования","Принято органом регулирования","Принято органом регулирования","Принято органом регулирования","Принято органом регулирования","Принято органом регулирования","Принято органом регулирования","Принято органом регулирования","Принято органом регулирования","Принято органом регулирования"]
[]
[]
[]
[]
[null,null,null,null,null,null,null,null,null,null,null,null,null,null,{"$f":"O1<=last_year_vis","v":true},false,false,false,false,false,false,false,false,false,true,false,false,false,false,false,false,false,false,false]
[]
[]
[]
[null,null,null,null,null,null,null,null,null,null,null,null,{"$f":"tpl_title","v":"Кемеровская область / 2025 / ООО\"БелГОС\" (ИНН:4202023230, КПП:420201001) / ДПР: 2019-2028"}]
[null,null,null,null,null,null,null,null,null,null,null,"15. Расчет экономии средств, достигнутой в результате снижения расходов предыдущего долгосрочного периода регулирования"]
[]
[null,null,null,null,null,null,null,null,null,null,null,"№ п/п","Показатели","Единица измерения",{"$f":"god & \" год\"","v":"2025 год"},{"$f":"god+1 & \" год\"","v":"2026 год"},{"$f":"god+2 & \" год\"","v":"2027 год"},{"$f":"god+3 & \" год\"","v":"2028 год"},{"$f":"god+4 & \" год\"","v":"2029 год"},{"$f":"god+5 & \" год\"","v":"2030 год"},{"$f":"god+6 & \" год\"","v":"2031 год"},{"$f":"god+7 & \" год\"","v":"2032 год"},{"$f":"god+8 & \" год\"","v":"2033 год"},{"$f":"god+9 & \" год\"","v":"2034 год"},{"$f":"god & \" год\"","v":"2025 год"},{"$f":"god+1 & \" год\"","v":"2026 год"},{"$f":"god+2 & \" год\"","v":"2027 год"},{"$f":"god+3 & \" год\"","v":"2028 год"},{"$f":"god+4 & \" год\"","v":"2029 год"},{"$f":"god+5 & \" год\"","v":"2030 год"},{"$f":"god+6 & \" год\"","v":"2031 год"},{"$f":"god+7 & \" год\"","v":"2032 год"},{"$f":"god+8 & \" год\"","v":"2033 год"},{"$f":"god+9 & \" год\"","v":"2034 год"},"Ссылка на правовую норму (основание для принятия показателя в расчет тарифа)"]
[null,null,null,null,null,null,null,null,null,null,null,null,null,null,"Предложения организации","Предложения организации","Предложения организации","Предложения организации","Предложения организации","Предложения организации","Предложения организации","Предложения организации","Предложения организации","Предложения организации","Принято органом регулирования","Принято органом регулирования","Принято органом регулирования","Принято органом регулирования","Принято органом регулирования","Принято органом регулирования","Принято органом регулирования","Принято органом регулирования","Принято органом регулирования","Принято органом регулирования"]
[{"$f":"'Общие сведения'!$D$122","v":"1"},null,null,null,null,null,null,null,null,null,null,{"$f":"INDEX('Общие сведения'!$J$121:$J$135,MATCH($A16,'Общие сведения'!$D$121:$D$135,0))","v":"Тариф 1 (Водоотведение) - тариф на водоотведение"}]
[{"$f":"A16","v":"1"},"L1",null,null,null,null,null,null,null,null,null,"1","Экономия расходов всего","тыс.руб.",{"$f":"O18+O19+O20","v":0},0,0,0,0,0,0,0,0,0,0,0,0,0,0,0,0,0,0,0]
["1","L1_1",null,null,null,null,null,null,null,null,null,"1.1","Экономия операционных расходов","тыс.руб."]
["1","L1_2",null,null,null,null,null,null,null,null,null,"1.2","Экономия от снижения потребления электрической энергии (мощности)","тыс.руб."]
["1","L1_3",null,null,null,null,null,null,null,null,null,"1.3","Экономия от снижения потребления прочих энергетических ресурсов, холодной воды, теплоносителя","тыс.руб."]
["1","L2",null,null,null,null,null,null,null,null,null,"2","Значение индекса потребительских цен","%",{"$f":"SUMIFS(Сценарии!$T$15:$T$35,Сценарии!$A$15:$A$35,$A21,Сценарии!$M$15:$M$35,\"Индекс потребительских цен\")","v":0},{"$f":"SUMIFS(Сценарии!$Y$15:$Y$35,Сценарии!$A$15:$A$35,$A21,Сценарии!$M$15:$M$35,\"Индекс потребительских цен\")","v":0},{"$f":"SUMIFS(Сценарии!$AA$15:$AA$35,Сценарии!$A$15:$A$35,$A21,Сценарии!$M$15:$M$35,\"Индекс потребительских цен\")","v":0},{"$f":"SUMIFS(Сценарии!$AC$15:$AC$35,Сценарии!$A$15:$A$35,$A21,Сценарии!$M$15:$M$35,\"Индекс потребительских цен\")","v":0},{"$f":"SUMIFS(Сценарии!$AE$15:$AE$35,Сценарии!$A$15:$A$35,$A21,Сценарии!$M$15:$M$35,\"Индекс потребительских цен\")","v":0},{"$f":"SUMIFS(Сценарии!$AG$15:$AG$35,Сценарии!$A$15:$A$35,$A21,Сценарии!$M$15:$M$35,\"Индекс потребительских цен\")","v":0},{"$f":"SUMIFS(Сценарии!$AI$15:$AI$35,Сценарии!$A$15:$A$35,$A21,Сценарии!$M$15:$M$35,\"Индекс потребительских цен\")","v":0},{"$f":"SUMIFS(Сценарии!$AK$15:$AK$35,Сценарии!$A$15:$A$35,$A21,Сценарии!$M$15:$M$35,\"Индекс потребительских цен\")","v":0},{"$f":"SUMIFS(Сценарии!$AM$15:$AM$35,Сценарии!$A$15:$A$35,$A21,Сценарии!$M$15:$M$35,\"Индекс потребительских цен\")","v":0},{"$f":"SUMIFS(Сценарии!$AO$15:$AO$35,Сценарии!$A$15:$A$35,$A21,Сценарии!$M$15:$M$35,\"Индекс потребительских цен\")","v":0},{"$f":"SUMIFS(Сценарии!$U$15:$U$35,Сценарии!$A$15:$A$35,$A21,Сценарии!$M$15:$M$35,\"Индекс потребительских цен\")","v":5.8},{"$f":"SUMIFS(Сценарии!$Z$15:$Z$35,Сценарии!$A$15:$A$35,$A21,Сценарии!$M$15:$M$35,\"Индекс потребительских цен\")","v":0},{"$f":"SUMIFS(Сценарии!$AB$15:$AB$35,Сценарии!$A$15:$A$35,$A21,Сценарии!$M$15:$M$35,\"Индекс потребительских цен\")","v":0},{"$f":"SUMIFS(Сценарии!$AD$15:$AD$35,Сценарии!$A$15:$A$35,$A21,Сценарии!$M$15:$M$35,\"Индекс потребительских цен\")","v":0},{"$f":"SUMIFS(Сценарии!$AF$15:$AF$35,Сценарии!$A$15:$A$35,$A21,Сценарии!$M$15:$M$35,\"Индекс потребительских цен\")","v":0},{"$f":"SUMIFS(Сценарии!$AH$15:$AH$35,Сценарии!$A$15:$A$35,$A21,Сценарии!$M$15:$M$35,\"Индекс потребительских цен\")","v":0},{"$f":"SUMIFS(Сценарии!$AJ$15:$AJ$35,Сценарии!$A$15:$A$35,$A21,Сценарии!$M$15:$M$35,\"Индекс потребительских цен\")","v":0},{"$f":"SUMIFS(Сценарии!$AL$15:$AL$35,Сценарии!$A$15:$A$35,$A21,Сценарии!$M$15:$M$35,\"Индекс потребительских цен\")","v":0},{"$f":"SUMIFS(Сценарии!$AN$15:$AN$35,Сценарии!$A$15:$A$35,$A21,Сценарии!$M$15:$M$35,\"Индекс потребительских цен\")","v":0},{"$f":"SUMIFS(Сценарии!$AP$15:$AP$35,Сценарии!$A$15:$A$35,$A21,Сценарии!$M$15:$M$35,\"Индекс потребительских цен\")","v":0}]
["1","L3",null,null,null,null,null,null,null,null,null,3,"Кумулятивное значение индекса потребительских цен","%",{"$f":"O21","v":0},{"$f":"O22*P21/100","v":0},{"$f":"P22*Q21/100","v":0},0,0,0,0,0,0,0,0,0,0,0,0,0,0,0,0,0]
["1","L4",null,null,null,null,null,null,null,null,null,"4","Экономия расходов с учетом ИПЦ","тыс.руб.",{"$f":"O17*O22/100","v":0},{"$f":"P17*P22/100","v":0},0,0,0,0,0,0,0,0,0,0,0,0,0,0,0,0,0,0]
[]
[null,null,null,null,null,null,null,null,null,null,null,"Комментарии и обоснования к разделу"]
[]
[null,null,null,null,null,null,null,null,null,null,null,"Добавить комментарий"]

{"sheet":"Плата за негативное возд","index":26,"n_rows":29,"n_cols":22,"rows_kept":29,"cut":false,"hidden":false,"merged":[[19,11,19,21],[20,11,20,21],[28,11,28,12],[21,11,21,21],[22,11,22,21],[23,11,23,21],[24,11,24,21],[25,11,25,21],[26,11,26,21],[27,11,27,21]]}
[]
[]
[]
[]
[]
[]
[]
[]
[]
[]
[]
[null,null,null,null,null,null,null,null,null,null,null,"16. Плата за негативное воздействие на работу централизованных систем водоотведения (принято органом регулирования)"]
[]
[null,null,null,null,null,null,null,null,null,null,null,"№","Показатели","Единица измерения","Начислено в соответствии с пунктом 26(1) Основ ценообразования в сфере водоснабжения и водоотведения","Направлено на внесение платы за негативное воздействие на окружающую среду","Направлено на компенсацию вреда, причиненного водному объекту","Предусмотрено на финансирование мероприятий инвестиционной программы по строительству, реконструкции и модернизации объектов централизованной системы водоотведения","Предусмотрено на финансирование мероприятий производственной программы регулируемой организации","Направлено на возврат займов и кредитов, в том числе процентов по займам и кредитам, привлекаемым на реализацию производственной программы и (или) инвестиционной программы (не более 50% от начисленной платы за негативное воздействие на работу ЦСВ)","Налог на прибыль","Подлежит к исключению"]
[{"$f":"'Общие сведения'!$D$122","v":"1"},null,null,null,null,null,null,null,null,null,null,{"$f":"INDEX('Общие сведения'!$J$121:$J$135,MATCH($A15,'Общие сведения'!$D$121:$D$135,0))","v":"Тариф 1 (Водоотведение) - тариф на водоотведение"},null,null,{"$f":"O16+O17","v":3173.0861250000003},40.413620000000002,0,0,-1026.3,0,317.3,3841.6725050000005]
[{"$f":"A15","v":"1"},"L1",null,null,null,null,null,null,null,null,null,"1","Доходы регулируемой организации от взимания платы за нарушение нормативов по объёму и (или) составу сточных вод","тыс.руб.",{"$f":"(5415.94063-2021.22412)/1.2","v":2828.9304250000005},40.413620000000002,null,null,-1026.3,null,{"$f":"317.31/$O$15*O16-0.01","v":282.8842795105349},{"$f":"O16-P16-S16-U16","v":3531.9325254894657}]
[{"$f":"A16","v":"1"},"L2",null,null,null,null,null,null,null,null,null,"2","Доходы от взимания платы за негативное воздействие на работу централизованной системы водоотведения","тыс.руб.",{"$f":"412.98684/1.2","v":344.15569999999997},null,null,null,null,null,{"$f":"317.31/$O$15*O17","v":34.415720489465116},{"$f":"O17-P17-S17-U17","v":309.73997951053485}]
[]
[]
[null,null,null,null,null,null,null,null,null,null,null,"Комментарии и обоснования к разделу"]
[null,null,null,null,null,null,null,null,null,null,null,"В составе суммы, отраженной в графе \"Начислено в соответствии спунктом 26(1) Основ ценообразования в сфере водоснабжения и водоотведения\",  имеется сумма сторно в размере (-2021,22412) / 1,2 = 1684,35 тыс. руб. (без учета НДС) в виде суммы  платы за  нарушение нормативов по объему и/или составу сточных вод, излишне начисленной в прошлые периоды абоненту  ФКУ \"Исправительная колония № 44\" и присужденной к возврату указанной организации Определением Арбитражного суда Кемеровской области от 13.09.2023 по Делу № А27-25634/2021."]
[null,null,null,null,null,null,null,null,null,null,"О ","Сумма начисленной за 2023 год ПЛАТЫ ЗА НЕГАТИВНОЕ ВОЗДЕЙСТВИЕ НА ОКРУЖАЮЩУЮ СРЕДУ указана С УЧЕТОМ платы, исчисленной в части превышения установленных нормативов допустимого выброса загрязняющих веществ в атмосферу (согласно представленной Декларации за 2023 год)."]
[null,null,null,null,null,null,null,null,null,null,"О ","Отраженная здесь специалистом РЭК Кузбасса сумма НАЛОГА НА ПРИБЫЛЬ определена следующим образом.  ДОХОДЫ в части условного вида деятельности \"Плата за превышение ПДК\" - 3173,09 тыс. руб. (без учета НДС);  РАСХОДЫ - 0,00 тыс. руб., условный финансовый результат - (+3173,09) тыс. руб.  На основании представленной Декларации по налогу на прибыль, налогооблагаемая база (сумма условного финансового результата) уменьшена на сумму убытков прошлых  налоговых периодов, определяемого в размере 50% от полученной прибыли:   3173,09 *50% = 1586,55 тыс. руб.   Сумма налога на прибыль в части \"Платы за превышение ПДК\":   1586,55 тыс. руб. *20% (налоговая ставка) = 317,3 тыс. руб."]
[null,null,null,null,null,null,null,null,null,null,"О ","В графе \"ПРЕДУСМОТРЕНО НА ФИНАНСИРОВАНИЕ МЕРОПРИЯТИЙ ПРОИЗВОДСТВЕННОЙ ПРОГРАММЫ РЕГУЛИРУЕМОЙ ОРГАНИЗАЦИИ\"  учтена сумма ИЗБЫТКА СРЕДСТВ, учтенного в составе плановой НВВ на 2023 г., который сложился следующим образом."]
[null,null,null,null,null,null,null,null,null,null,"О ","При установлении (корректировке) тарифов на 2023 год  регулирующим органом  СУММА ИЗБЫТКА, образовавшегося по статье \"Доходы от взимания платы за нарушение нормативов по объему и/или составу сточных вод\"  за  2019-2021 годы  и НЕ  ИСКЛЮЧЕННОГО в предыдущие периоды регулирования, составила 18850,84 тыс. руб. (в том числе за 2019 г.  -  5736,21 тыс. руб., за 2020 г. - 9293,43 тыс. руб., за 2021 г. - 3821,2 тыс. руб.).  При исключении суммы избытка из плановой  НВВ на 2023 г.  регулирующим органом данная сумма была УМЕНЬШЕНА на сумму ПЛАНОВЫХ МЕРОПРИЯТИЙ: по капитальному ремонту на 2022 год -  2532,01   тыс. руб., по капитальному ремонту на 2023 год - 1112,25 тыс. руб., по Программе энергосбережения на 2023 год - 1231,94 тыс. руб.  (18850,84 - 2532,01 - 1112,25 - 1231,94 = 13974,64 тыс. руб.)."]
[null,null,null,null,null,null,null,null,null,null,"О ","При установлении (корректировке) тарифов на 2024 год вместе с  СУММОЙ ИЗБЫТКА, образовавшегося по статье \"Доходы от взимания платы за нарушение нормативов по объему и/или составу сточных вод\"  за  2022 год  (2125,38 тыс. руб. - 43,183 тыс. руб. = 2082,20 тыс. руб.),  была дополнительно ИСКЛЮЧЕНА сумма  НЕДООСВОЕНИЯ  средств, предумотренных Производственной программой на мероприятия по  капитальному ремонту на  2022 год, выполняемых за счет \"Платы за превышение ПДК\" :  план - 2532,01 тыс. руб., факт -  398,66 тыс. руб.; сумма дополнительно исключенного нного избытка - (398,66 - 2532,01 = ) - 2133,35 тыс. руб."]
[null,null,null,null,null,null,null,null,null,null,"О ","При установлении (корректировке) тарифов на 2025 год  специалистом РЭК Кузбасса  исключается  сумма  НЕДООСВОЕНИЯ  средств, предумотренных Производственной программой по  капитальному ремонту  и Программой энергосбережения  на  2023 год в части мероприятий, финансируемых за счет \"Платы за превышение ПДК\":  план - (1112,25 тыс. руб. + 1231,94 тыс. руб. = 2344,19 тыс. руб.) , факт -  ( 965,67  тыс. руб. + 352,218 тыс. руб. = 1317,89 тыс. руб.); сумма исключенного избытка - (1317,89 - 2344,19 = ) - 1026,30 тыс. руб.  Стоимость проведенных мероприятий по капитальному ремонту, отраженная ООО \"БелГОС\" в  Разделе 10 Производственной программы (965,67 тыс. руб.), согласована  ОАО \"Агентство энергетических экспертиз\"."]
[null,null,null,null,null,null,null,null,null,null,"О ","При этом  сумма затрат на приобретение насоса погружного WC НАС (352,218 тыс. руб.), отраженная ООО \"БелГОС\" в составе проведенных мероприятий по Программе энергосбережения, квалифицируется специалистом РЭК Кузбасса как  дополнительные фактические затраты на КАПИТАЛЬНЫЙ РЕМОНТ.  "]
[null,null,null,null,null,null,null,null,null,null,null,"Добавить комментарий"]

{"sheet":"Корректировка НВВ","index":27,"n_rows":63,"n_cols":18,"rows_kept":63,"cut":false,"hidden":false,"merged":[[62,11,62,12],[13,17,14,17],[13,11,14,11],[13,12,14,12],[13,13,14,13],[13,14,14,14],[60,11,60,17],[61,11,61,17]]}
[null,null,null,null,null,null,null,null,null,null,null,null,null,null,null,{"$f":"god-2","v":2023},{"$f":"god-2","v":2023}]
[null,null,null,null,null,null,null,null,null,null,null,null,null,null,null,{"$f":"P15","v":"Факт по данным организации"},{"$f":"Q15","v":"Принято органом регулирования"}]
[]
[]
[]
[]
[]
[]
[]
[]
[null,null,null,null,null,null,null,null,null,null,null,null,{"$f":"tpl_title","v":"Кемеровская область / 2025 / ООО\"БелГОС\" (ИНН:4202023230, КПП:420201001) / ДПР: 2019-2028"}]
[null,null,null,null,null,null,null,null,null,null,null,"17. Расчет показателей корректировки необходимой валовой выручки"]
[]
[null,null,null,null,null,null,null,null,null,null,null,"№ п/п","Наименование показателя","Условное обозначение","Единица измерений",{"$f":"god-2 & \" год\"","v":"2023 год"},{"$f":"god-2 & \" год\"","v":"2023 год"},"Комментарии"]
[null,null,null,null,null,null,null,null,null,null,null,null,null,null,null,"Факт по данным организации","Принято органом регулирования"]
[{"$f":"'Общие сведения'!$D$122","v":"1"},{"$f":"INDEX('Общие сведения'!$H$121:$H$135,MATCH($A16,'Общие сведения'!$D$121:$D$135,0))","v":"Водоотведение"},null,null,null,null,null,null,null,null,null,{"$f":"INDEX('Общие сведения'!$J$121:$J$135,MATCH($A16,'Общие сведения'!$D$121:$D$135,0))","v":"Тариф 1 (Водоотведение) - тариф на водоотведение"}]
[{"$f":"A16","v":"1"},null,null,"L1",null,null,null,null,null,null,null,"I","Расчет размера корректировки необходимой валовой выручки по результатам деятельности прошлых периодов регулирования, а также осуществляемой с целью учета отклонения фактических значений параметров расчета тарифов от значений, учтенных при установлении","ΔHBBKi-2","тыс.руб.",{"$f":"P19-P18","v":-5261.772729999997},{"$f":"Q19-Q18","v":-6855.7680750205182},"Рассчитано в соответствии с п. 91 и 95 Методических указаний ФСТ России № 1746-э (Формулы 33 и 38)."]
[{"$f":"A17","v":"1"},null,null,"L1_1",null,null,null,null,null,null,null,"1","Товарная выручка","ТВФi-2","тыс.руб.",147971.41,147971.41,"Подтверждено бухгалтерскими документами"]
["1",null,null,"L1_2",null,null,null,null,null,null,null,"2","Скорректированная фактическая величина необходимой валовой выручки","HBBФi-2","тыс.руб.",{"$f":"P20+P21+P33+P37+P38+P39+P40+P44","v":142709.63727000001},{"$f":"Q20+Q21+Q33+Q37+Q38+Q39+Q40+Q44","v":141115.64192497949}]
["1",null,null,"L1_2_1",null,null,null,null,null,null,null,"2.1","Операционные расходы, определенные на (i-2)-й год исходя из фактических значений параметров расчета тарифов","ОРФi-2","тыс.руб.",107283.14,116125.03814276325,"Базовый уровень операционных расходов 2019 г. (90920,52 тыс. руб.) с учетом индексов эффективности операционных расходов = 1 на 2020,  на 2021, на 2022 и на 2023 гг. и ИПЦ Минэкономразвития РФ 103,4% на 2020 г., 106,7% на 2021 г., 113,8% на 2022 г. и 105,9% на 2023 г. (Формула 40 Методических указаний,  j = 2023)"]
["1",null,null,"L1_2_2",null,null,null,null,null,null,null,"2.2","фактические документально подтвержденные неподконтрольные расходы, в том числе:","Н РФi-2","тыс.руб.",{"$f":"SUM(P22:P32)","v":6047.3154300000006},{"$f":"SUM(Q22:Q32)","v":4343.0394299999998}]
["1",null,null,"L1_2_2_1",null,null,null,null,null,null,null,"2.2.1","расходы на оплату товаров (услуг, работ), приобретаемых у других организаций, осуществляющих регулируемые виды деятельности;",null,"тыс.руб.",{"$f":"SUMIFS(Покупка!P$15:P$38,Покупка!$A$15:$A$38,$A22,Покупка!$B$15:$B$38,\"Итого\")","v":1037.19543},{"$f":"SUMIFS(Покупка!Q$15:Q$38,Покупка!$A$15:$A$38,$A22,Покупка!$B$15:$B$38,\"Итого\")","v":734.16543000000001},"Учтены расходы на тепловую энергию и горячую воду, поставляемую ООО \"Теплоэнергетик\", на уровне фактических документально подтвержденных затрат отчетного периода (см. Лист \"Покупка\"). Расходы на покупную воду отклонены, так как учитываются в составе Операционных расходов."]
["1",null,null,"L1_2_2_2",null,null,null,null,null,null,null,"2.2.2","расходы на реагенты",null,"тыс.руб.",null,{"$f":"SUMIFS(Реагенты!Q$15:Q$22,Реагенты!$A$15:$A$22,$A23,Реагенты!$M$15:$M$22,\"Всего по тарифу\")","v":0}]
["1",null,null,"L1_2_2_3",null,null,null,null,null,null,null,"2.2.3","расходы на уплату налогов, сборов и других обязательных платежей",null,"тыс.руб.",{"$f":"SUMIFS(Налоги!P$15:P$30,Налоги!$A$15:$A$30,$A24,Налоги!$L$15:$L$30,\"0\")","v":1974.45},{"$f":"SUMIFS(Налоги!Q$15:Q$30,Налоги!$A$15:$A$30,$A24,Налоги!$L$15:$L$30,\"0\")","v":1433.2139999999997},"См. Лист \"Налоги\","]
["1","Расходы на мероприятия по защите централизованных систем водоснабжения",null,"L1_2_2_4",null,null,null,null,null,null,null,"2.2.4","Расходы на мероприятия по защите централизованных систем водоснабжения и (или) водоотведения и их отдельных объектов от угроз техногенного, природного характера и террористических актов, по предотвращению возникновения аварийных ситуаций, снижению риска и смягчению последствий чрезвычайных ситуаций (за исключением мероприятий, включенных в инвестиционную программу)",null,"тыс.руб.",null,{"$f":"SUMIFS(Калькуляция!Q$15:Q$143,Калькуляция!$A$15:$A$143,$A25,Калькуляция!$B$15:$B$143,$B25)","v":0}]
["1","Арендная и концессионная плата, лизинговые платежи",null,"L1_2_2_5",null,null,null,null,null,null,null,"2.2.5","расходы на арендную и концессионную плату, лизинговые платежи",null,"тыс.руб.",{"$f":"Аренда!P17-0.01","v":3035.67},{"$f":"SUMIFS(Калькуляция!Q$15:Q$143,Калькуляция!$A$15:$A$143,$A26,Калькуляция!$B$15:$B$143,$B26)","v":2175.66},"См. Лист \"Аренда\"."]
["1","резерв по сомнительным долгам гарантирующей организации",null,"L1_2_2_6",null,null,null,null,null,null,null,"2.2.6","расходы по сомнительным долгам для гарантирующей организации",null,"тыс.руб.",null,{"$f":"SUMIFS(Калькуляция!Q$15:Q$143,Калькуляция!$A$15:$A$143,$A27,Калькуляция!$B$15:$B$143,$B27)","v":0}]
["1","Экономия расходов",null,"L1_2_2_7",null,null,null,null,null,null,null,"2.2.7","экономия средств, достигнутая в результате снижения расходов предыдущего долгосрочного периода регулирования",null,"тыс.руб.",null,{"$f":"SUMIFS(Калькуляция!Q$15:Q$143,Калькуляция!$A$15:$A$143,$A28,Калькуляция!$B$15:$B$143,$B28)","v":0}]
["1","Расходы на обслуживание бесхозяйных сетей",null,"L1_2_2_8",null,null,null,null,null,null,null,"2.2.8","расходы на обслуживание бесхозяйных сетей, эксплуатируемых регулируемой организацией",null,"тыс.руб.",null,{"$f":"SUMIFS(Калькуляция!Q$15:Q$143,Калькуляция!$A$15:$A$143,$A29,Калькуляция!$B$15:$B$143,$B29)","v":0}]
["1","Расходы на компенсацию экономически обоснованных расходов",null,"L1_2_2_9",null,null,null,null,null,null,null,"2.2.9","расходы на компенсацию экономически обоснованных расходов (выпадающих доходов прошлых периодов)",null,"тыс.руб.",null,{"$f":"SUMIFS(Калькуляция!Q$15:Q$143,Калькуляция!$A$15:$A$143,$A30,Калькуляция!$B$15:$B$143,$B30)","v":0}]
["1","Займы и кредиты (для метода индексации)",null,"L1_2_2_10",null,null,null,null,null,null,null,"2.2.10","расходы на займы и кредиты (для метода индексации)",null,"тыс.руб.",null,{"$f":"SUMIFS(Калькуляция!Q$15:Q$143,Калькуляция!$A$15:$A$143,$A31,Калькуляция!$B$15:$B$143,$B31)","v":0}]
["1","Расходы концессионера на осуществление государственного кадастрового учета",null,"L1_2_2_11",null,null,null,null,null,null,null,"2.2.11","расходы концессионера на осуществление государственного кадастрового учета и (или) государственной регистрации права собственности концедента",null,"тыс.руб.",null,{"$f":"SUMIFS(Калькуляция!Q$15:Q$143,Калькуляция!$A$15:$A$143,$A32,Калькуляция!$B$15:$B$143,$B32)","v":0}]
["1",null,null,"L1_2_3",null,null,null,null,null,null,null,"2.3","расходы на электрическую энергию","РТФi-2","тыс.руб.",{"$f":"ЭЭ!P17","v":28218.17},{"$f":"Q34*Q35*Q36","v":27768.499000768992}]
["1",null,null,"L1_2_3_1",null,null,null,null,null,null,null,"2.3.1","удельное потребление электрической энергии, установленное на соответствующий год","УПЭФi-2","кВтч/куб.м.",{"$f":"ЭЭ!P21","v":1.2718808024679222},{"$f":"SUMIFS(ЭЭ!O$15:O$42,ЭЭ!$A$15:$A$42,$A34,ЭЭ!$M$15:$M$42,\"Удельный расход электроэнергии\")","v":1.2500000000000069},"В соответствии с утвержденными долгосрочными параметрами регулирования тарифов"]
["1",null,null,"L1_2_3_2",null,null,null,null,null,null,null,"2.3.2","фактический объём поданной воды (принятых сточных вод)","Q ф i-2","тыс.куб.м.",{"$f":"ЭЭ!P19","v":3967.0619999999999},{"$f":"SUMIFS(ЭЭ!Q$15:Q$42,ЭЭ!$A$15:$A$42,$A35,ЭЭ!$M$15:$M$42,\"Объём воды/сточных вод\")","v":3967.0619999999999}]
["1",null,null,"L1_2_3_3",null,null,null,null,null,null,null,"2.3.3","фактическая (расчетная) цена на электрическую энергию, определяемая в i-2 году","ЦТ ф i-2","руб./кВтч",{"$f":"ЭЭ!P20","v":5.592595969185215},{"$f":"SUMIFS(ЭЭ!Q$15:Q$42,ЭЭ!$A$15:$A$42,$A36,ЭЭ!$M$15:$M$42,\"Средний (расчетный) тариф\")","v":5.5998114475183574},"Подтверждено представленными счетами-фактурами и расшифровками."]
["1","амортизация",null,"L1_2_4",null,null,null,null,null,null,null,"2.4","расходы на амортизацию в (i-2)-м году, определенные исходя из фактического состава имущества в (i-2)-м году","АФi-2","тыс.руб.",{"$f":"Амортизация!P53","v":1161.0118399999999},{"$f":"SUMIFS(Калькуляция!Q$15:Q$143,Калькуляция!$A$15:$A$143,$A37,Калькуляция!$B$15:$B$143,$B37)","v":812.64280666666673},"ИСКЛЮЧЕНЫ: 1) начисления в части стоимости капитальных вложений в концессионное имущество, НЕ ПРЕДУСМОТРЕННЫХ Инвестиционной программой (соответствует позиции ФАС России); 2) начисления по транспортным средствам, так как они относятся к  объектам общепроизводственного назначения и учитываются в составе Операционных расходов. (см. Лист \"Амортизация\")"]
["1",null,null,"L1_2_5",null,null,null,null,null,null,null,"2.5","величина нормативной прибыли","ПРi-2","тыс.руб.",null,374.73521828381905,"В соответствии с утвержденными долгосрочными параметрами (0,28% от принятой регулятором фактической НВВ) (п. 95, п. 86 Методических указаний, Формула 31). Прочие расходы учету не подлежат."]
["1","Расчетная предпринимательская прибыль гарантирующей организации",null,"L1_2_6",null,null,null,null,null,null,null,"2.6","расчетная предпринимательская прибыль гарантирующей организации","ПРГО Фi-2","тыс.руб.",null,6745.6673264967685,"В размере 5% от скорректированной суммы Текущих расходов и амортизации"]
["1",null,null,"L1_2_7_0",null,null,null,null,null,null,null,"2.7","размер корректировки необходимой валовой выручки, учтенной при регулирования на год i-2",null,"тыс.руб.",null,{"$f":"Q41+Q42+Q43","v":-15053.98}]
["1",null,null,"L1_2_7",null,null,null,null,null,null,null,"2.7.1","величина отклонения показателя ввода объектов системы водоснабжения и (или) водоотведения в эксплуатацию и изменения инвестиционной программы","ΔИi-4","тыс.руб."]
["1",null,null,"L1_2_8",null,null,null,null,null,null,null,"2.7.2","степень исполнения регулируемой организацией производственной программы","ΔЦПi-4","тыс.руб.",null,-2083.04,"По ранее утвержденному плану 2023 г. (результаты деятельности за 2021 г.)"]
["1",null,null,"L1_2_10",null,null,null,null,null,null,null,"2.7.3","размер корректировки необходимой валовой выручки по результатам деятельности прошлых периодов регулирования, а также осуществляемой с целью учета отклонения фактических значений параметров расчета тарифов от значений, учтенных при установлении","ΔHBBKi-4","тыс.руб.",null,{"$f":"1003.7+(-13974.64)","v":-12970.939999999999},"1) размер корректировки плановой НВВ 2021 г., осуществленной с целью учета отклонения фактических значений параметров расчета тарифов от значений, учтенных при установлении тарифов на 2021 год, - 1003,70 тыс. руб.; 2) сумма ИЗБЫТКА СРЕДСТВ по статье  \"Доходы от платы за нарушение нормативов по объему и/или составу сточныхвод  (доходы от платы за негативное воздействие системы водоотведения)\", образовавшегося за 2019-2021 годы, - (-13974,64) тыс. руб."]
["1",null,null,"L1_2_9",null,null,null,null,null,null,null,"2.9","величина изменения необходимой валовой выручки в году i-2, проводимого в целях сглаживания"," ΔHBBСi-2","тыс.руб."]
["1",null,null,"L2",null,null,null,null,null,null,null,"II","Расчет размера корректировки необходимой валовой выручки, в случае если на i-2 год применялся метод экономически обоснованных расходов","ΔHBBKi-2","тыс.руб.",{"$f":"P46","v":0},{"$f":"Q46","v":0}]
["1",null,null,"L2_1",null,null,null,null,null,null,null,"1","Величина, определяющая результаты деятельности регулируемой организации до перехода к регулированию цен (тарифов) на основе долгосрочных параметров регулирования","ΔРЕЗi-2","тыс.руб.",{"$f":"P47+P48","v":0},{"$f":"Q47+Q48","v":0}]
["1",null,null,"L2_1_1",null,null,null,null,null,null,null,"1.1","экономически обоснованные расходы регулируемой организации, понесенные в периоды регулирования, предшествовавшие переходу к регулированию цен (тарифов) на основе долгосрочных параметров регулирования и не возмещенные регулируемой организации (не учтенные в тарифах)","ΔРЕЗ+i-2","тыс.руб."]
["1",null,null,"L2_1_2",null,null,null,null,null,null,null,"1.2","доходы регулируемой организации, необоснованно полученные в периоды регулирования, предшествовавшие переходу к регулированию цен (тарифов) на основе долгосрочных параметров регулирования","ΔРЕЗ-i-2","тыс.руб."]
["1",null,null,"L3",null,null,null,null,null,null,null,"III","Величина отклонения показателя ввода объектов системы водоснабжения и (или) водоотведения в эксплуатацию и изменения инвестиционной программы","ΔИi-2","тыс.руб."]
["1",null,null,"L4",null,null,null,null,null,null,null,"IV","Степень исполнения регулируемой организацией обязательств по созданию и (или) реконструкции объектов концессионного соглашения, по эксплуатации объектов по договору аренды централизованных систем горячего водоснабжения, холодного водоснабжения и (или) водоотведения, отдельных объектов таких систем, находящихся в государственной или муниципальной собственности, по реализации инвестиционной программы, производственной программы при недостижении регулируемой организацией утверждённых плановых значений показателей надежности и качества объектов централизованных систем водоснабжения и (или) водоотведения (корректировка по показателям надежности и качества)","ΔЦПi-2","тыс.руб.",null,-4684.2341692320015,"Сумма корректировки плановой НВВ 2023 года рассчитана в соответствии с пунктом 93 (Формула 36) Методических указаний ФСТ России № 1746-э. Агрегированный показатель (А2023) = 0,848;  процент корректировки - 3,0% ;  применены ИПЦ  108,0% на 2024 г. и 105,8% на 2025 г. согласно Прогнозу Минэкономразвития России от 30.09.2024."]
["1",null,{"$f":"B16=\"Водоотведение\"","v":true},"L5",null,null,null,null,null,null,null,"V","Доходы от взимания платы за нарушение нормативов по объёму и (или) составу сточных вод, за исключением направленных целевым образом на внесение платы за негативное воздействие на окружающую среду, компенсацию вреда, причиненного водному объекту, и финансирование мероприятий инвестиционной программы по строительству, реконструкции и модернизации объектов централизованной системы водоотведения (в соответствии с п.14 Методических указаний)",null,"тыс.руб.",{"$f":"4513.283+0.01","v":4513.2930000000006},{"$f":"-'Плата за негативное возд'!V16","v":-3531.9325254894657},"См. Лист \"Плата за негативное возд.\""]
["1",null,{"$f":"B16=\"Водоотведение\"","v":true},"L6",null,null,null,null,null,null,null,"VI","Доходы от взимания платы за негативное воздействие на централизованную систему водоотведения, за исключением направленных целевым образом на финансирование мероприятий инвестиционной и (или) производственной программы регулируемой организации (в соответствии с п.14 Методических указаний)",null,"тыс.руб.",-1340.1969999999999,{"$f":"-'Плата за негативное возд'!V17","v":-309.73997951053485},"См. Лист \"Плата за негативное возд.\""]
["1",null,null,"L7",null,null,null,null,null,null,null,"VII","Недополученные доходы / Выпадающие расходы",null,"тыс.руб."]
["1",null,null,"L8",null,null,null,null,null,null,null,"VIII","Избыток средств, полученный за отчётные периоды регулирования",null,"тыс.руб.",0,0]
["1",null,null,"L8_1",null,null,null,null,null,null,null,1,"Экономически не обоснованные доходы / расходы прошлых периодов регулирования",null,"тыс.руб."]
["1",null,null,"L8_2",null,null,null,null,null,null,null,2,"Бюджетные субсидии, полученные на финансирование расходов, учтенных в тарифах",null,"тыс.руб."]
["1",null,null,"L9",null,null,null,null,null,null,null,"IX","Величина отклонения по результатам досудебного рассмотрения споров",null,"тыс.руб."]
["1",null,null,"L10",null,null,null,null,null,null,null,"X","Величина отклонения по результатам рассмотрения разногласий",null,"тыс.руб."]
["1",null,null,"L11",null,null,null,null,null,null,null,"XI","Корректировка НВВ всего",null,"тыс.руб.",{"$f":"P17+P45+P49+P50+P51+P52+P53+P54+P57+P58","v":-2088.6767299999965},{"$f":"Q17+Q45+Q49+Q50+Q51+Q52+Q53+Q54+Q57+Q58","v":-15381.674749252519}]
[]
[null,null,null,null,null,null,null,null,null,null,null,"Комментарии и обоснования к разделу"]
[]
[null,null,null,null,null,null,null,null,null,null,null,"Добавить комментарий"]

{"sheet":"Калькуляция","index":28,"n_rows":146,"n_cols":52,"rows_kept":146,"cut":false,"hidden":false,"merged":[[145,11,145,12],[144,11,144,51],[13,51,14,51],[13,49,14,49],[13,50,14,50],[143,11,143,51],[13,11,14,11],[13,12,14,12],[13,13,14,13],[14,39,14,48]]}
[null,null,null,null,null,null,null,null,null,null,null,null,null,null,{"$f":"god-2","v":2023},{"$f":"god-2","v":2023},{"$f":"god-2","v":2023},{"$f":"god-2","v":2023},{"$f":"god-1","v":2024},{"$f":"god","v":2025},{"$f":"god+1","v":2026},{"$f":"god+2","v":2027},{"$f":"god+3","v":2028},{"$f":"god+4","v":2029},{"$f":"god+5","v":2030},{"$f":"god+6","v":2031},{"$f":"god+7","v":2032},{"$f":"god+8","v":2033},{"$f":"god+9","v":2034},{"$f":"god","v":2025},{"$f":"god+1","v":2026},{"$f":"god+2","v":2027},{"$f":"god+3","v":2028},{"$f":"god+4","v":2029},{"$f":"god+5","v":2030},{"$f":"god+6","v":2031},{"$f":"god+7","v":2032},{"$f":"god+8","v":2033},{"$f":"god+9","v":2034},{"$f":"god","v":2025},{"$f":"god+1","v":2026},{"$f":"god+2","v":2027},{"$f":"god+3","v":2028},{"$f":"god+4","v":2029},{"$f":"god+5","v":2030},{"$f":"god+6","v":2031},{"$f":"god+7","v":2032},{"$f":"god+8","v":2033},{"$f":"god+9","v":2034}]
[null,null,null,null,null,null,null,null,null,null,null,null,null,null,{"$f":"O15","v":"Принято органом регулирования"},{"$f":"P15","v":"Факт по данным организации"},{"$f":"Q15","v":"Факт, принятый органом регулирования"},{"$f":"R15","v":"отклонение факта по данным организации к факту принятому органом регулирования"},{"$f":"S15","v":"Принято органом регулирования"},{"$f":"$T$15","v":"Предложение организации"},{"$f":"$T$15","v":"Предложение организации"},"Предложение организации","Предложение организации","Предложение организации","Предложение организации","Предложение организации","Предложение организации","Предложение организации","Предложение организации",{"$f":"$AD$15","v":"Принято органом регулирования"},{"$f":"$AD$15","v":"Принято органом регулирования"},"Принято органом регулирования","Принято органом регулирования","Принято органом регулирования","Принято органом регулирования","Принято органом регулирования","Принято органом регулирования","Принято органом регулирования","Принято органом регулирования"]
[null,null,null,null,null,null,null,null,null,null,null,null,null,null,{"$f":"O1&O2","v":"2023Принято органом регулирования"},"2023Факт по данным организации","2023Факт, принятый органом регулирования","2023отклонение факта по данным организации к факту принятому органом регулирования","2024Принято органом регулирования","2025Предложение организации",{"$f":"U1&U2","v":"2026Предложение организации"},"2027Предложение организации","2028Предложение организации","2029Предложение организации","2030Предложение организации","2031Предложение организации","2032Предложение организации","2033Предложение организации","2034Предложение организации","2025Принято органом регулирования","2026Принято органом регулирования","2027Принято органом регулирования","2028Принято органом регулирования","2029Принято органом регулирования","2030Принято органом регулирования","2031Принято органом регулирования","2032Принято органом регулирования","2033Принято органом регулирования","2034Принято органом регулирования"]
[]
[]
[]
[null,null,null,null,null,null,null,null,null,null,null,null,null,null,null,null,null,null,null,{"$f":"T1<=last_year_vis","v":true},false,false,false,false,false,false,false,false,false,true,false,false,false,false,false,false,false,false,false,true,false,false,false,false,false,false,false,false,false]
[]
[]
[]
[null,null,null,null,null,null,null,null,null,null,null,null,{"$f":"tpl_title","v":"Кемеровская область / 2025 / ООО\"БелГОС\" (ИНН:4202023230, КПП:420201001) / ДПР: 2019-2028"}]
[null,null,null,null,null,null,null,null,null,null,null,"18. Расчет тарифа методом индексации"]
[]
[null,null,null,null,null,null,null,null,null,null,null,"№ п/п","Наименование показателя","Единица измерения",{"$f":"god-2 & \" год\"","v":"2023 год"},{"$f":"god-2 & \" год\"","v":"2023 год"},{"$f":"god-2 & \" год\"","v":"2023 год"},{"$f":"god-2 & \" год\"","v":"2023 год"},{"$f":"god-1 & \" год\"","v":"2024 год"},{"$f":"god & \" год\"","v":"2025 год"},{"$f":"god+1 & \" год\"","v":"2026 год"},{"$f":"god+2 & \" год\"","v":"2027 год"},{"$f":"god+3 & \" год\"","v":"2028 год"},{"$f":"god+4 & \" год\"","v":"2029 год"},{"$f":"god+5 & \" год\"","v":"2030 год"},{"$f":"god+6 & \" год\"","v":"2031 год"},{"$f":"god+7 & \" год\"","v":"2032 год"},{"$f":"god+8 & \" год\"","v":"2033 год"},{"$f":"god+9 & \" год\"","v":"2034 год"},{"$f":"god & \" год\"","v":"2025 год"},{"$f":"god+1 & \" год\"","v":"2026 год"},{"$f":"god+2 & \" год\"","v":"2027 год"},{"$f":"god+3 & \" год\"","v":"2028 год"},{"$f":"god+4 & \" год\"","v":"2029 год"},{"$f":"god+5 & \" год\"","v":"2030 год"},{"$f":"god+6 & \" год\"","v":"2031 год"},{"$f":"god+7 & \" год\"","v":"2032 год"},{"$f":"god+8 & \" год\"","v":"2033 год"},{"$f":"god+9 & \" год\"","v":"2034 год"},{"$f":"god & \" год\"","v":"2025 год"},{"$f":"god+1 & \" год\"","v":"2026 год"},{"$f":"god+2 & \" год\"","v":"2027 год"},{"$f":"god+3 & \" год\"","v":"2028 год"},{"$f":"god+4 & \" год\"","v":"2029 год"},{"$f":"god+5 & \" год\"","v":"2030 год"},{"$f":"god+6 & \" год\"","v":"2031 год"},{"$f":"god+7 & \" год\"","v":"2032 год"},{"$f":"god+8 & \" год\"","v":"2033 год"},{"$f":"god+9 & \" год\"","v":"2034 год"},"Указание на подтверждающие документы / URL-ссылка на копии подтверждающих документов","Ссылка на правовую норму (основание для принятия показателя в расчет тарифа)","Обоснование причин, на основании которых принято решение об исключении из расчета тарифов экономически не обоснованных расходов, учтенных регулируемой организацией в предложении об установлении тарифов"]
[null,null,null,null,null,null,null,null,null,null,null,null,null,null,"Принято органом регулирования","Факт по данным организации","Факт, принятый органом регулирования","отклонение факта по данным организации к факту принятому органом регулирования","Принято органом регулирования","Предложение организации","Предложение организации","Предложение организации","Предложение организации","Предложение организации","Предложение организации","Предложение организации","Предложение организации","Предложение организации","Предложение организации","Принято органом регулирования","Принято органом регулирования","Принято органом регулирования","Принято органом регулирования","Принято органом регулирования","Принято органом регулирования","Принято органом регулирования","Принято органом регулирования","Принято органом регулирования","Принято органом регулирования","Сравнительный анализ динамики НВВ, в том числе расходов по отдельным статьям (группам расходов), прибыли и их величины по отношению к предыдущим периодам регулирования, %"]
[{"$f":"'Общие сведения'!$D$122","v":"1"},{"$f":"INDEX('Общие сведения'!$N$121:$N$135,MATCH($A16,'Общие сведения'!$D$121:$D$135,0))","v":"одноставочный"},null,{"$f":"INDEX('Общие сведения'!$H$121:$H$135,MATCH($A16,'Общие сведения'!$D$121:$D$135,0))","v":"Водоотведение"},null,null,null,null,null,null,null,{"$f":"INDEX('Общие сведения'!$J$121:$J$135,MATCH($A16,'Общие сведения'!$D$121:$D$135,0))","v":"Тариф 1 (Водоотведение) - тариф на водоотведение"}]
[{"$f":"A16","v":"1"},null,null,"L1",null,null,null,null,null,null,null,"1","Операционные расходы","тыс.руб.",116336.826778181,{"$f":"SUM(P19,P36,P42,P62,P63,P64)","v":107283.13500000001},{"$f":"SUM(Q19,Q36,Q42,Q62,Q63,Q64)","v":116125.03814276325},{"$f":"Q17-P17","v":8841.9031427632435},123124.798881558,127013.08,{"$f":"T17*U18","v":127013.08},127013.08,127013.08,127013.08,127013.08,127013.08,127013.08,127013.08,127013.08,{"$f":"90920.52*AD18-0.01","v":130048.5902231364},130048.5902231364,130048.5902231364,130048.5902231364,130048.5902231364,130048.5902231364,130048.5902231364,130048.5902231364,130048.5902231364,130048.5902231364,{"$f":"IF(S17=0,0,(AD17-S17)/S17*100)","v":5.6233930162508186},{"$f":"IF(AD17=0,0,(AE17-AD17)/AD17*100)","v":0},0,0,0,0,0,0,0,0,null,"1) Подпункт \"в\" пункта 16 , Формула (39)  Методических указаний ФСТ № 1746-э.   2) Постановление региональной энергетической комиссии Кемеровской области от 19.12.2018 № 759  \"Об установлении долгосрочных параметров  регулирования тарифов в сфере водоотведения  ООО «Беловские Городские Очистные сооружения» (Беловский городской округ)\" (в редакции Постановлений Региональной энергетической комиссии от 24.11.2020 N 427, от 11.02.2021 N 60).","Плановые Операционные расходы на 2025 год рассчитаны, исходя из базового уровня операционных расходов 2019 г. (90920,52 тыс. руб.) с применением коэффициента индексации 1,4303548, рассчитанного в соответствии с Методическими указаниями (с учетом индексов эффективности операционных расходов на 2020, на 2021, на 2022, 2023, 2024 и 2025 гг. в размере 1% и с учетом ИПЦ на 2020 г. 103,4%; на 2021 г. 106,7%, на 2022 г. 113,8%, на 2023 г. 105,9%, на 2024 г. 108,0%, на 2025 г. 105,8%  согласно \"Прогнозу соц.-экономического развития РФ на 2025 год и на плановый период 2026 и 2027 годов\" от 30.09.2024). "]
[{"$f":"A17","v":"1"},null,null,"L1_1",null,null,null,null,null,null,null,"1.1","коэффициент индекса операционных расходов",null,{"$f":"O17/90920.52","v":1.2795442302593627},{"$f":"P17/90920.52","v":1.1799661396569223},1.2772148481196901,9.7248708462767786E-2,{"$f":"S17/90920.52","v":1.3542025373541418},{"$f":"T17/90920.52","v":1.3969682531512138},{"$f":"SUMIFS(INDEX(Сценарии!$O$15:$AP$35,,MATCH(U$3,Сценарии!$O$3:$AP$3,0)),Сценарии!$A$15:$A$35,$A18,Сценарии!$B$15:$B$35,\"ИОР\")","v":1},{"$f":"SUMIFS(INDEX(Сценарии!$O$15:$AP$35,,MATCH(V$3,Сценарии!$O$3:$AP$3,0)),Сценарии!$A$15:$A$35,$A18,Сценарии!$B$15:$B$35,\"ИОР\")","v":1},{"$f":"SUMIFS(INDEX(Сценарии!$O$15:$AP$35,,MATCH(W$3,Сценарии!$O$3:$AP$3,0)),Сценарии!$A$15:$A$35,$A18,Сценарии!$B$15:$B$35,\"ИОР\")","v":1},{"$f":"SUMIFS(INDEX(Сценарии!$O$15:$AP$35,,MATCH(X$3,Сценарии!$O$3:$AP$3,0)),Сценарии!$A$15:$A$35,$A18,Сценарии!$B$15:$B$35,\"ИОР\")","v":1},{"$f":"SUMIFS(INDEX(Сценарии!$O$15:$AP$35,,MATCH(Y$3,Сценарии!$O$3:$AP$3,0)),Сценарии!$A$15:$A$35,$A18,Сценарии!$B$15:$B$35,\"ИОР\")","v":1},{"$f":"SUMIFS(INDEX(Сценарии!$O$15:$AP$35,,MATCH(Z$3,Сценарии!$O$3:$AP$3,0)),Сценарии!$A$15:$A$35,$A18,Сценарии!$B$15:$B$35,\"ИОР\")","v":1},{"$f":"SUMIFS(INDEX(Сценарии!$O$15:$AP$35,,MATCH(AA$3,Сценарии!$O$3:$AP$3,0)),Сценарии!$A$15:$A$35,$A18,Сценарии!$B$15:$B$35,\"ИОР\")","v":1},{"$f":"SUMIFS(INDEX(Сценарии!$O$15:$AP$35,,MATCH(AB$3,Сценарии!$O$3:$AP$3,0)),Сценарии!$A$15:$A$35,$A18,Сценарии!$B$15:$B$35,\"ИОР\")","v":1},{"$f":"SUMIFS(INDEX(Сценарии!$O$15:$AP$35,,MATCH(AC$3,Сценарии!$O$3:$AP$3,0)),Сценарии!$A$15:$A$35,$A18,Сценарии!$B$15:$B$35,\"ИОР\")","v":1},{"$f":"1.034*0.99*1.067*0.99*1.138*0.99*1.059*0.99*1.08*0.99*1.058*0.99","v":1.4303547782517785},{"$f":"SUMIFS(INDEX(Сценарии!$O$15:$AP$35,,MATCH(AE$3,Сценарии!$O$3:$AP$3,0)),Сценарии!$A$15:$A$35,$A18,Сценарии!$B$15:$B$35,\"ИОР\")","v":1},{"$f":"SUMIFS(INDEX(Сценарии!$O$15:$AP$35,,MATCH(AF$3,Сценарии!$O$3:$AP$3,0)),Сценарии!$A$15:$A$35,$A18,Сценарии!$B$15:$B$35,\"ИОР\")","v":1},{"$f":"SUMIFS(INDEX(Сценарии!$O$15:$AP$35,,MATCH(AG$3,Сценарии!$O$3:$AP$3,0)),Сценарии!$A$15:$A$35,$A18,Сценарии!$B$15:$B$35,\"ИОР\")","v":1},{"$f":"SUMIFS(INDEX(Сценарии!$O$15:$AP$35,,MATCH(AH$3,Сценарии!$O$3:$AP$3,0)),Сценарии!$A$15:$A$35,$A18,Сценарии!$B$15:$B$35,\"ИОР\")","v":1},{"$f":"SUMIFS(INDEX(Сценарии!$O$15:$AP$35,,MATCH(AI$3,Сценарии!$O$3:$AP$3,0)),Сценарии!$A$15:$A$35,$A18,Сценарии!$B$15:$B$35,\"ИОР\")","v":1},{"$f":"SUMIFS(INDEX(Сценарии!$O$15:$AP$35,,MATCH(AJ$3,Сценарии!$O$3:$AP$3,0)),Сценарии!$A$15:$A$35,$A18,Сценарии!$B$15:$B$35,\"ИОР\")","v":1},{"$f":"SUMIFS(INDEX(Сценарии!$O$15:$AP$35,,MATCH(AK$3,Сценарии!$O$3:$AP$3,0)),Сценарии!$A$15:$A$35,$A18,Сценарии!$B$15:$B$35,\"ИОР\")","v":1},{"$f":"SUMIFS(INDEX(Сценарии!$O$15:$AP$35,,MATCH(AL$3,Сценарии!$O$3:$AP$3,0)),Сценарии!$A$15:$A$35,$A18,Сценарии!$B$15:$B$35,\"ИОР\")","v":1},{"$f":"SUMIFS(INDEX(Сценарии!$O$15:$AP$35,,MATCH(AM$3,Сценарии!$O$3:$AP$3,0)),Сценарии!$A$15:$A$35,$A18,Сценарии!$B$15:$B$35,\"ИОР\")","v":1},null,null,null,null,null,null,null,null,null,null,null,"\"Прогноз социально-экономического развития Российской Федерации на 2025 год и на плановый период 2026 и 2027 годов\" (базовый вариант), опубликован на официальном сайте Минэкономразвития России   30.09.2024."]
["1",null,null,"L1_2",null,null,null,null,null,null,null,"1.2","Производственные расходы:","тыс.руб.",null,{"$f":"SUM(P20,P23,P24,P27,P28)","v":79570.55},{"$f":"SUM(Q20,Q23,Q24,Q27,Q28)","v":0},-79570.55]
["1",null,null,"L1_2_1",null,null,null,null,null,null,null,"1.2.1","расходы на приобретение сырья и материалов и их хранение, в том числе:","тыс.руб.",null,{"$f":"SUM(P21,P22)","v":1602.97},{"$f":"SUM(Q21,Q22)","v":0},-1602.97]
["1",null,null,"L1_2_1_1",null,null,null,null,null,null,null,"1.2.1.1","горюче-смазочные материалы","тыс.руб.",null,1602.97,null,-1602.97]
["1",null,null,"L1_2_1_2",null,null,null,null,null,null,null,"1.2.1.2","материалы и малоценные основные средства","тыс.руб.",null,null,null,0]
["1",null,null,"L1_2_2",null,null,null,null,null,null,null,"1.2.2","расходы на оплату регулируемыми организациями выполняемых сторонними организациями работ и (или) услуг","тыс.руб.",null,null,null,0]
["1",null,null,"L1_2_3",null,null,null,null,null,null,null,"1.2.3","расходы на оплату труда и страховые взносы на обязательное социальное страхование основного производственного персонала, в том числе:","тыс.руб.",null,{"$f":"P25+P26","v":70418.990000000005},{"$f":"Q25+Q26","v":0},-70418.990000000005]
["1","ПП",null,"L1_2_3_1",null,null,null,null,null,null,null,"1.2.3.1","расходы на оплату труда основного производственного персонала","тыс.руб.",null,57108.46,null,-57108.46]
["1","СОЦ_ПП",null,"L1_2_3_2",null,null,null,null,null,null,null,"1.2.3.2","страховые взносы на обязательное социальное страхование основного производственного персонала","тыс.руб.",null,13310.53,null,-13310.53]
["1",null,null,"L1_2_4",null,null,null,null,null,null,null,"1.2.4","общехозяйственные расходы","тыс.руб.",null,null,null,0]
["1",null,null,"L1_2_5",null,null,null,null,null,null,null,"1.2.5","прочие производственные расходы","тыс.руб.",null,{"$f":"SUM(P29:P35)","v":7548.59},{"$f":"SUM(Q29:Q35)","v":0},-7548.59]
["1",null,null,"L1_2_5_1",null,null,null,null,null,null,null,"1.2.5.1","амортизация автотранспорта","тыс.руб.",null,null,null,0]
["1",null,null,"L1_2_5_2",null,null,null,null,null,null,null,"1.2.5.2","расходы на обезвоживание, обезвреживание и захоронение осадка сточных вод","тыс.руб.",null,null,null,0]
["1",null,null,"L1_2_5_3",null,null,null,null,null,null,null,"1.2.5.3","расходы на приобретение (использование) вспомогательных материалов, запасных частей","тыс.руб.",null,2864.65,null,-2864.65]
["1",null,null,"L1_2_5_4",null,null,null,null,null,null,null,"1.2.5.4","расходы на эксплуатацию, техническое обслуживание и ремонт автотранспорта","тыс.руб.",null,null,null,0]
["1",null,null,"L1_2_5_5",null,null,null,null,null,null,null,"1.2.5.5","расходы на осуществление производственного контроля качества воды и производственного контроля состава и свойств сточных вод расходы на осуществление производственного контроля качества воды и производственного контроля состава и свойств сточных вод","тыс.руб.",null,301.27999999999997,null,-301.27999999999997]
["1",null,null,"L1_2_5_6",null,null,null,null,null,null,null,"1.2.5.6","расходы на аварийно-диспетчерское обслуживание","тыс.руб.",null,null,null,0]
["1",null,null,"L1_2_5_7",null,null,null,null,null,null,null,"1.2.5.7","иные производственные расходы","тыс.руб.",null,4382.66,null,{"$f":"Q35-P35","v":-4382.66}]
["1",null,null,"L1_3",null,null,null,null,null,null,null,"1.3","Ремонтные расходы:","тыс.руб.",null,{"$f":"P37+P38+P39","v":11515.824000000001},{"$f":"Q37+Q38+Q39","v":0},-11515.824000000001]
["1",null,null,"L1_3_1",null,null,null,null,null,null,null,"1.3.1","расходы на текущий ремонт централизованных систем водоснабжения и (или) водоотведения либо объектов, входящих в состав таких систем","тыс.руб.",null,1914.92,null,-1914.92]
["1",null,null,"L1_3_2",null,null,null,null,null,null,null,"1.3.2","расходы на капитальный ремонт централизованных систем водоснабжения и (или) водоотведения либо объектов, входящих в состав таких систем","тыс.руб.",null,1023.014,null,-1023.014]
["1",null,null,"L1_3_3",null,null,null,null,null,null,null,"1.3.3","расходы на оплату труда и страховые взносы на обязательное социальное страхование ремонтного персонала, в том числе:","тыс.руб.",null,{"$f":"P40+P41","v":8577.89},null,-8577.89]
["1","РП",null,"L1_3_3_1",null,null,null,null,null,null,null,"1.3.3.1","расходы на оплату труда ремонтного персонала","тыс.руб.",null,7064.77,null,-7064.77]
["1","СОЦ_РП",null,"L1_3_3_2",null,null,null,null,null,null,null,"1.3.3.2","страховые взносы на обязательное социальное страхование ремонтного персонала","тыс.руб.",null,1513.12,null,-1513.12]
["1",null,null,"L1_4",null,null,null,null,null,null,null,"1.4","Административные расходы","тыс.руб.",null,{"$f":"P43+P51+P54+P55+P56+P57+P58","v":16196.760999999999},{"$f":"Q43+Q51+Q54+Q55+Q56+Q57+Q58","v":0},-16196.760999999999]
["1","p3",null,"L1_4_1",null,null,null,null,null,null,null,"1.4.1","расходы на оплату работ и услуг, выполняемых сторонними организациями, в том числе:","тыс.руб.",null,{"$f":"SUM(P44:P50)","v":505.851},{"$f":"SUM(Q44:Q50)","v":0},-505.851]
["1","p3_1",null,"L1_4_1_1",null,null,null,null,null,null,null,"1.4.1.1","услуги связи и интернет","тыс.руб.",null,80.302999999999997,null,-80.302999999999997]
["1","p3_2",null,"L1_4_1_2",null,null,null,null,null,null,null,"1.4.1.2","юридические услуги","тыс.руб.",null,null,null,0]
["1","p3_3",null,"L1_4_1_3",null,null,null,null,null,null,null,"1.4.1.3","аудиторские услуги","тыс.руб.",null,null,null,0]
["1","p3_4",null,"L1_4_1_4",null,null,null,null,null,null,null,"1.4.1.4","консультационные услуги","тыс.руб.",null,null,null,0]
["1","p3_5",null,"L1_4_1_5",null,null,null,null,null,null,null,"1.4.1.5","услуги по вневедомственной охране объектов и территорий","тыс.руб.",null,null,null,0]
["1","p3_6",null,"L1_4_1_6",null,null,null,null,null,null,null,"1.4.1.6","информационные услуги","тыс.руб.",null,152.108,null,-152.108]
["1","p3_7",null,"L1_4_1_7",null,null,null,null,null,null,null,"1.4.1.7","иные работы и (или) услуги","тыс.руб.",null,273.44,null,{"$f":"Q50-P50","v":-273.44}]
["1",null,null,"L1_4_2",null,null,null,null,null,null,null,"1.4.2","расходы на оплату труда и страховые взносы на обязательное социальное страхование административно-управленческого персонала, в том числе:","тыс.руб.",null,{"$f":"P52+P53","v":15352.585999999999},{"$f":"Q52+Q53","v":0},-15352.585999999999]
["1","АУП",null,"L1_4_2_1",null,null,null,null,null,null,null,"1.4.2.1","расходы на оплату труда административно-управленческого персонала","тыс.руб.",null,12893.75,null,-12893.75]
["1","СОЦ_АУП",null,"L1_4_2_2",null,null,null,null,null,null,null,"1.4.2.2","страховые взносы на обязательное социальное страхование административно-управленческого персонала","тыс.руб.",null,2458.8359999999998,null,-2458.8359999999998]
["1","p4",null,"L1_4_3",null,null,null,null,null,null,null,"1.4.3","арендная плата, лизинговые платежи, не связанные с арендой (лизингом) централизованных систем водоснабжения и (или) водоотведения либо объектов, входящих в состав таких систем","тыс.руб.",null,null,null,0]
["1","p5",null,"L1_4_4",null,null,null,null,null,null,null,"1.4.4","служебные командировки","тыс.руб.",null,null,null,0]
["1","p6",null,"L1_4_5",null,null,null,null,null,null,null,"1.4.5","обучение персонала","тыс.руб.",null,19.3,null,-19.3]
["1","p7",null,"L1_4_6",null,null,null,null,null,null,null,"1.4.6","страхование производственных объектов","тыс.руб.",null,11.523,null,-11.523]
["1","p8",null,"L1_4_7",null,null,null,null,null,null,null,"1.4.7","прочие административные расходы","тыс.руб.",null,{"$f":"SUM(P59:P61)","v":307.50099999999998},{"$f":"SUM(Q59:Q61)","v":0},-307.50099999999998]
["1","p8_1",null,"L1_4_7_1",null,null,null,null,null,null,null,"1.4.7.1","расходы на амортизацию непроизводственных активов","тыс.руб.",null,null,null,0]
["1","p8_2",null,"L1_4_7_2",null,null,null,null,null,null,null,"1.4.7.2","расходы по охране объектов и территорий","тыс.руб.",null,null,null,0]
["1","p8_3",null,"L1_4_7_3",null,null,null,null,null,null,null,"1.4.7.3","иные расходы","тыс.руб.",null,307.50099999999998,null,{"$f":"Q61-P61","v":-307.50099999999998}]
["1",null,null,"L1_5",null,null,null,null,null,null,null,"1.5","Сбытовые расходы гарантирующих организаций (за исключением указанных в п.2.5)","тыс.руб.",null,null,null,0]
["1",null,null,"L1_6",null,null,null,null,null,null,null,"1.6","Реагенты до 2020 года","тыс.руб.",null,null,null,{"$f":"Q63-P63","v":0}]
["1",null,null,"L1_7",null,null,null,null,null,null,null,"1.7","Операционные расходы по концессионным соглашениям","тыс.руб.",null,{"$f":"SUM(P65:P67)","v":0},{"$f":"SUM(Q65:Q67)","v":116125.03814276325},{"$f":"Q64-P64","v":116125.03814276325}]
["1",null,null,null,null,null,null,null,null,null,null,"1.7.0"]
[{"$f":"OFFSET(A66,-1,0)","v":"1"},null,null,"L1_7",{"$f":"M66","v":"Операционные расходы, рассчитанные исходя из Базового уровня Операционных расходов 2019 года в соответствии с Методическими указаниями"},null,null,null,null,null,"О","1.7.1","Операционные расходы, рассчитанные исходя из Базового уровня Операционных расходов 2019 года в соответствии с Методическими указаниями","тыс.руб.",null,null,{"$f":"90920.52*1.034*0.99*1.067*0.99*1.138*0.99*1.059*0.99","v":116125.03814276325},{"$f":"Q66-P66","v":116125.03814276325},null,null,null,null,null,null,null,null,null,null,null,null,null,null,null,null,null,null,null,null,null,null,null,null,null,null,null,null,null,null,null,null,"1) Пункт 95 Методических указаний ФСТ № 1746-э (Формула 40).                 2) Постановление региональной энергетической комиссии Кемеровской области от 19.12.2018 № 759 (в редакции Постановлений Региональной энергетической комиссии от 24.11.2020 N 427, от 11.02.2021 N 60). 3) \"Прогноз социально-экономического развития РФ на 2023 г. и на плановый период 2024 и 2025 гг.\" Минэкономразвития России от 28.09.2022. 4)  \"Прогноз социально-экономического развития РФ на 2024г. и на плановый период 2025 и 2026 гг.\" Минэкономразвития России от 22.09.2023. 4) \"Прогноз социально-экономического развития РФ на 2025г. и на плановый период 2026 и 2027 гг.\" Минэкономразвития России от 30.09.2024.","Рассчитано на основании: 1) Базового уровня Операционных расходов 2019 года  - 90920,52 тыс. руб.;  2) индексов эффективности операционных расходов на 2020, 2021, 2022 и 2023 годы, равных 1; 3) индексов изменения количества активов на 2020, 2021, 2022 и 2023 годы, равных 0; 4) индексов потребительских цен (ИПЦ)  - 103,4% на 2020 г. согласно базовому варианту Прогноза Минэкономразвития России от 28.09.2022;  106,7% на 2021 г. и 113,8% на 2022 г. согласно  Прогноза Минэкономразвития России от 22.09.2023; 105,9% на 2023 год согласно  Прогноза Минэкономразвития России от 30.09.2024."]
[{"$f":"A65","v":"1"},null,null,{"$f":"A67&\"pIns1\"","v":"1pIns1"},null,null,null,null,null,null,null,null,"Добавить"]
["1",null,null,"L2",null,null,null,null,null,null,null,"2","Неподконтрольные расходы","тыс.руб.",{"$f":"O69+O80+O81++O91+O92+O93+O95+O96+O97+O98+O101","v":3566.7352164599997},{"$f":"P69+P80+P81++P91+P92+P93+P95+P96+P97+P98+P101","v":6075.1084300000002},{"$f":"Q69+Q80+Q81++Q91+Q92+Q93+Q95+Q96+Q97+Q98+Q101","v":4343.0394299999998},{"$f":"Q68-P68","v":-1732.0690000000004},{"$f":"S69+S80+S81++S91+S92+S93+S95+S96+S97+S98+S101","v":4144.1298878034004},{"$f":"T69+T80+T81++T91+T92+T93+T95+T96+T97+T98+T101","v":7317.46},0,0,0,0,0,0,0,0,0,3900.0073898999999,0,0,0,0,0,0,0,0,0,{"$f":"IF(S68=0,0,(AD68-S68)/S68*100)","v":-5.8908022796746318},{"$f":"IF(AD68=0,0,(AE68-AD68)/AD68*100)","v":-100},0,0,0,0,0,0,0,0,null,"П. 49  и п. 88 Методических укаазний ФСТ № 1746-э."]
["1",null,null,"L2_1",null,null,null,null,null,null,null,"2.1","Расходы на оплату товаров (услуг, работ), приобретаемых у других организаций","тыс.руб.",{"$f":"SUM(O70:O79)","v":742.92},{"$f":"SUM(P70:P79)","v":1037.19543},{"$f":"SUM(Q70:Q79)","v":734.16543000000001},-303.02999999999997,{"$f":"SUM(S70:S79)","v":835.35032780339998},{"$f":"SUM(T70:T79)","v":1351.55},0,0,0,0,0,0,0,0,0,797.87305000000003,0,0,0,0,0,0,0,0,0,{"$f":"IF(S69=0,0,(AD69-S69)/S69*100)","v":-4.4864144486479729},-100,0,0,0,0,0,0,0,0]
["1","Затраты на тепловую энергию",null,"L2_1_1",null,null,null,null,null,null,null,"2.1.1","расходы на тепловую энергию","тыс.руб.",{"$f":"SUMIFS(Покупка!O$15:O$38,Покупка!$A$15:$A$38,$A70,Покупка!$M$15:$M$38,$B70)","v":735.24559999999997},{"$f":"SUMIFS(Покупка!P$15:P$38,Покупка!$A$15:$A$38,$A70,Покупка!$M$15:$M$38,$B70)","v":724.85500000000002},{"$f":"SUMIFS(Покупка!Q$15:Q$38,Покупка!$A$15:$A$38,$A70,Покупка!$M$15:$M$38,$B70)","v":724.85500000000002},0,{"$f":"SUMIFS(Покупка!R$15:R$38,Покупка!$A$15:$A$38,$A70,Покупка!$M$15:$M$38,$B70)","v":832.95160306754724},{"$f":"SUMIFS(Покупка!S$15:S$38,Покупка!$A$15:$A$38,$A70,Покупка!$M$15:$M$38,$B70)","v":955.2},{"$f":"SUMIFS(Покупка!T$15:T$38,Покупка!$A$15:$A$38,$A70,Покупка!$M$15:$M$38,$B70)","v":0},{"$f":"SUMIFS(Покупка!U$15:U$38,Покупка!$A$15:$A$38,$A70,Покупка!$M$15:$M$38,$B70)","v":0},{"$f":"SUMIFS(Покупка!V$15:V$38,Покупка!$A$15:$A$38,$A70,Покупка!$M$15:$M$38,$B70)","v":0},{"$f":"SUMIFS(Покупка!W$15:W$38,Покупка!$A$15:$A$38,$A70,Покупка!$M$15:$M$38,$B70)","v":0},{"$f":"SUMIFS(Покупка!X$15:X$38,Покупка!$A$15:$A$38,$A70,Покупка!$M$15:$M$38,$B70)","v":0},{"$f":"SUMIFS(Покупка!Y$15:Y$38,Покупка!$A$15:$A$38,$A70,Покупка!$M$15:$M$38,$B70)","v":0},{"$f":"SUMIFS(Покупка!Z$15:Z$38,Покупка!$A$15:$A$38,$A70,Покупка!$M$15:$M$38,$B70)","v":0},{"$f":"SUMIFS(Покупка!AA$15:AA$38,Покупка!$A$15:$A$38,$A70,Покупка!$M$15:$M$38,$B70)","v":0},{"$f":"SUMIFS(Покупка!AB$15:AB$38,Покупка!$A$15:$A$38,$A70,Покупка!$M$15:$M$38,$B70)","v":0},{"$f":"SUMIFS(Покупка!AC$15:AC$38,Покупка!$A$15:$A$38,$A70,Покупка!$M$15:$M$38,$B70)","v":788.72233000000006},{"$f":"SUMIFS(Покупка!AD$15:AD$38,Покупка!$A$15:$A$38,$A70,Покупка!$M$15:$M$38,$B70)","v":0},{"$f":"SUMIFS(Покупка!AE$15:AE$38,Покупка!$A$15:$A$38,$A70,Покупка!$M$15:$M$38,$B70)","v":0},{"$f":"SUMIFS(Покупка!AF$15:AF$38,Покупка!$A$15:$A$38,$A70,Покупка!$M$15:$M$38,$B70)","v":0},{"$f":"SUMIFS(Покупка!AG$15:AG$38,Покупка!$A$15:$A$38,$A70,Покупка!$M$15:$M$38,$B70)","v":0},{"$f":"SUMIFS(Покупка!AH$15:AH$38,Покупка!$A$15:$A$38,$A70,Покупка!$M$15:$M$38,$B70)","v":0},{"$f":"SUMIFS(Покупка!AI$15:AI$38,Покупка!$A$15:$A$38,$A70,Покупка!$M$15:$M$38,$B70)","v":0},{"$f":"SUMIFS(Покупка!AJ$15:AJ$38,Покупка!$A$15:$A$38,$A70,Покупка!$M$15:$M$38,$B70)","v":0},{"$f":"SUMIFS(Покупка!AK$15:AK$38,Покупка!$A$15:$A$38,$A70,Покупка!$M$15:$M$38,$B70)","v":0},{"$f":"SUMIFS(Покупка!AL$15:AL$38,Покупка!$A$15:$A$38,$A70,Покупка!$M$15:$M$38,$B70)","v":0},{"$f":"IF(S70=0,0,(AD70-S70)/S70*100)","v":-5.3099451282237897},-100,0,0,0,0,0,0,0,0,null,"П. 49(1), п. 20 Методических указаний ФСТ № 1746-э.","Учтена стоимость услуг ООО \"Теплоэнергетик\" (Единая теплоснабжающая организация, Беловский городской округ) по Договору теплоснабжения и поставки горячей воды  № 58 (см. Лист \"Покупка\")."]
["1","Затраты на теплоноситель",null,"L2_1_2",null,null,null,null,null,null,null,"2.1.2","расходы на теплоноситель","тыс.руб.",{"$f":"SUMIFS(Покупка!O$15:O$38,Покупка!$A$15:$A$38,$A71,Покупка!$M$15:$M$38,$B71)","v":0},{"$f":"SUMIFS(Покупка!P$15:P$38,Покупка!$A$15:$A$38,$A71,Покупка!$M$15:$M$38,$B71)","v":0},{"$f":"SUMIFS(Покупка!Q$15:Q$38,Покупка!$A$15:$A$38,$A71,Покупка!$M$15:$M$38,$B71)","v":0},0,{"$f":"SUMIFS(Покупка!R$15:R$38,Покупка!$A$15:$A$38,$A71,Покупка!$M$15:$M$38,$B71)","v":0},{"$f":"SUMIFS(Покупка!S$15:S$38,Покупка!$A$15:$A$38,$A71,Покупка!$M$15:$M$38,$B71)","v":0},{"$f":"SUMIFS(Покупка!T$15:T$38,Покупка!$A$15:$A$38,$A71,Покупка!$M$15:$M$38,$B71)","v":0},{"$f":"SUMIFS(Покупка!U$15:U$38,Покупка!$A$15:$A$38,$A71,Покупка!$M$15:$M$38,$B71)","v":0},{"$f":"SUMIFS(Покупка!V$15:V$38,Покупка!$A$15:$A$38,$A71,Покупка!$M$15:$M$38,$B71)","v":0},{"$f":"SUMIFS(Покупка!W$15:W$38,Покупка!$A$15:$A$38,$A71,Покупка!$M$15:$M$38,$B71)","v":0},{"$f":"SUMIFS(Покупка!X$15:X$38,Покупка!$A$15:$A$38,$A71,Покупка!$M$15:$M$38,$B71)","v":0},{"$f":"SUMIFS(Покупка!Y$15:Y$38,Покупка!$A$15:$A$38,$A71,Покупка!$M$15:$M$38,$B71)","v":0},{"$f":"SUMIFS(Покупка!Z$15:Z$38,Покупка!$A$15:$A$38,$A71,Покупка!$M$15:$M$38,$B71)","v":0},{"$f":"SUMIFS(Покупка!AA$15:AA$38,Покупка!$A$15:$A$38,$A71,Покупка!$M$15:$M$38,$B71)","v":0},{"$f":"SUMIFS(Покупка!AB$15:AB$38,Покупка!$A$15:$A$38,$A71,Покупка!$M$15:$M$38,$B71)","v":0},{"$f":"SUMIFS(Покупка!AC$15:AC$38,Покупка!$A$15:$A$38,$A71,Покупка!$M$15:$M$38,$B71)","v":0},{"$f":"SUMIFS(Покупка!AD$15:AD$38,Покупка!$A$15:$A$38,$A71,Покупка!$M$15:$M$38,$B71)","v":0},{"$f":"SUMIFS(Покупка!AE$15:AE$38,Покупка!$A$15:$A$38,$A71,Покупка!$M$15:$M$38,$B71)","v":0},{"$f":"SUMIFS(Покупка!AF$15:AF$38,Покупка!$A$15:$A$38,$A71,Покупка!$M$15:$M$38,$B71)","v":0},{"$f":"SUMIFS(Покупка!AG$15:AG$38,Покупка!$A$15:$A$38,$A71,Покупка!$M$15:$M$38,$B71)","v":0},{"$f":"SUMIFS(Покупка!AH$15:AH$38,Покупка!$A$15:$A$38,$A71,Покупка!$M$15:$M$38,$B71)","v":0},{"$f":"SUMIFS(Покупка!AI$15:AI$38,Покупка!$A$15:$A$38,$A71,Покупка!$M$15:$M$38,$B71)","v":0},{"$f":"SUMIFS(Покупка!AJ$15:AJ$38,Покупка!$A$15:$A$38,$A71,Покупка!$M$15:$M$38,$B71)","v":0},{"$f":"SUMIFS(Покупка!AK$15:AK$38,Покупка!$A$15:$A$38,$A71,Покупка!$M$15:$M$38,$B71)","v":0},{"$f":"SUMIFS(Покупка!AL$15:AL$38,Покупка!$A$15:$A$38,$A71,Покупка!$M$15:$M$38,$B71)","v":0},0,0,0,0,0,0,0,0,0,0]
["1","Затраты на транспортировку холодной воды",null,"L2_1_3",null,null,null,null,null,null,null,"2.1.3","расходы на транспортировку воды","тыс.руб.",{"$f":"SUMIFS(Покупка!O$15:O$38,Покупка!$A$15:$A$38,$A72,Покупка!$M$15:$M$38,$B72)","v":0},{"$f":"SUMIFS(Покупка!P$15:P$38,Покупка!$A$15:$A$38,$A72,Покупка!$M$15:$M$38,$B72)","v":0},{"$f":"SUMIFS(Покупка!Q$15:Q$38,Покупка!$A$15:$A$38,$A72,Покупка!$M$15:$M$38,$B72)","v":0},0,{"$f":"SUMIFS(Покупка!R$15:R$38,Покупка!$A$15:$A$38,$A72,Покупка!$M$15:$M$38,$B72)","v":0},{"$f":"SUMIFS(Покупка!S$15:S$38,Покупка!$A$15:$A$38,$A72,Покупка!$M$15:$M$38,$B72)","v":0},{"$f":"SUMIFS(Покупка!T$15:T$38,Покупка!$A$15:$A$38,$A72,Покупка!$M$15:$M$38,$B72)","v":0},{"$f":"SUMIFS(Покупка!U$15:U$38,Покупка!$A$15:$A$38,$A72,Покупка!$M$15:$M$38,$B72)","v":0},{"$f":"SUMIFS(Покупка!V$15:V$38,Покупка!$A$15:$A$38,$A72,Покупка!$M$15:$M$38,$B72)","v":0},{"$f":"SUMIFS(Покупка!W$15:W$38,Покупка!$A$15:$A$38,$A72,Покупка!$M$15:$M$38,$B72)","v":0},{"$f":"SUMIFS(Покупка!X$15:X$38,Покупка!$A$15:$A$38,$A72,Покупка!$M$15:$M$38,$B72)","v":0},{"$f":"SUMIFS(Покупка!Y$15:Y$38,Покупка!$A$15:$A$38,$A72,Покупка!$M$15:$M$38,$B72)","v":0},{"$f":"SUMIFS(Покупка!Z$15:Z$38,Покупка!$A$15:$A$38,$A72,Покупка!$M$15:$M$38,$B72)","v":0},{"$f":"SUMIFS(Покупка!AA$15:AA$38,Покупка!$A$15:$A$38,$A72,Покупка!$M$15:$M$38,$B72)","v":0},{"$f":"SUMIFS(Покупка!AB$15:AB$38,Покупка!$A$15:$A$38,$A72,Покупка!$M$15:$M$38,$B72)","v":0},{"$f":"SUMIFS(Покупка!AC$15:AC$38,Покупка!$A$15:$A$38,$A72,Покупка!$M$15:$M$38,$B72)","v":0},{"$f":"SUMIFS(Покупка!AD$15:AD$38,Покупка!$A$15:$A$38,$A72,Покупка!$M$15:$M$38,$B72)","v":0},{"$f":"SUMIFS(Покупка!AE$15:AE$38,Покупка!$A$15:$A$38,$A72,Покупка!$M$15:$M$38,$B72)","v":0},{"$f":"SUMIFS(Покупка!AF$15:AF$38,Покупка!$A$15:$A$38,$A72,Покупка!$M$15:$M$38,$B72)","v":0},{"$f":"SUMIFS(Покупка!AG$15:AG$38,Покупка!$A$15:$A$38,$A72,Покупка!$M$15:$M$38,$B72)","v":0},{"$f":"SUMIFS(Покупка!AH$15:AH$38,Покупка!$A$15:$A$38,$A72,Покупка!$M$15:$M$38,$B72)","v":0},{"$f":"SUMIFS(Покупка!AI$15:AI$38,Покупка!$A$15:$A$38,$A72,Покупка!$M$15:$M$38,$B72)","v":0},{"$f":"SUMIFS(Покупка!AJ$15:AJ$38,Покупка!$A$15:$A$38,$A72,Покупка!$M$15:$M$38,$B72)","v":0},{"$f":"SUMIFS(Покупка!AK$15:AK$38,Покупка!$A$15:$A$38,$A72,Покупка!$M$15:$M$38,$B72)","v":0},{"$f":"SUMIFS(Покупка!AL$15:AL$38,Покупка!$A$15:$A$38,$A72,Покупка!$M$15:$M$38,$B72)","v":0},0,0,0,0,0,0,0,0,0,0]
["1","Затраты на холодную воду",null,"L2_1_4",null,null,null,null,null,null,null,"2.1.4","расходы на покупку воды","тыс.руб.",{"$f":"SUMIFS(Покупка!O$15:O$38,Покупка!$A$15:$A$38,$A73,Покупка!$M$15:$M$38,$B73)","v":0},{"$f":"SUMIFS(Покупка!P$15:P$38,Покупка!$A$15:$A$38,$A73,Покупка!$M$15:$M$38,$B73)","v":303.02999999999997},{"$f":"SUMIFS(Покупка!Q$15:Q$38,Покупка!$A$15:$A$38,$A73,Покупка!$M$15:$M$38,$B73)","v":0},-303.02999999999997,{"$f":"SUMIFS(Покупка!R$15:R$38,Покупка!$A$15:$A$38,$A73,Покупка!$M$15:$M$38,$B73)","v":0},{"$f":"SUMIFS(Покупка!S$15:S$38,Покупка!$A$15:$A$38,$A73,Покупка!$M$15:$M$38,$B73)","v":394.05},{"$f":"SUMIFS(Покупка!T$15:T$38,Покупка!$A$15:$A$38,$A73,Покупка!$M$15:$M$38,$B73)","v":0},{"$f":"SUMIFS(Покупка!U$15:U$38,Покупка!$A$15:$A$38,$A73,Покупка!$M$15:$M$38,$B73)","v":0},{"$f":"SUMIFS(Покупка!V$15:V$38,Покупка!$A$15:$A$38,$A73,Покупка!$M$15:$M$38,$B73)","v":0},{"$f":"SUMIFS(Покупка!W$15:W$38,Покупка!$A$15:$A$38,$A73,Покупка!$M$15:$M$38,$B73)","v":0},{"$f":"SUMIFS(Покупка!X$15:X$38,Покупка!$A$15:$A$38,$A73,Покупка!$M$15:$M$38,$B73)","v":0},{"$f":"SUMIFS(Покупка!Y$15:Y$38,Покупка!$A$15:$A$38,$A73,Покупка!$M$15:$M$38,$B73)","v":0},{"$f":"SUMIFS(Покупка!Z$15:Z$38,Покупка!$A$15:$A$38,$A73,Покупка!$M$15:$M$38,$B73)","v":0},{"$f":"SUMIFS(Покупка!AA$15:AA$38,Покупка!$A$15:$A$38,$A73,Покупка!$M$15:$M$38,$B73)","v":0},{"$f":"SUMIFS(Покупка!AB$15:AB$38,Покупка!$A$15:$A$38,$A73,Покупка!$M$15:$M$38,$B73)","v":0},{"$f":"SUMIFS(Покупка!AC$15:AC$38,Покупка!$A$15:$A$38,$A73,Покупка!$M$15:$M$38,$B73)","v":0},{"$f":"SUMIFS(Покупка!AD$15:AD$38,Покупка!$A$15:$A$38,$A73,Покупка!$M$15:$M$38,$B73)","v":0},{"$f":"SUMIFS(Покупка!AE$15:AE$38,Покупка!$A$15:$A$38,$A73,Покупка!$M$15:$M$38,$B73)","v":0},{"$f":"SUMIFS(Покупка!AF$15:AF$38,Покупка!$A$15:$A$38,$A73,Покупка!$M$15:$M$38,$B73)","v":0},{"$f":"SUMIFS(Покупка!AG$15:AG$38,Покупка!$A$15:$A$38,$A73,Покупка!$M$15:$M$38,$B73)","v":0},{"$f":"SUMIFS(Покупка!AH$15:AH$38,Покупка!$A$15:$A$38,$A73,Покупка!$M$15:$M$38,$B73)","v":0},{"$f":"SUMIFS(Покупка!AI$15:AI$38,Покупка!$A$15:$A$38,$A73,Покупка!$M$15:$M$38,$B73)","v":0},{"$f":"SUMIFS(Покупка!AJ$15:AJ$38,Покупка!$A$15:$A$38,$A73,Покупка!$M$15:$M$38,$B73)","v":0},{"$f":"SUMIFS(Покупка!AK$15:AK$38,Покупка!$A$15:$A$38,$A73,Покупка!$M$15:$M$38,$B73)","v":0},{"$f":"SUMIFS(Покупка!AL$15:AL$38,Покупка!$A$15:$A$38,$A73,Покупка!$M$15:$M$38,$B73)","v":0},0,0,0,0,0,0,0,0,0,0,null,null,"Расходы по данной статье отклонены, так как стоимость услуг ООО \"Водоснабжение\" по поставке питьевой воды была учтена при расчете базового уровня Операционных расходов (на 2019 г.)."]
["1","Затраты на горячую воду",null,"L2_1_5",null,null,null,null,null,null,null,"2.1.5","услуги по горячему водоснабжению","тыс.руб.",{"$f":"SUMIFS(Покупка!O$15:O$38,Покупка!$A$15:$A$38,$A74,Покупка!$M$15:$M$38,$B74)","v":7.6744000000000003},{"$f":"SUMIFS(Покупка!P$15:P$38,Покупка!$A$15:$A$38,$A74,Покупка!$M$15:$M$38,$B74)","v":9.3104300000000002},{"$f":"SUMIFS(Покупка!Q$15:Q$38,Покупка!$A$15:$A$38,$A74,Покупка!$M$15:$M$38,$B74)","v":9.3104300000000002},0,{"$f":"SUMIFS(Покупка!R$15:R$38,Покупка!$A$15:$A$38,$A74,Покупка!$M$15:$M$38,$B74)","v":2.3987247358526989},{"$f":"SUMIFS(Покупка!S$15:S$38,Покупка!$A$15:$A$38,$A74,Покупка!$M$15:$M$38,$B74)","v":2.2999999999999998},{"$f":"SUMIFS(Покупка!T$15:T$38,Покупка!$A$15:$A$38,$A74,Покупка!$M$15:$M$38,$B74)","v":0},{"$f":"SUMIFS(Покупка!U$15:U$38,Покупка!$A$15:$A$38,$A74,Покупка!$M$15:$M$38,$B74)","v":0},{"$f":"SUMIFS(Покупка!V$15:V$38,Покупка!$A$15:$A$38,$A74,Покупка!$M$15:$M$38,$B74)","v":0},{"$f":"SUMIFS(Покупка!W$15:W$38,Покупка!$A$15:$A$38,$A74,Покупка!$M$15:$M$38,$B74)","v":0},{"$f":"SUMIFS(Покупка!X$15:X$38,Покупка!$A$15:$A$38,$A74,Покупка!$M$15:$M$38,$B74)","v":0},{"$f":"SUMIFS(Покупка!Y$15:Y$38,Покупка!$A$15:$A$38,$A74,Покупка!$M$15:$M$38,$B74)","v":0},{"$f":"SUMIFS(Покупка!Z$15:Z$38,Покупка!$A$15:$A$38,$A74,Покупка!$M$15:$M$38,$B74)","v":0},{"$f":"SUMIFS(Покупка!AA$15:AA$38,Покупка!$A$15:$A$38,$A74,Покупка!$M$15:$M$38,$B74)","v":0},{"$f":"SUMIFS(Покупка!AB$15:AB$38,Покупка!$A$15:$A$38,$A74,Покупка!$M$15:$M$38,$B74)","v":0},{"$f":"SUMIFS(Покупка!AC$15:AC$38,Покупка!$A$15:$A$38,$A74,Покупка!$M$15:$M$38,$B74)","v":9.1507199999999997},{"$f":"SUMIFS(Покупка!AD$15:AD$38,Покупка!$A$15:$A$38,$A74,Покупка!$M$15:$M$38,$B74)","v":0},{"$f":"SUMIFS(Покупка!AE$15:AE$38,Покупка!$A$15:$A$38,$A74,Покупка!$M$15:$M$38,$B74)","v":0},{"$f":"SUMIFS(Покупка!AF$15:AF$38,Покупка!$A$15:$A$38,$A74,Покупка!$M$15:$M$38,$B74)","v":0},{"$f":"SUMIFS(Покупка!AG$15:AG$38,Покупка!$A$15:$A$38,$A74,Покупка!$M$15:$M$38,$B74)","v":0},{"$f":"SUMIFS(Покупка!AH$15:AH$38,Покупка!$A$15:$A$38,$A74,Покупка!$M$15:$M$38,$B74)","v":0},{"$f":"SUMIFS(Покупка!AI$15:AI$38,Покупка!$A$15:$A$38,$A74,Покупка!$M$15:$M$38,$B74)","v":0},{"$f":"SUMIFS(Покупка!AJ$15:AJ$38,Покупка!$A$15:$A$38,$A74,Покупка!$M$15:$M$38,$B74)","v":0},{"$f":"SUMIFS(Покупка!AK$15:AK$38,Покупка!$A$15:$A$38,$A74,Покупка!$M$15:$M$38,$B74)","v":0},{"$f":"SUMIFS(Покупка!AL$15:AL$38,Покупка!$A$15:$A$38,$A74,Покупка!$M$15:$M$38,$B74)","v":0},281.48270467336891,-100,0,0,0,0,0,0,0,0,null,"П. 49(1), п. 21 Методических указаний ФСТ № 1746-э.","Учтена стоимость услуг ООО \"Теплоэнергетик\" (Единая теплоснабжающая организация, Беловский городской округ) по Договору теплоснабжения и поставки горячей воды  № 58 (см. Лист \"Покупка\")."]
["1",null,null,"L2_1_6",null,null,null,null,null,null,null,"2.1.6","услуги по приготовлению воды на нужды горячего водоснабжения","тыс.руб.",null,null,null,0,null,null,null,null,null,null,null,null,null,null,null,null,null,null,null,null,null,null,null,null,null,0,0,0,0,0,0,0,0,0,0]
["1",null,null,"L2_1_7",null,null,null,null,null,null,null,"2.1.7","услуги по транспортировке горячей воды","тыс.руб.",null,null,null,0,null,null,null,null,null,null,null,null,null,null,null,null,null,null,null,null,null,null,null,null,null,0,0,0,0,0,0,0,0,0,0]
["1","Затраты на водоотведение",null,"L2_1_8",null,null,null,null,null,null,null,"2.1.8","услуги по водоотведению","тыс.руб.",{"$f":"SUMIFS(Покупка!O$15:O$38,Покупка!$A$15:$A$38,$A77,Покупка!$M$15:$M$38,$B77)","v":0},{"$f":"SUMIFS(Покупка!P$15:P$38,Покупка!$A$15:$A$38,$A77,Покупка!$M$15:$M$38,$B77)","v":0},{"$f":"SUMIFS(Покупка!Q$15:Q$38,Покупка!$A$15:$A$38,$A77,Покупка!$M$15:$M$38,$B77)","v":0},0,{"$f":"SUMIFS(Покупка!R$15:R$38,Покупка!$A$15:$A$38,$A77,Покупка!$M$15:$M$38,$B77)","v":0},{"$f":"SUMIFS(Покупка!S$15:S$38,Покупка!$A$15:$A$38,$A77,Покупка!$M$15:$M$38,$B77)","v":0},{"$f":"SUMIFS(Покупка!T$15:T$38,Покупка!$A$15:$A$38,$A77,Покупка!$M$15:$M$38,$B77)","v":0},{"$f":"SUMIFS(Покупка!U$15:U$38,Покупка!$A$15:$A$38,$A77,Покупка!$M$15:$M$38,$B77)","v":0},{"$f":"SUMIFS(Покупка!V$15:V$38,Покупка!$A$15:$A$38,$A77,Покупка!$M$15:$M$38,$B77)","v":0},{"$f":"SUMIFS(Покупка!W$15:W$38,Покупка!$A$15:$A$38,$A77,Покупка!$M$15:$M$38,$B77)","v":0},{"$f":"SUMIFS(Покупка!X$15:X$38,Покупка!$A$15:$A$38,$A77,Покупка!$M$15:$M$38,$B77)","v":0},{"$f":"SUMIFS(Покупка!Y$15:Y$38,Покупка!$A$15:$A$38,$A77,Покупка!$M$15:$M$38,$B77)","v":0},{"$f":"SUMIFS(Покупка!Z$15:Z$38,Покупка!$A$15:$A$38,$A77,Покупка!$M$15:$M$38,$B77)","v":0},{"$f":"SUMIFS(Покупка!AA$15:AA$38,Покупка!$A$15:$A$38,$A77,Покупка!$M$15:$M$38,$B77)","v":0},{"$f":"SUMIFS(Покупка!AB$15:AB$38,Покупка!$A$15:$A$38,$A77,Покупка!$M$15:$M$38,$B77)","v":0},{"$f":"SUMIFS(Покупка!AC$15:AC$38,Покупка!$A$15:$A$38,$A77,Покупка!$M$15:$M$38,$B77)","v":0},{"$f":"SUMIFS(Покупка!AD$15:AD$38,Покупка!$A$15:$A$38,$A77,Покупка!$M$15:$M$38,$B77)","v":0},{"$f":"SUMIFS(Покупка!AE$15:AE$38,Покупка!$A$15:$A$38,$A77,Покупка!$M$15:$M$38,$B77)","v":0},{"$f":"SUMIFS(Покупка!AF$15:AF$38,Покупка!$A$15:$A$38,$A77,Покупка!$M$15:$M$38,$B77)","v":0},{"$f":"SUMIFS(Покупка!AG$15:AG$38,Покупка!$A$15:$A$38,$A77,Покупка!$M$15:$M$38,$B77)","v":0},{"$f":"SUMIFS(Покупка!AH$15:AH$38,Покупка!$A$15:$A$38,$A77,Покупка!$M$15:$M$38,$B77)","v":0},{"$f":"SUMIFS(Покупка!AI$15:AI$38,Покупка!$A$15:$A$38,$A77,Покупка!$M$15:$M$38,$B77)","v":0},{"$f":"SUMIFS(Покупка!AJ$15:AJ$38,Покупка!$A$15:$A$38,$A77,Покупка!$M$15:$M$38,$B77)","v":0},{"$f":"SUMIFS(Покупка!AK$15:AK$38,Покупка!$A$15:$A$38,$A77,Покупка!$M$15:$M$38,$B77)","v":0},{"$f":"SUMIFS(Покупка!AL$15:AL$38,Покупка!$A$15:$A$38,$A77,Покупка!$M$15:$M$38,$B77)","v":0},0,0,0,0,0,0,0,0,0,0]
["1","Затраты на транспортировку сточных вод",null,"L2_1_9",null,null,null,null,null,null,null,"2.1.9","услуги по транспортировке сточных вод","тыс.руб.",{"$f":"SUMIFS(Покупка!O$15:O$38,Покупка!$A$15:$A$38,$A78,Покупка!$M$15:$M$38,$B78)","v":0},{"$f":"SUMIFS(Покупка!P$15:P$38,Покупка!$A$15:$A$38,$A78,Покупка!$M$15:$M$38,$B78)","v":0},{"$f":"SUMIFS(Покупка!Q$15:Q$38,Покупка!$A$15:$A$38,$A78,Покупка!$M$15:$M$38,$B78)","v":0},0,{"$f":"SUMIFS(Покупка!R$15:R$38,Покупка!$A$15:$A$38,$A78,Покупка!$M$15:$M$38,$B78)","v":0},{"$f":"SUMIFS(Покупка!S$15:S$38,Покупка!$A$15:$A$38,$A78,Покупка!$M$15:$M$38,$B78)","v":0},{"$f":"SUMIFS(Покупка!T$15:T$38,Покупка!$A$15:$A$38,$A78,Покупка!$M$15:$M$38,$B78)","v":0},{"$f":"SUMIFS(Покупка!U$15:U$38,Покупка!$A$15:$A$38,$A78,Покупка!$M$15:$M$38,$B78)","v":0},{"$f":"SUMIFS(Покупка!V$15:V$38,Покупка!$A$15:$A$38,$A78,Покупка!$M$15:$M$38,$B78)","v":0},{"$f":"SUMIFS(Покупка!W$15:W$38,Покупка!$A$15:$A$38,$A78,Покупка!$M$15:$M$38,$B78)","v":0},{"$f":"SUMIFS(Покупка!X$15:X$38,Покупка!$A$15:$A$38,$A78,Покупка!$M$15:$M$38,$B78)","v":0},{"$f":"SUMIFS(Покупка!Y$15:Y$38,Покупка!$A$15:$A$38,$A78,Покупка!$M$15:$M$38,$B78)","v":0},{"$f":"SUMIFS(Покупка!Z$15:Z$38,Покупка!$A$15:$A$38,$A78,Покупка!$M$15:$M$38,$B78)","v":0},{"$f":"SUMIFS(Покупка!AA$15:AA$38,Покупка!$A$15:$A$38,$A78,Покупка!$M$15:$M$38,$B78)","v":0},{"$f":"SUMIFS(Покупка!AB$15:AB$38,Покупка!$A$15:$A$38,$A78,Покупка!$M$15:$M$38,$B78)","v":0},{"$f":"SUMIFS(Покупка!AC$15:AC$38,Покупка!$A$15:$A$38,$A78,Покупка!$M$15:$M$38,$B78)","v":0},{"$f":"SUMIFS(Покупка!AD$15:AD$38,Покупка!$A$15:$A$38,$A78,Покупка!$M$15:$M$38,$B78)","v":0},{"$f":"SUMIFS(Покупка!AE$15:AE$38,Покупка!$A$15:$A$38,$A78,Покупка!$M$15:$M$38,$B78)","v":0},{"$f":"SUMIFS(Покупка!AF$15:AF$38,Покупка!$A$15:$A$38,$A78,Покупка!$M$15:$M$38,$B78)","v":0},{"$f":"SUMIFS(Покупка!AG$15:AG$38,Покупка!$A$15:$A$38,$A78,Покупка!$M$15:$M$38,$B78)","v":0},{"$f":"SUMIFS(Покупка!AH$15:AH$38,Покупка!$A$15:$A$38,$A78,Покупка!$M$15:$M$38,$B78)","v":0},{"$f":"SUMIFS(Покупка!AI$15:AI$38,Покупка!$A$15:$A$38,$A78,Покупка!$M$15:$M$38,$B78)","v":0},{"$f":"SUMIFS(Покупка!AJ$15:AJ$38,Покупка!$A$15:$A$38,$A78,Покупка!$M$15:$M$38,$B78)","v":0},{"$f":"SUMIFS(Покупка!AK$15:AK$38,Покупка!$A$15:$A$38,$A78,Покупка!$M$15:$M$38,$B78)","v":0},{"$f":"SUMIFS(Покупка!AL$15:AL$38,Покупка!$A$15:$A$38,$A78,Покупка!$M$15:$M$38,$B78)","v":0},0,0,0,0,0,0,0,0,0,0]
["1","Затраты на очистку сточных вод",null,"L2_1_10",null,null,null,null,null,null,null,"2.1.10","услуги по очистке сточных вод","тыс.руб.",{"$f":"SUMIFS(Покупка!O$15:O$38,Покупка!$A$15:$A$38,$A79,Покупка!$M$15:$M$38,$B79)","v":0},{"$f":"SUMIFS(Покупка!P$15:P$38,Покупка!$A$15:$A$38,$A79,Покупка!$M$15:$M$38,$B79)","v":0},{"$f":"SUMIFS(Покупка!Q$15:Q$38,Покупка!$A$15:$A$38,$A79,Покупка!$M$15:$M$38,$B79)","v":0},{"$f":"Q79-P79","v":0},{"$f":"SUMIFS(Покупка!R$15:R$38,Покупка!$A$15:$A$38,$A79,Покупка!$M$15:$M$38,$B79)","v":0},{"$f":"SUMIFS(Покупка!S$15:S$38,Покупка!$A$15:$A$38,$A79,Покупка!$M$15:$M$38,$B79)","v":0},{"$f":"SUMIFS(Покупка!T$15:T$38,Покупка!$A$15:$A$38,$A79,Покупка!$M$15:$M$38,$B79)","v":0},{"$f":"SUMIFS(Покупка!U$15:U$38,Покупка!$A$15:$A$38,$A79,Покупка!$M$15:$M$38,$B79)","v":0},{"$f":"SUMIFS(Покупка!V$15:V$38,Покупка!$A$15:$A$38,$A79,Покупка!$M$15:$M$38,$B79)","v":0},{"$f":"SUMIFS(Покупка!W$15:W$38,Покупка!$A$15:$A$38,$A79,Покупка!$M$15:$M$38,$B79)","v":0},{"$f":"SUMIFS(Покупка!X$15:X$38,Покупка!$A$15:$A$38,$A79,Покупка!$M$15:$M$38,$B79)","v":0},{"$f":"SUMIFS(Покупка!Y$15:Y$38,Покупка!$A$15:$A$38,$A79,Покупка!$M$15:$M$38,$B79)","v":0},{"$f":"SUMIFS(Покупка!Z$15:Z$38,Покупка!$A$15:$A$38,$A79,Покупка!$M$15:$M$38,$B79)","v":0},{"$f":"SUMIFS(Покупка!AA$15:AA$38,Покупка!$A$15:$A$38,$A79,Покупка!$M$15:$M$38,$B79)","v":0},{"$f":"SUMIFS(Покупка!AB$15:AB$38,Покупка!$A$15:$A$38,$A79,Покупка!$M$15:$M$38,$B79)","v":0},{"$f":"SUMIFS(Покупка!AC$15:AC$38,Покупка!$A$15:$A$38,$A79,Покупка!$M$15:$M$38,$B79)","v":0},{"$f":"SUMIFS(Покупка!AD$15:AD$38,Покупка!$A$15:$A$38,$A79,Покупка!$M$15:$M$38,$B79)","v":0},{"$f":"SUMIFS(Покупка!AE$15:AE$38,Покупка!$A$15:$A$38,$A79,Покупка!$M$15:$M$38,$B79)","v":0},{"$f":"SUMIFS(Покупка!AF$15:AF$38,Покупка!$A$15:$A$38,$A79,Покупка!$M$15:$M$38,$B79)","v":0},{"$f":"SUMIFS(Покупка!AG$15:AG$38,Покупка!$A$15:$A$38,$A79,Покупка!$M$15:$M$38,$B79)","v":0},{"$f":"SUMIFS(Покупка!AH$15:AH$38,Покупка!$A$15:$A$38,$A79,Покупка!$M$15:$M$38,$B79)","v":0},{"$f":"SUMIFS(Покупка!AI$15:AI$38,Покупка!$A$15:$A$38,$A79,Покупка!$M$15:$M$38,$B79)","v":0},{"$f":"SUMIFS(Покупка!AJ$15:AJ$38,Покупка!$A$15:$A$38,$A79,Покупка!$M$15:$M$38,$B79)","v":0},{"$f":"SUMIFS(Покупка!AK$15:AK$38,Покупка!$A$15:$A$38,$A79,Покупка!$M$15:$M$38,$B79)","v":0},{"$f":"SUMIFS(Покупка!AL$15:AL$38,Покупка!$A$15:$A$38,$A79,Покупка!$M$15:$M$38,$B79)","v":0},{"$f":"IF(S79=0,0,(AD79-S79)/S79*100)","v":0},0,0,0,0,0,0,0,0,0]
["1",null,null,"L2_2",null,null,null,null,null,null,null,"2.2","Расходы на реагенты","тыс.руб.",{"$f":"SUMIFS(Реагенты!O$15:O$22,Реагенты!$A$15:$A$22,$A80,Реагенты!$M$15:$M$22,\"Всего по тарифу\")","v":0},{"$f":"SUMIFS(Реагенты!P$15:P$22,Реагенты!$A$15:$A$22,$A80,Реагенты!$M$15:$M$22,\"Всего по тарифу\")","v":27.783000000000001},{"$f":"SUMIFS(Реагенты!Q$15:Q$22,Реагенты!$A$15:$A$22,$A80,Реагенты!$M$15:$M$22,\"Всего по тарифу\")","v":0},{"$f":"Q80-P80","v":-27.783000000000001},{"$f":"SUMIFS(Реагенты!R$15:R$22,Реагенты!$A$15:$A$22,$A80,Реагенты!$M$15:$M$22,\"Всего по тарифу\")","v":0},{"$f":"SUMIFS(Реагенты!S$15:S$22,Реагенты!$A$15:$A$22,$A80,Реагенты!$M$15:$M$22,\"Всего по тарифу\")","v":194.74},{"$f":"SUMIFS(Реагенты!T$15:T$22,Реагенты!$A$15:$A$22,$A80,Реагенты!$M$15:$M$22,\"Всего по тарифу\")","v":0},{"$f":"SUMIFS(Реагенты!U$15:U$22,Реагенты!$A$15:$A$22,$A80,Реагенты!$M$15:$M$22,\"Всего по тарифу\")","v":0},{"$f":"SUMIFS(Реагенты!V$15:V$22,Реагенты!$A$15:$A$22,$A80,Реагенты!$M$15:$M$22,\"Всего по тарифу\")","v":0},{"$f":"SUMIFS(Реагенты!W$15:W$22,Реагенты!$A$15:$A$22,$A80,Реагенты!$M$15:$M$22,\"Всего по тарифу\")","v":0},{"$f":"SUMIFS(Реагенты!X$15:X$22,Реагенты!$A$15:$A$22,$A80,Реагенты!$M$15:$M$22,\"Всего по тарифу\")","v":0},{"$f":"SUMIFS(Реагенты!Y$15:Y$22,Реагенты!$A$15:$A$22,$A80,Реагенты!$M$15:$M$22,\"Всего по тарифу\")","v":0},{"$f":"SUMIFS(Реагенты!Z$15:Z$22,Реагенты!$A$15:$A$22,$A80,Реагенты!$M$15:$M$22,\"Всего по тарифу\")","v":0},{"$f":"SUMIFS(Реагенты!AA$15:AA$22,Реагенты!$A$15:$A$22,$A80,Реагенты!$M$15:$M$22,\"Всего по тарифу\")","v":0},{"$f":"SUMIFS(Реагенты!AB$15:AB$22,Реагенты!$A$15:$A$22,$A80,Реагенты!$M$15:$M$22,\"Всего по тарифу\")","v":0},{"$f":"SUMIFS(Реагенты!AC$15:AC$22,Реагенты!$A$15:$A$22,$A80,Реагенты!$M$15:$M$22,\"Всего по тарифу\")","v":0},{"$f":"SUMIFS(Реагенты!AD$15:AD$22,Реагенты!$A$15:$A$22,$A80,Реагенты!$M$15:$M$22,\"Всего по тарифу\")","v":0},{"$f":"SUMIFS(Реагенты!AE$15:AE$22,Реагенты!$A$15:$A$22,$A80,Реагенты!$M$15:$M$22,\"Всего по тарифу\")","v":0},{"$f":"SUMIFS(Реагенты!AF$15:AF$22,Реагенты!$A$15:$A$22,$A80,Реагенты!$M$15:$M$22,\"Всего по тарифу\")","v":0},{"$f":"SUMIFS(Реагенты!AG$15:AG$22,Реагенты!$A$15:$A$22,$A80,Реагенты!$M$15:$M$22,\"Всего по тарифу\")","v":0},{"$f":"SUMIFS(Реагенты!AH$15:AH$22,Реагенты!$A$15:$A$22,$A80,Реагенты!$M$15:$M$22,\"Всего по тарифу\")","v":0},{"$f":"SUMIFS(Реагенты!AI$15:AI$22,Реагенты!$A$15:$A$22,$A80,Реагенты!$M$15:$M$22,\"Всего по тарифу\")","v":0},{"$f":"SUMIFS(Реагенты!AJ$15:AJ$22,Реагенты!$A$15:$A$22,$A80,Реагенты!$M$15:$M$22,\"Всего по тарифу\")","v":0},{"$f":"SUMIFS(Реагенты!AK$15:AK$22,Реагенты!$A$15:$A$22,$A80,Реагенты!$M$15:$M$22,\"Всего по тарифу\")","v":0},{"$f":"SUMIFS(Реагенты!AL$15:AL$22,Реагенты!$A$15:$A$22,$A80,Реагенты!$M$15:$M$22,\"Всего по тарифу\")","v":0},0,0,0,0,0,0,0,0,0,0,null,"Постановление региональной энергетической комиссии Кемеровской области от 19.12.2018 № 759  \"Об установлении долгосрочных параметров  регулирования тарифов в сфере водоотведения  ООО «Беловские Городские Очистные сооружения» (Беловский городской округ)\" (в редакции Постановлений Региональной энергетической комиссии от 24.11.2020 N 427, от 11.02.2021 N 60).","В соответствии с редакцией \"Методических указаний\" ФСТ России (приказ № 1746-э от 27.12.2013), действовавшей на момент утверждения долгосрочных параметров регулирования тарифов на водоотведение для ООО \"БелГОС\",   расходы на РЕАГЕНТЫ были учтены в составе Базового уровня ОПЕРАЦИОННЫХ РАСХОДОВ."]
["1",null,null,"L2_3",null,null,null,null,null,null,null,"2.3","Налоги и сборы","тыс.руб.",{"$f":"SUM(O82:O90)","v":1275.1752164599998},{"$f":"SUM(P82:P90)","v":1974.45},1433.2139999999997,{"$f":"Q81-P81","v":-541.23600000000033},1148.0340000000001,3164.4599999999996,0,0,0,0,0,0,0,0,0,979.9799999999999,0,0,0,0,0,0,0,0,0,-14.638416632260038,-100,0,0,0,0,0,0,0,0,null,"1) П. 49 (2) Методических указаний  ФСТ № 1746-э.  2)  \"Налоговый кодекс Российской Федерации (часть вторая)\" от 05.08.2000 N 117-ФЗ (ред. от 04.08.2023)."]
["1","Налог на прибыль",null,"L2_3_1",null,null,null,null,null,null,null,"2.3.1","налог на прибыль","тыс.руб.",{"$f":"SUMIFS(Налоги!O$15:O$30,Налоги!$A$15:$A$30,$A82,Налоги!$M$15:$M$30,$B82)","v":0},{"$f":"SUMIFS(Налоги!P$15:P$30,Налоги!$A$15:$A$30,$A82,Налоги!$M$15:$M$30,$B82)","v":702.48},{"$f":"SUMIFS(Налоги!Q$15:Q$30,Налоги!$A$15:$A$30,$A82,Налоги!$M$15:$M$30,$B82)","v":161.24399999999966},-541.23600000000033,{"$f":"SUMIFS(Налоги!R$15:R$30,Налоги!$A$15:$A$30,$A82,Налоги!$M$15:$M$30,$B82)","v":0},{"$f":"SUMIFS(Налоги!S$15:S$30,Налоги!$A$15:$A$30,$A82,Налоги!$M$15:$M$30,$B82)","v":1747.35},{"$f":"SUMIFS(Налоги!T$15:T$30,Налоги!$A$15:$A$30,$A82,Налоги!$M$15:$M$30,$B82)","v":0},{"$f":"SUMIFS(Налоги!U$15:U$30,Налоги!$A$15:$A$30,$A82,Налоги!$M$15:$M$30,$B82)","v":0},{"$f":"SUMIFS(Налоги!V$15:V$30,Налоги!$A$15:$A$30,$A82,Налоги!$M$15:$M$30,$B82)","v":0},{"$f":"SUMIFS(Налоги!W$15:W$30,Налоги!$A$15:$A$30,$A82,Налоги!$M$15:$M$30,$B82)","v":0},{"$f":"SUMIFS(Налоги!X$15:X$30,Налоги!$A$15:$A$30,$A82,Налоги!$M$15:$M$30,$B82)","v":0},{"$f":"SUMIFS(Налоги!Y$15:Y$30,Налоги!$A$15:$A$30,$A82,Налоги!$M$15:$M$30,$B82)","v":0},{"$f":"SUMIFS(Налоги!Z$15:Z$30,Налоги!$A$15:$A$30,$A82,Налоги!$M$15:$M$30,$B82)","v":0},{"$f":"SUMIFS(Налоги!AA$15:AA$30,Налоги!$A$15:$A$30,$A82,Налоги!$M$15:$M$30,$B82)","v":0},{"$f":"SUMIFS(Налоги!AB$15:AB$30,Налоги!$A$15:$A$30,$A82,Налоги!$M$15:$M$30,$B82)","v":0},{"$f":"SUMIFS(Налоги!AC$15:AC$30,Налоги!$A$15:$A$30,$A82,Налоги!$M$15:$M$30,$B82)","v":0},{"$f":"SUMIFS(Налоги!AD$15:AD$30,Налоги!$A$15:$A$30,$A82,Налоги!$M$15:$M$30,$B82)","v":0},{"$f":"SUMIFS(Налоги!AE$15:AE$30,Налоги!$A$15:$A$30,$A82,Налоги!$M$15:$M$30,$B82)","v":0},{"$f":"SUMIFS(Налоги!AF$15:AF$30,Налоги!$A$15:$A$30,$A82,Налоги!$M$15:$M$30,$B82)","v":0},{"$f":"SUMIFS(Налоги!AG$15:AG$30,Налоги!$A$15:$A$30,$A82,Налоги!$M$15:$M$30,$B82)","v":0},{"$f":"SUMIFS(Налоги!AH$15:AH$30,Налоги!$A$15:$A$30,$A82,Налоги!$M$15:$M$30,$B82)","v":0},{"$f":"SUMIFS(Налоги!AI$15:AI$30,Налоги!$A$15:$A$30,$A82,Налоги!$M$15:$M$30,$B82)","v":0},{"$f":"SUMIFS(Налоги!AJ$15:AJ$30,Налоги!$A$15:$A$30,$A82,Налоги!$M$15:$M$30,$B82)","v":0},{"$f":"SUMIFS(Налоги!AK$15:AK$30,Налоги!$A$15:$A$30,$A82,Налоги!$M$15:$M$30,$B82)","v":0},{"$f":"SUMIFS(Налоги!AL$15:AL$30,Налоги!$A$15:$A$30,$A82,Налоги!$M$15:$M$30,$B82)","v":0},0,0,0,0,0,0,0,0,0,0,null,"1) Пункт 86 Методических указаний ФСТ РФ № 1746-э; 2) Пункты 21 -29 Статьи 270 Главы 25. \"НАЛОГ НА ПРИБЫЛЬ ОРГАНИЗАЦИЙ\"  \"Налогового кодекса РФ (Часть вторая)\"; 3) Постановление региональной энергетической комиссии Кемеровской области от 19.12.2018 № 759, в редакции Постановлений Региональной энергетической комиссии  от 24.11.2020 N 427, от 11.02.2021 N 60.","НАЛОГООБЛАГАЕМАЯ БАЗА по налогу на прибыль в каждом году долгосрочного периода РАВНА НУЛЮ, в связи с чем  плановые суммы налога на прибыль на 2024-2028 гг. определены в размере 0,00 тыс. руб. (см. Лист \"Налоги\")."]
[{"$f":"A82","v":"1"},"Налог на имущество",null,"L2_3_2",null,null,null,null,null,null,null,"2.3.2","налог на имущество организаций","тыс.руб.",{"$f":"SUMIFS(Налоги!O$15:O$30,Налоги!$A$15:$A$30,$A83,Налоги!$M$15:$M$30,$B83)","v":1217.0999999999999},{"$f":"SUMIFS(Налоги!P$15:P$30,Налоги!$A$15:$A$30,$A83,Налоги!$M$15:$M$30,$B83)","v":1217.77},{"$f":"SUMIFS(Налоги!Q$15:Q$30,Налоги!$A$15:$A$30,$A83,Налоги!$M$15:$M$30,$B83)","v":1217.77},0,{"$f":"SUMIFS(Налоги!R$15:R$30,Налоги!$A$15:$A$30,$A83,Налоги!$M$15:$M$30,$B83)","v":1091.624},{"$f":"SUMIFS(Налоги!S$15:S$30,Налоги!$A$15:$A$30,$A83,Налоги!$M$15:$M$30,$B83)","v":998.26},{"$f":"SUMIFS(Налоги!T$15:T$30,Налоги!$A$15:$A$30,$A83,Налоги!$M$15:$M$30,$B83)","v":0},{"$f":"SUMIFS(Налоги!U$15:U$30,Налоги!$A$15:$A$30,$A83,Налоги!$M$15:$M$30,$B83)","v":0},{"$f":"SUMIFS(Налоги!V$15:V$30,Налоги!$A$15:$A$30,$A83,Налоги!$M$15:$M$30,$B83)","v":0},{"$f":"SUMIFS(Налоги!W$15:W$30,Налоги!$A$15:$A$30,$A83,Налоги!$M$15:$M$30,$B83)","v":0},{"$f":"SUMIFS(Налоги!X$15:X$30,Налоги!$A$15:$A$30,$A83,Налоги!$M$15:$M$30,$B83)","v":0},{"$f":"SUMIFS(Налоги!Y$15:Y$30,Налоги!$A$15:$A$30,$A83,Налоги!$M$15:$M$30,$B83)","v":0},{"$f":"SUMIFS(Налоги!Z$15:Z$30,Налоги!$A$15:$A$30,$A83,Налоги!$M$15:$M$30,$B83)","v":0},{"$f":"SUMIFS(Налоги!AA$15:AA$30,Налоги!$A$15:$A$30,$A83,Налоги!$M$15:$M$30,$B83)","v":0},{"$f":"SUMIFS(Налоги!AB$15:AB$30,Налоги!$A$15:$A$30,$A83,Налоги!$M$15:$M$30,$B83)","v":0},{"$f":"SUMIFS(Налоги!AC$15:AC$30,Налоги!$A$15:$A$30,$A83,Налоги!$M$15:$M$30,$B83)","v":925.78},{"$f":"SUMIFS(Налоги!AD$15:AD$30,Налоги!$A$15:$A$30,$A83,Налоги!$M$15:$M$30,$B83)","v":0},{"$f":"SUMIFS(Налоги!AE$15:AE$30,Налоги!$A$15:$A$30,$A83,Налоги!$M$15:$M$30,$B83)","v":0},{"$f":"SUMIFS(Налоги!AF$15:AF$30,Налоги!$A$15:$A$30,$A83,Налоги!$M$15:$M$30,$B83)","v":0},{"$f":"SUMIFS(Налоги!AG$15:AG$30,Налоги!$A$15:$A$30,$A83,Налоги!$M$15:$M$30,$B83)","v":0},{"$f":"SUMIFS(Налоги!AH$15:AH$30,Налоги!$A$15:$A$30,$A83,Налоги!$M$15:$M$30,$B83)","v":0},{"$f":"SUMIFS(Налоги!AI$15:AI$30,Налоги!$A$15:$A$30,$A83,Налоги!$M$15:$M$30,$B83)","v":0},{"$f":"SUMIFS(Налоги!AJ$15:AJ$30,Налоги!$A$15:$A$30,$A83,Налоги!$M$15:$M$30,$B83)","v":0},{"$f":"SUMIFS(Налоги!AK$15:AK$30,Налоги!$A$15:$A$30,$A83,Налоги!$M$15:$M$30,$B83)","v":0},{"$f":"SUMIFS(Налоги!AL$15:AL$30,Налоги!$A$15:$A$30,$A83,Налоги!$M$15:$M$30,$B83)","v":0},-15.192410573604104,-100,0,0,0,0,0,0,0,0,null,"1) Глава 30 \"НАЛОГ НА ИМУЩЕСТВО ОРГАНИЗАЦИЙ\" Налогового кодекса РФ (Часть вторая);  2) Закон Кемеровской области - Кузбасса от 26.11.2003 N 60-ОЗ (ред. от 04.09.2023) \"О налоге на имущество организаций\".","См. Лист \"Налоги\"."]
["1","Земельный налог",null,"L2_3_3",null,null,null,null,null,null,null,"2.3.3","земельный налог и арендная плата за землю","тыс.руб.",{"$f":"SUMIFS(Налоги!O$15:O$30,Налоги!$A$15:$A$30,$A84,Налоги!$M$15:$M$30,$B84)","v":0},{"$f":"SUMIFS(Налоги!P$15:P$30,Налоги!$A$15:$A$30,$A84,Налоги!$M$15:$M$30,$B84)","v":0},{"$f":"SUMIFS(Налоги!Q$15:Q$30,Налоги!$A$15:$A$30,$A84,Налоги!$M$15:$M$30,$B84)","v":0},0,{"$f":"SUMIFS(Налоги!R$15:R$30,Налоги!$A$15:$A$30,$A84,Налоги!$M$15:$M$30,$B84)","v":0},{"$f":"SUMIFS(Налоги!S$15:S$30,Налоги!$A$15:$A$30,$A84,Налоги!$M$15:$M$30,$B84)","v":18.29},{"$f":"SUMIFS(Налоги!T$15:T$30,Налоги!$A$15:$A$30,$A84,Налоги!$M$15:$M$30,$B84)","v":0},{"$f":"SUMIFS(Налоги!U$15:U$30,Налоги!$A$15:$A$30,$A84,Налоги!$M$15:$M$30,$B84)","v":0},{"$f":"SUMIFS(Налоги!V$15:V$30,Налоги!$A$15:$A$30,$A84,Налоги!$M$15:$M$30,$B84)","v":0},{"$f":"SUMIFS(Налоги!W$15:W$30,Налоги!$A$15:$A$30,$A84,Налоги!$M$15:$M$30,$B84)","v":0},{"$f":"SUMIFS(Налоги!X$15:X$30,Налоги!$A$15:$A$30,$A84,Налоги!$M$15:$M$30,$B84)","v":0},{"$f":"SUMIFS(Налоги!Y$15:Y$30,Налоги!$A$15:$A$30,$A84,Налоги!$M$15:$M$30,$B84)","v":0},{"$f":"SUMIFS(Налоги!Z$15:Z$30,Налоги!$A$15:$A$30,$A84,Налоги!$M$15:$M$30,$B84)","v":0},{"$f":"SUMIFS(Налоги!AA$15:AA$30,Налоги!$A$15:$A$30,$A84,Налоги!$M$15:$M$30,$B84)","v":0},{"$f":"SUMIFS(Налоги!AB$15:AB$30,Налоги!$A$15:$A$30,$A84,Налоги!$M$15:$M$30,$B84)","v":0},{"$f":"SUMIFS(Налоги!AC$15:AC$30,Налоги!$A$15:$A$30,$A84,Налоги!$M$15:$M$30,$B84)","v":0},{"$f":"SUMIFS(Налоги!AD$15:AD$30,Налоги!$A$15:$A$30,$A84,Налоги!$M$15:$M$30,$B84)","v":0},{"$f":"SUMIFS(Налоги!AE$15:AE$30,Налоги!$A$15:$A$30,$A84,Налоги!$M$15:$M$30,$B84)","v":0},{"$f":"SUMIFS(Налоги!AF$15:AF$30,Налоги!$A$15:$A$30,$A84,Налоги!$M$15:$M$30,$B84)","v":0},{"$f":"SUMIFS(Налоги!AG$15:AG$30,Налоги!$A$15:$A$30,$A84,Налоги!$M$15:$M$30,$B84)","v":0},{"$f":"SUMIFS(Налоги!AH$15:AH$30,Налоги!$A$15:$A$30,$A84,Налоги!$M$15:$M$30,$B84)","v":0},{"$f":"SUMIFS(Налоги!AI$15:AI$30,Налоги!$A$15:$A$30,$A84,Налоги!$M$15:$M$30,$B84)","v":0},{"$f":"SUMIFS(Налоги!AJ$15:AJ$30,Налоги!$A$15:$A$30,$A84,Налоги!$M$15:$M$30,$B84)","v":0},{"$f":"SUMIFS(Налоги!AK$15:AK$30,Налоги!$A$15:$A$30,$A84,Налоги!$M$15:$M$30,$B84)","v":0},{"$f":"SUMIFS(Налоги!AL$15:AL$30,Налоги!$A$15:$A$30,$A84,Налоги!$M$15:$M$30,$B84)","v":0},0,{"$f":"IF(AD84=0,0,(AE84-AD84)/AD84*100)","v":0},0,0,0,0,0,0,0,0]
["1","Водный налог",null,"L2_3_4",null,null,null,null,null,null,null,"2.3.4","водный налог","тыс.руб.",{"$f":"SUMIFS(Налоги!O$15:O$30,Налоги!$A$15:$A$30,$A85,Налоги!$M$15:$M$30,$B85)","v":0},{"$f":"SUMIFS(Налоги!P$15:P$30,Налоги!$A$15:$A$30,$A85,Налоги!$M$15:$M$30,$B85)","v":0},{"$f":"SUMIFS(Налоги!Q$15:Q$30,Налоги!$A$15:$A$30,$A85,Налоги!$M$15:$M$30,$B85)","v":0},0,{"$f":"SUMIFS(Налоги!R$15:R$30,Налоги!$A$15:$A$30,$A85,Налоги!$M$15:$M$30,$B85)","v":0},{"$f":"SUMIFS(Налоги!S$15:S$30,Налоги!$A$15:$A$30,$A85,Налоги!$M$15:$M$30,$B85)","v":0},{"$f":"SUMIFS(Налоги!T$15:T$30,Налоги!$A$15:$A$30,$A85,Налоги!$M$15:$M$30,$B85)","v":0},{"$f":"SUMIFS(Налоги!U$15:U$30,Налоги!$A$15:$A$30,$A85,Налоги!$M$15:$M$30,$B85)","v":0},{"$f":"SUMIFS(Налоги!V$15:V$30,Налоги!$A$15:$A$30,$A85,Налоги!$M$15:$M$30,$B85)","v":0},{"$f":"SUMIFS(Налоги!W$15:W$30,Налоги!$A$15:$A$30,$A85,Налоги!$M$15:$M$30,$B85)","v":0},{"$f":"SUMIFS(Налоги!X$15:X$30,Налоги!$A$15:$A$30,$A85,Налоги!$M$15:$M$30,$B85)","v":0},{"$f":"SUMIFS(Налоги!Y$15:Y$30,Налоги!$A$15:$A$30,$A85,Налоги!$M$15:$M$30,$B85)","v":0},{"$f":"SUMIFS(Налоги!Z$15:Z$30,Налоги!$A$15:$A$30,$A85,Налоги!$M$15:$M$30,$B85)","v":0},{"$f":"SUMIFS(Налоги!AA$15:AA$30,Налоги!$A$15:$A$30,$A85,Налоги!$M$15:$M$30,$B85)","v":0},{"$f":"SUMIFS(Налоги!AB$15:AB$30,Налоги!$A$15:$A$30,$A85,Налоги!$M$15:$M$30,$B85)","v":0},{"$f":"SUMIFS(Налоги!AC$15:AC$30,Налоги!$A$15:$A$30,$A85,Налоги!$M$15:$M$30,$B85)","v":0},{"$f":"SUMIFS(Налоги!AD$15:AD$30,Налоги!$A$15:$A$30,$A85,Налоги!$M$15:$M$30,$B85)","v":0},{"$f":"SUMIFS(Налоги!AE$15:AE$30,Налоги!$A$15:$A$30,$A85,Налоги!$M$15:$M$30,$B85)","v":0},{"$f":"SUMIFS(Налоги!AF$15:AF$30,Налоги!$A$15:$A$30,$A85,Налоги!$M$15:$M$30,$B85)","v":0},{"$f":"SUMIFS(Налоги!AG$15:AG$30,Налоги!$A$15:$A$30,$A85,Налоги!$M$15:$M$30,$B85)","v":0},{"$f":"SUMIFS(Налоги!AH$15:AH$30,Налоги!$A$15:$A$30,$A85,Налоги!$M$15:$M$30,$B85)","v":0},{"$f":"SUMIFS(Налоги!AI$15:AI$30,Налоги!$A$15:$A$30,$A85,Налоги!$M$15:$M$30,$B85)","v":0},{"$f":"SUMIFS(Налоги!AJ$15:AJ$30,Налоги!$A$15:$A$30,$A85,Налоги!$M$15:$M$30,$B85)","v":0},{"$f":"SUMIFS(Налоги!AK$15:AK$30,Налоги!$A$15:$A$30,$A85,Налоги!$M$15:$M$30,$B85)","v":0},{"$f":"SUMIFS(Налоги!AL$15:AL$30,Налоги!$A$15:$A$30,$A85,Налоги!$M$15:$M$30,$B85)","v":0},0,0,0,0,0,0,0,0,0,0]
["1","Плата за пользование водным объектом",null,"L2_3_5",null,null,null,null,null,null,null,"2.3.5","плата за пользование водным объектом","тыс.руб.",{"$f":"SUMIFS(Налоги!O$15:O$30,Налоги!$A$15:$A$30,$A86,Налоги!$M$15:$M$30,$B86)","v":0},{"$f":"SUMIFS(Налоги!P$15:P$30,Налоги!$A$15:$A$30,$A86,Налоги!$M$15:$M$30,$B86)","v":0},{"$f":"SUMIFS(Налоги!Q$15:Q$30,Налоги!$A$15:$A$30,$A86,Налоги!$M$15:$M$30,$B86)","v":0},0,{"$f":"SUMIFS(Налоги!R$15:R$30,Налоги!$A$15:$A$30,$A86,Налоги!$M$15:$M$30,$B86)","v":0},{"$f":"SUMIFS(Налоги!S$15:S$30,Налоги!$A$15:$A$30,$A86,Налоги!$M$15:$M$30,$B86)","v":0},{"$f":"SUMIFS(Налоги!T$15:T$30,Налоги!$A$15:$A$30,$A86,Налоги!$M$15:$M$30,$B86)","v":0},{"$f":"SUMIFS(Налоги!U$15:U$30,Налоги!$A$15:$A$30,$A86,Налоги!$M$15:$M$30,$B86)","v":0},{"$f":"SUMIFS(Налоги!V$15:V$30,Налоги!$A$15:$A$30,$A86,Налоги!$M$15:$M$30,$B86)","v":0},{"$f":"SUMIFS(Налоги!W$15:W$30,Налоги!$A$15:$A$30,$A86,Налоги!$M$15:$M$30,$B86)","v":0},{"$f":"SUMIFS(Налоги!X$15:X$30,Налоги!$A$15:$A$30,$A86,Налоги!$M$15:$M$30,$B86)","v":0},{"$f":"SUMIFS(Налоги!Y$15:Y$30,Налоги!$A$15:$A$30,$A86,Налоги!$M$15:$M$30,$B86)","v":0},{"$f":"SUMIFS(Налоги!Z$15:Z$30,Налоги!$A$15:$A$30,$A86,Налоги!$M$15:$M$30,$B86)","v":0},{"$f":"SUMIFS(Налоги!AA$15:AA$30,Налоги!$A$15:$A$30,$A86,Налоги!$M$15:$M$30,$B86)","v":0},{"$f":"SUMIFS(Налоги!AB$15:AB$30,Налоги!$A$15:$A$30,$A86,Налоги!$M$15:$M$30,$B86)","v":0},{"$f":"SUMIFS(Налоги!AC$15:AC$30,Налоги!$A$15:$A$30,$A86,Налоги!$M$15:$M$30,$B86)","v":0},{"$f":"SUMIFS(Налоги!AD$15:AD$30,Налоги!$A$15:$A$30,$A86,Налоги!$M$15:$M$30,$B86)","v":0},{"$f":"SUMIFS(Налоги!AE$15:AE$30,Налоги!$A$15:$A$30,$A86,Налоги!$M$15:$M$30,$B86)","v":0},{"$f":"SUMIFS(Налоги!AF$15:AF$30,Налоги!$A$15:$A$30,$A86,Налоги!$M$15:$M$30,$B86)","v":0},{"$f":"SUMIFS(Налоги!AG$15:AG$30,Налоги!$A$15:$A$30,$A86,Налоги!$M$15:$M$30,$B86)","v":0},{"$f":"SUMIFS(Налоги!AH$15:AH$30,Налоги!$A$15:$A$30,$A86,Налоги!$M$15:$M$30,$B86)","v":0},{"$f":"SUMIFS(Налоги!AI$15:AI$30,Налоги!$A$15:$A$30,$A86,Налоги!$M$15:$M$30,$B86)","v":0},{"$f":"SUMIFS(Налоги!AJ$15:AJ$30,Налоги!$A$15:$A$30,$A86,Налоги!$M$15:$M$30,$B86)","v":0},{"$f":"SUMIFS(Налоги!AK$15:AK$30,Налоги!$A$15:$A$30,$A86,Налоги!$M$15:$M$30,$B86)","v":0},{"$f":"SUMIFS(Налоги!AL$15:AL$30,Налоги!$A$15:$A$30,$A86,Налоги!$M$15:$M$30,$B86)","v":0},0,0,0,0,0,0,0,0,0,0]
["1","Транспортный налог",null,"L2_3_6",null,null,null,null,null,null,null,"2.3.6","транспортный налог","тыс.руб.",{"$f":"SUMIFS(Налоги!O$15:O$30,Налоги!$A$15:$A$30,$A87,Налоги!$M$15:$M$30,$B87)","v":13.923999999999999},{"$f":"SUMIFS(Налоги!P$15:P$30,Налоги!$A$15:$A$30,$A87,Налоги!$M$15:$M$30,$B87)","v":13.92},{"$f":"SUMIFS(Налоги!Q$15:Q$30,Налоги!$A$15:$A$30,$A87,Налоги!$M$15:$M$30,$B87)","v":13.92},0,{"$f":"SUMIFS(Налоги!R$15:R$30,Налоги!$A$15:$A$30,$A87,Налоги!$M$15:$M$30,$B87)","v":13.92},{"$f":"SUMIFS(Налоги!S$15:S$30,Налоги!$A$15:$A$30,$A87,Налоги!$M$15:$M$30,$B87)","v":13.92},{"$f":"SUMIFS(Налоги!T$15:T$30,Налоги!$A$15:$A$30,$A87,Налоги!$M$15:$M$30,$B87)","v":0},{"$f":"SUMIFS(Налоги!U$15:U$30,Налоги!$A$15:$A$30,$A87,Налоги!$M$15:$M$30,$B87)","v":0},{"$f":"SUMIFS(Налоги!V$15:V$30,Налоги!$A$15:$A$30,$A87,Налоги!$M$15:$M$30,$B87)","v":0},{"$f":"SUMIFS(Налоги!W$15:W$30,Налоги!$A$15:$A$30,$A87,Налоги!$M$15:$M$30,$B87)","v":0},{"$f":"SUMIFS(Налоги!X$15:X$30,Налоги!$A$15:$A$30,$A87,Налоги!$M$15:$M$30,$B87)","v":0},{"$f":"SUMIFS(Налоги!Y$15:Y$30,Налоги!$A$15:$A$30,$A87,Налоги!$M$15:$M$30,$B87)","v":0},{"$f":"SUMIFS(Налоги!Z$15:Z$30,Налоги!$A$15:$A$30,$A87,Налоги!$M$15:$M$30,$B87)","v":0},{"$f":"SUMIFS(Налоги!AA$15:AA$30,Налоги!$A$15:$A$30,$A87,Налоги!$M$15:$M$30,$B87)","v":0},{"$f":"SUMIFS(Налоги!AB$15:AB$30,Налоги!$A$15:$A$30,$A87,Налоги!$M$15:$M$30,$B87)","v":0},{"$f":"SUMIFS(Налоги!AC$15:AC$30,Налоги!$A$15:$A$30,$A87,Налоги!$M$15:$M$30,$B87)","v":13.92},{"$f":"SUMIFS(Налоги!AD$15:AD$30,Налоги!$A$15:$A$30,$A87,Налоги!$M$15:$M$30,$B87)","v":0},{"$f":"SUMIFS(Налоги!AE$15:AE$30,Налоги!$A$15:$A$30,$A87,Налоги!$M$15:$M$30,$B87)","v":0},{"$f":"SUMIFS(Налоги!AF$15:AF$30,Налоги!$A$15:$A$30,$A87,Налоги!$M$15:$M$30,$B87)","v":0},{"$f":"SUMIFS(Налоги!AG$15:AG$30,Налоги!$A$15:$A$30,$A87,Налоги!$M$15:$M$30,$B87)","v":0},{"$f":"SUMIFS(Налоги!AH$15:AH$30,Налоги!$A$15:$A$30,$A87,Налоги!$M$15:$M$30,$B87)","v":0},{"$f":"SUMIFS(Налоги!AI$15:AI$30,Налоги!$A$15:$A$30,$A87,Налоги!$M$15:$M$30,$B87)","v":0},{"$f":"SUMIFS(Налоги!AJ$15:AJ$30,Налоги!$A$15:$A$30,$A87,Налоги!$M$15:$M$30,$B87)","v":0},{"$f":"SUMIFS(Налоги!AK$15:AK$30,Налоги!$A$15:$A$30,$A87,Налоги!$M$15:$M$30,$B87)","v":0},{"$f":"SUMIFS(Налоги!AL$15:AL$30,Налоги!$A$15:$A$30,$A87,Налоги!$M$15:$M$30,$B87)","v":0},0,-100,0,0,0,0,0,0,0,0,null,"1) Глава 28 \"ТРАНСПОРТНЫЙ НАЛОГ\" Налогового кодекса РФ. 2) Закон Кемеровской области от 28.11.2002 N 95-ОЗ \"О транспортном налоге\".","Плановая годовая величина налогового платежа  на 2025 г. принята  регулирующим органом на уровне фактической величины  2023 года, отраженной в  представленном \"Сообщении об исчисленных налоговым органом суммах транспортного налога\" № 4197663 от 04.04.2024."]
["1","Плата за негативное воздействие на окружающую среду",null,"L2_3_7",null,null,null,null,null,null,null,"2.3.7","плата за негативное воздействие на окружающую среду","тыс.руб.",44.151216460000001,{"$f":"SUMIFS(Налоги!P$15:P$30,Налоги!$A$15:$A$30,$A88,Налоги!$M$15:$M$30,$B88)","v":40.28},{"$f":"SUMIFS(Налоги!Q$15:Q$30,Налоги!$A$15:$A$30,$A88,Налоги!$M$15:$M$30,$B88)","v":40.28},0,42.49,{"$f":"SUMIFS(Налоги!S$15:S$30,Налоги!$A$15:$A$30,$A88,Налоги!$M$15:$M$30,$B88)","v":39.770000000000003},{"$f":"SUMIFS(Налоги!T$15:T$30,Налоги!$A$15:$A$30,$A88,Налоги!$M$15:$M$30,$B88)","v":0},{"$f":"SUMIFS(Налоги!U$15:U$30,Налоги!$A$15:$A$30,$A88,Налоги!$M$15:$M$30,$B88)","v":0},{"$f":"SUMIFS(Налоги!V$15:V$30,Налоги!$A$15:$A$30,$A88,Налоги!$M$15:$M$30,$B88)","v":0},{"$f":"SUMIFS(Налоги!W$15:W$30,Налоги!$A$15:$A$30,$A88,Налоги!$M$15:$M$30,$B88)","v":0},{"$f":"SUMIFS(Налоги!X$15:X$30,Налоги!$A$15:$A$30,$A88,Налоги!$M$15:$M$30,$B88)","v":0},{"$f":"SUMIFS(Налоги!Y$15:Y$30,Налоги!$A$15:$A$30,$A88,Налоги!$M$15:$M$30,$B88)","v":0},{"$f":"SUMIFS(Налоги!Z$15:Z$30,Налоги!$A$15:$A$30,$A88,Налоги!$M$15:$M$30,$B88)","v":0},{"$f":"SUMIFS(Налоги!AA$15:AA$30,Налоги!$A$15:$A$30,$A88,Налоги!$M$15:$M$30,$B88)","v":0},{"$f":"SUMIFS(Налоги!AB$15:AB$30,Налоги!$A$15:$A$30,$A88,Налоги!$M$15:$M$30,$B88)","v":0},{"$f":"SUMIFS(Налоги!AC$15:AC$30,Налоги!$A$15:$A$30,$A88,Налоги!$M$15:$M$30,$B88)","v":40.28},{"$f":"SUMIFS(Налоги!AD$15:AD$30,Налоги!$A$15:$A$30,$A88,Налоги!$M$15:$M$30,$B88)","v":0},{"$f":"SUMIFS(Налоги!AE$15:AE$30,Налоги!$A$15:$A$30,$A88,Налоги!$M$15:$M$30,$B88)","v":0},{"$f":"SUMIFS(Налоги!AF$15:AF$30,Налоги!$A$15:$A$30,$A88,Налоги!$M$15:$M$30,$B88)","v":0},{"$f":"SUMIFS(Налоги!AG$15:AG$30,Налоги!$A$15:$A$30,$A88,Налоги!$M$15:$M$30,$B88)","v":0},{"$f":"SUMIFS(Налоги!AH$15:AH$30,Налоги!$A$15:$A$30,$A88,Налоги!$M$15:$M$30,$B88)","v":0},{"$f":"SUMIFS(Налоги!AI$15:AI$30,Налоги!$A$15:$A$30,$A88,Налоги!$M$15:$M$30,$B88)","v":0},{"$f":"SUMIFS(Налоги!AJ$15:AJ$30,Налоги!$A$15:$A$30,$A88,Налоги!$M$15:$M$30,$B88)","v":0},{"$f":"SUMIFS(Налоги!AK$15:AK$30,Налоги!$A$15:$A$30,$A88,Налоги!$M$15:$M$30,$B88)","v":0},{"$f":"SUMIFS(Налоги!AL$15:AL$30,Налоги!$A$15:$A$30,$A88,Налоги!$M$15:$M$30,$B88)","v":0},-5.2012238173687937,-100,0,0,0,0,0,0,0,0,null,"1) П. 49 (2) Методических указаний  ФСТ № 1746-э. 2) Постановление Правительства РФ от 13.09.2016 N 913 (ред. от 24.01.2020) \"О ставках платы за негативное воздействие на окружающую среду и дополнительных коэффициентах\".","Принято на уровне фактически исчисленных платежей согласно представленной декларации за 2023 г., в пределах установленных нормативов допустимых выбросов загрязняющих веществ в атмосферу (НДВ) и нормативов допустимого сброса (НДС) загрязняющих веществ в водные объекты (п. 49 (1) Методических указаний ФСТ России № 1746-э)."]
["1","Единый налог при упрощенной системе налогообложения",null,"L2_3_8",null,null,null,null,null,null,null,"2.3.8","единый налог при УСН","тыс.руб.",{"$f":"SUMIFS(Налоги!O$15:O$30,Налоги!$A$15:$A$30,$A89,Налоги!$M$15:$M$30,$B89)","v":0},{"$f":"SUMIFS(Налоги!P$15:P$30,Налоги!$A$15:$A$30,$A89,Налоги!$M$15:$M$30,$B89)","v":0},{"$f":"SUMIFS(Налоги!Q$15:Q$30,Налоги!$A$15:$A$30,$A89,Налоги!$M$15:$M$30,$B89)","v":0},{"$f":"Q89-P89","v":0},{"$f":"SUMIFS(Налоги!R$15:R$30,Налоги!$A$15:$A$30,$A89,Налоги!$M$15:$M$30,$B89)","v":0},{"$f":"SUMIFS(Налоги!S$15:S$30,Налоги!$A$15:$A$30,$A89,Налоги!$M$15:$M$30,$B89)","v":0},{"$f":"SUMIFS(Налоги!T$15:T$30,Налоги!$A$15:$A$30,$A89,Налоги!$M$15:$M$30,$B89)","v":0},{"$f":"SUMIFS(Налоги!U$15:U$30,Налоги!$A$15:$A$30,$A89,Налоги!$M$15:$M$30,$B89)","v":0},{"$f":"SUMIFS(Налоги!V$15:V$30,Налоги!$A$15:$A$30,$A89,Налоги!$M$15:$M$30,$B89)","v":0},{"$f":"SUMIFS(Налоги!W$15:W$30,Налоги!$A$15:$A$30,$A89,Налоги!$M$15:$M$30,$B89)","v":0},{"$f":"SUMIFS(Налоги!X$15:X$30,Налоги!$A$15:$A$30,$A89,Налоги!$M$15:$M$30,$B89)","v":0},{"$f":"SUMIFS(Налоги!Y$15:Y$30,Налоги!$A$15:$A$30,$A89,Налоги!$M$15:$M$30,$B89)","v":0},{"$f":"SUMIFS(Налоги!Z$15:Z$30,Налоги!$A$15:$A$30,$A89,Налоги!$M$15:$M$30,$B89)","v":0},{"$f":"SUMIFS(Налоги!AA$15:AA$30,Налоги!$A$15:$A$30,$A89,Налоги!$M$15:$M$30,$B89)","v":0},{"$f":"SUMIFS(Налоги!AB$15:AB$30,Налоги!$A$15:$A$30,$A89,Налоги!$M$15:$M$30,$B89)","v":0},{"$f":"SUMIFS(Налоги!AC$15:AC$30,Налоги!$A$15:$A$30,$A89,Налоги!$M$15:$M$30,$B89)","v":0},{"$f":"SUMIFS(Налоги!AD$15:AD$30,Налоги!$A$15:$A$30,$A89,Налоги!$M$15:$M$30,$B89)","v":0},{"$f":"SUMIFS(Налоги!AE$15:AE$30,Налоги!$A$15:$A$30,$A89,Налоги!$M$15:$M$30,$B89)","v":0},{"$f":"SUMIFS(Налоги!AF$15:AF$30,Налоги!$A$15:$A$30,$A89,Налоги!$M$15:$M$30,$B89)","v":0},{"$f":"SUMIFS(Налоги!AG$15:AG$30,Налоги!$A$15:$A$30,$A89,Налоги!$M$15:$M$30,$B89)","v":0},{"$f":"SUMIFS(Налоги!AH$15:AH$30,Налоги!$A$15:$A$30,$A89,Налоги!$M$15:$M$30,$B89)","v":0},{"$f":"SUMIFS(Налоги!AI$15:AI$30,Налоги!$A$15:$A$30,$A89,Налоги!$M$15:$M$30,$B89)","v":0},{"$f":"SUMIFS(Налоги!AJ$15:AJ$30,Налоги!$A$15:$A$30,$A89,Налоги!$M$15:$M$30,$B89)","v":0},{"$f":"SUMIFS(Налоги!AK$15:AK$30,Налоги!$A$15:$A$30,$A89,Налоги!$M$15:$M$30,$B89)","v":0},{"$f":"SUMIFS(Налоги!AL$15:AL$30,Налоги!$A$15:$A$30,$A89,Налоги!$M$15:$M$30,$B89)","v":0},0,0,0,0,0,0,0,0,0,0]
["1","Прочие налоги и сборы",null,"L2_3_9",null,null,null,null,null,null,null,"2.3.9","прочие налоги и сборы","тыс.руб.",{"$f":"SUMIFS(Налоги!O$15:O$30,Налоги!$A$15:$A$30,$A90,Налоги!$M$15:$M$30,$B90)","v":0},{"$f":"SUMIFS(Налоги!P$15:P$30,Налоги!$A$15:$A$30,$A90,Налоги!$M$15:$M$30,$B90)","v":0},{"$f":"SUMIFS(Налоги!Q$15:Q$30,Налоги!$A$15:$A$30,$A90,Налоги!$M$15:$M$30,$B90)","v":0},0,{"$f":"SUMIFS(Налоги!R$15:R$30,Налоги!$A$15:$A$30,$A90,Налоги!$M$15:$M$30,$B90)","v":0},{"$f":"SUMIFS(Налоги!S$15:S$30,Налоги!$A$15:$A$30,$A90,Налоги!$M$15:$M$30,$B90)","v":346.87},{"$f":"SUMIFS(Налоги!T$15:T$30,Налоги!$A$15:$A$30,$A90,Налоги!$M$15:$M$30,$B90)","v":0},{"$f":"SUMIFS(Налоги!U$15:U$30,Налоги!$A$15:$A$30,$A90,Налоги!$M$15:$M$30,$B90)","v":0},{"$f":"SUMIFS(Налоги!V$15:V$30,Налоги!$A$15:$A$30,$A90,Налоги!$M$15:$M$30,$B90)","v":0},{"$f":"SUMIFS(Налоги!W$15:W$30,Налоги!$A$15:$A$30,$A90,Налоги!$M$15:$M$30,$B90)","v":0},{"$f":"SUMIFS(Налоги!X$15:X$30,Налоги!$A$15:$A$30,$A90,Налоги!$M$15:$M$30,$B90)","v":0},{"$f":"SUMIFS(Налоги!Y$15:Y$30,Налоги!$A$15:$A$30,$A90,Налоги!$M$15:$M$30,$B90)","v":0},{"$f":"SUMIFS(Налоги!Z$15:Z$30,Налоги!$A$15:$A$30,$A90,Налоги!$M$15:$M$30,$B90)","v":0},{"$f":"SUMIFS(Налоги!AA$15:AA$30,Налоги!$A$15:$A$30,$A90,Налоги!$M$15:$M$30,$B90)","v":0},{"$f":"SUMIFS(Налоги!AB$15:AB$30,Налоги!$A$15:$A$30,$A90,Налоги!$M$15:$M$30,$B90)","v":0},{"$f":"SUMIFS(Налоги!AC$15:AC$30,Налоги!$A$15:$A$30,$A90,Налоги!$M$15:$M$30,$B90)","v":0},{"$f":"SUMIFS(Налоги!AD$15:AD$30,Налоги!$A$15:$A$30,$A90,Налоги!$M$15:$M$30,$B90)","v":0},{"$f":"SUMIFS(Налоги!AE$15:AE$30,Налоги!$A$15:$A$30,$A90,Налоги!$M$15:$M$30,$B90)","v":0},{"$f":"SUMIFS(Налоги!AF$15:AF$30,Налоги!$A$15:$A$30,$A90,Налоги!$M$15:$M$30,$B90)","v":0},{"$f":"SUMIFS(Налоги!AG$15:AG$30,Налоги!$A$15:$A$30,$A90,Налоги!$M$15:$M$30,$B90)","v":0},{"$f":"SUMIFS(Налоги!AH$15:AH$30,Налоги!$A$15:$A$30,$A90,Налоги!$M$15:$M$30,$B90)","v":0},{"$f":"SUMIFS(Налоги!AI$15:AI$30,Налоги!$A$15:$A$30,$A90,Налоги!$M$15:$M$30,$B90)","v":0},{"$f":"SUMIFS(Налоги!AJ$15:AJ$30,Налоги!$A$15:$A$30,$A90,Налоги!$M$15:$M$30,$B90)","v":0},{"$f":"SUMIFS(Налоги!AK$15:AK$30,Налоги!$A$15:$A$30,$A90,Налоги!$M$15:$M$30,$B90)","v":0},{"$f":"SUMIFS(Налоги!AL$15:AL$30,Налоги!$A$15:$A$30,$A90,Налоги!$M$15:$M$30,$B90)","v":0},0,0,0,0,0,0,0,0,0,0]
["1","Расходы на мероприятия по защите централизованных систем водоснабжения",null,"L2_4",null,null,null,null,null,null,null,"2.4","Расходы на мероприятия по защите централизованных систем водоснабжения и (или) водоотведения и их отдельных объектов от угроз техногенного, природного характера и террористических актов, по предотвращению возникновения аварийных ситуаций, снижению риска и смягчению последствий чрезвычайных ситуаций (за исключением мероприятий, включенных в инвестиционную программу)","тыс.руб.",null,null,null,0,null,null,null,null,null,null,null,null,null,null,null,null,null,null,null,null,null,null,null,null,null,0,0,0,0,0,0,0,0,0,0]
["1","Арендная и концессионная плата, лизинговые платежи",null,"L2_5",null,null,null,null,null,null,null,"2.5","Арендная и концессионная плата, лизинговые платежи","тыс.руб.",{"$f":"SUMIFS(Аренда!O$15:O$24,Аренда!$A$15:$A$24,$A92,Аренда!$M$15:$M$24,\"Арендная и концессионная плата. Лизинговые платежи\")","v":1548.6399999999999},{"$f":"SUMIFS(Аренда!P$15:P$24,Аренда!$A$15:$A$24,$A92,Аренда!$M$15:$M$24,\"Арендная и концессионная плата. Лизинговые платежи\")","v":3035.6800000000003},{"$f":"SUMIFS(Аренда!Q$15:Q$24,Аренда!$A$15:$A$24,$A92,Аренда!$M$15:$M$24,\"Арендная и концессионная плата. Лизинговые платежи\")","v":2175.66},-860.02000000000044,{"$f":"SUMIFS(Аренда!R$15:R$24,Аренда!$A$15:$A$24,$A92,Аренда!$M$15:$M$24,\"Арендная и концессионная плата. Лизинговые платежи\")","v":2160.7455600000003},{"$f":"SUMIFS(Аренда!S$15:S$24,Аренда!$A$15:$A$24,$A92,Аренда!$M$15:$M$24,\"Арендная и концессионная плата. Лизинговые платежи\")","v":2606.71},{"$f":"SUMIFS(Аренда!T$15:T$24,Аренда!$A$15:$A$24,$A92,Аренда!$M$15:$M$24,\"Арендная и концессионная плата. Лизинговые платежи\")","v":0},{"$f":"SUMIFS(Аренда!U$15:U$24,Аренда!$A$15:$A$24,$A92,Аренда!$M$15:$M$24,\"Арендная и концессионная плата. Лизинговые платежи\")","v":0},{"$f":"SUMIFS(Аренда!V$15:V$24,Аренда!$A$15:$A$24,$A92,Аренда!$M$15:$M$24,\"Арендная и концессионная плата. Лизинговые платежи\")","v":0},{"$f":"SUMIFS(Аренда!W$15:W$24,Аренда!$A$15:$A$24,$A92,Аренда!$M$15:$M$24,\"Арендная и концессионная плата. Лизинговые платежи\")","v":0},{"$f":"SUMIFS(Аренда!X$15:X$24,Аренда!$A$15:$A$24,$A92,Аренда!$M$15:$M$24,\"Арендная и концессионная плата. Лизинговые платежи\")","v":0},{"$f":"SUMIFS(Аренда!Y$15:Y$24,Аренда!$A$15:$A$24,$A92,Аренда!$M$15:$M$24,\"Арендная и концессионная плата. Лизинговые платежи\")","v":0},{"$f":"SUMIFS(Аренда!Z$15:Z$24,Аренда!$A$15:$A$24,$A92,Аренда!$M$15:$M$24,\"Арендная и концессионная плата. Лизинговые платежи\")","v":0},{"$f":"SUMIFS(Аренда!AA$15:AA$24,Аренда!$A$15:$A$24,$A92,Аренда!$M$15:$M$24,\"Арендная и концессионная плата. Лизинговые платежи\")","v":0},{"$f":"SUMIFS(Аренда!AB$15:AB$24,Аренда!$A$15:$A$24,$A92,Аренда!$M$15:$M$24,\"Арендная и концессионная плата. Лизинговые платежи\")","v":0},{"$f":"SUMIFS(Аренда!AC$15:AC$24,Аренда!$A$15:$A$24,$A92,Аренда!$M$15:$M$24,\"Арендная и концессионная плата. Лизинговые платежи\")","v":2122.1543399000002},{"$f":"SUMIFS(Аренда!AD$15:AD$24,Аренда!$A$15:$A$24,$A92,Аренда!$M$15:$M$24,\"Арендная и концессионная плата. Лизинговые платежи\")","v":0},{"$f":"SUMIFS(Аренда!AE$15:AE$24,Аренда!$A$15:$A$24,$A92,Аренда!$M$15:$M$24,\"Арендная и концессионная плата. Лизинговые платежи\")","v":0},{"$f":"SUMIFS(Аренда!AF$15:AF$24,Аренда!$A$15:$A$24,$A92,Аренда!$M$15:$M$24,\"Арендная и концессионная плата. Лизинговые платежи\")","v":0},{"$f":"SUMIFS(Аренда!AG$15:AG$24,Аренда!$A$15:$A$24,$A92,Аренда!$M$15:$M$24,\"Арендная и концессионная плата. Лизинговые платежи\")","v":0},{"$f":"SUMIFS(Аренда!AH$15:AH$24,Аренда!$A$15:$A$24,$A92,Аренда!$M$15:$M$24,\"Арендная и концессионная плата. Лизинговые платежи\")","v":0},{"$f":"SUMIFS(Аренда!AI$15:AI$24,Аренда!$A$15:$A$24,$A92,Аренда!$M$15:$M$24,\"Арендная и концессионная плата. Лизинговые платежи\")","v":0},{"$f":"SUMIFS(Аренда!AJ$15:AJ$24,Аренда!$A$15:$A$24,$A92,Аренда!$M$15:$M$24,\"Арендная и концессионная плата. Лизинговые платежи\")","v":0},{"$f":"SUMIFS(Аренда!AK$15:AK$24,Аренда!$A$15:$A$24,$A92,Аренда!$M$15:$M$24,\"Арендная и концессионная плата. Лизинговые платежи\")","v":0},{"$f":"SUMIFS(Аренда!AL$15:AL$24,Аренда!$A$15:$A$24,$A92,Аренда!$M$15:$M$24,\"Арендная и концессионная плата. Лизинговые платежи\")","v":0},-1.7860140876559336,-100,0,0,0,0,0,0,0,0,null,"1) Пункты 49 (3), 51, 29 Методических указаний ФСТ № 1746-э. 2) Пункт 28 абз. 4 Методических указаний ФСТ № 1746-э. 3) Постановление Правительства РФ от 01.01.2002 N 1 (ред. от 18.11.2022) \"О Классификации основных средств, включаемых в амортизационные группы\".  Постановлением Правительства РФ от 01.01.2002 N 1.  4) Пункт 4 статьи 39.7, подпункт 2 статьи 49 \"Земельного кодекса Российской Федерации\" от 25.10.2001 N 136-ФЗ (ред. от 04.08.2023). 5) Пункт 5 «Правил определения размера арендной платы, а также порядка, условий и сроков внесения арендной платы за земли, находящиеся в собственности Российской Федерации» (утверждены Постановлением Правительства РФ от 16.07.2009 N 582 (ред. от 10.02.2023). 6) Приказ Минэкономразвития России от 23.04.2013 N 217 . 7) Приказ Минфина России от 16.10.2018 N 208н (ред. от 29.06.2022).","1) АРЕНДА ЧАСТНОЙ СОБСТВЕННОСТИ: Плата за АРЕНДУ КНС согласно договора № Т-5-А14 от 17.12.2014 (ОАО \"Кузбассэнерго\") -   836,69 тыс. руб./год.  3) АРЕНДА ЗЕМЕЛЬНЫХ УЧАСТКОВ. Расходы по договору  от 21.01.2019 № 7898/19 - 1285,47 тыс. руб./год.  Обоснования см. на Листе \"Аренда\"."]
["1",null,null,"L2_6",null,null,null,null,null,null,null,"2.6","Сбытовые расходы гарантирующей организации","тыс.руб.",null,null,null,{"$f":"Q93-P93","v":0},null,null,null,null,null,null,null,null,null,null,null,null,null,null,null,null,null,null,null,null,null,0,0,0,0,0,0,0,0,0,0]
["1","резерв по сомнительным долгам гарантирующей организации",null,"L2_6_1",null,null,null,null,null,null,null,"2.6.1","резерв по сомнительным долгам гарантирующей организации","тыс.руб.",null,null,null,0,null,null,null,null,null,null,null,null,null,null,null,null,null,null,null,null,null,null,null,null,null,0,0,0,0,0,0,0,0,0,0]
["1","Экономия расходов",null,"L2_7",null,null,null,null,null,null,null,"2.7","Экономия расходов","тыс.руб.",null,null,null,0,0,{"$f":"SUMIFS(Экономия_корр!O$15:O$24,Экономия_корр!$A$15:$A$24,$A95,Экономия_корр!$M$15:$M$24,\"Экономия расходов с учетом ИПЦ\")","v":0},{"$f":"SUMIFS(Экономия_корр!P$15:P$24,Экономия_корр!$A$15:$A$24,$A95,Экономия_корр!$M$15:$M$24,\"Экономия расходов с учетом ИПЦ\")","v":0},{"$f":"SUMIFS(Экономия_корр!Q$15:Q$24,Экономия_корр!$A$15:$A$24,$A95,Экономия_корр!$M$15:$M$24,\"Экономия расходов с учетом ИПЦ\")","v":0},{"$f":"SUMIFS(Экономия_корр!R$15:R$24,Экономия_корр!$A$15:$A$24,$A95,Экономия_корр!$M$15:$M$24,\"Экономия расходов с учетом ИПЦ\")","v":0},{"$f":"SUMIFS(Экономия_корр!S$15:S$24,Экономия_корр!$A$15:$A$24,$A95,Экономия_корр!$M$15:$M$24,\"Экономия расходов с учетом ИПЦ\")","v":0},{"$f":"SUMIFS(Экономия_корр!T$15:T$24,Экономия_корр!$A$15:$A$24,$A95,Экономия_корр!$M$15:$M$24,\"Экономия расходов с учетом ИПЦ\")","v":0},{"$f":"SUMIFS(Экономия_корр!U$15:U$24,Экономия_корр!$A$15:$A$24,$A95,Экономия_корр!$M$15:$M$24,\"Экономия расходов с учетом ИПЦ\")","v":0},{"$f":"SUMIFS(Экономия_корр!V$15:V$24,Экономия_корр!$A$15:$A$24,$A95,Экономия_корр!$M$15:$M$24,\"Экономия расходов с учетом ИПЦ\")","v":0},{"$f":"SUMIFS(Экономия_корр!W$15:W$24,Экономия_корр!$A$15:$A$24,$A95,Экономия_корр!$M$15:$M$24,\"Экономия расходов с учетом ИПЦ\")","v":0},{"$f":"SUMIFS(Экономия_корр!X$15:X$24,Экономия_корр!$A$15:$A$24,$A95,Экономия_корр!$M$15:$M$24,\"Экономия расходов с учетом ИПЦ\")","v":0},{"$f":"SUMIFS(Экономия_корр!Y$15:Y$24,Экономия_корр!$A$15:$A$24,$A95,Экономия_корр!$M$15:$M$24,\"Экономия расходов с учетом ИПЦ\")","v":0},{"$f":"SUMIFS(Экономия_корр!Z$15:Z$24,Экономия_корр!$A$15:$A$24,$A95,Экономия_корр!$M$15:$M$24,\"Экономия расходов с учетом ИПЦ\")","v":0},{"$f":"SUMIFS(Экономия_корр!AA$15:AA$24,Экономия_корр!$A$15:$A$24,$A95,Экономия_корр!$M$15:$M$24,\"Экономия расходов с учетом ИПЦ\")","v":0},{"$f":"SUMIFS(Экономия_корр!AB$15:AB$24,Экономия_корр!$A$15:$A$24,$A95,Экономия_корр!$M$15:$M$24,\"Экономия расходов с учетом ИПЦ\")","v":0},{"$f":"SUMIFS(Экономия_корр!AC$15:AC$24,Экономия_корр!$A$15:$A$24,$A95,Экономия_корр!$M$15:$M$24,\"Экономия расходов с учетом ИПЦ\")","v":0},{"$f":"SUMIFS(Экономия_корр!AD$15:AD$24,Экономия_корр!$A$15:$A$24,$A95,Экономия_корр!$M$15:$M$24,\"Экономия расходов с учетом ИПЦ\")","v":0},{"$f":"SUMIFS(Экономия_корр!AE$15:AE$24,Экономия_корр!$A$15:$A$24,$A95,Экономия_корр!$M$15:$M$24,\"Экономия расходов с учетом ИПЦ\")","v":0},{"$f":"SUMIFS(Экономия_корр!AF$15:AF$24,Экономия_корр!$A$15:$A$24,$A95,Экономия_корр!$M$15:$M$24,\"Экономия расходов с учетом ИПЦ\")","v":0},{"$f":"SUMIFS(Экономия_корр!AG$15:AG$24,Экономия_корр!$A$15:$A$24,$A95,Экономия_корр!$M$15:$M$24,\"Экономия расходов с учетом ИПЦ\")","v":0},{"$f":"SUMIFS(Экономия_корр!AH$15:AH$24,Экономия_корр!$A$15:$A$24,$A95,Экономия_корр!$M$15:$M$24,\"Экономия расходов с учетом ИПЦ\")","v":0},0,0,0,0,0,0,0,0,0,0]
["1","Расходы на обслуживание бесхозяйных сетей",null,"L2_8",null,null,null,null,null,null,null,"2.8","Расходы на обслуживание бесхозяйных сетей","тыс.руб.",null,null,null,0,null,null,null,null,null,null,null,null,null,null,null,null,null,null,null,null,null,null,null,null,null,0,0,0,0,0,0,0,0,0,0]
["1","Расходы на компенсацию экономически обоснованных расходов",null,"L2_9",null,null,null,null,null,null,null,"2.9","Расходы на компенсацию экономически обоснованных расходов","тыс.руб.",null,null,null,0,null,null,null,null,null,null,null,null,null,null,null,null,null,null,null,null,null,null,null,null,null,0,0,0,0,0,0,0,0,0,0]
["1","Займы и кредиты (для метода индексации)",null,"L2_10",null,null,null,null,null,null,null,"2.10","Займы и кредиты (для метода индексации)","тыс.руб.",{"$f":"SUM(O99,O100)","v":0},{"$f":"SUM(P99,P100)","v":0},0,0,0,0,0,0,0,0,0,0,0,0,0,0,0,0,0,0,0,0,0,0,0,0,0,0,0,0,0,0,0,0,0]
["1",null,null,"L2_10_1",null,null,null,null,null,null,null,"2.10.1","возврат займов и кредитов","тыс.руб.",null,null,null,0,null,null,null,null,null,null,null,null,null,null,null,null,null,null,null,null,null,null,null,null,null,0,0,0,0,0,0,0,0,0,0]
["1",null,null,"L2_10_2",null,null,null,null,null,null,null,"2.10.2","проценты по займам и кредитам","тыс.руб.",null,null,null,0,null,null,null,null,null,null,null,null,null,null,null,null,null,null,null,null,null,null,null,null,null,0,0,0,0,0,0,0,0,0,0]
["1","Расходы концессионера на осуществление государственного кадастрового учета",null,"L2_11",null,null,null,null,null,null,null,"2.11","Расходы концессионера на осуществление государственного кадастрового учета и (или) государственной регистрации права собственности концедента","тыс.руб.",null,null,null,0,null,null,null,null,null,null,null,null,null,null,null,null,null,null,null,null,null,null,null,null,null,0,0,0,0,0,0,0,0,0,0]
["1","ээ",null,"L3",null,null,null,null,null,null,null,"3","Расходы на электрическую энергию","тыс.руб.",{"$f":"SUMIFS(ЭЭ!O$15:O$42,ЭЭ!$A$15:$A$42,$A102,ЭЭ!$M$15:$M$42,\"Всего по тарифу\")","v":24069.698136298401},{"$f":"SUMIFS(ЭЭ!P$15:P$42,ЭЭ!$A$15:$A$42,$A102,ЭЭ!$M$15:$M$42,\"Всего по тарифу\")","v":28218.17},{"$f":"SUMIFS(ЭЭ!Q$15:Q$42,ЭЭ!$A$15:$A$42,$A102,ЭЭ!$M$15:$M$42,\"Всего по тарифу\")","v":27768.501800674559},-449.66819932543876,{"$f":"SUMIFS(ЭЭ!R$15:R$42,ЭЭ!$A$15:$A$42,$A102,ЭЭ!$M$15:$M$42,\"Всего по тарифу\")","v":30427.110693369199},{"$f":"SUMIFS(ЭЭ!S$15:S$42,ЭЭ!$A$15:$A$42,$A102,ЭЭ!$M$15:$M$42,\"Всего по тарифу\")","v":32887.360000000001},{"$f":"SUMIFS(ЭЭ!T$15:T$42,ЭЭ!$A$15:$A$42,$A102,ЭЭ!$M$15:$M$42,\"Всего по тарифу\")","v":0},{"$f":"SUMIFS(ЭЭ!U$15:U$42,ЭЭ!$A$15:$A$42,$A102,ЭЭ!$M$15:$M$42,\"Всего по тарифу\")","v":0},{"$f":"SUMIFS(ЭЭ!V$15:V$42,ЭЭ!$A$15:$A$42,$A102,ЭЭ!$M$15:$M$42,\"Всего по тарифу\")","v":0},{"$f":"SUMIFS(ЭЭ!W$15:W$42,ЭЭ!$A$15:$A$42,$A102,ЭЭ!$M$15:$M$42,\"Всего по тарифу\")","v":0},{"$f":"SUMIFS(ЭЭ!X$15:X$42,ЭЭ!$A$15:$A$42,$A102,ЭЭ!$M$15:$M$42,\"Всего по тарифу\")","v":0},{"$f":"SUMIFS(ЭЭ!Y$15:Y$42,ЭЭ!$A$15:$A$42,$A102,ЭЭ!$M$15:$M$42,\"Всего по тарифу\")","v":0},{"$f":"SUMIFS(ЭЭ!Z$15:Z$42,ЭЭ!$A$15:$A$42,$A102,ЭЭ!$M$15:$M$42,\"Всего по тарифу\")","v":0},{"$f":"SUMIFS(ЭЭ!AA$15:AA$42,ЭЭ!$A$15:$A$42,$A102,ЭЭ!$M$15:$M$42,\"Всего по тарифу\")","v":0},{"$f":"SUMIFS(ЭЭ!AB$15:AB$42,ЭЭ!$A$15:$A$42,$A102,ЭЭ!$M$15:$M$42,\"Всего по тарифу\")","v":0},{"$f":"SUMIFS(ЭЭ!AC$15:AC$42,ЭЭ!$A$15:$A$42,$A102,ЭЭ!$M$15:$M$42,\"Всего по тарифу\")","v":31679.754014895945},{"$f":"SUMIFS(ЭЭ!AD$15:AD$42,ЭЭ!$A$15:$A$42,$A102,ЭЭ!$M$15:$M$42,\"Всего по тарифу\")","v":0},{"$f":"SUMIFS(ЭЭ!AE$15:AE$42,ЭЭ!$A$15:$A$42,$A102,ЭЭ!$M$15:$M$42,\"Всего по тарифу\")","v":0},{"$f":"SUMIFS(ЭЭ!AF$15:AF$42,ЭЭ!$A$15:$A$42,$A102,ЭЭ!$M$15:$M$42,\"Всего по тарифу\")","v":0},{"$f":"SUMIFS(ЭЭ!AG$15:AG$42,ЭЭ!$A$15:$A$42,$A102,ЭЭ!$M$15:$M$42,\"Всего по тарифу\")","v":0},{"$f":"SUMIFS(ЭЭ!AH$15:AH$42,ЭЭ!$A$15:$A$42,$A102,ЭЭ!$M$15:$M$42,\"Всего по тарифу\")","v":0},{"$f":"SUMIFS(ЭЭ!AI$15:AI$42,ЭЭ!$A$15:$A$42,$A102,ЭЭ!$M$15:$M$42,\"Всего по тарифу\")","v":0},{"$f":"SUMIFS(ЭЭ!AJ$15:AJ$42,ЭЭ!$A$15:$A$42,$A102,ЭЭ!$M$15:$M$42,\"Всего по тарифу\")","v":0},{"$f":"SUMIFS(ЭЭ!AK$15:AK$42,ЭЭ!$A$15:$A$42,$A102,ЭЭ!$M$15:$M$42,\"Всего по тарифу\")","v":0},{"$f":"SUMIFS(ЭЭ!AL$15:AL$42,ЭЭ!$A$15:$A$42,$A102,ЭЭ!$M$15:$M$42,\"Всего по тарифу\")","v":0},4.1168658245284107,-100,0,0,0,0,0,0,0,0,null,"1) П. 20, 84, 88, 43 Методических указаний ФСТ № 1746-э.                             2) Постановление региональной энергетической комиссии Кемеровской области от 19.12.2018 № 759 (в редакции Постановлений Региональной энергетической комиссии  от 24.11.2020 N 427, от 11.02.2021 N 60).","Плановый общий годовой объем потребления активной энергии на 2025 год определен на основании утвержденного показателя удельного расхода энергии 1,25 кВт*ч/м3 (в соответствии с долгосрочными параметрами регулирования тарифов) и  принятого  годового  объема  пропуска сточных вод через очистные сооружения. Плановая среднегодовая величина заявленной мощности - на уровне соответствующего фактического показателя отчетного 2023 г. Плановые цены на электроэнергию и мощность на 2025 год  рассчитаны от фактических средневзвешенных цен 2023 г. с учетом ИЦП электроэнергии на 2024 г. -  105,1%, на 2025 г. - 109,8% согласно Прогноза Минэкономразвития России от 30.09.2024. "]
["1","амортизация",null,"L4",null,null,null,null,null,null,null,"4","Амортизация основных средств и нематериальных активов, относимых к объектам централизованной системы водоснабжения (водоотведения)","тыс.руб.",{"$f":"SUMIFS(Амортизация!O$15:O$65,Амортизация!$A$15:$A$65,$A103,Амортизация!$M$15:$M$65,\"Сумма амортизационных отчислений\")","v":825.67000000000007},{"$f":"SUMIFS(Амортизация!P$15:P$65,Амортизация!$A$15:$A$65,$A103,Амортизация!$M$15:$M$65,\"Сумма амортизационных отчислений\")","v":1161.0118399999999},{"$f":"SUMIFS(Амортизация!Q$15:Q$65,Амортизация!$A$15:$A$65,$A103,Амортизация!$M$15:$M$65,\"Сумма амортизационных отчислений\")","v":812.64280666666673},-348.36903333333316,{"$f":"SUMIFS(Амортизация!R$15:R$65,Амортизация!$A$15:$A$65,$A103,Амортизация!$M$15:$M$65,\"Сумма амортизационных отчислений\")","v":862.61832000000004},{"$f":"SUMIFS(Амортизация!S$15:S$65,Амортизация!$A$15:$A$65,$A103,Амортизация!$M$15:$M$65,\"Сумма амортизационных отчислений\")","v":1539.84},{"$f":"SUMIFS(Амортизация!T$15:T$65,Амортизация!$A$15:$A$65,$A103,Амортизация!$M$15:$M$65,\"Сумма амортизационных отчислений\")","v":0},{"$f":"SUMIFS(Амортизация!U$15:U$65,Амортизация!$A$15:$A$65,$A103,Амортизация!$M$15:$M$65,\"Сумма амортизационных отчислений\")","v":0},{"$f":"SUMIFS(Амортизация!V$15:V$65,Амортизация!$A$15:$A$65,$A103,Амортизация!$M$15:$M$65,\"Сумма амортизационных отчислений\")","v":0},{"$f":"SUMIFS(Амортизация!W$15:W$65,Амортизация!$A$15:$A$65,$A103,Амортизация!$M$15:$M$65,\"Сумма амортизационных отчислений\")","v":0},{"$f":"SUMIFS(Амортизация!X$15:X$65,Амортизация!$A$15:$A$65,$A103,Амортизация!$M$15:$M$65,\"Сумма амортизационных отчислений\")","v":0},{"$f":"SUMIFS(Амортизация!Y$15:Y$65,Амортизация!$A$15:$A$65,$A103,Амортизация!$M$15:$M$65,\"Сумма амортизационных отчислений\")","v":0},{"$f":"SUMIFS(Амортизация!Z$15:Z$65,Амортизация!$A$15:$A$65,$A103,Амортизация!$M$15:$M$65,\"Сумма амортизационных отчислений\")","v":0},{"$f":"SUMIFS(Амортизация!AA$15:AA$65,Амортизация!$A$15:$A$65,$A103,Амортизация!$M$15:$M$65,\"Сумма амортизационных отчислений\")","v":0},{"$f":"SUMIFS(Амортизация!AB$15:AB$65,Амортизация!$A$15:$A$65,$A103,Амортизация!$M$15:$M$65,\"Сумма амортизационных отчислений\")","v":0},{"$f":"SUMIFS(Амортизация!AC$15:AC$65,Амортизация!$A$15:$A$65,$A103,Амортизация!$M$15:$M$65,\"Сумма амортизационных отчислений\")","v":796.08989666666639},{"$f":"SUMIFS(Амортизация!AD$15:AD$65,Амортизация!$A$15:$A$65,$A103,Амортизация!$M$15:$M$65,\"Сумма амортизационных отчислений\")","v":0},{"$f":"SUMIFS(Амортизация!AE$15:AE$65,Амортизация!$A$15:$A$65,$A103,Амортизация!$M$15:$M$65,\"Сумма амортизационных отчислений\")","v":0},{"$f":"SUMIFS(Амортизация!AF$15:AF$65,Амортизация!$A$15:$A$65,$A103,Амортизация!$M$15:$M$65,\"Сумма амортизационных отчислений\")","v":0},{"$f":"SUMIFS(Амортизация!AG$15:AG$65,Амортизация!$A$15:$A$65,$A103,Амортизация!$M$15:$M$65,\"Сумма амортизационных отчислений\")","v":0},{"$f":"SUMIFS(Амортизация!AH$15:AH$65,Амортизация!$A$15:$A$65,$A103,Амортизация!$M$15:$M$65,\"Сумма амортизационных отчислений\")","v":0},{"$f":"SUMIFS(Амортизация!AI$15:AI$65,Амортизация!$A$15:$A$65,$A103,Амортизация!$M$15:$M$65,\"Сумма амортизационных отчислений\")","v":0},{"$f":"SUMIFS(Амортизация!AJ$15:AJ$65,Амортизация!$A$15:$A$65,$A103,Амортизация!$M$15:$M$65,\"Сумма амортизационных отчислений\")","v":0},{"$f":"SUMIFS(Амортизация!AK$15:AK$65,Амортизация!$A$15:$A$65,$A103,Амортизация!$M$15:$M$65,\"Сумма амортизационных отчислений\")","v":0},{"$f":"SUMIFS(Амортизация!AL$15:AL$65,Амортизация!$A$15:$A$65,$A103,Амортизация!$M$15:$M$65,\"Сумма амортизационных отчислений\")","v":0},-7.7123823817390802,-100,0,0,0,0,0,0,0,0,null,"1) П. 89, п. 28, п 18(7)  Методических указаний ФСТ № 1746-э. 2) Постановление Правительства РФ от 01.01.2002 N 1 (ред. от 18.11.2022) \"О Классификации основных средств, включаемых в амортизационные группы\". 3) Приказ Минфина России от 17.09.2020 N 204н (ред. от 30.05.2022) \"Об утверждении Федеральных стандартов бухгалтерского учета ФСБУ 6/2020 \"Основные средства\" и ФСБУ 26/2020 \"Капитальные вложения\" (Зарегистрировано в Минюсте России 15.10.2020 N 60399). 4) Письмо> ФАС России от 05.08.2022 N МШ/74227/22 \"О новых стандартах бухгалтерского учета, подлежащих применению начиная с бухгалтерской (финансовой) отчетности за 2022 год\". 5) Учетная политика ООО \"БелГОС\" для целей бухгалтерского учета (Приказ от 30.12.2021 № 565).","УЧТЕНО: 1) Сумма амортизации собственного имущества  - 357,96 тыс. руб. Рассчитана на основании Отчетов по основным средствам за 2023 г. и представленных инвентарных карт. Начисления скорректированы, исходя из максимального нормативного срока полезного использования, по объектам  инвентарного учета № 6014, № 5932, № 6004, № 330. Начисления по транспортным средствам ИСКЛЮЧЕНЫ, так как относятся к Операционным расходам (п. 28 Методических указаний ФСТ № 1746-э). 2) Амортизация НМА (нематериальных активов) - 438,13 тыс. руб.   См. Лист \"Амортизация\"."]
["1",null,null,"L4_1",null,null,null,null,null,null,null,"4.1","в том числе инвестиционная (справочно)","тыс.руб.",438.13,572.20201999999995,438.13427999999999,-134.06773999999996,496.69,{"$f":"SUMIFS('ИП + источники'!U$17:U$65,'ИП + источники'!$A$17:$A$65,$A104,'ИП + источники'!$M$17:$M$65,\"Амортизационные отчисления\")+SUMIFS('ИП + источники'!U$17:U$65,'ИП + источники'!$A$17:$A$65,$A104,'ИП + источники'!$M$17:$M$65,\"погашение займов и кредитов из амортизации\")","v":930.37},{"$f":"SUMIFS('ИП + источники'!V$17:V$65,'ИП + источники'!$A$17:$A$65,$A104,'ИП + источники'!$M$17:$M$65,\"Амортизационные отчисления\")+SUMIFS('ИП + источники'!V$17:V$65,'ИП + источники'!$A$17:$A$65,$A104,'ИП + источники'!$M$17:$M$65,\"погашение займов и кредитов из амортизации\")","v":0},{"$f":"SUMIFS('ИП + источники'!W$17:W$65,'ИП + источники'!$A$17:$A$65,$A104,'ИП + источники'!$M$17:$M$65,\"Амортизационные отчисления\")+SUMIFS('ИП + источники'!W$17:W$65,'ИП + источники'!$A$17:$A$65,$A104,'ИП + источники'!$M$17:$M$65,\"погашение займов и кредитов из амортизации\")","v":0},{"$f":"SUMIFS('ИП + источники'!X$17:X$65,'ИП + источники'!$A$17:$A$65,$A104,'ИП + источники'!$M$17:$M$65,\"Амортизационные отчисления\")+SUMIFS('ИП + источники'!X$17:X$65,'ИП + источники'!$A$17:$A$65,$A104,'ИП + источники'!$M$17:$M$65,\"погашение займов и кредитов из амортизации\")","v":0},{"$f":"SUMIFS('ИП + источники'!Y$17:Y$65,'ИП + источники'!$A$17:$A$65,$A104,'ИП + источники'!$M$17:$M$65,\"Амортизационные отчисления\")+SUMIFS('ИП + источники'!Y$17:Y$65,'ИП + источники'!$A$17:$A$65,$A104,'ИП + источники'!$M$17:$M$65,\"погашение займов и кредитов из амортизации\")","v":0},{"$f":"SUMIFS('ИП + источники'!Z$17:Z$65,'ИП + источники'!$A$17:$A$65,$A104,'ИП + источники'!$M$17:$M$65,\"Амортизационные отчисления\")+SUMIFS('ИП + источники'!Z$17:Z$65,'ИП + источники'!$A$17:$A$65,$A104,'ИП + источники'!$M$17:$M$65,\"погашение займов и кредитов из амортизации\")","v":0},{"$f":"SUMIFS('ИП + источники'!AA$17:AA$65,'ИП + источники'!$A$17:$A$65,$A104,'ИП + источники'!$M$17:$M$65,\"Амортизационные отчисления\")+SUMIFS('ИП + источники'!AA$17:AA$65,'ИП + источники'!$A$17:$A$65,$A104,'ИП + источники'!$M$17:$M$65,\"погашение займов и кредитов из амортизации\")","v":0},{"$f":"SUMIFS('ИП + источники'!AB$17:AB$65,'ИП + источники'!$A$17:$A$65,$A104,'ИП + источники'!$M$17:$M$65,\"Амортизационные отчисления\")+SUMIFS('ИП + источники'!AB$17:AB$65,'ИП + источники'!$A$17:$A$65,$A104,'ИП + источники'!$M$17:$M$65,\"погашение займов и кредитов из амортизации\")","v":0},{"$f":"SUMIFS('ИП + источники'!AC$17:AC$65,'ИП + источники'!$A$17:$A$65,$A104,'ИП + источники'!$M$17:$M$65,\"Амортизационные отчисления\")+SUMIFS('ИП + источники'!AC$17:AC$65,'ИП + источники'!$A$17:$A$65,$A104,'ИП + источники'!$M$17:$M$65,\"погашение займов и кредитов из амортизации\")","v":0},{"$f":"SUMIFS('ИП + источники'!AD$17:AD$65,'ИП + источники'!$A$17:$A$65,$A104,'ИП + источники'!$M$17:$M$65,\"Амортизационные отчисления\")+SUMIFS('ИП + источники'!AD$17:AD$65,'ИП + источники'!$A$17:$A$65,$A104,'ИП + источники'!$M$17:$M$65,\"погашение займов и кредитов из амортизации\")","v":0},{"$f":"SUMIFS('ИП + источники'!AE$17:AE$65,'ИП + источники'!$A$17:$A$65,$A104,'ИП + источники'!$M$17:$M$65,\"Амортизационные отчисления\")+SUMIFS('ИП + источники'!AE$17:AE$65,'ИП + источники'!$A$17:$A$65,$A104,'ИП + источники'!$M$17:$M$65,\"погашение займов и кредитов из амортизации\")","v":438.13427999999999},{"$f":"SUMIFS('ИП + источники'!AF$17:AF$65,'ИП + источники'!$A$17:$A$65,$A104,'ИП + источники'!$M$17:$M$65,\"Амортизационные отчисления\")+SUMIFS('ИП + источники'!AF$17:AF$65,'ИП + источники'!$A$17:$A$65,$A104,'ИП + источники'!$M$17:$M$65,\"погашение займов и кредитов из амортизации\")","v":0},{"$f":"SUMIFS('ИП + источники'!AG$17:AG$65,'ИП + источники'!$A$17:$A$65,$A104,'ИП + источники'!$M$17:$M$65,\"Амортизационные отчисления\")+SUMIFS('ИП + источники'!AG$17:AG$65,'ИП + источники'!$A$17:$A$65,$A104,'ИП + источники'!$M$17:$M$65,\"погашение займов и кредитов из амортизации\")","v":0},{"$f":"SUMIFS('ИП + источники'!AH$17:AH$65,'ИП + источники'!$A$17:$A$65,$A104,'ИП + источники'!$M$17:$M$65,\"Амортизационные отчисления\")+SUMIFS('ИП + источники'!AH$17:AH$65,'ИП + источники'!$A$17:$A$65,$A104,'ИП + источники'!$M$17:$M$65,\"погашение займов и кредитов из амортизации\")","v":0},{"$f":"SUMIFS('ИП + источники'!AI$17:AI$65,'ИП + источники'!$A$17:$A$65,$A104,'ИП + источники'!$M$17:$M$65,\"Амортизационные отчисления\")+SUMIFS('ИП + источники'!AI$17:AI$65,'ИП + источники'!$A$17:$A$65,$A104,'ИП + источники'!$M$17:$M$65,\"погашение займов и кредитов из амортизации\")","v":0},{"$f":"SUMIFS('ИП + источники'!AJ$17:AJ$65,'ИП + источники'!$A$17:$A$65,$A104,'ИП + источники'!$M$17:$M$65,\"Амортизационные отчисления\")+SUMIFS('ИП + источники'!AJ$17:AJ$65,'ИП + источники'!$A$17:$A$65,$A104,'ИП + источники'!$M$17:$M$65,\"погашение займов и кредитов из амортизации\")","v":0},{"$f":"SUMIFS('ИП + источники'!AK$17:AK$65,'ИП + источники'!$A$17:$A$65,$A104,'ИП + источники'!$M$17:$M$65,\"Амортизационные отчисления\")+SUMIFS('ИП + источники'!AK$17:AK$65,'ИП + источники'!$A$17:$A$65,$A104,'ИП + источники'!$M$17:$M$65,\"погашение займов и кредитов из амортизации\")","v":0},{"$f":"SUMIFS('ИП + источники'!AL$17:AL$65,'ИП + источники'!$A$17:$A$65,$A104,'ИП + источники'!$M$17:$M$65,\"Амортизационные отчисления\")+SUMIFS('ИП + источники'!AL$17:AL$65,'ИП + источники'!$A$17:$A$65,$A104,'ИП + источники'!$M$17:$M$65,\"погашение займов и кредитов из амортизации\")","v":0},{"$f":"SUMIFS('ИП + источники'!AM$17:AM$65,'ИП + источники'!$A$17:$A$65,$A104,'ИП + источники'!$M$17:$M$65,\"Амортизационные отчисления\")+SUMIFS('ИП + источники'!AM$17:AM$65,'ИП + источники'!$A$17:$A$65,$A104,'ИП + источники'!$M$17:$M$65,\"погашение займов и кредитов из амортизации\")","v":0},{"$f":"SUMIFS('ИП + источники'!AN$17:AN$65,'ИП + источники'!$A$17:$A$65,$A104,'ИП + источники'!$M$17:$M$65,\"Амортизационные отчисления\")+SUMIFS('ИП + источники'!AN$17:AN$65,'ИП + источники'!$A$17:$A$65,$A104,'ИП + источники'!$M$17:$M$65,\"погашение займов и кредитов из амортизации\")","v":0},-11.78918842738932,-100,0,0,0,0,0,0,0,0,null,"1) Постановление РЭК Кемеровской области от 27.12.2018 N 748 \"Об утверждении инвестиционной программы ООО \"Беловские Городские очистные сооружения\" (Беловский городской округ) в сфере водоотведения на 2019 - 2021 годы\".  2) Учетная политика ООО \"БелГОС\" для целей бухгалтерского учета (Приказ от 30.12.2021 № 565).","Исключены начисления в части стоимости капитальных вложений в концессионное имущество, не предусмотренных Инвестиционной программой (соответствует позиции ФАС России)."]
["1","Нормативная прибыль",null,"L5",null,null,null,null,null,null,null,"5","Нормативная прибыль","тыс.руб.",{"$f":"O106+O107+O108+O109","v":363.2858819205},{"$f":"P106+P107+P108+P109","v":157.69},374.73521828381905,217.04521828381905,429.11546815960003,374,0,0,0,0,0,0,0,0,0,451.27543702711597,0,0,0,0,0,0,0,0,0,5.1641039561114193,-100,0,0,0,0,0,0,0,0]
["1",null,null,"L5_1",null,null,null,null,null,null,null,"5.1","средства на возврат инвестиционных займов","тыс.руб.",0,{"$f":"SUMIFS('ИП + источники'!Q$17:Q$65,'ИП + источники'!$A$17:$A$65,$A106,'ИП + источники'!$M$17:$M$65,\"погашение займов и кредитов из нормативной прибыли\")","v":0},{"$f":"SUMIFS('ИП + источники'!R$17:R$65,'ИП + источники'!$A$17:$A$65,$A106,'ИП + источники'!$M$17:$M$65,\"погашение займов и кредитов из нормативной прибыли\")","v":0},0,0,{"$f":"SUMIFS('ИП + источники'!U$17:U$65,'ИП + источники'!$A$17:$A$65,$A106,'ИП + источники'!$M$17:$M$65,\"погашение займов и кредитов из нормативной прибыли\")","v":0},{"$f":"SUMIFS('ИП + источники'!V$17:V$65,'ИП + источники'!$A$17:$A$65,$A106,'ИП + источники'!$M$17:$M$65,\"погашение займов и кредитов из нормативной прибыли\")","v":0},{"$f":"SUMIFS('ИП + источники'!W$17:W$65,'ИП + источники'!$A$17:$A$65,$A106,'ИП + источники'!$M$17:$M$65,\"погашение займов и кредитов из нормативной прибыли\")","v":0},{"$f":"SUMIFS('ИП + источники'!X$17:X$65,'ИП + источники'!$A$17:$A$65,$A106,'ИП + источники'!$M$17:$M$65,\"погашение займов и кредитов из нормативной прибыли\")","v":0},{"$f":"SUMIFS('ИП + источники'!Y$17:Y$65,'ИП + источники'!$A$17:$A$65,$A106,'ИП + источники'!$M$17:$M$65,\"погашение займов и кредитов из нормативной прибыли\")","v":0},{"$f":"SUMIFS('ИП + источники'!Z$17:Z$65,'ИП + источники'!$A$17:$A$65,$A106,'ИП + источники'!$M$17:$M$65,\"погашение займов и кредитов из нормативной прибыли\")","v":0},{"$f":"SUMIFS('ИП + источники'!AA$17:AA$65,'ИП + источники'!$A$17:$A$65,$A106,'ИП + источники'!$M$17:$M$65,\"погашение займов и кредитов из нормативной прибыли\")","v":0},{"$f":"SUMIFS('ИП + источники'!AB$17:AB$65,'ИП + источники'!$A$17:$A$65,$A106,'ИП + источники'!$M$17:$M$65,\"погашение займов и кредитов из нормативной прибыли\")","v":0},{"$f":"SUMIFS('ИП + источники'!AC$17:AC$65,'ИП + источники'!$A$17:$A$65,$A106,'ИП + источники'!$M$17:$M$65,\"погашение займов и кредитов из нормативной прибыли\")","v":0},{"$f":"SUMIFS('ИП + источники'!AD$17:AD$65,'ИП + источники'!$A$17:$A$65,$A106,'ИП + источники'!$M$17:$M$65,\"погашение займов и кредитов из нормативной прибыли\")","v":0},{"$f":"SUMIFS('ИП + источники'!AE$17:AE$65,'ИП + источники'!$A$17:$A$65,$A106,'ИП + источники'!$M$17:$M$65,\"погашение займов и кредитов из нормативной прибыли\")","v":0},{"$f":"SUMIFS('ИП + источники'!AF$17:AF$65,'ИП + источники'!$A$17:$A$65,$A106,'ИП + источники'!$M$17:$M$65,\"погашение займов и кредитов из нормативной прибыли\")","v":0},{"$f":"SUMIFS('ИП + источники'!AG$17:AG$65,'ИП + источники'!$A$17:$A$65,$A106,'ИП + источники'!$M$17:$M$65,\"погашение займов и кредитов из нормативной прибыли\")","v":0},{"$f":"SUMIFS('ИП + источники'!AH$17:AH$65,'ИП + источники'!$A$17:$A$65,$A106,'ИП + источники'!$M$17:$M$65,\"погашение займов и кредитов из нормативной прибыли\")","v":0},{"$f":"SUMIFS('ИП + источники'!AI$17:AI$65,'ИП + источники'!$A$17:$A$65,$A106,'ИП + источники'!$M$17:$M$65,\"погашение займов и кредитов из нормативной прибыли\")","v":0},{"$f":"SUMIFS('ИП + источники'!AJ$17:AJ$65,'ИП + источники'!$A$17:$A$65,$A106,'ИП + источники'!$M$17:$M$65,\"погашение займов и кредитов из нормативной прибыли\")","v":0},{"$f":"SUMIFS('ИП + источники'!AK$17:AK$65,'ИП + источники'!$A$17:$A$65,$A106,'ИП + источники'!$M$17:$M$65,\"погашение займов и кредитов из нормативной прибыли\")","v":0},{"$f":"SUMIFS('ИП + источники'!AL$17:AL$65,'ИП + источники'!$A$17:$A$65,$A106,'ИП + источники'!$M$17:$M$65,\"погашение займов и кредитов из нормативной прибыли\")","v":0},{"$f":"SUMIFS('ИП + источники'!AM$17:AM$65,'ИП + источники'!$A$17:$A$65,$A106,'ИП + источники'!$M$17:$M$65,\"погашение займов и кредитов из нормативной прибыли\")","v":0},{"$f":"SUMIFS('ИП + источники'!AN$17:AN$65,'ИП + источники'!$A$17:$A$65,$A106,'ИП + источники'!$M$17:$M$65,\"погашение займов и кредитов из нормативной прибыли\")","v":0},0,0,0,0,0,0,0,0,0,0]
["1",null,null,"L5_2",null,null,null,null,null,null,null,"5.2","средства на уплату процентов по инвестиционным займам","тыс.руб.",0,{"$f":"SUMIFS('ИП + источники'!Q$17:Q$65,'ИП + источники'!$A$17:$A$65,$A107,'ИП + источники'!$M$17:$M$65,\"уплата процентов по кредитам из нормативной прибыли\")","v":0},{"$f":"SUMIFS('ИП + источники'!R$17:R$65,'ИП + источники'!$A$17:$A$65,$A107,'ИП + источники'!$M$17:$M$65,\"уплата процентов по кредитам из нормативной прибыли\")","v":0},0,0,{"$f":"SUMIFS('ИП + источники'!U$17:U$65,'ИП + источники'!$A$17:$A$65,$A107,'ИП + источники'!$M$17:$M$65,\"уплата процентов по кредитам из нормативной прибыли\")","v":0},{"$f":"SUMIFS('ИП + источники'!V$17:V$65,'ИП + источники'!$A$17:$A$65,$A107,'ИП + источники'!$M$17:$M$65,\"уплата процентов по кредитам из нормативной прибыли\")","v":0},{"$f":"SUMIFS('ИП + источники'!W$17:W$65,'ИП + источники'!$A$17:$A$65,$A107,'ИП + источники'!$M$17:$M$65,\"уплата процентов по кредитам из нормативной прибыли\")","v":0},{"$f":"SUMIFS('ИП + источники'!X$17:X$65,'ИП + источники'!$A$17:$A$65,$A107,'ИП + источники'!$M$17:$M$65,\"уплата процентов по кредитам из нормативной прибыли\")","v":0},{"$f":"SUMIFS('ИП + источники'!Y$17:Y$65,'ИП + источники'!$A$17:$A$65,$A107,'ИП + источники'!$M$17:$M$65,\"уплата процентов по кредитам из нормативной прибыли\")","v":0},{"$f":"SUMIFS('ИП + источники'!Z$17:Z$65,'ИП + источники'!$A$17:$A$65,$A107,'ИП + источники'!$M$17:$M$65,\"уплата процентов по кредитам из нормативной прибыли\")","v":0},{"$f":"SUMIFS('ИП + источники'!AA$17:AA$65,'ИП + источники'!$A$17:$A$65,$A107,'ИП + источники'!$M$17:$M$65,\"уплата процентов по кредитам из нормативной прибыли\")","v":0},{"$f":"SUMIFS('ИП + источники'!AB$17:AB$65,'ИП + источники'!$A$17:$A$65,$A107,'ИП + источники'!$M$17:$M$65,\"уплата процентов по кредитам из нормативной прибыли\")","v":0},{"$f":"SUMIFS('ИП + источники'!AC$17:AC$65,'ИП + источники'!$A$17:$A$65,$A107,'ИП + источники'!$M$17:$M$65,\"уплата процентов по кредитам из нормативной прибыли\")","v":0},{"$f":"SUMIFS('ИП + источники'!AD$17:AD$65,'ИП + источники'!$A$17:$A$65,$A107,'ИП + источники'!$M$17:$M$65,\"уплата процентов по кредитам из нормативной прибыли\")","v":0},{"$f":"SUMIFS('ИП + источники'!AE$17:AE$65,'ИП + источники'!$A$17:$A$65,$A107,'ИП + источники'!$M$17:$M$65,\"уплата процентов по кредитам из нормативной прибыли\")","v":0},{"$f":"SUMIFS('ИП + источники'!AF$17:AF$65,'ИП + источники'!$A$17:$A$65,$A107,'ИП + источники'!$M$17:$M$65,\"уплата процентов по кредитам из нормативной прибыли\")","v":0},{"$f":"SUMIFS('ИП + источники'!AG$17:AG$65,'ИП + источники'!$A$17:$A$65,$A107,'ИП + источники'!$M$17:$M$65,\"уплата процентов по кредитам из нормативной прибыли\")","v":0},{"$f":"SUMIFS('ИП + источники'!AH$17:AH$65,'ИП + источники'!$A$17:$A$65,$A107,'ИП + источники'!$M$17:$M$65,\"уплата процентов по кредитам из нормативной прибыли\")","v":0},{"$f":"SUMIFS('ИП + источники'!AI$17:AI$65,'ИП + источники'!$A$17:$A$65,$A107,'ИП + источники'!$M$17:$M$65,\"уплата процентов по кредитам из нормативной прибыли\")","v":0},{"$f":"SUMIFS('ИП + источники'!AJ$17:AJ$65,'ИП + источники'!$A$17:$A$65,$A107,'ИП + источники'!$M$17:$M$65,\"уплата процентов по кредитам из нормативной прибыли\")","v":0},{"$f":"SUMIFS('ИП + источники'!AK$17:AK$65,'ИП + источники'!$A$17:$A$65,$A107,'ИП + источники'!$M$17:$M$65,\"уплата процентов по кредитам из нормативной прибыли\")","v":0},{"$f":"SUMIFS('ИП + источники'!AL$17:AL$65,'ИП + источники'!$A$17:$A$65,$A107,'ИП + источники'!$M$17:$M$65,\"уплата процентов по кредитам из нормативной прибыли\")","v":0},{"$f":"SUMIFS('ИП + источники'!AM$17:AM$65,'ИП + источники'!$A$17:$A$65,$A107,'ИП + источники'!$M$17:$M$65,\"уплата процентов по кредитам из нормативной прибыли\")","v":0},{"$f":"SUMIFS('ИП + источники'!AN$17:AN$65,'ИП + источники'!$A$17:$A$65,$A107,'ИП + источники'!$M$17:$M$65,\"уплата процентов по кредитам из нормативной прибыли\")","v":0},0,0,0,0,0,0,0,0,0,0]
["1",null,null,"L5_3",null,null,null,null,null,null,null,"5.3","капитальные расходы","тыс.руб.",0,{"$f":"SUMIFS('ИП + источники'!Q$17:Q$65,'ИП + источники'!$A$17:$A$65,$A108,'ИП + источники'!$M$17:$M$65,\"Прибыль на капвложения\")","v":0},{"$f":"SUMIFS('ИП + источники'!R$17:R$65,'ИП + источники'!$A$17:$A$65,$A108,'ИП + источники'!$M$17:$M$65,\"Прибыль на капвложения\")","v":0},0,0,{"$f":"SUMIFS('ИП + источники'!U$17:U$65,'ИП + источники'!$A$17:$A$65,$A108,'ИП + источники'!$M$17:$M$65,\"Прибыль на капвложения\")","v":0},{"$f":"SUMIFS('ИП + источники'!V$17:V$65,'ИП + источники'!$A$17:$A$65,$A108,'ИП + источники'!$M$17:$M$65,\"Прибыль на капвложения\")","v":0},{"$f":"SUMIFS('ИП + источники'!W$17:W$65,'ИП + источники'!$A$17:$A$65,$A108,'ИП + источники'!$M$17:$M$65,\"Прибыль на капвложения\")","v":0},{"$f":"SUMIFS('ИП + источники'!X$17:X$65,'ИП + источники'!$A$17:$A$65,$A108,'ИП + источники'!$M$17:$M$65,\"Прибыль на капвложения\")","v":0},{"$f":"SUMIFS('ИП + источники'!Y$17:Y$65,'ИП + источники'!$A$17:$A$65,$A108,'ИП + источники'!$M$17:$M$65,\"Прибыль на капвложения\")","v":0},{"$f":"SUMIFS('ИП + источники'!Z$17:Z$65,'ИП + источники'!$A$17:$A$65,$A108,'ИП + источники'!$M$17:$M$65,\"Прибыль на капвложения\")","v":0},{"$f":"SUMIFS('ИП + источники'!AA$17:AA$65,'ИП + источники'!$A$17:$A$65,$A108,'ИП + источники'!$M$17:$M$65,\"Прибыль на капвложения\")","v":0},{"$f":"SUMIFS('ИП + источники'!AB$17:AB$65,'ИП + источники'!$A$17:$A$65,$A108,'ИП + источники'!$M$17:$M$65,\"Прибыль на капвложения\")","v":0},{"$f":"SUMIFS('ИП + источники'!AC$17:AC$65,'ИП + источники'!$A$17:$A$65,$A108,'ИП + источники'!$M$17:$M$65,\"Прибыль на капвложения\")","v":0},{"$f":"SUMIFS('ИП + источники'!AD$17:AD$65,'ИП + источники'!$A$17:$A$65,$A108,'ИП + источники'!$M$17:$M$65,\"Прибыль на капвложения\")","v":0},{"$f":"SUMIFS('ИП + источники'!AE$17:AE$65,'ИП + источники'!$A$17:$A$65,$A108,'ИП + источники'!$M$17:$M$65,\"Прибыль на капвложения\")","v":0},{"$f":"SUMIFS('ИП + источники'!AF$17:AF$65,'ИП + источники'!$A$17:$A$65,$A108,'ИП + источники'!$M$17:$M$65,\"Прибыль на капвложения\")","v":0},{"$f":"SUMIFS('ИП + источники'!AG$17:AG$65,'ИП + источники'!$A$17:$A$65,$A108,'ИП + источники'!$M$17:$M$65,\"Прибыль на капвложения\")","v":0},{"$f":"SUMIFS('ИП + источники'!AH$17:AH$65,'ИП + источники'!$A$17:$A$65,$A108,'ИП + источники'!$M$17:$M$65,\"Прибыль на капвложения\")","v":0},{"$f":"SUMIFS('ИП + источники'!AI$17:AI$65,'ИП + источники'!$A$17:$A$65,$A108,'ИП + источники'!$M$17:$M$65,\"Прибыль на капвложения\")","v":0},{"$f":"SUMIFS('ИП + источники'!AJ$17:AJ$65,'ИП + источники'!$A$17:$A$65,$A108,'ИП + источники'!$M$17:$M$65,\"Прибыль на капвложения\")","v":0},{"$f":"SUMIFS('ИП + источники'!AK$17:AK$65,'ИП + источники'!$A$17:$A$65,$A108,'ИП + источники'!$M$17:$M$65,\"Прибыль на капвложения\")","v":0},{"$f":"SUMIFS('ИП + источники'!AL$17:AL$65,'ИП + источники'!$A$17:$A$65,$A108,'ИП + источники'!$M$17:$M$65,\"Прибыль на капвложения\")","v":0},{"$f":"SUMIFS('ИП + источники'!AM$17:AM$65,'ИП + источники'!$A$17:$A$65,$A108,'ИП + источники'!$M$17:$M$65,\"Прибыль на капвложения\")","v":0},{"$f":"SUMIFS('ИП + источники'!AN$17:AN$65,'ИП + источники'!$A$17:$A$65,$A108,'ИП + источники'!$M$17:$M$65,\"Прибыль на капвложения\")","v":0},0,0,0,0,0,0,0,0,0,0]
["1","иные экономически обоснованные расходы на социальные нужды",null,"L5_4",null,null,null,null,null,null,null,"5.4","иные экономически обоснованные расходы на социальные нужды в соответствии с пунктом 86 настоящих Методических указаний","тыс.руб.",363.2858819205,157.69,374.73521828381905,217.04521828381905,429.11546815960003,374,null,null,null,null,null,null,null,null,null,451.27543702711597,null,null,null,null,null,null,null,null,null,5.1641039561114193,-100,0,0,0,0,0,0,0,0,null,"1) Пункт 86 Методических указаний ФСТ № 1746-э.  2) Постановление региональной энергетической комиссии Кемеровской области от 19.12.2018 № 759  \"Об установлении долгосрочных параметров  регулирования тарифов в сфере водоотведения  ООО «Беловские Городские Очистные сооружения» (Беловский городской округ)\" (в редакции Постановлений Региональной энергетической комиссии от 24.11.2020 N 427, от 11.02.2021 N 60).","Специалистом РЭК  сумма Нормативной прибыли определена, исходя из  принятой расчетной величины необходимой валовой выручки (без учета прибыли и налога на прибыль) на 2025 год  и  значения нормативного уровня прибыли (0,29%), установленного Постановлением региональной энергетической комиссии Кемеровской области от 19.12.2018 № 759 (в ред. Постановлений Региональной энергетической комиссии от 24.11.2020 N 427, от 11.02.2021 N 60)."]
["1","Расчетная предпринимательская прибыль гарантирующей организации",null,"L6",null,null,null,null,null,null,null,"6","Расчетная предпринимательская прибыль гарантирующей организации","тыс.руб.",6541.2147898802996,4119.9799999999996,6745.6673264967685,2625.6873264967689,7927.9330671365997,8736.76,null,null,null,null,null,null,null,null,null,8129.138667951941,null,null,null,null,null,null,null,null,null,2.5379326378194622,-100,0,0,0,0,0,0,0,0,null,"1) Пункт 86(1) Методических указаний ФСТ № 1746-э. 2) Постановление Администрации  Беловского городского округа от 28.11.2014  № 329-п \"О присвоении статуса гарантирующей организации, осуществляющей водоотведение, с указанием зоны ее деятельности\".","Рассчитано  в соответствии с п. 86 91) (Формула 31.1) Методических указаний ФСТ № 1746-э, в размере 5,0% от принятой на 2024 год суммы Текущих расходов и Амортизации."]
["1","L11",null,"L7_0",null,null,null,null,null,null,null,"7","Корректировка НВВ всего","тыс.руб.",{"$f":"O114+O115+O116","v":-15053.970302187201},-413.63,{"$f":"Q114+Q115+Q116","v":-15053.980302187201},-14640.350302187202,-4215.5503333332999,{"$f":"SUMIFS('Корректировка НВВ'!$P$15:$P$60,'Корректировка НВВ'!$A$15:$A$60,$A111,'Корректировка НВВ'!$D$15:$D$60,$B111)","v":-2088.6767299999965},null,null,null,null,null,null,null,null,null,{"$f":"SUMIFS('Корректировка НВВ'!$Q$15:$Q$60,'Корректировка НВВ'!$A$15:$A$60,$A111,'Корректировка НВВ'!$D$15:$D$60,$B111)","v":-15381.674749252519},null,null,null,null,null,null,null,null,null,264.87939967472749,-100,0,0,0,0,0,0,0,0]
["1",null,null,null,null,null,null,null,null,null,null,null,"Справочно в том числе:"]
["1","L3",null,"L7",null,null,null,null,null,null,null,"7.1","Ввод объектов системы водоснабжения и (или) водоотведения в эксплуатацию и изменение утверждённой инвестиционной программы","тыс.руб.",null,null,null,0,0,{"$f":"SUMIFS('Корректировка НВВ'!$P$15:$P$60,'Корректировка НВВ'!$A$15:$A$60,$A113,'Корректировка НВВ'!$D$15:$D$60,$B113)","v":0},null,null,null,null,null,null,null,null,null,{"$f":"SUMIFS('Корректировка НВВ'!$Q$15:$Q$60,'Корректировка НВВ'!$A$15:$A$60,$A113,'Корректировка НВВ'!$D$15:$D$60,$B113)","v":0},null,null,null,null,null,null,null,null,null,null,null,null,null,null,null,null,null,null,null,null,"П. 92 Методических указаний ФСТ России № 1746-э.","Мероприятия Инвестиционной программы полностью выполнены в 2019-2021 гг."]
["1","L4",null,"L8",null,null,null,null,null,null,null,"7.2","Степень исполнения регулируемой организацией обязательств по созданию и (или) реконструкции объектов концессионного соглашения, по эксплуатации объектов по договору аренды централизованных систем горячего водоснабжения, холодного водоснабжения и (или) водоотведения, отдельных объектов таких систем, находящихся в государственной или муниципальной собственности, по реализации инвестиционной программы, производственной программы при недостижении регулируемой организацией утверждённых плановых значений показателей надежности и качества объектов централизованных систем водоснабжения и (или) водоотведения","тыс.руб.",{"$f":"-2083.0408158738+0.01","v":-2083.0308158737998},null,-2083.0408158738001,-2083.0408158738001,0,{"$f":"SUMIFS('Корректировка НВВ'!$P$15:$P$60,'Корректировка НВВ'!$A$15:$A$60,$A114,'Корректировка НВВ'!$D$15:$D$60,$B114)","v":0},null,null,null,null,null,null,null,null,null,{"$f":"SUMIFS('Корректировка НВВ'!$Q$15:$Q$60,'Корректировка НВВ'!$A$15:$A$60,$A114,'Корректировка НВВ'!$D$15:$D$60,$B114)","v":-4684.2341692320015},null,null,null,null,null,null,null,null,null,null,null,null,null,null,null,null,null,null,null,null,"Пункт 93 Методических указаний ФСТ России № 1746-э.","Сумма корректировки плановой НВВ 2023 года рассчитана в соответствии с Формулой (36) Методических указаний ФСТ России № 1746-э. Агрегированный показатель (А2023) = 0,848;  процент корректировки - 3,0% ;  применены ИПЦ  108,0% на 2024 г. и 105,8% на 2025 г. согласно Прогнозу Минэкономразвития России от 30.09.2024."]
["1",null,null,"L9",null,null,null,null,null,null,null,"7.3","Размер корректировки НВВ по результатам деятельности прошлых периодов регулирования, а также осуществляемой с целью учета отклонения фактических значений параметров расчета тарифов от значений, учтенных при установлении тарифов","тыс.руб.",1003.7028470199,null,1003.7028470199,1003.7028470199,0,{"$f":"SUMIFS('Корректировка НВВ'!$P$15:$P$60,'Корректировка НВВ'!$A$15:$A$60,$A115,'Корректировка НВВ'!$D$15:$D$60,\"L1\")+SUMIFS('Корректировка НВВ'!$P$15:$P$60,'Корректировка НВВ'!$A$15:$A$60,$A115,'Корректировка НВВ'!$D$15:$D$60,\"L2\")","v":-5261.772729999997},null,null,null,null,null,null,null,null,null,{"$f":"SUMIFS('Корректировка НВВ'!$Q$15:$Q$60,'Корректировка НВВ'!$A$15:$A$60,$A115,'Корректировка НВВ'!$D$15:$D$60,\"L1\")+SUMIFS('Корректировка НВВ'!$Q$15:$Q$60,'Корректировка НВВ'!$A$15:$A$60,$A115,'Корректировка НВВ'!$D$15:$D$60,\"L2\")","v":-6855.7680750205182},null,null,null,null,null,null,null,null,null,null,null,null,null,null,null,null,null,null,null,null,"Рассчитано в соответствии с п. 91 и 95 Методических указаний ФСТ России № 1746-э.","Формулы 33 и 38, расчет на Листе \"Корректировка НВВ\"."]
["1","L5",{"$f":"D16=\"Водоотведение\"","v":true},"L12",null,null,null,null,null,null,null,"7.4","Доходы от взимания платы за нарушение нормативов по объёму и (или) составу сточных вод, за исключением направленных целевым образом на внесение платы за негативное воздействие на окружающую среду, компенсацию вреда, причиненного водному объекту, и финансирование мероприятий инвестиционной программы по строительству, реконструкции и модернизации объектов централизованной системы водоотведения (в соответствии с пунктом 26(1) Основ ценообразования в сфере водоснабжения и водоотведения)","тыс.руб.",-13974.6423333333,4513.28,-13974.6423333333,-18487.922333333299,3269.3919999999998,{"$f":"SUMIFS('Корректировка НВВ'!$P$15:$P$60,'Корректировка НВВ'!$A$15:$A$60,$A116,'Корректировка НВВ'!$D$15:$D$60,$B116)","v":4513.2930000000006},null,null,null,null,null,null,null,null,null,{"$f":"SUMIFS('Корректировка НВВ'!$Q$15:$Q$60,'Корректировка НВВ'!$A$15:$A$60,$A116,'Корректировка НВВ'!$D$15:$D$60,$B116)","v":-3531.9325254894657},null,null,null,null,null,null,null,null,null,null,null,null,null,null,null,null,null,null,null,null,"1) Абзацы 2 и 3 Пункта 14 Методических указаний ФСТ № 1746-э. 2) ЗАКЛЮЧЕНИЕ по анализу материалов ООО «БелГОС» (г. Белово), ИНН 4202023230, представленных для подтверждения планируемых расходов ремонтной программы в сфере водоотведения на 2024 год (в рамках госконтракта от 29.05.2023 № 5к)(Открытое акционерное общество «Агентство энергетических экспертиз», г. Кемерово, 2023)."," Учтены: 1) фактически начисленная абонентам  за 2023 год  сумма платы за нарушение нормативов по объему и составу сточных вод (ПДК), за негативное воздействие на систему водоотведения (3173,09 тыс. руб. без учета НДС), уменьшенная на сумму платы  за негативное воздействие на окружающую среду (40,413 тыс. руб. согласно декларации) и на сумму налога на прибыль, распределенную на ПДК  (317,31 тыс. руб., расчет прилагается). 2) При корректировке тарифов на 2023 г.  в распоряжении организации была оставлена  сумма стоимости плановых мероприятий по КАПРЕМОНТУ в размере  1112,25 тыс. руб. и плановых затрат на Программу энергосбережения в размере 1231,94 тыс. руб.  Фактическое выполнение по кап. ремонту за 2023 г. составило : 965,67 тыс. руб. без учета НДС (согласовано АО \"АЭЭ\"), + стоимость приобретения насоса WC HAC (для КНС мкр. Ивушка) 352,218 тыс. руб.; факт по Программе Энергосбережения, признанный регулятором, - 0,00 тыс. руб. Общая величина избытка, учтенного в составе плановой НВВ 2023 г.: 1112,25 тыс. руб.  + 1231,94 тыс. руб. - 965,67  тыс. руб. - 352,218 тыс. руб. = 1026,30 тыс. руб."]
["1","L6",{"$f":"D16=\"Водоотведение\"","v":true},"L13",null,null,null,null,null,null,null,"7.5","Доходы от взимания платы за негативное воздействие на централизован-ную систему водоотведения, за исключением направленных целевым образом на финансирование мероприятий инвестиционной и (или) производственной программы организации (в соответствии с пунктом 26(1) Основ ценообразования в сфере водоснабжения и водоотведения)","тыс.руб.",null,-1340.2,null,1340.2,946.15833333329999,{"$f":"SUMIFS('Корректировка НВВ'!$P$15:$P$60,'Корректировка НВВ'!$A$15:$A$60,$A117,'Корректировка НВВ'!$D$15:$D$60,$B117)","v":-1340.1969999999999},null,null,null,null,null,null,null,null,null,{"$f":"SUMIFS('Корректировка НВВ'!$Q$15:$Q$60,'Корректировка НВВ'!$A$15:$A$60,$A117,'Корректировка НВВ'!$D$15:$D$60,$B117)","v":-309.73997951053485},null,null,null,null,null,null,null,null,null,null,null,null,null,null,null,null,null,null,null,null,null,"См. Лист \"Плата за негативное возд.\""]
["1","L7",null,"L14",null,null,null,null,null,null,null,"7.6","Недополученные доходы / Выпадающие расходы","тыс.руб.",null,2759.45,null,-2759.45,0,{"$f":"SUMIFS('Корректировка НВВ'!$P$15:$P$60,'Корректировка НВВ'!$A$15:$A$60,$A118,'Корректировка НВВ'!$D$15:$D$60,$B118)","v":0},null,null,null,null,null,null,null,null,null,{"$f":"SUMIFS('Корректировка НВВ'!$Q$15:$Q$60,'Корректировка НВВ'!$A$15:$A$60,$A118,'Корректировка НВВ'!$D$15:$D$60,$B118)","v":0},null,null,null,null,null,null,null,null,null,null,null,null,null,null,null,null,null,null,null,null,null,"Сумма не расшифрована. Размер корректировки по результатам прошлых периодов регулирования учтен специалистом РЭК Кузбасса по пункту 7.3."]
["1","L8",null,"L15",null,null,null,null,null,null,null,"7.7","Избыток средств, полученный за отчётные периоды регулирования","тыс.руб.",0,{"$f":"P120+P121","v":0},{"$f":"Q120+Q121","v":0},0,0,{"$f":"SUMIFS('Корректировка НВВ'!$P$15:$P$60,'Корректировка НВВ'!$A$15:$A$60,$A119,'Корректировка НВВ'!$D$15:$D$60,$B119)","v":0},{"$f":"U120+U121","v":0},0,0,0,0,0,0,0,0,{"$f":"SUMIFS('Корректировка НВВ'!$Q$15:$Q$60,'Корректировка НВВ'!$A$15:$A$60,$A119,'Корректировка НВВ'!$D$15:$D$60,$B119)","v":0},0,0,0,0,0,0,0,0,0,{"$f":"IF(S119=0,0,(AD119-S119)/S119*100)","v":0},{"$f":"IF(AD119=0,0,(AE119-AD119)/AD119*100)","v":0},0,0,0,0,0,0,0,0]
["1","L8_1",null,"L15_1",null,null,null,null,null,null,null,"7.7.1","Экономически не обоснованные доходы / расходы прошлых периодов регулирования","тыс.руб.",null,null,null,0,0,{"$f":"SUMIFS('Корректировка НВВ'!$P$15:$P$60,'Корректировка НВВ'!$A$15:$A$60,$A120,'Корректировка НВВ'!$D$15:$D$60,$B120)","v":0},null,null,null,null,null,null,null,null,null,{"$f":"SUMIFS('Корректировка НВВ'!$Q$15:$Q$60,'Корректировка НВВ'!$A$15:$A$60,$A120,'Корректировка НВВ'!$D$15:$D$60,$B120)","v":0}]
["1","L8_2",null,"L15_2",null,null,null,null,null,null,null,"7.7.2","Бюджетные субсидии, полученные на финансирование расходов, учтенных в тарифах","тыс.руб.",null,null,null,0,0,{"$f":"SUMIFS('Корректировка НВВ'!$P$15:$P$60,'Корректировка НВВ'!$A$15:$A$60,$A121,'Корректировка НВВ'!$D$15:$D$60,$B121)","v":0},null,null,null,null,null,null,null,null,null,{"$f":"SUMIFS('Корректировка НВВ'!$Q$15:$Q$60,'Корректировка НВВ'!$A$15:$A$60,$A121,'Корректировка НВВ'!$D$15:$D$60,$B121)","v":0}]
["1","L9",null,"L16",null,null,null,null,null,null,null,"7.8","Величина отклонения по результатам досудебного рассмотрения споров","тыс.руб.",null,null,null,0,0,{"$f":"SUMIFS('Корректировка НВВ'!$P$15:$P$60,'Корректировка НВВ'!$A$15:$A$60,$A122,'Корректировка НВВ'!$D$15:$D$60,$B122)","v":0},null,null,null,null,null,null,null,null,null,{"$f":"SUMIFS('Корректировка НВВ'!$Q$15:$Q$60,'Корректировка НВВ'!$A$15:$A$60,$A122,'Корректировка НВВ'!$D$15:$D$60,$B122)","v":0}]
["1","L10",null,"L17",null,null,null,null,null,null,null,"7.9","Величина отклонения по результатам рассмотрения разногласий","тыс.руб.",null,null,null,0,0,{"$f":"SUMIFS('Корректировка НВВ'!$P$15:$P$60,'Корректировка НВВ'!$A$15:$A$60,$A123,'Корректировка НВВ'!$D$15:$D$60,$B123)","v":0},null,null,null,null,null,null,null,null,null,{"$f":"SUMIFS('Корректировка НВВ'!$Q$15:$Q$60,'Корректировка НВВ'!$A$15:$A$60,$A123,'Корректировка НВВ'!$D$15:$D$60,$B123)","v":0}]
["1",null,null,"L10",null,null,null,null,null,null,null,"8","Величина сглаживания НВВ","тыс.руб.",null,null,null,0,-1087.5899999999999,null,null,null,null,null,null,null,null,null,null,4569.45,null,null,null,null,null,null,null,null,null,null,null,null,null,null,null,null,null,null,null,null,"п. 42 Методических указаний ФСТ № 1746-э.","Положительная корректировка не превышает 12% от рассчитанной регулятором НВВ на 2025 г. и применена в связи с ожидаемым значительным снижением объемов реализации (из-за выбытия ООО Птицефабрика Инская). В соответствии с П. 42 Методических указаний ФСТ России № 1746-э суммарная величина корректировок будет сведена к нулю до окончания долгосрочного периода (31.12.2028)."]
["1",null,null,"L10_1",null,null,null,null,null,null,null,"8.1","% сглаживания НВВ","%",{"$f":"IF(O126=0,0,O124/O126*100)","v":0},{"$f":"IF(P126=0,0,P124/P126*100)","v":0},{"$f":"IF(Q126=0,0,Q124/Q126*100)","v":0},{"$f":"Q125-P125","v":0},{"$f":"IF(S126=0,0,S124/S126*100)","v":-0.65158038389017725},0,0,0,0,0,0,0,0,0,0,2.6110418385601091,0,0,0,0,0,0,0,0,0]
["1",null,null,"L11",null,null,null,null,null,null,null,"9","Необходимая валовая выручка","тыс.руб.",{"$f":"O17+O68+O102+O103+O105+O110","v":151703.43080274021},{"$f":"P17+P68+P102+P103+P105+P110","v":147015.09527000002},{"$f":"Q17+Q68+Q102+Q103+Q105+Q110","v":156169.62472488507},{"$f":"Q126-P126","v":9154.5294548850507},{"$f":"S17+S68+S102+S103+S105+S110","v":166915.70631802682},177868.50000000003,127013.08,127013.08,127013.08,127013.08,127013.08,127013.08,127013.08,127013.08,127013.08,175004.85562957809,130048.5902231364,130048.5902231364,130048.5902231364,130048.5902231364,130048.5902231364,130048.5902231364,130048.5902231364,130048.5902231364,130048.5902231364,{"$f":"IF(S126=0,0,(AD126-S126)/S126*100)","v":4.8462481392487433},{"$f":"IF(AD126=0,0,(AE126-AD126)/AD126*100)","v":-25.688581750895999},0,0,0,0,0,0,0,0]
["1",null,null,"L18",null,null,null,null,null,null,null,"10","Итого НВВ для расчёта тарифа","тыс.руб.",{"$f":"O126+O111+O124","v":136649.46050055302},146601.46527000002,141115.64442269786,-5485.8208473021514,161612.56598469353,175779.82327000002,127013.08,127013.08,127013.08,127013.08,127013.08,127013.08,127013.08,127013.08,127013.08,164192.63088032557,130048.5902231364,130048.5902231364,130048.5902231364,130048.5902231364,130048.5902231364,130048.5902231364,130048.5902231364,130048.5902231364,130048.5902231364,{"$f":"IF(S127=0,0,(AD127-S127)/S127*100)","v":1.5964506719585139},-20.795111494422425,0,0,0,0,0,0,0,0]
["1",null,{"$f":"B16=\"двухставочный\"","v":false},"L18_1",null,null,null,null,null,null,null,"10.1","в части условно-переменных расходов","тыс.руб.",null,null,null,{"$f":"Q128-P128","v":0}]
["1",null,{"$f":"B16=\"двухставочный\"","v":false},"L18_2",null,null,null,null,null,null,null,"10.2","в части условно-постоянных расходов","тыс.руб.",null,null,null,{"$f":"Q129-P129","v":0}]
["1","ПО.прочие",null,"L19",null,null,null,null,null,null,null,"11","Полезный отпуск без разбивки по группам потребителей","тыс.куб.м",{"$f":"SUMIFS(Баланс!O$16:O$57,Баланс!$A$16:$A$57,$A130,Баланс!$B$16:$B$57,\"ПО\")","v":3663.5242677567999},{"$f":"SUMIFS(Баланс!P$16:P$57,Баланс!$A$16:$A$57,$A130,Баланс!$B$16:$B$57,\"ПО\")","v":3967.0619999999999},{"$f":"SUMIFS(Баланс!Q$16:Q$57,Баланс!$A$16:$A$57,$A130,Баланс!$B$16:$B$57,\"ПО\")","v":3967.0619999999999},{"$f":"Q130-P130","v":0},{"$f":"SUMIFS(Баланс!R$16:R$57,Баланс!$A$16:$A$57,$A130,Баланс!$B$16:$B$57,\"ПО\")","v":4134.3711238192},{"$f":"SUMIFS(Баланс!S$16:S$57,Баланс!$A$16:$A$57,$A130,Баланс!$B$16:$B$57,\"ПО\")","v":4043.7739999999999},{"$f":"SUMIFS(Баланс!T$16:T$57,Баланс!$A$16:$A$57,$A130,Баланс!$B$16:$B$57,\"ПО\")","v":0},{"$f":"SUMIFS(Баланс!U$16:U$57,Баланс!$A$16:$A$57,$A130,Баланс!$B$16:$B$57,\"ПО\")","v":0},{"$f":"SUMIFS(Баланс!V$16:V$57,Баланс!$A$16:$A$57,$A130,Баланс!$B$16:$B$57,\"ПО\")","v":0},{"$f":"SUMIFS(Баланс!W$16:W$57,Баланс!$A$16:$A$57,$A130,Баланс!$B$16:$B$57,\"ПО\")","v":0},{"$f":"SUMIFS(Баланс!X$16:X$57,Баланс!$A$16:$A$57,$A130,Баланс!$B$16:$B$57,\"ПО\")","v":0},{"$f":"SUMIFS(Баланс!Y$16:Y$57,Баланс!$A$16:$A$57,$A130,Баланс!$B$16:$B$57,\"ПО\")","v":0},{"$f":"SUMIFS(Баланс!Z$16:Z$57,Баланс!$A$16:$A$57,$A130,Баланс!$B$16:$B$57,\"ПО\")","v":0},{"$f":"SUMIFS(Баланс!AA$16:AA$57,Баланс!$A$16:$A$57,$A130,Баланс!$B$16:$B$57,\"ПО\")","v":0},{"$f":"SUMIFS(Баланс!AB$16:AB$57,Баланс!$A$16:$A$57,$A130,Баланс!$B$16:$B$57,\"ПО\")","v":0},{"$f":"SUMIFS(Баланс!AC$16:AC$57,Баланс!$A$16:$A$57,$A130,Баланс!$B$16:$B$57,\"ПО\")","v":3918.2110000000002},{"$f":"SUMIFS(Баланс!AD$16:AD$57,Баланс!$A$16:$A$57,$A130,Баланс!$B$16:$B$57,\"ПО\")","v":0},{"$f":"SUMIFS(Баланс!AE$16:AE$57,Баланс!$A$16:$A$57,$A130,Баланс!$B$16:$B$57,\"ПО\")","v":0},{"$f":"SUMIFS(Баланс!AF$16:AF$57,Баланс!$A$16:$A$57,$A130,Баланс!$B$16:$B$57,\"ПО\")","v":0},{"$f":"SUMIFS(Баланс!AG$16:AG$57,Баланс!$A$16:$A$57,$A130,Баланс!$B$16:$B$57,\"ПО\")","v":0},{"$f":"SUMIFS(Баланс!AH$16:AH$57,Баланс!$A$16:$A$57,$A130,Баланс!$B$16:$B$57,\"ПО\")","v":0},{"$f":"SUMIFS(Баланс!AI$16:AI$57,Баланс!$A$16:$A$57,$A130,Баланс!$B$16:$B$57,\"ПО\")","v":0},{"$f":"SUMIFS(Баланс!AJ$16:AJ$57,Баланс!$A$16:$A$57,$A130,Баланс!$B$16:$B$57,\"ПО\")","v":0},{"$f":"SUMIFS(Баланс!AK$16:AK$57,Баланс!$A$16:$A$57,$A130,Баланс!$B$16:$B$57,\"ПО\")","v":0},{"$f":"SUMIFS(Баланс!AL$16:AL$57,Баланс!$A$16:$A$57,$A130,Баланс!$B$16:$B$57,\"ПО\")","v":0}]
["1","ПО.прочие.I",null,"L19_1",null,null,null,null,null,null,null,"11.1","I полугодие: объём реализации","тыс.куб.м",1831.7621338783999,{"$f":"P130/2","v":1983.5309999999999},{"$f":"Q130/2","v":1983.5309999999999},0,2067.1855619096,{"$f":"T130/2","v":2021.8869999999999},0,0,0,0,0,0,0,0,0,1959.1055000000001,0,0,0,0,0,0,0,0,0]
["1","тариф.прочие.I",null,"L19_2",null,null,null,null,null,null,null,"11.2","I полугодие: тариф","руб./куб.м",37.300002542100003,{"$f":"P136","v":36.954669543858913},{"$f":"Q136","v":35.571827317722253},-1.3828422261366597,37.299999999999997,{"$f":"T136","v":43.469250079257648},null,null,null,null,null,null,null,null,null,{"$f":"S134","v":40.879999397500001},null,null,null,null,null,null,null,null,null,null,null,null,null,null,null,null,null,null,null,null,"П. 9 \"Основ ценообразования в сфере водоснабжения и водоотведения\" (утверждены постановлением Правительства РФ от 13.05.2013 № 406)."]
["1","ПО.прочие.II",null,"L19_3",null,null,null,null,null,null,null,"11.3","II полугодие: объём реализации","тыс.куб.м",{"$f":"O130-O131","v":1831.7621338783999},{"$f":"P130-P131","v":1983.5309999999999},{"$f":"Q130-Q131","v":1983.5309999999999},0,{"$f":"S130-S131","v":2067.1855619096},2021.8869999999999,0,0,0,0,0,0,0,0,0,1959.1055000000001,0,0,0,0,0,0,0,0,0]
["1","тариф.прочие.II",null,"L19_4",null,null,null,null,null,null,null,"11.4","II полугодие: тариф","руб./куб.м",37.300002542100003,{"$f":"IF(P133=0,0,(P127-P131*P132)/P133)","v":36.954669543858913},{"$f":"IF(Q133=0,0,(Q127-Q131*Q132)/Q133)","v":35.571827317722253},-1.3828422261366597,40.879999397500001,{"$f":"IF(T133=0,0,(T127-T131*T132)/T133)","v":43.469250079257648},{"$f":"IF(U133=0,0,(U127-U131*U132)/U133)","v":0},0,0,0,0,0,0,0,0,{"$f":"IF(AD133=0,0,(AD127-AD131*AD132)/AD133)","v":42.930000053946365},{"$f":"IF(AE133=0,0,(AE127-AE131*AE132)/AE133)","v":0},{"$f":"IF(AF133=0,0,(AF127-AF131*AF132)/AF133)","v":0},0,0,0,0,0,0,0,null,null,null,null,null,null,null,null,null,null,null,"П. 9 \"Основ ценообразования в сфере водоснабжения и водоотведения\" (утверждены постановлением Правительства РФ от 13.05.2013 № 406)."]
["1",null,null,"L19_5",null,null,null,null,null,null,null,"11.5","темп роста тарифа","%",{"$f":"IF(O132=0,0,O134/O132*100)","v":100},{"$f":"IF(P132=0,0,P134/P132*100)","v":100},{"$f":"IF(Q132=0,0,Q134/Q132*100)","v":100},null,{"$f":"IF(S132=0,0,S134/S132*100)","v":109.59785361260055},100,0,0,0,0,0,0,0,0,0,105.0146787834144,0,0,0,0,0,0,0,0,0]
["1",null,null,"L19_6",null,null,null,null,null,null,null,"11.6","средневзвешенный тариф","руб./куб.м",37.300002542100003,{"$f":"IF(P130=0,0,P127/P130)","v":36.954669543858913},{"$f":"IF(Q130=0,0,Q127/Q130)","v":35.571827317722253},-1.3828422261366597,39.0899996988,{"$f":"IF(T130=0,0,T127/T130)","v":43.469250079257648},{"$f":"IF(U130=0,0,U127/U130)","v":0},0,0,0,0,0,0,0,0,{"$f":"IF(AD130=0,0,AD127/AD130)","v":41.904999725723179},{"$f":"IF(AE130=0,0,AE127/AE130)","v":0},{"$f":"IF(AF130=0,0,AF127/AF130)","v":0},0,0,0,0,0,0,0]
["1",null,null,"L20",null,null,null,null,null,null,null,"12","Итого НВВ для населения","тыс.руб.",{"$f":"IF(O130=0,0,O127/O130*O138)","v":99410.165464770078},{"$f":"IF(P130=0,0,P127/P130*P138)","v":103729.94663080432},{"$f":"IF(Q130=0,0,Q127/Q130*Q138)","v":99848.3762613078},{"$f":"R139*R140+R141*R142","v":0},{"$f":"IF(S130=0,0,S127/S130*S138)","v":109037.64515974744},{"$f":"IF(T130=0,0,T127/T130*T138)","v":121344.93322724868},{"$f":"IF(U130=0,0,U127/U130*U138)","v":0},0,0,0,0,0,0,0,0,{"$f":"IF(AD130=0,0,AD127/AD130*AD138)","v":117206.73374785788},{"$f":"IF(AE130=0,0,AE127/AE130*AE138)","v":0},{"$f":"IF(AF130=0,0,AF127/AF130*AF138)","v":0},0,0,0,0,0,0,0,{"$f":"IF(S137=0,0,(AD137-S137)/S137*100)","v":7.4919891897355146},{"$f":"IF(AD137=0,0,(AE137-AD137)/AD137*100)","v":-100},{"$f":"IF(AE137=0,0,(AF137-AE137)/AE137*100)","v":0},{"$f":"IF(AF137=0,0,(AG137-AF137)/AF137*100)","v":0},{"$f":"IF(AG137=0,0,(AH137-AG137)/AG137*100)","v":0},0,0,0,0,0]
["1","ПО.население",null,"L21",null,null,null,null,null,null,null,"13","Полезный отпуск для населения:","тыс.куб.м",{"$f":"SUMIFS(Баланс!O$16:O$57,Баланс!$A$16:$A$57,$A138,Баланс!$B$16:$B$57,\"население\")","v":2665.1517855091001},{"$f":"SUMIFS(Баланс!P$16:P$57,Баланс!$A$16:$A$57,$A138,Баланс!$B$16:$B$57,\"население\")","v":2806.951},{"$f":"SUMIFS(Баланс!Q$16:Q$57,Баланс!$A$16:$A$57,$A138,Баланс!$B$16:$B$57,\"население\")","v":2806.951},{"$f":"Q138-P138","v":0},{"$f":"SUMIFS(Баланс!R$16:R$57,Баланс!$A$16:$A$57,$A138,Баланс!$B$16:$B$57,\"население\")","v":2789.4},{"$f":"SUMIFS(Баланс!S$16:S$57,Баланс!$A$16:$A$57,$A138,Баланс!$B$16:$B$57,\"население\")","v":2791.5120000000002},{"$f":"SUMIFS(Баланс!T$16:T$57,Баланс!$A$16:$A$57,$A138,Баланс!$B$16:$B$57,\"население\")","v":0},{"$f":"SUMIFS(Баланс!U$16:U$57,Баланс!$A$16:$A$57,$A138,Баланс!$B$16:$B$57,\"население\")","v":0},{"$f":"SUMIFS(Баланс!V$16:V$57,Баланс!$A$16:$A$57,$A138,Баланс!$B$16:$B$57,\"население\")","v":0},{"$f":"SUMIFS(Баланс!W$16:W$57,Баланс!$A$16:$A$57,$A138,Баланс!$B$16:$B$57,\"население\")","v":0},{"$f":"SUMIFS(Баланс!X$16:X$57,Баланс!$A$16:$A$57,$A138,Баланс!$B$16:$B$57,\"население\")","v":0},{"$f":"SUMIFS(Баланс!Y$16:Y$57,Баланс!$A$16:$A$57,$A138,Баланс!$B$16:$B$57,\"население\")","v":0},{"$f":"SUMIFS(Баланс!Z$16:Z$57,Баланс!$A$16:$A$57,$A138,Баланс!$B$16:$B$57,\"население\")","v":0},{"$f":"SUMIFS(Баланс!AA$16:AA$57,Баланс!$A$16:$A$57,$A138,Баланс!$B$16:$B$57,\"население\")","v":0},{"$f":"SUMIFS(Баланс!AB$16:AB$57,Баланс!$A$16:$A$57,$A138,Баланс!$B$16:$B$57,\"население\")","v":0},{"$f":"SUMIFS(Баланс!AC$16:AC$57,Баланс!$A$16:$A$57,$A138,Баланс!$B$16:$B$57,\"население\")","v":2796.9630000000002},{"$f":"SUMIFS(Баланс!AD$16:AD$57,Баланс!$A$16:$A$57,$A138,Баланс!$B$16:$B$57,\"население\")","v":0},{"$f":"SUMIFS(Баланс!AE$16:AE$57,Баланс!$A$16:$A$57,$A138,Баланс!$B$16:$B$57,\"население\")","v":0},{"$f":"SUMIFS(Баланс!AF$16:AF$57,Баланс!$A$16:$A$57,$A138,Баланс!$B$16:$B$57,\"население\")","v":0},{"$f":"SUMIFS(Баланс!AG$16:AG$57,Баланс!$A$16:$A$57,$A138,Баланс!$B$16:$B$57,\"население\")","v":0},{"$f":"SUMIFS(Баланс!AH$16:AH$57,Баланс!$A$16:$A$57,$A138,Баланс!$B$16:$B$57,\"население\")","v":0},{"$f":"SUMIFS(Баланс!AI$16:AI$57,Баланс!$A$16:$A$57,$A138,Баланс!$B$16:$B$57,\"население\")","v":0},{"$f":"SUMIFS(Баланс!AJ$16:AJ$57,Баланс!$A$16:$A$57,$A138,Баланс!$B$16:$B$57,\"население\")","v":0},{"$f":"SUMIFS(Баланс!AK$16:AK$57,Баланс!$A$16:$A$57,$A138,Баланс!$B$16:$B$57,\"население\")","v":0},{"$f":"SUMIFS(Баланс!AL$16:AL$57,Баланс!$A$16:$A$57,$A138,Баланс!$B$16:$B$57,\"население\")","v":0}]
["1","ПО.население.I",null,"L21_1",null,null,null,null,null,null,null,"13.1","I полугодие: объём реализации по населению","тыс.куб.м",1332.5758927546001,{"$f":"P138/2","v":1403.4755},{"$f":"Q138/2","v":1403.4755},{"$f":"Q139-P139","v":0},1394.7,{"$f":"T138/2","v":1395.7560000000001},0,0,0,0,0,0,0,0,0,1398.4815000000001,0,0,0,0,0,0,0,0,0]
["1","тариф.население.I",null,"L21_2",null,null,null,null,null,null,null,"13.2","I полугодие: тариф для населения","руб./куб.м",44.760003050599998,{"$f":"IF(P138=0,0,P132*IF(plat_nds=\"да\",1.2,1) )","v":44.345603452630691},{"$f":"IF(Q138=0,0,Q132*IF(plat_nds=\"да\",1.2,1) )","v":42.686192781266705},{"$f":"Q140-P140","v":-1.659410671363986},44.76,{"$f":"IF(T138=0,0,T132*IF(plat_nds=\"да\",1.2,1) )","v":52.163100095109179},0,0,0,0,0,0,0,0,0,49.055999276999998,0,0,0,0,0,0,0,0,0]
["1","ПО.население.II",null,"L21_3",null,null,null,null,null,null,null,"13.3","II полугодие: объём реализации по населению","тыс.куб.м",{"$f":"O138-O139","v":1332.5758927545},{"$f":"P138-P139","v":1403.4755},{"$f":"Q138-Q139","v":1403.4755},{"$f":"Q141-P141","v":0},{"$f":"S138-S139","v":1394.7},1395.7560000000001,0,0,0,0,0,0,0,0,0,1398.4815000000001,0,0,0,0,0,0,0,0,0]
["1","тариф.население.II",null,"L21_4",null,null,null,null,null,null,null,"13.4","II полугодие: тариф для населения","руб./куб.м",44.760003050599998,{"$f":"IF(P138=0,0,P134*IF(plat_nds=\"да\",1.2,1) )","v":44.345603452630691},{"$f":"IF(Q138=0,0,Q134*IF(plat_nds=\"да\",1.2,1) )","v":42.686192781266705},{"$f":"Q142-P142","v":-1.659410671363986},49.055999276999998,{"$f":"IF(T138=0,0,T134*IF(plat_nds=\"да\",1.2,1) )","v":52.163100095109179},0,0,0,0,0,0,0,0,0,51.516000064735636,0,0,0,0,0,0,0,0,0]
[]
[null,null,null,null,null,null,null,null,null,null,null,"Комментарии и обоснования к разделу"]
[null,null,null,null,null,null,null,null,null,null,null,"Расчет финансовых потребностей в сфере водоотведения на 2025 г. произведен специалистом РЭК в соответствии с положениями Главы VII Методических указаний ФСТ № 1746-э."]
[null,null,null,null,null,null,null,null,null,null,null,"Добавить комментарий"]

{"sheet":"et_union","index":29,"n_rows":805,"n_cols":163,"rows_kept":805,"cut":false,"hidden":true,"merged":[[34,4,39,4],[34,5,34,6],[35,5,35,6],[36,5,36,6],[37,5,37,6],[38,5,38,6],[39,5,39,6],[27,4,32,4],[27,5,27,6],[28,5,28,6],[29,5,29,6],[30,5,30,6],[31,5,31,6],[32,5,32,6],[20,4,24,4],[20,5,20,6],[21,5,21,6],[22,5,22,6],[23,5,23,6],[24,5,24,6],[2,3,14,3],[60,14,60,18],[67,14,67,18],[754,10,804,10],[623,11,623,12],[624,11,624,12],[625,11,625,12],[581,11,581,12],[582,11,582,12],[583,11,583,12],[584,11,584,12],[622,11,622,12],[222,9,224,9],[323,9,325,9],[631,9,632,9],[16,4,16,6],[754,11,754,20],[327,9,329,9],[331,9,333,9],[226,9,232,9],[215,9,217,9],[319,9,321,9],[634,9,639,9],[335,9,337,9]]}
["Титульный"]
["et_List00_tariff"]
[null,null,null,"1",null,null,{"$f":"\"Тариф \" & D3","v":"Тариф 1"},"Водоснабжение","О",{"$f":"G3 & \" (\" &H3& \") - \" &H5 & IF(H9=\"\",\"\",\" (\" & H9 & \")\")","v":"Тариф 1 (Водоснабжение) - "},{"$f":"H8","v":0},{"$f":"H5","v":0},{"$f":"H9","v":0},{"$f":"H6","v":0}]
[null,null,null,null,null,null,"Номер тарифа (идентификатор)"]
[null,null,null,null,null,null,"Вид тарифа"]
[null,null,null,null,null,null,"Тип тарифа"]
[null,null,null,null,null,null,"Вид(-ы) деятельности"]
[null,null,null,null,null,null,{"$f":"IF(H3=\"Водоотведение\",\"Вид сточных вод\",\"Вид воды\")","v":"Вид воды"}]
[null,null,null,null,null,null,"Дополнительный признак дифференциации тарифа"]
[null,{"$f":"org_declaration=\"Заявление организации\"","v":true},null,null,null,null,"Номер входящий"]
[null,true,null,null,null,null,"Дата регистрации"]
[null,true,null,null,null,null,"Дополнительные сведения"]
[null,true,null,null,null,null,"Метод регулирования, предложенный организацией"]
[null,true,null,null,null,null,{"$f":"IF(OR(H13=\"экономически обоснованных расходов (затрат)\",H13=\"сравнения аналогов\"),\"Период регулирования\",\"Первый год долгосрочного периода регулирования, предложенный организацией\")","v":"Первый год долгосрочного периода регулирования, предложенный организацией"}]
[null,true,null,null,null,null,"Период долгосрочной индексации (количество лет)"]
["et_List00_go"]
[null,null,null,"О","URL-ссылка на документ, подтверждающий статус ГО"]
["et_List00_HAS_DOC2"]
["et_List00_HAS_DOC3"]
["et_List00_HAS_DOC4"]
[null,null,null,"О","Реквизиты решения","Наименование"]
[null,null,null,null,null,"Вид"]
[null,null,null,null,null,"Номер"]
[null,null,null,null,null,"Дата принятия"]
[null,null,null,null,null,"URL-ссылка на решение"]
["et_List00_HAS_DOC5"]
["et_List00_HAS_DOC6"]
[null,null,null,"О","Реквизиты решения","Наименование"]
[null,null,null,null,null,"Вид"]
[null,null,null,null,null,"Номер"]
[null,null,null,null,null,"Дата принятия"]
[null,null,null,null,null,"Дата начала реализации / действия инвестиционной программы"]
[null,null,null,null,null,"Дата окончания реализации / действия инвестиционной программы"]
["et_List00_HAS_DOC7"]
[null,null,null,"О","Реквизиты решения","Наименование"]
[null,null,null,null,null,"Вид"]
[null,null,null,null,null,"Номер"]
[null,null,null,null,null,"Дата принятия"]
[null,null,null,null,null,"Дата начала реализации / действия концессионного соглашения"]
[null,null,null,null,null,"Дата окончания реализации / действия концессионного соглашения"]
["et_List00_fio"]
[null,null,null,null,null,null,null,null,"О"]
[]
["1. Список территорий"]
["et_List01_tariff"]
["1",null,null,null,null,null,null,null,null,null,null,{"$f":"INDEX('Общие сведения'!$J$121:$J$135,MATCH($A46,'Общие сведения'!$D$121:$D$135,0))","v":"Тариф 1 (Водоотведение) - тариф на водоотведение"}]
[{"$f":"A46","v":"1"},null,null,null,null,null,null,null,null,null,null,"1"]
[{"$f":"A46","v":"1"},null,null,null,null,null,null,null,null,null,null,null,"Добавить территорию"]
["et_List01_mo"]
[{"$f":"OFFSET(A50,-1,0)","v":"et_List01_mo"},null,null,null,null,null,null,null,null,null,"О","1"]
[]
["2. Список объектов"]
["et_List02_tariff_vs"]
["1",null,null,null,null,null,null,null,null,null,null,{"$f":"INDEX('Общие сведения'!$J$121:$J$135,MATCH($A54,'Общие сведения'!$D$121:$D$135,0))","v":"Тариф 1 (Водоотведение) - тариф на водоотведение"}]
[{"$f":"A54","v":"1"},"L1","L3",{"$f":"M55&\"::\"&N55","v":"Водонасосные станции (водозаборные узлы)::ед."},null,null,null,null,null,null,null,1,"Водонасосные станции (водозаборные узлы)","ед."]
["1","L1","L3",{"$f":"M56&\"::\"&N56","v":"Скважины::ед."},null,null,null,null,null,null,null,2,"Скважины","ед."]
["1","L1","L3",{"$f":"M57&\"::\"&N57","v":"Подкачивающие насосные станции::ед."},null,null,null,null,null,null,null,3,"Подкачивающие насосные станции","ед."]
["1","L1","L3",{"$f":"M58&\"::\"&N58","v":"Водонапорные башни::ед."},null,null,null,null,null,null,null,4,"Водонапорные башни","ед."]
["1","L1","L3",{"$f":"M59&\"::\"&N59","v":"Водопроводные сети::км"},null,null,null,null,null,null,null,5,"Водопроводные сети","км"]
["1",{"$f":"A60&\"pIns\"","v":"1pIns"},null,null,null,null,null,null,null,null,null,null,"Добавить"]
["1","L2","L3",{"$f":"M61","v":"Краткое описание технологического процесса"},null,null,null,null,null,null,null,null,"Краткое описание технологического процесса"]
["et_List02_tariff_vo"]
["1",null,null,null,null,null,null,null,null,null,null,{"$f":"INDEX('Общие сведения'!$J$121:$J$135,MATCH($A63,'Общие сведения'!$D$121:$D$135,0))","v":"Тариф 1 (Водоотведение) - тариф на водоотведение"}]
[{"$f":"A63","v":"1"},"L1","L3",{"$f":"M64&\"::\"&N64","v":"Биологические очистные сооружения::ед."},null,null,null,null,null,null,null,1,"Биологические очистные сооружения","ед."]
[{"$f":"A64","v":"1"},"L1","L3",{"$f":"M65&\"::\"&N65","v":"Канализационные насосные станции::ед."},null,null,null,null,null,null,null,2,"Канализационные насосные станции","ед."]
[{"$f":"A65","v":"1"},"L1","L3",{"$f":"M66&\"::\"&N66","v":"Канализационные сети::км"},null,null,null,null,null,null,null,3,"Канализационные сети","км"]
[{"$f":"A66","v":"1"},{"$f":"A67&\"pIns\"","v":"1pIns"},null,null,null,null,null,null,null,null,null,null,"Добавить"]
[{"$f":"A67","v":"1"},"L2","L3",{"$f":"M68","v":"Краткое описание технологического процесса"},null,null,null,null,null,null,null,null,"Краткое описание технологического процесса"]
["et_List02_obj"]
[null,null,null,null,null,null,null,null,null,null,"О",null,{"$f":"F70&\" :: \" &G70&\" :: \" & H70","v":" ::  :: "}]
["et_List02_1"]
[{"$f":"OFFSET(B72,-1,-1)","v":"et_List02_1"},"L1","L3",{"$f":"M72&\"::\"&N72","v":"::"},null,null,null,null,null,null,"О",1]
[]
["3. Сценарии"]
["et_List03_tariff"]
["1",null,null,null,null,null,null,null,null,null,null,{"$f":"INDEX('Общие сведения'!$J$121:$J$135,MATCH($A76,'Общие сведения'!$D$121:$D$135,0))","v":"Тариф 1 (Водоотведение) - тариф на водоотведение"}]
[{"$f":"A76","v":"1"},"ИОР",null,null,null,null,null,null,null,null,null,null,"Индексы",null,null,null,null,null,{"$f":"(1-S78/100)*(1+S79/100)*(1+S81/100)","v":1},{"$f":"(1-T78/100)*(1+T79/100)*(1+T81/100)","v":1},{"$f":"(1-U78/100)*(1+U79/100)*(1+U81/100)","v":1},null,null,null,{"$f":"(1-Y78/100)*(1+Y79/100)*(1+Y81/100)","v":1},{"$f":"(1-Z78/100)*(1+Z79/100)*(1+Z81/100)","v":1},{"$f":"(1-AA78/100)*(1+AA79/100)*(1+AA81/100)","v":1},{"$f":"(1-AB78/100)*(1+AB79/100)*(1+AB81/100)","v":1},{"$f":"(1-AC78/100)*(1+AC79/100)*(1+AC81/100)","v":1},{"$f":"(1-AD78/100)*(1+AD79/100)*(1+AD81/100)","v":1},1,1,1,1,1,1,1,1,1,1,1,1]
[{"$f":"A77","v":"1"},"ИЭР","L1_1",null,null,null,null,null,null,null,null,1,"Индекс эффективности операционных расходов","%",null,null,null,null,null,null,null,{"$f":"IF(S78<>0,U78/S78,0)","v":0},{"$f":"U78-T78","v":0}]
["1","ИПЦ","L1_2",null,null,null,null,null,null,null,null,2,"Индекс потребительских цен","%",null,null,null,null,null,null,null,{"$f":"IF(S79<>0,U79/S79,0)","v":0},{"$f":"U79-T79","v":0}]
["1",null,"L1_3",null,null,null,null,null,null,null,null,3,"Индекс роста цен на электроэнергию","%",null,null,null,null,null,null,null,{"$f":"IF(S80<>0,U80/S80,0)","v":0},{"$f":"U80-T80","v":0}]
["1","ИКА","L1_4",null,null,null,null,null,null,null,null,4,"Индекс количества активов","%",null,null,null,null,null,null,null,{"$f":"IF(S81<>0,U81/S81,0)","v":0},{"$f":"U81-T81","v":0}]
["1",null,null,null,null,null,null,null,null,null,null,null,"Налоговые ставки"]
["1","СВФОТ","L2_1",null,null,null,null,null,null,null,null,1,"Ставка страховых взносов с ФОТ","%",null,null,null,null,null,null,null,{"$f":"IF(S83<>0,U83/S83,0)","v":0},{"$f":"U83-T83","v":0}]
["1",null,"L2_2",null,null,null,null,null,null,null,null,2,"Ставка НДС","%",null,null,null,null,null,null,null,{"$f":"IF(S84<>0,U84/S84,0)","v":0},{"$f":"U84-T84","v":0}]
["1",null,null,null,null,null,null,null,null,null,null,3,"Ставка водного налога"]
["1",null,"L3_1_1",null,null,null,null,null,null,null,null,"3.1.1","Ставка водного налога из поверхностных источников для населения","руб./тыс.куб.м.",null,null,null,null,null,null,null,0,0]
["1",null,"L3_1_2",null,null,null,null,null,null,null,null,"3.1.2","Ставка водного налога из поверхностных источников для прочих потребителей","руб./тыс.куб.м.",null,null,null,null,null,null,null,0,0]
["1",null,"L3_2_1",null,null,null,null,null,null,null,null,"3.2.1","Ставка водного налога из подземных источников для населения","руб./тыс.куб.м.",null,null,null,null,null,null,null,0,0]
["1",null,"L3_2_2",null,null,null,null,null,null,null,null,"3.2.2","Ставка водного налога из подземных источников для прочих потребителей","руб./тыс.куб.м.",null,null,null,null,null,null,null,0,0]
["1",null,"L4",null,null,null,null,null,null,null,null,4,"Ставки налога на имущество","%",null,null,null,null,null,null,null,0,0]
["1",null,"L5",null,null,null,null,null,null,null,null,5,"Ставка налога при УСН","%",null,null,null,null,null,null,null,0,0]
["1",null,"L6",null,null,null,null,null,null,null,null,"6","Доля общехозяйственных расходов",null,null,null,null,null,null,null,null,0,0]
["1",null,"L7",null,null,null,null,null,null,null,null,"7","Доля общепроизводственных расходов",null,null,null,null,null,null,null,null,0,0]
[]
["4. Баланс"]
["et_List04_tariff_vs"]
["1",null,null,null,null,null,null,null,null,null,null,{"$f":"INDEX('Общие сведения'!$J$121:$J$135,MATCH($A97,'Общие сведения'!$D$121:$D$135,0))","v":"Тариф 1 (Водоотведение) - тариф на водоотведение"}]
[{"$f":"A97","v":"1"},null,null,null,null,null,null,null,null,null,null,"1","Вид воды",null,{"$f":"INDEX('Общие сведения'!$K$121:$K$135,MATCH($A98,'Общие сведения'!$D$121:$D$135,0))","v":"без дифференциации"}]
["1",null,"L2",null,null,null,null,null,null,null,null,"2","Установленная мощность","куб.м/час"]
["1",null,"L3",null,null,null,null,null,null,null,null,"3","Подключённая (фактическая) нагрузка","куб.м/час"]
["1",null,"L4",null,null,null,null,null,null,null,null,4,"Объём воды из источников водоснабжения, всего","тыс.куб.м",{"$f":"O110+O105-O108","v":0},0,{"$f":"Q110+Q105-Q108","v":0},0,0,0,0,0,0,0,0,0,0,0,{"$f":"AC110+AC105-AC108","v":0},0,0,0,0,0,0,0,0,0]
["1",null,"L4_1",null,null,null,null,null,null,null,null,"4.1","Поднято воды из поверхностных источников","тыс.куб.м"]
["1",null,"L4_2",null,null,null,null,null,null,null,null,"4.2","Поднято воды из подземных источников","тыс.куб.м"]
["1",null,"L4_3",null,null,null,null,null,null,null,null,"4.3","Доочищенная сточная вода для нужд технического водоснабжения","тыс.куб.м"]
["1",null,"L5",null,null,null,null,null,null,null,null,"5","Расход воды на технологические нужды всего","тыс.куб.м",{"$f":"SUM(O106:O107)","v":0},0,0,0,0,0,0,0,0,0,0,0,0,0,0,0,0,0,0,0,0,0,0,0]
["1",null,"L5_1",null,null,null,null,null,null,null,null,"5.1","Расход воды на собственные нужды водоподготовки","тыс.куб.м"]
["1",null,"L5_2",null,null,null,null,null,null,null,null,"5.2","Расход воды на промывку сетей","тыс.куб.м"]
["1",null,"L6",null,null,null,null,null,null,null,null,"6","Получено воды со стороны","тыс.куб.м"]
["1",null,"L7",null,null,null,null,null,null,null,null,"7","Объём воды, прошедшей водоподготовку (справочно)","тыс.куб.м"]
["1",null,"L8",null,null,null,null,null,null,null,null,"8","Объём воды, поданной в сеть всего","тыс.куб.м",{"$f":"O116+O114","v":0},0,0,0,0,0,0,0,0,0,0,0,0,0,0,0,0,0,0,0,0,0,0,0]
["1",null,"L8_1",null,null,null,null,null,null,null,null,"8.1","Объём воды, поданной в сеть из собственных источников","тыс.куб.м"]
["1",null,"L8_2",null,null,null,null,null,null,null,null,"8.2","Объём воды, поданной в сеть от других операторов","тыс.куб.м"]
["1",null,"L8_3",null,null,null,null,null,null,null,null,"8.3","Получено от других территорий, дифференцированных по тарифу","тыс.куб.м"]
["1",null,"L9",null,null,null,null,null,null,null,null,"9","Потери воды","тыс.куб.м"]
["1",null,"L9_1",null,null,null,null,null,null,null,null,"9.1","Уровень потерь воды","%",{"$f":"IF(O110=0,0,O114/O110*100)","v":0},0,0,0,0,0,0,0,0,0,0,0,0,0,0,0,0,0,0,0,0,0,0,0]
["1",null,"L10",null,null,null,null,null,null,null,null,"10","Отпущено воды, всего","тыс.куб.м",{"$f":"O117+O121+O124+O134","v":0},0,0,0,0,0,0,0,0,0,0,0,0,0,0,0,0,0,0,0,0,0,0,0]
["1",{"$f":"IF(OwnNeedsInPO=\"да\",\"ПО\",\"\")","v":""},"L10_1",null,null,null,null,null,null,null,null,"10.1","Расход воды на нужды предприятия","тыс.куб.м",{"$f":"SUM(O118:O120)","v":0},0,0,0,0,0,0,0,0,0,0,0,0,0,0,0,0,0,0,0,0,0,0,0]
["1",null,"L10_1_1",null,null,null,null,null,null,null,null,"10.1.1","хозяйственные нужды","тыс.куб.м"]
["1",null,"L10_1_2",null,null,null,null,null,null,null,null,"10.1.2","на основное производство","тыс.куб.м"]
["1",null,"L10_1_3",null,null,null,null,null,null,null,null,"10.1.3","прочие","тыс.куб.м"]
["1","ПО","L10_2",null,null,null,null,null,null,null,null,"10.2","Отпущено воды другим водопроводам","тыс.куб.м",{"$f":"SUM(O122:O123)","v":0},0,0,0,0,0,0,0,0,0,0,0,0,0,0,0,0,0,0,0,0,0,0,0]
["1",null,"L10_2_1",null,null,null,null,null,null,null,null,"10.2.1","по приборам учёта","тыс.куб.м"]
["1",null,"L10_2_2",null,null,null,null,null,null,null,null,"10.2.2","по нормативам","тыс.куб.м"]
["1","ПО","L10_3",null,null,null,null,null,null,null,null,"10.3","Отпущено воды по категориям потребителей","тыс.куб.м",{"$f":"O125+O128+O131","v":0},0,0,0,0,0,0,0,0,0,0,0,0,0,0,0,0,0,0,0,0,0,0,0]
["1",null,"L10_3_1",null,null,null,null,null,null,null,null,"10.3.1","Финансируемые из бюджетов всех уровней","тыс.куб.м",{"$f":"SUM(O126:O127)","v":0},0,0,0,0,0,0,0,0,0,0,0,0,0,0,0,0,0,0,0,0,0,0,0]
["1",null,"L10_3_1_1",null,null,null,null,null,null,null,null,"10.3.1.1","по приборам учёта","тыс.куб.м"]
["1",null,"L10_3_1_2",null,null,null,null,null,null,null,null,"10.3.1.2","по нормативам","тыс.куб.м"]
["1","население","L10_3_2",null,null,null,null,null,null,null,null,"10.3.2","Население","тыс.куб.м",{"$f":"SUM(O129:O130)","v":0},0,0,0,0,0,0,0,0,0,0,0,0,0,0,0,0,0,0,0,0,0,0,0]
["1",null,"L10_3_2_1",null,null,null,null,null,null,null,null,"10.3.2.1","по приборам учёта","тыс.куб.м"]
["1",null,"L10_3_2_2",null,null,null,null,null,null,null,null,"10.3.2.2","по нормативам","тыс.куб.м"]
["1",null,"L10_3_3",null,null,null,null,null,null,null,null,"10.3.3","Прочие потребители","тыс.куб.м",{"$f":"SUM(O132:O133)","v":0},0,0,0,0,0,0,0,0,0,0,0,0,0,0,0,0,0,0,0,0,0,0,0]
["1",null,"L10_3_3_1",null,null,null,null,null,null,null,null,"10.3.3.1","по приборам учёта","тыс.куб.м"]
["1",null,"L10_3_3_2",null,null,null,null,null,null,null,null,"10.3.3.2","по нормативам","тыс.куб.м"]
["1",null,"L10_4",null,null,null,null,null,null,null,null,"10.4","Передано на другие территории, дифференцированные по тарифу","тыс.куб.м"]
["et_List04_tariff_vs_transp"]
["1",null,null,null,null,null,null,null,null,null,null,{"$f":"INDEX('Общие сведения'!$J$121:$J$135,MATCH($A136,'Общие сведения'!$D$121:$D$135,0))","v":"Тариф 1 (Водоотведение) - тариф на водоотведение"}]
[{"$f":"A136","v":"1"},null,null,null,null,null,null,null,null,null,null,"1","Вид воды",null,{"$f":"INDEX('Общие сведения'!$K$121:$K$135,MATCH($A137,'Общие сведения'!$D$121:$D$135,0))","v":"без дифференциации"}]
["1",null,"L2",null,null,null,null,null,null,null,null,"2","Установленная мощность","куб.м/час"]
["1",null,"L3",null,null,null,null,null,null,null,null,"3","Подключённая (фактическая) нагрузка","куб.м/час"]
["1",null,"L4",null,null,null,null,null,null,null,null,4,"Объём воды, поступившей в сеть","тыс.куб.м",{"$f":"O144+O146+O149+O152","v":0},0,0,0,0,0,0,0,0,0,0,0,0,0,0,0,0,0,0,0,0,0,0,0]
["1",null,"L4_1",null,null,null,null,null,null,null,null,"4.1","из собственных источников","тыс.куб.м"]
["1",null,"L4_2",null,null,null,null,null,null,null,null,"4.2","от других операторов","тыс.куб.м"]
["1",null,"L4_3",null,null,null,null,null,null,null,null,"4.3","получено от других территорий, дифференцированных по тарифу","тыс.куб.м"]
["1",null,"L5",null,null,null,null,null,null,null,null,"5","Потери воды","тыс.куб.м"]
["1",null,"L5_1",null,null,null,null,null,null,null,null,"5.1","Уровень потерь воды","%",{"$f":"IF(O140=0,0,O144/O140*100)","v":0},0,0,0,0,0,0,0,0,0,0,0,0,0,0,0,0,0,0,0,0,0,0,0]
[{"$f":"A144","v":"1"},null,"L6",null,null,null,null,null,null,null,null,"6","Расход воды на нужды предприятия","тыс.куб.м",{"$f":"O147+O148","v":0},0,0,0,0,0,0,0,0,0,0,0,0,0,0,0,0,0,0,0,0,0,0,0]
["1",null,"L6_1",null,null,null,null,null,null,null,null,"6.1","хозяйственные нужды","тыс.куб.м"]
["1",null,"L6_2",null,null,null,null,null,null,null,null,"6.2","на основное производство","тыс.куб.м"]
["1","ПО","L7",null,null,null,null,null,null,null,null,"7","Отпущено воды другим водопроводам","тыс.куб.м",{"$f":"O150+O151","v":0},0,0,0,0,0,0,0,0,0,0,0,0,0,0,0,0,0,0,0,0,0,0,0]
["1",null,"L7_1",null,null,null,null,null,null,null,null,"7.1","по приборам учёта","тыс.куб.м"]
["1",null,"L7_2",null,null,null,null,null,null,null,null,"7.2","по нормативам","тыс.куб.м"]
["1",null,"L8",null,null,null,null,null,null,null,null,"8","Передано на другие территории, дифференцированные по тарифу","тыс.куб.м"]
["et_List04_tariff_vo"]
["1",null,null,null,null,null,null,null,null,null,null,{"$f":"INDEX('Общие сведения'!$J$121:$J$135,MATCH($A154,'Общие сведения'!$D$121:$D$135,0))","v":"Тариф 1 (Водоотведение) - тариф на водоотведение"}]
[{"$f":"A154","v":"1"},null,null,null,null,null,null,null,null,null,null,"1","Вид стоков",null,{"$f":"INDEX('Общие сведения'!$K$121:$K$135,MATCH($A155,'Общие сведения'!$D$121:$D$135,0))","v":"без дифференциации"}]
["1",null,"L2",null,null,null,null,null,null,null,null,"2","Установленная мощность","куб.м/час"]
["1",null,"L3",null,null,null,null,null,null,null,null,"3","Подключённая (фактическая) нагрузка","куб.м/час"]
["1",null,"L4",null,null,null,null,null,null,null,null,"4","Принято сточных вод, всего","тыс.куб.м",{"$f":"O159+O160+O173","v":0},{"$f":"P159+P160+P173","v":0},0,0,0,0,0,0,0,0,0,0,0,0,0,0,0,0,0,0,0,0,0,0]
["1",{"$f":"IF(OwnNeedsInPO=\"да\",\"ПО\",\"\")","v":""},"L5",null,null,null,null,null,null,null,null,"5","Хозяйственные нужды предприятия","тыс.куб.м"]
["1","ПО","L6",null,null,null,null,null,null,null,null,"6","Принято по категориям потребителей","тыс.куб.м",{"$f":"O161+O164+O167+O170","v":0},{"$f":"P161+P164+P167+P170","v":0},0,0,0,0,0,0,0,0,0,0,0,0,0,0,0,0,0,0,0,0,0,0]
["1",null,"L6_1",null,null,null,null,null,null,null,null,"6.1","Финансируемые из бюджетов всех уровней","тыс.куб.м",{"$f":"O162+O163","v":0},0,0,0,0,0,0,0,0,0,0,0,0,0,0,0,0,0,0,0,0,0,0,0]
["1",null,"L6_1_1",null,null,null,null,null,null,null,null,"6.1.1","по приборам учёта","тыс.куб.м"]
["1",null,"L6_1_2",null,null,null,null,null,null,null,null,"6.1.2","по нормативам","тыс.куб.м"]
["1","население","L6_2",null,null,null,null,null,null,null,null,"6.2","Население","тыс.куб.м",{"$f":"O165+O166","v":0},0,0,0,0,0,0,0,0,0,0,0,0,0,0,0,0,0,0,0,0,0,0,0]
["1",null,"L6_2_1",null,null,null,null,null,null,null,null,"6.2.1","по приборам учёта","тыс.куб.м"]
["1",null,"L6_2_2",null,null,null,null,null,null,null,null,"6.2.2","по нормативам","тыс.куб.м"]
["1",null,"L6_3",null,null,null,null,null,null,null,null,"6.3","Прочие потребители","тыс.куб.м",{"$f":"O168+O169","v":0},0,0,0,0,0,0,0,0,0,0,0,0,0,0,0,0,0,0,0,0,0,0,0]
["1",null,"L6_3_1",null,null,null,null,null,null,null,null,"6.3.1","по приборам учёта","тыс.куб.м"]
["1",null,"L6_3_2",null,null,null,null,null,null,null,null,"6.3.2","по нормативам","тыс.куб.м"]
["1",null,"L6_4",null,null,null,null,null,null,null,null,"6.4","Принято сточных вод от других канализационных сетей","тыс.куб.м",{"$f":"O171+O172","v":0},0,0,0,0,0,0,0,0,0,0,0,0,0,0,0,0,0,0,0,0,0,0,0]
["1",null,"L6_4_1",null,null,null,null,null,null,null,null,"6.4.1","по приборам учёта","тыс.куб.м"]
["1",null,"L6_4_2",null,null,null,null,null,null,null,null,"6.4.2","по нормативам","тыс.куб.м"]
[{"$f":"A171","v":"1"},null,"L6_5",null,null,null,null,null,null,null,null,"6.5","Получено от других территорий, дифференцированных по тарифу","тыс.куб.м"]
[{"$f":"A172","v":"1"},null,"L7",null,null,null,null,null,null,null,null,"7","Неучтённый приток сточных вод","тыс.куб.м"]
["1",null,"L8",null,null,null,null,null,null,null,null,"8","Объём сточных вод, прошедших очистку (справочно)","тыс.куб.м"]
["1",null,"L9",null,null,null,null,null,null,null,null,"9","Пропущено через собственные очистные сооружения","тыс.куб.м"]
["1",null,"L10",null,null,null,null,null,null,null,null,"10","Передано сточных вод другим канализациям","тыс.куб.м",{"$f":"O178+O179","v":0},0,0,0,0,0,0,0,0,0,0,0,0,0,0,0,0,0,0,0,0,0,0,0]
["1",null,"L10_1",null,null,null,null,null,null,null,null,"10.1","На очистные сооружения","тыс.куб.м"]
["1",null,"L10_2",null,null,null,null,null,null,null,null,"10.2","В канализационную сеть","тыс.куб.м"]
[{"$f":"A178","v":"1"},null,"L11",null,null,null,null,null,null,null,null,"11","Передано на другие территории, дифференцированные по тарифу","тыс.куб.м"]
[{"$f":"A179","v":"1"},null,"L12",null,null,null,null,null,null,null,null,"12","Сброшенные воды без очистки","тыс.куб.м"]
["et_List04_tariff_vo_transp"]
["1",null,null,null,null,null,null,null,null,null,null,{"$f":"INDEX('Общие сведения'!$J$121:$J$135,MATCH($A183,'Общие сведения'!$D$121:$D$135,0))","v":"Тариф 1 (Водоотведение) - тариф на водоотведение"}]
[{"$f":"A183","v":"1"},null,null,null,null,null,null,null,null,null,null,"1","Вид стоков",null,{"$f":"INDEX('Общие сведения'!$K$121:$K$135,MATCH($A184,'Общие сведения'!$D$121:$D$135,0))","v":"без дифференциации"}]
["1",null,"L2",null,null,null,null,null,null,null,null,"2","Установленная мощность","куб.м/час"]
["1",null,"L3",null,null,null,null,null,null,null,null,"3","Подключённая (фактическая) нагрузка","куб.м/час"]
["1",null,"L4",null,null,null,null,null,null,null,null,"4","Объём транспортируемых сточных вод","тыс.куб.м",{"$f":"O188+O190+O189","v":0},0,0,0,0,0,0,0,0,0,0,0,0,0,0,0,0,0,0,0,0,0,0,0]
["1",null,"L4_1",null,null,null,null,null,null,null,null,"4.1","на собственные очистные сооружения","тыс.куб.м"]
[{"$f":"A187","v":"1"},null,"L4_2",null,null,null,null,null,null,null,null,"4.2","другим организациям","тыс.куб.м"]
[{"$f":"A188","v":"1"},null,"L4_3",null,null,null,null,null,null,null,null,"4.3","Передано на другие территории, дифференцированные по тарифу","тыс.куб.м"]
["1","ПО","L5",null,null,null,null,null,null,null,null,"5","Приём сточных вод, поступающих на очистные сооружения","тыс.куб.м",{"$f":"O192+O193+O196","v":0},0,0,0,0,0,0,0,0,0,0,0,0,0,0,0,0,0,0,0,0,0,0,0]
["1",null,"L5_1",null,null,null,null,null,null,null,null,"5.1","от собственных нужд","тыс.куб.м"]
["1",null,"L5_2",null,null,null,null,null,null,null,null,"5.2","от других канализаций или отдельных канализационных сетей","тыс.куб.м",{"$f":"O194+O195","v":0},0,0,0,0,0,0,0,0,0,0,0,0,0,0,0,0,0,0,0,0,0,0,0]
["1",null,"L5_2_1",null,null,null,null,null,null,null,null,"5.2.1","по приборам учёта","тыс.куб.м"]
["1",null,"L5_2_2",null,null,null,null,null,null,null,null,"5.2.2","по нормативам","тыс.куб.м"]
[{"$f":"A194","v":"1"},null,"L5_3",null,null,null,null,null,null,null,null,"5.3","Получено от других территорий, дифференцированных по тарифу","тыс.куб.м"]
[]
["5. Реагенты"]
["et_List05_tariff"]
["1",null,null,null,null,null,null,null,null,null,null,{"$f":"INDEX('Общие сведения'!$J$121:$J$135,MATCH($A200,'Общие сведения'!$D$121:$D$135,0))","v":"Тариф 1 (Водоотведение) - тариф на водоотведение"}]
[{"$f":"A200","v":"1"},"L1","L2",null,null,null,null,null,null,null,null,null,"Всего по тарифу","тыс.руб.",{"$f":"SUM(O202:O203)","v":0},0,0,0,0,0,0,0,0,0,0,0,0,0,0,0,0,0,0,0,0,0,0,0]
[{"$f":"A201","v":"1"},null,null,null,null,null,null,null,null,null,null,"0"]
[{"$f":"A202","v":"1"},{"$f":"A203&\"pIns\"","v":"1pIns"},null,null,null,null,null,null,null,null,null,null,"Добавить"]
["et_List05_reagent"]
[{"$f":"OFFSET(A205,-1,0)","v":"et_List05_reagent"},"L1","L2",null,null,null,null,null,null,null,"О",1,null,"тыс.руб."]
[]
["6. ЭЭ"]
["et_List06_tariff"]
["1",null,null,null,null,null,null,null,null,null,null,{"$f":"INDEX('Общие сведения'!$J$121:$J$135,MATCH($A209,'Общие сведения'!$D$121:$D$135,0))","v":"Тариф 1 (Водоотведение) - тариф на водоотведение"}]
[{"$f":"A209","v":"1"},"L1",null,null,null,null,null,null,null,null,null,"1","Всего по тарифу","тыс.руб.",{"$f":"SUMIF(N215:N221,N210,O215:O221)","v":0},{"$f":"SUMIF(N215:N221,N210,P215:P221)","v":0},{"$f":"SUMIF(N215:N221,N210,Q215:Q221)","v":0},{"$f":"SUMIF(N215:N221,N210,R215:R221)","v":0},{"$f":"SUMIF(N215:N221,N210,S215:S221)","v":0},{"$f":"SUMIF(N215:N221,N210,T215:T221)","v":0},{"$f":"SUMIF(N215:N221,N210,U215:U221)","v":0},{"$f":"SUMIF(N215:N221,N210,V215:V221)","v":0},{"$f":"SUMIF(N215:N221,N210,W215:W221)","v":0},{"$f":"SUMIF(N215:N221,N210,X215:X221)","v":0},{"$f":"SUMIF(N215:N221,N210,Y215:Y221)","v":0},{"$f":"SUMIF(N215:N221,N210,Z215:Z221)","v":0},{"$f":"SUMIF(N215:N221,N210,AA215:AA221)","v":0},{"$f":"SUMIF(N215:N221,N210,AB215:AB221)","v":0},{"$f":"SUMIF(N215:N221,N210,AC215:AC221)","v":0},{"$f":"SUMIF(N215:N221,N210,AD215:AD221)","v":0},{"$f":"SUMIF(N215:N221,N210,AE215:AE221)","v":0},{"$f":"SUMIF(N215:N221,N210,AF215:AF221)","v":0},{"$f":"SUMIF(N215:N221,N210,AG215:AG221)","v":0},{"$f":"SUMIF(N215:N221,N210,AH215:AH221)","v":0},{"$f":"SUMIF(N215:N221,N210,AI215:AI221)","v":0},{"$f":"SUMIF(N215:N221,N210,AJ215:AJ221)","v":0},{"$f":"SUMIF(N215:N221,N210,AK215:AK221)","v":0},{"$f":"SUMIF(N215:N221,N210,AL215:AL221)","v":0}]
["1","L2",null,null,null,null,null,null,null,null,null,"2","Объём покупаемой электроэнергии всего","тыс.кВтч",{"$f":"SUMIF(N215:N221,N211,O215:O221)","v":0},{"$f":"SUMIF(N215:N221,N211,P215:P221)","v":0},{"$f":"SUMIF(N215:N221,N211,Q215:Q221)","v":0},{"$f":"SUMIF(N215:N221,N211,R215:R221)","v":0},{"$f":"SUMIF(N215:N221,N211,S215:S221)","v":0},{"$f":"SUMIF(N215:N221,N211,T215:T221)","v":0},{"$f":"SUMIF(N215:N221,N211,U215:U221)","v":0},{"$f":"SUMIF(N215:N221,N211,V215:V221)","v":0},{"$f":"SUMIF(N215:N221,N211,W215:W221)","v":0},{"$f":"SUMIF(N215:N221,N211,X215:X221)","v":0},{"$f":"SUMIF(N215:N221,N211,Y215:Y221)","v":0},{"$f":"SUMIF(N215:N221,N211,Z215:Z221)","v":0},{"$f":"SUMIF(N215:N221,N211,AA215:AA221)","v":0},{"$f":"SUMIF(N215:N221,N211,AB215:AB221)","v":0},{"$f":"SUMIF(N215:N221,N211,AC215:AC221)","v":0},{"$f":"SUMIF(N215:N221,N211,AD215:AD221)","v":0},{"$f":"SUMIF(N215:N221,N211,AE215:AE221)","v":0},{"$f":"SUMIF(N215:N221,N211,AF215:AF221)","v":0},{"$f":"SUMIF(N215:N221,N211,AG215:AG221)","v":0},{"$f":"SUMIF(N215:N221,N211,AH215:AH221)","v":0},{"$f":"SUMIF(N215:N221,N211,AI215:AI221)","v":0},{"$f":"SUMIF(N215:N221,N211,AJ215:AJ221)","v":0},{"$f":"SUMIF(N215:N221,N211,AK215:AK221)","v":0},{"$f":"SUMIF(N215:N221,N211,AL215:AL221)","v":0}]
["1","L3",null,null,null,null,null,null,null,null,null,"3","Объём воды/сточных вод","тыс.куб.м."]
["1","L4",null,null,null,null,null,null,null,null,null,"4","Средний (расчетный) тариф","руб./кВтч",{"$f":"IF(O211=0,0,O210/O211)","v":0},{"$f":"IF(P211=0,0,P210/P211)","v":0},0,0,0,0,0,0,0,0,0,0,0,0,0,0,0,0,0,0,0,0,0,0]
["1","L5",null,null,null,null,null,null,null,null,null,"5","Удельный расход электроэнергии","кВтч/куб.м.",{"$f":"IF(O212=0,0,O211/O212)","v":0},0,0,0,0,0,0,0,0,0,0,0,0,0,0,0,0,0,0,0,0,0,0,0]
["1",null,null,null,null,null,null,null,null,"6.0",null,null,"Одноставочный тариф"]
[{"$f":"OFFSET(A216,-1,0)","v":"1"},"L6",{"$f":"M216","v":"Без разбивки"},null,null,null,null,null,null,"6.1","О",{"$f":"J216","v":"6.1"},{"$f":"\"Без разбивки\"","v":"Без разбивки"},"тыс.руб."]
[{"$f":"A216","v":"1"},"L6_1",{"$f":"C216","v":"Без разбивки"},null,null,null,null,null,null,null,null,{"$f":"L216&\".1\"","v":"6.1.1"},"Тариф на электроэнергию","руб./кВтч",{"$f":"IF(OR(AND(O216<>0,O218=0),AND(O216=0,O218<>0)),\"Ошибка\",IF(O218=0,0,O216/O218))","v":0},0,0,0,0,0,0,0,0,0,0,0,0,0,0,0,0,0,0,0,0,0,0,0]
[{"$f":"A217","v":"1"},"L6_2",{"$f":"C217","v":"Без разбивки"},null,null,null,null,null,null,null,null,{"$f":"L216&\".2\"","v":"6.1.2"},"Объём покупной электроэнергии","тыс.кВтч"]
[{"$f":"A215","v":"1"},{"$f":"A219&\"pIns1\"","v":"1pIns1"},null,null,null,null,null,null,null,null,null,null,"Добавить"]
["1",null,null,null,null,null,null,null,null,"7.0",null,null,"Двухставочный тариф"]
["1",{"$f":"A221&\"pIns2\"","v":"1pIns2"},null,null,null,null,null,null,null,null,null,null,"Добавить "]
["et_List06_voltage"]
[{"$f":"OFFSET(A223,-1,0)","v":"et_List06_voltage"},"L6",{"$f":"M223","v":0},null,null,null,null,null,null,null,"О",{"$f":"J223","v":0},null,"тыс.руб."]
[{"$f":"A223","v":"et_List06_voltage"},"L6_1",{"$f":"C223","v":0},null,null,null,null,null,null,null,null,{"$f":"L223&\".1\"","v":"0.1"},"Тариф на электроэнергию","руб./кВтч",{"$f":"IF(OR(AND(O223<>0,O225=0),AND(O223=0,O225<>0)),\"Ошибка\",IF(O225=0,0,O223/O225))","v":0},0,0,0,0,0,0,0,0,0,0,0,0,0,0,0,0,0,0,0,0,0,0,0]
[{"$f":"A224","v":"et_List06_voltage"},"L6_2",{"$f":"C224","v":0},null,null,null,null,null,null,null,null,{"$f":"L223&\".2\"","v":"0.2"},"Объём покупной электроэнергии","тыс.кВтч"]
["et_List06_voltage2"]
[{"$f":"OFFSET(A227,-1,0)","v":"et_List06_voltage2"},"L7",{"$f":"M227","v":0},null,null,null,null,null,null,null,"О",{"$f":"J227","v":0},null,"тыс.руб.",{"$f":"O228+O231","v":0},{"$f":"P228+P231","v":0},{"$f":"Q228+Q231","v":0},{"$f":"R228+R231","v":0},{"$f":"S228+S231","v":0},{"$f":"T229*T230+T232*T233/1000*12","v":0},{"$f":"U229*U230+U232*U233/1000*12","v":0},0,0,0,0,0,0,0,0,0,0,0,0,0,0,0,0,0]
[{"$f":"OFFSET(A228,-1,0)","v":"et_List06_voltage2"},"L7_1",{"$f":"C227","v":0},null,null,null,null,null,null,null,null,{"$f":"L227&\".1\"","v":"0.1"},"Затраты на электроэнергию","тыс.руб. "]
["et_List06_voltage2","L7_1_1",0,null,null,null,null,null,null,null,null,{"$f":"L227&\".1.1\"","v":"0.1.1"},"Тариф на электроэнергию","руб./кВтч",{"$f":"IF(OR(AND(O228<>0,O230=0),AND(O228=0,O230<>0)),\"Ошибка\",IF(O230=0,0,O228/O230))","v":0},0,0,0,0,0,0,0,0,0,0,0,0,0,0,0,0,0,0,0,0,0,0,0]
["et_List06_voltage2","L7_1_2",0,null,null,null,null,null,null,null,null,{"$f":"L227&\".1.2\"","v":"0.1.2"},"Объём покупной электроэнергии","тыс.кВтч"]
["et_List06_voltage2","L7_2",0,null,null,null,null,null,null,null,null,{"$f":"L227&\".2\"","v":"0.2"},"Затраты на электрическую мощность","тыс.руб. "]
["et_List06_voltage2","L7_2_1",0,null,null,null,null,null,null,null,null,{"$f":"L227&\".2.1\"","v":"0.2.1"},"Тариф на электрическую мощность","руб./МВт в мес",{"$f":"IF(OR(AND(O231<>0,O233=0),AND(O231=0,O233<>0)),\"Ошибка\",IF(O233=0,0,O231/O233*1000/12))","v":0},0,0,0,0,0,0,0,0,0,0,0,0,0,0,0,0,0,0,0,0,0,0,0]
["et_List06_voltage2","L7_2_2",0,null,null,null,null,null,null,null,null,{"$f":"L227&\".2.2\"","v":"0.2.2"},"Объём покупной мощности","МВт в мес."]
[]
["7. Амортизация"]
["et_List07_tariff"]
["1",null,null,null,null,null,null,null,null,null,null,{"$f":"INDEX('Общие сведения'!$J$121:$J$135,MATCH($A237,'Общие сведения'!$D$121:$D$135,0))","v":"Тариф 1 (Водоотведение) - тариф на водоотведение"}]
[{"$f":"A237","v":"1"},"L1",null,null,null,null,null,null,null,null,null,1,"Первоначальная (восстановительная) стоимость на начало периода","тыс.руб.",{"$f":"SUM(O239:O243)","v":0},{"$f":"SUM(P239:P243)","v":0},{"$f":"SUM(Q239:Q243)","v":0},{"$f":"SUM(R239:R243)","v":0},{"$f":"SUM(S239:S243)","v":0},0,0,0,0,0,0,0,{"$f":"SUM(AA239:AA243)","v":0},{"$f":"SUM(AB239:AB243)","v":0},0,0,0,0,0,0,0,0,0,0]
[{"$f":"A238","v":"1"},"L1_1",null,null,null,null,null,null,null,null,null,"1.1","Здания","тыс.руб."]
["1","L1_2",null,null,null,null,null,null,null,null,null,"1.2","Сооружения и передаточные устройства","тыс.руб."]
["1","L1_3",null,null,null,null,null,null,null,null,null,"1.3","Машины и оборудование","тыс.руб."]
["1","L1_4",null,null,null,null,null,null,null,null,null,"1.4","Транспорт","тыс.руб."]
["1","L1_5",null,null,null,null,null,null,null,null,null,"1.5","Прочее","тыс.руб."]
["1","L2",null,null,null,null,null,null,null,null,null,2,"Ввод основных фондов","тыс.руб.",{"$f":"SUM(O245:O249)","v":0},0,0,0,0,0,0,0,0,0,0,0,{"$f":"SUM(AA245:AA249)","v":0},{"$f":"SUM(AB245:AB249)","v":0},0,0,0,0,0,0,0,0,0,0]
["1","L2_1",null,null,null,null,null,null,null,null,null,"2.1","Здания","тыс.руб."]
["1","L2_2",null,null,null,null,null,null,null,null,null,"2.2","Сооружения и передаточные устройства","тыс.руб."]
["1","L2_3",null,null,null,null,null,null,null,null,null,"2.3","Машины и оборудование","тыс.руб."]
["1","L2_4",null,null,null,null,null,null,null,null,null,"2.4","Транспорт","тыс.руб."]
["1","L2_5",null,null,null,null,null,null,null,null,null,"2.5","Прочее","тыс.руб."]
["1","L3",null,null,null,null,null,null,null,null,null,3,"Выбытие основных фондов","тыс.руб.",{"$f":"SUM(O251:O255)","v":0},0,0,0,0,0,0,0,0,0,0,0,{"$f":"SUM(AA251:AA255)","v":0},{"$f":"SUM(AB251:AB255)","v":0},0,0,0,0,0,0,0,0,0,{"$f":"SUM(AL251:AL255)","v":0}]
["1","L3_1",null,null,null,null,null,null,null,null,null,"3.1","Здания","тыс.руб."]
["1","L3_2",null,null,null,null,null,null,null,null,null,"3.2","Сооружения и передаточные устройства","тыс.руб."]
["1","L3_3",null,null,null,null,null,null,null,null,null,"3.3","Машины и оборудование","тыс.руб."]
["1","L3_4",null,null,null,null,null,null,null,null,null,"3.4","Транспорт","тыс.руб."]
["1","L3_5",null,null,null,null,null,null,null,null,null,"3.5","Прочее","тыс.руб."]
["1","L4",null,null,null,null,null,null,null,null,null,4,"Первоначальная (восстановительная) стоимость на конец периода","тыс.руб.",{"$f":"SUM(O257:O261)","v":0},0,{"$f":"SUM(Q257:Q261)","v":0},0,0,0,0,0,0,0,0,0,{"$f":"SUM(AA257:AA261)","v":0},{"$f":"SUM(AB257:AB261)","v":0},0,0,0,0,0,0,0,0,0,0]
["1","L4_1",null,null,null,null,null,null,null,null,null,"4.1","Здания","тыс.руб.",{"$f":"O239+O245-O251","v":0},{"$f":"P239+P245-P251","v":0},{"$f":"Q239+Q245-Q251","v":0},0,0,0,0,0,0,0,0,0,0,0,0,0,0,0,0,0,0,0,0,0]
["1","L4_2",null,null,null,null,null,null,null,null,null,"4.2","Сооружения и передаточные устройства","тыс.руб.",{"$f":"O240+O246-O252","v":0},{"$f":"P240+P246-P252","v":0},{"$f":"Q240+Q246-Q252","v":0},{"$f":"R240+R246-R252","v":0},0,0,0,0,0,0,0,0,0,0,0,0,0,0,0,0,0,0,0,0]
["1","L4_3",null,null,null,null,null,null,null,null,null,"4.3","Машины и оборудование","тыс.руб.",{"$f":"O241+O247-O253","v":0},{"$f":"P241+P247-P253","v":0},{"$f":"Q241+Q247-Q253","v":0},{"$f":"R241+R247-R253","v":0},{"$f":"S241+S247-S253","v":0},0,0,0,0,0,0,0,{"$f":"AA241+AA247-AA253","v":0},0,0,0,0,0,0,0,0,0,0,{"$f":"AL241+AL247-AL253","v":0}]
["1","L4_4",null,null,null,null,null,null,null,null,null,"4.4","Транспорт","тыс.руб.",{"$f":"O242+O248-O254","v":0},{"$f":"P242+P248-P254","v":0},{"$f":"Q242+Q248-Q254","v":0},{"$f":"R242+R248-R254","v":0},{"$f":"S242+S248-S254","v":0},0,0,0,0,0,0,0,0,0,0,0,0,0,0,0,0,0,0,{"$f":"AL242+AL248-AL254","v":0}]
["1","L4_5",null,null,null,null,null,null,null,null,null,"4.5","Прочее","тыс.руб.",{"$f":"O243+O249-O255","v":0},{"$f":"P243+P249-P255","v":0},{"$f":"Q243+Q249-Q255","v":0},{"$f":"R243+R249-R255","v":0},{"$f":"S243+S249-S255","v":0},0,0,0,0,0,0,0,0,0,0,0,0,0,0,0,0,0,0,{"$f":"AL243+AL249-AL255","v":0}]
["1","L5",null,null,null,null,null,null,null,null,null,5,"Среднегодовая стоимость","тыс.руб.",{"$f":"SUM(O263:O267)","v":0},{"$f":"SUM(P263:P267)","v":0},{"$f":"SUM(Q263:Q267)","v":0},0,0,0,0,0,0,0,0,0,{"$f":"SUM(AA263:AA267)","v":0},{"$f":"SUM(AB263:AB267)","v":0},0,0,0,0,0,0,0,0,0,0]
["1","L5_1",null,null,null,null,null,null,null,null,null,"5.1","Здания","тыс.руб.",{"$f":"(O257+O239)/2","v":0},{"$f":"(P257+P239)/2","v":0},{"$f":"(Q257+Q239)/2","v":0},0,0,0,0,0,0,0,0,0,0,0,0,0,0,0,0,0,0,0,0,0]
["1","L5_2",null,null,null,null,null,null,null,null,null,"5.2","Сооружения и передаточные устройства","тыс.руб.",{"$f":"(O258+O240)/2","v":0},0,{"$f":"(Q258+Q240)/2","v":0},0,0,0,0,0,0,0,0,0,0,0,0,0,0,0,0,0,0,0,0,0]
["1","L5_3",null,null,null,null,null,null,null,null,null,"5.3","Машины и оборудование","тыс.руб.",{"$f":"(O259+O241)/2","v":0},0,{"$f":"(Q259+Q241)/2","v":0},0,0,0,0,0,0,0,0,0,0,0,0,0,0,0,0,0,0,0,0,0]
["1","L5_4",null,null,null,null,null,null,null,null,null,"5.4","Транспорт","тыс.руб.",{"$f":"(O260+O242)/2","v":0},0,{"$f":"(Q260+Q242)/2","v":0},0,0,0,0,0,0,0,0,0,0,0,0,0,0,0,0,0,0,0,0,0]
["1","L5_5",null,null,null,null,null,null,null,null,null,"5.5","Прочее","тыс.руб.",{"$f":"(O261+O243)/2","v":0},0,{"$f":"(Q261+Q243)/2","v":0},0,0,0,0,0,0,0,0,0,0,0,0,0,0,0,0,0,0,0,0,0]
["1","L6",null,null,null,null,null,null,null,null,null,6,"Средняя норма амортизационных отчислений"]
["1","L6_1",null,null,null,null,null,null,null,null,null,"6.1","Здания","%",{"$f":"IF(O263=0,0,O275/O263*100)","v":0},0,0,0,0,0,0,0,0,0,0,0,0,0,0,0,0,0,0,0,0,0,0,0]
["1","L6_2",null,null,null,null,null,null,null,null,null,"6.2","Сооружения и передаточные устройства","%",{"$f":"IF(O264=0,0,O276/O264*100)","v":0},0,0,0,0,0,0,0,0,0,0,0,0,0,0,0,0,0,0,0,0,0,0,0]
["1","L6_3",null,null,null,null,null,null,null,null,null,"6.3","Машины и оборудование","%",{"$f":"IF(O265=0,0,O277/O265*100)","v":0},0,0,0,0,0,0,0,0,0,0,0,0,0,0,0,0,0,0,0,0,0,0,0]
["1","L6_4",null,null,null,null,null,null,null,null,null,"6.4","Транспорт","%",{"$f":"IF(O266=0,0,O278/O266*100)","v":0},0,0,0,0,0,0,0,0,0,0,0,0,0,0,0,0,0,0,0,0,0,0,0]
["1","L6_5",null,null,null,null,null,null,null,null,null,"6.5","Прочее","%",{"$f":"IF(O267=0,0,O279/O267*100)","v":0},0,0,0,0,0,0,0,0,0,0,0,0,0,0,0,0,0,0,0,0,0,0,0]
["1","L7",null,null,null,null,null,null,null,null,null,7,"Сумма амортизационных отчислений","тыс.руб.",{"$f":"SUM(O275:O279)","v":0},0,{"$f":"SUM(Q275:Q279)","v":0},0,0,0,0,0,0,0,0,0,{"$f":"SUM(AA275:AA279)","v":0},{"$f":"SUM(AB275:AB279)","v":0},0,0,0,0,0,0,0,0,0,0]
["1","L7_1",null,null,null,null,null,null,null,null,null,"7.1","Здания","тыс.руб."]
["1","L7_2",null,null,null,null,null,null,null,null,null,"7.2","Сооружения и передаточные устройства","тыс.руб."]
["1","L7_3",null,null,null,null,null,null,null,null,null,"7.3","Машины и оборудование","тыс.руб."]
["1","L7_4",null,null,null,null,null,null,null,null,null,"7.4","Транспорт","тыс.руб."]
["1","L7_5",null,null,null,null,null,null,null,null,null,"7.5","Прочее","тыс.руб."]
["1","L8",null,null,null,null,null,null,null,null,null,8,"Переоценка на 31.12.XX","тыс.руб.",{"$f":"SUM(O281:O285)","v":0},0,{"$f":"SUM(Q281:Q285)","v":0},0,0,0,0,0,0,0,0,0,{"$f":"SUM(AA281:AA285)","v":0},{"$f":"SUM(AB281:AB285)","v":0},0,0,0,0,0,0,0,0,0,0]
["1","L8_1",null,null,null,null,null,null,null,null,null,"8.1","Здания","тыс.руб."]
["1","L8_2",null,null,null,null,null,null,null,null,null,"8.2","Сооружения и передаточные устройства","тыс.руб."]
["1","L8_3",null,null,null,null,null,null,null,null,null,"8.3","Машины и оборудование","тыс.руб."]
["1","L8_4",null,null,null,null,null,null,null,null,null,"8.4","Транспорт","тыс.руб."]
["1","L8_5",null,null,null,null,null,null,null,null,null,"8.5","Прочее","тыс.руб."]
[]
["8. Аренда"]
["et_List08_tariff"]
["1",null,null,null,null,null,null,null,null,null,null,{"$f":"INDEX('Общие сведения'!$J$121:$J$135,MATCH($A289,'Общие сведения'!$D$121:$D$135,0))","v":"Тариф 1 (Водоотведение) - тариф на водоотведение"}]
[{"$f":"A289","v":"1"},"L1",null,null,null,null,null,null,null,null,null,"1","Арендная и концессионная плата. Лизинговые платежи","тыс.руб.",{"$f":"O291+O294+O295+O296","v":0},{"$f":"P291+P294+P295+P296","v":0},0,0,0,0,0,0,0,0,0,0,0,0,0,0,0,0,0,0,0,0,0,0]
["1","L1_1",null,null,null,null,null,null,null,null,null,"1.1","Аренда имущества","тыс.руб.",{"$f":"SUM(O292:O293)","v":0},0,0,0,0,0,0,0,0,0,0,0,0,0,0,0,0,0,0,0,0,0,0,0]
["1","L1_1_1",null,null,null,null,null,null,null,null,null,"1.1.1","Аренда муниципальной или государственной собственности","тыс.руб."]
["1","L1_1_2",null,null,null,null,null,null,null,null,null,"1.1.2","Аренда частной собственности","тыс.руб."]
["1","L1_2",null,null,null,null,null,null,null,null,null,"1.2","Концессионная плата","тыс.руб."]
["1","L1_3",null,null,null,null,null,null,null,null,null,"1.3","Лизинговые платежи","тыс.руб."]
["1","L1_4",null,null,null,null,null,null,null,null,null,"1.4","Аренда земельных участков","тыс.руб."]
[]
["9. Покупка"]
["et_List09_tariff"]
["1","Итого",null,null,null,null,null,null,null,null,null,{"$f":"INDEX('Общие сведения'!$J$121:$J$135,MATCH($A300,'Общие сведения'!$D$121:$D$135,0))","v":"Тариф 1 (Водоотведение) - тариф на водоотведение"},null,null,{"$f":"O301+O304+O307+O310+O313+O316+O317+O318","v":0},{"$f":"P301+P304+P307+P310+P313+P316+P317+P318","v":0},0,0,0,0,0,0,0,0,0,0,0,0,0,0,0,0,0,0,0,0,0,0]
[{"$f":"A300","v":"1"},"L1",null,null,null,null,null,null,null,null,null,1,"Затраты на холодную воду","тыс.руб.",{"$f":"SUMIF(N302:N303,N301,O302:O303)","v":0},{"$f":"SUMIF(N302:N303,N301,P302:P303)","v":0},{"$f":"SUMIF(N302:N303,N301,Q302:Q303)","v":0},{"$f":"SUMIF(N302:N303,N301,R302:R303)","v":0},{"$f":"SUMIF(N302:N303,N301,S302:S303)","v":0},{"$f":"SUMIF(N302:N303,N301,T302:T303)","v":0},{"$f":"SUMIF(N302:N303,N301,U302:U303)","v":0},{"$f":"SUMIF(N302:N303,N301,V302:V303)","v":0},{"$f":"SUMIF(N302:N303,N301,W302:W303)","v":0},{"$f":"SUMIF(N302:N303,N301,X302:X303)","v":0},{"$f":"SUMIF(N302:N303,N301,Y302:Y303)","v":0},{"$f":"SUMIF(N302:N303,N301,Z302:Z303)","v":0},{"$f":"SUMIF(N302:N303,N301,AA302:AA303)","v":0},{"$f":"SUMIF(N302:N303,N301,AB302:AB303)","v":0},{"$f":"SUMIF(N302:N303,N301,AC302:AC303)","v":0},{"$f":"SUMIF(N302:N303,N301,AD302:AD303)","v":0},{"$f":"SUMIF(N302:N303,N301,AE302:AE303)","v":0},{"$f":"SUMIF(N302:N303,N301,AF302:AF303)","v":0},{"$f":"SUMIF(N302:N303,N301,AG302:AG303)","v":0},{"$f":"SUMIF(N302:N303,N301,AH302:AH303)","v":0},{"$f":"SUMIF(N302:N303,N301,AI302:AI303)","v":0},{"$f":"SUMIF(N302:N303,N301,AJ302:AJ303)","v":0},{"$f":"SUMIF(N302:N303,N301,AK302:AK303)","v":0},{"$f":"SUMIF(N302:N303,N301,AL302:AL303)","v":0}]
["1",null,null,null,null,null,null,null,null,"1.0"]
["1",{"$f":"A303&\"pIns1\"","v":"1pIns1"},null,null,null,null,null,null,null,null,null,null,"Добавить поставщика"]
["1","L2",null,null,null,null,null,null,null,null,null,2,"Затраты на транспортировку холодной воды","тыс.руб.",{"$f":"SUMIF(N305:N306,N304,O305:O306)","v":0},{"$f":"SUMIF(N305:N306,N304,P305:P306)","v":0},{"$f":"SUMIF(N305:N306,N304,Q305:Q306)","v":0},{"$f":"SUMIF(N305:N306,N304,R305:R306)","v":0},{"$f":"SUMIF(N305:N306,N304,S305:S306)","v":0},{"$f":"SUMIF(N305:N306,N304,T305:T306)","v":0},{"$f":"SUMIF(N305:N306,N304,U305:U306)","v":0},{"$f":"SUMIF(N305:N306,N304,V305:V306)","v":0},{"$f":"SUMIF(N305:N306,N304,W305:W306)","v":0},{"$f":"SUMIF(N305:N306,N304,X305:X306)","v":0},{"$f":"SUMIF(N305:N306,N304,Y305:Y306)","v":0},{"$f":"SUMIF(N305:N306,N304,Z305:Z306)","v":0},{"$f":"SUMIF(N305:N306,N304,AA305:AA306)","v":0},{"$f":"SUMIF(N305:N306,N304,AB305:AB306)","v":0},{"$f":"SUMIF(N305:N306,N304,AC305:AC306)","v":0},{"$f":"SUMIF(N305:N306,N304,AD305:AD306)","v":0},{"$f":"SUMIF(N305:N306,N304,AE305:AE306)","v":0},{"$f":"SUMIF(N305:N306,N304,AF305:AF306)","v":0},{"$f":"SUMIF(N305:N306,N304,AG305:AG306)","v":0},{"$f":"SUMIF(N305:N306,N304,AH305:AH306)","v":0},{"$f":"SUMIF(N305:N306,N304,AI305:AI306)","v":0},{"$f":"SUMIF(N305:N306,N304,AJ305:AJ306)","v":0},{"$f":"SUMIF(N305:N306,N304,AK305:AK306)","v":0},{"$f":"SUMIF(N305:N306,N304,AL305:AL306)","v":0}]
["1",null,null,null,null,null,null,null,null,"2.0"]
["1",{"$f":"A306&\"pIns2\"","v":"1pIns2"},null,null,null,null,null,null,null,null,null,null,"Добавить поставщика"]
["1","L3",null,null,null,null,null,null,null,null,null,3,"Затраты на водоотведение","тыс.руб.",{"$f":"SUMIF(N308:N309,N307,O308:O309)","v":0},{"$f":"SUMIF(N308:N309,N307,P308:P309)","v":0},{"$f":"SUMIF(N308:N309,N307,Q308:Q309)","v":0},{"$f":"SUMIF(N308:N309,N307,R308:R309)","v":0},{"$f":"SUMIF(N308:N309,N307,S308:S309)","v":0},{"$f":"SUMIF(N308:N309,N307,T308:T309)","v":0},{"$f":"SUMIF(N308:N309,N307,U308:U309)","v":0},{"$f":"SUMIF(N308:N309,N307,V308:V309)","v":0},{"$f":"SUMIF(N308:N309,N307,W308:W309)","v":0},{"$f":"SUMIF(N308:N309,N307,X308:X309)","v":0},{"$f":"SUMIF(N308:N309,N307,Y308:Y309)","v":0},{"$f":"SUMIF(N308:N309,N307,Z308:Z309)","v":0},{"$f":"SUMIF(N308:N309,N307,AA308:AA309)","v":0},{"$f":"SUMIF(N308:N309,N307,AB308:AB309)","v":0},{"$f":"SUMIF(N308:N309,N307,AC308:AC309)","v":0},{"$f":"SUMIF(N308:N309,N307,AD308:AD309)","v":0},{"$f":"SUMIF(N308:N309,N307,AE308:AE309)","v":0},{"$f":"SUMIF(N308:N309,N307,AF308:AF309)","v":0},{"$f":"SUMIF(N308:N309,N307,AG308:AG309)","v":0},{"$f":"SUMIF(N308:N309,N307,AH308:AH309)","v":0},{"$f":"SUMIF(N308:N309,N307,AI308:AI309)","v":0},{"$f":"SUMIF(N308:N309,N307,AJ308:AJ309)","v":0},{"$f":"SUMIF(N308:N309,N307,AK308:AK309)","v":0},{"$f":"SUMIF(N308:N309,N307,AL308:AL309)","v":0}]
["1",null,null,null,null,null,null,null,null,"3.0"]
["1",{"$f":"A309&\"pIns3\"","v":"1pIns3"},null,null,null,null,null,null,null,null,null,null,"Добавить поставщика"]
["1","L4",null,null,null,null,null,null,null,null,null,4,"Затраты на транспортировку сточных вод","тыс.руб.",{"$f":"SUMIF(N311:N312,N310,O311:O312)","v":0},{"$f":"SUMIF(N311:N312,N310,P311:P312)","v":0},{"$f":"SUMIF(N311:N312,N310,Q311:Q312)","v":0},{"$f":"SUMIF(N311:N312,N310,R311:R312)","v":0},{"$f":"SUMIF(N311:N312,N310,S311:S312)","v":0},{"$f":"SUMIF(N311:N312,N310,T311:T312)","v":0},{"$f":"SUMIF(N311:N312,N310,U311:U312)","v":0},{"$f":"SUMIF(N311:N312,N310,V311:V312)","v":0},{"$f":"SUMIF(N311:N312,N310,W311:W312)","v":0},{"$f":"SUMIF(N311:N312,N310,X311:X312)","v":0},{"$f":"SUMIF(N311:N312,N310,Y311:Y312)","v":0},{"$f":"SUMIF(N311:N312,N310,Z311:Z312)","v":0},{"$f":"SUMIF(N311:N312,N310,AA311:AA312)","v":0},{"$f":"SUMIF(N311:N312,N310,AB311:AB312)","v":0},{"$f":"SUMIF(N311:N312,N310,AC311:AC312)","v":0},{"$f":"SUMIF(N311:N312,N310,AD311:AD312)","v":0},{"$f":"SUMIF(N311:N312,N310,AE311:AE312)","v":0},{"$f":"SUMIF(N311:N312,N310,AF311:AF312)","v":0},{"$f":"SUMIF(N311:N312,N310,AG311:AG312)","v":0},{"$f":"SUMIF(N311:N312,N310,AH311:AH312)","v":0},{"$f":"SUMIF(N311:N312,N310,AI311:AI312)","v":0},{"$f":"SUMIF(N311:N312,N310,AJ311:AJ312)","v":0},{"$f":"SUMIF(N311:N312,N310,AK311:AK312)","v":0},{"$f":"SUMIF(N311:N312,N310,AL311:AL312)","v":0}]
["1",null,null,null,null,null,null,null,null,"4.0"]
["1",{"$f":"A312&\"pIns5\"","v":"1pIns5"},null,null,null,null,null,null,null,null,null,null,"Добавить поставщика"]
["1","L5",null,null,null,null,null,null,null,null,null,5,"Затраты на очистку сточных вод","тыс.руб.",{"$f":"SUMIF(N314:N315,N313,O314:O315)","v":0},{"$f":"SUMIF(N314:N315,N313,P314:P315)","v":0},{"$f":"SUMIF(N314:N315,N313,Q314:Q315)","v":0},{"$f":"SUMIF(N314:N315,N313,R314:R315)","v":0},{"$f":"SUMIF(N314:N315,N313,S314:S315)","v":0},{"$f":"SUMIF(N314:N315,N313,T314:T315)","v":0},{"$f":"SUMIF(N314:N315,N313,U314:U315)","v":0},{"$f":"SUMIF(N314:N315,N313,V314:V315)","v":0},{"$f":"SUMIF(N314:N315,N313,W314:W315)","v":0},{"$f":"SUMIF(N314:N315,N313,X314:X315)","v":0},{"$f":"SUMIF(N314:N315,N313,Y314:Y315)","v":0},{"$f":"SUMIF(N314:N315,N313,Z314:Z315)","v":0},{"$f":"SUMIF(N314:N315,N313,AA314:AA315)","v":0},{"$f":"SUMIF(N314:N315,N313,AB314:AB315)","v":0},{"$f":"SUMIF(N314:N315,N313,AC314:AC315)","v":0},{"$f":"SUMIF(N314:N315,N313,AD314:AD315)","v":0},{"$f":"SUMIF(N314:N315,N313,AE314:AE315)","v":0},{"$f":"SUMIF(N314:N315,N313,AF314:AF315)","v":0},{"$f":"SUMIF(N314:N315,N313,AG314:AG315)","v":0},{"$f":"SUMIF(N314:N315,N313,AH314:AH315)","v":0},{"$f":"SUMIF(N314:N315,N313,AI314:AI315)","v":0},{"$f":"SUMIF(N314:N315,N313,AJ314:AJ315)","v":0},{"$f":"SUMIF(N314:N315,N313,AK314:AK315)","v":0},{"$f":"SUMIF(N314:N315,N313,AL314:AL315)","v":0}]
["1",null,null,null,null,null,null,null,null,"5.0"]
["1",{"$f":"A315&\"pIns5\"","v":"1pIns5"},null,null,null,null,null,null,null,null,null,null,"Добавить поставщика"]
[{"$f":"A312","v":"1"},"L6",null,null,null,null,null,null,null,null,null,6,"Затраты на тепловую энергию","тыс.руб."]
["1","L7",null,null,null,null,null,null,null,null,null,7,"Затраты на теплоноситель","тыс.руб."]
["1","L8",null,null,null,null,null,null,null,null,null,8,"Затраты на горячую воду","тыс.руб."]
["et_List09_org1"]
[{"$f":"OFFSET(A320,-1,0)","v":"et_List09_org1"},"L1",{"$f":"M320","v":0},null,null,null,null,null,null,"1.1","О",{"$f":"J320","v":"1.1"},null,"тыс.руб."]
[{"$f":"A320","v":"et_List09_org1"},"L1_1",{"$f":"C320","v":0},null,null,null,null,null,null,null,null,{"$f":"L320&\".1\"","v":"1.1.1"},"Объём холодной воды (покупка)","тыс.куб.м"]
[{"$f":"A321","v":"et_List09_org1"},"L1_2",{"$f":"C321","v":0},null,null,null,null,null,null,null,null,{"$f":"L320&\".2\"","v":"1.1.2"},"Тариф на холодную воду","руб./куб.м",{"$f":"IF(OR(AND(O320<>0,O321=0),AND(O320=0,O321<>0)),\"Ошибка\",IF(O321=0,0,O320/O321))","v":0},0,0,0,0,0,0,0,0,0,0,0,0,0,0,0,0,0,0,0,0,0,0,0]
["et_List09_org2"]
[{"$f":"OFFSET(A324,-1,0)","v":"et_List09_org2"},"L2",{"$f":"M324","v":0},null,null,null,null,null,null,"2.1","О",{"$f":"J324","v":"2.1"},null,"тыс.руб."]
[{"$f":"A324","v":"et_List09_org2"},"L2_1",{"$f":"C324","v":0},null,null,null,null,null,null,null,null,{"$f":"L324&\".1\"","v":"2.1.1"},"Объём холодной воды (транспортировка)","тыс.куб.м"]
[{"$f":"A325","v":"et_List09_org2"},"L2_2",{"$f":"C325","v":0},null,null,null,null,null,null,null,null,{"$f":"L324&\".2\"","v":"2.1.2"},"Тариф на транспортировку холодной воды","руб./куб.м",{"$f":"IF(OR(AND(O324<>0,O325=0),AND(O324=0,O325<>0)),\"Ошибка\",IF(O325=0,0,O324/O325))","v":0},0,0,0,0,0,0,0,0,0,0,0,0,0,0,0,0,0,0,0,0,0,0,0]
["et_List09_org3"]
[{"$f":"OFFSET(A328,-1,0)","v":"et_List09_org3"},"L3",{"$f":"M328","v":0},null,null,null,null,null,null,"3.1","О",{"$f":"J328","v":"3.1"},null,"тыс.руб."]
[{"$f":"A328","v":"et_List09_org3"},"L3_1",{"$f":"C328","v":0},null,null,null,null,null,null,null,null,{"$f":"L328&\".1\"","v":"3.1.1"},"Объём пропущенных стоков (водоотведение)","тыс.куб.м"]
[{"$f":"A329","v":"et_List09_org3"},"L3_2",{"$f":"C329","v":0},null,null,null,null,null,null,null,null,{"$f":"L328&\".2\"","v":"3.1.2"},"Тариф на водоотведение","руб./куб.м",{"$f":"IF(OR(AND(O328<>0,O329=0),AND(O328=0,O329<>0)),\"Ошибка\",IF(O329=0,0,O328/O329))","v":0},0,0,0,0,0,0,0,0,0,0,0,0,0,0,0,0,0,0,0,0,0,0,0]
["et_List09_org4"]
[{"$f":"OFFSET(A332,-1,0)","v":"et_List09_org4"},"L4",{"$f":"M332","v":0},null,null,null,null,null,null,"4.1","О",{"$f":"J332","v":"4.1"},null,"тыс.руб."]
[{"$f":"A332","v":"et_List09_org4"},"L4_1",{"$f":"C332","v":0},null,null,null,null,null,null,null,null,{"$f":"L332&\".1\"","v":"4.1.1"},"Объём пропущенных стоков (транспортировка)","тыс.куб.м"]
[{"$f":"A333","v":"et_List09_org4"},"L4_2",{"$f":"C333","v":0},null,null,null,null,null,null,null,null,{"$f":"L332&\".2\"","v":"4.1.2"},"Тариф на транспортировку стоков","руб./куб.м",{"$f":"IF(OR(AND(O332<>0,O333=0),AND(O332=0,O333<>0)),\"Ошибка\",IF(O333=0,0,O332/O333))","v":0},0,0,0,0,0,0,0,0,0,0,0,0,0,0,0,0,0,0,0,0,0,0,0]
["et_List09_org5"]
[{"$f":"OFFSET(A336,-1,0)","v":"et_List09_org5"},"L5",{"$f":"M336","v":0},null,null,null,null,null,null,"5.1","О",{"$f":"J336","v":"5.1"},null,"тыс.руб."]
[{"$f":"A336","v":"et_List09_org5"},"L5_1",{"$f":"C336","v":0},null,null,null,null,null,null,null,null,{"$f":"L336&\".1\"","v":"5.1.1"},"Объём пропущенных стоков (очистка)","тыс.куб.м"]
[{"$f":"A337","v":"et_List09_org5"},"L5_2",{"$f":"C337","v":0},null,null,null,null,null,null,null,null,{"$f":"L336&\".2\"","v":"5.1.2"},"Тариф на очистку стоков","руб./куб.м",{"$f":"IF(OR(AND(O336<>0,O337=0),AND(O336=0,O337<>0)),\"Ошибка\",IF(O337=0,0,O336/O337))","v":0},0,0,0,0,0,0,0,0,0,0,0,0,0,0,0,0,0,0,0,0,0,0,0]
[]
["10. Налоги"]
["et_List10_tariff"]
["1",null,null,null,null,null,null,null,null,null,null,{"$f":"INDEX('Общие сведения'!$J$121:$J$135,MATCH($A342,'Общие сведения'!$D$121:$D$135,0))","v":"Тариф 1 (Водоотведение) - тариф на водоотведение"}]
[{"$f":"A342","v":"1"},"L0",null,null,null,null,null,null,null,null,null,0,"Налоги и платежи, относимые на указанный вид деятельности","тыс.руб.",{"$f":"SUM(O344:O352)","v":0},{"$f":"SUM(P344:P352)","v":0},0,0,0,0,0,0,0,0,0,0,0,0,0,0,0,0,0,0,0,0,0,0]
["1","L1",null,null,null,null,null,null,null,null,null,"1","Транспортный налог","тыс.руб."]
["1","L2",null,null,null,null,null,null,null,null,null,"2","Земельный налог","тыс.руб."]
["1","L3",null,null,null,null,null,null,null,null,null,"3","Плата за негативное воздействие на окружающую среду","тыс.руб."]
["1","L4",null,null,null,null,null,null,null,null,null,4,"Водный налог","тыс.руб."]
["1","L5",null,null,null,null,null,null,null,null,null,"5","Плата за пользование водным объектом","тыс.руб."]
["1","L6",null,null,null,null,null,null,null,null,null,"6","Налог на имущество","тыс.руб."]
["1","L7",null,null,null,null,null,null,null,null,null,"7","Налог на прибыль","тыс.руб."]
["1","L8",null,null,null,null,null,null,null,null,null,"8","Единый налог при упрощенной системе налогообложения","тыс.руб."]
[{"$f":"A350","v":"1"},"L9",null,null,null,null,null,null,null,null,null,9,"Прочие налоги и сборы","тыс.руб.",{"$f":"SUM(O353:O354)","v":0},{"$f":"SUM(P353:P354)","v":0},0,0,0,0,0,0,0,0,0,0,0,0,0,0,0,0,0,0,0,0,0,0]
["1",null,null,null,null,null,null,null,null,null,null,"9.0"]
["1",{"$f":"A354&\"pIns\"","v":"1pIns"},null,null,null,null,null,null,null,null,null,null,"Добавить"]
["et_List10_nalog"]
[{"$f":"OFFSET(A356,-1,0)","v":"et_List10_nalog"},"L9",{"$f":"M356","v":0},null,null,null,null,null,null,null,"О","1",null,"тыс.руб."]
[]
["11. ИП + источники"]
["et_List11_tariff"]
["1",{"$f":"'ИП + источники'!$N$14<>\"да\"","v":true},null,null,null,null,null,null,null,null,null,{"$f":"INDEX('Общие сведения'!$J$121:$J$135,MATCH($A360,'Общие сведения'!$D$121:$D$135,0))","v":"Тариф 1 (Водоотведение) - тариф на водоотведение"}]
[{"$f":"A360","v":"1"},{"$f":"'ИП + источники'!$N$14<>\"да\"","v":true},"L1",null,null,null,null,null,null,null,null,1,"Источники финансирования инвестиционной программы, всего","тыс.руб.",{"$f":"O362+O367+O371+O375","v":0},{"$f":"P362+P367+P371+P375","v":0},0,0,0,0,0,0,0,0,0,0,0,0,0,0,0,0,0,0,0,0,0,0,0,0]
["1",{"$f":"'ИП + источники'!$N$14<>\"да\"","v":true},"L1_1",null,null,null,null,null,null,null,null,"1.1","Собственные средства","тыс.руб.",{"$f":"O363+O364+O365+O366","v":0},{"$f":"P363+P364+P365+P366","v":0},0,0,0,0,0,0,0,0,0,0,0,0,0,0,0,0,0,0,0,0,0,0,0,0]
["1",{"$f":"'ИП + источники'!$N$14<>\"да\"","v":true},"L1_1_1",null,null,null,null,null,null,null,null,"1.1.1","Амортизационные отчисления","тыс.руб."]
["1",{"$f":"'ИП + источники'!$N$14<>\"да\"","v":true},"L1_1_2",null,null,null,null,null,null,null,null,"1.1.2","Прибыль на капвложения","тыс.руб."]
["1",{"$f":"'ИП + источники'!$N$14<>\"да\"","v":true},"L1_1_3",null,null,null,null,null,null,null,null,"1.1.3","Прочие собственные средства","тыс.руб."]
["1",{"$f":"'ИП + источники'!$N$14<>\"да\"","v":true},"L1_1_4",null,null,null,null,null,null,null,null,"1.1.4","За счет платы за технологическое присоединение","тыс.руб."]
["1",{"$f":"'ИП + источники'!$N$14<>\"да\"","v":true},"L1_2",null,null,null,null,null,null,null,null,"1.2","Привлеченные средства","тыс.руб.",{"$f":"O368+O369+O370","v":0},{"$f":"P368+P369+P370","v":0},0,0,0,0,0,0,0,0,0,0,0,0,0,0,0,0,0,0,0,0,0,0,0,0]
["1",{"$f":"'ИП + источники'!$N$14<>\"да\"","v":true},"L1_2_1",null,null,null,null,null,null,null,null,"1.2.1","Кредиты","тыс.руб."]
["1",{"$f":"'ИП + источники'!$N$14<>\"да\"","v":true},"L1_2_2",null,null,null,null,null,null,null,null,"1.2.2","Займы","тыс.руб."]
["1",{"$f":"'ИП + источники'!$N$14<>\"да\"","v":true},"L1_2_3",null,null,null,null,null,null,null,null,"1.2.3","Прочие привлеченные средства","тыс.руб."]
["1",{"$f":"'ИП + источники'!$N$14<>\"да\"","v":true},"L1_3",null,null,null,null,null,null,null,null,"1.3","Бюджетное финансирование","тыс.руб.",{"$f":"O372+O373+O374","v":0},{"$f":"P372+P373+P374","v":0},0,0,0,0,0,0,0,0,0,0,0,0,0,0,0,0,0,0,0,0,0,0,0,0]
["1",{"$f":"'ИП + источники'!$N$14<>\"да\"","v":true},"L1_3_1",null,null,null,null,null,null,null,null,"1.3.1","Федеральный бюджет","тыс.руб."]
["1",{"$f":"'ИП + источники'!$N$14<>\"да\"","v":true},"L1_3_2",null,null,null,null,null,null,null,null,"1.3.2","Бюджет субъекта РФ","тыс.руб."]
["1",{"$f":"'ИП + источники'!$N$14<>\"да\"","v":true},"L1_3_3",null,null,null,null,null,null,null,null,"1.3.3","Бюджет муниципального образования","тыс.руб."]
["1",{"$f":"'ИП + источники'!$N$14<>\"да\"","v":true},"L1_4",null,null,null,null,null,null,null,null,"1.4","Прочие источники финансирования","тыс.руб.",{"$f":"O376+O377+O378+O379","v":0},{"$f":"P376+P377+P378+P379","v":0},0,0,0,0,0,0,0,0,0,0,0,0,0,0,0,0,0,0,0,0,0,0,0,0]
["1",{"$f":"'ИП + источники'!$N$14<>\"да\"","v":true},"L1_4_1",null,null,null,null,null,null,null,null,"1.4.1","Лизинг","тыс.руб."]
["1",{"$f":"'ИП + источники'!$N$14<>\"да\"","v":true},"L1_4_2",null,null,null,null,null,null,null,null,"1.4.2","Доход от взимания платы за нарушение нормативов по объёму и (или) составу сточных вод","тыс.руб."]
["1",{"$f":"'ИП + источники'!$N$14<>\"да\"","v":true},"L1_4_3",null,null,null,null,null,null,null,null,"1.4.3","Доход от взимания платы за негативное воздействие на работу централизованной системы водоотведения","тыс.руб."]
["1",{"$f":"'ИП + источники'!$N$14<>\"да\"","v":true},"L1_4_4",null,null,null,null,null,null,null,null,"1.4.4","Прочие","тыс.руб."]
["1",{"$f":"'ИП + источники'!$N$14<>\"да\"","v":true},"L2",null,null,null,null,null,null,null,null,"2","График возврата и обслуживания заемных средств из тарифной выручки","тыс.руб.",{"$f":"O381+O382+O383","v":0},{"$f":"P381+P382+P383","v":0},0,0,0,0,0,0,0,0,0,0,0,0,0,0,0,0,0,0,0,0,0,0,0,0]
["1",{"$f":"'ИП + источники'!$N$14<>\"да\"","v":true},"L2_1",null,null,null,null,null,null,null,null,"2.1","погашение займов и кредитов из нормативной прибыли","тыс.руб."]
["1",{"$f":"'ИП + источники'!$N$14<>\"да\"","v":true},"L2_2",null,null,null,null,null,null,null,null,"2.2","уплата процентов по кредитам из нормативной прибыли","тыс.руб."]
["1",{"$f":"'ИП + источники'!$N$14<>\"да\"","v":true},"L2_3",null,null,null,null,null,null,null,null,"2.3","погашение займов и кредитов из амортизации","тыс.руб."]
[]
["12. Экономия_корр"]
["et_List12_tariff"]
["1",null,null,null,null,null,null,null,null,null,null,{"$f":"INDEX('Общие сведения'!$J$121:$J$135,MATCH($A387,'Общие сведения'!$D$121:$D$135,0))","v":"Тариф 1 (Водоотведение) - тариф на водоотведение"}]
[{"$f":"A387","v":"1"},"L1",null,null,null,null,null,null,null,null,null,"1","Экономия расходов всего","тыс.руб.",{"$f":"O389+O390+O391","v":0},0,0,0,0,0,0,0,0,0,0,0,0,0,0,0,0,0,0,0]
["1","L1_1",null,null,null,null,null,null,null,null,null,"1.1","Экономия операционных расходов","тыс.руб."]
["1","L1_2",null,null,null,null,null,null,null,null,null,"1.2","Экономия от снижения потребления электрической энергии (мощности)","тыс.руб."]
["1","L1_3",null,null,null,null,null,null,null,null,null,"1.3","Экономия от снижения потребления прочих энергетических ресурсов, холодной воды, теплоносителя","тыс.руб."]
["1","L2",null,null,null,null,null,null,null,null,null,"2","Значение индекса потребительских цен","%",{"$f":"SUMIFS(Сценарии!$T$15:$T$35,Сценарии!$A$15:$A$35,$A392,Сценарии!$M$15:$M$35,\"Индекс потребительских цен\")","v":0},{"$f":"SUMIFS(Сценарии!$Y$15:$Y$35,Сценарии!$A$15:$A$35,$A392,Сценарии!$M$15:$M$35,\"Индекс потребительских цен\")","v":0},{"$f":"SUMIFS(Сценарии!$AA$15:$AA$35,Сценарии!$A$15:$A$35,$A392,Сценарии!$M$15:$M$35,\"Индекс потребительских цен\")","v":0},{"$f":"SUMIFS(Сценарии!$AC$15:$AC$35,Сценарии!$A$15:$A$35,$A392,Сценарии!$M$15:$M$35,\"Индекс потребительских цен\")","v":0},{"$f":"SUMIFS(Сценарии!$AE$15:$AE$35,Сценарии!$A$15:$A$35,$A392,Сценарии!$M$15:$M$35,\"Индекс потребительских цен\")","v":0},{"$f":"SUMIFS(Сценарии!$AG$15:$AG$35,Сценарии!$A$15:$A$35,$A392,Сценарии!$M$15:$M$35,\"Индекс потребительских цен\")","v":0},{"$f":"SUMIFS(Сценарии!$AI$15:$AI$35,Сценарии!$A$15:$A$35,$A392,Сценарии!$M$15:$M$35,\"Индекс потребительских цен\")","v":0},{"$f":"SUMIFS(Сценарии!$AK$15:$AK$35,Сценарии!$A$15:$A$35,$A392,Сценарии!$M$15:$M$35,\"Индекс потребительских цен\")","v":0},{"$f":"SUMIFS(Сценарии!$AM$15:$AM$35,Сценарии!$A$15:$A$35,$A392,Сценарии!$M$15:$M$35,\"Индекс потребительских цен\")","v":0},{"$f":"SUMIFS(Сценарии!$AO$15:$AO$35,Сценарии!$A$15:$A$35,$A392,Сценарии!$M$15:$M$35,\"Индекс потребительских цен\")","v":0},{"$f":"SUMIFS(Сценарии!$U$15:$U$35,Сценарии!$A$15:$A$35,$A392,Сценарии!$M$15:$M$35,\"Индекс потребительских цен\")","v":5.8},{"$f":"SUMIFS(Сценарии!$Z$15:$Z$35,Сценарии!$A$15:$A$35,$A392,Сценарии!$M$15:$M$35,\"Индекс потребительских цен\")","v":0},{"$f":"SUMIFS(Сценарии!$AB$15:$AB$35,Сценарии!$A$15:$A$35,$A392,Сценарии!$M$15:$M$35,\"Индекс потребительских цен\")","v":0},{"$f":"SUMIFS(Сценарии!$AD$15:$AD$35,Сценарии!$A$15:$A$35,$A392,Сценарии!$M$15:$M$35,\"Индекс потребительских цен\")","v":0},{"$f":"SUMIFS(Сценарии!$AF$15:$AF$35,Сценарии!$A$15:$A$35,$A392,Сценарии!$M$15:$M$35,\"Индекс потребительских цен\")","v":0},{"$f":"SUMIFS(Сценарии!$AH$15:$AH$35,Сценарии!$A$15:$A$35,$A392,Сценарии!$M$15:$M$35,\"Индекс потребительских цен\")","v":0},{"$f":"SUMIFS(Сценарии!$AJ$15:$AJ$35,Сценарии!$A$15:$A$35,$A392,Сценарии!$M$15:$M$35,\"Индекс потребительских цен\")","v":0},{"$f":"SUMIFS(Сценарии!$AL$15:$AL$35,Сценарии!$A$15:$A$35,$A392,Сценарии!$M$15:$M$35,\"Индекс потребительских цен\")","v":0},{"$f":"SUMIFS(Сценарии!$AN$15:$AN$35,Сценарии!$A$15:$A$35,$A392,Сценарии!$M$15:$M$35,\"Индекс потребительских цен\")","v":0},{"$f":"SUMIFS(Сценарии!$AP$15:$AP$35,Сценарии!$A$15:$A$35,$A392,Сценарии!$M$15:$M$35,\"Индекс потребительских цен\")","v":0}]
["1","L3",null,null,null,null,null,null,null,null,null,3,"Кумулятивное значение индекса потребительских цен","%",{"$f":"O392","v":0},{"$f":"O393*P392/100","v":0},{"$f":"P393*Q392/100","v":0},0,0,0,0,0,0,0,0,0,0,0,0,0,0,0,0,0]
["1","L4",null,null,null,null,null,null,null,null,null,"4","Экономия расходов с учетом ИПЦ","тыс.руб.",{"$f":"O388*O393/100","v":0},{"$f":"P388*P393/100","v":0},0,0,0,0,0,0,0,0,0,0,0,0,0,0,0,0,0,0]
[]
["13. Плата за негативное возд"]
["et_List13_tariff"]
["1",null,null,null,null,null,null,null,null,null,null,{"$f":"INDEX('Общие сведения'!$J$121:$J$135,MATCH($A398,'Общие сведения'!$D$121:$D$135,0))","v":"Тариф 1 (Водоотведение) - тариф на водоотведение"},null,null,{"$f":"O399+O400","v":0},0,0,0,0,0,0,0]
[{"$f":"A398","v":"1"},"L1",null,null,null,null,null,null,null,null,null,"1","Доходы регулируемой организации от взимания платы за нарушение нормативов по объёму и (или) составу сточных вод","тыс.руб.",null,null,null,null,null,null,null,{"$f":"O399-P399-Q399-R399-S399-T399-U399","v":0}]
[{"$f":"A399","v":"1"},"L2",null,null,null,null,null,null,null,null,null,"2","Доходы от взимания платы за негативное воздействие на работу централизованной системы водоотведения","тыс.руб.",null,null,null,null,null,null,null,{"$f":"O400-P400-Q400-R400-S400-T400-U400","v":0}]
[]
["14. Корректировка НВВ"]
["et_List14_tariff"]
["1",{"$f":"INDEX('Общие сведения'!$H$121:$H$135,MATCH($A404,'Общие сведения'!$D$121:$D$135,0))","v":"Водоотведение"},null,null,null,null,null,null,null,null,null,{"$f":"INDEX('Общие сведения'!$J$121:$J$135,MATCH($A404,'Общие сведения'!$D$121:$D$135,0))","v":"Тариф 1 (Водоотведение) - тариф на водоотведение"}]
[{"$f":"A404","v":"1"},null,null,"L1",null,null,null,null,null,null,null,"I","Расчет размера корректировки необходимой валовой выручки по результатам деятельности прошлых периодов регулирования, а также осуществляемой с целью учета отклонения фактических значений параметров расчета тарифов от значений, учтенных при установлении","ΔHBBKi-2","тыс.руб.",{"$f":"P407-P406","v":3011.64543},{"$f":"Q407-Q406","v":40044.58378221625}]
[{"$f":"A405","v":"1"},null,null,"L1_1",null,null,null,null,null,null,null,"1","Товарная выручка","ТВФi-2","тыс.руб."]
["1",null,null,"L1_2",null,null,null,null,null,null,null,"2","Скорректированная фактическая величина необходимой валовой выручки","HBBФi-2","тыс.руб.",{"$f":"P408+P409+P421+P425+P426+P427+P428+P432","v":3011.64543},{"$f":"Q408+Q409+Q421+Q425+Q426+Q427+Q428+Q432","v":40044.58378221625}]
["1",null,null,"L1_2_1",null,null,null,null,null,null,null,"2.1","Операционные расходы, определенные на (i-2)-й год исходя из фактических значений параметров расчета тарифов","ОРФi-2","тыс.руб."]
["1",null,null,"L1_2_2",null,null,null,null,null,null,null,"2.2","фактические документально подтвержденные неподконтрольные расходы, в том числе:","Н РФi-2","тыс.руб.",{"$f":"SUM(P410:P420)","v":3011.64543},{"$f":"SUM(Q410:Q420)","v":4343.0394299999998}]
["1",null,null,"L1_2_2_1",null,null,null,null,null,null,null,"2.2.1","расходы на оплату товаров (услуг, работ), приобретаемых у других организаций, осуществляющих регулируемые виды деятельности;",null,"тыс.руб.",{"$f":"SUMIFS(Покупка!P$15:P$38,Покупка!$A$15:$A$38,$A410,Покупка!$B$15:$B$38,\"Итого\")","v":1037.19543},{"$f":"SUMIFS(Покупка!Q$15:Q$38,Покупка!$A$15:$A$38,$A410,Покупка!$B$15:$B$38,\"Итого\")","v":734.16543000000001}]
["1",null,null,"L1_2_2_2",null,null,null,null,null,null,null,"2.2.2","расходы на реагенты",null,"тыс.руб.",null,{"$f":"SUMIFS(Реагенты!Q$15:Q$22,Реагенты!$A$15:$A$22,$A411,Реагенты!$M$15:$M$22,\"Всего по тарифу\")","v":0}]
["1",null,null,"L1_2_2_3",null,null,null,null,null,null,null,"2.2.3","расходы на уплату налогов, сборов и других обязательных платежей",null,"тыс.руб.",{"$f":"SUMIFS(Налоги!P$15:P$30,Налоги!$A$15:$A$30,$A412,Налоги!$L$15:$L$30,\"0\")","v":1974.45},{"$f":"SUMIFS(Налоги!Q$15:Q$30,Налоги!$A$15:$A$30,$A412,Налоги!$L$15:$L$30,\"0\")","v":1433.2139999999997}]
["1","Расходы на мероприятия по защите централизованных систем водоснабжения",null,"L1_2_2_4",null,null,null,null,null,null,null,"2.2.4","Расходы на мероприятия по защите централизованных систем водоснабжения и (или) водоотведения и их отдельных объектов от угроз техногенного, природного характера и террористических актов, по предотвращению возникновения аварийных ситуаций, снижению риска и смягчению последствий чрезвычайных ситуаций (за исключением мероприятий, включенных в инвестиционную программу)",null,"тыс.руб.",null,{"$f":"SUMIFS(Калькуляция!Q$15:Q$143,Калькуляция!$A$15:$A$143,$A413,Калькуляция!$B$15:$B$143,$B413)","v":0}]
["1","Арендная и концессионная плата, лизинговые платежи",null,"L1_2_2_5",null,null,null,null,null,null,null,"2.2.5","расходы на арендную и концессионную плату, лизинговые платежи",null,"тыс.руб.",null,{"$f":"SUMIFS(Калькуляция!Q$15:Q$143,Калькуляция!$A$15:$A$143,$A414,Калькуляция!$B$15:$B$143,$B414)","v":2175.66}]
["1","резерв по сомнительным долгам гарантирующей организации",null,"L1_2_2_6",null,null,null,null,null,null,null,"2.2.6","расходы по сомнительным долгам для гарантирующей организации",null,"тыс.руб.",null,{"$f":"SUMIFS(Калькуляция!Q$15:Q$143,Калькуляция!$A$15:$A$143,$A415,Калькуляция!$B$15:$B$143,$B415)","v":0}]
["1","Экономия расходов",null,"L1_2_2_7",null,null,null,null,null,null,null,"2.2.7","экономия средств, достигнутая в результате снижения расходов предыдущего долгосрочного периода регулирования",null,"тыс.руб.",null,{"$f":"SUMIFS(Калькуляция!Q$15:Q$143,Калькуляция!$A$15:$A$143,$A416,Калькуляция!$B$15:$B$143,$B416)","v":0}]
["1","Расходы на обслуживание бесхозяйных сетей",null,"L1_2_2_8",null,null,null,null,null,null,null,"2.2.8","расходы на обслуживание бесхозяйных сетей, эксплуатируемых регулируемой организацией",null,"тыс.руб.",null,{"$f":"SUMIFS(Калькуляция!Q$15:Q$143,Калькуляция!$A$15:$A$143,$A417,Калькуляция!$B$15:$B$143,$B417)","v":0}]
["1","Расходы на компенсацию экономически обоснованных расходов",null,"L1_2_2_9",null,null,null,null,null,null,null,"2.2.9","расходы на компенсацию экономически обоснованных расходов (выпадающих доходов прошлых периодов)",null,"тыс.руб.",null,{"$f":"SUMIFS(Калькуляция!Q$15:Q$143,Калькуляция!$A$15:$A$143,$A418,Калькуляция!$B$15:$B$143,$B418)","v":0}]
["1","Займы и кредиты (для метода индексации)",null,"L1_2_2_10",null,null,null,null,null,null,null,"2.2.10","расходы на займы и кредиты (для метода индексации)",null,"тыс.руб.",null,{"$f":"SUMIFS(Калькуляция!Q$15:Q$143,Калькуляция!$A$15:$A$143,$A419,Калькуляция!$B$15:$B$143,$B419)","v":0}]
["1","Расходы концессионера на осуществление государственного кадастрового учета",null,"L1_2_2_11",null,null,null,null,null,null,null,"2.2.11","расходы концессионера на осуществление государственного кадастрового учета и (или) государственной регистрации права собственности концедента",null,"тыс.руб.",null,{"$f":"SUMIFS(Калькуляция!Q$15:Q$143,Калькуляция!$A$15:$A$143,$A420,Калькуляция!$B$15:$B$143,$B420)","v":0}]
["1",null,null,"L1_2_3",null,null,null,null,null,null,null,"2.3","расходы на электрическую энергию","РТФi-2","тыс.руб.",{"$f":"P422*P423*P424","v":0},{"$f":"Q422*Q423*Q424","v":27768.499000768992}]
["1",null,null,"L1_2_3_1",null,null,null,null,null,null,null,"2.3.1","удельное потребление электрической энергии, установленное на соответствующий год","УПЭФi-2","кВтч/куб.м.",null,{"$f":"SUMIFS(ЭЭ!O$15:O$42,ЭЭ!$A$15:$A$42,$A422,ЭЭ!$M$15:$M$42,\"Удельный расход электроэнергии\")","v":1.2500000000000069}]
["1",null,null,"L1_2_3_2",null,null,null,null,null,null,null,"2.3.2","фактический объём поданной воды (принятых сточных вод)","Q ф i-2","тыс.куб.м.",null,{"$f":"SUMIFS(ЭЭ!Q$15:Q$42,ЭЭ!$A$15:$A$42,$A423,ЭЭ!$M$15:$M$42,\"Объём воды/сточных вод\")","v":3967.0619999999999}]
["1",null,null,"L1_2_3_3",null,null,null,null,null,null,null,"2.3.3","фактическая (расчетная) цена на электрическую энергию, определяемая в i-2 году","ЦТ ф i-2","руб./кВтч",null,{"$f":"SUMIFS(ЭЭ!Q$15:Q$42,ЭЭ!$A$15:$A$42,$A424,ЭЭ!$M$15:$M$42,\"Средний (расчетный) тариф\")","v":5.5998114475183574}]
["1","амортизация",null,"L1_2_4",null,null,null,null,null,null,null,"2.4","расходы на амортизацию в (i-2)-м году, определенные исходя из фактического состава имущества в (i-2)-м году","АФi-2","тыс.руб.",null,{"$f":"SUMIFS(Калькуляция!Q$15:Q$143,Калькуляция!$A$15:$A$143,$A425,Калькуляция!$B$15:$B$143,$B425)","v":812.64280666666673}]
["1",null,null,"L1_2_5",null,null,null,null,null,null,null,"2.5","величина нормативной прибыли","ПРi-2","тыс.руб.",null,{"$f":"SUMIFS(Калькуляция!O$15:O$143,Калькуляция!$A$15:$A$143,$A426,Калькуляция!$B$15:$B$143,\"Нормативная прибыль\")-SUMIFS(Калькуляция!O$15:O$143,Калькуляция!$A$15:$A$143,$A426,Калькуляция!$B$15:$B$143,\"иные экономически обоснованные расходы на социальные нужды\")+SUMIFS(Калькуляция!Q$15:Q$143,Калькуляция!$A$15:$A$143,$A426,Калькуляция!$B$15:$B$143,\"иные экономически обоснованные расходы на социальные нужды\")","v":374.73521828381905}]
["1","Расчетная предпринимательская прибыль гарантирующей организации",null,"L1_2_6",null,null,null,null,null,null,null,"2.6","расчетная предпринимательская прибыль гарантирующей организации","ПРГО Фi-2","тыс.руб.",null,{"$f":"SUMIFS(Калькуляция!Q$15:Q$143,Калькуляция!$A$15:$A$143,$A427,Калькуляция!$B$15:$B$143,$B427)","v":6745.6673264967685}]
["1",null,null,"L1_2_7_0",null,null,null,null,null,null,null,"2.7","размер корректировки необходимой валовой выручки, учтенной при регулирования на год i-2",null,"тыс.руб."]
["1",null,null,"L1_2_7",null,null,null,null,null,null,null,"2.7.1","величина отклонения показателя ввода объектов системы водоснабжения и (или) водоотведения в эксплуатацию и изменения инвестиционной программы","ΔИi-4","тыс.руб."]
["1",null,null,"L1_2_8",null,null,null,null,null,null,null,"2.7.2","степень исполнения регулируемой организацией производственной программы","ΔЦПi-4","тыс.руб."]
["1",null,null,"L1_2_10",null,null,null,null,null,null,null,"2.7.3","размер корректировки необходимой валовой выручки по результатам деятельности прошлых периодов регулирования, а также осуществляемой с целью учета отклонения фактических значений параметров расчета тарифов от значений, учтенных при установлении","ΔHBBKi-4","тыс.руб."]
["1",null,null,"L1_2_9",null,null,null,null,null,null,null,"2.9","величина изменения необходимой валовой выручки в году i-2, проводимого в целях сглаживания"," ΔHBBСi-2","тыс.руб."]
["1",null,null,"L2",null,null,null,null,null,null,null,"II","Расчет размера корректировки необходимой валовой выручки, в случае если на i-2 год применялся метод экономически обоснованных расходов","ΔHBBKi-2","тыс.руб.",{"$f":"P434","v":0},{"$f":"Q434","v":0}]
["1",null,null,"L2_1",null,null,null,null,null,null,null,"1","Величина, определяющая результаты деятельности регулируемой организации до перехода к регулированию цен (тарифов) на основе долгосрочных параметров регулирования","ΔРЕЗi-2","тыс.руб.",{"$f":"P435+P436","v":0},{"$f":"Q435+Q436","v":0}]
["1",null,null,"L2_1_1",null,null,null,null,null,null,null,"1.1","экономически обоснованные расходы регулируемой организации, понесенные в периоды регулирования, предшествовавшие переходу к регулированию цен (тарифов) на основе долгосрочных параметров регулирования и не возмещенные регулируемой организации (не учтенные в тарифах)","ΔРЕЗ+i-2","тыс.руб."]
["1",null,null,"L2_1_2",null,null,null,null,null,null,null,"1.2","доходы регулируемой организации, необоснованно полученные в периоды регулирования, предшествовавшие переходу к регулированию цен (тарифов) на основе долгосрочных параметров регулирования","ΔРЕЗ-i-2","тыс.руб."]
["1",null,null,"L3",null,null,null,null,null,null,null,"III","Величина отклонения показателя ввода объектов системы водоснабжения и (или) водоотведения в эксплуатацию и изменения инвестиционной программы","ΔИi-2","тыс.руб."]
["1",null,null,"L4",null,null,null,null,null,null,null,"IV","Степень исполнения регулируемой организацией обязательств по созданию и (или) реконструкции объектов концессионного соглашения, по эксплуатации объектов по договору аренды централизованных систем горячего водоснабжения, холодного водоснабжения и (или) водоотведения, отдельных объектов таких систем, находящихся в государственной или муниципальной собственности, по реализации инвестиционной программы, производственной программы при недостижении регулируемой организацией утверждённых плановых значений показателей надежности и качества объектов централизованных систем водоснабжения и (или) водоотведения (корректировка по показателям надежности и качества)","ΔЦПi-2","тыс.руб."]
["1",null,{"$f":"B404=\"Водоотведение\"","v":true},"L5",null,null,null,null,null,null,null,"V","Доходы от взимания платы за нарушение нормативов по объёму и (или) составу сточных вод, за исключением направленных целевым образом на внесение платы за негативное воздействие на окружающую среду, компенсацию вреда, причиненного водному объекту, и финансирование мероприятий инвестиционной программы по строительству, реконструкции и модернизации объектов централизованной системы водоотведения (в соответствии с п.14 Методических указаний)",null,"тыс.руб.",null,{"$f":"IFERROR(SUMIFS('Плата за негативное возд'!$V$14:$V$18,'Плата за негативное возд'!$A$14:$A$18,A439,'Плата за негативное возд'!$L$14:$L$18,\"1\"),0)","v":3531.9325254894657}]
["1",null,{"$f":"B404=\"Водоотведение\"","v":true},"L6",null,null,null,null,null,null,null,"VI","Доходы от взимания платы за негативное воздействие на централизованную систему водоотведения, за исключением направленных целевым образом на финансирование мероприятий инвестиционной и (или) производственной программы регулируемой организации (в соответствии с п.14 Методических указаний)",null,"тыс.руб.",null,{"$f":"IFERROR(SUMIFS('Плата за негативное возд'!$V$14:$V$18,'Плата за негативное возд'!$A$14:$A$18,A440,'Плата за негативное возд'!$L$14:$L$18,\"2\"),0)","v":309.73997951053485}]
["1",null,null,"L7",null,null,null,null,null,null,null,"VII","Недополученные доходы / Выпадающие расходы",null,"тыс.руб."]
["1",null,null,"L8",null,null,null,null,null,null,null,"VIII","Избыток средств, полученный за отчётные периоды регулирования",null,"тыс.руб.",{"$f":"P443+P444","v":0},{"$f":"Q443+Q444","v":0}]
["1",null,null,"L8_1",null,null,null,null,null,null,null,1,"Экономически не обоснованные доходы / расходы прошлых периодов регулирования",null,"тыс.руб."]
["1",null,null,"L8_2",null,null,null,null,null,null,null,2,"Бюджетные субсидии, полученные на финансирование расходов, учтенных в тарифах",null,"тыс.руб."]
["1",null,null,"L9",null,null,null,null,null,null,null,"IX","Величина отклонения по результатам досудебного рассмотрения споров",null,"тыс.руб."]
["1",null,null,"L10",null,null,null,null,null,null,null,"X","Величина отклонения по результатам рассмотрения разногласий",null,"тыс.руб."]
["1",null,null,"L11",null,null,null,null,null,null,null,"XI","Корректировка НВВ всего",null,"тыс.руб.",{"$f":"P405+P433+P437+P438+P439+P440+P441+P442+P445+P446","v":3011.64543},{"$f":"Q405+Q433+Q437+Q438+Q439+Q440+Q441+Q442+Q445+Q446","v":43886.256287216253}]
[]
["15. Калькуляция"]
["et_List15_tariff"]
["1",{"$f":"INDEX('Общие сведения'!$N$121:$N$135,MATCH($A451,'Общие сведения'!$D$121:$D$135,0))","v":"одноставочный"},null,{"$f":"INDEX('Общие сведения'!$H$121:$H$135,MATCH($A451,'Общие сведения'!$D$121:$D$135,0))","v":"Водоотведение"},null,null,null,null,null,null,null,{"$f":"INDEX('Общие сведения'!$J$121:$J$135,MATCH($A451,'Общие сведения'!$D$121:$D$135,0))","v":"Тариф 1 (Водоотведение) - тариф на водоотведение"}]
[{"$f":"A451","v":"1"},null,null,"L1",null,null,null,null,null,null,null,"1","Операционные расходы","тыс.руб.",null,{"$f":"SUM(P454,P471,P477,P497,P498,P499)","v":{"$error":"#N/A"}},{"$f":"SUM(Q454,Q471,Q477,Q497,Q498,Q499)","v":{"$error":"#N/A"}},{"$f":"Q452-P452","v":{"$error":"#N/A"}},{"$f":"O452*S453","v":{"$error":"#N/A"}},{"$f":"S452*T453","v":{"$error":"#N/A"}},{"$f":"T452*U453","v":{"$error":"#N/A"}},{"$error":"#N/A"},{"$error":"#N/A"},{"$error":"#N/A"},{"$error":"#N/A"},{"$error":"#N/A"},{"$error":"#N/A"},{"$error":"#N/A"},{"$error":"#N/A"},{"$f":"S452*AD453","v":{"$error":"#N/A"}},{"$error":"#N/A"},{"$error":"#N/A"},{"$error":"#N/A"},{"$error":"#N/A"},{"$error":"#N/A"},{"$error":"#N/A"},{"$error":"#N/A"},{"$error":"#N/A"},{"$error":"#N/A"},{"$f":"IF(S452=0,0,(AD452-S452)/S452*100)","v":{"$error":"#N/A"}},{"$f":"IF(AD452=0,0,(AE452-AD452)/AD452*100)","v":{"$error":"#N/A"}},{"$error":"#N/A"},{"$error":"#N/A"},{"$error":"#N/A"},{"$error":"#N/A"},{"$error":"#N/A"},{"$error":"#N/A"},{"$error":"#N/A"},{"$error":"#N/A"}]
[{"$f":"A452","v":"1"},null,null,"L1_1",null,null,null,null,null,null,null,"1.1","коэффициент индекса операционных расходов",null,null,null,null,0,{"$f":"SUMIFS(INDEX(Сценарии!$O$15:$AP$35,,MATCH(S$3,Сценарии!$O$3:$AP$3,0)),Сценарии!$A$15:$A$35,$A453,Сценарии!$B$15:$B$35,\"ИОР\")","v":{"$error":"#N/A"}},{"$f":"SUMIFS(INDEX(Сценарии!$O$15:$AP$35,,MATCH(T$3,Сценарии!$O$3:$AP$3,0)),Сценарии!$A$15:$A$35,$A453,Сценарии!$B$15:$B$35,\"ИОР\")","v":{"$error":"#N/A"}},{"$f":"SUMIFS(INDEX(Сценарии!$O$15:$AP$35,,MATCH(U$3,Сценарии!$O$3:$AP$3,0)),Сценарии!$A$15:$A$35,$A453,Сценарии!$B$15:$B$35,\"ИОР\")","v":{"$error":"#N/A"}},{"$f":"SUMIFS(INDEX(Сценарии!$O$15:$AP$35,,MATCH(V$3,Сценарии!$O$3:$AP$3,0)),Сценарии!$A$15:$A$35,$A453,Сценарии!$B$15:$B$35,\"ИОР\")","v":{"$error":"#N/A"}},{"$f":"SUMIFS(INDEX(Сценарии!$O$15:$AP$35,,MATCH(W$3,Сценарии!$O$3:$AP$3,0)),Сценарии!$A$15:$A$35,$A453,Сценарии!$B$15:$B$35,\"ИОР\")","v":{"$error":"#N/A"}},{"$f":"SUMIFS(INDEX(Сценарии!$O$15:$AP$35,,MATCH(X$3,Сценарии!$O$3:$AP$3,0)),Сценарии!$A$15:$A$35,$A453,Сценарии!$B$15:$B$35,\"ИОР\")","v":{"$error":"#N/A"}},{"$f":"SUMIFS(INDEX(Сценарии!$O$15:$AP$35,,MATCH(Y$3,Сценарии!$O$3:$AP$3,0)),Сценарии!$A$15:$A$35,$A453,Сценарии!$B$15:$B$35,\"ИОР\")","v":{"$error":"#N/A"}},{"$f":"SUMIFS(INDEX(Сценарии!$O$15:$AP$35,,MATCH(Z$3,Сценарии!$O$3:$AP$3,0)),Сценарии!$A$15:$A$35,$A453,Сценарии!$B$15:$B$35,\"ИОР\")","v":{"$error":"#N/A"}},{"$f":"SUMIFS(INDEX(Сценарии!$O$15:$AP$35,,MATCH(AA$3,Сценарии!$O$3:$AP$3,0)),Сценарии!$A$15:$A$35,$A453,Сценарии!$B$15:$B$35,\"ИОР\")","v":{"$error":"#N/A"}},{"$f":"SUMIFS(INDEX(Сценарии!$O$15:$AP$35,,MATCH(AB$3,Сценарии!$O$3:$AP$3,0)),Сценарии!$A$15:$A$35,$A453,Сценарии!$B$15:$B$35,\"ИОР\")","v":{"$error":"#N/A"}},{"$f":"SUMIFS(INDEX(Сценарии!$O$15:$AP$35,,MATCH(AC$3,Сценарии!$O$3:$AP$3,0)),Сценарии!$A$15:$A$35,$A453,Сценарии!$B$15:$B$35,\"ИОР\")","v":{"$error":"#N/A"}},{"$f":"SUMIFS(INDEX(Сценарии!$O$15:$AP$35,,MATCH(AD$3,Сценарии!$O$3:$AP$3,0)),Сценарии!$A$15:$A$35,$A453,Сценарии!$B$15:$B$35,\"ИОР\")","v":{"$error":"#N/A"}},{"$f":"SUMIFS(INDEX(Сценарии!$O$15:$AP$35,,MATCH(AE$3,Сценарии!$O$3:$AP$3,0)),Сценарии!$A$15:$A$35,$A453,Сценарии!$B$15:$B$35,\"ИОР\")","v":{"$error":"#N/A"}},{"$f":"SUMIFS(INDEX(Сценарии!$O$15:$AP$35,,MATCH(AF$3,Сценарии!$O$3:$AP$3,0)),Сценарии!$A$15:$A$35,$A453,Сценарии!$B$15:$B$35,\"ИОР\")","v":{"$error":"#N/A"}},{"$f":"SUMIFS(INDEX(Сценарии!$O$15:$AP$35,,MATCH(AG$3,Сценарии!$O$3:$AP$3,0)),Сценарии!$A$15:$A$35,$A453,Сценарии!$B$15:$B$35,\"ИОР\")","v":{"$error":"#N/A"}},{"$f":"SUMIFS(INDEX(Сценарии!$O$15:$AP$35,,MATCH(AH$3,Сценарии!$O$3:$AP$3,0)),Сценарии!$A$15:$A$35,$A453,Сценарии!$B$15:$B$35,\"ИОР\")","v":{"$error":"#N/A"}},{"$f":"SUMIFS(INDEX(Сценарии!$O$15:$AP$35,,MATCH(AI$3,Сценарии!$O$3:$AP$3,0)),Сценарии!$A$15:$A$35,$A453,Сценарии!$B$15:$B$35,\"ИОР\")","v":{"$error":"#N/A"}},{"$f":"SUMIFS(INDEX(Сценарии!$O$15:$AP$35,,MATCH(AJ$3,Сценарии!$O$3:$AP$3,0)),Сценарии!$A$15:$A$35,$A453,Сценарии!$B$15:$B$35,\"ИОР\")","v":{"$error":"#N/A"}},{"$f":"SUMIFS(INDEX(Сценарии!$O$15:$AP$35,,MATCH(AK$3,Сценарии!$O$3:$AP$3,0)),Сценарии!$A$15:$A$35,$A453,Сценарии!$B$15:$B$35,\"ИОР\")","v":{"$error":"#N/A"}},{"$f":"SUMIFS(INDEX(Сценарии!$O$15:$AP$35,,MATCH(AL$3,Сценарии!$O$3:$AP$3,0)),Сценарии!$A$15:$A$35,$A453,Сценарии!$B$15:$B$35,\"ИОР\")","v":{"$error":"#N/A"}},{"$f":"SUMIFS(INDEX(Сценарии!$O$15:$AP$35,,MATCH(AM$3,Сценарии!$O$3:$AP$3,0)),Сценарии!$A$15:$A$35,$A453,Сценарии!$B$15:$B$35,\"ИОР\")","v":{"$error":"#N/A"}}]
["1",null,null,"L1_2",null,null,null,null,null,null,null,"1.2","Производственные расходы:","тыс.руб.",null,{"$f":"SUM(P455,P458,P459,P462,P463)","v":{"$error":"#N/A"}},{"$f":"SUM(Q455,Q458,Q459,Q462,Q463)","v":{"$error":"#N/A"}},{"$error":"#N/A"}]
["1",null,null,"L1_2_1",null,null,null,null,null,null,null,"1.2.1","расходы на приобретение сырья и материалов и их хранение, в том числе:","тыс.руб.",null,{"$f":"SUM(P456,P457)","v":0},{"$f":"SUM(Q456,Q457)","v":0},0]
["1",null,null,"L1_2_1_1",null,null,null,null,null,null,null,"1.2.1.1","горюче-смазочные материалы","тыс.руб.",null,null,null,0]
["1",null,null,"L1_2_1_2",null,null,null,null,null,null,null,"1.2.1.2","материалы и малоценные основные средства","тыс.руб.",null,null,null,0]
["1",null,null,"L1_2_2",null,null,null,null,null,null,null,"1.2.2","расходы на оплату регулируемыми организациями выполняемых сторонними организациями работ и (или) услуг","тыс.руб.",null,null,null,0]
["1",null,null,"L1_2_3",null,null,null,null,null,null,null,"1.2.3","расходы на оплату труда и страховые взносы на обязательное социальное страхование основного производственного персонала, в том числе:","тыс.руб.",null,{"$f":"P460+P461","v":{"$error":"#N/A"}},{"$f":"Q460+Q461","v":{"$error":"#N/A"}},{"$error":"#N/A"}]
["1","ПП",null,"L1_2_3_1",null,null,null,null,null,null,null,"1.2.3.1","расходы на оплату труда основного производственного персонала","тыс.руб.",null,null,null,0]
["1","СОЦ_ПП",null,"L1_2_3_2",null,null,null,null,null,null,null,"1.2.3.2","страховые взносы на обязательное социальное страхование основного производственного персонала","тыс.руб.",null,{"$f":"P460* SUMIFS(INDEX(Сценарии!$O$15:$AP$35,,MATCH(P$3,Сценарии!$O$3:$AP$3,0)),Сценарии!$A$15:$A$35,$A461,Сценарии!$B$15:$B$35,\"СВФОТ\")/100","v":{"$error":"#N/A"}},{"$f":"Q460* SUMIFS(INDEX(Сценарии!$O$15:$AP$35,,MATCH(Q$3,Сценарии!$O$3:$AP$3,0)),Сценарии!$A$15:$A$35,$A461,Сценарии!$B$15:$B$35,\"СВФОТ\")/100","v":{"$error":"#N/A"}},{"$error":"#N/A"}]
["1",null,null,"L1_2_4",null,null,null,null,null,null,null,"1.2.4","общехозяйственные расходы","тыс.руб.",null,null,null,0]
["1",null,null,"L1_2_5",null,null,null,null,null,null,null,"1.2.5","прочие производственные расходы","тыс.руб.",null,{"$f":"SUM(P464:P470)","v":0},{"$f":"SUM(Q464:Q470)","v":0},0]
["1",null,null,"L1_2_5_1",null,null,null,null,null,null,null,"1.2.5.1","амортизация автотранспорта","тыс.руб.",null,null,null,0]
["1",null,null,"L1_2_5_2",null,null,null,null,null,null,null,"1.2.5.2","расходы на обезвоживание, обезвреживание и захоронение осадка сточных вод","тыс.руб.",null,null,null,0]
["1",null,null,"L1_2_5_3",null,null,null,null,null,null,null,"1.2.5.3","расходы на приобретение (использование) вспомогательных материалов, запасных частей","тыс.руб.",null,null,null,0]
["1",null,null,"L1_2_5_4",null,null,null,null,null,null,null,"1.2.5.4","расходы на эксплуатацию, техническое обслуживание и ремонт автотранспорта","тыс.руб.",null,null,null,0]
["1",null,null,"L1_2_5_5",null,null,null,null,null,null,null,"1.2.5.5","расходы на осуществление производственного контроля качества воды и производственного контроля состава и свойств сточных вод расходы на осуществление производственного контроля качества воды и производственного контроля состава и свойств сточных вод","тыс.руб.",null,null,null,0]
["1",null,null,"L1_2_5_6",null,null,null,null,null,null,null,"1.2.5.6","расходы на аварийно-диспетчерское обслуживание","тыс.руб.",null,null,null,0]
["1",null,null,"L1_2_5_7",null,null,null,null,null,null,null,"1.2.5.7","иные производственные расходы","тыс.руб.",null,null,null,{"$f":"Q470-P470","v":0}]
["1",null,null,"L1_3",null,null,null,null,null,null,null,"1.3","Ремонтные расходы:","тыс.руб.",null,{"$f":"P472+P473+P474","v":0},{"$f":"Q472+Q473+Q474","v":0},0]
["1",null,null,"L1_3_1",null,null,null,null,null,null,null,"1.3.1","расходы на текущий ремонт централизованных систем водоснабжения и (или) водоотведения либо объектов, входящих в состав таких систем","тыс.руб.",null,null,null,0]
["1",null,null,"L1_3_2",null,null,null,null,null,null,null,"1.3.2","расходы на капитальный ремонт централизованных систем водоснабжения и (или) водоотведения либо объектов, входящих в состав таких систем","тыс.руб.",null,null,null,0]
["1",null,null,"L1_3_3",null,null,null,null,null,null,null,"1.3.3","расходы на оплату труда и страховые взносы на обязательное социальное страхование ремонтного персонала, в том числе:","тыс.руб.",null,null,null,0]
["1","РП",null,"L1_3_3_1",null,null,null,null,null,null,null,"1.3.3.1","расходы на оплату труда ремонтного персонала","тыс.руб.",null,null,null,0]
["1","СОЦ_РП",null,"L1_3_3_2",null,null,null,null,null,null,null,"1.3.3.2","страховые взносы на обязательное социальное страхование ремонтного персонала","тыс.руб.",null,{"$f":"P475* SUMIFS(INDEX(Сценарии!$O$15:$AP$35,,MATCH(P$3,Сценарии!$O$3:$AP$3,0)),Сценарии!$A$15:$A$35,$A476,Сценарии!$B$15:$B$35,\"СВФОТ\")/100","v":{"$error":"#N/A"}},{"$f":"Q475* SUMIFS(INDEX(Сценарии!$O$15:$AP$35,,MATCH(Q$3,Сценарии!$O$3:$AP$3,0)),Сценарии!$A$15:$A$35,$A476,Сценарии!$B$15:$B$35,\"СВФОТ\")/100","v":{"$error":"#N/A"}},{"$error":"#N/A"}]
["1",null,null,"L1_4",null,null,null,null,null,null,null,"1.4","Административные расходы","тыс.руб.",null,{"$f":"P478+P486+P489+P490+P491+P492+P493","v":{"$error":"#N/A"}},{"$f":"Q478+Q486+Q489+Q490+Q491+Q492+Q493","v":{"$error":"#N/A"}},{"$error":"#N/A"}]
["1","p3",null,"L1_4_1",null,null,null,null,null,null,null,"1.4.1","расходы на оплату работ и услуг, выполняемых сторонними организациями, в том числе:","тыс.руб.",null,{"$f":"SUM(P479:P485)","v":0},{"$f":"SUM(Q479:Q485)","v":0},0]
["1","p3_1",null,"L1_4_1_1",null,null,null,null,null,null,null,"1.4.1.1","услуги связи и интернет","тыс.руб.",null,null,null,0]
["1","p3_2",null,"L1_4_1_2",null,null,null,null,null,null,null,"1.4.1.2","юридические услуги","тыс.руб.",null,null,null,0]
["1","p3_3",null,"L1_4_1_3",null,null,null,null,null,null,null,"1.4.1.3","аудиторские услуги","тыс.руб.",null,null,null,0]
["1","p3_4",null,"L1_4_1_4",null,null,null,null,null,null,null,"1.4.1.4","консультационные услуги","тыс.руб.",null,null,null,0]
["1","p3_5",null,"L1_4_1_5",null,null,null,null,null,null,null,"1.4.1.5","услуги по вневедомственной охране объектов и территорий","тыс.руб.",null,null,null,0]
["1","p3_6",null,"L1_4_1_6",null,null,null,null,null,null,null,"1.4.1.6","информационные услуги","тыс.руб.",null,null,null,0]
["1","p3_7",null,"L1_4_1_7",null,null,null,null,null,null,null,"1.4.1.7","иные работы и (или) услуги","тыс.руб.",null,null,null,{"$f":"Q485-P485","v":0}]
["1",null,null,"L1_4_2",null,null,null,null,null,null,null,"1.4.2","расходы на оплату труда и страховые взносы на обязательное социальное страхование административно-управленческого персонала, в том числе:","тыс.руб.",null,{"$f":"P487+P488","v":{"$error":"#N/A"}},{"$f":"Q487+Q488","v":{"$error":"#N/A"}},{"$error":"#N/A"}]
["1","АУП",null,"L1_4_2_1",null,null,null,null,null,null,null,"1.4.2.1","расходы на оплату труда административно-управленческого персонала","тыс.руб.",null,null,null,0]
["1","СОЦ_АУП",null,"L1_4_2_2",null,null,null,null,null,null,null,"1.4.2.2","страховые взносы на обязательное социальное страхование административно-управленческого персонала","тыс.руб.",null,{"$f":"P487* SUMIFS(INDEX(Сценарии!$O$15:$AP$35,,MATCH(P$3,Сценарии!$O$3:$AP$3,0)),Сценарии!$A$15:$A$35,$A488,Сценарии!$B$15:$B$35,\"СВФОТ\")/100","v":{"$error":"#N/A"}},{"$f":"Q487* SUMIFS(INDEX(Сценарии!$O$15:$AP$35,,MATCH(Q$3,Сценарии!$O$3:$AP$3,0)),Сценарии!$A$15:$A$35,$A488,Сценарии!$B$15:$B$35,\"СВФОТ\")/100","v":{"$error":"#N/A"}},{"$error":"#N/A"}]
["1","p4",null,"L1_4_3",null,null,null,null,null,null,null,"1.4.3","арендная плата, лизинговые платежи, не связанные с арендой (лизингом) централизованных систем водоснабжения и (или) водоотведения либо объектов, входящих в состав таких систем","тыс.руб.",null,null,null,0]
["1","p5",null,"L1_4_4",null,null,null,null,null,null,null,"1.4.4","служебные командировки","тыс.руб.",null,null,null,0]
["1","p6",null,"L1_4_5",null,null,null,null,null,null,null,"1.4.5","обучение персонала","тыс.руб.",null,null,null,0]
["1","p7",null,"L1_4_6",null,null,null,null,null,null,null,"1.4.6","страхование производственных объектов","тыс.руб.",null,null,null,0]
["1","p8",null,"L1_4_7",null,null,null,null,null,null,null,"1.4.7","прочие административные расходы","тыс.руб.",null,{"$f":"SUM(P494:P496)","v":0},{"$f":"SUM(Q494:Q496)","v":0},0]
["1","p8_1",null,"L1_4_7_1",null,null,null,null,null,null,null,"1.4.7.1","расходы на амортизацию непроизводственных активов","тыс.руб.",null,null,null,0]
["1","p8_2",null,"L1_4_7_2",null,null,null,null,null,null,null,"1.4.7.2","расходы по охране объектов и территорий","тыс.руб.",null,null,null,0]
["1","p8_3",null,"L1_4_7_3",null,null,null,null,null,null,null,"1.4.7.3","иные расходы","тыс.руб.",null,null,null,{"$f":"Q496-P496","v":0}]
["1",null,null,"L1_5",null,null,null,null,null,null,null,"1.5","Сбытовые расходы гарантирующих организаций (за исключением указанных в п.2.5)","тыс.руб.",null,null,null,0]
["1",null,null,"L1_6",null,null,null,null,null,null,null,"1.6","Реагенты до 2020 года","тыс.руб.",null,null,null,{"$f":"Q498-P498","v":0}]
["1",null,null,"L1_7",null,null,null,null,null,null,null,"1.7","Операционные расходы по концессионным соглашениям","тыс.руб.",null,{"$f":"SUM(P500:P501)","v":0},{"$f":"SUM(Q500:Q501)","v":0},{"$f":"Q499-P499","v":0}]
["1",null,null,null,null,null,null,null,null,null,null,"1.7.0"]
["1",null,null,{"$f":"A501&\"pIns1\"","v":"1pIns1"},null,null,null,null,null,null,null,null,"Добавить"]
["1",null,null,"L2",null,null,null,null,null,null,null,"2","Неподконтрольные расходы","тыс.руб.",{"$f":"O503+O514+O515++O525+O526+O527+O529+O530+O531+O532+O535","v":3566.7352164599997},{"$f":"P503+P514+P515++P525+P526+P527+P529+P530+P531+P532+P535","v":6075.1084300000002},{"$f":"Q503+Q514+Q515++Q525+Q526+Q527+Q529+Q530+Q531+Q532+Q535","v":4343.0394299999998},{"$f":"Q502-P502","v":-1732.0690000000004},{"$f":"S503+S514+S515++S525+S526+S527+S529+S530+S531+S532+S535","v":4144.1298878034004},{"$f":"T503+T514+T515++T525+T526+T527+T529+T530+T531+T532+T535","v":7317.46},0,0,0,0,0,0,0,0,0,3900.0073898999999,0,0,0,0,0,0,0,0,0,{"$f":"IF(S502=0,0,(AD502-S502)/S502*100)","v":-5.8908022796746318},{"$f":"IF(AD502=0,0,(AE502-AD502)/AD502*100)","v":-100},0,0,0,0,0,0,0,0]
["1",null,null,"L2_1",null,null,null,null,null,null,null,"2.1","Расходы на оплату товаров (услуг, работ), приобретаемых у других организаций","тыс.руб.",{"$f":"SUM(O504:O513)","v":742.92},{"$f":"SUM(P504:P513)","v":1037.19543},{"$f":"SUM(Q504:Q513)","v":734.16543000000001},-303.02999999999997,{"$f":"SUM(S504:S513)","v":835.35032780339998},{"$f":"SUM(T504:T513)","v":1351.55},0,0,0,0,0,0,0,0,0,797.87305000000003,0,0,0,0,0,0,0,0,0,{"$f":"IF(S503=0,0,(AD503-S503)/S503*100)","v":-4.4864144486479729},-100,0,0,0,0,0,0,0,0]
["1","Затраты на тепловую энергию",null,"L2_1_1",null,null,null,null,null,null,null,"2.1.1","расходы на тепловую энергию","тыс.руб.",{"$f":"SUMIFS(Покупка!O$15:O$38,Покупка!$A$15:$A$38,$A504,Покупка!$M$15:$M$38,$B504)","v":735.24559999999997},{"$f":"SUMIFS(Покупка!P$15:P$38,Покупка!$A$15:$A$38,$A504,Покупка!$M$15:$M$38,$B504)","v":724.85500000000002},{"$f":"SUMIFS(Покупка!Q$15:Q$38,Покупка!$A$15:$A$38,$A504,Покупка!$M$15:$M$38,$B504)","v":724.85500000000002},0,{"$f":"SUMIFS(Покупка!R$15:R$38,Покупка!$A$15:$A$38,$A504,Покупка!$M$15:$M$38,$B504)","v":832.95160306754724},{"$f":"SUMIFS(Покупка!S$15:S$38,Покупка!$A$15:$A$38,$A504,Покупка!$M$15:$M$38,$B504)","v":955.2},{"$f":"SUMIFS(Покупка!T$15:T$38,Покупка!$A$15:$A$38,$A504,Покупка!$M$15:$M$38,$B504)","v":0},{"$f":"SUMIFS(Покупка!U$15:U$38,Покупка!$A$15:$A$38,$A504,Покупка!$M$15:$M$38,$B504)","v":0},{"$f":"SUMIFS(Покупка!V$15:V$38,Покупка!$A$15:$A$38,$A504,Покупка!$M$15:$M$38,$B504)","v":0},{"$f":"SUMIFS(Покупка!W$15:W$38,Покупка!$A$15:$A$38,$A504,Покупка!$M$15:$M$38,$B504)","v":0},{"$f":"SUMIFS(Покупка!X$15:X$38,Покупка!$A$15:$A$38,$A504,Покупка!$M$15:$M$38,$B504)","v":0},{"$f":"SUMIFS(Покупка!Y$15:Y$38,Покупка!$A$15:$A$38,$A504,Покупка!$M$15:$M$38,$B504)","v":0},{"$f":"SUMIFS(Покупка!Z$15:Z$38,Покупка!$A$15:$A$38,$A504,Покупка!$M$15:$M$38,$B504)","v":0},{"$f":"SUMIFS(Покупка!AA$15:AA$38,Покупка!$A$15:$A$38,$A504,Покупка!$M$15:$M$38,$B504)","v":0},{"$f":"SUMIFS(Покупка!AB$15:AB$38,Покупка!$A$15:$A$38,$A504,Покупка!$M$15:$M$38,$B504)","v":0},{"$f":"SUMIFS(Покупка!AC$15:AC$38,Покупка!$A$15:$A$38,$A504,Покупка!$M$15:$M$38,$B504)","v":788.72233000000006},{"$f":"SUMIFS(Покупка!AD$15:AD$38,Покупка!$A$15:$A$38,$A504,Покупка!$M$15:$M$38,$B504)","v":0},{"$f":"SUMIFS(Покупка!AE$15:AE$38,Покупка!$A$15:$A$38,$A504,Покупка!$M$15:$M$38,$B504)","v":0},{"$f":"SUMIFS(Покупка!AF$15:AF$38,Покупка!$A$15:$A$38,$A504,Покупка!$M$15:$M$38,$B504)","v":0},{"$f":"SUMIFS(Покупка!AG$15:AG$38,Покупка!$A$15:$A$38,$A504,Покупка!$M$15:$M$38,$B504)","v":0},{"$f":"SUMIFS(Покупка!AH$15:AH$38,Покупка!$A$15:$A$38,$A504,Покупка!$M$15:$M$38,$B504)","v":0},{"$f":"SUMIFS(Покупка!AI$15:AI$38,Покупка!$A$15:$A$38,$A504,Покупка!$M$15:$M$38,$B504)","v":0},{"$f":"SUMIFS(Покупка!AJ$15:AJ$38,Покупка!$A$15:$A$38,$A504,Покупка!$M$15:$M$38,$B504)","v":0},{"$f":"SUMIFS(Покупка!AK$15:AK$38,Покупка!$A$15:$A$38,$A504,Покупка!$M$15:$M$38,$B504)","v":0},{"$f":"SUMIFS(Покупка!AL$15:AL$38,Покупка!$A$15:$A$38,$A504,Покупка!$M$15:$M$38,$B504)","v":0},{"$f":"IF(S504=0,0,(AD504-S504)/S504*100)","v":-5.3099451282237897},{"$f":"IF(AD504=0,0,(AE504-AD504)/AD504*100)","v":-100},{"$f":"IF(AE504=0,0,(AF504-AE504)/AE504*100)","v":0},{"$f":"IF(AF504=0,0,(AG504-AF504)/AF504*100)","v":0},{"$f":"IF(AG504=0,0,(AH504-AG504)/AG504*100)","v":0},{"$f":"IF(AH504=0,0,(AI504-AH504)/AH504*100)","v":0},{"$f":"IF(AI504=0,0,(AJ504-AI504)/AI504*100)","v":0},{"$f":"IF(AJ504=0,0,(AK504-AJ504)/AJ504*100)","v":0},{"$f":"IF(AK504=0,0,(AL504-AK504)/AK504*100)","v":0},{"$f":"IF(AL504=0,0,(AM504-AL504)/AL504*100)","v":0}]
["1","Затраты на теплоноситель",null,"L2_1_2",null,null,null,null,null,null,null,"2.1.2","расходы на теплоноситель","тыс.руб.",{"$f":"SUMIFS(Покупка!O$15:O$38,Покупка!$A$15:$A$38,$A505,Покупка!$M$15:$M$38,$B505)","v":0},{"$f":"SUMIFS(Покупка!P$15:P$38,Покупка!$A$15:$A$38,$A505,Покупка!$M$15:$M$38,$B505)","v":0},{"$f":"SUMIFS(Покупка!Q$15:Q$38,Покупка!$A$15:$A$38,$A505,Покупка!$M$15:$M$38,$B505)","v":0},0,{"$f":"SUMIFS(Покупка!R$15:R$38,Покупка!$A$15:$A$38,$A505,Покупка!$M$15:$M$38,$B505)","v":0},{"$f":"SUMIFS(Покупка!S$15:S$38,Покупка!$A$15:$A$38,$A505,Покупка!$M$15:$M$38,$B505)","v":0},{"$f":"SUMIFS(Покупка!T$15:T$38,Покупка!$A$15:$A$38,$A505,Покупка!$M$15:$M$38,$B505)","v":0},{"$f":"SUMIFS(Покупка!U$15:U$38,Покупка!$A$15:$A$38,$A505,Покупка!$M$15:$M$38,$B505)","v":0},{"$f":"SUMIFS(Покупка!V$15:V$38,Покупка!$A$15:$A$38,$A505,Покупка!$M$15:$M$38,$B505)","v":0},{"$f":"SUMIFS(Покупка!W$15:W$38,Покупка!$A$15:$A$38,$A505,Покупка!$M$15:$M$38,$B505)","v":0},{"$f":"SUMIFS(Покупка!X$15:X$38,Покупка!$A$15:$A$38,$A505,Покупка!$M$15:$M$38,$B505)","v":0},{"$f":"SUMIFS(Покупка!Y$15:Y$38,Покупка!$A$15:$A$38,$A505,Покупка!$M$15:$M$38,$B505)","v":0},{"$f":"SUMIFS(Покупка!Z$15:Z$38,Покупка!$A$15:$A$38,$A505,Покупка!$M$15:$M$38,$B505)","v":0},{"$f":"SUMIFS(Покупка!AA$15:AA$38,Покупка!$A$15:$A$38,$A505,Покупка!$M$15:$M$38,$B505)","v":0},{"$f":"SUMIFS(Покупка!AB$15:AB$38,Покупка!$A$15:$A$38,$A505,Покупка!$M$15:$M$38,$B505)","v":0},{"$f":"SUMIFS(Покупка!AC$15:AC$38,Покупка!$A$15:$A$38,$A505,Покупка!$M$15:$M$38,$B505)","v":0},{"$f":"SUMIFS(Покупка!AD$15:AD$38,Покупка!$A$15:$A$38,$A505,Покупка!$M$15:$M$38,$B505)","v":0},{"$f":"SUMIFS(Покупка!AE$15:AE$38,Покупка!$A$15:$A$38,$A505,Покупка!$M$15:$M$38,$B505)","v":0},{"$f":"SUMIFS(Покупка!AF$15:AF$38,Покупка!$A$15:$A$38,$A505,Покупка!$M$15:$M$38,$B505)","v":0},{"$f":"SUMIFS(Покупка!AG$15:AG$38,Покупка!$A$15:$A$38,$A505,Покупка!$M$15:$M$38,$B505)","v":0},{"$f":"SUMIFS(Покупка!AH$15:AH$38,Покупка!$A$15:$A$38,$A505,Покупка!$M$15:$M$38,$B505)","v":0},{"$f":"SUMIFS(Покупка!AI$15:AI$38,Покупка!$A$15:$A$38,$A505,Покупка!$M$15:$M$38,$B505)","v":0},{"$f":"SUMIFS(Покупка!AJ$15:AJ$38,Покупка!$A$15:$A$38,$A505,Покупка!$M$15:$M$38,$B505)","v":0},{"$f":"SUMIFS(Покупка!AK$15:AK$38,Покупка!$A$15:$A$38,$A505,Покупка!$M$15:$M$38,$B505)","v":0},{"$f":"SUMIFS(Покупка!AL$15:AL$38,Покупка!$A$15:$A$38,$A505,Покупка!$M$15:$M$38,$B505)","v":0},0,0,0,0,0,0,0,0,0,0]
["1","Затраты на транспортировку холодной воды",null,"L2_1_3",null,null,null,null,null,null,null,"2.1.3","расходы на транспортировку воды","тыс.руб.",{"$f":"SUMIFS(Покупка!O$15:O$38,Покупка!$A$15:$A$38,$A506,Покупка!$M$15:$M$38,$B506)","v":0},{"$f":"SUMIFS(Покупка!P$15:P$38,Покупка!$A$15:$A$38,$A506,Покупка!$M$15:$M$38,$B506)","v":0},{"$f":"SUMIFS(Покупка!Q$15:Q$38,Покупка!$A$15:$A$38,$A506,Покупка!$M$15:$M$38,$B506)","v":0},0,{"$f":"SUMIFS(Покупка!R$15:R$38,Покупка!$A$15:$A$38,$A506,Покупка!$M$15:$M$38,$B506)","v":0},{"$f":"SUMIFS(Покупка!S$15:S$38,Покупка!$A$15:$A$38,$A506,Покупка!$M$15:$M$38,$B506)","v":0},{"$f":"SUMIFS(Покупка!T$15:T$38,Покупка!$A$15:$A$38,$A506,Покупка!$M$15:$M$38,$B506)","v":0},{"$f":"SUMIFS(Покупка!U$15:U$38,Покупка!$A$15:$A$38,$A506,Покупка!$M$15:$M$38,$B506)","v":0},{"$f":"SUMIFS(Покупка!V$15:V$38,Покупка!$A$15:$A$38,$A506,Покупка!$M$15:$M$38,$B506)","v":0},{"$f":"SUMIFS(Покупка!W$15:W$38,Покупка!$A$15:$A$38,$A506,Покупка!$M$15:$M$38,$B506)","v":0},{"$f":"SUMIFS(Покупка!X$15:X$38,Покупка!$A$15:$A$38,$A506,Покупка!$M$15:$M$38,$B506)","v":0},{"$f":"SUMIFS(Покупка!Y$15:Y$38,Покупка!$A$15:$A$38,$A506,Покупка!$M$15:$M$38,$B506)","v":0},{"$f":"SUMIFS(Покупка!Z$15:Z$38,Покупка!$A$15:$A$38,$A506,Покупка!$M$15:$M$38,$B506)","v":0},{"$f":"SUMIFS(Покупка!AA$15:AA$38,Покупка!$A$15:$A$38,$A506,Покупка!$M$15:$M$38,$B506)","v":0},{"$f":"SUMIFS(Покупка!AB$15:AB$38,Покупка!$A$15:$A$38,$A506,Покупка!$M$15:$M$38,$B506)","v":0},{"$f":"SUMIFS(Покупка!AC$15:AC$38,Покупка!$A$15:$A$38,$A506,Покупка!$M$15:$M$38,$B506)","v":0},{"$f":"SUMIFS(Покупка!AD$15:AD$38,Покупка!$A$15:$A$38,$A506,Покупка!$M$15:$M$38,$B506)","v":0},{"$f":"SUMIFS(Покупка!AE$15:AE$38,Покупка!$A$15:$A$38,$A506,Покупка!$M$15:$M$38,$B506)","v":0},{"$f":"SUMIFS(Покупка!AF$15:AF$38,Покупка!$A$15:$A$38,$A506,Покупка!$M$15:$M$38,$B506)","v":0},{"$f":"SUMIFS(Покупка!AG$15:AG$38,Покупка!$A$15:$A$38,$A506,Покупка!$M$15:$M$38,$B506)","v":0},{"$f":"SUMIFS(Покупка!AH$15:AH$38,Покупка!$A$15:$A$38,$A506,Покупка!$M$15:$M$38,$B506)","v":0},{"$f":"SUMIFS(Покупка!AI$15:AI$38,Покупка!$A$15:$A$38,$A506,Покупка!$M$15:$M$38,$B506)","v":0},{"$f":"SUMIFS(Покупка!AJ$15:AJ$38,Покупка!$A$15:$A$38,$A506,Покупка!$M$15:$M$38,$B506)","v":0},{"$f":"SUMIFS(Покупка!AK$15:AK$38,Покупка!$A$15:$A$38,$A506,Покупка!$M$15:$M$38,$B506)","v":0},{"$f":"SUMIFS(Покупка!AL$15:AL$38,Покупка!$A$15:$A$38,$A506,Покупка!$M$15:$M$38,$B506)","v":0},0,0,0,0,0,0,0,0,0,0]
["1","Затраты на холодную воду",null,"L2_1_4",null,null,null,null,null,null,null,"2.1.4","расходы на покупку воды","тыс.руб.",{"$f":"SUMIFS(Покупка!O$15:O$38,Покупка!$A$15:$A$38,$A507,Покупка!$M$15:$M$38,$B507)","v":0},{"$f":"SUMIFS(Покупка!P$15:P$38,Покупка!$A$15:$A$38,$A507,Покупка!$M$15:$M$38,$B507)","v":303.02999999999997},{"$f":"SUMIFS(Покупка!Q$15:Q$38,Покупка!$A$15:$A$38,$A507,Покупка!$M$15:$M$38,$B507)","v":0},-303.02999999999997,{"$f":"SUMIFS(Покупка!R$15:R$38,Покупка!$A$15:$A$38,$A507,Покупка!$M$15:$M$38,$B507)","v":0},{"$f":"SUMIFS(Покупка!S$15:S$38,Покупка!$A$15:$A$38,$A507,Покупка!$M$15:$M$38,$B507)","v":394.05},{"$f":"SUMIFS(Покупка!T$15:T$38,Покупка!$A$15:$A$38,$A507,Покупка!$M$15:$M$38,$B507)","v":0},{"$f":"SUMIFS(Покупка!U$15:U$38,Покупка!$A$15:$A$38,$A507,Покупка!$M$15:$M$38,$B507)","v":0},{"$f":"SUMIFS(Покупка!V$15:V$38,Покупка!$A$15:$A$38,$A507,Покупка!$M$15:$M$38,$B507)","v":0},{"$f":"SUMIFS(Покупка!W$15:W$38,Покупка!$A$15:$A$38,$A507,Покупка!$M$15:$M$38,$B507)","v":0},{"$f":"SUMIFS(Покупка!X$15:X$38,Покупка!$A$15:$A$38,$A507,Покупка!$M$15:$M$38,$B507)","v":0},{"$f":"SUMIFS(Покупка!Y$15:Y$38,Покупка!$A$15:$A$38,$A507,Покупка!$M$15:$M$38,$B507)","v":0},{"$f":"SUMIFS(Покупка!Z$15:Z$38,Покупка!$A$15:$A$38,$A507,Покупка!$M$15:$M$38,$B507)","v":0},{"$f":"SUMIFS(Покупка!AA$15:AA$38,Покупка!$A$15:$A$38,$A507,Покупка!$M$15:$M$38,$B507)","v":0},{"$f":"SUMIFS(Покупка!AB$15:AB$38,Покупка!$A$15:$A$38,$A507,Покупка!$M$15:$M$38,$B507)","v":0},{"$f":"SUMIFS(Покупка!AC$15:AC$38,Покупка!$A$15:$A$38,$A507,Покупка!$M$15:$M$38,$B507)","v":0},{"$f":"SUMIFS(Покупка!AD$15:AD$38,Покупка!$A$15:$A$38,$A507,Покупка!$M$15:$M$38,$B507)","v":0},{"$f":"SUMIFS(Покупка!AE$15:AE$38,Покупка!$A$15:$A$38,$A507,Покупка!$M$15:$M$38,$B507)","v":0},{"$f":"SUMIFS(Покупка!AF$15:AF$38,Покупка!$A$15:$A$38,$A507,Покупка!$M$15:$M$38,$B507)","v":0},{"$f":"SUMIFS(Покупка!AG$15:AG$38,Покупка!$A$15:$A$38,$A507,Покупка!$M$15:$M$38,$B507)","v":0},{"$f":"SUMIFS(Покупка!AH$15:AH$38,Покупка!$A$15:$A$38,$A507,Покупка!$M$15:$M$38,$B507)","v":0},{"$f":"SUMIFS(Покупка!AI$15:AI$38,Покупка!$A$15:$A$38,$A507,Покупка!$M$15:$M$38,$B507)","v":0},{"$f":"SUMIFS(Покупка!AJ$15:AJ$38,Покупка!$A$15:$A$38,$A507,Покупка!$M$15:$M$38,$B507)","v":0},{"$f":"SUMIFS(Покупка!AK$15:AK$38,Покупка!$A$15:$A$38,$A507,Покупка!$M$15:$M$38,$B507)","v":0},{"$f":"SUMIFS(Покупка!AL$15:AL$38,Покупка!$A$15:$A$38,$A507,Покупка!$M$15:$M$38,$B507)","v":0},0,0,0,0,0,0,0,0,0,0]
["1","Затраты на горячую воду",null,"L2_1_5",null,null,null,null,null,null,null,"2.1.5","услуги по горячему водоснабжению","тыс.руб.",{"$f":"SUMIFS(Покупка!O$15:O$38,Покупка!$A$15:$A$38,$A508,Покупка!$M$15:$M$38,$B508)","v":7.6744000000000003},{"$f":"SUMIFS(Покупка!P$15:P$38,Покупка!$A$15:$A$38,$A508,Покупка!$M$15:$M$38,$B508)","v":9.3104300000000002},{"$f":"SUMIFS(Покупка!Q$15:Q$38,Покупка!$A$15:$A$38,$A508,Покупка!$M$15:$M$38,$B508)","v":9.3104300000000002},0,{"$f":"SUMIFS(Покупка!R$15:R$38,Покупка!$A$15:$A$38,$A508,Покупка!$M$15:$M$38,$B508)","v":2.3987247358526989},{"$f":"SUMIFS(Покупка!S$15:S$38,Покупка!$A$15:$A$38,$A508,Покупка!$M$15:$M$38,$B508)","v":2.2999999999999998},{"$f":"SUMIFS(Покупка!T$15:T$38,Покупка!$A$15:$A$38,$A508,Покупка!$M$15:$M$38,$B508)","v":0},{"$f":"SUMIFS(Покупка!U$15:U$38,Покупка!$A$15:$A$38,$A508,Покупка!$M$15:$M$38,$B508)","v":0},{"$f":"SUMIFS(Покупка!V$15:V$38,Покупка!$A$15:$A$38,$A508,Покупка!$M$15:$M$38,$B508)","v":0},{"$f":"SUMIFS(Покупка!W$15:W$38,Покупка!$A$15:$A$38,$A508,Покупка!$M$15:$M$38,$B508)","v":0},{"$f":"SUMIFS(Покупка!X$15:X$38,Покупка!$A$15:$A$38,$A508,Покупка!$M$15:$M$38,$B508)","v":0},{"$f":"SUMIFS(Покупка!Y$15:Y$38,Покупка!$A$15:$A$38,$A508,Покупка!$M$15:$M$38,$B508)","v":0},{"$f":"SUMIFS(Покупка!Z$15:Z$38,Покупка!$A$15:$A$38,$A508,Покупка!$M$15:$M$38,$B508)","v":0},{"$f":"SUMIFS(Покупка!AA$15:AA$38,Покупка!$A$15:$A$38,$A508,Покупка!$M$15:$M$38,$B508)","v":0},{"$f":"SUMIFS(Покупка!AB$15:AB$38,Покупка!$A$15:$A$38,$A508,Покупка!$M$15:$M$38,$B508)","v":0},{"$f":"SUMIFS(Покупка!AC$15:AC$38,Покупка!$A$15:$A$38,$A508,Покупка!$M$15:$M$38,$B508)","v":9.1507199999999997},{"$f":"SUMIFS(Покупка!AD$15:AD$38,Покупка!$A$15:$A$38,$A508,Покупка!$M$15:$M$38,$B508)","v":0},{"$f":"SUMIFS(Покупка!AE$15:AE$38,Покупка!$A$15:$A$38,$A508,Покупка!$M$15:$M$38,$B508)","v":0},{"$f":"SUMIFS(Покупка!AF$15:AF$38,Покупка!$A$15:$A$38,$A508,Покупка!$M$15:$M$38,$B508)","v":0},{"$f":"SUMIFS(Покупка!AG$15:AG$38,Покупка!$A$15:$A$38,$A508,Покупка!$M$15:$M$38,$B508)","v":0},{"$f":"SUMIFS(Покупка!AH$15:AH$38,Покупка!$A$15:$A$38,$A508,Покупка!$M$15:$M$38,$B508)","v":0},{"$f":"SUMIFS(Покупка!AI$15:AI$38,Покупка!$A$15:$A$38,$A508,Покупка!$M$15:$M$38,$B508)","v":0},{"$f":"SUMIFS(Покупка!AJ$15:AJ$38,Покупка!$A$15:$A$38,$A508,Покупка!$M$15:$M$38,$B508)","v":0},{"$f":"SUMIFS(Покупка!AK$15:AK$38,Покупка!$A$15:$A$38,$A508,Покупка!$M$15:$M$38,$B508)","v":0},{"$f":"SUMIFS(Покупка!AL$15:AL$38,Покупка!$A$15:$A$38,$A508,Покупка!$M$15:$M$38,$B508)","v":0},281.48270467336891,-100,0,0,0,0,0,0,0,0]
["1",null,null,"L2_1_6",null,null,null,null,null,null,null,"2.1.6","услуги по приготовлению воды на нужды горячего водоснабжения","тыс.руб.",null,null,null,0,null,null,null,null,null,null,null,null,null,null,null,null,null,null,null,null,null,null,null,null,null,0,0,0,0,0,0,0,0,0,0]
["1",null,null,"L2_1_7",null,null,null,null,null,null,null,"2.1.7","услуги по транспортировке горячей воды","тыс.руб.",null,null,null,0,null,null,null,null,null,null,null,null,null,null,null,null,null,null,null,null,null,null,null,null,null,0,0,0,0,0,0,0,0,0,0]
["1","Затраты на водоотведение",null,"L2_1_8",null,null,null,null,null,null,null,"2.1.8","услуги по водоотведению","тыс.руб.",{"$f":"SUMIFS(Покупка!O$15:O$38,Покупка!$A$15:$A$38,$A511,Покупка!$M$15:$M$38,$B511)","v":0},{"$f":"SUMIFS(Покупка!P$15:P$38,Покупка!$A$15:$A$38,$A511,Покупка!$M$15:$M$38,$B511)","v":0},{"$f":"SUMIFS(Покупка!Q$15:Q$38,Покупка!$A$15:$A$38,$A511,Покупка!$M$15:$M$38,$B511)","v":0},0,{"$f":"SUMIFS(Покупка!R$15:R$38,Покупка!$A$15:$A$38,$A511,Покупка!$M$15:$M$38,$B511)","v":0},{"$f":"SUMIFS(Покупка!S$15:S$38,Покупка!$A$15:$A$38,$A511,Покупка!$M$15:$M$38,$B511)","v":0},{"$f":"SUMIFS(Покупка!T$15:T$38,Покупка!$A$15:$A$38,$A511,Покупка!$M$15:$M$38,$B511)","v":0},{"$f":"SUMIFS(Покупка!U$15:U$38,Покупка!$A$15:$A$38,$A511,Покупка!$M$15:$M$38,$B511)","v":0},{"$f":"SUMIFS(Покупка!V$15:V$38,Покупка!$A$15:$A$38,$A511,Покупка!$M$15:$M$38,$B511)","v":0},{"$f":"SUMIFS(Покупка!W$15:W$38,Покупка!$A$15:$A$38,$A511,Покупка!$M$15:$M$38,$B511)","v":0},{"$f":"SUMIFS(Покупка!X$15:X$38,Покупка!$A$15:$A$38,$A511,Покупка!$M$15:$M$38,$B511)","v":0},{"$f":"SUMIFS(Покупка!Y$15:Y$38,Покупка!$A$15:$A$38,$A511,Покупка!$M$15:$M$38,$B511)","v":0},{"$f":"SUMIFS(Покупка!Z$15:Z$38,Покупка!$A$15:$A$38,$A511,Покупка!$M$15:$M$38,$B511)","v":0},{"$f":"SUMIFS(Покупка!AA$15:AA$38,Покупка!$A$15:$A$38,$A511,Покупка!$M$15:$M$38,$B511)","v":0},{"$f":"SUMIFS(Покупка!AB$15:AB$38,Покупка!$A$15:$A$38,$A511,Покупка!$M$15:$M$38,$B511)","v":0},{"$f":"SUMIFS(Покупка!AC$15:AC$38,Покупка!$A$15:$A$38,$A511,Покупка!$M$15:$M$38,$B511)","v":0},{"$f":"SUMIFS(Покупка!AD$15:AD$38,Покупка!$A$15:$A$38,$A511,Покупка!$M$15:$M$38,$B511)","v":0},{"$f":"SUMIFS(Покупка!AE$15:AE$38,Покупка!$A$15:$A$38,$A511,Покупка!$M$15:$M$38,$B511)","v":0},{"$f":"SUMIFS(Покупка!AF$15:AF$38,Покупка!$A$15:$A$38,$A511,Покупка!$M$15:$M$38,$B511)","v":0},{"$f":"SUMIFS(Покупка!AG$15:AG$38,Покупка!$A$15:$A$38,$A511,Покупка!$M$15:$M$38,$B511)","v":0},{"$f":"SUMIFS(Покупка!AH$15:AH$38,Покупка!$A$15:$A$38,$A511,Покупка!$M$15:$M$38,$B511)","v":0},{"$f":"SUMIFS(Покупка!AI$15:AI$38,Покупка!$A$15:$A$38,$A511,Покупка!$M$15:$M$38,$B511)","v":0},{"$f":"SUMIFS(Покупка!AJ$15:AJ$38,Покупка!$A$15:$A$38,$A511,Покупка!$M$15:$M$38,$B511)","v":0},{"$f":"SUMIFS(Покупка!AK$15:AK$38,Покупка!$A$15:$A$38,$A511,Покупка!$M$15:$M$38,$B511)","v":0},{"$f":"SUMIFS(Покупка!AL$15:AL$38,Покупка!$A$15:$A$38,$A511,Покупка!$M$15:$M$38,$B511)","v":0},0,0,0,0,0,0,0,0,0,0]
["1","Затраты на транспортировку сточных вод",null,"L2_1_9",null,null,null,null,null,null,null,"2.1.9","услуги по транспортировке сточных вод","тыс.руб.",{"$f":"SUMIFS(Покупка!O$15:O$38,Покупка!$A$15:$A$38,$A512,Покупка!$M$15:$M$38,$B512)","v":0},{"$f":"SUMIFS(Покупка!P$15:P$38,Покупка!$A$15:$A$38,$A512,Покупка!$M$15:$M$38,$B512)","v":0},{"$f":"SUMIFS(Покупка!Q$15:Q$38,Покупка!$A$15:$A$38,$A512,Покупка!$M$15:$M$38,$B512)","v":0},0,{"$f":"SUMIFS(Покупка!R$15:R$38,Покупка!$A$15:$A$38,$A512,Покупка!$M$15:$M$38,$B512)","v":0},{"$f":"SUMIFS(Покупка!S$15:S$38,Покупка!$A$15:$A$38,$A512,Покупка!$M$15:$M$38,$B512)","v":0},{"$f":"SUMIFS(Покупка!T$15:T$38,Покупка!$A$15:$A$38,$A512,Покупка!$M$15:$M$38,$B512)","v":0},{"$f":"SUMIFS(Покупка!U$15:U$38,Покупка!$A$15:$A$38,$A512,Покупка!$M$15:$M$38,$B512)","v":0},{"$f":"SUMIFS(Покупка!V$15:V$38,Покупка!$A$15:$A$38,$A512,Покупка!$M$15:$M$38,$B512)","v":0},{"$f":"SUMIFS(Покупка!W$15:W$38,Покупка!$A$15:$A$38,$A512,Покупка!$M$15:$M$38,$B512)","v":0},{"$f":"SUMIFS(Покупка!X$15:X$38,Покупка!$A$15:$A$38,$A512,Покупка!$M$15:$M$38,$B512)","v":0},{"$f":"SUMIFS(Покупка!Y$15:Y$38,Покупка!$A$15:$A$38,$A512,Покупка!$M$15:$M$38,$B512)","v":0},{"$f":"SUMIFS(Покупка!Z$15:Z$38,Покупка!$A$15:$A$38,$A512,Покупка!$M$15:$M$38,$B512)","v":0},{"$f":"SUMIFS(Покупка!AA$15:AA$38,Покупка!$A$15:$A$38,$A512,Покупка!$M$15:$M$38,$B512)","v":0},{"$f":"SUMIFS(Покупка!AB$15:AB$38,Покупка!$A$15:$A$38,$A512,Покупка!$M$15:$M$38,$B512)","v":0},{"$f":"SUMIFS(Покупка!AC$15:AC$38,Покупка!$A$15:$A$38,$A512,Покупка!$M$15:$M$38,$B512)","v":0},{"$f":"SUMIFS(Покупка!AD$15:AD$38,Покупка!$A$15:$A$38,$A512,Покупка!$M$15:$M$38,$B512)","v":0},{"$f":"SUMIFS(Покупка!AE$15:AE$38,Покупка!$A$15:$A$38,$A512,Покупка!$M$15:$M$38,$B512)","v":0},{"$f":"SUMIFS(Покупка!AF$15:AF$38,Покупка!$A$15:$A$38,$A512,Покупка!$M$15:$M$38,$B512)","v":0},{"$f":"SUMIFS(Покупка!AG$15:AG$38,Покупка!$A$15:$A$38,$A512,Покупка!$M$15:$M$38,$B512)","v":0},{"$f":"SUMIFS(Покупка!AH$15:AH$38,Покупка!$A$15:$A$38,$A512,Покупка!$M$15:$M$38,$B512)","v":0},{"$f":"SUMIFS(Покупка!AI$15:AI$38,Покупка!$A$15:$A$38,$A512,Покупка!$M$15:$M$38,$B512)","v":0},{"$f":"SUMIFS(Покупка!AJ$15:AJ$38,Покупка!$A$15:$A$38,$A512,Покупка!$M$15:$M$38,$B512)","v":0},{"$f":"SUMIFS(Покупка!AK$15:AK$38,Покупка!$A$15:$A$38,$A512,Покупка!$M$15:$M$38,$B512)","v":0},{"$f":"SUMIFS(Покупка!AL$15:AL$38,Покупка!$A$15:$A$38,$A512,Покупка!$M$15:$M$38,$B512)","v":0},0,0,0,0,0,0,0,0,0,0]
["1","Затраты на очистку сточных вод",null,"L2_1_10",null,null,null,null,null,null,null,"2.1.10","услуги по очистке сточных вод","тыс.руб.",{"$f":"SUMIFS(Покупка!O$15:O$38,Покупка!$A$15:$A$38,$A513,Покупка!$M$15:$M$38,$B513)","v":0},{"$f":"SUMIFS(Покупка!P$15:P$38,Покупка!$A$15:$A$38,$A513,Покупка!$M$15:$M$38,$B513)","v":0},{"$f":"SUMIFS(Покупка!Q$15:Q$38,Покупка!$A$15:$A$38,$A513,Покупка!$M$15:$M$38,$B513)","v":0},{"$f":"Q513-P513","v":0},{"$f":"SUMIFS(Покупка!R$15:R$38,Покупка!$A$15:$A$38,$A513,Покупка!$M$15:$M$38,$B513)","v":0},{"$f":"SUMIFS(Покупка!S$15:S$38,Покупка!$A$15:$A$38,$A513,Покупка!$M$15:$M$38,$B513)","v":0},{"$f":"SUMIFS(Покупка!T$15:T$38,Покупка!$A$15:$A$38,$A513,Покупка!$M$15:$M$38,$B513)","v":0},{"$f":"SUMIFS(Покупка!U$15:U$38,Покупка!$A$15:$A$38,$A513,Покупка!$M$15:$M$38,$B513)","v":0},{"$f":"SUMIFS(Покупка!V$15:V$38,Покупка!$A$15:$A$38,$A513,Покупка!$M$15:$M$38,$B513)","v":0},{"$f":"SUMIFS(Покупка!W$15:W$38,Покупка!$A$15:$A$38,$A513,Покупка!$M$15:$M$38,$B513)","v":0},{"$f":"SUMIFS(Покупка!X$15:X$38,Покупка!$A$15:$A$38,$A513,Покупка!$M$15:$M$38,$B513)","v":0},{"$f":"SUMIFS(Покупка!Y$15:Y$38,Покупка!$A$15:$A$38,$A513,Покупка!$M$15:$M$38,$B513)","v":0},{"$f":"SUMIFS(Покупка!Z$15:Z$38,Покупка!$A$15:$A$38,$A513,Покупка!$M$15:$M$38,$B513)","v":0},{"$f":"SUMIFS(Покупка!AA$15:AA$38,Покупка!$A$15:$A$38,$A513,Покупка!$M$15:$M$38,$B513)","v":0},{"$f":"SUMIFS(Покупка!AB$15:AB$38,Покупка!$A$15:$A$38,$A513,Покупка!$M$15:$M$38,$B513)","v":0},{"$f":"SUMIFS(Покупка!AC$15:AC$38,Покупка!$A$15:$A$38,$A513,Покупка!$M$15:$M$38,$B513)","v":0},{"$f":"SUMIFS(Покупка!AD$15:AD$38,Покупка!$A$15:$A$38,$A513,Покупка!$M$15:$M$38,$B513)","v":0},{"$f":"SUMIFS(Покупка!AE$15:AE$38,Покупка!$A$15:$A$38,$A513,Покупка!$M$15:$M$38,$B513)","v":0},{"$f":"SUMIFS(Покупка!AF$15:AF$38,Покупка!$A$15:$A$38,$A513,Покупка!$M$15:$M$38,$B513)","v":0},{"$f":"SUMIFS(Покупка!AG$15:AG$38,Покупка!$A$15:$A$38,$A513,Покупка!$M$15:$M$38,$B513)","v":0},{"$f":"SUMIFS(Покупка!AH$15:AH$38,Покупка!$A$15:$A$38,$A513,Покупка!$M$15:$M$38,$B513)","v":0},{"$f":"SUMIFS(Покупка!AI$15:AI$38,Покупка!$A$15:$A$38,$A513,Покупка!$M$15:$M$38,$B513)","v":0},{"$f":"SUMIFS(Покупка!AJ$15:AJ$38,Покупка!$A$15:$A$38,$A513,Покупка!$M$15:$M$38,$B513)","v":0},{"$f":"SUMIFS(Покупка!AK$15:AK$38,Покупка!$A$15:$A$38,$A513,Покупка!$M$15:$M$38,$B513)","v":0},{"$f":"SUMIFS(Покупка!AL$15:AL$38,Покупка!$A$15:$A$38,$A513,Покупка!$M$15:$M$38,$B513)","v":0},{"$f":"IF(S513=0,0,(AD513-S513)/S513*100)","v":0},{"$f":"IF(AD513=0,0,(AE513-AD513)/AD513*100)","v":0},0,0,0,0,0,0,0,0]
["1",null,null,"L2_2",null,null,null,null,null,null,null,"2.2","Расходы на реагенты","тыс.руб.",{"$f":"SUMIFS(Реагенты!O$15:O$22,Реагенты!$A$15:$A$22,$A514,Реагенты!$M$15:$M$22,\"Всего по тарифу\")","v":0},{"$f":"SUMIFS(Реагенты!P$15:P$22,Реагенты!$A$15:$A$22,$A514,Реагенты!$M$15:$M$22,\"Всего по тарифу\")","v":27.783000000000001},{"$f":"SUMIFS(Реагенты!Q$15:Q$22,Реагенты!$A$15:$A$22,$A514,Реагенты!$M$15:$M$22,\"Всего по тарифу\")","v":0},{"$f":"Q514-P514","v":-27.783000000000001},{"$f":"SUMIFS(Реагенты!R$15:R$22,Реагенты!$A$15:$A$22,$A514,Реагенты!$M$15:$M$22,\"Всего по тарифу\")","v":0},{"$f":"SUMIFS(Реагенты!S$15:S$22,Реагенты!$A$15:$A$22,$A514,Реагенты!$M$15:$M$22,\"Всего по тарифу\")","v":194.74},{"$f":"SUMIFS(Реагенты!T$15:T$22,Реагенты!$A$15:$A$22,$A514,Реагенты!$M$15:$M$22,\"Всего по тарифу\")","v":0},{"$f":"SUMIFS(Реагенты!U$15:U$22,Реагенты!$A$15:$A$22,$A514,Реагенты!$M$15:$M$22,\"Всего по тарифу\")","v":0},{"$f":"SUMIFS(Реагенты!V$15:V$22,Реагенты!$A$15:$A$22,$A514,Реагенты!$M$15:$M$22,\"Всего по тарифу\")","v":0},{"$f":"SUMIFS(Реагенты!W$15:W$22,Реагенты!$A$15:$A$22,$A514,Реагенты!$M$15:$M$22,\"Всего по тарифу\")","v":0},{"$f":"SUMIFS(Реагенты!X$15:X$22,Реагенты!$A$15:$A$22,$A514,Реагенты!$M$15:$M$22,\"Всего по тарифу\")","v":0},{"$f":"SUMIFS(Реагенты!Y$15:Y$22,Реагенты!$A$15:$A$22,$A514,Реагенты!$M$15:$M$22,\"Всего по тарифу\")","v":0},{"$f":"SUMIFS(Реагенты!Z$15:Z$22,Реагенты!$A$15:$A$22,$A514,Реагенты!$M$15:$M$22,\"Всего по тарифу\")","v":0},{"$f":"SUMIFS(Реагенты!AA$15:AA$22,Реагенты!$A$15:$A$22,$A514,Реагенты!$M$15:$M$22,\"Всего по тарифу\")","v":0},{"$f":"SUMIFS(Реагенты!AB$15:AB$22,Реагенты!$A$15:$A$22,$A514,Реагенты!$M$15:$M$22,\"Всего по тарифу\")","v":0},{"$f":"SUMIFS(Реагенты!AC$15:AC$22,Реагенты!$A$15:$A$22,$A514,Реагенты!$M$15:$M$22,\"Всего по тарифу\")","v":0},{"$f":"SUMIFS(Реагенты!AD$15:AD$22,Реагенты!$A$15:$A$22,$A514,Реагенты!$M$15:$M$22,\"Всего по тарифу\")","v":0},{"$f":"SUMIFS(Реагенты!AE$15:AE$22,Реагенты!$A$15:$A$22,$A514,Реагенты!$M$15:$M$22,\"Всего по тарифу\")","v":0},{"$f":"SUMIFS(Реагенты!AF$15:AF$22,Реагенты!$A$15:$A$22,$A514,Реагенты!$M$15:$M$22,\"Всего по тарифу\")","v":0},{"$f":"SUMIFS(Реагенты!AG$15:AG$22,Реагенты!$A$15:$A$22,$A514,Реагенты!$M$15:$M$22,\"Всего по тарифу\")","v":0},{"$f":"SUMIFS(Реагенты!AH$15:AH$22,Реагенты!$A$15:$A$22,$A514,Реагенты!$M$15:$M$22,\"Всего по тарифу\")","v":0},{"$f":"SUMIFS(Реагенты!AI$15:AI$22,Реагенты!$A$15:$A$22,$A514,Реагенты!$M$15:$M$22,\"Всего по тарифу\")","v":0},{"$f":"SUMIFS(Реагенты!AJ$15:AJ$22,Реагенты!$A$15:$A$22,$A514,Реагенты!$M$15:$M$22,\"Всего по тарифу\")","v":0},{"$f":"SUMIFS(Реагенты!AK$15:AK$22,Реагенты!$A$15:$A$22,$A514,Реагенты!$M$15:$M$22,\"Всего по тарифу\")","v":0},{"$f":"SUMIFS(Реагенты!AL$15:AL$22,Реагенты!$A$15:$A$22,$A514,Реагенты!$M$15:$M$22,\"Всего по тарифу\")","v":0},0,{"$f":"IF(AD514=0,0,(AE514-AD514)/AD514*100)","v":0},0,0,0,0,0,0,0,0]
["1",null,null,"L2_3",null,null,null,null,null,null,null,"2.3","Налоги и сборы","тыс.руб.",{"$f":"SUM(O516:O524)","v":1275.1752164599998},{"$f":"SUM(P516:P524)","v":1974.45},1433.2139999999997,{"$f":"Q515-P515","v":-541.23600000000033},1148.0340000000001,3164.4599999999996,0,0,0,0,0,0,0,0,0,979.9799999999999,0,0,0,0,0,0,0,0,0,-14.638416632260038,-100,0,0,0,0,0,0,0,0]
["1","Налог на прибыль",null,"L2_3_1",null,null,null,null,null,null,null,"2.3.1","налог на прибыль","тыс.руб.",{"$f":"SUMIFS(Налоги!O$15:O$30,Налоги!$A$15:$A$30,$A516,Налоги!$M$15:$M$30,$B516)","v":0},{"$f":"SUMIFS(Налоги!P$15:P$30,Налоги!$A$15:$A$30,$A516,Налоги!$M$15:$M$30,$B516)","v":702.48},{"$f":"SUMIFS(Налоги!Q$15:Q$30,Налоги!$A$15:$A$30,$A516,Налоги!$M$15:$M$30,$B516)","v":161.24399999999966},-541.23600000000033,{"$f":"SUMIFS(Налоги!R$15:R$30,Налоги!$A$15:$A$30,$A516,Налоги!$M$15:$M$30,$B516)","v":0},{"$f":"SUMIFS(Налоги!S$15:S$30,Налоги!$A$15:$A$30,$A516,Налоги!$M$15:$M$30,$B516)","v":1747.35},{"$f":"SUMIFS(Налоги!T$15:T$30,Налоги!$A$15:$A$30,$A516,Налоги!$M$15:$M$30,$B516)","v":0},{"$f":"SUMIFS(Налоги!U$15:U$30,Налоги!$A$15:$A$30,$A516,Налоги!$M$15:$M$30,$B516)","v":0},{"$f":"SUMIFS(Налоги!V$15:V$30,Налоги!$A$15:$A$30,$A516,Налоги!$M$15:$M$30,$B516)","v":0},{"$f":"SUMIFS(Налоги!W$15:W$30,Налоги!$A$15:$A$30,$A516,Налоги!$M$15:$M$30,$B516)","v":0},{"$f":"SUMIFS(Налоги!X$15:X$30,Налоги!$A$15:$A$30,$A516,Налоги!$M$15:$M$30,$B516)","v":0},{"$f":"SUMIFS(Налоги!Y$15:Y$30,Налоги!$A$15:$A$30,$A516,Налоги!$M$15:$M$30,$B516)","v":0},{"$f":"SUMIFS(Налоги!Z$15:Z$30,Налоги!$A$15:$A$30,$A516,Налоги!$M$15:$M$30,$B516)","v":0},{"$f":"SUMIFS(Налоги!AA$15:AA$30,Налоги!$A$15:$A$30,$A516,Налоги!$M$15:$M$30,$B516)","v":0},{"$f":"SUMIFS(Налоги!AB$15:AB$30,Налоги!$A$15:$A$30,$A516,Налоги!$M$15:$M$30,$B516)","v":0},{"$f":"SUMIFS(Налоги!AC$15:AC$30,Налоги!$A$15:$A$30,$A516,Налоги!$M$15:$M$30,$B516)","v":0},{"$f":"SUMIFS(Налоги!AD$15:AD$30,Налоги!$A$15:$A$30,$A516,Налоги!$M$15:$M$30,$B516)","v":0},{"$f":"SUMIFS(Налоги!AE$15:AE$30,Налоги!$A$15:$A$30,$A516,Налоги!$M$15:$M$30,$B516)","v":0},{"$f":"SUMIFS(Налоги!AF$15:AF$30,Налоги!$A$15:$A$30,$A516,Налоги!$M$15:$M$30,$B516)","v":0},{"$f":"SUMIFS(Налоги!AG$15:AG$30,Налоги!$A$15:$A$30,$A516,Налоги!$M$15:$M$30,$B516)","v":0},{"$f":"SUMIFS(Налоги!AH$15:AH$30,Налоги!$A$15:$A$30,$A516,Налоги!$M$15:$M$30,$B516)","v":0},{"$f":"SUMIFS(Налоги!AI$15:AI$30,Налоги!$A$15:$A$30,$A516,Налоги!$M$15:$M$30,$B516)","v":0},{"$f":"SUMIFS(Налоги!AJ$15:AJ$30,Налоги!$A$15:$A$30,$A516,Налоги!$M$15:$M$30,$B516)","v":0},{"$f":"SUMIFS(Налоги!AK$15:AK$30,Налоги!$A$15:$A$30,$A516,Налоги!$M$15:$M$30,$B516)","v":0},{"$f":"SUMIFS(Налоги!AL$15:AL$30,Налоги!$A$15:$A$30,$A516,Налоги!$M$15:$M$30,$B516)","v":0},0,0,0,0,0,0,0,0,0,0]
[{"$f":"A516","v":"1"},"Налог на имущество",null,"L2_3_2",null,null,null,null,null,null,null,"2.3.2","налог на имущество организаций","тыс.руб.",{"$f":"SUMIFS(Налоги!O$15:O$30,Налоги!$A$15:$A$30,$A517,Налоги!$M$15:$M$30,$B517)","v":1217.0999999999999},{"$f":"SUMIFS(Налоги!P$15:P$30,Налоги!$A$15:$A$30,$A517,Налоги!$M$15:$M$30,$B517)","v":1217.77},{"$f":"SUMIFS(Налоги!Q$15:Q$30,Налоги!$A$15:$A$30,$A517,Налоги!$M$15:$M$30,$B517)","v":1217.77},0,{"$f":"SUMIFS(Налоги!R$15:R$30,Налоги!$A$15:$A$30,$A517,Налоги!$M$15:$M$30,$B517)","v":1091.624},{"$f":"SUMIFS(Налоги!S$15:S$30,Налоги!$A$15:$A$30,$A517,Налоги!$M$15:$M$30,$B517)","v":998.26},{"$f":"SUMIFS(Налоги!T$15:T$30,Налоги!$A$15:$A$30,$A517,Налоги!$M$15:$M$30,$B517)","v":0},{"$f":"SUMIFS(Налоги!U$15:U$30,Налоги!$A$15:$A$30,$A517,Налоги!$M$15:$M$30,$B517)","v":0},{"$f":"SUMIFS(Налоги!V$15:V$30,Налоги!$A$15:$A$30,$A517,Налоги!$M$15:$M$30,$B517)","v":0},{"$f":"SUMIFS(Налоги!W$15:W$30,Налоги!$A$15:$A$30,$A517,Налоги!$M$15:$M$30,$B517)","v":0},{"$f":"SUMIFS(Налоги!X$15:X$30,Налоги!$A$15:$A$30,$A517,Налоги!$M$15:$M$30,$B517)","v":0},{"$f":"SUMIFS(Налоги!Y$15:Y$30,Налоги!$A$15:$A$30,$A517,Налоги!$M$15:$M$30,$B517)","v":0},{"$f":"SUMIFS(Налоги!Z$15:Z$30,Налоги!$A$15:$A$30,$A517,Налоги!$M$15:$M$30,$B517)","v":0},{"$f":"SUMIFS(Налоги!AA$15:AA$30,Налоги!$A$15:$A$30,$A517,Налоги!$M$15:$M$30,$B517)","v":0},{"$f":"SUMIFS(Налоги!AB$15:AB$30,Налоги!$A$15:$A$30,$A517,Налоги!$M$15:$M$30,$B517)","v":0},{"$f":"SUMIFS(Налоги!AC$15:AC$30,Налоги!$A$15:$A$30,$A517,Налоги!$M$15:$M$30,$B517)","v":925.78},{"$f":"SUMIFS(Налоги!AD$15:AD$30,Налоги!$A$15:$A$30,$A517,Налоги!$M$15:$M$30,$B517)","v":0},{"$f":"SUMIFS(Налоги!AE$15:AE$30,Налоги!$A$15:$A$30,$A517,Налоги!$M$15:$M$30,$B517)","v":0},{"$f":"SUMIFS(Налоги!AF$15:AF$30,Налоги!$A$15:$A$30,$A517,Налоги!$M$15:$M$30,$B517)","v":0},{"$f":"SUMIFS(Налоги!AG$15:AG$30,Налоги!$A$15:$A$30,$A517,Налоги!$M$15:$M$30,$B517)","v":0},{"$f":"SUMIFS(Налоги!AH$15:AH$30,Налоги!$A$15:$A$30,$A517,Налоги!$M$15:$M$30,$B517)","v":0},{"$f":"SUMIFS(Налоги!AI$15:AI$30,Налоги!$A$15:$A$30,$A517,Налоги!$M$15:$M$30,$B517)","v":0},{"$f":"SUMIFS(Налоги!AJ$15:AJ$30,Налоги!$A$15:$A$30,$A517,Налоги!$M$15:$M$30,$B517)","v":0},{"$f":"SUMIFS(Налоги!AK$15:AK$30,Налоги!$A$15:$A$30,$A517,Налоги!$M$15:$M$30,$B517)","v":0},{"$f":"SUMIFS(Налоги!AL$15:AL$30,Налоги!$A$15:$A$30,$A517,Налоги!$M$15:$M$30,$B517)","v":0},-15.192410573604104,-100,0,0,0,0,0,0,0,0]
["1","Земельный налог",null,"L2_3_3",null,null,null,null,null,null,null,"2.3.3","земельный налог и арендная плата за землю","тыс.руб.",{"$f":"SUMIFS(Налоги!O$15:O$30,Налоги!$A$15:$A$30,$A518,Налоги!$M$15:$M$30,$B518)","v":0},{"$f":"SUMIFS(Налоги!P$15:P$30,Налоги!$A$15:$A$30,$A518,Налоги!$M$15:$M$30,$B518)","v":0},{"$f":"SUMIFS(Налоги!Q$15:Q$30,Налоги!$A$15:$A$30,$A518,Налоги!$M$15:$M$30,$B518)","v":0},0,{"$f":"SUMIFS(Налоги!R$15:R$30,Налоги!$A$15:$A$30,$A518,Налоги!$M$15:$M$30,$B518)","v":0},{"$f":"SUMIFS(Налоги!S$15:S$30,Налоги!$A$15:$A$30,$A518,Налоги!$M$15:$M$30,$B518)","v":18.29},{"$f":"SUMIFS(Налоги!T$15:T$30,Налоги!$A$15:$A$30,$A518,Налоги!$M$15:$M$30,$B518)","v":0},{"$f":"SUMIFS(Налоги!U$15:U$30,Налоги!$A$15:$A$30,$A518,Налоги!$M$15:$M$30,$B518)","v":0},{"$f":"SUMIFS(Налоги!V$15:V$30,Налоги!$A$15:$A$30,$A518,Налоги!$M$15:$M$30,$B518)","v":0},{"$f":"SUMIFS(Налоги!W$15:W$30,Налоги!$A$15:$A$30,$A518,Налоги!$M$15:$M$30,$B518)","v":0},{"$f":"SUMIFS(Налоги!X$15:X$30,Налоги!$A$15:$A$30,$A518,Налоги!$M$15:$M$30,$B518)","v":0},{"$f":"SUMIFS(Налоги!Y$15:Y$30,Налоги!$A$15:$A$30,$A518,Налоги!$M$15:$M$30,$B518)","v":0},{"$f":"SUMIFS(Налоги!Z$15:Z$30,Налоги!$A$15:$A$30,$A518,Налоги!$M$15:$M$30,$B518)","v":0},{"$f":"SUMIFS(Налоги!AA$15:AA$30,Налоги!$A$15:$A$30,$A518,Налоги!$M$15:$M$30,$B518)","v":0},{"$f":"SUMIFS(Налоги!AB$15:AB$30,Налоги!$A$15:$A$30,$A518,Налоги!$M$15:$M$30,$B518)","v":0},{"$f":"SUMIFS(Налоги!AC$15:AC$30,Налоги!$A$15:$A$30,$A518,Налоги!$M$15:$M$30,$B518)","v":0},{"$f":"SUMIFS(Налоги!AD$15:AD$30,Налоги!$A$15:$A$30,$A518,Налоги!$M$15:$M$30,$B518)","v":0},{"$f":"SUMIFS(Налоги!AE$15:AE$30,Налоги!$A$15:$A$30,$A518,Налоги!$M$15:$M$30,$B518)","v":0},{"$f":"SUMIFS(Налоги!AF$15:AF$30,Налоги!$A$15:$A$30,$A518,Налоги!$M$15:$M$30,$B518)","v":0},{"$f":"SUMIFS(Налоги!AG$15:AG$30,Налоги!$A$15:$A$30,$A518,Налоги!$M$15:$M$30,$B518)","v":0},{"$f":"SUMIFS(Налоги!AH$15:AH$30,Налоги!$A$15:$A$30,$A518,Налоги!$M$15:$M$30,$B518)","v":0},{"$f":"SUMIFS(Налоги!AI$15:AI$30,Налоги!$A$15:$A$30,$A518,Налоги!$M$15:$M$30,$B518)","v":0},{"$f":"SUMIFS(Налоги!AJ$15:AJ$30,Налоги!$A$15:$A$30,$A518,Налоги!$M$15:$M$30,$B518)","v":0},{"$f":"SUMIFS(Налоги!AK$15:AK$30,Налоги!$A$15:$A$30,$A518,Налоги!$M$15:$M$30,$B518)","v":0},{"$f":"SUMIFS(Налоги!AL$15:AL$30,Налоги!$A$15:$A$30,$A518,Налоги!$M$15:$M$30,$B518)","v":0},0,0,0,0,0,0,0,0,0,0]
["1","Водный налог",null,"L2_3_4",null,null,null,null,null,null,null,"2.3.4","водный налог","тыс.руб.",{"$f":"SUMIFS(Налоги!O$15:O$30,Налоги!$A$15:$A$30,$A519,Налоги!$M$15:$M$30,$B519)","v":0},{"$f":"SUMIFS(Налоги!P$15:P$30,Налоги!$A$15:$A$30,$A519,Налоги!$M$15:$M$30,$B519)","v":0},{"$f":"SUMIFS(Налоги!Q$15:Q$30,Налоги!$A$15:$A$30,$A519,Налоги!$M$15:$M$30,$B519)","v":0},0,{"$f":"SUMIFS(Налоги!R$15:R$30,Налоги!$A$15:$A$30,$A519,Налоги!$M$15:$M$30,$B519)","v":0},{"$f":"SUMIFS(Налоги!S$15:S$30,Налоги!$A$15:$A$30,$A519,Налоги!$M$15:$M$30,$B519)","v":0},{"$f":"SUMIFS(Налоги!T$15:T$30,Налоги!$A$15:$A$30,$A519,Налоги!$M$15:$M$30,$B519)","v":0},{"$f":"SUMIFS(Налоги!U$15:U$30,Налоги!$A$15:$A$30,$A519,Налоги!$M$15:$M$30,$B519)","v":0},{"$f":"SUMIFS(Налоги!V$15:V$30,Налоги!$A$15:$A$30,$A519,Налоги!$M$15:$M$30,$B519)","v":0},{"$f":"SUMIFS(Налоги!W$15:W$30,Налоги!$A$15:$A$30,$A519,Налоги!$M$15:$M$30,$B519)","v":0},{"$f":"SUMIFS(Налоги!X$15:X$30,Налоги!$A$15:$A$30,$A519,Налоги!$M$15:$M$30,$B519)","v":0},{"$f":"SUMIFS(Налоги!Y$15:Y$30,Налоги!$A$15:$A$30,$A519,Налоги!$M$15:$M$30,$B519)","v":0},{"$f":"SUMIFS(Налоги!Z$15:Z$30,Налоги!$A$15:$A$30,$A519,Налоги!$M$15:$M$30,$B519)","v":0},{"$f":"SUMIFS(Налоги!AA$15:AA$30,Налоги!$A$15:$A$30,$A519,Налоги!$M$15:$M$30,$B519)","v":0},{"$f":"SUMIFS(Налоги!AB$15:AB$30,Налоги!$A$15:$A$30,$A519,Налоги!$M$15:$M$30,$B519)","v":0},{"$f":"SUMIFS(Налоги!AC$15:AC$30,Налоги!$A$15:$A$30,$A519,Налоги!$M$15:$M$30,$B519)","v":0},{"$f":"SUMIFS(Налоги!AD$15:AD$30,Налоги!$A$15:$A$30,$A519,Налоги!$M$15:$M$30,$B519)","v":0},{"$f":"SUMIFS(Налоги!AE$15:AE$30,Налоги!$A$15:$A$30,$A519,Налоги!$M$15:$M$30,$B519)","v":0},{"$f":"SUMIFS(Налоги!AF$15:AF$30,Налоги!$A$15:$A$30,$A519,Налоги!$M$15:$M$30,$B519)","v":0},{"$f":"SUMIFS(Налоги!AG$15:AG$30,Налоги!$A$15:$A$30,$A519,Налоги!$M$15:$M$30,$B519)","v":0},{"$f":"SUMIFS(Налоги!AH$15:AH$30,Налоги!$A$15:$A$30,$A519,Налоги!$M$15:$M$30,$B519)","v":0},{"$f":"SUMIFS(Налоги!AI$15:AI$30,Налоги!$A$15:$A$30,$A519,Налоги!$M$15:$M$30,$B519)","v":0},{"$f":"SUMIFS(Налоги!AJ$15:AJ$30,Налоги!$A$15:$A$30,$A519,Налоги!$M$15:$M$30,$B519)","v":0},{"$f":"SUMIFS(Налоги!AK$15:AK$30,Налоги!$A$15:$A$30,$A519,Налоги!$M$15:$M$30,$B519)","v":0},{"$f":"SUMIFS(Налоги!AL$15:AL$30,Налоги!$A$15:$A$30,$A519,Налоги!$M$15:$M$30,$B519)","v":0},0,0,0,0,0,0,0,0,0,0]
["1","Плата за пользование водным объектом",null,"L2_3_5",null,null,null,null,null,null,null,"2.3.5","плата за пользование водным объектом","тыс.руб.",{"$f":"SUMIFS(Налоги!O$15:O$30,Налоги!$A$15:$A$30,$A520,Налоги!$M$15:$M$30,$B520)","v":0},{"$f":"SUMIFS(Налоги!P$15:P$30,Налоги!$A$15:$A$30,$A520,Налоги!$M$15:$M$30,$B520)","v":0},{"$f":"SUMIFS(Налоги!Q$15:Q$30,Налоги!$A$15:$A$30,$A520,Налоги!$M$15:$M$30,$B520)","v":0},0,{"$f":"SUMIFS(Налоги!R$15:R$30,Налоги!$A$15:$A$30,$A520,Налоги!$M$15:$M$30,$B520)","v":0},{"$f":"SUMIFS(Налоги!S$15:S$30,Налоги!$A$15:$A$30,$A520,Налоги!$M$15:$M$30,$B520)","v":0},{"$f":"SUMIFS(Налоги!T$15:T$30,Налоги!$A$15:$A$30,$A520,Налоги!$M$15:$M$30,$B520)","v":0},{"$f":"SUMIFS(Налоги!U$15:U$30,Налоги!$A$15:$A$30,$A520,Налоги!$M$15:$M$30,$B520)","v":0},{"$f":"SUMIFS(Налоги!V$15:V$30,Налоги!$A$15:$A$30,$A520,Налоги!$M$15:$M$30,$B520)","v":0},{"$f":"SUMIFS(Налоги!W$15:W$30,Налоги!$A$15:$A$30,$A520,Налоги!$M$15:$M$30,$B520)","v":0},{"$f":"SUMIFS(Налоги!X$15:X$30,Налоги!$A$15:$A$30,$A520,Налоги!$M$15:$M$30,$B520)","v":0},{"$f":"SUMIFS(Налоги!Y$15:Y$30,Налоги!$A$15:$A$30,$A520,Налоги!$M$15:$M$30,$B520)","v":0},{"$f":"SUMIFS(Налоги!Z$15:Z$30,Налоги!$A$15:$A$30,$A520,Налоги!$M$15:$M$30,$B520)","v":0},{"$f":"SUMIFS(Налоги!AA$15:AA$30,Налоги!$A$15:$A$30,$A520,Налоги!$M$15:$M$30,$B520)","v":0},{"$f":"SUMIFS(Налоги!AB$15:AB$30,Налоги!$A$15:$A$30,$A520,Налоги!$M$15:$M$30,$B520)","v":0},{"$f":"SUMIFS(Налоги!AC$15:AC$30,Налоги!$A$15:$A$30,$A520,Налоги!$M$15:$M$30,$B520)","v":0},{"$f":"SUMIFS(Налоги!AD$15:AD$30,Налоги!$A$15:$A$30,$A520,Налоги!$M$15:$M$30,$B520)","v":0},{"$f":"SUMIFS(Налоги!AE$15:AE$30,Налоги!$A$15:$A$30,$A520,Налоги!$M$15:$M$30,$B520)","v":0},{"$f":"SUMIFS(Налоги!AF$15:AF$30,Налоги!$A$15:$A$30,$A520,Налоги!$M$15:$M$30,$B520)","v":0},{"$f":"SUMIFS(Налоги!AG$15:AG$30,Налоги!$A$15:$A$30,$A520,Налоги!$M$15:$M$30,$B520)","v":0},{"$f":"SUMIFS(Налоги!AH$15:AH$30,Налоги!$A$15:$A$30,$A520,Налоги!$M$15:$M$30,$B520)","v":0},{"$f":"SUMIFS(Налоги!AI$15:AI$30,Налоги!$A$15:$A$30,$A520,Налоги!$M$15:$M$30,$B520)","v":0},{"$f":"SUMIFS(Налоги!AJ$15:AJ$30,Налоги!$A$15:$A$30,$A520,Налоги!$M$15:$M$30,$B520)","v":0},{"$f":"SUMIFS(Налоги!AK$15:AK$30,Налоги!$A$15:$A$30,$A520,Налоги!$M$15:$M$30,$B520)","v":0},{"$f":"SUMIFS(Налоги!AL$15:AL$30,Налоги!$A$15:$A$30,$A520,Налоги!$M$15:$M$30,$B520)","v":0},0,0,0,0,0,0,0,0,0,0]
["1","Транспортный налог",null,"L2_3_6",null,null,null,null,null,null,null,"2.3.6","транспортный налог","тыс.руб.",{"$f":"SUMIFS(Налоги!O$15:O$30,Налоги!$A$15:$A$30,$A521,Налоги!$M$15:$M$30,$B521)","v":13.923999999999999},{"$f":"SUMIFS(Налоги!P$15:P$30,Налоги!$A$15:$A$30,$A521,Налоги!$M$15:$M$30,$B521)","v":13.92},{"$f":"SUMIFS(Налоги!Q$15:Q$30,Налоги!$A$15:$A$30,$A521,Налоги!$M$15:$M$30,$B521)","v":13.92},0,{"$f":"SUMIFS(Налоги!R$15:R$30,Налоги!$A$15:$A$30,$A521,Налоги!$M$15:$M$30,$B521)","v":13.92},{"$f":"SUMIFS(Налоги!S$15:S$30,Налоги!$A$15:$A$30,$A521,Налоги!$M$15:$M$30,$B521)","v":13.92},{"$f":"SUMIFS(Налоги!T$15:T$30,Налоги!$A$15:$A$30,$A521,Налоги!$M$15:$M$30,$B521)","v":0},{"$f":"SUMIFS(Налоги!U$15:U$30,Налоги!$A$15:$A$30,$A521,Налоги!$M$15:$M$30,$B521)","v":0},{"$f":"SUMIFS(Налоги!V$15:V$30,Налоги!$A$15:$A$30,$A521,Налоги!$M$15:$M$30,$B521)","v":0},{"$f":"SUMIFS(Налоги!W$15:W$30,Налоги!$A$15:$A$30,$A521,Налоги!$M$15:$M$30,$B521)","v":0},{"$f":"SUMIFS(Налоги!X$15:X$30,Налоги!$A$15:$A$30,$A521,Налоги!$M$15:$M$30,$B521)","v":0},{"$f":"SUMIFS(Налоги!Y$15:Y$30,Налоги!$A$15:$A$30,$A521,Налоги!$M$15:$M$30,$B521)","v":0},{"$f":"SUMIFS(Налоги!Z$15:Z$30,Налоги!$A$15:$A$30,$A521,Налоги!$M$15:$M$30,$B521)","v":0},{"$f":"SUMIFS(Налоги!AA$15:AA$30,Налоги!$A$15:$A$30,$A521,Налоги!$M$15:$M$30,$B521)","v":0},{"$f":"SUMIFS(Налоги!AB$15:AB$30,Налоги!$A$15:$A$30,$A521,Налоги!$M$15:$M$30,$B521)","v":0},{"$f":"SUMIFS(Налоги!AC$15:AC$30,Налоги!$A$15:$A$30,$A521,Налоги!$M$15:$M$30,$B521)","v":13.92},{"$f":"SUMIFS(Налоги!AD$15:AD$30,Налоги!$A$15:$A$30,$A521,Налоги!$M$15:$M$30,$B521)","v":0},{"$f":"SUMIFS(Налоги!AE$15:AE$30,Налоги!$A$15:$A$30,$A521,Налоги!$M$15:$M$30,$B521)","v":0},{"$f":"SUMIFS(Налоги!AF$15:AF$30,Налоги!$A$15:$A$30,$A521,Налоги!$M$15:$M$30,$B521)","v":0},{"$f":"SUMIFS(Налоги!AG$15:AG$30,Налоги!$A$15:$A$30,$A521,Налоги!$M$15:$M$30,$B521)","v":0},{"$f":"SUMIFS(Налоги!AH$15:AH$30,Налоги!$A$15:$A$30,$A521,Налоги!$M$15:$M$30,$B521)","v":0},{"$f":"SUMIFS(Налоги!AI$15:AI$30,Налоги!$A$15:$A$30,$A521,Налоги!$M$15:$M$30,$B521)","v":0},{"$f":"SUMIFS(Налоги!AJ$15:AJ$30,Налоги!$A$15:$A$30,$A521,Налоги!$M$15:$M$30,$B521)","v":0},{"$f":"SUMIFS(Налоги!AK$15:AK$30,Налоги!$A$15:$A$30,$A521,Налоги!$M$15:$M$30,$B521)","v":0},{"$f":"SUMIFS(Налоги!AL$15:AL$30,Налоги!$A$15:$A$30,$A521,Налоги!$M$15:$M$30,$B521)","v":0},0,-100,0,0,0,0,0,0,0,0]
["1","Плата за негативное воздействие на окружающую среду",null,"L2_3_7",null,null,null,null,null,null,null,"2.3.7","плата за негативное воздействие на окружающую среду","тыс.руб.",{"$f":"SUMIFS(Налоги!O$15:O$30,Налоги!$A$15:$A$30,$A522,Налоги!$M$15:$M$30,$B522)","v":44.151216460000001},{"$f":"SUMIFS(Налоги!P$15:P$30,Налоги!$A$15:$A$30,$A522,Налоги!$M$15:$M$30,$B522)","v":40.28},{"$f":"SUMIFS(Налоги!Q$15:Q$30,Налоги!$A$15:$A$30,$A522,Налоги!$M$15:$M$30,$B522)","v":40.28},0,{"$f":"SUMIFS(Налоги!R$15:R$30,Налоги!$A$15:$A$30,$A522,Налоги!$M$15:$M$30,$B522)","v":42.49},{"$f":"SUMIFS(Налоги!S$15:S$30,Налоги!$A$15:$A$30,$A522,Налоги!$M$15:$M$30,$B522)","v":39.770000000000003},{"$f":"SUMIFS(Налоги!T$15:T$30,Налоги!$A$15:$A$30,$A522,Налоги!$M$15:$M$30,$B522)","v":0},{"$f":"SUMIFS(Налоги!U$15:U$30,Налоги!$A$15:$A$30,$A522,Налоги!$M$15:$M$30,$B522)","v":0},{"$f":"SUMIFS(Налоги!V$15:V$30,Налоги!$A$15:$A$30,$A522,Налоги!$M$15:$M$30,$B522)","v":0},{"$f":"SUMIFS(Налоги!W$15:W$30,Налоги!$A$15:$A$30,$A522,Налоги!$M$15:$M$30,$B522)","v":0},{"$f":"SUMIFS(Налоги!X$15:X$30,Налоги!$A$15:$A$30,$A522,Налоги!$M$15:$M$30,$B522)","v":0},{"$f":"SUMIFS(Налоги!Y$15:Y$30,Налоги!$A$15:$A$30,$A522,Налоги!$M$15:$M$30,$B522)","v":0},{"$f":"SUMIFS(Налоги!Z$15:Z$30,Налоги!$A$15:$A$30,$A522,Налоги!$M$15:$M$30,$B522)","v":0},{"$f":"SUMIFS(Налоги!AA$15:AA$30,Налоги!$A$15:$A$30,$A522,Налоги!$M$15:$M$30,$B522)","v":0},{"$f":"SUMIFS(Налоги!AB$15:AB$30,Налоги!$A$15:$A$30,$A522,Налоги!$M$15:$M$30,$B522)","v":0},{"$f":"SUMIFS(Налоги!AC$15:AC$30,Налоги!$A$15:$A$30,$A522,Налоги!$M$15:$M$30,$B522)","v":40.28},{"$f":"SUMIFS(Налоги!AD$15:AD$30,Налоги!$A$15:$A$30,$A522,Налоги!$M$15:$M$30,$B522)","v":0},{"$f":"SUMIFS(Налоги!AE$15:AE$30,Налоги!$A$15:$A$30,$A522,Налоги!$M$15:$M$30,$B522)","v":0},{"$f":"SUMIFS(Налоги!AF$15:AF$30,Налоги!$A$15:$A$30,$A522,Налоги!$M$15:$M$30,$B522)","v":0},{"$f":"SUMIFS(Налоги!AG$15:AG$30,Налоги!$A$15:$A$30,$A522,Налоги!$M$15:$M$30,$B522)","v":0},{"$f":"SUMIFS(Налоги!AH$15:AH$30,Налоги!$A$15:$A$30,$A522,Налоги!$M$15:$M$30,$B522)","v":0},{"$f":"SUMIFS(Налоги!AI$15:AI$30,Налоги!$A$15:$A$30,$A522,Налоги!$M$15:$M$30,$B522)","v":0},{"$f":"SUMIFS(Налоги!AJ$15:AJ$30,Налоги!$A$15:$A$30,$A522,Налоги!$M$15:$M$30,$B522)","v":0},{"$f":"SUMIFS(Налоги!AK$15:AK$30,Налоги!$A$15:$A$30,$A522,Налоги!$M$15:$M$30,$B522)","v":0},{"$f":"SUMIFS(Налоги!AL$15:AL$30,Налоги!$A$15:$A$30,$A522,Налоги!$M$15:$M$30,$B522)","v":0},-5.2012238173687937,-100,0,0,0,0,0,0,0,0]
["1","Единый налог при упрощенной системе налогообложения",null,"L2_3_8",null,null,null,null,null,null,null,"2.3.8","единый налог при УСН","тыс.руб.",{"$f":"SUMIFS(Налоги!O$15:O$30,Налоги!$A$15:$A$30,$A523,Налоги!$M$15:$M$30,$B523)","v":0},{"$f":"SUMIFS(Налоги!P$15:P$30,Налоги!$A$15:$A$30,$A523,Налоги!$M$15:$M$30,$B523)","v":0},{"$f":"SUMIFS(Налоги!Q$15:Q$30,Налоги!$A$15:$A$30,$A523,Налоги!$M$15:$M$30,$B523)","v":0},{"$f":"Q523-P523","v":0},{"$f":"SUMIFS(Налоги!R$15:R$30,Налоги!$A$15:$A$30,$A523,Налоги!$M$15:$M$30,$B523)","v":0},{"$f":"SUMIFS(Налоги!S$15:S$30,Налоги!$A$15:$A$30,$A523,Налоги!$M$15:$M$30,$B523)","v":0},{"$f":"SUMIFS(Налоги!T$15:T$30,Налоги!$A$15:$A$30,$A523,Налоги!$M$15:$M$30,$B523)","v":0},{"$f":"SUMIFS(Налоги!U$15:U$30,Налоги!$A$15:$A$30,$A523,Налоги!$M$15:$M$30,$B523)","v":0},{"$f":"SUMIFS(Налоги!V$15:V$30,Налоги!$A$15:$A$30,$A523,Налоги!$M$15:$M$30,$B523)","v":0},{"$f":"SUMIFS(Налоги!W$15:W$30,Налоги!$A$15:$A$30,$A523,Налоги!$M$15:$M$30,$B523)","v":0},{"$f":"SUMIFS(Налоги!X$15:X$30,Налоги!$A$15:$A$30,$A523,Налоги!$M$15:$M$30,$B523)","v":0},{"$f":"SUMIFS(Налоги!Y$15:Y$30,Налоги!$A$15:$A$30,$A523,Налоги!$M$15:$M$30,$B523)","v":0},{"$f":"SUMIFS(Налоги!Z$15:Z$30,Налоги!$A$15:$A$30,$A523,Налоги!$M$15:$M$30,$B523)","v":0},{"$f":"SUMIFS(Налоги!AA$15:AA$30,Налоги!$A$15:$A$30,$A523,Налоги!$M$15:$M$30,$B523)","v":0},{"$f":"SUMIFS(Налоги!AB$15:AB$30,Налоги!$A$15:$A$30,$A523,Налоги!$M$15:$M$30,$B523)","v":0},{"$f":"SUMIFS(Налоги!AC$15:AC$30,Налоги!$A$15:$A$30,$A523,Налоги!$M$15:$M$30,$B523)","v":0},{"$f":"SUMIFS(Налоги!AD$15:AD$30,Налоги!$A$15:$A$30,$A523,Налоги!$M$15:$M$30,$B523)","v":0},{"$f":"SUMIFS(Налоги!AE$15:AE$30,Налоги!$A$15:$A$30,$A523,Налоги!$M$15:$M$30,$B523)","v":0},{"$f":"SUMIFS(Налоги!AF$15:AF$30,Налоги!$A$15:$A$30,$A523,Налоги!$M$15:$M$30,$B523)","v":0},{"$f":"SUMIFS(Налоги!AG$15:AG$30,Налоги!$A$15:$A$30,$A523,Налоги!$M$15:$M$30,$B523)","v":0},{"$f":"SUMIFS(Налоги!AH$15:AH$30,Налоги!$A$15:$A$30,$A523,Налоги!$M$15:$M$30,$B523)","v":0},{"$f":"SUMIFS(Налоги!AI$15:AI$30,Налоги!$A$15:$A$30,$A523,Налоги!$M$15:$M$30,$B523)","v":0},{"$f":"SUMIFS(Налоги!AJ$15:AJ$30,Налоги!$A$15:$A$30,$A523,Налоги!$M$15:$M$30,$B523)","v":0},{"$f":"SUMIFS(Налоги!AK$15:AK$30,Налоги!$A$15:$A$30,$A523,Налоги!$M$15:$M$30,$B523)","v":0},{"$f":"SUMIFS(Налоги!AL$15:AL$30,Налоги!$A$15:$A$30,$A523,Налоги!$M$15:$M$30,$B523)","v":0},0,0,0,0,0,0,0,0,0,0]
["1","Прочие налоги и сборы",null,"L2_3_9",null,null,null,null,null,null,null,"2.3.9","прочие налоги и сборы","тыс.руб.",{"$f":"SUMIFS(Налоги!O$15:O$30,Налоги!$A$15:$A$30,$A524,Налоги!$M$15:$M$30,$B524)","v":0},{"$f":"SUMIFS(Налоги!P$15:P$30,Налоги!$A$15:$A$30,$A524,Налоги!$M$15:$M$30,$B524)","v":0},{"$f":"SUMIFS(Налоги!Q$15:Q$30,Налоги!$A$15:$A$30,$A524,Налоги!$M$15:$M$30,$B524)","v":0},0,{"$f":"SUMIFS(Налоги!R$15:R$30,Налоги!$A$15:$A$30,$A524,Налоги!$M$15:$M$30,$B524)","v":0},{"$f":"SUMIFS(Налоги!S$15:S$30,Налоги!$A$15:$A$30,$A524,Налоги!$M$15:$M$30,$B524)","v":346.87},{"$f":"SUMIFS(Налоги!T$15:T$30,Налоги!$A$15:$A$30,$A524,Налоги!$M$15:$M$30,$B524)","v":0},{"$f":"SUMIFS(Налоги!U$15:U$30,Налоги!$A$15:$A$30,$A524,Налоги!$M$15:$M$30,$B524)","v":0},{"$f":"SUMIFS(Налоги!V$15:V$30,Налоги!$A$15:$A$30,$A524,Налоги!$M$15:$M$30,$B524)","v":0},{"$f":"SUMIFS(Налоги!W$15:W$30,Налоги!$A$15:$A$30,$A524,Налоги!$M$15:$M$30,$B524)","v":0},{"$f":"SUMIFS(Налоги!X$15:X$30,Налоги!$A$15:$A$30,$A524,Налоги!$M$15:$M$30,$B524)","v":0},{"$f":"SUMIFS(Налоги!Y$15:Y$30,Налоги!$A$15:$A$30,$A524,Налоги!$M$15:$M$30,$B524)","v":0},{"$f":"SUMIFS(Налоги!Z$15:Z$30,Налоги!$A$15:$A$30,$A524,Налоги!$M$15:$M$30,$B524)","v":0},{"$f":"SUMIFS(Налоги!AA$15:AA$30,Налоги!$A$15:$A$30,$A524,Налоги!$M$15:$M$30,$B524)","v":0},{"$f":"SUMIFS(Налоги!AB$15:AB$30,Налоги!$A$15:$A$30,$A524,Налоги!$M$15:$M$30,$B524)","v":0},{"$f":"SUMIFS(Налоги!AC$15:AC$30,Налоги!$A$15:$A$30,$A524,Налоги!$M$15:$M$30,$B524)","v":0},{"$f":"SUMIFS(Налоги!AD$15:AD$30,Налоги!$A$15:$A$30,$A524,Налоги!$M$15:$M$30,$B524)","v":0},{"$f":"SUMIFS(Налоги!AE$15:AE$30,Налоги!$A$15:$A$30,$A524,Налоги!$M$15:$M$30,$B524)","v":0},{"$f":"SUMIFS(Налоги!AF$15:AF$30,Налоги!$A$15:$A$30,$A524,Налоги!$M$15:$M$30,$B524)","v":0},{"$f":"SUMIFS(Налоги!AG$15:AG$30,Налоги!$A$15:$A$30,$A524,Налоги!$M$15:$M$30,$B524)","v":0},{"$f":"SUMIFS(Налоги!AH$15:AH$30,Налоги!$A$15:$A$30,$A524,Налоги!$M$15:$M$30,$B524)","v":0},{"$f":"SUMIFS(Налоги!AI$15:AI$30,Налоги!$A$15:$A$30,$A524,Налоги!$M$15:$M$30,$B524)","v":0},{"$f":"SUMIFS(Налоги!AJ$15:AJ$30,Налоги!$A$15:$A$30,$A524,Налоги!$M$15:$M$30,$B524)","v":0},{"$f":"SUMIFS(Налоги!AK$15:AK$30,Налоги!$A$15:$A$30,$A524,Налоги!$M$15:$M$30,$B524)","v":0},{"$f":"SUMIFS(Налоги!AL$15:AL$30,Налоги!$A$15:$A$30,$A524,Налоги!$M$15:$M$30,$B524)","v":0},0,0,0,0,0,0,0,0,0,0]
["1","Расходы на мероприятия по защите централизованных систем водоснабжения",null,"L2_4",null,null,null,null,null,null,null,"2.4","Расходы на мероприятия по защите централизованных систем водоснабжения и (или) водоотведения и их отдельных объектов от угроз техногенного, природного характера и террористических актов, по предотвращению возникновения аварийных ситуаций, снижению риска и смягчению последствий чрезвычайных ситуаций (за исключением мероприятий, включенных в инвестиционную программу)","тыс.руб.",null,null,null,{"$f":"Q525-P525","v":0},null,null,null,null,null,null,null,null,null,null,null,null,null,null,null,null,null,null,null,null,null,0,0,0,0,0,0,0,0,0,0]
["1","Арендная и концессионная плата, лизинговые платежи",null,"L2_5",null,null,null,null,null,null,null,"2.5","Арендная и концессионная плата, лизинговые платежи","тыс.руб.",{"$f":"SUMIFS(Аренда!O$15:O$24,Аренда!$A$15:$A$24,$A526,Аренда!$M$15:$M$24,\"Арендная и концессионная плата. Лизинговые платежи\")","v":1548.6399999999999},{"$f":"SUMIFS(Аренда!P$15:P$24,Аренда!$A$15:$A$24,$A526,Аренда!$M$15:$M$24,\"Арендная и концессионная плата. Лизинговые платежи\")","v":3035.6800000000003},{"$f":"SUMIFS(Аренда!Q$15:Q$24,Аренда!$A$15:$A$24,$A526,Аренда!$M$15:$M$24,\"Арендная и концессионная плата. Лизинговые платежи\")","v":2175.66},-860.02000000000044,{"$f":"SUMIFS(Аренда!R$15:R$24,Аренда!$A$15:$A$24,$A526,Аренда!$M$15:$M$24,\"Арендная и концессионная плата. Лизинговые платежи\")","v":2160.7455600000003},{"$f":"SUMIFS(Аренда!S$15:S$24,Аренда!$A$15:$A$24,$A526,Аренда!$M$15:$M$24,\"Арендная и концессионная плата. Лизинговые платежи\")","v":2606.71},{"$f":"SUMIFS(Аренда!T$15:T$24,Аренда!$A$15:$A$24,$A526,Аренда!$M$15:$M$24,\"Арендная и концессионная плата. Лизинговые платежи\")","v":0},{"$f":"SUMIFS(Аренда!U$15:U$24,Аренда!$A$15:$A$24,$A526,Аренда!$M$15:$M$24,\"Арендная и концессионная плата. Лизинговые платежи\")","v":0},{"$f":"SUMIFS(Аренда!V$15:V$24,Аренда!$A$15:$A$24,$A526,Аренда!$M$15:$M$24,\"Арендная и концессионная плата. Лизинговые платежи\")","v":0},{"$f":"SUMIFS(Аренда!W$15:W$24,Аренда!$A$15:$A$24,$A526,Аренда!$M$15:$M$24,\"Арендная и концессионная плата. Лизинговые платежи\")","v":0},{"$f":"SUMIFS(Аренда!X$15:X$24,Аренда!$A$15:$A$24,$A526,Аренда!$M$15:$M$24,\"Арендная и концессионная плата. Лизинговые платежи\")","v":0},{"$f":"SUMIFS(Аренда!Y$15:Y$24,Аренда!$A$15:$A$24,$A526,Аренда!$M$15:$M$24,\"Арендная и концессионная плата. Лизинговые платежи\")","v":0},{"$f":"SUMIFS(Аренда!Z$15:Z$24,Аренда!$A$15:$A$24,$A526,Аренда!$M$15:$M$24,\"Арендная и концессионная плата. Лизинговые платежи\")","v":0},{"$f":"SUMIFS(Аренда!AA$15:AA$24,Аренда!$A$15:$A$24,$A526,Аренда!$M$15:$M$24,\"Арендная и концессионная плата. Лизинговые платежи\")","v":0},{"$f":"SUMIFS(Аренда!AB$15:AB$24,Аренда!$A$15:$A$24,$A526,Аренда!$M$15:$M$24,\"Арендная и концессионная плата. Лизинговые платежи\")","v":0},{"$f":"SUMIFS(Аренда!AC$15:AC$24,Аренда!$A$15:$A$24,$A526,Аренда!$M$15:$M$24,\"Арендная и концессионная плата. Лизинговые платежи\")","v":2122.1543399000002},{"$f":"SUMIFS(Аренда!AD$15:AD$24,Аренда!$A$15:$A$24,$A526,Аренда!$M$15:$M$24,\"Арендная и концессионная плата. Лизинговые платежи\")","v":0},{"$f":"SUMIFS(Аренда!AE$15:AE$24,Аренда!$A$15:$A$24,$A526,Аренда!$M$15:$M$24,\"Арендная и концессионная плата. Лизинговые платежи\")","v":0},{"$f":"SUMIFS(Аренда!AF$15:AF$24,Аренда!$A$15:$A$24,$A526,Аренда!$M$15:$M$24,\"Арендная и концессионная плата. Лизинговые платежи\")","v":0},{"$f":"SUMIFS(Аренда!AG$15:AG$24,Аренда!$A$15:$A$24,$A526,Аренда!$M$15:$M$24,\"Арендная и концессионная плата. Лизинговые платежи\")","v":0},{"$f":"SUMIFS(Аренда!AH$15:AH$24,Аренда!$A$15:$A$24,$A526,Аренда!$M$15:$M$24,\"Арендная и концессионная плата. Лизинговые платежи\")","v":0},{"$f":"SUMIFS(Аренда!AI$15:AI$24,Аренда!$A$15:$A$24,$A526,Аренда!$M$15:$M$24,\"Арендная и концессионная плата. Лизинговые платежи\")","v":0},{"$f":"SUMIFS(Аренда!AJ$15:AJ$24,Аренда!$A$15:$A$24,$A526,Аренда!$M$15:$M$24,\"Арендная и концессионная плата. Лизинговые платежи\")","v":0},{"$f":"SUMIFS(Аренда!AK$15:AK$24,Аренда!$A$15:$A$24,$A526,Аренда!$M$15:$M$24,\"Арендная и концессионная плата. Лизинговые платежи\")","v":0},{"$f":"SUMIFS(Аренда!AL$15:AL$24,Аренда!$A$15:$A$24,$A526,Аренда!$M$15:$M$24,\"Арендная и концессионная плата. Лизинговые платежи\")","v":0},-1.7860140876559336,-100,0,0,0,0,0,0,0,0]
["1",null,null,"L2_6",null,null,null,null,null,null,null,"2.6","Сбытовые расходы гарантирующей организации","тыс.руб.",null,null,null,{"$f":"Q527-P527","v":0},null,null,null,null,null,null,null,null,null,null,null,null,null,null,null,null,null,null,null,null,null,0,0,0,0,0,0,0,0,0,0]
["1","резерв по сомнительным долгам гарантирующей организации",null,"L2_6_1",null,null,null,null,null,null,null,"2.6.1","резерв по сомнительным долгам гарантирующей организации","тыс.руб.",null,null,null,0,null,null,null,null,null,null,null,null,null,null,null,null,null,null,null,null,null,null,null,null,null,0,0,0,0,0,0,0,0,0,0]
["1","Экономия расходов",null,"L2_7",null,null,null,null,null,null,null,"2.7","Экономия расходов","тыс.руб.",null,null,null,0,null,{"$f":"SUMIFS(Экономия_корр!O$15:O$24,Экономия_корр!$A$15:$A$24,$A529,Экономия_корр!$M$15:$M$24,\"Экономия расходов с учетом ИПЦ\")","v":0},{"$f":"SUMIFS(Экономия_корр!P$15:P$24,Экономия_корр!$A$15:$A$24,$A529,Экономия_корр!$M$15:$M$24,\"Экономия расходов с учетом ИПЦ\")","v":0},{"$f":"SUMIFS(Экономия_корр!Q$15:Q$24,Экономия_корр!$A$15:$A$24,$A529,Экономия_корр!$M$15:$M$24,\"Экономия расходов с учетом ИПЦ\")","v":0},{"$f":"SUMIFS(Экономия_корр!R$15:R$24,Экономия_корр!$A$15:$A$24,$A529,Экономия_корр!$M$15:$M$24,\"Экономия расходов с учетом ИПЦ\")","v":0},{"$f":"SUMIFS(Экономия_корр!S$15:S$24,Экономия_корр!$A$15:$A$24,$A529,Экономия_корр!$M$15:$M$24,\"Экономия расходов с учетом ИПЦ\")","v":0},{"$f":"SUMIFS(Экономия_корр!T$15:T$24,Экономия_корр!$A$15:$A$24,$A529,Экономия_корр!$M$15:$M$24,\"Экономия расходов с учетом ИПЦ\")","v":0},{"$f":"SUMIFS(Экономия_корр!U$15:U$24,Экономия_корр!$A$15:$A$24,$A529,Экономия_корр!$M$15:$M$24,\"Экономия расходов с учетом ИПЦ\")","v":0},{"$f":"SUMIFS(Экономия_корр!V$15:V$24,Экономия_корр!$A$15:$A$24,$A529,Экономия_корр!$M$15:$M$24,\"Экономия расходов с учетом ИПЦ\")","v":0},{"$f":"SUMIFS(Экономия_корр!W$15:W$24,Экономия_корр!$A$15:$A$24,$A529,Экономия_корр!$M$15:$M$24,\"Экономия расходов с учетом ИПЦ\")","v":0},{"$f":"SUMIFS(Экономия_корр!X$15:X$24,Экономия_корр!$A$15:$A$24,$A529,Экономия_корр!$M$15:$M$24,\"Экономия расходов с учетом ИПЦ\")","v":0},{"$f":"SUMIFS(Экономия_корр!Y$15:Y$24,Экономия_корр!$A$15:$A$24,$A529,Экономия_корр!$M$15:$M$24,\"Экономия расходов с учетом ИПЦ\")","v":0},{"$f":"SUMIFS(Экономия_корр!Z$15:Z$24,Экономия_корр!$A$15:$A$24,$A529,Экономия_корр!$M$15:$M$24,\"Экономия расходов с учетом ИПЦ\")","v":0},{"$f":"SUMIFS(Экономия_корр!AA$15:AA$24,Экономия_корр!$A$15:$A$24,$A529,Экономия_корр!$M$15:$M$24,\"Экономия расходов с учетом ИПЦ\")","v":0},{"$f":"SUMIFS(Экономия_корр!AB$15:AB$24,Экономия_корр!$A$15:$A$24,$A529,Экономия_корр!$M$15:$M$24,\"Экономия расходов с учетом ИПЦ\")","v":0},{"$f":"SUMIFS(Экономия_корр!AC$15:AC$24,Экономия_корр!$A$15:$A$24,$A529,Экономия_корр!$M$15:$M$24,\"Экономия расходов с учетом ИПЦ\")","v":0},{"$f":"SUMIFS(Экономия_корр!AD$15:AD$24,Экономия_корр!$A$15:$A$24,$A529,Экономия_корр!$M$15:$M$24,\"Экономия расходов с учетом ИПЦ\")","v":0},{"$f":"SUMIFS(Экономия_корр!AE$15:AE$24,Экономия_корр!$A$15:$A$24,$A529,Экономия_корр!$M$15:$M$24,\"Экономия расходов с учетом ИПЦ\")","v":0},{"$f":"SUMIFS(Экономия_корр!AF$15:AF$24,Экономия_корр!$A$15:$A$24,$A529,Экономия_корр!$M$15:$M$24,\"Экономия расходов с учетом ИПЦ\")","v":0},{"$f":"SUMIFS(Экономия_корр!AG$15:AG$24,Экономия_корр!$A$15:$A$24,$A529,Экономия_корр!$M$15:$M$24,\"Экономия расходов с учетом ИПЦ\")","v":0},{"$f":"SUMIFS(Экономия_корр!AH$15:AH$24,Экономия_корр!$A$15:$A$24,$A529,Экономия_корр!$M$15:$M$24,\"Экономия расходов с учетом ИПЦ\")","v":0},0,0,0,0,0,0,0,0,0,0]
["1","Расходы на обслуживание бесхозяйных сетей",null,"L2_8",null,null,null,null,null,null,null,"2.8","Расходы на обслуживание бесхозяйных сетей","тыс.руб.",null,null,null,0,null,null,null,null,null,null,null,null,null,null,null,null,null,null,null,null,null,null,null,null,null,0,0,0,0,0,0,0,0,0,0]
["1","Расходы на компенсацию экономически обоснованных расходов",null,"L2_9",null,null,null,null,null,null,null,"2.9","Расходы на компенсацию экономически обоснованных расходов","тыс.руб.",null,null,null,0,null,null,null,null,null,null,null,null,null,null,null,null,null,null,null,null,null,null,null,null,null,0,0,0,0,0,0,0,0,0,0]
["1","Займы и кредиты (для метода индексации)",null,"L2_10",null,null,null,null,null,null,null,"2.10","Займы и кредиты (для метода индексации)","тыс.руб.",{"$f":"SUM(O533,O534)","v":0},{"$f":"SUM(P533,P534)","v":0},0,0,0,0,0,0,0,0,0,0,0,0,0,0,0,0,0,0,0,0,0,0,0,0,0,0,0,0,0,0,0,0,0]
["1",null,null,"L2_10_1",null,null,null,null,null,null,null,"2.10.1","возврат займов и кредитов","тыс.руб.",null,null,null,0,null,null,null,null,null,null,null,null,null,null,null,null,null,null,null,null,null,null,null,null,null,0,0,0,0,0,0,0,0,0,0]
["1",null,null,"L2_10_2",null,null,null,null,null,null,null,"2.10.2","проценты по займам и кредитам","тыс.руб.",null,null,null,0,null,null,null,null,null,null,null,null,null,null,null,null,null,null,null,null,null,null,null,null,null,0,0,0,0,0,0,0,0,0,0]
["1","Расходы концессионера на осуществление государственного кадастрового учета",null,"L2_11",null,null,null,null,null,null,null,"2.11","Расходы концессионера на осуществление государственного кадастрового учета и (или) государственной регистрации права собственности концедента","тыс.руб.",null,null,null,0,null,null,null,null,null,null,null,null,null,null,null,null,null,null,null,null,null,null,null,null,null,0,0,0,0,0,0,0,0,0,0]
["1","ээ",null,"L3",null,null,null,null,null,null,null,"3","Расходы на электрическую энергию","тыс.руб.",{"$f":"SUMIFS(ЭЭ!O$15:O$42,ЭЭ!$A$15:$A$42,$A536,ЭЭ!$M$15:$M$42,\"Всего по тарифу\")","v":24069.698136298401},{"$f":"SUMIFS(ЭЭ!P$15:P$42,ЭЭ!$A$15:$A$42,$A536,ЭЭ!$M$15:$M$42,\"Всего по тарифу\")","v":28218.17},{"$f":"SUMIFS(ЭЭ!Q$15:Q$42,ЭЭ!$A$15:$A$42,$A536,ЭЭ!$M$15:$M$42,\"Всего по тарифу\")","v":27768.501800674559},-449.66819932543876,{"$f":"SUMIFS(ЭЭ!R$15:R$42,ЭЭ!$A$15:$A$42,$A536,ЭЭ!$M$15:$M$42,\"Всего по тарифу\")","v":30427.110693369199},{"$f":"SUMIFS(ЭЭ!S$15:S$42,ЭЭ!$A$15:$A$42,$A536,ЭЭ!$M$15:$M$42,\"Всего по тарифу\")","v":32887.360000000001},{"$f":"SUMIFS(ЭЭ!T$15:T$42,ЭЭ!$A$15:$A$42,$A536,ЭЭ!$M$15:$M$42,\"Всего по тарифу\")","v":0},{"$f":"SUMIFS(ЭЭ!U$15:U$42,ЭЭ!$A$15:$A$42,$A536,ЭЭ!$M$15:$M$42,\"Всего по тарифу\")","v":0},{"$f":"SUMIFS(ЭЭ!V$15:V$42,ЭЭ!$A$15:$A$42,$A536,ЭЭ!$M$15:$M$42,\"Всего по тарифу\")","v":0},{"$f":"SUMIFS(ЭЭ!W$15:W$42,ЭЭ!$A$15:$A$42,$A536,ЭЭ!$M$15:$M$42,\"Всего по тарифу\")","v":0},{"$f":"SUMIFS(ЭЭ!X$15:X$42,ЭЭ!$A$15:$A$42,$A536,ЭЭ!$M$15:$M$42,\"Всего по тарифу\")","v":0},{"$f":"SUMIFS(ЭЭ!Y$15:Y$42,ЭЭ!$A$15:$A$42,$A536,ЭЭ!$M$15:$M$42,\"Всего по тарифу\")","v":0},{"$f":"SUMIFS(ЭЭ!Z$15:Z$42,ЭЭ!$A$15:$A$42,$A536,ЭЭ!$M$15:$M$42,\"Всего по тарифу\")","v":0},{"$f":"SUMIFS(ЭЭ!AA$15:AA$42,ЭЭ!$A$15:$A$42,$A536,ЭЭ!$M$15:$M$42,\"Всего по тарифу\")","v":0},{"$f":"SUMIFS(ЭЭ!AB$15:AB$42,ЭЭ!$A$15:$A$42,$A536,ЭЭ!$M$15:$M$42,\"Всего по тарифу\")","v":0},{"$f":"SUMIFS(ЭЭ!AC$15:AC$42,ЭЭ!$A$15:$A$42,$A536,ЭЭ!$M$15:$M$42,\"Всего по тарифу\")","v":31679.754014895945},{"$f":"SUMIFS(ЭЭ!AD$15:AD$42,ЭЭ!$A$15:$A$42,$A536,ЭЭ!$M$15:$M$42,\"Всего по тарифу\")","v":0},{"$f":"SUMIFS(ЭЭ!AE$15:AE$42,ЭЭ!$A$15:$A$42,$A536,ЭЭ!$M$15:$M$42,\"Всего по тарифу\")","v":0},{"$f":"SUMIFS(ЭЭ!AF$15:AF$42,ЭЭ!$A$15:$A$42,$A536,ЭЭ!$M$15:$M$42,\"Всего по тарифу\")","v":0},{"$f":"SUMIFS(ЭЭ!AG$15:AG$42,ЭЭ!$A$15:$A$42,$A536,ЭЭ!$M$15:$M$42,\"Всего по тарифу\")","v":0},{"$f":"SUMIFS(ЭЭ!AH$15:AH$42,ЭЭ!$A$15:$A$42,$A536,ЭЭ!$M$15:$M$42,\"Всего по тарифу\")","v":0},{"$f":"SUMIFS(ЭЭ!AI$15:AI$42,ЭЭ!$A$15:$A$42,$A536,ЭЭ!$M$15:$M$42,\"Всего по тарифу\")","v":0},{"$f":"SUMIFS(ЭЭ!AJ$15:AJ$42,ЭЭ!$A$15:$A$42,$A536,ЭЭ!$M$15:$M$42,\"Всего по тарифу\")","v":0},{"$f":"SUMIFS(ЭЭ!AK$15:AK$42,ЭЭ!$A$15:$A$42,$A536,ЭЭ!$M$15:$M$42,\"Всего по тарифу\")","v":0},{"$f":"SUMIFS(ЭЭ!AL$15:AL$42,ЭЭ!$A$15:$A$42,$A536,ЭЭ!$M$15:$M$42,\"Всего по тарифу\")","v":0},4.1168658245284107,-100,0,0,0,0,0,0,0,0]
["1","амортизация",null,"L4",null,null,null,null,null,null,null,"4","Амортизация основных средств и нематериальных активов, относимых к объектам централизованной системы водоснабжения (водоотведения)","тыс.руб.",{"$f":"SUMIFS(Амортизация!O$15:O$65,Амортизация!$A$15:$A$65,$A537,Амортизация!$M$15:$M$65,\"Сумма амортизационных отчислений\")","v":825.67000000000007},{"$f":"SUMIFS(Амортизация!P$15:P$65,Амортизация!$A$15:$A$65,$A537,Амортизация!$M$15:$M$65,\"Сумма амортизационных отчислений\")","v":1161.0118399999999},{"$f":"SUMIFS(Амортизация!Q$15:Q$65,Амортизация!$A$15:$A$65,$A537,Амортизация!$M$15:$M$65,\"Сумма амортизационных отчислений\")","v":812.64280666666673},-348.36903333333316,{"$f":"SUMIFS(Амортизация!R$15:R$65,Амортизация!$A$15:$A$65,$A537,Амортизация!$M$15:$M$65,\"Сумма амортизационных отчислений\")","v":862.61832000000004},{"$f":"SUMIFS(Амортизация!S$15:S$65,Амортизация!$A$15:$A$65,$A537,Амортизация!$M$15:$M$65,\"Сумма амортизационных отчислений\")","v":1539.84},{"$f":"SUMIFS(Амортизация!T$15:T$65,Амортизация!$A$15:$A$65,$A537,Амортизация!$M$15:$M$65,\"Сумма амортизационных отчислений\")","v":0},{"$f":"SUMIFS(Амортизация!U$15:U$65,Амортизация!$A$15:$A$65,$A537,Амортизация!$M$15:$M$65,\"Сумма амортизационных отчислений\")","v":0},{"$f":"SUMIFS(Амортизация!V$15:V$65,Амортизация!$A$15:$A$65,$A537,Амортизация!$M$15:$M$65,\"Сумма амортизационных отчислений\")","v":0},{"$f":"SUMIFS(Амортизация!W$15:W$65,Амортизация!$A$15:$A$65,$A537,Амортизация!$M$15:$M$65,\"Сумма амортизационных отчислений\")","v":0},{"$f":"SUMIFS(Амортизация!X$15:X$65,Амортизация!$A$15:$A$65,$A537,Амортизация!$M$15:$M$65,\"Сумма амортизационных отчислений\")","v":0},{"$f":"SUMIFS(Амортизация!Y$15:Y$65,Амортизация!$A$15:$A$65,$A537,Амортизация!$M$15:$M$65,\"Сумма амортизационных отчислений\")","v":0},{"$f":"SUMIFS(Амортизация!Z$15:Z$65,Амортизация!$A$15:$A$65,$A537,Амортизация!$M$15:$M$65,\"Сумма амортизационных отчислений\")","v":0},{"$f":"SUMIFS(Амортизация!AA$15:AA$65,Амортизация!$A$15:$A$65,$A537,Амортизация!$M$15:$M$65,\"Сумма амортизационных отчислений\")","v":0},{"$f":"SUMIFS(Амортизация!AB$15:AB$65,Амортизация!$A$15:$A$65,$A537,Амортизация!$M$15:$M$65,\"Сумма амортизационных отчислений\")","v":0},{"$f":"SUMIFS(Амортизация!AC$15:AC$65,Амортизация!$A$15:$A$65,$A537,Амортизация!$M$15:$M$65,\"Сумма амортизационных отчислений\")","v":796.08989666666639},{"$f":"SUMIFS(Амортизация!AD$15:AD$65,Амортизация!$A$15:$A$65,$A537,Амортизация!$M$15:$M$65,\"Сумма амортизационных отчислений\")","v":0},{"$f":"SUMIFS(Амортизация!AE$15:AE$65,Амортизация!$A$15:$A$65,$A537,Амортизация!$M$15:$M$65,\"Сумма амортизационных отчислений\")","v":0},{"$f":"SUMIFS(Амортизация!AF$15:AF$65,Амортизация!$A$15:$A$65,$A537,Амортизация!$M$15:$M$65,\"Сумма амортизационных отчислений\")","v":0},{"$f":"SUMIFS(Амортизация!AG$15:AG$65,Амортизация!$A$15:$A$65,$A537,Амортизация!$M$15:$M$65,\"Сумма амортизационных отчислений\")","v":0},{"$f":"SUMIFS(Амортизация!AH$15:AH$65,Амортизация!$A$15:$A$65,$A537,Амортизация!$M$15:$M$65,\"Сумма амортизационных отчислений\")","v":0},{"$f":"SUMIFS(Амортизация!AI$15:AI$65,Амортизация!$A$15:$A$65,$A537,Амортизация!$M$15:$M$65,\"Сумма амортизационных отчислений\")","v":0},{"$f":"SUMIFS(Амортизация!AJ$15:AJ$65,Амортизация!$A$15:$A$65,$A537,Амортизация!$M$15:$M$65,\"Сумма амортизационных отчислений\")","v":0},{"$f":"SUMIFS(Амортизация!AK$15:AK$65,Амортизация!$A$15:$A$65,$A537,Амортизация!$M$15:$M$65,\"Сумма амортизационных отчислений\")","v":0},{"$f":"SUMIFS(Амортизация!AL$15:AL$65,Амортизация!$A$15:$A$65,$A537,Амортизация!$M$15:$M$65,\"Сумма амортизационных отчислений\")","v":0},-7.7123823817390802,-100,0,0,0,0,0,0,0,0]
["1",null,null,"L4_1",null,null,null,null,null,null,null,"4.1","в том числе инвестиционная (справочно)","тыс.руб.",{"$f":"SUMIFS('ИП + источники'!P$17:P$65,'ИП + источники'!$A$17:$A$65,$A538,'ИП + источники'!$M$17:$M$65,\"Амортизационные отчисления\")+SUMIFS('ИП + источники'!P$17:P$65,'ИП + источники'!$A$17:$A$65,$A538,'ИП + источники'!$M$17:$M$65,\"погашение займов и кредитов из амортизации\")","v":438.13427999999999},{"$f":"SUMIFS('ИП + источники'!Q$17:Q$65,'ИП + источники'!$A$17:$A$65,$A538,'ИП + источники'!$M$17:$M$65,\"Амортизационные отчисления\")+SUMIFS('ИП + источники'!Q$17:Q$65,'ИП + источники'!$A$17:$A$65,$A538,'ИП + источники'!$M$17:$M$65,\"погашение займов и кредитов из амортизации\")","v":0},{"$f":"SUMIFS('ИП + источники'!R$17:R$65,'ИП + источники'!$A$17:$A$65,$A538,'ИП + источники'!$M$17:$M$65,\"Амортизационные отчисления\")+SUMIFS('ИП + источники'!R$17:R$65,'ИП + источники'!$A$17:$A$65,$A538,'ИП + источники'!$M$17:$M$65,\"погашение займов и кредитов из амортизации\")","v":0},0,{"$f":"SUMIFS('ИП + источники'!T$17:T$65,'ИП + источники'!$A$17:$A$65,$A538,'ИП + источники'!$M$17:$M$65,\"Амортизационные отчисления\")+SUMIFS('ИП + источники'!T$17:T$65,'ИП + источники'!$A$17:$A$65,$A538,'ИП + источники'!$M$17:$M$65,\"погашение займов и кредитов из амортизации\")","v":443.44},{"$f":"SUMIFS('ИП + источники'!U$17:U$65,'ИП + источники'!$A$17:$A$65,$A538,'ИП + источники'!$M$17:$M$65,\"Амортизационные отчисления\")+SUMIFS('ИП + источники'!U$17:U$65,'ИП + источники'!$A$17:$A$65,$A538,'ИП + источники'!$M$17:$M$65,\"погашение займов и кредитов из амортизации\")","v":930.37},{"$f":"SUMIFS('ИП + источники'!V$17:V$65,'ИП + источники'!$A$17:$A$65,$A538,'ИП + источники'!$M$17:$M$65,\"Амортизационные отчисления\")+SUMIFS('ИП + источники'!V$17:V$65,'ИП + источники'!$A$17:$A$65,$A538,'ИП + источники'!$M$17:$M$65,\"погашение займов и кредитов из амортизации\")","v":0},{"$f":"SUMIFS('ИП + источники'!W$17:W$65,'ИП + источники'!$A$17:$A$65,$A538,'ИП + источники'!$M$17:$M$65,\"Амортизационные отчисления\")+SUMIFS('ИП + источники'!W$17:W$65,'ИП + источники'!$A$17:$A$65,$A538,'ИП + источники'!$M$17:$M$65,\"погашение займов и кредитов из амортизации\")","v":0},{"$f":"SUMIFS('ИП + источники'!X$17:X$65,'ИП + источники'!$A$17:$A$65,$A538,'ИП + источники'!$M$17:$M$65,\"Амортизационные отчисления\")+SUMIFS('ИП + источники'!X$17:X$65,'ИП + источники'!$A$17:$A$65,$A538,'ИП + источники'!$M$17:$M$65,\"погашение займов и кредитов из амортизации\")","v":0},{"$f":"SUMIFS('ИП + источники'!Y$17:Y$65,'ИП + источники'!$A$17:$A$65,$A538,'ИП + источники'!$M$17:$M$65,\"Амортизационные отчисления\")+SUMIFS('ИП + источники'!Y$17:Y$65,'ИП + источники'!$A$17:$A$65,$A538,'ИП + источники'!$M$17:$M$65,\"погашение займов и кредитов из амортизации\")","v":0},{"$f":"SUMIFS('ИП + источники'!Z$17:Z$65,'ИП + источники'!$A$17:$A$65,$A538,'ИП + источники'!$M$17:$M$65,\"Амортизационные отчисления\")+SUMIFS('ИП + источники'!Z$17:Z$65,'ИП + источники'!$A$17:$A$65,$A538,'ИП + источники'!$M$17:$M$65,\"погашение займов и кредитов из амортизации\")","v":0},{"$f":"SUMIFS('ИП + источники'!AA$17:AA$65,'ИП + источники'!$A$17:$A$65,$A538,'ИП + источники'!$M$17:$M$65,\"Амортизационные отчисления\")+SUMIFS('ИП + источники'!AA$17:AA$65,'ИП + источники'!$A$17:$A$65,$A538,'ИП + источники'!$M$17:$M$65,\"погашение займов и кредитов из амортизации\")","v":0},{"$f":"SUMIFS('ИП + источники'!AB$17:AB$65,'ИП + источники'!$A$17:$A$65,$A538,'ИП + источники'!$M$17:$M$65,\"Амортизационные отчисления\")+SUMIFS('ИП + источники'!AB$17:AB$65,'ИП + источники'!$A$17:$A$65,$A538,'ИП + источники'!$M$17:$M$65,\"погашение займов и кредитов из амортизации\")","v":0},{"$f":"SUMIFS('ИП + источники'!AC$17:AC$65,'ИП + источники'!$A$17:$A$65,$A538,'ИП + источники'!$M$17:$M$65,\"Амортизационные отчисления\")+SUMIFS('ИП + источники'!AC$17:AC$65,'ИП + источники'!$A$17:$A$65,$A538,'ИП + источники'!$M$17:$M$65,\"погашение займов и кредитов из амортизации\")","v":0},{"$f":"SUMIFS('ИП + источники'!AD$17:AD$65,'ИП + источники'!$A$17:$A$65,$A538,'ИП + источники'!$M$17:$M$65,\"Амортизационные отчисления\")+SUMIFS('ИП + источники'!AD$17:AD$65,'ИП + источники'!$A$17:$A$65,$A538,'ИП + источники'!$M$17:$M$65,\"погашение займов и кредитов из амортизации\")","v":0},{"$f":"SUMIFS('ИП + источники'!AE$17:AE$65,'ИП + источники'!$A$17:$A$65,$A538,'ИП + источники'!$M$17:$M$65,\"Амортизационные отчисления\")+SUMIFS('ИП + источники'!AE$17:AE$65,'ИП + источники'!$A$17:$A$65,$A538,'ИП + источники'!$M$17:$M$65,\"погашение займов и кредитов из амортизации\")","v":438.13427999999999},{"$f":"SUMIFS('ИП + источники'!AF$17:AF$65,'ИП + источники'!$A$17:$A$65,$A538,'ИП + источники'!$M$17:$M$65,\"Амортизационные отчисления\")+SUMIFS('ИП + источники'!AF$17:AF$65,'ИП + источники'!$A$17:$A$65,$A538,'ИП + источники'!$M$17:$M$65,\"погашение займов и кредитов из амортизации\")","v":0},{"$f":"SUMIFS('ИП + источники'!AG$17:AG$65,'ИП + источники'!$A$17:$A$65,$A538,'ИП + источники'!$M$17:$M$65,\"Амортизационные отчисления\")+SUMIFS('ИП + источники'!AG$17:AG$65,'ИП + источники'!$A$17:$A$65,$A538,'ИП + источники'!$M$17:$M$65,\"погашение займов и кредитов из амортизации\")","v":0},{"$f":"SUMIFS('ИП + источники'!AH$17:AH$65,'ИП + источники'!$A$17:$A$65,$A538,'ИП + источники'!$M$17:$M$65,\"Амортизационные отчисления\")+SUMIFS('ИП + источники'!AH$17:AH$65,'ИП + источники'!$A$17:$A$65,$A538,'ИП + источники'!$M$17:$M$65,\"погашение займов и кредитов из амортизации\")","v":0},{"$f":"SUMIFS('ИП + источники'!AI$17:AI$65,'ИП + источники'!$A$17:$A$65,$A538,'ИП + источники'!$M$17:$M$65,\"Амортизационные отчисления\")+SUMIFS('ИП + источники'!AI$17:AI$65,'ИП + источники'!$A$17:$A$65,$A538,'ИП + источники'!$M$17:$M$65,\"погашение займов и кредитов из амортизации\")","v":0},{"$f":"SUMIFS('ИП + источники'!AJ$17:AJ$65,'ИП + источники'!$A$17:$A$65,$A538,'ИП + источники'!$M$17:$M$65,\"Амортизационные отчисления\")+SUMIFS('ИП + источники'!AJ$17:AJ$65,'ИП + источники'!$A$17:$A$65,$A538,'ИП + источники'!$M$17:$M$65,\"погашение займов и кредитов из амортизации\")","v":0},{"$f":"SUMIFS('ИП + источники'!AK$17:AK$65,'ИП + источники'!$A$17:$A$65,$A538,'ИП + источники'!$M$17:$M$65,\"Амортизационные отчисления\")+SUMIFS('ИП + источники'!AK$17:AK$65,'ИП + источники'!$A$17:$A$65,$A538,'ИП + источники'!$M$17:$M$65,\"погашение займов и кредитов из амортизации\")","v":0},{"$f":"SUMIFS('ИП + источники'!AL$17:AL$65,'ИП + источники'!$A$17:$A$65,$A538,'ИП + источники'!$M$17:$M$65,\"Амортизационные отчисления\")+SUMIFS('ИП + источники'!AL$17:AL$65,'ИП + источники'!$A$17:$A$65,$A538,'ИП + источники'!$M$17:$M$65,\"погашение займов и кредитов из амортизации\")","v":0},{"$f":"SUMIFS('ИП + источники'!AM$17:AM$65,'ИП + источники'!$A$17:$A$65,$A538,'ИП + источники'!$M$17:$M$65,\"Амортизационные отчисления\")+SUMIFS('ИП + источники'!AM$17:AM$65,'ИП + источники'!$A$17:$A$65,$A538,'ИП + источники'!$M$17:$M$65,\"погашение займов и кредитов из амортизации\")","v":0},{"$f":"SUMIFS('ИП + источники'!AN$17:AN$65,'ИП + источники'!$A$17:$A$65,$A538,'ИП + источники'!$M$17:$M$65,\"Амортизационные отчисления\")+SUMIFS('ИП + источники'!AN$17:AN$65,'ИП + источники'!$A$17:$A$65,$A538,'ИП + источники'!$M$17:$M$65,\"погашение займов и кредитов из амортизации\")","v":0},-1.19649106981779,-100,0,0,0,0,0,0,0,0]
["1","Нормативная прибыль",null,"L5",null,null,null,null,null,null,null,"5","Нормативная прибыль","тыс.руб.",{"$f":"O540+O541+O542+O543","v":0},{"$f":"P540+P541+P542+P543","v":0},0,0,0,0,0,0,0,0,0,0,0,0,0,0,0,0,0,0,0,0,0,0,0,0,0,0,0,0,0,0,0,0,0]
["1",null,null,"L5_1",null,null,null,null,null,null,null,"5.1","средства на возврат инвестиционных займов","тыс.руб.",{"$f":"SUMIFS('ИП + источники'!P$17:P$65,'ИП + источники'!$A$17:$A$65,$A540,'ИП + источники'!$M$17:$M$65,\"погашение займов и кредитов из нормативной прибыли\")","v":0},{"$f":"SUMIFS('ИП + источники'!Q$17:Q$65,'ИП + источники'!$A$17:$A$65,$A540,'ИП + источники'!$M$17:$M$65,\"погашение займов и кредитов из нормативной прибыли\")","v":0},{"$f":"SUMIFS('ИП + источники'!R$17:R$65,'ИП + источники'!$A$17:$A$65,$A540,'ИП + источники'!$M$17:$M$65,\"погашение займов и кредитов из нормативной прибыли\")","v":0},0,{"$f":"SUMIFS('ИП + источники'!T$17:T$65,'ИП + источники'!$A$17:$A$65,$A540,'ИП + источники'!$M$17:$M$65,\"погашение займов и кредитов из нормативной прибыли\")","v":0},{"$f":"SUMIFS('ИП + источники'!U$17:U$65,'ИП + источники'!$A$17:$A$65,$A540,'ИП + источники'!$M$17:$M$65,\"погашение займов и кредитов из нормативной прибыли\")","v":0},{"$f":"SUMIFS('ИП + источники'!V$17:V$65,'ИП + источники'!$A$17:$A$65,$A540,'ИП + источники'!$M$17:$M$65,\"погашение займов и кредитов из нормативной прибыли\")","v":0},{"$f":"SUMIFS('ИП + источники'!W$17:W$65,'ИП + источники'!$A$17:$A$65,$A540,'ИП + источники'!$M$17:$M$65,\"погашение займов и кредитов из нормативной прибыли\")","v":0},{"$f":"SUMIFS('ИП + источники'!X$17:X$65,'ИП + источники'!$A$17:$A$65,$A540,'ИП + источники'!$M$17:$M$65,\"погашение займов и кредитов из нормативной прибыли\")","v":0},{"$f":"SUMIFS('ИП + источники'!Y$17:Y$65,'ИП + источники'!$A$17:$A$65,$A540,'ИП + источники'!$M$17:$M$65,\"погашение займов и кредитов из нормативной прибыли\")","v":0},{"$f":"SUMIFS('ИП + источники'!Z$17:Z$65,'ИП + источники'!$A$17:$A$65,$A540,'ИП + источники'!$M$17:$M$65,\"погашение займов и кредитов из нормативной прибыли\")","v":0},{"$f":"SUMIFS('ИП + источники'!AA$17:AA$65,'ИП + источники'!$A$17:$A$65,$A540,'ИП + источники'!$M$17:$M$65,\"погашение займов и кредитов из нормативной прибыли\")","v":0},{"$f":"SUMIFS('ИП + источники'!AB$17:AB$65,'ИП + источники'!$A$17:$A$65,$A540,'ИП + источники'!$M$17:$M$65,\"погашение займов и кредитов из нормативной прибыли\")","v":0},{"$f":"SUMIFS('ИП + источники'!AC$17:AC$65,'ИП + источники'!$A$17:$A$65,$A540,'ИП + источники'!$M$17:$M$65,\"погашение займов и кредитов из нормативной прибыли\")","v":0},{"$f":"SUMIFS('ИП + источники'!AD$17:AD$65,'ИП + источники'!$A$17:$A$65,$A540,'ИП + источники'!$M$17:$M$65,\"погашение займов и кредитов из нормативной прибыли\")","v":0},{"$f":"SUMIFS('ИП + источники'!AE$17:AE$65,'ИП + источники'!$A$17:$A$65,$A540,'ИП + источники'!$M$17:$M$65,\"погашение займов и кредитов из нормативной прибыли\")","v":0},{"$f":"SUMIFS('ИП + источники'!AF$17:AF$65,'ИП + источники'!$A$17:$A$65,$A540,'ИП + источники'!$M$17:$M$65,\"погашение займов и кредитов из нормативной прибыли\")","v":0},{"$f":"SUMIFS('ИП + источники'!AG$17:AG$65,'ИП + источники'!$A$17:$A$65,$A540,'ИП + источники'!$M$17:$M$65,\"погашение займов и кредитов из нормативной прибыли\")","v":0},{"$f":"SUMIFS('ИП + источники'!AH$17:AH$65,'ИП + источники'!$A$17:$A$65,$A540,'ИП + источники'!$M$17:$M$65,\"погашение займов и кредитов из нормативной прибыли\")","v":0},{"$f":"SUMIFS('ИП + источники'!AI$17:AI$65,'ИП + источники'!$A$17:$A$65,$A540,'ИП + источники'!$M$17:$M$65,\"погашение займов и кредитов из нормативной прибыли\")","v":0},{"$f":"SUMIFS('ИП + источники'!AJ$17:AJ$65,'ИП + источники'!$A$17:$A$65,$A540,'ИП + источники'!$M$17:$M$65,\"погашение займов и кредитов из нормативной прибыли\")","v":0},{"$f":"SUMIFS('ИП + источники'!AK$17:AK$65,'ИП + источники'!$A$17:$A$65,$A540,'ИП + источники'!$M$17:$M$65,\"погашение займов и кредитов из нормативной прибыли\")","v":0},{"$f":"SUMIFS('ИП + источники'!AL$17:AL$65,'ИП + источники'!$A$17:$A$65,$A540,'ИП + источники'!$M$17:$M$65,\"погашение займов и кредитов из нормативной прибыли\")","v":0},{"$f":"SUMIFS('ИП + источники'!AM$17:AM$65,'ИП + источники'!$A$17:$A$65,$A540,'ИП + источники'!$M$17:$M$65,\"погашение займов и кредитов из нормативной прибыли\")","v":0},{"$f":"SUMIFS('ИП + источники'!AN$17:AN$65,'ИП + источники'!$A$17:$A$65,$A540,'ИП + источники'!$M$17:$M$65,\"погашение займов и кредитов из нормативной прибыли\")","v":0},0,0,0,0,0,0,0,0,0,0]
["1",null,null,"L5_2",null,null,null,null,null,null,null,"5.2","средства на уплату процентов по инвестиционным займам","тыс.руб.",{"$f":"SUMIFS('ИП + источники'!P$17:P$65,'ИП + источники'!$A$17:$A$65,$A541,'ИП + источники'!$M$17:$M$65,\"уплата процентов по кредитам из нормативной прибыли\")","v":0},{"$f":"SUMIFS('ИП + источники'!Q$17:Q$65,'ИП + источники'!$A$17:$A$65,$A541,'ИП + источники'!$M$17:$M$65,\"уплата процентов по кредитам из нормативной прибыли\")","v":0},{"$f":"SUMIFS('ИП + источники'!R$17:R$65,'ИП + источники'!$A$17:$A$65,$A541,'ИП + источники'!$M$17:$M$65,\"уплата процентов по кредитам из нормативной прибыли\")","v":0},0,{"$f":"SUMIFS('ИП + источники'!T$17:T$65,'ИП + источники'!$A$17:$A$65,$A541,'ИП + источники'!$M$17:$M$65,\"уплата процентов по кредитам из нормативной прибыли\")","v":0},{"$f":"SUMIFS('ИП + источники'!U$17:U$65,'ИП + источники'!$A$17:$A$65,$A541,'ИП + источники'!$M$17:$M$65,\"уплата процентов по кредитам из нормативной прибыли\")","v":0},{"$f":"SUMIFS('ИП + источники'!V$17:V$65,'ИП + источники'!$A$17:$A$65,$A541,'ИП + источники'!$M$17:$M$65,\"уплата процентов по кредитам из нормативной прибыли\")","v":0},{"$f":"SUMIFS('ИП + источники'!W$17:W$65,'ИП + источники'!$A$17:$A$65,$A541,'ИП + источники'!$M$17:$M$65,\"уплата процентов по кредитам из нормативной прибыли\")","v":0},{"$f":"SUMIFS('ИП + источники'!X$17:X$65,'ИП + источники'!$A$17:$A$65,$A541,'ИП + источники'!$M$17:$M$65,\"уплата процентов по кредитам из нормативной прибыли\")","v":0},{"$f":"SUMIFS('ИП + источники'!Y$17:Y$65,'ИП + источники'!$A$17:$A$65,$A541,'ИП + источники'!$M$17:$M$65,\"уплата процентов по кредитам из нормативной прибыли\")","v":0},{"$f":"SUMIFS('ИП + источники'!Z$17:Z$65,'ИП + источники'!$A$17:$A$65,$A541,'ИП + источники'!$M$17:$M$65,\"уплата процентов по кредитам из нормативной прибыли\")","v":0},{"$f":"SUMIFS('ИП + источники'!AA$17:AA$65,'ИП + источники'!$A$17:$A$65,$A541,'ИП + источники'!$M$17:$M$65,\"уплата процентов по кредитам из нормативной прибыли\")","v":0},{"$f":"SUMIFS('ИП + источники'!AB$17:AB$65,'ИП + источники'!$A$17:$A$65,$A541,'ИП + источники'!$M$17:$M$65,\"уплата процентов по кредитам из нормативной прибыли\")","v":0},{"$f":"SUMIFS('ИП + источники'!AC$17:AC$65,'ИП + источники'!$A$17:$A$65,$A541,'ИП + источники'!$M$17:$M$65,\"уплата процентов по кредитам из нормативной прибыли\")","v":0},{"$f":"SUMIFS('ИП + источники'!AD$17:AD$65,'ИП + источники'!$A$17:$A$65,$A541,'ИП + источники'!$M$17:$M$65,\"уплата процентов по кредитам из нормативной прибыли\")","v":0},{"$f":"SUMIFS('ИП + источники'!AE$17:AE$65,'ИП + источники'!$A$17:$A$65,$A541,'ИП + источники'!$M$17:$M$65,\"уплата процентов по кредитам из нормативной прибыли\")","v":0},{"$f":"SUMIFS('ИП + источники'!AF$17:AF$65,'ИП + источники'!$A$17:$A$65,$A541,'ИП + источники'!$M$17:$M$65,\"уплата процентов по кредитам из нормативной прибыли\")","v":0},{"$f":"SUMIFS('ИП + источники'!AG$17:AG$65,'ИП + источники'!$A$17:$A$65,$A541,'ИП + источники'!$M$17:$M$65,\"уплата процентов по кредитам из нормативной прибыли\")","v":0},{"$f":"SUMIFS('ИП + источники'!AH$17:AH$65,'ИП + источники'!$A$17:$A$65,$A541,'ИП + источники'!$M$17:$M$65,\"уплата процентов по кредитам из нормативной прибыли\")","v":0},{"$f":"SUMIFS('ИП + источники'!AI$17:AI$65,'ИП + источники'!$A$17:$A$65,$A541,'ИП + источники'!$M$17:$M$65,\"уплата процентов по кредитам из нормативной прибыли\")","v":0},{"$f":"SUMIFS('ИП + источники'!AJ$17:AJ$65,'ИП + источники'!$A$17:$A$65,$A541,'ИП + источники'!$M$17:$M$65,\"уплата процентов по кредитам из нормативной прибыли\")","v":0},{"$f":"SUMIFS('ИП + источники'!AK$17:AK$65,'ИП + источники'!$A$17:$A$65,$A541,'ИП + источники'!$M$17:$M$65,\"уплата процентов по кредитам из нормативной прибыли\")","v":0},{"$f":"SUMIFS('ИП + источники'!AL$17:AL$65,'ИП + источники'!$A$17:$A$65,$A541,'ИП + источники'!$M$17:$M$65,\"уплата процентов по кредитам из нормативной прибыли\")","v":0},{"$f":"SUMIFS('ИП + источники'!AM$17:AM$65,'ИП + источники'!$A$17:$A$65,$A541,'ИП + источники'!$M$17:$M$65,\"уплата процентов по кредитам из нормативной прибыли\")","v":0},{"$f":"SUMIFS('ИП + источники'!AN$17:AN$65,'ИП + источники'!$A$17:$A$65,$A541,'ИП + источники'!$M$17:$M$65,\"уплата процентов по кредитам из нормативной прибыли\")","v":0},0,0,0,0,0,0,0,0,0,0]
["1",null,null,"L5_3",null,null,null,null,null,null,null,"5.3","капитальные расходы","тыс.руб.",{"$f":"SUMIFS('ИП + источники'!P$17:P$65,'ИП + источники'!$A$17:$A$65,$A542,'ИП + источники'!$M$17:$M$65,\"Прибыль на капвложения\")","v":0},{"$f":"SUMIFS('ИП + источники'!Q$17:Q$65,'ИП + источники'!$A$17:$A$65,$A542,'ИП + источники'!$M$17:$M$65,\"Прибыль на капвложения\")","v":0},{"$f":"SUMIFS('ИП + источники'!R$17:R$65,'ИП + источники'!$A$17:$A$65,$A542,'ИП + источники'!$M$17:$M$65,\"Прибыль на капвложения\")","v":0},0,{"$f":"SUMIFS('ИП + источники'!T$17:T$65,'ИП + источники'!$A$17:$A$65,$A542,'ИП + источники'!$M$17:$M$65,\"Прибыль на капвложения\")","v":0},{"$f":"SUMIFS('ИП + источники'!U$17:U$65,'ИП + источники'!$A$17:$A$65,$A542,'ИП + источники'!$M$17:$M$65,\"Прибыль на капвложения\")","v":0},{"$f":"SUMIFS('ИП + источники'!V$17:V$65,'ИП + источники'!$A$17:$A$65,$A542,'ИП + источники'!$M$17:$M$65,\"Прибыль на капвложения\")","v":0},{"$f":"SUMIFS('ИП + источники'!W$17:W$65,'ИП + источники'!$A$17:$A$65,$A542,'ИП + источники'!$M$17:$M$65,\"Прибыль на капвложения\")","v":0},{"$f":"SUMIFS('ИП + источники'!X$17:X$65,'ИП + источники'!$A$17:$A$65,$A542,'ИП + источники'!$M$17:$M$65,\"Прибыль на капвложения\")","v":0},{"$f":"SUMIFS('ИП + источники'!Y$17:Y$65,'ИП + источники'!$A$17:$A$65,$A542,'ИП + источники'!$M$17:$M$65,\"Прибыль на капвложения\")","v":0},{"$f":"SUMIFS('ИП + источники'!Z$17:Z$65,'ИП + источники'!$A$17:$A$65,$A542,'ИП + источники'!$M$17:$M$65,\"Прибыль на капвложения\")","v":0},{"$f":"SUMIFS('ИП + источники'!AA$17:AA$65,'ИП + источники'!$A$17:$A$65,$A542,'ИП + источники'!$M$17:$M$65,\"Прибыль на капвложения\")","v":0},{"$f":"SUMIFS('ИП + источники'!AB$17:AB$65,'ИП + источники'!$A$17:$A$65,$A542,'ИП + источники'!$M$17:$M$65,\"Прибыль на капвложения\")","v":0},{"$f":"SUMIFS('ИП + источники'!AC$17:AC$65,'ИП + источники'!$A$17:$A$65,$A542,'ИП + источники'!$M$17:$M$65,\"Прибыль на капвложения\")","v":0},{"$f":"SUMIFS('ИП + источники'!AD$17:AD$65,'ИП + источники'!$A$17:$A$65,$A542,'ИП + источники'!$M$17:$M$65,\"Прибыль на капвложения\")","v":0},{"$f":"SUMIFS('ИП + источники'!AE$17:AE$65,'ИП + источники'!$A$17:$A$65,$A542,'ИП + источники'!$M$17:$M$65,\"Прибыль на капвложения\")","v":0},{"$f":"SUMIFS('ИП + источники'!AF$17:AF$65,'ИП + источники'!$A$17:$A$65,$A542,'ИП + источники'!$M$17:$M$65,\"Прибыль на капвложения\")","v":0},{"$f":"SUMIFS('ИП + источники'!AG$17:AG$65,'ИП + источники'!$A$17:$A$65,$A542,'ИП + источники'!$M$17:$M$65,\"Прибыль на капвложения\")","v":0},{"$f":"SUMIFS('ИП + источники'!AH$17:AH$65,'ИП + источники'!$A$17:$A$65,$A542,'ИП + источники'!$M$17:$M$65,\"Прибыль на капвложения\")","v":0},{"$f":"SUMIFS('ИП + источники'!AI$17:AI$65,'ИП + источники'!$A$17:$A$65,$A542,'ИП + источники'!$M$17:$M$65,\"Прибыль на капвложения\")","v":0},{"$f":"SUMIFS('ИП + источники'!AJ$17:AJ$65,'ИП + источники'!$A$17:$A$65,$A542,'ИП + источники'!$M$17:$M$65,\"Прибыль на капвложения\")","v":0},{"$f":"SUMIFS('ИП + источники'!AK$17:AK$65,'ИП + источники'!$A$17:$A$65,$A542,'ИП + источники'!$M$17:$M$65,\"Прибыль на капвложения\")","v":0},{"$f":"SUMIFS('ИП + источники'!AL$17:AL$65,'ИП + источники'!$A$17:$A$65,$A542,'ИП + источники'!$M$17:$M$65,\"Прибыль на капвложения\")","v":0},{"$f":"SUMIFS('ИП + источники'!AM$17:AM$65,'ИП + источники'!$A$17:$A$65,$A542,'ИП + источники'!$M$17:$M$65,\"Прибыль на капвложения\")","v":0},{"$f":"SUMIFS('ИП + источники'!AN$17:AN$65,'ИП + источники'!$A$17:$A$65,$A542,'ИП + источники'!$M$17:$M$65,\"Прибыль на капвложения\")","v":0},0,0,0,0,0,0,0,0,0,0]
["1","иные экономически обоснованные расходы на социальные нужды",null,"L5_4",null,null,null,null,null,null,null,"5.4","иные экономически обоснованные расходы на социальные нужды в соответствии с пунктом 86 настоящих Методических указаний","тыс.руб.",null,null,null,0,null,null,null,null,null,null,null,null,null,null,null,null,null,null,null,null,null,null,null,null,null,0,0,0,0,0,0,0,0,0,0]
["1","Расчетная предпринимательская прибыль гарантирующей организации",null,"L6",null,null,null,null,null,null,null,"6","Расчетная предпринимательская прибыль гарантирующей организации","тыс.руб.",null,null,null,0,null,null,null,null,null,null,null,null,null,null,null,null,null,null,null,null,null,null,null,null,null,0,0,0,0,0,0,0,0,0,0]
["1","L11",null,"L7_0",null,null,null,null,null,null,null,"7","Корректировка НВВ всего","тыс.руб.",null,null,null,0,null,{"$f":"SUMIFS('Корректировка НВВ'!$P$15:$P$60,'Корректировка НВВ'!$A$15:$A$60,$A545,'Корректировка НВВ'!$D$15:$D$60,$B545)","v":-2088.6767299999965},null,null,null,null,null,null,null,null,null,{"$f":"SUMIFS('Корректировка НВВ'!$Q$15:$Q$60,'Корректировка НВВ'!$A$15:$A$60,$A545,'Корректировка НВВ'!$D$15:$D$60,$B545)","v":-15381.674749252519},null,null,null,null,null,null,null,null,null,0,-100,{"$f":"IF(AE545=0,0,(AF545-AE545)/AE545*100)","v":0},0,0,0,0,0,0,0]
["1",null,null,null,null,null,null,null,null,null,null,null,"Справочно в том числе:"]
["1","L3",null,"L7",null,null,null,null,null,null,null,"7.1","Ввод объектов системы водоснабжения и (или) водоотведения в эксплуатацию и изменение утверждённой инвестиционной программы","тыс.руб.",null,null,null,0,null,{"$f":"SUMIFS('Корректировка НВВ'!$P$15:$P$60,'Корректировка НВВ'!$A$15:$A$60,$A547,'Корректировка НВВ'!$D$15:$D$60,$B547)","v":0},null,null,null,null,null,null,null,null,null,{"$f":"SUMIFS('Корректировка НВВ'!$Q$15:$Q$60,'Корректировка НВВ'!$A$15:$A$60,$A547,'Корректировка НВВ'!$D$15:$D$60,$B547)","v":0}]
["1","L4",null,"L8",null,null,null,null,null,null,null,"7.2","Степень исполнения регулируемой организацией обязательств по созданию и (или) реконструкции объектов концессионного соглашения, по эксплуатации объектов по договору аренды централизованных систем горячего водоснабжения, холодного водоснабжения и (или) водоотведения, отдельных объектов таких систем, находящихся в государственной или муниципальной собственности, по реализации инвестиционной программы, производственной программы при недостижении регулируемой организацией утверждённых плановых значений показателей надежности и качества объектов централизованных систем водоснабжения и (или) водоотведения","тыс.руб.",null,null,null,0,null,{"$f":"SUMIFS('Корректировка НВВ'!$P$15:$P$60,'Корректировка НВВ'!$A$15:$A$60,$A548,'Корректировка НВВ'!$D$15:$D$60,$B548)","v":0},null,null,null,null,null,null,null,null,null,{"$f":"SUMIFS('Корректировка НВВ'!$Q$15:$Q$60,'Корректировка НВВ'!$A$15:$A$60,$A548,'Корректировка НВВ'!$D$15:$D$60,$B548)","v":-4684.2341692320015}]
["1",null,null,"L9",null,null,null,null,null,null,null,"7.3","Размер корректировки НВВ по результатам деятельности прошлых периодов регулирования, а также осуществляемой с целью учета отклонения фактических значений параметров расчета тарифов от значений, учтенных при установлении тарифов","тыс.руб.",null,null,null,0,null,{"$f":"SUMIFS('Корректировка НВВ'!$P$15:$P$60,'Корректировка НВВ'!$A$15:$A$60,$A549,'Корректировка НВВ'!$D$15:$D$60,\"L1\")+SUMIFS('Корректировка НВВ'!$P$15:$P$60,'Корректировка НВВ'!$A$15:$A$60,$A549,'Корректировка НВВ'!$D$15:$D$60,\"L2\")","v":-5261.772729999997},null,null,null,null,null,null,null,null,null,{"$f":"SUMIFS('Корректировка НВВ'!$Q$15:$Q$60,'Корректировка НВВ'!$A$15:$A$60,$A549,'Корректировка НВВ'!$D$15:$D$60,\"L1\")+SUMIFS('Корректировка НВВ'!$Q$15:$Q$60,'Корректировка НВВ'!$A$15:$A$60,$A549,'Корректировка НВВ'!$D$15:$D$60,\"L2\")","v":-6855.7680750205182}]
["1","L5",{"$f":"D451=\"Водоотведение\"","v":true},"L12",null,null,null,null,null,null,null,"7.4","Доходы от взимания платы за нарушение нормативов по объёму и (или) составу сточных вод, за исключением направленных целевым образом на внесение платы за негативное воздействие на окружающую среду, компенсацию вреда, причиненного водному объекту, и финансирование мероприятий инвестиционной программы по строительству, реконструкции и модернизации объектов централизованной системы водоотведения (в соответствии с пунктом 26(1) Основ ценообразования в сфере водоснабжения и водоотведения)","тыс.руб.",null,null,null,0,null,{"$f":"SUMIFS('Корректировка НВВ'!$P$15:$P$60,'Корректировка НВВ'!$A$15:$A$60,$A550,'Корректировка НВВ'!$D$15:$D$60,$B550)","v":4513.2930000000006},null,null,null,null,null,null,null,null,null,{"$f":"SUMIFS('Корректировка НВВ'!$Q$15:$Q$60,'Корректировка НВВ'!$A$15:$A$60,$A550,'Корректировка НВВ'!$D$15:$D$60,$B550)","v":-3531.9325254894657}]
["1","L6",{"$f":"D451=\"Водоотведение\"","v":true},"L13",null,null,null,null,null,null,null,"7.5","Доходы от взимания платы за негативное воздействие на централизован-ную систему водоотведения, за исключением направленных целевым образом на финансирование мероприятий инвестиционной и (или) производственной программы организации (в соответствии с пунктом 26(1) Основ ценообразования в сфере водоснабжения и водоотведения)","тыс.руб.",null,null,null,0,null,{"$f":"SUMIFS('Корректировка НВВ'!$P$15:$P$60,'Корректировка НВВ'!$A$15:$A$60,$A551,'Корректировка НВВ'!$D$15:$D$60,$B551)","v":-1340.1969999999999},null,null,null,null,null,null,null,null,null,{"$f":"SUMIFS('Корректировка НВВ'!$Q$15:$Q$60,'Корректировка НВВ'!$A$15:$A$60,$A551,'Корректировка НВВ'!$D$15:$D$60,$B551)","v":-309.73997951053485}]
["1","L7",null,"L14",null,null,null,null,null,null,null,"7.6","Недополученные доходы / Выпадающие расходы","тыс.руб.",null,null,null,0,null,{"$f":"SUMIFS('Корректировка НВВ'!$P$15:$P$60,'Корректировка НВВ'!$A$15:$A$60,$A552,'Корректировка НВВ'!$D$15:$D$60,$B552)","v":0},null,null,null,null,null,null,null,null,null,{"$f":"SUMIFS('Корректировка НВВ'!$Q$15:$Q$60,'Корректировка НВВ'!$A$15:$A$60,$A552,'Корректировка НВВ'!$D$15:$D$60,$B552)","v":0}]
["1","L8",null,"L15",null,null,null,null,null,null,null,"7.7","Избыток средств, полученный за отчётные периоды регулирования","тыс.руб.",{"$f":"O554+O555","v":0},{"$f":"P554+P555","v":0},{"$f":"Q554+Q555","v":0},0,{"$f":"S554+S555","v":0},{"$f":"SUMIFS('Корректировка НВВ'!$P$15:$P$60,'Корректировка НВВ'!$A$15:$A$60,$A553,'Корректировка НВВ'!$D$15:$D$60,$B553)","v":0},0,0,0,0,0,0,0,0,0,{"$f":"SUMIFS('Корректировка НВВ'!$Q$15:$Q$60,'Корректировка НВВ'!$A$15:$A$60,$A553,'Корректировка НВВ'!$D$15:$D$60,$B553)","v":0},0,0,0,0,0,0,0,0,0,{"$f":"IF(S553=0,0,(AD553-S553)/S553*100)","v":0},{"$f":"IF(AD553=0,0,(AE553-AD553)/AD553*100)","v":0},0,0,0,0,0,0,0,0]
["1","L8_1",null,"L15_1",null,null,null,null,null,null,null,"7.7.1","Экономически не обоснованные доходы / расходы прошлых периодов регулирования","тыс.руб.",null,null,null,0,null,{"$f":"SUMIFS('Корректировка НВВ'!$P$15:$P$60,'Корректировка НВВ'!$A$15:$A$60,$A554,'Корректировка НВВ'!$D$15:$D$60,$B554)","v":0},null,null,null,null,null,null,null,null,null,{"$f":"SUMIFS('Корректировка НВВ'!$Q$15:$Q$60,'Корректировка НВВ'!$A$15:$A$60,$A554,'Корректировка НВВ'!$D$15:$D$60,$B554)","v":0}]
["1","L8_2",null,"L15_2",null,null,null,null,null,null,null,"7.7.2","Бюджетные субсидии, полученные на финансирование расходов, учтенных в тарифах","тыс.руб.",null,null,null,0,null,{"$f":"SUMIFS('Корректировка НВВ'!$P$15:$P$60,'Корректировка НВВ'!$A$15:$A$60,$A555,'Корректировка НВВ'!$D$15:$D$60,$B555)","v":0},null,null,null,null,null,null,null,null,null,{"$f":"SUMIFS('Корректировка НВВ'!$Q$15:$Q$60,'Корректировка НВВ'!$A$15:$A$60,$A555,'Корректировка НВВ'!$D$15:$D$60,$B555)","v":0}]
["1","L9",null,"L16",null,null,null,null,null,null,null,"7.8","Величина отклонения по результатам досудебного рассмотрения споров","тыс.руб.",null,null,null,0,null,{"$f":"SUMIFS('Корректировка НВВ'!$P$15:$P$60,'Корректировка НВВ'!$A$15:$A$60,$A556,'Корректировка НВВ'!$D$15:$D$60,$B556)","v":0},null,null,null,null,null,null,null,null,null,{"$f":"SUMIFS('Корректировка НВВ'!$Q$15:$Q$60,'Корректировка НВВ'!$A$15:$A$60,$A556,'Корректировка НВВ'!$D$15:$D$60,$B556)","v":0}]
["1","L10",null,"L17",null,null,null,null,null,null,null,"7.9","Величина отклонения по результатам рассмотрения разногласий","тыс.руб.",null,null,null,0,null,{"$f":"SUMIFS('Корректировка НВВ'!$P$15:$P$60,'Корректировка НВВ'!$A$15:$A$60,$A557,'Корректировка НВВ'!$D$15:$D$60,$B557)","v":0},null,null,null,null,null,null,null,null,null,{"$f":"SUMIFS('Корректировка НВВ'!$Q$15:$Q$60,'Корректировка НВВ'!$A$15:$A$60,$A557,'Корректировка НВВ'!$D$15:$D$60,$B557)","v":0}]
["1",null,null,"L10",null,null,null,null,null,null,null,"8","Величина сглаживания НВВ","тыс.руб.",null,null,null,0]
["1",null,null,"L10_1",null,null,null,null,null,null,null,"8.1","% сглаживания НВВ","%",{"$f":"IF(O560=0,0,O558/O560*100)","v":0},{"$f":"IF(P560=0,0,P558/P560*100)","v":{"$error":"#N/A"}},{"$f":"IF(Q560=0,0,Q558/Q560*100)","v":{"$error":"#N/A"}},{"$f":"Q559-P559","v":{"$error":"#N/A"}},{"$f":"IF(S560=0,0,S558/S560*100)","v":{"$error":"#N/A"}},{"$error":"#N/A"},{"$error":"#N/A"},{"$error":"#N/A"},{"$error":"#N/A"},{"$error":"#N/A"},{"$error":"#N/A"},{"$error":"#N/A"},{"$error":"#N/A"},{"$error":"#N/A"},{"$error":"#N/A"},{"$error":"#N/A"},{"$error":"#N/A"},{"$error":"#N/A"},{"$error":"#N/A"},{"$error":"#N/A"},{"$error":"#N/A"},{"$error":"#N/A"},{"$error":"#N/A"},{"$error":"#N/A"},{"$error":"#N/A"}]
["1",null,null,"L11",null,null,null,null,null,null,null,"9","Необходимая валовая выручка","тыс.руб.",{"$f":"O452+O502+O536+O537+O539+O544","v":28462.1033527584},{"$f":"P452+P502+P536+P537+P539+P544","v":{"$error":"#N/A"}},{"$f":"Q452+Q502+Q536+Q537+Q539+Q544","v":{"$error":"#N/A"}},{"$f":"Q560-P560","v":{"$error":"#N/A"}},{"$f":"S452+S502+S536+S537+S539+S544","v":{"$error":"#N/A"}},{"$error":"#N/A"},{"$error":"#N/A"},{"$error":"#N/A"},{"$error":"#N/A"},{"$error":"#N/A"},{"$error":"#N/A"},{"$error":"#N/A"},{"$error":"#N/A"},{"$error":"#N/A"},{"$error":"#N/A"},{"$error":"#N/A"},{"$error":"#N/A"},{"$error":"#N/A"},{"$error":"#N/A"},{"$error":"#N/A"},{"$error":"#N/A"},{"$error":"#N/A"},{"$error":"#N/A"},{"$error":"#N/A"},{"$error":"#N/A"},{"$f":"IF(S560=0,0,(AD560-S560)/S560*100)","v":{"$error":"#N/A"}},{"$f":"IF(AD560=0,0,(AE560-AD560)/AD560*100)","v":{"$error":"#N/A"}},{"$error":"#N/A"},{"$error":"#N/A"},{"$error":"#N/A"},{"$error":"#N/A"},{"$error":"#N/A"},{"$error":"#N/A"},{"$error":"#N/A"},{"$error":"#N/A"}]
["1",null,null,"L18",null,null,null,null,null,null,null,"10","Итого НВВ для расчёта тарифа","тыс.руб.",{"$f":"O560+O545+O558","v":28462.1033527584},{"$error":"#N/A"},{"$error":"#N/A"},{"$error":"#N/A"},{"$error":"#N/A"},{"$error":"#N/A"},{"$error":"#N/A"},{"$error":"#N/A"},{"$error":"#N/A"},{"$error":"#N/A"},{"$error":"#N/A"},{"$error":"#N/A"},{"$error":"#N/A"},{"$error":"#N/A"},{"$error":"#N/A"},{"$error":"#N/A"},{"$error":"#N/A"},{"$error":"#N/A"},{"$error":"#N/A"},{"$error":"#N/A"},{"$error":"#N/A"},{"$error":"#N/A"},{"$error":"#N/A"},{"$error":"#N/A"},{"$error":"#N/A"},{"$f":"IF(S561=0,0,(AD561-S561)/S561*100)","v":{"$error":"#N/A"}},{"$error":"#N/A"},{"$error":"#N/A"},{"$error":"#N/A"},{"$error":"#N/A"},{"$error":"#N/A"},{"$error":"#N/A"},{"$error":"#N/A"},{"$error":"#N/A"},{"$error":"#N/A"}]
["1",null,{"$f":"B451=\"двухставочный\"","v":false},"L18_1",null,null,null,null,null,null,null,"10.1","в части условно-переменных расходов","тыс.руб.",null,null,null,{"$f":"Q562-P562","v":0}]
["1",null,{"$f":"B451=\"двухставочный\"","v":false},"L18_2",null,null,null,null,null,null,null,"10.2","в части условно-постоянных расходов","тыс.руб.",null,null,null,{"$f":"Q563-P563","v":0}]
["1","ПО.прочие",null,"L19",null,null,null,null,null,null,null,"11","Полезный отпуск без разбивки по группам потребителей","тыс.куб.м",{"$f":"SUMIFS(Баланс!O$16:O$57,Баланс!$A$16:$A$57,$A564,Баланс!$B$16:$B$57,\"ПО\")","v":3663.5242677567999},{"$f":"SUMIFS(Баланс!P$16:P$57,Баланс!$A$16:$A$57,$A564,Баланс!$B$16:$B$57,\"ПО\")","v":3967.0619999999999},{"$f":"SUMIFS(Баланс!Q$16:Q$57,Баланс!$A$16:$A$57,$A564,Баланс!$B$16:$B$57,\"ПО\")","v":3967.0619999999999},{"$f":"Q564-P564","v":0},{"$f":"SUMIFS(Баланс!R$16:R$57,Баланс!$A$16:$A$57,$A564,Баланс!$B$16:$B$57,\"ПО\")","v":4134.3711238192},{"$f":"SUMIFS(Баланс!S$16:S$57,Баланс!$A$16:$A$57,$A564,Баланс!$B$16:$B$57,\"ПО\")","v":4043.7739999999999},{"$f":"SUMIFS(Баланс!T$16:T$57,Баланс!$A$16:$A$57,$A564,Баланс!$B$16:$B$57,\"ПО\")","v":0},{"$f":"SUMIFS(Баланс!U$16:U$57,Баланс!$A$16:$A$57,$A564,Баланс!$B$16:$B$57,\"ПО\")","v":0},{"$f":"SUMIFS(Баланс!V$16:V$57,Баланс!$A$16:$A$57,$A564,Баланс!$B$16:$B$57,\"ПО\")","v":0},{"$f":"SUMIFS(Баланс!W$16:W$57,Баланс!$A$16:$A$57,$A564,Баланс!$B$16:$B$57,\"ПО\")","v":0},{"$f":"SUMIFS(Баланс!X$16:X$57,Баланс!$A$16:$A$57,$A564,Баланс!$B$16:$B$57,\"ПО\")","v":0},{"$f":"SUMIFS(Баланс!Y$16:Y$57,Баланс!$A$16:$A$57,$A564,Баланс!$B$16:$B$57,\"ПО\")","v":0},{"$f":"SUMIFS(Баланс!Z$16:Z$57,Баланс!$A$16:$A$57,$A564,Баланс!$B$16:$B$57,\"ПО\")","v":0},{"$f":"SUMIFS(Баланс!AA$16:AA$57,Баланс!$A$16:$A$57,$A564,Баланс!$B$16:$B$57,\"ПО\")","v":0},{"$f":"SUMIFS(Баланс!AB$16:AB$57,Баланс!$A$16:$A$57,$A564,Баланс!$B$16:$B$57,\"ПО\")","v":0},{"$f":"SUMIFS(Баланс!AC$16:AC$57,Баланс!$A$16:$A$57,$A564,Баланс!$B$16:$B$57,\"ПО\")","v":3918.2110000000002},{"$f":"SUMIFS(Баланс!AD$16:AD$57,Баланс!$A$16:$A$57,$A564,Баланс!$B$16:$B$57,\"ПО\")","v":0},{"$f":"SUMIFS(Баланс!AE$16:AE$57,Баланс!$A$16:$A$57,$A564,Баланс!$B$16:$B$57,\"ПО\")","v":0},{"$f":"SUMIFS(Баланс!AF$16:AF$57,Баланс!$A$16:$A$57,$A564,Баланс!$B$16:$B$57,\"ПО\")","v":0},{"$f":"SUMIFS(Баланс!AG$16:AG$57,Баланс!$A$16:$A$57,$A564,Баланс!$B$16:$B$57,\"ПО\")","v":0},{"$f":"SUMIFS(Баланс!AH$16:AH$57,Баланс!$A$16:$A$57,$A564,Баланс!$B$16:$B$57,\"ПО\")","v":0},{"$f":"SUMIFS(Баланс!AI$16:AI$57,Баланс!$A$16:$A$57,$A564,Баланс!$B$16:$B$57,\"ПО\")","v":0},{"$f":"SUMIFS(Баланс!AJ$16:AJ$57,Баланс!$A$16:$A$57,$A564,Баланс!$B$16:$B$57,\"ПО\")","v":0},{"$f":"SUMIFS(Баланс!AK$16:AK$57,Баланс!$A$16:$A$57,$A564,Баланс!$B$16:$B$57,\"ПО\")","v":0},{"$f":"SUMIFS(Баланс!AL$16:AL$57,Баланс!$A$16:$A$57,$A564,Баланс!$B$16:$B$57,\"ПО\")","v":0}]
["1","ПО.прочие.I",null,"L19_1",null,null,null,null,null,null,null,"11.1","I полугодие: объём реализации","тыс.куб.м",{"$f":"O564/2","v":1831.7621338783999},{"$f":"P564/2","v":1983.5309999999999},{"$f":"Q564/2","v":1983.5309999999999},0,{"$f":"S564/2","v":2067.1855619096},2021.8869999999999,0,0,0,0,0,0,0,0,0,1959.1055000000001,0,0,0,0,0,0,0,0,0]
["1","тариф.прочие.I",null,"L19_2",null,null,null,null,null,null,null,"11.2","I полугодие: тариф","руб./куб.м",null,null,null,0]
["1","ПО.прочие.II",null,"L19_3",null,null,null,null,null,null,null,"11.3","II полугодие: объём реализации","тыс.куб.м",{"$f":"O564-O565","v":1831.7621338783999},{"$f":"P564-P565","v":1983.5309999999999},{"$f":"Q564-Q565","v":1983.5309999999999},0,{"$f":"S564-S565","v":2067.1855619096},2021.8869999999999,0,0,0,0,0,0,0,0,0,1959.1055000000001,0,0,0,0,0,0,0,0,0]
["1","тариф.прочие.II",null,"L19_4",null,null,null,null,null,null,null,"11.4","II полугодие: тариф","руб./куб.м",{"$f":"IF(O567=0,0,(O561-O565*O566)/O567)","v":15.538100076616081},{"$f":"IF(P567=0,0,(P561-P565*P566)/P567)","v":{"$error":"#N/A"}},{"$f":"IF(Q567=0,0,(Q561-Q565*Q566)/Q567)","v":{"$error":"#N/A"}},{"$error":"#N/A"},{"$f":"IF(S567=0,0,(S561-S565*S566)/S567)","v":{"$error":"#N/A"}},{"$f":"IF(T567=0,0,(T561-T565*T566)/T567)","v":{"$error":"#N/A"}},0,0,0,0,0,0,0,0,0,{"$f":"IF(AD567=0,0,(AD561-AD565*AD566)/AD567)","v":{"$error":"#N/A"}},{"$f":"IF(AE567=0,0,(AE561-AE565*AE566)/AE567)","v":0},{"$f":"IF(AF567=0,0,(AF561-AF565*AF566)/AF567)","v":0},0,0,0,0,0,0,0]
["1",null,null,"L19_5",null,null,null,null,null,null,null,"11.5","темп роста тарифа","%",{"$f":"IF(O566=0,0,O568/O566*100)","v":0},{"$f":"IF(P566=0,0,P568/P566*100)","v":0},{"$f":"IF(Q566=0,0,Q568/Q566*100)","v":0},null,{"$f":"IF(S566=0,0,S568/S566*100)","v":0},0,0,0,0,0,0,0,0,0,0,0,0,0,0,0,0,0,0,0,0]
["1",null,null,"L19_6",null,null,null,null,null,null,null,"11.6","средневзвешенный тариф","руб./куб.м",{"$f":"IF(O564=0,0,O561/O564)","v":7.7690500383080403},{"$f":"IF(P564=0,0,P561/P564)","v":{"$error":"#N/A"}},{"$f":"IF(Q564=0,0,Q561/Q564)","v":{"$error":"#N/A"}},{"$error":"#N/A"},{"$f":"IF(S564=0,0,S561/S564)","v":{"$error":"#N/A"}},{"$f":"IF(T564=0,0,T561/T564)","v":{"$error":"#N/A"}},{"$f":"IF(U564=0,0,U561/U564)","v":0},0,0,0,0,0,0,0,0,{"$f":"IF(AD564=0,0,AD561/AD564)","v":{"$error":"#N/A"}},{"$f":"IF(AE564=0,0,AE561/AE564)","v":0},{"$f":"IF(AF564=0,0,AF561/AF564)","v":0},0,0,0,0,0,0,0]
["1",null,null,"L20",null,null,null,null,null,null,null,"12","Итого НВВ для населения","тыс.руб.",{"$f":"IF(O564=0,0,O561/O564*O572)","v":20705.697581306216},{"$f":"IF(P564=0,0,P561/P564*P572)","v":{"$error":"#N/A"}},{"$f":"IF(Q564=0,0,Q561/Q564*Q572)","v":{"$error":"#N/A"}},{"$f":"R573*R574+R575*R576","v":{"$error":"#N/A"}},{"$f":"IF(S564=0,0,S561/S564*S572)","v":{"$error":"#N/A"}},{"$f":"IF(T564=0,0,T561/T564*T572)","v":{"$error":"#N/A"}},{"$f":"IF(U564=0,0,U561/U564*U572)","v":0},0,0,0,0,0,0,0,0,{"$f":"IF(AD564=0,0,AD561/AD564*AD572)","v":{"$error":"#N/A"}},{"$f":"IF(AE564=0,0,AE561/AE564*AE572)","v":0},{"$f":"IF(AF564=0,0,AF561/AF564*AF572)","v":0},0,0,0,0,0,0,0,{"$f":"IF(S571=0,0,(AD571-S571)/S571*100)","v":{"$error":"#N/A"}},{"$f":"IF(AD571=0,0,(AE571-AD571)/AD571*100)","v":{"$error":"#N/A"}},{"$f":"IF(AE571=0,0,(AF571-AE571)/AE571*100)","v":0},{"$f":"IF(AF571=0,0,(AG571-AF571)/AF571*100)","v":0},{"$f":"IF(AG571=0,0,(AH571-AG571)/AG571*100)","v":0},0,0,0,0,0]
["1","ПО.население",null,"L21",null,null,null,null,null,null,null,"13","Полезный отпуск для населения:","тыс.куб.м",{"$f":"SUMIFS(Баланс!O$16:O$57,Баланс!$A$16:$A$57,$A572,Баланс!$B$16:$B$57,\"население\")","v":2665.1517855091001},{"$f":"SUMIFS(Баланс!P$16:P$57,Баланс!$A$16:$A$57,$A572,Баланс!$B$16:$B$57,\"население\")","v":2806.951},{"$f":"SUMIFS(Баланс!Q$16:Q$57,Баланс!$A$16:$A$57,$A572,Баланс!$B$16:$B$57,\"население\")","v":2806.951},{"$f":"Q572-P572","v":0},{"$f":"SUMIFS(Баланс!R$16:R$57,Баланс!$A$16:$A$57,$A572,Баланс!$B$16:$B$57,\"население\")","v":2789.4},{"$f":"SUMIFS(Баланс!S$16:S$57,Баланс!$A$16:$A$57,$A572,Баланс!$B$16:$B$57,\"население\")","v":2791.5120000000002},{"$f":"SUMIFS(Баланс!T$16:T$57,Баланс!$A$16:$A$57,$A572,Баланс!$B$16:$B$57,\"население\")","v":0},{"$f":"SUMIFS(Баланс!U$16:U$57,Баланс!$A$16:$A$57,$A572,Баланс!$B$16:$B$57,\"население\")","v":0},{"$f":"SUMIFS(Баланс!V$16:V$57,Баланс!$A$16:$A$57,$A572,Баланс!$B$16:$B$57,\"население\")","v":0},{"$f":"SUMIFS(Баланс!W$16:W$57,Баланс!$A$16:$A$57,$A572,Баланс!$B$16:$B$57,\"население\")","v":0},{"$f":"SUMIFS(Баланс!X$16:X$57,Баланс!$A$16:$A$57,$A572,Баланс!$B$16:$B$57,\"население\")","v":0},{"$f":"SUMIFS(Баланс!Y$16:Y$57,Баланс!$A$16:$A$57,$A572,Баланс!$B$16:$B$57,\"население\")","v":0},{"$f":"SUMIFS(Баланс!Z$16:Z$57,Баланс!$A$16:$A$57,$A572,Баланс!$B$16:$B$57,\"население\")","v":0},{"$f":"SUMIFS(Баланс!AA$16:AA$57,Баланс!$A$16:$A$57,$A572,Баланс!$B$16:$B$57,\"население\")","v":0},{"$f":"SUMIFS(Баланс!AB$16:AB$57,Баланс!$A$16:$A$57,$A572,Баланс!$B$16:$B$57,\"население\")","v":0},{"$f":"SUMIFS(Баланс!AC$16:AC$57,Баланс!$A$16:$A$57,$A572,Баланс!$B$16:$B$57,\"население\")","v":2796.9630000000002},{"$f":"SUMIFS(Баланс!AD$16:AD$57,Баланс!$A$16:$A$57,$A572,Баланс!$B$16:$B$57,\"население\")","v":0},{"$f":"SUMIFS(Баланс!AE$16:AE$57,Баланс!$A$16:$A$57,$A572,Баланс!$B$16:$B$57,\"население\")","v":0},{"$f":"SUMIFS(Баланс!AF$16:AF$57,Баланс!$A$16:$A$57,$A572,Баланс!$B$16:$B$57,\"население\")","v":0},{"$f":"SUMIFS(Баланс!AG$16:AG$57,Баланс!$A$16:$A$57,$A572,Баланс!$B$16:$B$57,\"население\")","v":0},{"$f":"SUMIFS(Баланс!AH$16:AH$57,Баланс!$A$16:$A$57,$A572,Баланс!$B$16:$B$57,\"население\")","v":0},{"$f":"SUMIFS(Баланс!AI$16:AI$57,Баланс!$A$16:$A$57,$A572,Баланс!$B$16:$B$57,\"население\")","v":0},{"$f":"SUMIFS(Баланс!AJ$16:AJ$57,Баланс!$A$16:$A$57,$A572,Баланс!$B$16:$B$57,\"население\")","v":0},{"$f":"SUMIFS(Баланс!AK$16:AK$57,Баланс!$A$16:$A$57,$A572,Баланс!$B$16:$B$57,\"население\")","v":0},{"$f":"SUMIFS(Баланс!AL$16:AL$57,Баланс!$A$16:$A$57,$A572,Баланс!$B$16:$B$57,\"население\")","v":0}]
["1","ПО.население.I",null,"L21_1",null,null,null,null,null,null,null,"13.1","I полугодие: объём реализации по населению","тыс.куб.м",{"$f":"O572/2","v":1332.5758927545501},{"$f":"P572/2","v":1403.4755},{"$f":"Q572/2","v":1403.4755},{"$f":"Q573-P573","v":0},{"$f":"S572/2","v":1394.7},{"$f":"T572/2","v":1395.7560000000001},0,0,0,0,0,0,0,0,0,1398.4815000000001,0,0,0,0,0,0,0,0,0]
["1","тариф.население.I",null,"L21_2",null,null,null,null,null,null,null,"13.2","I полугодие: тариф для населения","руб./куб.м",{"$f":"IF(O572=0,0,O566*IF(plat_nds=\"да\",1.2,1) )","v":0},{"$f":"IF(P572=0,0,P566*IF(plat_nds=\"да\",1.2,1) )","v":0},{"$f":"IF(Q572=0,0,Q566*IF(plat_nds=\"да\",1.2,1) )","v":0},{"$f":"Q574-P574","v":0},{"$f":"IF(S572=0,0,S566*IF(plat_nds=\"да\",1.2,1) )","v":0},0,0,0,0,0,0,0,0,0,0,0,0,0,0,0,0,0,0,0,0]
["1","ПО.население.II",null,"L21_3",null,null,null,null,null,null,null,"13.3","II полугодие: объём реализации по населению","тыс.куб.м",{"$f":"O572-O573","v":1332.5758927545501},{"$f":"P572-P573","v":1403.4755},{"$f":"Q572-Q573","v":1403.4755},{"$f":"Q575-P575","v":0},{"$f":"S572-S573","v":1394.7},1395.7560000000001,0,0,0,0,0,0,0,0,0,1398.4815000000001,0,0,0,0,0,0,0,0,0]
["1","тариф.население.II",null,"L21_4",null,null,null,null,null,null,null,"13.4","II полугодие: тариф для населения","руб./куб.м",{"$f":"IF(O572=0,0,O568*IF(plat_nds=\"да\",1.2,1) )","v":18.645720091939296},{"$f":"IF(P572=0,0,P568*IF(plat_nds=\"да\",1.2,1) )","v":{"$error":"#N/A"}},{"$f":"IF(Q572=0,0,Q568*IF(plat_nds=\"да\",1.2,1) )","v":{"$error":"#N/A"}},{"$f":"Q576-P576","v":{"$error":"#N/A"}},{"$f":"IF(S572=0,0,S568*IF(plat_nds=\"да\",1.2,1) )","v":{"$error":"#N/A"}},{"$error":"#N/A"},0,0,0,0,0,0,0,0,0,{"$error":"#N/A"},0,0,0,0,0,0,0,0,0]
["et_List15_1"]
[{"$f":"OFFSET(A578,-1,0)","v":"et_List15_1"},null,null,"L1_7",{"$f":"M578","v":0},null,null,null,null,null,"О","1.7.1",null,"тыс.руб.",null,null,null,{"$f":"Q578-P578","v":0}]
[]
["16. ТМ"]
["et_List16_tariff"]
["1",null,null,null,null,{"$f":"INDEX('Общие сведения'!$N$121:$N$135,MATCH($A582,'Общие сведения'!$D$121:$D$135,0))","v":"одноставочный"},null,null,null,null,null,"№ п/п",null,{"$f":"\"Тариф \" & A582","v":"Тариф 1"}]
[{"$f":"A582","v":"1"},null,null,null,null,null,null,null,null,null,null,"Вид воды / сточных вод",null,{"$f":"INDEX('Общие сведения'!$K$121:$K$135,MATCH($A583,'Общие сведения'!$D$121:$D$135,0))","v":"без дифференциации"}]
[{"$f":"A583","v":"1"},null,null,null,null,null,null,null,null,null,null,"Утверждаемый тариф",null,{"$f":"INDEX('Общие сведения'!$L$121:$L$135,MATCH($A584,'Общие сведения'!$D$121:$D$135,0))","v":"тариф на водоотведение"}]
["1",null,null,null,null,null,null,null,null,null,null,"Дополнительные признаки дифференциации тарифов",null,{"$f":"INDEX('Общие сведения'!$M$121:$M$135,MATCH($A585,'Общие сведения'!$D$121:$D$135,0))","v":0}]
["1",null,null,null,null,null,{"$f":"F582=\"одноставочный\"","v":true},null,null,null,null,"Одноставочный тариф:"]
["1","тариф.прочие.I","L1_1","для прочих потребителей с 01.01 по 30.06 без НДС",null,null,{"$f":"F582=\"одноставочный\"","v":true},null,null,null,null,"Тариф с 01.01 по 30.06 для прочих потребителей без НДС","руб./куб.м",{"$f":"SUMIFS(INDEX(Калькуляция!$T$15:$AM$143,,MATCH(N$3,Калькуляция!$T$3:$AM$3,0)),Калькуляция!$A$15:$A$143,$A587,Калькуляция!$B$15:$B$143,$B587)","v":{"$error":"#N/A"}},{"$f":"SUMIFS(INDEX(Калькуляция!$T$15:$AM$143,,MATCH(O$3,Калькуляция!$T$3:$AM$3,0)),Калькуляция!$A$15:$A$143,$A587,Калькуляция!$B$15:$B$143,$B587)","v":{"$error":"#N/A"}},{"$f":"IF(N587=0,0,(O587-N587)/N587*100)","v":{"$error":"#N/A"}},{"$f":"SUMIFS(INDEX(Калькуляция!$T$15:$AM$143,,MATCH(Q$3,Калькуляция!$T$3:$AM$3,0)),Калькуляция!$A$15:$A$143,$A587,Калькуляция!$B$15:$B$143,$B587)","v":{"$error":"#N/A"}},{"$f":"SUMIFS(INDEX(Калькуляция!$T$15:$AM$143,,MATCH(R$3,Калькуляция!$T$3:$AM$3,0)),Калькуляция!$A$15:$A$143,$A587,Калькуляция!$B$15:$B$143,$B587)","v":{"$error":"#N/A"}},{"$f":"IF(Q587=0,0,(R587-Q587)/Q587*100)","v":{"$error":"#N/A"}},{"$f":"SUMIFS(INDEX(Калькуляция!$T$15:$AM$143,,MATCH(T$3,Калькуляция!$T$3:$AM$3,0)),Калькуляция!$A$15:$A$143,$A587,Калькуляция!$B$15:$B$143,$B587)","v":{"$error":"#N/A"}},{"$f":"SUMIFS(INDEX(Калькуляция!$T$15:$AM$143,,MATCH(U$3,Калькуляция!$T$3:$AM$3,0)),Калькуляция!$A$15:$A$143,$A587,Калькуляция!$B$15:$B$143,$B587)","v":{"$error":"#N/A"}},{"$f":"IF(T587=0,0,(U587-T587)/T587*100)","v":{"$error":"#N/A"}},{"$f":"SUMIFS(INDEX(Калькуляция!$T$15:$AM$143,,MATCH(W$3,Калькуляция!$T$3:$AM$3,0)),Калькуляция!$A$15:$A$143,$A587,Калькуляция!$B$15:$B$143,$B587)","v":{"$error":"#N/A"}},{"$f":"SUMIFS(INDEX(Калькуляция!$T$15:$AM$143,,MATCH(X$3,Калькуляция!$T$3:$AM$3,0)),Калькуляция!$A$15:$A$143,$A587,Калькуляция!$B$15:$B$143,$B587)","v":{"$error":"#N/A"}},{"$f":"IF(W587=0,0,(X587-W587)/W587*100)","v":{"$error":"#N/A"}},{"$f":"SUMIFS(INDEX(Калькуляция!$T$15:$AM$143,,MATCH(Z$3,Калькуляция!$T$3:$AM$3,0)),Калькуляция!$A$15:$A$143,$A587,Калькуляция!$B$15:$B$143,$B587)","v":{"$error":"#N/A"}},{"$f":"SUMIFS(INDEX(Калькуляция!$T$15:$AM$143,,MATCH(AA$3,Калькуляция!$T$3:$AM$3,0)),Калькуляция!$A$15:$A$143,$A587,Калькуляция!$B$15:$B$143,$B587)","v":{"$error":"#N/A"}},{"$f":"IF(Z587=0,0,(AA587-Z587)/Z587*100)","v":{"$error":"#N/A"}},{"$f":"SUMIFS(INDEX(Калькуляция!$T$15:$AM$143,,MATCH(AC$3,Калькуляция!$T$3:$AM$3,0)),Калькуляция!$A$15:$A$143,$A587,Калькуляция!$B$15:$B$143,$B587)","v":{"$error":"#N/A"}},{"$f":"SUMIFS(INDEX(Калькуляция!$T$15:$AM$143,,MATCH(AD$3,Калькуляция!$T$3:$AM$3,0)),Калькуляция!$A$15:$A$143,$A587,Калькуляция!$B$15:$B$143,$B587)","v":{"$error":"#N/A"}},{"$f":"IF(AC587=0,0,(AD587-AC587)/AC587*100)","v":{"$error":"#N/A"}},{"$f":"SUMIFS(INDEX(Калькуляция!$T$15:$AM$143,,MATCH(AF$3,Калькуляция!$T$3:$AM$3,0)),Калькуляция!$A$15:$A$143,$A587,Калькуляция!$B$15:$B$143,$B587)","v":{"$error":"#N/A"}},{"$f":"SUMIFS(INDEX(Калькуляция!$T$15:$AM$143,,MATCH(AG$3,Калькуляция!$T$3:$AM$3,0)),Калькуляция!$A$15:$A$143,$A587,Калькуляция!$B$15:$B$143,$B587)","v":{"$error":"#N/A"}},{"$f":"IF(AF587=0,0,(AG587-AF587)/AF587*100)","v":{"$error":"#N/A"}},{"$f":"SUMIFS(INDEX(Калькуляция!$T$15:$AM$143,,MATCH(AI$3,Калькуляция!$T$3:$AM$3,0)),Калькуляция!$A$15:$A$143,$A587,Калькуляция!$B$15:$B$143,$B587)","v":{"$error":"#N/A"}},{"$f":"SUMIFS(INDEX(Калькуляция!$T$15:$AM$143,,MATCH(AJ$3,Калькуляция!$T$3:$AM$3,0)),Калькуляция!$A$15:$A$143,$A587,Калькуляция!$B$15:$B$143,$B587)","v":{"$error":"#N/A"}},{"$f":"IF(AI587=0,0,(AJ587-AI587)/AI587*100)","v":{"$error":"#N/A"}},{"$f":"SUMIFS(INDEX(Калькуляция!$T$15:$AM$143,,MATCH(AL$3,Калькуляция!$T$3:$AM$3,0)),Калькуляция!$A$15:$A$143,$A587,Калькуляция!$B$15:$B$143,$B587)","v":{"$error":"#N/A"}},{"$f":"SUMIFS(INDEX(Калькуляция!$T$15:$AM$143,,MATCH(AM$3,Калькуляция!$T$3:$AM$3,0)),Калькуляция!$A$15:$A$143,$A587,Калькуляция!$B$15:$B$143,$B587)","v":{"$error":"#N/A"}},{"$f":"IF(AL587=0,0,(AM587-AL587)/AL587*100)","v":{"$error":"#N/A"}},{"$f":"SUMIFS(INDEX(Калькуляция!$T$15:$AM$143,,MATCH(AO$3,Калькуляция!$T$3:$AM$3,0)),Калькуляция!$A$15:$A$143,$A587,Калькуляция!$B$15:$B$143,$B587)","v":{"$error":"#N/A"}},{"$f":"SUMIFS(INDEX(Калькуляция!$T$15:$AM$143,,MATCH(AP$3,Калькуляция!$T$3:$AM$3,0)),Калькуляция!$A$15:$A$143,$A587,Калькуляция!$B$15:$B$143,$B587)","v":{"$error":"#N/A"}},{"$f":"IF(AO587=0,0,(AP587-AO587)/AO587*100)","v":{"$error":"#N/A"}},null,null,{"$f":"IF(AR587=0,0,(AS587-AR587)/AR587*100)","v":0},null,null,{"$f":"IF(AU587=0,0,(AV587-AU587)/AU587*100)","v":0},null,null,{"$f":"IF(AX587=0,0,(AY587-AX587)/AX587*100)","v":0},null,null,{"$f":"IF(BA587=0,0,(BB587-BA587)/BA587*100)","v":0},null,null,{"$f":"IF(BD587=0,0,(BE587-BD587)/BD587*100)","v":0},null,null,{"$f":"IF(BG587=0,0,(BH587-BG587)/BG587*100)","v":0},null,null,{"$f":"IF(BJ587=0,0,(BK587-BJ587)/BJ587*100)","v":0},null,null,{"$f":"IF(BM587=0,0,(BN587-BM587)/BM587*100)","v":0},null,null,{"$f":"IF(BP587=0,0,(BQ587-BP587)/BP587*100)","v":0},null,null,{"$f":"IF(BS587=0,0,(BT587-BS587)/BS587*100)","v":0},null,null,{"$f":"IF(BV587=0,0,(BW587-BV587)/BV587*100)","v":0},null,null,{"$f":"IF(BY587=0,0,(BZ587-BY587)/BY587*100)","v":0},null,null,{"$f":"IF(CB587=0,0,(CC587-CB587)/CB587*100)","v":0},null,null,{"$f":"IF(CE587=0,0,(CF587-CE587)/CE587*100)","v":0},null,null,{"$f":"IF(CH587=0,0,(CI587-CH587)/CH587*100)","v":0},null,null,{"$f":"IF(CK587=0,0,(CL587-CK587)/CK587*100)","v":0},null,null,{"$f":"IF(CN587=0,0,(CO587-CN587)/CN587*100)","v":0},null,null,{"$f":"IF(CQ587=0,0,(CR587-CQ587)/CQ587*100)","v":0},null,null,{"$f":"IF(CT587=0,0,(CU587-CT587)/CT587*100)","v":0},null,null,{"$f":"IF(CW587=0,0,(CX587-CW587)/CW587*100)","v":0},null,null,{"$f":"IF(CZ587=0,0,(DA587-CZ587)/CZ587*100)","v":0},null,null,{"$f":"IF(DC587=0,0,(DD587-DC587)/DC587*100)","v":0},null,null,{"$f":"IF(DF587=0,0,(DG587-DF587)/DF587*100)","v":0},null,null,{"$f":"IF(DI587=0,0,(DJ587-DI587)/DI587*100)","v":0},null,null,{"$f":"IF(DL587=0,0,(DM587-DL587)/DL587*100)","v":0},null,null,{"$f":"IF(DO587=0,0,(DP587-DO587)/DO587*100)","v":0},null,null,{"$f":"IF(DR587=0,0,(DS587-DR587)/DR587*100)","v":0},null,null,{"$f":"IF(DU587=0,0,(DV587-DU587)/DU587*100)","v":0},null,null,{"$f":"IF(DX587=0,0,(DY587-DX587)/DX587*100)","v":0},null,null,{"$f":"IF(EA587=0,0,(EB587-EA587)/EA587*100)","v":0},null,null,{"$f":"IF(ED587=0,0,(EE587-ED587)/ED587*100)","v":0},null,null,{"$f":"IF(EG587=0,0,(EH587-EG587)/EG587*100)","v":0},null,null,{"$f":"IF(EJ587=0,0,(EK587-EJ587)/EJ587*100)","v":0},null,null,{"$f":"IF(EM587=0,0,(EN587-EM587)/EM587*100)","v":0},null,null,{"$f":"IF(EP587=0,0,(EQ587-EP587)/EP587*100)","v":0},null,null,{"$f":"IF(ES587=0,0,(ET587-ES587)/ES587*100)","v":0},null,null,{"$f":"IF(EV587=0,0,(EW587-EV587)/EV587*100)","v":0},null,null,{"$f":"IF(EY587=0,0,(EZ587-EY587)/EY587*100)","v":0},null,null,{"$f":"IF(FB587=0,0,(FC587-FB587)/FB587*100)","v":0},null,null,{"$f":"IF(FE587=0,0,(FF587-FE587)/FE587*100)","v":0}]
["1","тариф.прочие.II","L1_1","для прочих потребителей с 01.07 по 31.12 без НДС",null,null,{"$f":"F582=\"одноставочный\"","v":true},null,null,null,null,"Тариф с 01.07 по 31.12 для прочих потребителей без НДС","руб./куб.м",{"$f":"SUMIFS(INDEX(Калькуляция!$T$15:$AM$143,,MATCH(N$3,Калькуляция!$T$3:$AM$3,0)),Калькуляция!$A$15:$A$143,$A588,Калькуляция!$B$15:$B$143,$B588)","v":{"$error":"#N/A"}},{"$f":"SUMIFS(INDEX(Калькуляция!$T$15:$AM$143,,MATCH(O$3,Калькуляция!$T$3:$AM$3,0)),Калькуляция!$A$15:$A$143,$A588,Калькуляция!$B$15:$B$143,$B588)","v":{"$error":"#N/A"}},{"$f":"IF(N588=0,0,(O588-N588)/N588*100)","v":{"$error":"#N/A"}},{"$f":"SUMIFS(INDEX(Калькуляция!$T$15:$AM$143,,MATCH(Q$3,Калькуляция!$T$3:$AM$3,0)),Калькуляция!$A$15:$A$143,$A588,Калькуляция!$B$15:$B$143,$B588)","v":{"$error":"#N/A"}},{"$f":"SUMIFS(INDEX(Калькуляция!$T$15:$AM$143,,MATCH(R$3,Калькуляция!$T$3:$AM$3,0)),Калькуляция!$A$15:$A$143,$A588,Калькуляция!$B$15:$B$143,$B588)","v":{"$error":"#N/A"}},{"$f":"IF(Q588=0,0,(R588-Q588)/Q588*100)","v":{"$error":"#N/A"}},{"$f":"SUMIFS(INDEX(Калькуляция!$T$15:$AM$143,,MATCH(T$3,Калькуляция!$T$3:$AM$3,0)),Калькуляция!$A$15:$A$143,$A588,Калькуляция!$B$15:$B$143,$B588)","v":{"$error":"#N/A"}},{"$f":"SUMIFS(INDEX(Калькуляция!$T$15:$AM$143,,MATCH(U$3,Калькуляция!$T$3:$AM$3,0)),Калькуляция!$A$15:$A$143,$A588,Калькуляция!$B$15:$B$143,$B588)","v":{"$error":"#N/A"}},{"$f":"IF(T588=0,0,(U588-T588)/T588*100)","v":{"$error":"#N/A"}},{"$f":"SUMIFS(INDEX(Калькуляция!$T$15:$AM$143,,MATCH(W$3,Калькуляция!$T$3:$AM$3,0)),Калькуляция!$A$15:$A$143,$A588,Калькуляция!$B$15:$B$143,$B588)","v":{"$error":"#N/A"}},{"$f":"SUMIFS(INDEX(Калькуляция!$T$15:$AM$143,,MATCH(X$3,Калькуляция!$T$3:$AM$3,0)),Калькуляция!$A$15:$A$143,$A588,Калькуляция!$B$15:$B$143,$B588)","v":{"$error":"#N/A"}},{"$f":"IF(W588=0,0,(X588-W588)/W588*100)","v":{"$error":"#N/A"}},{"$f":"SUMIFS(INDEX(Калькуляция!$T$15:$AM$143,,MATCH(Z$3,Калькуляция!$T$3:$AM$3,0)),Калькуляция!$A$15:$A$143,$A588,Калькуляция!$B$15:$B$143,$B588)","v":{"$error":"#N/A"}},{"$f":"SUMIFS(INDEX(Калькуляция!$T$15:$AM$143,,MATCH(AA$3,Калькуляция!$T$3:$AM$3,0)),Калькуляция!$A$15:$A$143,$A588,Калькуляция!$B$15:$B$143,$B588)","v":{"$error":"#N/A"}},{"$f":"IF(Z588=0,0,(AA588-Z588)/Z588*100)","v":{"$error":"#N/A"}},{"$f":"SUMIFS(INDEX(Калькуляция!$T$15:$AM$143,,MATCH(AC$3,Калькуляция!$T$3:$AM$3,0)),Калькуляция!$A$15:$A$143,$A588,Калькуляция!$B$15:$B$143,$B588)","v":{"$error":"#N/A"}},{"$f":"SUMIFS(INDEX(Калькуляция!$T$15:$AM$143,,MATCH(AD$3,Калькуляция!$T$3:$AM$3,0)),Калькуляция!$A$15:$A$143,$A588,Калькуляция!$B$15:$B$143,$B588)","v":{"$error":"#N/A"}},{"$f":"IF(AC588=0,0,(AD588-AC588)/AC588*100)","v":{"$error":"#N/A"}},{"$f":"SUMIFS(INDEX(Калькуляция!$T$15:$AM$143,,MATCH(AF$3,Калькуляция!$T$3:$AM$3,0)),Калькуляция!$A$15:$A$143,$A588,Калькуляция!$B$15:$B$143,$B588)","v":{"$error":"#N/A"}},{"$f":"SUMIFS(INDEX(Калькуляция!$T$15:$AM$143,,MATCH(AG$3,Калькуляция!$T$3:$AM$3,0)),Калькуляция!$A$15:$A$143,$A588,Калькуляция!$B$15:$B$143,$B588)","v":{"$error":"#N/A"}},{"$f":"IF(AF588=0,0,(AG588-AF588)/AF588*100)","v":{"$error":"#N/A"}},{"$f":"SUMIFS(INDEX(Калькуляция!$T$15:$AM$143,,MATCH(AI$3,Калькуляция!$T$3:$AM$3,0)),Калькуляция!$A$15:$A$143,$A588,Калькуляция!$B$15:$B$143,$B588)","v":{"$error":"#N/A"}},{"$f":"SUMIFS(INDEX(Калькуляция!$T$15:$AM$143,,MATCH(AJ$3,Калькуляция!$T$3:$AM$3,0)),Калькуляция!$A$15:$A$143,$A588,Калькуляция!$B$15:$B$143,$B588)","v":{"$error":"#N/A"}},{"$f":"IF(AI588=0,0,(AJ588-AI588)/AI588*100)","v":{"$error":"#N/A"}},{"$f":"SUMIFS(INDEX(Калькуляция!$T$15:$AM$143,,MATCH(AL$3,Калькуляция!$T$3:$AM$3,0)),Калькуляция!$A$15:$A$143,$A588,Калькуляция!$B$15:$B$143,$B588)","v":{"$error":"#N/A"}},{"$f":"SUMIFS(INDEX(Калькуляция!$T$15:$AM$143,,MATCH(AM$3,Калькуляция!$T$3:$AM$3,0)),Калькуляция!$A$15:$A$143,$A588,Калькуляция!$B$15:$B$143,$B588)","v":{"$error":"#N/A"}},{"$f":"IF(AL588=0,0,(AM588-AL588)/AL588*100)","v":{"$error":"#N/A"}},{"$f":"SUMIFS(INDEX(Калькуляция!$T$15:$AM$143,,MATCH(AO$3,Калькуляция!$T$3:$AM$3,0)),Калькуляция!$A$15:$A$143,$A588,Калькуляция!$B$15:$B$143,$B588)","v":{"$error":"#N/A"}},{"$f":"SUMIFS(INDEX(Калькуляция!$T$15:$AM$143,,MATCH(AP$3,Калькуляция!$T$3:$AM$3,0)),Калькуляция!$A$15:$A$143,$A588,Калькуляция!$B$15:$B$143,$B588)","v":{"$error":"#N/A"}},{"$f":"IF(AO588=0,0,(AP588-AO588)/AO588*100)","v":{"$error":"#N/A"}},null,null,{"$f":"IF(AR588=0,0,(AS588-AR588)/AR588*100)","v":0},null,null,{"$f":"IF(AU588=0,0,(AV588-AU588)/AU588*100)","v":0},null,null,{"$f":"IF(AX588=0,0,(AY588-AX588)/AX588*100)","v":0},null,null,{"$f":"IF(BA588=0,0,(BB588-BA588)/BA588*100)","v":0},null,null,{"$f":"IF(BD588=0,0,(BE588-BD588)/BD588*100)","v":0},null,null,{"$f":"IF(BG588=0,0,(BH588-BG588)/BG588*100)","v":0},null,null,{"$f":"IF(BJ588=0,0,(BK588-BJ588)/BJ588*100)","v":0},null,null,{"$f":"IF(BM588=0,0,(BN588-BM588)/BM588*100)","v":0},null,null,{"$f":"IF(BP588=0,0,(BQ588-BP588)/BP588*100)","v":0},null,null,{"$f":"IF(BS588=0,0,(BT588-BS588)/BS588*100)","v":0},null,null,{"$f":"IF(BV588=0,0,(BW588-BV588)/BV588*100)","v":0},null,null,{"$f":"IF(BY588=0,0,(BZ588-BY588)/BY588*100)","v":0},null,null,{"$f":"IF(CB588=0,0,(CC588-CB588)/CB588*100)","v":0},null,null,{"$f":"IF(CE588=0,0,(CF588-CE588)/CE588*100)","v":0},null,null,{"$f":"IF(CH588=0,0,(CI588-CH588)/CH588*100)","v":0},null,null,{"$f":"IF(CK588=0,0,(CL588-CK588)/CK588*100)","v":0},null,null,{"$f":"IF(CN588=0,0,(CO588-CN588)/CN588*100)","v":0},null,null,{"$f":"IF(CQ588=0,0,(CR588-CQ588)/CQ588*100)","v":0},null,null,{"$f":"IF(CT588=0,0,(CU588-CT588)/CT588*100)","v":0},null,null,{"$f":"IF(CW588=0,0,(CX588-CW588)/CW588*100)","v":0},null,null,{"$f":"IF(CZ588=0,0,(DA588-CZ588)/CZ588*100)","v":0},null,null,{"$f":"IF(DC588=0,0,(DD588-DC588)/DC588*100)","v":0},null,null,{"$f":"IF(DF588=0,0,(DG588-DF588)/DF588*100)","v":0},null,null,{"$f":"IF(DI588=0,0,(DJ588-DI588)/DI588*100)","v":0},null,null,{"$f":"IF(DL588=0,0,(DM588-DL588)/DL588*100)","v":0},null,null,{"$f":"IF(DO588=0,0,(DP588-DO588)/DO588*100)","v":0},null,null,{"$f":"IF(DR588=0,0,(DS588-DR588)/DR588*100)","v":0},null,null,{"$f":"IF(DU588=0,0,(DV588-DU588)/DU588*100)","v":0},null,null,{"$f":"IF(DX588=0,0,(DY588-DX588)/DX588*100)","v":0},null,null,{"$f":"IF(EA588=0,0,(EB588-EA588)/EA588*100)","v":0},null,null,{"$f":"IF(ED588=0,0,(EE588-ED588)/ED588*100)","v":0},null,null,{"$f":"IF(EG588=0,0,(EH588-EG588)/EG588*100)","v":0},null,null,{"$f":"IF(EJ588=0,0,(EK588-EJ588)/EJ588*100)","v":0},null,null,{"$f":"IF(EM588=0,0,(EN588-EM588)/EM588*100)","v":0},null,null,{"$f":"IF(EP588=0,0,(EQ588-EP588)/EP588*100)","v":0},null,null,{"$f":"IF(ES588=0,0,(ET588-ES588)/ES588*100)","v":0},null,null,{"$f":"IF(EV588=0,0,(EW588-EV588)/EV588*100)","v":0},null,null,{"$f":"IF(EY588=0,0,(EZ588-EY588)/EY588*100)","v":0},null,null,{"$f":"IF(FB588=0,0,(FC588-FB588)/FB588*100)","v":0},null,null,{"$f":"IF(FE588=0,0,(FF588-FE588)/FE588*100)","v":0}]
["1",null,"L1_2","для прочих потребителей без НДС",null,null,{"$f":"F582=\"одноставочный\"","v":true},null,null,null,null,"Темп роста тарифов с 01.07","%",{"$f":"IF(N587=0,0,N588/N587)*100","v":{"$error":"#N/A"}},{"$f":"IF(O587=0,0,O588/O587)*100","v":{"$error":"#N/A"}},null,{"$f":"IF(Q587=0,0,Q588/Q587)*100","v":{"$error":"#N/A"}},{"$f":"IF(R587=0,0,R588/R587)*100","v":{"$error":"#N/A"}},null,{"$f":"IF(T587=0,0,T588/T587)*100","v":{"$error":"#N/A"}},{"$f":"IF(U587=0,0,U588/U587)*100","v":{"$error":"#N/A"}},null,{"$f":"IF(W587=0,0,W588/W587)*100","v":{"$error":"#N/A"}},{"$f":"IF(X587=0,0,X588/X587)*100","v":{"$error":"#N/A"}},null,{"$f":"IF(Z587=0,0,Z588/Z587)*100","v":{"$error":"#N/A"}},{"$f":"IF(AA587=0,0,AA588/AA587)*100","v":{"$error":"#N/A"}},null,{"$f":"IF(AC587=0,0,AC588/AC587)*100","v":{"$error":"#N/A"}},{"$f":"IF(AD587=0,0,AD588/AD587)*100","v":{"$error":"#N/A"}},null,{"$f":"IF(AF587=0,0,AF588/AF587)*100","v":{"$error":"#N/A"}},{"$f":"IF(AG587=0,0,AG588/AG587)*100","v":{"$error":"#N/A"}},null,{"$f":"IF(AI587=0,0,AI588/AI587)*100","v":{"$error":"#N/A"}},{"$f":"IF(AJ587=0,0,AJ588/AJ587)*100","v":{"$error":"#N/A"}},null,{"$f":"IF(AL587=0,0,AL588/AL587)*100","v":{"$error":"#N/A"}},{"$f":"IF(AM587=0,0,AM588/AM587)*100","v":{"$error":"#N/A"}},null,{"$f":"IF(AO587=0,0,AO588/AO587)*100","v":{"$error":"#N/A"}},{"$f":"IF(AP587=0,0,AP588/AP587)*100","v":{"$error":"#N/A"}},null,{"$f":"IF(AR587=0,0,AR588/AR587)*100","v":0},{"$f":"IF(AS587=0,0,AS588/AS587)*100","v":0},null,{"$f":"IF(AU587=0,0,AU588/AU587)*100","v":0},{"$f":"IF(AV587=0,0,AV588/AV587)*100","v":0},null,{"$f":"IF(AX587=0,0,AX588/AX587)*100","v":0},{"$f":"IF(AY587=0,0,AY588/AY587)*100","v":0},null,{"$f":"IF(BA587=0,0,BA588/BA587)*100","v":0},{"$f":"IF(BB587=0,0,BB588/BB587)*100","v":0},null,{"$f":"IF(BD587=0,0,BD588/BD587)*100","v":0},{"$f":"IF(BE587=0,0,BE588/BE587)*100","v":0},null,{"$f":"IF(BG587=0,0,BG588/BG587)*100","v":0},{"$f":"IF(BH587=0,0,BH588/BH587)*100","v":0},null,{"$f":"IF(BJ587=0,0,BJ588/BJ587)*100","v":0},{"$f":"IF(BK587=0,0,BK588/BK587)*100","v":0},null,{"$f":"IF(BM587=0,0,BM588/BM587)*100","v":0},{"$f":"IF(BN587=0,0,BN588/BN587)*100","v":0},null,{"$f":"IF(BP587=0,0,BP588/BP587)*100","v":0},{"$f":"IF(BQ587=0,0,BQ588/BQ587)*100","v":0},null,{"$f":"IF(BS587=0,0,BS588/BS587)*100","v":0},{"$f":"IF(BT587=0,0,BT588/BT587)*100","v":0},null,{"$f":"IF(BV587=0,0,BV588/BV587)*100","v":0},{"$f":"IF(BW587=0,0,BW588/BW587)*100","v":0},null,{"$f":"IF(BY587=0,0,BY588/BY587)*100","v":0},{"$f":"IF(BZ587=0,0,BZ588/BZ587)*100","v":0},null,{"$f":"IF(CB587=0,0,CB588/CB587)*100","v":0},{"$f":"IF(CC587=0,0,CC588/CC587)*100","v":0},null,{"$f":"IF(CE587=0,0,CE588/CE587)*100","v":0},{"$f":"IF(CF587=0,0,CF588/CF587)*100","v":0},null,{"$f":"IF(CH587=0,0,CH588/CH587)*100","v":0},{"$f":"IF(CI587=0,0,CI588/CI587)*100","v":0},null,{"$f":"IF(CK587=0,0,CK588/CK587)*100","v":0},{"$f":"IF(CL587=0,0,CL588/CL587)*100","v":0},null,{"$f":"IF(CN587=0,0,CN588/CN587)*100","v":0},{"$f":"IF(CO587=0,0,CO588/CO587)*100","v":0},null,{"$f":"IF(CQ587=0,0,CQ588/CQ587)*100","v":0},{"$f":"IF(CR587=0,0,CR588/CR587)*100","v":0},null,{"$f":"IF(CT587=0,0,CT588/CT587)*100","v":0},{"$f":"IF(CU587=0,0,CU588/CU587)*100","v":0},null,{"$f":"IF(CW587=0,0,CW588/CW587)*100","v":0},{"$f":"IF(CX587=0,0,CX588/CX587)*100","v":0},null,{"$f":"IF(CZ587=0,0,CZ588/CZ587)*100","v":0},{"$f":"IF(DA587=0,0,DA588/DA587)*100","v":0},null,{"$f":"IF(DC587=0,0,DC588/DC587)*100","v":0},{"$f":"IF(DD587=0,0,DD588/DD587)*100","v":0},null,{"$f":"IF(DF587=0,0,DF588/DF587)*100","v":0},{"$f":"IF(DG587=0,0,DG588/DG587)*100","v":0},null,{"$f":"IF(DI587=0,0,DI588/DI587)*100","v":0},{"$f":"IF(DJ587=0,0,DJ588/DJ587)*100","v":0},null,{"$f":"IF(DL587=0,0,DL588/DL587)*100","v":0},{"$f":"IF(DM587=0,0,DM588/DM587)*100","v":0},null,{"$f":"IF(DO587=0,0,DO588/DO587)*100","v":0},{"$f":"IF(DP587=0,0,DP588/DP587)*100","v":0},null,{"$f":"IF(DR587=0,0,DR588/DR587)*100","v":0},{"$f":"IF(DS587=0,0,DS588/DS587)*100","v":0},null,{"$f":"IF(DU587=0,0,DU588/DU587)*100","v":0},{"$f":"IF(DV587=0,0,DV588/DV587)*100","v":0},null,{"$f":"IF(DX587=0,0,DX588/DX587)*100","v":0},{"$f":"IF(DY587=0,0,DY588/DY587)*100","v":0},null,{"$f":"IF(EA587=0,0,EA588/EA587)*100","v":0},{"$f":"IF(EB587=0,0,EB588/EB587)*100","v":0},null,{"$f":"IF(ED587=0,0,ED588/ED587)*100","v":0},{"$f":"IF(EE587=0,0,EE588/EE587)*100","v":0},null,{"$f":"IF(EG587=0,0,EG588/EG587)*100","v":0},{"$f":"IF(EH587=0,0,EH588/EH587)*100","v":0},null,{"$f":"IF(EJ587=0,0,EJ588/EJ587)*100","v":0},{"$f":"IF(EK587=0,0,EK588/EK587)*100","v":0},null,{"$f":"IF(EM587=0,0,EM588/EM587)*100","v":0},{"$f":"IF(EN587=0,0,EN588/EN587)*100","v":0},null,{"$f":"IF(EP587=0,0,EP588/EP587)*100","v":0},{"$f":"IF(EQ587=0,0,EQ588/EQ587)*100","v":0},null,{"$f":"IF(ES587=0,0,ES588/ES587)*100","v":0},{"$f":"IF(ET587=0,0,ET588/ET587)*100","v":0},null,{"$f":"IF(EV587=0,0,EV588/EV587)*100","v":0},{"$f":"IF(EW587=0,0,EW588/EW587)*100","v":0},null,{"$f":"IF(EY587=0,0,EY588/EY587)*100","v":0},{"$f":"IF(EZ587=0,0,EZ588/EZ587)*100","v":0},null,{"$f":"IF(FB587=0,0,FB588/FB587)*100","v":0},{"$f":"IF(FC587=0,0,FC588/FC587)*100","v":0},null,{"$f":"IF(FE587=0,0,FE588/FE587)*100","v":0},{"$f":"IF(FF587=0,0,FF588/FF587)*100","v":0}]
["1","ПО.прочие","L1_3","для прочих потребителей без НДС",null,null,{"$f":"F582=\"одноставочный\"","v":true},null,null,null,null,"Объём реализации услуги с 01.01 по 31.12","тыс.куб.м",{"$f":"SUMIFS(INDEX(Калькуляция!$T$15:$AM$143,,MATCH(N$3,Калькуляция!$T$3:$AM$3,0)),Калькуляция!$A$15:$A$143,$A590,Калькуляция!$B$15:$B$143,$B590)","v":{"$error":"#N/A"}},{"$f":"SUMIFS(INDEX(Калькуляция!$T$15:$AM$143,,MATCH(O$3,Калькуляция!$T$3:$AM$3,0)),Калькуляция!$A$15:$A$143,$A590,Калькуляция!$B$15:$B$143,$B590)","v":{"$error":"#N/A"}},{"$f":"IF(N590=0,0,(O590-N590)/N590*100)","v":{"$error":"#N/A"}},{"$f":"SUMIFS(INDEX(Калькуляция!$T$15:$AM$143,,MATCH(Q$3,Калькуляция!$T$3:$AM$3,0)),Калькуляция!$A$15:$A$143,$A590,Калькуляция!$B$15:$B$143,$B590)","v":{"$error":"#N/A"}},{"$f":"SUMIFS(INDEX(Калькуляция!$T$15:$AM$143,,MATCH(R$3,Калькуляция!$T$3:$AM$3,0)),Калькуляция!$A$15:$A$143,$A590,Калькуляция!$B$15:$B$143,$B590)","v":{"$error":"#N/A"}},{"$f":"IF(Q590=0,0,(R590-Q590)/Q590*100)","v":{"$error":"#N/A"}},{"$f":"SUMIFS(INDEX(Калькуляция!$T$15:$AM$143,,MATCH(T$3,Калькуляция!$T$3:$AM$3,0)),Калькуляция!$A$15:$A$143,$A590,Калькуляция!$B$15:$B$143,$B590)","v":{"$error":"#N/A"}},{"$f":"SUMIFS(INDEX(Калькуляция!$T$15:$AM$143,,MATCH(U$3,Калькуляция!$T$3:$AM$3,0)),Калькуляция!$A$15:$A$143,$A590,Калькуляция!$B$15:$B$143,$B590)","v":{"$error":"#N/A"}},{"$f":"IF(T590=0,0,(U590-T590)/T590*100)","v":{"$error":"#N/A"}},{"$f":"SUMIFS(INDEX(Калькуляция!$T$15:$AM$143,,MATCH(W$3,Калькуляция!$T$3:$AM$3,0)),Калькуляция!$A$15:$A$143,$A590,Калькуляция!$B$15:$B$143,$B590)","v":{"$error":"#N/A"}},{"$f":"SUMIFS(INDEX(Калькуляция!$T$15:$AM$143,,MATCH(X$3,Калькуляция!$T$3:$AM$3,0)),Калькуляция!$A$15:$A$143,$A590,Калькуляция!$B$15:$B$143,$B590)","v":{"$error":"#N/A"}},{"$f":"IF(W590=0,0,(X590-W590)/W590*100)","v":{"$error":"#N/A"}},{"$f":"SUMIFS(INDEX(Калькуляция!$T$15:$AM$143,,MATCH(Z$3,Калькуляция!$T$3:$AM$3,0)),Калькуляция!$A$15:$A$143,$A590,Калькуляция!$B$15:$B$143,$B590)","v":{"$error":"#N/A"}},{"$f":"SUMIFS(INDEX(Калькуляция!$T$15:$AM$143,,MATCH(AA$3,Калькуляция!$T$3:$AM$3,0)),Калькуляция!$A$15:$A$143,$A590,Калькуляция!$B$15:$B$143,$B590)","v":{"$error":"#N/A"}},{"$f":"IF(Z590=0,0,(AA590-Z590)/Z590*100)","v":{"$error":"#N/A"}},{"$f":"SUMIFS(INDEX(Калькуляция!$T$15:$AM$143,,MATCH(AC$3,Калькуляция!$T$3:$AM$3,0)),Калькуляция!$A$15:$A$143,$A590,Калькуляция!$B$15:$B$143,$B590)","v":{"$error":"#N/A"}},{"$f":"SUMIFS(INDEX(Калькуляция!$T$15:$AM$143,,MATCH(AD$3,Калькуляция!$T$3:$AM$3,0)),Калькуляция!$A$15:$A$143,$A590,Калькуляция!$B$15:$B$143,$B590)","v":{"$error":"#N/A"}},{"$f":"IF(AC590=0,0,(AD590-AC590)/AC590*100)","v":{"$error":"#N/A"}},{"$f":"SUMIFS(INDEX(Калькуляция!$T$15:$AM$143,,MATCH(AF$3,Калькуляция!$T$3:$AM$3,0)),Калькуляция!$A$15:$A$143,$A590,Калькуляция!$B$15:$B$143,$B590)","v":{"$error":"#N/A"}},{"$f":"SUMIFS(INDEX(Калькуляция!$T$15:$AM$143,,MATCH(AG$3,Калькуляция!$T$3:$AM$3,0)),Калькуляция!$A$15:$A$143,$A590,Калькуляция!$B$15:$B$143,$B590)","v":{"$error":"#N/A"}},{"$f":"IF(AF590=0,0,(AG590-AF590)/AF590*100)","v":{"$error":"#N/A"}},{"$f":"SUMIFS(INDEX(Калькуляция!$T$15:$AM$143,,MATCH(AI$3,Калькуляция!$T$3:$AM$3,0)),Калькуляция!$A$15:$A$143,$A590,Калькуляция!$B$15:$B$143,$B590)","v":{"$error":"#N/A"}},{"$f":"SUMIFS(INDEX(Калькуляция!$T$15:$AM$143,,MATCH(AJ$3,Калькуляция!$T$3:$AM$3,0)),Калькуляция!$A$15:$A$143,$A590,Калькуляция!$B$15:$B$143,$B590)","v":{"$error":"#N/A"}},{"$f":"IF(AI590=0,0,(AJ590-AI590)/AI590*100)","v":{"$error":"#N/A"}},{"$f":"SUMIFS(INDEX(Калькуляция!$T$15:$AM$143,,MATCH(AL$3,Калькуляция!$T$3:$AM$3,0)),Калькуляция!$A$15:$A$143,$A590,Калькуляция!$B$15:$B$143,$B590)","v":{"$error":"#N/A"}},{"$f":"SUMIFS(INDEX(Калькуляция!$T$15:$AM$143,,MATCH(AM$3,Калькуляция!$T$3:$AM$3,0)),Калькуляция!$A$15:$A$143,$A590,Калькуляция!$B$15:$B$143,$B590)","v":{"$error":"#N/A"}},{"$f":"IF(AL590=0,0,(AM590-AL590)/AL590*100)","v":{"$error":"#N/A"}},{"$f":"SUMIFS(INDEX(Калькуляция!$T$15:$AM$143,,MATCH(AO$3,Калькуляция!$T$3:$AM$3,0)),Калькуляция!$A$15:$A$143,$A590,Калькуляция!$B$15:$B$143,$B590)","v":{"$error":"#N/A"}},{"$f":"SUMIFS(INDEX(Калькуляция!$T$15:$AM$143,,MATCH(AP$3,Калькуляция!$T$3:$AM$3,0)),Калькуляция!$A$15:$A$143,$A590,Калькуляция!$B$15:$B$143,$B590)","v":{"$error":"#N/A"}},{"$f":"IF(AO590=0,0,(AP590-AO590)/AO590*100)","v":{"$error":"#N/A"}},null,null,{"$f":"IF(AR590=0,0,(AS590-AR590)/AR590*100)","v":0},null,null,{"$f":"IF(AU590=0,0,(AV590-AU590)/AU590*100)","v":0},null,null,{"$f":"IF(AX590=0,0,(AY590-AX590)/AX590*100)","v":0},null,null,{"$f":"IF(BA590=0,0,(BB590-BA590)/BA590*100)","v":0},null,null,{"$f":"IF(BD590=0,0,(BE590-BD590)/BD590*100)","v":0},null,null,{"$f":"IF(BG590=0,0,(BH590-BG590)/BG590*100)","v":0},null,null,{"$f":"IF(BJ590=0,0,(BK590-BJ590)/BJ590*100)","v":0},null,null,{"$f":"IF(BM590=0,0,(BN590-BM590)/BM590*100)","v":0},null,null,{"$f":"IF(BP590=0,0,(BQ590-BP590)/BP590*100)","v":0},null,null,{"$f":"IF(BS590=0,0,(BT590-BS590)/BS590*100)","v":0},null,null,{"$f":"IF(BV590=0,0,(BW590-BV590)/BV590*100)","v":0},null,null,{"$f":"IF(BY590=0,0,(BZ590-BY590)/BY590*100)","v":0},null,null,{"$f":"IF(CB590=0,0,(CC590-CB590)/CB590*100)","v":0},null,null,{"$f":"IF(CE590=0,0,(CF590-CE590)/CE590*100)","v":0},null,null,{"$f":"IF(CH590=0,0,(CI590-CH590)/CH590*100)","v":0},null,null,{"$f":"IF(CK590=0,0,(CL590-CK590)/CK590*100)","v":0},null,null,{"$f":"IF(CN590=0,0,(CO590-CN590)/CN590*100)","v":0},null,null,{"$f":"IF(CQ590=0,0,(CR590-CQ590)/CQ590*100)","v":0},null,null,{"$f":"IF(CT590=0,0,(CU590-CT590)/CT590*100)","v":0},null,null,{"$f":"IF(CW590=0,0,(CX590-CW590)/CW590*100)","v":0},null,null,{"$f":"IF(CZ590=0,0,(DA590-CZ590)/CZ590*100)","v":0},null,null,{"$f":"IF(DC590=0,0,(DD590-DC590)/DC590*100)","v":0},null,null,{"$f":"IF(DF590=0,0,(DG590-DF590)/DF590*100)","v":0},null,null,{"$f":"IF(DI590=0,0,(DJ590-DI590)/DI590*100)","v":0},null,null,{"$f":"IF(DL590=0,0,(DM590-DL590)/DL590*100)","v":0},null,null,{"$f":"IF(DO590=0,0,(DP590-DO590)/DO590*100)","v":0},null,null,{"$f":"IF(DR590=0,0,(DS590-DR590)/DR590*100)","v":0},null,null,{"$f":"IF(DU590=0,0,(DV590-DU590)/DU590*100)","v":0},null,null,{"$f":"IF(DX590=0,0,(DY590-DX590)/DX590*100)","v":0},null,null,{"$f":"IF(EA590=0,0,(EB590-EA590)/EA590*100)","v":0},null,null,{"$f":"IF(ED590=0,0,(EE590-ED590)/ED590*100)","v":0},null,null,{"$f":"IF(EG590=0,0,(EH590-EG590)/EG590*100)","v":0},null,null,{"$f":"IF(EJ590=0,0,(EK590-EJ590)/EJ590*100)","v":0},null,null,{"$f":"IF(EM590=0,0,(EN590-EM590)/EM590*100)","v":0},null,null,{"$f":"IF(EP590=0,0,(EQ590-EP590)/EP590*100)","v":0},null,null,{"$f":"IF(ES590=0,0,(ET590-ES590)/ES590*100)","v":0},null,null,{"$f":"IF(EV590=0,0,(EW590-EV590)/EV590*100)","v":0},null,null,{"$f":"IF(EY590=0,0,(EZ590-EY590)/EY590*100)","v":0},null,null,{"$f":"IF(FB590=0,0,(FC590-FB590)/FB590*100)","v":0},null,null,{"$f":"IF(FE590=0,0,(FF590-FE590)/FE590*100)","v":0}]
["1","тариф.население.I","L1_1","для населения с 01.01 по 30.06 с НДС",null,null,{"$f":"F582=\"одноставочный\"","v":true},null,null,null,null,"Тариф с 01.01 по 30.06 для населения с НДС","руб./куб.м",{"$f":"SUMIFS(INDEX(Калькуляция!$T$15:$AM$143,,MATCH(N$3,Калькуляция!$T$3:$AM$3,0)),Калькуляция!$A$15:$A$143,$A591,Калькуляция!$B$15:$B$143,$B591)","v":{"$error":"#N/A"}},{"$f":"SUMIFS(INDEX(Калькуляция!$T$15:$AM$143,,MATCH(O$3,Калькуляция!$T$3:$AM$3,0)),Калькуляция!$A$15:$A$143,$A591,Калькуляция!$B$15:$B$143,$B591)","v":{"$error":"#N/A"}},{"$f":"IF(N591=0,0,(O591-N591)/N591*100)","v":{"$error":"#N/A"}},{"$f":"SUMIFS(INDEX(Калькуляция!$T$15:$AM$143,,MATCH(Q$3,Калькуляция!$T$3:$AM$3,0)),Калькуляция!$A$15:$A$143,$A591,Калькуляция!$B$15:$B$143,$B591)","v":{"$error":"#N/A"}},{"$f":"SUMIFS(INDEX(Калькуляция!$T$15:$AM$143,,MATCH(R$3,Калькуляция!$T$3:$AM$3,0)),Калькуляция!$A$15:$A$143,$A591,Калькуляция!$B$15:$B$143,$B591)","v":{"$error":"#N/A"}},{"$f":"IF(Q591=0,0,(R591-Q591)/Q591*100)","v":{"$error":"#N/A"}},{"$f":"SUMIFS(INDEX(Калькуляция!$T$15:$AM$143,,MATCH(T$3,Калькуляция!$T$3:$AM$3,0)),Калькуляция!$A$15:$A$143,$A591,Калькуляция!$B$15:$B$143,$B591)","v":{"$error":"#N/A"}},{"$f":"SUMIFS(INDEX(Калькуляция!$T$15:$AM$143,,MATCH(U$3,Калькуляция!$T$3:$AM$3,0)),Калькуляция!$A$15:$A$143,$A591,Калькуляция!$B$15:$B$143,$B591)","v":{"$error":"#N/A"}},{"$f":"IF(T591=0,0,(U591-T591)/T591*100)","v":{"$error":"#N/A"}},{"$f":"SUMIFS(INDEX(Калькуляция!$T$15:$AM$143,,MATCH(W$3,Калькуляция!$T$3:$AM$3,0)),Калькуляция!$A$15:$A$143,$A591,Калькуляция!$B$15:$B$143,$B591)","v":{"$error":"#N/A"}},{"$f":"SUMIFS(INDEX(Калькуляция!$T$15:$AM$143,,MATCH(X$3,Калькуляция!$T$3:$AM$3,0)),Калькуляция!$A$15:$A$143,$A591,Калькуляция!$B$15:$B$143,$B591)","v":{"$error":"#N/A"}},{"$f":"IF(W591=0,0,(X591-W591)/W591*100)","v":{"$error":"#N/A"}},{"$f":"SUMIFS(INDEX(Калькуляция!$T$15:$AM$143,,MATCH(Z$3,Калькуляция!$T$3:$AM$3,0)),Калькуляция!$A$15:$A$143,$A591,Калькуляция!$B$15:$B$143,$B591)","v":{"$error":"#N/A"}},{"$f":"SUMIFS(INDEX(Калькуляция!$T$15:$AM$143,,MATCH(AA$3,Калькуляция!$T$3:$AM$3,0)),Калькуляция!$A$15:$A$143,$A591,Калькуляция!$B$15:$B$143,$B591)","v":{"$error":"#N/A"}},{"$f":"IF(Z591=0,0,(AA591-Z591)/Z591*100)","v":{"$error":"#N/A"}},{"$f":"SUMIFS(INDEX(Калькуляция!$T$15:$AM$143,,MATCH(AC$3,Калькуляция!$T$3:$AM$3,0)),Калькуляция!$A$15:$A$143,$A591,Калькуляция!$B$15:$B$143,$B591)","v":{"$error":"#N/A"}},{"$f":"SUMIFS(INDEX(Калькуляция!$T$15:$AM$143,,MATCH(AD$3,Калькуляция!$T$3:$AM$3,0)),Калькуляция!$A$15:$A$143,$A591,Калькуляция!$B$15:$B$143,$B591)","v":{"$error":"#N/A"}},{"$f":"IF(AC591=0,0,(AD591-AC591)/AC591*100)","v":{"$error":"#N/A"}},{"$f":"SUMIFS(INDEX(Калькуляция!$T$15:$AM$143,,MATCH(AF$3,Калькуляция!$T$3:$AM$3,0)),Калькуляция!$A$15:$A$143,$A591,Калькуляция!$B$15:$B$143,$B591)","v":{"$error":"#N/A"}},{"$f":"SUMIFS(INDEX(Калькуляция!$T$15:$AM$143,,MATCH(AG$3,Калькуляция!$T$3:$AM$3,0)),Калькуляция!$A$15:$A$143,$A591,Калькуляция!$B$15:$B$143,$B591)","v":{"$error":"#N/A"}},{"$f":"IF(AF591=0,0,(AG591-AF591)/AF591*100)","v":{"$error":"#N/A"}},{"$f":"SUMIFS(INDEX(Калькуляция!$T$15:$AM$143,,MATCH(AI$3,Калькуляция!$T$3:$AM$3,0)),Калькуляция!$A$15:$A$143,$A591,Калькуляция!$B$15:$B$143,$B591)","v":{"$error":"#N/A"}},{"$f":"SUMIFS(INDEX(Калькуляция!$T$15:$AM$143,,MATCH(AJ$3,Калькуляция!$T$3:$AM$3,0)),Калькуляция!$A$15:$A$143,$A591,Калькуляция!$B$15:$B$143,$B591)","v":{"$error":"#N/A"}},{"$f":"IF(AI591=0,0,(AJ591-AI591)/AI591*100)","v":{"$error":"#N/A"}},{"$f":"SUMIFS(INDEX(Калькуляция!$T$15:$AM$143,,MATCH(AL$3,Калькуляция!$T$3:$AM$3,0)),Калькуляция!$A$15:$A$143,$A591,Калькуляция!$B$15:$B$143,$B591)","v":{"$error":"#N/A"}},{"$f":"SUMIFS(INDEX(Калькуляция!$T$15:$AM$143,,MATCH(AM$3,Калькуляция!$T$3:$AM$3,0)),Калькуляция!$A$15:$A$143,$A591,Калькуляция!$B$15:$B$143,$B591)","v":{"$error":"#N/A"}},{"$f":"IF(AL591=0,0,(AM591-AL591)/AL591*100)","v":{"$error":"#N/A"}},{"$f":"SUMIFS(INDEX(Калькуляция!$T$15:$AM$143,,MATCH(AO$3,Калькуляция!$T$3:$AM$3,0)),Калькуляция!$A$15:$A$143,$A591,Калькуляция!$B$15:$B$143,$B591)","v":{"$error":"#N/A"}},{"$f":"SUMIFS(INDEX(Калькуляция!$T$15:$AM$143,,MATCH(AP$3,Калькуляция!$T$3:$AM$3,0)),Калькуляция!$A$15:$A$143,$A591,Калькуляция!$B$15:$B$143,$B591)","v":{"$error":"#N/A"}},{"$f":"IF(AO591=0,0,(AP591-AO591)/AO591*100)","v":{"$error":"#N/A"}},null,null,{"$f":"IF(AR591=0,0,(AS591-AR591)/AR591*100)","v":0},null,null,{"$f":"IF(AU591=0,0,(AV591-AU591)/AU591*100)","v":0},null,null,{"$f":"IF(AX591=0,0,(AY591-AX591)/AX591*100)","v":0},null,null,{"$f":"IF(BA591=0,0,(BB591-BA591)/BA591*100)","v":0},null,null,{"$f":"IF(BD591=0,0,(BE591-BD591)/BD591*100)","v":0},null,null,{"$f":"IF(BG591=0,0,(BH591-BG591)/BG591*100)","v":0},null,null,{"$f":"IF(BJ591=0,0,(BK591-BJ591)/BJ591*100)","v":0},null,null,{"$f":"IF(BM591=0,0,(BN591-BM591)/BM591*100)","v":0},null,null,{"$f":"IF(BP591=0,0,(BQ591-BP591)/BP591*100)","v":0},null,null,{"$f":"IF(BS591=0,0,(BT591-BS591)/BS591*100)","v":0},null,null,{"$f":"IF(BV591=0,0,(BW591-BV591)/BV591*100)","v":0},null,null,{"$f":"IF(BY591=0,0,(BZ591-BY591)/BY591*100)","v":0},null,null,{"$f":"IF(CB591=0,0,(CC591-CB591)/CB591*100)","v":0},null,null,{"$f":"IF(CE591=0,0,(CF591-CE591)/CE591*100)","v":0},null,null,{"$f":"IF(CH591=0,0,(CI591-CH591)/CH591*100)","v":0},null,null,{"$f":"IF(CK591=0,0,(CL591-CK591)/CK591*100)","v":0},null,null,{"$f":"IF(CN591=0,0,(CO591-CN591)/CN591*100)","v":0},null,null,{"$f":"IF(CQ591=0,0,(CR591-CQ591)/CQ591*100)","v":0},null,null,{"$f":"IF(CT591=0,0,(CU591-CT591)/CT591*100)","v":0},null,null,{"$f":"IF(CW591=0,0,(CX591-CW591)/CW591*100)","v":0},null,null,{"$f":"IF(CZ591=0,0,(DA591-CZ591)/CZ591*100)","v":0},null,null,{"$f":"IF(DC591=0,0,(DD591-DC591)/DC591*100)","v":0},null,null,{"$f":"IF(DF591=0,0,(DG591-DF591)/DF591*100)","v":0},null,null,{"$f":"IF(DI591=0,0,(DJ591-DI591)/DI591*100)","v":0},null,null,{"$f":"IF(DL591=0,0,(DM591-DL591)/DL591*100)","v":0},null,null,{"$f":"IF(DO591=0,0,(DP591-DO591)/DO591*100)","v":0},null,null,{"$f":"IF(DR591=0,0,(DS591-DR591)/DR591*100)","v":0},null,null,{"$f":"IF(DU591=0,0,(DV591-DU591)/DU591*100)","v":0},null,null,{"$f":"IF(DX591=0,0,(DY591-DX591)/DX591*100)","v":0},null,null,{"$f":"IF(EA591=0,0,(EB591-EA591)/EA591*100)","v":0},null,null,{"$f":"IF(ED591=0,0,(EE591-ED591)/ED591*100)","v":0},null,null,{"$f":"IF(EG591=0,0,(EH591-EG591)/EG591*100)","v":0},null,null,{"$f":"IF(EJ591=0,0,(EK591-EJ591)/EJ591*100)","v":0},null,null,{"$f":"IF(EM591=0,0,(EN591-EM591)/EM591*100)","v":0},null,null,{"$f":"IF(EP591=0,0,(EQ591-EP591)/EP591*100)","v":0},null,null,{"$f":"IF(ES591=0,0,(ET591-ES591)/ES591*100)","v":0},null,null,{"$f":"IF(EV591=0,0,(EW591-EV591)/EV591*100)","v":0},null,null,{"$f":"IF(EY591=0,0,(EZ591-EY591)/EY591*100)","v":0},null,null,{"$f":"IF(FB591=0,0,(FC591-FB591)/FB591*100)","v":0},null,null,{"$f":"IF(FE591=0,0,(FF591-FE591)/FE591*100)","v":0}]
["1","тариф.население.II","L1_1","для населения с 01.07 по 31.12 с НДС",null,null,{"$f":"F582=\"одноставочный\"","v":true},null,null,null,null,"Тариф с 01.07 по 31.12 для населения с НДС","руб./куб.м",{"$f":"SUMIFS(INDEX(Калькуляция!$T$15:$AM$143,,MATCH(N$3,Калькуляция!$T$3:$AM$3,0)),Калькуляция!$A$15:$A$143,$A592,Калькуляция!$B$15:$B$143,$B592)","v":{"$error":"#N/A"}},{"$f":"SUMIFS(INDEX(Калькуляция!$T$15:$AM$143,,MATCH(O$3,Калькуляция!$T$3:$AM$3,0)),Калькуляция!$A$15:$A$143,$A592,Калькуляция!$B$15:$B$143,$B592)","v":{"$error":"#N/A"}},{"$f":"IF(N592=0,0,(O592-N592)/N592*100)","v":{"$error":"#N/A"}},{"$f":"SUMIFS(INDEX(Калькуляция!$T$15:$AM$143,,MATCH(Q$3,Калькуляция!$T$3:$AM$3,0)),Калькуляция!$A$15:$A$143,$A592,Калькуляция!$B$15:$B$143,$B592)","v":{"$error":"#N/A"}},{"$f":"SUMIFS(INDEX(Калькуляция!$T$15:$AM$143,,MATCH(R$3,Калькуляция!$T$3:$AM$3,0)),Калькуляция!$A$15:$A$143,$A592,Калькуляция!$B$15:$B$143,$B592)","v":{"$error":"#N/A"}},{"$f":"IF(Q592=0,0,(R592-Q592)/Q592*100)","v":{"$error":"#N/A"}},{"$f":"SUMIFS(INDEX(Калькуляция!$T$15:$AM$143,,MATCH(T$3,Калькуляция!$T$3:$AM$3,0)),Калькуляция!$A$15:$A$143,$A592,Калькуляция!$B$15:$B$143,$B592)","v":{"$error":"#N/A"}},{"$f":"SUMIFS(INDEX(Калькуляция!$T$15:$AM$143,,MATCH(U$3,Калькуляция!$T$3:$AM$3,0)),Калькуляция!$A$15:$A$143,$A592,Калькуляция!$B$15:$B$143,$B592)","v":{"$error":"#N/A"}},{"$f":"IF(T592=0,0,(U592-T592)/T592*100)","v":{"$error":"#N/A"}},{"$f":"SUMIFS(INDEX(Калькуляция!$T$15:$AM$143,,MATCH(W$3,Калькуляция!$T$3:$AM$3,0)),Калькуляция!$A$15:$A$143,$A592,Калькуляция!$B$15:$B$143,$B592)","v":{"$error":"#N/A"}},{"$f":"SUMIFS(INDEX(Калькуляция!$T$15:$AM$143,,MATCH(X$3,Калькуляция!$T$3:$AM$3,0)),Калькуляция!$A$15:$A$143,$A592,Калькуляция!$B$15:$B$143,$B592)","v":{"$error":"#N/A"}},{"$f":"IF(W592=0,0,(X592-W592)/W592*100)","v":{"$error":"#N/A"}},{"$f":"SUMIFS(INDEX(Калькуляция!$T$15:$AM$143,,MATCH(Z$3,Калькуляция!$T$3:$AM$3,0)),Калькуляция!$A$15:$A$143,$A592,Калькуляция!$B$15:$B$143,$B592)","v":{"$error":"#N/A"}},{"$f":"SUMIFS(INDEX(Калькуляция!$T$15:$AM$143,,MATCH(AA$3,Калькуляция!$T$3:$AM$3,0)),Калькуляция!$A$15:$A$143,$A592,Калькуляция!$B$15:$B$143,$B592)","v":{"$error":"#N/A"}},{"$f":"IF(Z592=0,0,(AA592-Z592)/Z592*100)","v":{"$error":"#N/A"}},{"$f":"SUMIFS(INDEX(Калькуляция!$T$15:$AM$143,,MATCH(AC$3,Калькуляция!$T$3:$AM$3,0)),Калькуляция!$A$15:$A$143,$A592,Калькуляция!$B$15:$B$143,$B592)","v":{"$error":"#N/A"}},{"$f":"SUMIFS(INDEX(Калькуляция!$T$15:$AM$143,,MATCH(AD$3,Калькуляция!$T$3:$AM$3,0)),Калькуляция!$A$15:$A$143,$A592,Калькуляция!$B$15:$B$143,$B592)","v":{"$error":"#N/A"}},{"$f":"IF(AC592=0,0,(AD592-AC592)/AC592*100)","v":{"$error":"#N/A"}},{"$f":"SUMIFS(INDEX(Калькуляция!$T$15:$AM$143,,MATCH(AF$3,Калькуляция!$T$3:$AM$3,0)),Калькуляция!$A$15:$A$143,$A592,Калькуляция!$B$15:$B$143,$B592)","v":{"$error":"#N/A"}},{"$f":"SUMIFS(INDEX(Калькуляция!$T$15:$AM$143,,MATCH(AG$3,Калькуляция!$T$3:$AM$3,0)),Калькуляция!$A$15:$A$143,$A592,Калькуляция!$B$15:$B$143,$B592)","v":{"$error":"#N/A"}},{"$f":"IF(AF592=0,0,(AG592-AF592)/AF592*100)","v":{"$error":"#N/A"}},{"$f":"SUMIFS(INDEX(Калькуляция!$T$15:$AM$143,,MATCH(AI$3,Калькуляция!$T$3:$AM$3,0)),Калькуляция!$A$15:$A$143,$A592,Калькуляция!$B$15:$B$143,$B592)","v":{"$error":"#N/A"}},{"$f":"SUMIFS(INDEX(Калькуляция!$T$15:$AM$143,,MATCH(AJ$3,Калькуляция!$T$3:$AM$3,0)),Калькуляция!$A$15:$A$143,$A592,Калькуляция!$B$15:$B$143,$B592)","v":{"$error":"#N/A"}},{"$f":"IF(AI592=0,0,(AJ592-AI592)/AI592*100)","v":{"$error":"#N/A"}},{"$f":"SUMIFS(INDEX(Калькуляция!$T$15:$AM$143,,MATCH(AL$3,Калькуляция!$T$3:$AM$3,0)),Калькуляция!$A$15:$A$143,$A592,Калькуляция!$B$15:$B$143,$B592)","v":{"$error":"#N/A"}},{"$f":"SUMIFS(INDEX(Калькуляция!$T$15:$AM$143,,MATCH(AM$3,Калькуляция!$T$3:$AM$3,0)),Калькуляция!$A$15:$A$143,$A592,Калькуляция!$B$15:$B$143,$B592)","v":{"$error":"#N/A"}},{"$f":"IF(AL592=0,0,(AM592-AL592)/AL592*100)","v":{"$error":"#N/A"}},{"$f":"SUMIFS(INDEX(Калькуляция!$T$15:$AM$143,,MATCH(AO$3,Калькуляция!$T$3:$AM$3,0)),Калькуляция!$A$15:$A$143,$A592,Калькуляция!$B$15:$B$143,$B592)","v":{"$error":"#N/A"}},{"$f":"SUMIFS(INDEX(Калькуляция!$T$15:$AM$143,,MATCH(AP$3,Калькуляция!$T$3:$AM$3,0)),Калькуляция!$A$15:$A$143,$A592,Калькуляция!$B$15:$B$143,$B592)","v":{"$error":"#N/A"}},{"$f":"IF(AO592=0,0,(AP592-AO592)/AO592*100)","v":{"$error":"#N/A"}},null,null,{"$f":"IF(AR592=0,0,(AS592-AR592)/AR592*100)","v":0},null,null,{"$f":"IF(AU592=0,0,(AV592-AU592)/AU592*100)","v":0},null,null,{"$f":"IF(AX592=0,0,(AY592-AX592)/AX592*100)","v":0},null,null,{"$f":"IF(BA592=0,0,(BB592-BA592)/BA592*100)","v":0},null,null,{"$f":"IF(BD592=0,0,(BE592-BD592)/BD592*100)","v":0},null,null,{"$f":"IF(BG592=0,0,(BH592-BG592)/BG592*100)","v":0},null,null,{"$f":"IF(BJ592=0,0,(BK592-BJ592)/BJ592*100)","v":0},null,null,{"$f":"IF(BM592=0,0,(BN592-BM592)/BM592*100)","v":0},null,null,{"$f":"IF(BP592=0,0,(BQ592-BP592)/BP592*100)","v":0},null,null,{"$f":"IF(BS592=0,0,(BT592-BS592)/BS592*100)","v":0},null,null,{"$f":"IF(BV592=0,0,(BW592-BV592)/BV592*100)","v":0},null,null,{"$f":"IF(BY592=0,0,(BZ592-BY592)/BY592*100)","v":0},null,null,{"$f":"IF(CB592=0,0,(CC592-CB592)/CB592*100)","v":0},null,null,{"$f":"IF(CE592=0,0,(CF592-CE592)/CE592*100)","v":0},null,null,{"$f":"IF(CH592=0,0,(CI592-CH592)/CH592*100)","v":0},null,null,{"$f":"IF(CK592=0,0,(CL592-CK592)/CK592*100)","v":0},null,null,{"$f":"IF(CN592=0,0,(CO592-CN592)/CN592*100)","v":0},null,null,{"$f":"IF(CQ592=0,0,(CR592-CQ592)/CQ592*100)","v":0},null,null,{"$f":"IF(CT592=0,0,(CU592-CT592)/CT592*100)","v":0},null,null,{"$f":"IF(CW592=0,0,(CX592-CW592)/CW592*100)","v":0},null,null,{"$f":"IF(CZ592=0,0,(DA592-CZ592)/CZ592*100)","v":0},null,null,{"$f":"IF(DC592=0,0,(DD592-DC592)/DC592*100)","v":0},null,null,{"$f":"IF(DF592=0,0,(DG592-DF592)/DF592*100)","v":0},null,null,{"$f":"IF(DI592=0,0,(DJ592-DI592)/DI592*100)","v":0},null,null,{"$f":"IF(DL592=0,0,(DM592-DL592)/DL592*100)","v":0},null,null,{"$f":"IF(DO592=0,0,(DP592-DO592)/DO592*100)","v":0},null,null,{"$f":"IF(DR592=0,0,(DS592-DR592)/DR592*100)","v":0},null,null,{"$f":"IF(DU592=0,0,(DV592-DU592)/DU592*100)","v":0},null,null,{"$f":"IF(DX592=0,0,(DY592-DX592)/DX592*100)","v":0},null,null,{"$f":"IF(EA592=0,0,(EB592-EA592)/EA592*100)","v":0},null,null,{"$f":"IF(ED592=0,0,(EE592-ED592)/ED592*100)","v":0},null,null,{"$f":"IF(EG592=0,0,(EH592-EG592)/EG592*100)","v":0},null,null,{"$f":"IF(EJ592=0,0,(EK592-EJ592)/EJ592*100)","v":0},null,null,{"$f":"IF(EM592=0,0,(EN592-EM592)/EM592*100)","v":0},null,null,{"$f":"IF(EP592=0,0,(EQ592-EP592)/EP592*100)","v":0},null,null,{"$f":"IF(ES592=0,0,(ET592-ES592)/ES592*100)","v":0},null,null,{"$f":"IF(EV592=0,0,(EW592-EV592)/EV592*100)","v":0},null,null,{"$f":"IF(EY592=0,0,(EZ592-EY592)/EY592*100)","v":0},null,null,{"$f":"IF(FB592=0,0,(FC592-FB592)/FB592*100)","v":0},null,null,{"$f":"IF(FE592=0,0,(FF592-FE592)/FE592*100)","v":0}]
["1",null,"L1_2","для населения с НДС",null,null,{"$f":"F582=\"одноставочный\"","v":true},null,null,null,null,"Темп роста тарифов с 01.07","%",{"$f":"IF(N591=0,0,N592/N591)*100","v":{"$error":"#N/A"}},{"$f":"IF(O591=0,0,O592/O591)*100","v":{"$error":"#N/A"}},null,{"$f":"IF(Q591=0,0,Q592/Q591)*100","v":{"$error":"#N/A"}},{"$f":"IF(R591=0,0,R592/R591)*100","v":{"$error":"#N/A"}},null,{"$f":"IF(T591=0,0,T592/T591)*100","v":{"$error":"#N/A"}},{"$f":"IF(U591=0,0,U592/U591)*100","v":{"$error":"#N/A"}},null,{"$f":"IF(W591=0,0,W592/W591)*100","v":{"$error":"#N/A"}},{"$f":"IF(X591=0,0,X592/X591)*100","v":{"$error":"#N/A"}},null,{"$f":"IF(Z591=0,0,Z592/Z591)*100","v":{"$error":"#N/A"}},{"$f":"IF(AA591=0,0,AA592/AA591)*100","v":{"$error":"#N/A"}},null,{"$f":"IF(AC591=0,0,AC592/AC591)*100","v":{"$error":"#N/A"}},{"$f":"IF(AD591=0,0,AD592/AD591)*100","v":{"$error":"#N/A"}},null,{"$f":"IF(AF591=0,0,AF592/AF591)*100","v":{"$error":"#N/A"}},{"$f":"IF(AG591=0,0,AG592/AG591)*100","v":{"$error":"#N/A"}},null,{"$f":"IF(AI591=0,0,AI592/AI591)*100","v":{"$error":"#N/A"}},{"$f":"IF(AJ591=0,0,AJ592/AJ591)*100","v":{"$error":"#N/A"}},null,{"$f":"IF(AL591=0,0,AL592/AL591)*100","v":{"$error":"#N/A"}},{"$f":"IF(AM591=0,0,AM592/AM591)*100","v":{"$error":"#N/A"}},null,{"$f":"IF(AO591=0,0,AO592/AO591)*100","v":{"$error":"#N/A"}},{"$f":"IF(AP591=0,0,AP592/AP591)*100","v":{"$error":"#N/A"}},null,{"$f":"IF(AR591=0,0,AR592/AR591)*100","v":0},{"$f":"IF(AS591=0,0,AS592/AS591)*100","v":0},null,{"$f":"IF(AU591=0,0,AU592/AU591)*100","v":0},{"$f":"IF(AV591=0,0,AV592/AV591)*100","v":0},null,{"$f":"IF(AX591=0,0,AX592/AX591)*100","v":0},{"$f":"IF(AY591=0,0,AY592/AY591)*100","v":0},null,{"$f":"IF(BA591=0,0,BA592/BA591)*100","v":0},{"$f":"IF(BB591=0,0,BB592/BB591)*100","v":0},null,{"$f":"IF(BD591=0,0,BD592/BD591)*100","v":0},{"$f":"IF(BE591=0,0,BE592/BE591)*100","v":0},null,{"$f":"IF(BG591=0,0,BG592/BG591)*100","v":0},{"$f":"IF(BH591=0,0,BH592/BH591)*100","v":0},null,{"$f":"IF(BJ591=0,0,BJ592/BJ591)*100","v":0},{"$f":"IF(BK591=0,0,BK592/BK591)*100","v":0},null,{"$f":"IF(BM591=0,0,BM592/BM591)*100","v":0},{"$f":"IF(BN591=0,0,BN592/BN591)*100","v":0},null,{"$f":"IF(BP591=0,0,BP592/BP591)*100","v":0},{"$f":"IF(BQ591=0,0,BQ592/BQ591)*100","v":0},null,{"$f":"IF(BS591=0,0,BS592/BS591)*100","v":0},{"$f":"IF(BT591=0,0,BT592/BT591)*100","v":0},null,{"$f":"IF(BV591=0,0,BV592/BV591)*100","v":0},{"$f":"IF(BW591=0,0,BW592/BW591)*100","v":0},null,{"$f":"IF(BY591=0,0,BY592/BY591)*100","v":0},{"$f":"IF(BZ591=0,0,BZ592/BZ591)*100","v":0},null,{"$f":"IF(CB591=0,0,CB592/CB591)*100","v":0},{"$f":"IF(CC591=0,0,CC592/CC591)*100","v":0},null,{"$f":"IF(CE591=0,0,CE592/CE591)*100","v":0},{"$f":"IF(CF591=0,0,CF592/CF591)*100","v":0},null,{"$f":"IF(CH591=0,0,CH592/CH591)*100","v":0},{"$f":"IF(CI591=0,0,CI592/CI591)*100","v":0},null,{"$f":"IF(CK591=0,0,CK592/CK591)*100","v":0},{"$f":"IF(CL591=0,0,CL592/CL591)*100","v":0},null,{"$f":"IF(CN591=0,0,CN592/CN591)*100","v":0},{"$f":"IF(CO591=0,0,CO592/CO591)*100","v":0},null,{"$f":"IF(CQ591=0,0,CQ592/CQ591)*100","v":0},{"$f":"IF(CR591=0,0,CR592/CR591)*100","v":0},null,{"$f":"IF(CT591=0,0,CT592/CT591)*100","v":0},{"$f":"IF(CU591=0,0,CU592/CU591)*100","v":0},null,{"$f":"IF(CW591=0,0,CW592/CW591)*100","v":0},{"$f":"IF(CX591=0,0,CX592/CX591)*100","v":0},null,{"$f":"IF(CZ591=0,0,CZ592/CZ591)*100","v":0},{"$f":"IF(DA591=0,0,DA592/DA591)*100","v":0},null,{"$f":"IF(DC591=0,0,DC592/DC591)*100","v":0},{"$f":"IF(DD591=0,0,DD592/DD591)*100","v":0},null,{"$f":"IF(DF591=0,0,DF592/DF591)*100","v":0},{"$f":"IF(DG591=0,0,DG592/DG591)*100","v":0},null,{"$f":"IF(DI591=0,0,DI592/DI591)*100","v":0},{"$f":"IF(DJ591=0,0,DJ592/DJ591)*100","v":0},null,{"$f":"IF(DL591=0,0,DL592/DL591)*100","v":0},{"$f":"IF(DM591=0,0,DM592/DM591)*100","v":0},null,{"$f":"IF(DO591=0,0,DO592/DO591)*100","v":0},{"$f":"IF(DP591=0,0,DP592/DP591)*100","v":0},null,{"$f":"IF(DR591=0,0,DR592/DR591)*100","v":0},{"$f":"IF(DS591=0,0,DS592/DS591)*100","v":0},null,{"$f":"IF(DU591=0,0,DU592/DU591)*100","v":0},{"$f":"IF(DV591=0,0,DV592/DV591)*100","v":0},null,{"$f":"IF(DX591=0,0,DX592/DX591)*100","v":0},{"$f":"IF(DY591=0,0,DY592/DY591)*100","v":0},null,{"$f":"IF(EA591=0,0,EA592/EA591)*100","v":0},{"$f":"IF(EB591=0,0,EB592/EB591)*100","v":0},null,{"$f":"IF(ED591=0,0,ED592/ED591)*100","v":0},{"$f":"IF(EE591=0,0,EE592/EE591)*100","v":0},null,{"$f":"IF(EG591=0,0,EG592/EG591)*100","v":0},{"$f":"IF(EH591=0,0,EH592/EH591)*100","v":0},null,{"$f":"IF(EJ591=0,0,EJ592/EJ591)*100","v":0},{"$f":"IF(EK591=0,0,EK592/EK591)*100","v":0},null,{"$f":"IF(EM591=0,0,EM592/EM591)*100","v":0},{"$f":"IF(EN591=0,0,EN592/EN591)*100","v":0},null,{"$f":"IF(EP591=0,0,EP592/EP591)*100","v":0},{"$f":"IF(EQ591=0,0,EQ592/EQ591)*100","v":0},null,{"$f":"IF(ES591=0,0,ES592/ES591)*100","v":0},{"$f":"IF(ET591=0,0,ET592/ET591)*100","v":0},null,{"$f":"IF(EV591=0,0,EV592/EV591)*100","v":0},{"$f":"IF(EW591=0,0,EW592/EW591)*100","v":0},null,{"$f":"IF(EY591=0,0,EY592/EY591)*100","v":0},{"$f":"IF(EZ591=0,0,EZ592/EZ591)*100","v":0},null,{"$f":"IF(FB591=0,0,FB592/FB591)*100","v":0},{"$f":"IF(FC591=0,0,FC592/FC591)*100","v":0},null,{"$f":"IF(FE591=0,0,FE592/FE591)*100","v":0},{"$f":"IF(FF591=0,0,FF592/FF591)*100","v":0}]
["1","ПО.население","L1_3","для населения с НДС",null,null,{"$f":"F582=\"одноставочный\"","v":true},null,null,null,null,"Объём реализации услуги для населения с 01.01 по 31.12","тыс.куб.м",{"$f":"SUMIFS(INDEX(Калькуляция!$T$15:$AM$143,,MATCH(N$3,Калькуляция!$T$3:$AM$3,0)),Калькуляция!$A$15:$A$143,$A594,Калькуляция!$B$15:$B$143,$B594)","v":{"$error":"#N/A"}},{"$f":"SUMIFS(INDEX(Калькуляция!$T$15:$AM$143,,MATCH(O$3,Калькуляция!$T$3:$AM$3,0)),Калькуляция!$A$15:$A$143,$A594,Калькуляция!$B$15:$B$143,$B594)","v":{"$error":"#N/A"}},{"$f":"IF(N594=0,0,(O594-N594)/N594*100)","v":{"$error":"#N/A"}},{"$f":"SUMIFS(INDEX(Калькуляция!$T$15:$AM$143,,MATCH(Q$3,Калькуляция!$T$3:$AM$3,0)),Калькуляция!$A$15:$A$143,$A594,Калькуляция!$B$15:$B$143,$B594)","v":{"$error":"#N/A"}},{"$f":"SUMIFS(INDEX(Калькуляция!$T$15:$AM$143,,MATCH(R$3,Калькуляция!$T$3:$AM$3,0)),Калькуляция!$A$15:$A$143,$A594,Калькуляция!$B$15:$B$143,$B594)","v":{"$error":"#N/A"}},{"$f":"IF(Q594=0,0,(R594-Q594)/Q594*100)","v":{"$error":"#N/A"}},{"$f":"SUMIFS(INDEX(Калькуляция!$T$15:$AM$143,,MATCH(T$3,Калькуляция!$T$3:$AM$3,0)),Калькуляция!$A$15:$A$143,$A594,Калькуляция!$B$15:$B$143,$B594)","v":{"$error":"#N/A"}},{"$f":"SUMIFS(INDEX(Калькуляция!$T$15:$AM$143,,MATCH(U$3,Калькуляция!$T$3:$AM$3,0)),Калькуляция!$A$15:$A$143,$A594,Калькуляция!$B$15:$B$143,$B594)","v":{"$error":"#N/A"}},{"$f":"IF(T594=0,0,(U594-T594)/T594*100)","v":{"$error":"#N/A"}},{"$f":"SUMIFS(INDEX(Калькуляция!$T$15:$AM$143,,MATCH(W$3,Калькуляция!$T$3:$AM$3,0)),Калькуляция!$A$15:$A$143,$A594,Калькуляция!$B$15:$B$143,$B594)","v":{"$error":"#N/A"}},{"$f":"SUMIFS(INDEX(Калькуляция!$T$15:$AM$143,,MATCH(X$3,Калькуляция!$T$3:$AM$3,0)),Калькуляция!$A$15:$A$143,$A594,Калькуляция!$B$15:$B$143,$B594)","v":{"$error":"#N/A"}},{"$f":"IF(W594=0,0,(X594-W594)/W594*100)","v":{"$error":"#N/A"}},{"$f":"SUMIFS(INDEX(Калькуляция!$T$15:$AM$143,,MATCH(Z$3,Калькуляция!$T$3:$AM$3,0)),Калькуляция!$A$15:$A$143,$A594,Калькуляция!$B$15:$B$143,$B594)","v":{"$error":"#N/A"}},{"$f":"SUMIFS(INDEX(Калькуляция!$T$15:$AM$143,,MATCH(AA$3,Калькуляция!$T$3:$AM$3,0)),Калькуляция!$A$15:$A$143,$A594,Калькуляция!$B$15:$B$143,$B594)","v":{"$error":"#N/A"}},{"$f":"IF(Z594=0,0,(AA594-Z594)/Z594*100)","v":{"$error":"#N/A"}},{"$f":"SUMIFS(INDEX(Калькуляция!$T$15:$AM$143,,MATCH(AC$3,Калькуляция!$T$3:$AM$3,0)),Калькуляция!$A$15:$A$143,$A594,Калькуляция!$B$15:$B$143,$B594)","v":{"$error":"#N/A"}},{"$f":"SUMIFS(INDEX(Калькуляция!$T$15:$AM$143,,MATCH(AD$3,Калькуляция!$T$3:$AM$3,0)),Калькуляция!$A$15:$A$143,$A594,Калькуляция!$B$15:$B$143,$B594)","v":{"$error":"#N/A"}},{"$f":"IF(AC594=0,0,(AD594-AC594)/AC594*100)","v":{"$error":"#N/A"}},{"$f":"SUMIFS(INDEX(Калькуляция!$T$15:$AM$143,,MATCH(AF$3,Калькуляция!$T$3:$AM$3,0)),Калькуляция!$A$15:$A$143,$A594,Калькуляция!$B$15:$B$143,$B594)","v":{"$error":"#N/A"}},{"$f":"SUMIFS(INDEX(Калькуляция!$T$15:$AM$143,,MATCH(AG$3,Калькуляция!$T$3:$AM$3,0)),Калькуляция!$A$15:$A$143,$A594,Калькуляция!$B$15:$B$143,$B594)","v":{"$error":"#N/A"}},{"$f":"IF(AF594=0,0,(AG594-AF594)/AF594*100)","v":{"$error":"#N/A"}},{"$f":"SUMIFS(INDEX(Калькуляция!$T$15:$AM$143,,MATCH(AI$3,Калькуляция!$T$3:$AM$3,0)),Калькуляция!$A$15:$A$143,$A594,Калькуляция!$B$15:$B$143,$B594)","v":{"$error":"#N/A"}},{"$f":"SUMIFS(INDEX(Калькуляция!$T$15:$AM$143,,MATCH(AJ$3,Калькуляция!$T$3:$AM$3,0)),Калькуляция!$A$15:$A$143,$A594,Калькуляция!$B$15:$B$143,$B594)","v":{"$error":"#N/A"}},{"$f":"IF(AI594=0,0,(AJ594-AI594)/AI594*100)","v":{"$error":"#N/A"}},{"$f":"SUMIFS(INDEX(Калькуляция!$T$15:$AM$143,,MATCH(AL$3,Калькуляция!$T$3:$AM$3,0)),Калькуляция!$A$15:$A$143,$A594,Калькуляция!$B$15:$B$143,$B594)","v":{"$error":"#N/A"}},{"$f":"SUMIFS(INDEX(Калькуляция!$T$15:$AM$143,,MATCH(AM$3,Калькуляция!$T$3:$AM$3,0)),Калькуляция!$A$15:$A$143,$A594,Калькуляция!$B$15:$B$143,$B594)","v":{"$error":"#N/A"}},{"$f":"IF(AL594=0,0,(AM594-AL594)/AL594*100)","v":{"$error":"#N/A"}},{"$f":"SUMIFS(INDEX(Калькуляция!$T$15:$AM$143,,MATCH(AO$3,Калькуляция!$T$3:$AM$3,0)),Калькуляция!$A$15:$A$143,$A594,Калькуляция!$B$15:$B$143,$B594)","v":{"$error":"#N/A"}},{"$f":"SUMIFS(INDEX(Калькуляция!$T$15:$AM$143,,MATCH(AP$3,Калькуляция!$T$3:$AM$3,0)),Калькуляция!$A$15:$A$143,$A594,Калькуляция!$B$15:$B$143,$B594)","v":{"$error":"#N/A"}},{"$f":"IF(AO594=0,0,(AP594-AO594)/AO594*100)","v":{"$error":"#N/A"}},null,null,{"$f":"IF(AR594=0,0,(AS594-AR594)/AR594*100)","v":0},null,null,{"$f":"IF(AU594=0,0,(AV594-AU594)/AU594*100)","v":0},null,null,{"$f":"IF(AX594=0,0,(AY594-AX594)/AX594*100)","v":0},null,null,{"$f":"IF(BA594=0,0,(BB594-BA594)/BA594*100)","v":0},null,null,{"$f":"IF(BD594=0,0,(BE594-BD594)/BD594*100)","v":0},null,null,{"$f":"IF(BG594=0,0,(BH594-BG594)/BG594*100)","v":0},null,null,{"$f":"IF(BJ594=0,0,(BK594-BJ594)/BJ594*100)","v":0},null,null,{"$f":"IF(BM594=0,0,(BN594-BM594)/BM594*100)","v":0},null,null,{"$f":"IF(BP594=0,0,(BQ594-BP594)/BP594*100)","v":0},null,null,{"$f":"IF(BS594=0,0,(BT594-BS594)/BS594*100)","v":0},null,null,{"$f":"IF(BV594=0,0,(BW594-BV594)/BV594*100)","v":0},null,null,{"$f":"IF(BY594=0,0,(BZ594-BY594)/BY594*100)","v":0},null,null,{"$f":"IF(CB594=0,0,(CC594-CB594)/CB594*100)","v":0},null,null,{"$f":"IF(CE594=0,0,(CF594-CE594)/CE594*100)","v":0},null,null,{"$f":"IF(CH594=0,0,(CI594-CH594)/CH594*100)","v":0},null,null,{"$f":"IF(CK594=0,0,(CL594-CK594)/CK594*100)","v":0},null,null,{"$f":"IF(CN594=0,0,(CO594-CN594)/CN594*100)","v":0},null,null,{"$f":"IF(CQ594=0,0,(CR594-CQ594)/CQ594*100)","v":0},null,null,{"$f":"IF(CT594=0,0,(CU594-CT594)/CT594*100)","v":0},null,null,{"$f":"IF(CW594=0,0,(CX594-CW594)/CW594*100)","v":0},null,null,{"$f":"IF(CZ594=0,0,(DA594-CZ594)/CZ594*100)","v":0},null,null,{"$f":"IF(DC594=0,0,(DD594-DC594)/DC594*100)","v":0},null,null,{"$f":"IF(DF594=0,0,(DG594-DF594)/DF594*100)","v":0},null,null,{"$f":"IF(DI594=0,0,(DJ594-DI594)/DI594*100)","v":0},null,null,{"$f":"IF(DL594=0,0,(DM594-DL594)/DL594*100)","v":0},null,null,{"$f":"IF(DO594=0,0,(DP594-DO594)/DO594*100)","v":0},null,null,{"$f":"IF(DR594=0,0,(DS594-DR594)/DR594*100)","v":0},null,null,{"$f":"IF(DU594=0,0,(DV594-DU594)/DU594*100)","v":0},null,null,{"$f":"IF(DX594=0,0,(DY594-DX594)/DX594*100)","v":0},null,null,{"$f":"IF(EA594=0,0,(EB594-EA594)/EA594*100)","v":0},null,null,{"$f":"IF(ED594=0,0,(EE594-ED594)/ED594*100)","v":0},null,null,{"$f":"IF(EG594=0,0,(EH594-EG594)/EG594*100)","v":0},null,null,{"$f":"IF(EJ594=0,0,(EK594-EJ594)/EJ594*100)","v":0},null,null,{"$f":"IF(EM594=0,0,(EN594-EM594)/EM594*100)","v":0},null,null,{"$f":"IF(EP594=0,0,(EQ594-EP594)/EP594*100)","v":0},null,null,{"$f":"IF(ES594=0,0,(ET594-ES594)/ES594*100)","v":0},null,null,{"$f":"IF(EV594=0,0,(EW594-EV594)/EV594*100)","v":0},null,null,{"$f":"IF(EY594=0,0,(EZ594-EY594)/EY594*100)","v":0},null,null,{"$f":"IF(FB594=0,0,(FC594-FB594)/FB594*100)","v":0},null,null,{"$f":"IF(FE594=0,0,(FF594-FE594)/FE594*100)","v":0}]
["1",null,{"$f":"A595&\"pIns1\"","v":"1pIns1"},null,null,null,{"$f":"F582=\"одноставочный\"","v":true},null,null,"о",null,"Добавить"]
[{"$f":"A594","v":"1"},null,null,null,null,null,{"$f":"F582=\"двухставочный\"","v":false},null,null,null,null,"Двухставочный тариф:"]
["1",null,null,null,null,null,{"$f":"F582=\"двухставочный\"","v":false},null,null,null,null,"Тариф с 01.01 по 30.06 для прочих потребителей без НДС:"]
["1",null,"L2_1_1","для прочих потребителей с 01.01 по 30.06 без НДС",null,null,{"$f":"F582=\"двухставочный\"","v":false},null,null,null,null,"перевод двухставочного тарифа в одноставочный тариф","руб./куб.м",{"$f":"IF(N600=0,0,(N599*N600+N601*N602*6)/N600)","v":{"$error":"#N/A"}},{"$f":"IF(O600=0,0,(O599*O600+O601*O602*6)/O600)","v":{"$error":"#N/A"}},{"$f":"IF(N598=0,0,(O598-N598)/N598*100)","v":{"$error":"#N/A"}},{"$f":"IF(Q600=0,0,(Q599*Q600+Q601*Q602*6)/Q600)","v":{"$error":"#N/A"}},{"$f":"IF(R600=0,0,(R599*R600+R601*R602*6)/R600)","v":{"$error":"#N/A"}},{"$f":"IF(Q598=0,0,(R598-Q598)/Q598*100)","v":{"$error":"#N/A"}},{"$f":"IF(T600=0,0,(T599*T600+T601*T602*6)/T600)","v":{"$error":"#N/A"}},{"$f":"IF(U600=0,0,(U599*U600+U601*U602*6)/U600)","v":{"$error":"#N/A"}},{"$f":"IF(T598=0,0,(U598-T598)/T598*100)","v":{"$error":"#N/A"}},{"$f":"IF(W600=0,0,(W599*W600+W601*W602*6)/W600)","v":{"$error":"#N/A"}},{"$f":"IF(X600=0,0,(X599*X600+X601*X602*6)/X600)","v":{"$error":"#N/A"}},{"$f":"IF(W598=0,0,(X598-W598)/W598*100)","v":{"$error":"#N/A"}},{"$f":"IF(Z600=0,0,(Z599*Z600+Z601*Z602*6)/Z600)","v":{"$error":"#N/A"}},{"$f":"IF(AA600=0,0,(AA599*AA600+AA601*AA602*6)/AA600)","v":{"$error":"#N/A"}},{"$f":"IF(Z598=0,0,(AA598-Z598)/Z598*100)","v":{"$error":"#N/A"}},{"$f":"IF(AC600=0,0,(AC599*AC600+AC601*AC602*6)/AC600)","v":{"$error":"#N/A"}},{"$f":"IF(AD600=0,0,(AD599*AD600+AD601*AD602*6)/AD600)","v":{"$error":"#N/A"}},{"$f":"IF(AC598=0,0,(AD598-AC598)/AC598*100)","v":{"$error":"#N/A"}},{"$f":"IF(AF600=0,0,(AF599*AF600+AF601*AF602*6)/AF600)","v":{"$error":"#N/A"}},{"$f":"IF(AG600=0,0,(AG599*AG600+AG601*AG602*6)/AG600)","v":{"$error":"#N/A"}},{"$f":"IF(AF598=0,0,(AG598-AF598)/AF598*100)","v":{"$error":"#N/A"}},{"$f":"IF(AI600=0,0,(AI599*AI600+AI601*AI602*6)/AI600)","v":{"$error":"#N/A"}},{"$f":"IF(AJ600=0,0,(AJ599*AJ600+AJ601*AJ602*6)/AJ600)","v":{"$error":"#N/A"}},{"$f":"IF(AI598=0,0,(AJ598-AI598)/AI598*100)","v":{"$error":"#N/A"}},{"$f":"IF(AL600=0,0,(AL599*AL600+AL601*AL602*6)/AL600)","v":{"$error":"#N/A"}},{"$f":"IF(AM600=0,0,(AM599*AM600+AM601*AM602*6)/AM600)","v":{"$error":"#N/A"}},{"$f":"IF(AL598=0,0,(AM598-AL598)/AL598*100)","v":{"$error":"#N/A"}},{"$f":"IF(AO600=0,0,(AO599*AO600+AO601*AO602*6)/AO600)","v":{"$error":"#N/A"}},{"$f":"IF(AP600=0,0,(AP599*AP600+AP601*AP602*6)/AP600)","v":{"$error":"#N/A"}},{"$f":"IF(AO598=0,0,(AP598-AO598)/AO598*100)","v":{"$error":"#N/A"}},{"$f":"IF(AR600=0,0,(AR599*AR600+AR601*AR602*6)/AR600)","v":0},{"$f":"IF(AS600=0,0,(AS599*AS600+AS601*AS602*6)/AS600)","v":0},{"$f":"IF(AR598=0,0,(AS598-AR598)/AR598*100)","v":0},{"$f":"IF(AU600=0,0,(AU599*AU600+AU601*AU602*6)/AU600)","v":0},{"$f":"IF(AV600=0,0,(AV599*AV600+AV601*AV602*6)/AV600)","v":0},{"$f":"IF(AU598=0,0,(AV598-AU598)/AU598*100)","v":0},{"$f":"IF(AX600=0,0,(AX599*AX600+AX601*AX602*6)/AX600)","v":0},{"$f":"IF(AY600=0,0,(AY599*AY600+AY601*AY602*6)/AY600)","v":0},{"$f":"IF(AX598=0,0,(AY598-AX598)/AX598*100)","v":0},{"$f":"IF(BA600=0,0,(BA599*BA600+BA601*BA602*6)/BA600)","v":0},{"$f":"IF(BB600=0,0,(BB599*BB600+BB601*BB602*6)/BB600)","v":0},{"$f":"IF(BA598=0,0,(BB598-BA598)/BA598*100)","v":0},{"$f":"IF(BD600=0,0,(BD599*BD600+BD601*BD602*6)/BD600)","v":0},{"$f":"IF(BE600=0,0,(BE599*BE600+BE601*BE602*6)/BE600)","v":0},{"$f":"IF(BD598=0,0,(BE598-BD598)/BD598*100)","v":0},{"$f":"IF(BG600=0,0,(BG599*BG600+BG601*BG602*6)/BG600)","v":0},{"$f":"IF(BH600=0,0,(BH599*BH600+BH601*BH602*6)/BH600)","v":0},{"$f":"IF(BG598=0,0,(BH598-BG598)/BG598*100)","v":0},{"$f":"IF(BJ600=0,0,(BJ599*BJ600+BJ601*BJ602*6)/BJ600)","v":0},{"$f":"IF(BK600=0,0,(BK599*BK600+BK601*BK602*6)/BK600)","v":0},{"$f":"IF(BJ598=0,0,(BK598-BJ598)/BJ598*100)","v":0},{"$f":"IF(BM600=0,0,(BM599*BM600+BM601*BM602*6)/BM600)","v":0},{"$f":"IF(BN600=0,0,(BN599*BN600+BN601*BN602*6)/BN600)","v":0},{"$f":"IF(BM598=0,0,(BN598-BM598)/BM598*100)","v":0},{"$f":"IF(BP600=0,0,(BP599*BP600+BP601*BP602*6)/BP600)","v":0},{"$f":"IF(BQ600=0,0,(BQ599*BQ600+BQ601*BQ602*6)/BQ600)","v":0},{"$f":"IF(BP598=0,0,(BQ598-BP598)/BP598*100)","v":0},{"$f":"IF(BS600=0,0,(BS599*BS600+BS601*BS602*6)/BS600)","v":0},{"$f":"IF(BT600=0,0,(BT599*BT600+BT601*BT602*6)/BT600)","v":0},{"$f":"IF(BS598=0,0,(BT598-BS598)/BS598*100)","v":0},{"$f":"IF(BV600=0,0,(BV599*BV600+BV601*BV602*6)/BV600)","v":0},{"$f":"IF(BW600=0,0,(BW599*BW600+BW601*BW602*6)/BW600)","v":0},{"$f":"IF(BV598=0,0,(BW598-BV598)/BV598*100)","v":0},{"$f":"IF(BY600=0,0,(BY599*BY600+BY601*BY602*6)/BY600)","v":0},{"$f":"IF(BZ600=0,0,(BZ599*BZ600+BZ601*BZ602*6)/BZ600)","v":0},{"$f":"IF(BY598=0,0,(BZ598-BY598)/BY598*100)","v":0},{"$f":"IF(CB600=0,0,(CB599*CB600+CB601*CB602*6)/CB600)","v":0},{"$f":"IF(CC600=0,0,(CC599*CC600+CC601*CC602*6)/CC600)","v":0},{"$f":"IF(CB598=0,0,(CC598-CB598)/CB598*100)","v":0},{"$f":"IF(CE600=0,0,(CE599*CE600+CE601*CE602*6)/CE600)","v":0},{"$f":"IF(CF600=0,0,(CF599*CF600+CF601*CF602*6)/CF600)","v":0},{"$f":"IF(CE598=0,0,(CF598-CE598)/CE598*100)","v":0},{"$f":"IF(CH600=0,0,(CH599*CH600+CH601*CH602*6)/CH600)","v":0},{"$f":"IF(CI600=0,0,(CI599*CI600+CI601*CI602*6)/CI600)","v":0},{"$f":"IF(CH598=0,0,(CI598-CH598)/CH598*100)","v":0},{"$f":"IF(CK600=0,0,(CK599*CK600+CK601*CK602*6)/CK600)","v":0},{"$f":"IF(CL600=0,0,(CL599*CL600+CL601*CL602*6)/CL600)","v":0},{"$f":"IF(CK598=0,0,(CL598-CK598)/CK598*100)","v":0},{"$f":"IF(CN600=0,0,(CN599*CN600+CN601*CN602*6)/CN600)","v":0},{"$f":"IF(CO600=0,0,(CO599*CO600+CO601*CO602*6)/CO600)","v":0},{"$f":"IF(CN598=0,0,(CO598-CN598)/CN598*100)","v":0},{"$f":"IF(CQ600=0,0,(CQ599*CQ600+CQ601*CQ602*6)/CQ600)","v":0},{"$f":"IF(CR600=0,0,(CR599*CR600+CR601*CR602*6)/CR600)","v":0},{"$f":"IF(CQ598=0,0,(CR598-CQ598)/CQ598*100)","v":0},{"$f":"IF(CT600=0,0,(CT599*CT600+CT601*CT602*6)/CT600)","v":0},{"$f":"IF(CU600=0,0,(CU599*CU600+CU601*CU602*6)/CU600)","v":0},{"$f":"IF(CT598=0,0,(CU598-CT598)/CT598*100)","v":0},{"$f":"IF(CW600=0,0,(CW599*CW600+CW601*CW602*6)/CW600)","v":0},{"$f":"IF(CX600=0,0,(CX599*CX600+CX601*CX602*6)/CX600)","v":0},{"$f":"IF(CW598=0,0,(CX598-CW598)/CW598*100)","v":0},{"$f":"IF(CZ600=0,0,(CZ599*CZ600+CZ601*CZ602*6)/CZ600)","v":0},{"$f":"IF(DA600=0,0,(DA599*DA600+DA601*DA602*6)/DA600)","v":0},{"$f":"IF(CZ598=0,0,(DA598-CZ598)/CZ598*100)","v":0},{"$f":"IF(DC600=0,0,(DC599*DC600+DC601*DC602*6)/DC600)","v":0},{"$f":"IF(DD600=0,0,(DD599*DD600+DD601*DD602*6)/DD600)","v":0},{"$f":"IF(DC598=0,0,(DD598-DC598)/DC598*100)","v":0},{"$f":"IF(DF600=0,0,(DF599*DF600+DF601*DF602*6)/DF600)","v":0},{"$f":"IF(DG600=0,0,(DG599*DG600+DG601*DG602*6)/DG600)","v":0},{"$f":"IF(DF598=0,0,(DG598-DF598)/DF598*100)","v":0},{"$f":"IF(DI600=0,0,(DI599*DI600+DI601*DI602*6)/DI600)","v":0},{"$f":"IF(DJ600=0,0,(DJ599*DJ600+DJ601*DJ602*6)/DJ600)","v":0},{"$f":"IF(DI598=0,0,(DJ598-DI598)/DI598*100)","v":0},{"$f":"IF(DL600=0,0,(DL599*DL600+DL601*DL602*6)/DL600)","v":0},{"$f":"IF(DM600=0,0,(DM599*DM600+DM601*DM602*6)/DM600)","v":0},{"$f":"IF(DL598=0,0,(DM598-DL598)/DL598*100)","v":0},{"$f":"IF(DO600=0,0,(DO599*DO600+DO601*DO602*6)/DO600)","v":0},{"$f":"IF(DP600=0,0,(DP599*DP600+DP601*DP602*6)/DP600)","v":0},{"$f":"IF(DO598=0,0,(DP598-DO598)/DO598*100)","v":0},{"$f":"IF(DR600=0,0,(DR599*DR600+DR601*DR602*6)/DR600)","v":0},{"$f":"IF(DS600=0,0,(DS599*DS600+DS601*DS602*6)/DS600)","v":0},{"$f":"IF(DR598=0,0,(DS598-DR598)/DR598*100)","v":0},{"$f":"IF(DU600=0,0,(DU599*DU600+DU601*DU602*6)/DU600)","v":0},{"$f":"IF(DV600=0,0,(DV599*DV600+DV601*DV602*6)/DV600)","v":0},{"$f":"IF(DU598=0,0,(DV598-DU598)/DU598*100)","v":0},{"$f":"IF(DX600=0,0,(DX599*DX600+DX601*DX602*6)/DX600)","v":0},{"$f":"IF(DY600=0,0,(DY599*DY600+DY601*DY602*6)/DY600)","v":0},{"$f":"IF(DX598=0,0,(DY598-DX598)/DX598*100)","v":0},{"$f":"IF(EA600=0,0,(EA599*EA600+EA601*EA602*6)/EA600)","v":0},{"$f":"IF(EB600=0,0,(EB599*EB600+EB601*EB602*6)/EB600)","v":0},{"$f":"IF(EA598=0,0,(EB598-EA598)/EA598*100)","v":0},{"$f":"IF(ED600=0,0,(ED599*ED600+ED601*ED602*6)/ED600)","v":0},{"$f":"IF(EE600=0,0,(EE599*EE600+EE601*EE602*6)/EE600)","v":0},{"$f":"IF(ED598=0,0,(EE598-ED598)/ED598*100)","v":0},{"$f":"IF(EG600=0,0,(EG599*EG600+EG601*EG602*6)/EG600)","v":0},{"$f":"IF(EH600=0,0,(EH599*EH600+EH601*EH602*6)/EH600)","v":0},{"$f":"IF(EG598=0,0,(EH598-EG598)/EG598*100)","v":0},{"$f":"IF(EJ600=0,0,(EJ599*EJ600+EJ601*EJ602*6)/EJ600)","v":0},{"$f":"IF(EK600=0,0,(EK599*EK600+EK601*EK602*6)/EK600)","v":0},{"$f":"IF(EJ598=0,0,(EK598-EJ598)/EJ598*100)","v":0},{"$f":"IF(EM600=0,0,(EM599*EM600+EM601*EM602*6)/EM600)","v":0},{"$f":"IF(EN600=0,0,(EN599*EN600+EN601*EN602*6)/EN600)","v":0},{"$f":"IF(EM598=0,0,(EN598-EM598)/EM598*100)","v":0},{"$f":"IF(EP600=0,0,(EP599*EP600+EP601*EP602*6)/EP600)","v":0},{"$f":"IF(EQ600=0,0,(EQ599*EQ600+EQ601*EQ602*6)/EQ600)","v":0},{"$f":"IF(EP598=0,0,(EQ598-EP598)/EP598*100)","v":0},{"$f":"IF(ES600=0,0,(ES599*ES600+ES601*ES602*6)/ES600)","v":0},{"$f":"IF(ET600=0,0,(ET599*ET600+ET601*ET602*6)/ET600)","v":0},{"$f":"IF(ES598=0,0,(ET598-ES598)/ES598*100)","v":0},{"$f":"IF(EV600=0,0,(EV599*EV600+EV601*EV602*6)/EV600)","v":0},{"$f":"IF(EW600=0,0,(EW599*EW600+EW601*EW602*6)/EW600)","v":0},{"$f":"IF(EV598=0,0,(EW598-EV598)/EV598*100)","v":0},{"$f":"IF(EY600=0,0,(EY599*EY600+EY601*EY602*6)/EY600)","v":0},{"$f":"IF(EZ600=0,0,(EZ599*EZ600+EZ601*EZ602*6)/EZ600)","v":0},{"$f":"IF(EY598=0,0,(EZ598-EY598)/EY598*100)","v":0},{"$f":"IF(FB600=0,0,(FB599*FB600+FB601*FB602*6)/FB600)","v":0},{"$f":"IF(FC600=0,0,(FC599*FC600+FC601*FC602*6)/FC600)","v":0},{"$f":"IF(FB598=0,0,(FC598-FB598)/FB598*100)","v":0},{"$f":"IF(FE600=0,0,(FE599*FE600+FE601*FE602*6)/FE600)","v":0},{"$f":"IF(FF600=0,0,(FF599*FF600+FF601*FF602*6)/FF600)","v":0},{"$f":"IF(FE598=0,0,(FF598-FE598)/FE598*100)","v":0}]
["1",null,"L2_1_2","для прочих потребителей с 01.01 по 30.06 без НДС",null,null,{"$f":"F582=\"двухставочный\"","v":false},null,null,null,null,"ставка платы за потребление 1 куб.м холодной воды","руб./куб.м",null,null,{"$f":"IF(N599=0,0,(O599-N599)/N599*100)","v":0},null,null,{"$f":"IF(Q599=0,0,(R599-Q599)/Q599*100)","v":0},null,null,{"$f":"IF(T599=0,0,(U599-T599)/T599*100)","v":0},null,null,{"$f":"IF(W599=0,0,(X599-W599)/W599*100)","v":0},null,null,{"$f":"IF(Z599=0,0,(AA599-Z599)/Z599*100)","v":0},null,null,{"$f":"IF(AC599=0,0,(AD599-AC599)/AC599*100)","v":0},null,null,{"$f":"IF(AF599=0,0,(AG599-AF599)/AF599*100)","v":0},null,null,{"$f":"IF(AI599=0,0,(AJ599-AI599)/AI599*100)","v":0},null,null,{"$f":"IF(AL599=0,0,(AM599-AL599)/AL599*100)","v":0},null,null,{"$f":"IF(AO599=0,0,(AP599-AO599)/AO599*100)","v":0},null,null,{"$f":"IF(AR599=0,0,(AS599-AR599)/AR599*100)","v":0},null,null,{"$f":"IF(AU599=0,0,(AV599-AU599)/AU599*100)","v":0},null,null,{"$f":"IF(AX599=0,0,(AY599-AX599)/AX599*100)","v":0},null,null,{"$f":"IF(BA599=0,0,(BB599-BA599)/BA599*100)","v":0},null,null,{"$f":"IF(BD599=0,0,(BE599-BD599)/BD599*100)","v":0},null,null,{"$f":"IF(BG599=0,0,(BH599-BG599)/BG599*100)","v":0},null,null,{"$f":"IF(BJ599=0,0,(BK599-BJ599)/BJ599*100)","v":0},null,null,{"$f":"IF(BM599=0,0,(BN599-BM599)/BM599*100)","v":0},null,null,{"$f":"IF(BP599=0,0,(BQ599-BP599)/BP599*100)","v":0},null,null,{"$f":"IF(BS599=0,0,(BT599-BS599)/BS599*100)","v":0},null,null,{"$f":"IF(BV599=0,0,(BW599-BV599)/BV599*100)","v":0},null,null,{"$f":"IF(BY599=0,0,(BZ599-BY599)/BY599*100)","v":0},null,null,{"$f":"IF(CB599=0,0,(CC599-CB599)/CB599*100)","v":0},null,null,{"$f":"IF(CE599=0,0,(CF599-CE599)/CE599*100)","v":0},null,null,{"$f":"IF(CH599=0,0,(CI599-CH599)/CH599*100)","v":0},null,null,{"$f":"IF(CK599=0,0,(CL599-CK599)/CK599*100)","v":0},null,null,{"$f":"IF(CN599=0,0,(CO599-CN599)/CN599*100)","v":0},null,null,{"$f":"IF(CQ599=0,0,(CR599-CQ599)/CQ599*100)","v":0},null,null,{"$f":"IF(CT599=0,0,(CU599-CT599)/CT599*100)","v":0},null,null,{"$f":"IF(CW599=0,0,(CX599-CW599)/CW599*100)","v":0},null,null,{"$f":"IF(CZ599=0,0,(DA599-CZ599)/CZ599*100)","v":0},null,null,{"$f":"IF(DC599=0,0,(DD599-DC599)/DC599*100)","v":0},null,null,{"$f":"IF(DF599=0,0,(DG599-DF599)/DF599*100)","v":0},null,null,{"$f":"IF(DI599=0,0,(DJ599-DI599)/DI599*100)","v":0},null,null,{"$f":"IF(DL599=0,0,(DM599-DL599)/DL599*100)","v":0},null,null,{"$f":"IF(DO599=0,0,(DP599-DO599)/DO599*100)","v":0},null,null,{"$f":"IF(DR599=0,0,(DS599-DR599)/DR599*100)","v":0},null,null,{"$f":"IF(DU599=0,0,(DV599-DU599)/DU599*100)","v":0},null,null,{"$f":"IF(DX599=0,0,(DY599-DX599)/DX599*100)","v":0},null,null,{"$f":"IF(EA599=0,0,(EB599-EA599)/EA599*100)","v":0},null,null,{"$f":"IF(ED599=0,0,(EE599-ED599)/ED599*100)","v":0},null,null,{"$f":"IF(EG599=0,0,(EH599-EG599)/EG599*100)","v":0},null,null,{"$f":"IF(EJ599=0,0,(EK599-EJ599)/EJ599*100)","v":0},null,null,{"$f":"IF(EM599=0,0,(EN599-EM599)/EM599*100)","v":0},null,null,{"$f":"IF(EP599=0,0,(EQ599-EP599)/EP599*100)","v":0},null,null,{"$f":"IF(ES599=0,0,(ET599-ES599)/ES599*100)","v":0},null,null,{"$f":"IF(EV599=0,0,(EW599-EV599)/EV599*100)","v":0},null,null,{"$f":"IF(EY599=0,0,(EZ599-EY599)/EY599*100)","v":0},null,null,{"$f":"IF(FB599=0,0,(FC599-FB599)/FB599*100)","v":0},null,null,{"$f":"IF(FE599=0,0,(FF599-FE599)/FE599*100)","v":0}]
["1","ПО.прочие.I","L2_1_3","для прочих потребителей с 01.01 по 30.06 без НДС",null,null,{"$f":"F582=\"двухставочный\"","v":false},null,null,null,null,"объём потребления холодной воды","тыс.куб.м",{"$f":"SUMIFS(INDEX(Калькуляция!$T$15:$AM$143,,MATCH(N$3,Калькуляция!$T$3:$AM$3,0)),Калькуляция!$A$15:$A$143,$A600,Калькуляция!$B$15:$B$143,$B600)","v":{"$error":"#N/A"}},{"$f":"SUMIFS(INDEX(Калькуляция!$T$15:$AM$143,,MATCH(O$3,Калькуляция!$T$3:$AM$3,0)),Калькуляция!$A$15:$A$143,$A600,Калькуляция!$B$15:$B$143,$B600)","v":{"$error":"#N/A"}},{"$f":"IF(N600=0,0,(O600-N600)/N600*100)","v":{"$error":"#N/A"}},{"$f":"SUMIFS(INDEX(Калькуляция!$T$15:$AM$143,,MATCH(Q$3,Калькуляция!$T$3:$AM$3,0)),Калькуляция!$A$15:$A$143,$A600,Калькуляция!$B$15:$B$143,$B600)","v":{"$error":"#N/A"}},{"$f":"SUMIFS(INDEX(Калькуляция!$T$15:$AM$143,,MATCH(R$3,Калькуляция!$T$3:$AM$3,0)),Калькуляция!$A$15:$A$143,$A600,Калькуляция!$B$15:$B$143,$B600)","v":{"$error":"#N/A"}},{"$f":"IF(Q600=0,0,(R600-Q600)/Q600*100)","v":{"$error":"#N/A"}},{"$f":"SUMIFS(INDEX(Калькуляция!$T$15:$AM$143,,MATCH(T$3,Калькуляция!$T$3:$AM$3,0)),Калькуляция!$A$15:$A$143,$A600,Калькуляция!$B$15:$B$143,$B600)","v":{"$error":"#N/A"}},{"$f":"SUMIFS(INDEX(Калькуляция!$T$15:$AM$143,,MATCH(U$3,Калькуляция!$T$3:$AM$3,0)),Калькуляция!$A$15:$A$143,$A600,Калькуляция!$B$15:$B$143,$B600)","v":{"$error":"#N/A"}},{"$f":"IF(T600=0,0,(U600-T600)/T600*100)","v":{"$error":"#N/A"}},{"$f":"SUMIFS(INDEX(Калькуляция!$T$15:$AM$143,,MATCH(W$3,Калькуляция!$T$3:$AM$3,0)),Калькуляция!$A$15:$A$143,$A600,Калькуляция!$B$15:$B$143,$B600)","v":{"$error":"#N/A"}},{"$f":"SUMIFS(INDEX(Калькуляция!$T$15:$AM$143,,MATCH(X$3,Калькуляция!$T$3:$AM$3,0)),Калькуляция!$A$15:$A$143,$A600,Калькуляция!$B$15:$B$143,$B600)","v":{"$error":"#N/A"}},{"$f":"IF(W600=0,0,(X600-W600)/W600*100)","v":{"$error":"#N/A"}},{"$f":"SUMIFS(INDEX(Калькуляция!$T$15:$AM$143,,MATCH(Z$3,Калькуляция!$T$3:$AM$3,0)),Калькуляция!$A$15:$A$143,$A600,Калькуляция!$B$15:$B$143,$B600)","v":{"$error":"#N/A"}},{"$f":"SUMIFS(INDEX(Калькуляция!$T$15:$AM$143,,MATCH(AA$3,Калькуляция!$T$3:$AM$3,0)),Калькуляция!$A$15:$A$143,$A600,Калькуляция!$B$15:$B$143,$B600)","v":{"$error":"#N/A"}},{"$f":"IF(Z600=0,0,(AA600-Z600)/Z600*100)","v":{"$error":"#N/A"}},{"$f":"SUMIFS(INDEX(Калькуляция!$T$15:$AM$143,,MATCH(AC$3,Калькуляция!$T$3:$AM$3,0)),Калькуляция!$A$15:$A$143,$A600,Калькуляция!$B$15:$B$143,$B600)","v":{"$error":"#N/A"}},{"$f":"SUMIFS(INDEX(Калькуляция!$T$15:$AM$143,,MATCH(AD$3,Калькуляция!$T$3:$AM$3,0)),Калькуляция!$A$15:$A$143,$A600,Калькуляция!$B$15:$B$143,$B600)","v":{"$error":"#N/A"}},{"$f":"IF(AC600=0,0,(AD600-AC600)/AC600*100)","v":{"$error":"#N/A"}},{"$f":"SUMIFS(INDEX(Калькуляция!$T$15:$AM$143,,MATCH(AF$3,Калькуляция!$T$3:$AM$3,0)),Калькуляция!$A$15:$A$143,$A600,Калькуляция!$B$15:$B$143,$B600)","v":{"$error":"#N/A"}},{"$f":"SUMIFS(INDEX(Калькуляция!$T$15:$AM$143,,MATCH(AG$3,Калькуляция!$T$3:$AM$3,0)),Калькуляция!$A$15:$A$143,$A600,Калькуляция!$B$15:$B$143,$B600)","v":{"$error":"#N/A"}},{"$f":"IF(AF600=0,0,(AG600-AF600)/AF600*100)","v":{"$error":"#N/A"}},{"$f":"SUMIFS(INDEX(Калькуляция!$T$15:$AM$143,,MATCH(AI$3,Калькуляция!$T$3:$AM$3,0)),Калькуляция!$A$15:$A$143,$A600,Калькуляция!$B$15:$B$143,$B600)","v":{"$error":"#N/A"}},{"$f":"SUMIFS(INDEX(Калькуляция!$T$15:$AM$143,,MATCH(AJ$3,Калькуляция!$T$3:$AM$3,0)),Калькуляция!$A$15:$A$143,$A600,Калькуляция!$B$15:$B$143,$B600)","v":{"$error":"#N/A"}},{"$f":"IF(AI600=0,0,(AJ600-AI600)/AI600*100)","v":{"$error":"#N/A"}},{"$f":"SUMIFS(INDEX(Калькуляция!$T$15:$AM$143,,MATCH(AL$3,Калькуляция!$T$3:$AM$3,0)),Калькуляция!$A$15:$A$143,$A600,Калькуляция!$B$15:$B$143,$B600)","v":{"$error":"#N/A"}},{"$f":"SUMIFS(INDEX(Калькуляция!$T$15:$AM$143,,MATCH(AM$3,Калькуляция!$T$3:$AM$3,0)),Калькуляция!$A$15:$A$143,$A600,Калькуляция!$B$15:$B$143,$B600)","v":{"$error":"#N/A"}},{"$f":"IF(AL600=0,0,(AM600-AL600)/AL600*100)","v":{"$error":"#N/A"}},{"$f":"SUMIFS(INDEX(Калькуляция!$T$15:$AM$143,,MATCH(AO$3,Калькуляция!$T$3:$AM$3,0)),Калькуляция!$A$15:$A$143,$A600,Калькуляция!$B$15:$B$143,$B600)","v":{"$error":"#N/A"}},{"$f":"SUMIFS(INDEX(Калькуляция!$T$15:$AM$143,,MATCH(AP$3,Калькуляция!$T$3:$AM$3,0)),Калькуляция!$A$15:$A$143,$A600,Калькуляция!$B$15:$B$143,$B600)","v":{"$error":"#N/A"}},{"$f":"IF(AO600=0,0,(AP600-AO600)/AO600*100)","v":{"$error":"#N/A"}},null,null,{"$f":"IF(AR600=0,0,(AS600-AR600)/AR600*100)","v":0},null,null,{"$f":"IF(AU600=0,0,(AV600-AU600)/AU600*100)","v":0},null,null,{"$f":"IF(AX600=0,0,(AY600-AX600)/AX600*100)","v":0},null,null,{"$f":"IF(BA600=0,0,(BB600-BA600)/BA600*100)","v":0},null,null,{"$f":"IF(BD600=0,0,(BE600-BD600)/BD600*100)","v":0},null,null,{"$f":"IF(BG600=0,0,(BH600-BG600)/BG600*100)","v":0},null,null,{"$f":"IF(BJ600=0,0,(BK600-BJ600)/BJ600*100)","v":0},null,null,{"$f":"IF(BM600=0,0,(BN600-BM600)/BM600*100)","v":0},null,null,{"$f":"IF(BP600=0,0,(BQ600-BP600)/BP600*100)","v":0},null,null,{"$f":"IF(BS600=0,0,(BT600-BS600)/BS600*100)","v":0},null,null,{"$f":"IF(BV600=0,0,(BW600-BV600)/BV600*100)","v":0},null,null,{"$f":"IF(BY600=0,0,(BZ600-BY600)/BY600*100)","v":0},null,null,{"$f":"IF(CB600=0,0,(CC600-CB600)/CB600*100)","v":0},null,null,{"$f":"IF(CE600=0,0,(CF600-CE600)/CE600*100)","v":0},null,null,{"$f":"IF(CH600=0,0,(CI600-CH600)/CH600*100)","v":0},null,null,{"$f":"IF(CK600=0,0,(CL600-CK600)/CK600*100)","v":0},null,null,{"$f":"IF(CN600=0,0,(CO600-CN600)/CN600*100)","v":0},null,null,{"$f":"IF(CQ600=0,0,(CR600-CQ600)/CQ600*100)","v":0},null,null,{"$f":"IF(CT600=0,0,(CU600-CT600)/CT600*100)","v":0},null,null,{"$f":"IF(CW600=0,0,(CX600-CW600)/CW600*100)","v":0},null,null,{"$f":"IF(CZ600=0,0,(DA600-CZ600)/CZ600*100)","v":0},null,null,{"$f":"IF(DC600=0,0,(DD600-DC600)/DC600*100)","v":0},null,null,{"$f":"IF(DF600=0,0,(DG600-DF600)/DF600*100)","v":0},null,null,{"$f":"IF(DI600=0,0,(DJ600-DI600)/DI600*100)","v":0},null,null,{"$f":"IF(DL600=0,0,(DM600-DL600)/DL600*100)","v":0},null,null,{"$f":"IF(DO600=0,0,(DP600-DO600)/DO600*100)","v":0},null,null,{"$f":"IF(DR600=0,0,(DS600-DR600)/DR600*100)","v":0},null,null,{"$f":"IF(DU600=0,0,(DV600-DU600)/DU600*100)","v":0},null,null,{"$f":"IF(DX600=0,0,(DY600-DX600)/DX600*100)","v":0},null,null,{"$f":"IF(EA600=0,0,(EB600-EA600)/EA600*100)","v":0},null,null,{"$f":"IF(ED600=0,0,(EE600-ED600)/ED600*100)","v":0},null,null,{"$f":"IF(EG600=0,0,(EH600-EG600)/EG600*100)","v":0},null,null,{"$f":"IF(EJ600=0,0,(EK600-EJ600)/EJ600*100)","v":0},null,null,{"$f":"IF(EM600=0,0,(EN600-EM600)/EM600*100)","v":0},null,null,{"$f":"IF(EP600=0,0,(EQ600-EP600)/EP600*100)","v":0},null,null,{"$f":"IF(ES600=0,0,(ET600-ES600)/ES600*100)","v":0},null,null,{"$f":"IF(EV600=0,0,(EW600-EV600)/EV600*100)","v":0},null,null,{"$f":"IF(EY600=0,0,(EZ600-EY600)/EY600*100)","v":0},null,null,{"$f":"IF(FB600=0,0,(FC600-FB600)/FB600*100)","v":0},null,null,{"$f":"IF(FE600=0,0,(FF600-FE600)/FE600*100)","v":0}]
["1",null,"L2_1_4","для прочих потребителей с 01.01 по 30.06 без НДС",null,null,{"$f":"F582=\"двухставочный\"","v":false},null,null,null,null,"ставка платы за содержание системы холодного водоснабжения","тыс.руб./куб.м*час/в месяц",null,null,{"$f":"IF(N601=0,0,(O601-N601)/N601*100)","v":0},null,null,{"$f":"IF(Q601=0,0,(R601-Q601)/Q601*100)","v":0},null,null,{"$f":"IF(T601=0,0,(U601-T601)/T601*100)","v":0},null,null,{"$f":"IF(W601=0,0,(X601-W601)/W601*100)","v":0},null,null,{"$f":"IF(Z601=0,0,(AA601-Z601)/Z601*100)","v":0},null,null,{"$f":"IF(AC601=0,0,(AD601-AC601)/AC601*100)","v":0},null,null,{"$f":"IF(AF601=0,0,(AG601-AF601)/AF601*100)","v":0},null,null,{"$f":"IF(AI601=0,0,(AJ601-AI601)/AI601*100)","v":0},null,null,{"$f":"IF(AL601=0,0,(AM601-AL601)/AL601*100)","v":0},null,null,{"$f":"IF(AO601=0,0,(AP601-AO601)/AO601*100)","v":0},null,null,{"$f":"IF(AR601=0,0,(AS601-AR601)/AR601*100)","v":0},null,null,{"$f":"IF(AU601=0,0,(AV601-AU601)/AU601*100)","v":0},null,null,{"$f":"IF(AX601=0,0,(AY601-AX601)/AX601*100)","v":0},null,null,{"$f":"IF(BA601=0,0,(BB601-BA601)/BA601*100)","v":0},null,null,{"$f":"IF(BD601=0,0,(BE601-BD601)/BD601*100)","v":0},null,null,{"$f":"IF(BG601=0,0,(BH601-BG601)/BG601*100)","v":0},null,null,{"$f":"IF(BJ601=0,0,(BK601-BJ601)/BJ601*100)","v":0},null,null,{"$f":"IF(BM601=0,0,(BN601-BM601)/BM601*100)","v":0},null,null,{"$f":"IF(BP601=0,0,(BQ601-BP601)/BP601*100)","v":0},null,null,{"$f":"IF(BS601=0,0,(BT601-BS601)/BS601*100)","v":0},null,null,{"$f":"IF(BV601=0,0,(BW601-BV601)/BV601*100)","v":0},null,null,{"$f":"IF(BY601=0,0,(BZ601-BY601)/BY601*100)","v":0},null,null,{"$f":"IF(CB601=0,0,(CC601-CB601)/CB601*100)","v":0},null,null,{"$f":"IF(CE601=0,0,(CF601-CE601)/CE601*100)","v":0},null,null,{"$f":"IF(CH601=0,0,(CI601-CH601)/CH601*100)","v":0},null,null,{"$f":"IF(CK601=0,0,(CL601-CK601)/CK601*100)","v":0},null,null,{"$f":"IF(CN601=0,0,(CO601-CN601)/CN601*100)","v":0},null,null,{"$f":"IF(CQ601=0,0,(CR601-CQ601)/CQ601*100)","v":0},null,null,{"$f":"IF(CT601=0,0,(CU601-CT601)/CT601*100)","v":0},null,null,{"$f":"IF(CW601=0,0,(CX601-CW601)/CW601*100)","v":0},null,null,{"$f":"IF(CZ601=0,0,(DA601-CZ601)/CZ601*100)","v":0},null,null,{"$f":"IF(DC601=0,0,(DD601-DC601)/DC601*100)","v":0},null,null,{"$f":"IF(DF601=0,0,(DG601-DF601)/DF601*100)","v":0},null,null,{"$f":"IF(DI601=0,0,(DJ601-DI601)/DI601*100)","v":0},null,null,{"$f":"IF(DL601=0,0,(DM601-DL601)/DL601*100)","v":0},null,null,{"$f":"IF(DO601=0,0,(DP601-DO601)/DO601*100)","v":0},null,null,{"$f":"IF(DR601=0,0,(DS601-DR601)/DR601*100)","v":0},null,null,{"$f":"IF(DU601=0,0,(DV601-DU601)/DU601*100)","v":0},null,null,{"$f":"IF(DX601=0,0,(DY601-DX601)/DX601*100)","v":0},null,null,{"$f":"IF(EA601=0,0,(EB601-EA601)/EA601*100)","v":0},null,null,{"$f":"IF(ED601=0,0,(EE601-ED601)/ED601*100)","v":0},null,null,{"$f":"IF(EG601=0,0,(EH601-EG601)/EG601*100)","v":0},null,null,{"$f":"IF(EJ601=0,0,(EK601-EJ601)/EJ601*100)","v":0},null,null,{"$f":"IF(EM601=0,0,(EN601-EM601)/EM601*100)","v":0},null,null,{"$f":"IF(EP601=0,0,(EQ601-EP601)/EP601*100)","v":0},null,null,{"$f":"IF(ES601=0,0,(ET601-ES601)/ES601*100)","v":0},null,null,{"$f":"IF(EV601=0,0,(EW601-EV601)/EV601*100)","v":0},null,null,{"$f":"IF(EY601=0,0,(EZ601-EY601)/EY601*100)","v":0},null,null,{"$f":"IF(FB601=0,0,(FC601-FB601)/FB601*100)","v":0},null,null,{"$f":"IF(FE601=0,0,(FF601-FE601)/FE601*100)","v":0}]
["1",null,"L2_1_5","для прочих потребителей с 01.01 по 30.06 без НДС",null,null,{"$f":"F582=\"двухставочный\"","v":false},null,null,null,null,"величина присоединённой мощности","куб.м*час",null,null,{"$f":"IF(N602=0,0,(O602-N602)/N602*100)","v":0},null,null,{"$f":"IF(Q602=0,0,(R602-Q602)/Q602*100)","v":0},null,null,{"$f":"IF(T602=0,0,(U602-T602)/T602*100)","v":0},null,null,{"$f":"IF(W602=0,0,(X602-W602)/W602*100)","v":0},null,null,{"$f":"IF(Z602=0,0,(AA602-Z602)/Z602*100)","v":0},null,null,{"$f":"IF(AC602=0,0,(AD602-AC602)/AC602*100)","v":0},null,null,{"$f":"IF(AF602=0,0,(AG602-AF602)/AF602*100)","v":0},null,null,{"$f":"IF(AI602=0,0,(AJ602-AI602)/AI602*100)","v":0},null,null,{"$f":"IF(AL602=0,0,(AM602-AL602)/AL602*100)","v":0},null,null,{"$f":"IF(AO602=0,0,(AP602-AO602)/AO602*100)","v":0},null,null,{"$f":"IF(AR602=0,0,(AS602-AR602)/AR602*100)","v":0},null,null,{"$f":"IF(AU602=0,0,(AV602-AU602)/AU602*100)","v":0},null,null,{"$f":"IF(AX602=0,0,(AY602-AX602)/AX602*100)","v":0},null,null,{"$f":"IF(BA602=0,0,(BB602-BA602)/BA602*100)","v":0},null,null,{"$f":"IF(BD602=0,0,(BE602-BD602)/BD602*100)","v":0},null,null,{"$f":"IF(BG602=0,0,(BH602-BG602)/BG602*100)","v":0},null,null,{"$f":"IF(BJ602=0,0,(BK602-BJ602)/BJ602*100)","v":0},null,null,{"$f":"IF(BM602=0,0,(BN602-BM602)/BM602*100)","v":0},null,null,{"$f":"IF(BP602=0,0,(BQ602-BP602)/BP602*100)","v":0},null,null,{"$f":"IF(BS602=0,0,(BT602-BS602)/BS602*100)","v":0},null,null,{"$f":"IF(BV602=0,0,(BW602-BV602)/BV602*100)","v":0},null,null,{"$f":"IF(BY602=0,0,(BZ602-BY602)/BY602*100)","v":0},null,null,{"$f":"IF(CB602=0,0,(CC602-CB602)/CB602*100)","v":0},null,null,{"$f":"IF(CE602=0,0,(CF602-CE602)/CE602*100)","v":0},null,null,{"$f":"IF(CH602=0,0,(CI602-CH602)/CH602*100)","v":0},null,null,{"$f":"IF(CK602=0,0,(CL602-CK602)/CK602*100)","v":0},null,null,{"$f":"IF(CN602=0,0,(CO602-CN602)/CN602*100)","v":0},null,null,{"$f":"IF(CQ602=0,0,(CR602-CQ602)/CQ602*100)","v":0},null,null,{"$f":"IF(CT602=0,0,(CU602-CT602)/CT602*100)","v":0},null,null,{"$f":"IF(CW602=0,0,(CX602-CW602)/CW602*100)","v":0},null,null,{"$f":"IF(CZ602=0,0,(DA602-CZ602)/CZ602*100)","v":0},null,null,{"$f":"IF(DC602=0,0,(DD602-DC602)/DC602*100)","v":0},null,null,{"$f":"IF(DF602=0,0,(DG602-DF602)/DF602*100)","v":0},null,null,{"$f":"IF(DI602=0,0,(DJ602-DI602)/DI602*100)","v":0},null,null,{"$f":"IF(DL602=0,0,(DM602-DL602)/DL602*100)","v":0},null,null,{"$f":"IF(DO602=0,0,(DP602-DO602)/DO602*100)","v":0},null,null,{"$f":"IF(DR602=0,0,(DS602-DR602)/DR602*100)","v":0},null,null,{"$f":"IF(DU602=0,0,(DV602-DU602)/DU602*100)","v":0},null,null,{"$f":"IF(DX602=0,0,(DY602-DX602)/DX602*100)","v":0},null,null,{"$f":"IF(EA602=0,0,(EB602-EA602)/EA602*100)","v":0},null,null,{"$f":"IF(ED602=0,0,(EE602-ED602)/ED602*100)","v":0},null,null,{"$f":"IF(EG602=0,0,(EH602-EG602)/EG602*100)","v":0},null,null,{"$f":"IF(EJ602=0,0,(EK602-EJ602)/EJ602*100)","v":0},null,null,{"$f":"IF(EM602=0,0,(EN602-EM602)/EM602*100)","v":0},null,null,{"$f":"IF(EP602=0,0,(EQ602-EP602)/EP602*100)","v":0},null,null,{"$f":"IF(ES602=0,0,(ET602-ES602)/ES602*100)","v":0},null,null,{"$f":"IF(EV602=0,0,(EW602-EV602)/EV602*100)","v":0},null,null,{"$f":"IF(EY602=0,0,(EZ602-EY602)/EY602*100)","v":0},null,null,{"$f":"IF(FB602=0,0,(FC602-FB602)/FB602*100)","v":0},null,null,{"$f":"IF(FE602=0,0,(FF602-FE602)/FE602*100)","v":0}]
["1",null,null,null,null,null,{"$f":"F582=\"двухставочный\"","v":false},null,null,null,null,"Тариф с 01.07 по 31.12 для прочих потребителей без НДС:"]
["1",null,"L2_1_1","для прочих потребителей с 01.07 по 31.12 без НДС",null,null,{"$f":"F582=\"двухставочный\"","v":false},null,null,null,null,"перевод двухставочного тарифа в одноставочный тариф","руб./куб.м",{"$f":"IF(N606=0,0,(N605*N606+N607*N608*6)/N606)","v":{"$error":"#N/A"}},{"$f":"IF(O606=0,0,(O605*O606+O607*O608*6)/O606)","v":{"$error":"#N/A"}},{"$f":"IF(N604=0,0,(O604-N604)/N604*100)","v":{"$error":"#N/A"}},{"$f":"IF(Q606=0,0,(Q605*Q606+Q607*Q608*6)/Q606)","v":{"$error":"#N/A"}},{"$f":"IF(R606=0,0,(R605*R606+R607*R608*6)/R606)","v":{"$error":"#N/A"}},{"$f":"IF(Q604=0,0,(R604-Q604)/Q604*100)","v":{"$error":"#N/A"}},{"$f":"IF(T606=0,0,(T605*T606+T607*T608*6)/T606)","v":{"$error":"#N/A"}},{"$f":"IF(U606=0,0,(U605*U606+U607*U608*6)/U606)","v":{"$error":"#N/A"}},{"$f":"IF(T604=0,0,(U604-T604)/T604*100)","v":{"$error":"#N/A"}},{"$f":"IF(W606=0,0,(W605*W606+W607*W608*6)/W606)","v":{"$error":"#N/A"}},{"$f":"IF(X606=0,0,(X605*X606+X607*X608*6)/X606)","v":{"$error":"#N/A"}},{"$f":"IF(W604=0,0,(X604-W604)/W604*100)","v":{"$error":"#N/A"}},{"$f":"IF(Z606=0,0,(Z605*Z606+Z607*Z608*6)/Z606)","v":{"$error":"#N/A"}},{"$f":"IF(AA606=0,0,(AA605*AA606+AA607*AA608*6)/AA606)","v":{"$error":"#N/A"}},{"$f":"IF(Z604=0,0,(AA604-Z604)/Z604*100)","v":{"$error":"#N/A"}},{"$f":"IF(AC606=0,0,(AC605*AC606+AC607*AC608*6)/AC606)","v":{"$error":"#N/A"}},{"$f":"IF(AD606=0,0,(AD605*AD606+AD607*AD608*6)/AD606)","v":{"$error":"#N/A"}},{"$f":"IF(AC604=0,0,(AD604-AC604)/AC604*100)","v":{"$error":"#N/A"}},{"$f":"IF(AF606=0,0,(AF605*AF606+AF607*AF608*6)/AF606)","v":{"$error":"#N/A"}},{"$f":"IF(AG606=0,0,(AG605*AG606+AG607*AG608*6)/AG606)","v":{"$error":"#N/A"}},{"$f":"IF(AF604=0,0,(AG604-AF604)/AF604*100)","v":{"$error":"#N/A"}},{"$f":"IF(AI606=0,0,(AI605*AI606+AI607*AI608*6)/AI606)","v":{"$error":"#N/A"}},{"$f":"IF(AJ606=0,0,(AJ605*AJ606+AJ607*AJ608*6)/AJ606)","v":{"$error":"#N/A"}},{"$f":"IF(AI604=0,0,(AJ604-AI604)/AI604*100)","v":{"$error":"#N/A"}},{"$f":"IF(AL606=0,0,(AL605*AL606+AL607*AL608*6)/AL606)","v":{"$error":"#N/A"}},{"$f":"IF(AM606=0,0,(AM605*AM606+AM607*AM608*6)/AM606)","v":{"$error":"#N/A"}},{"$f":"IF(AL604=0,0,(AM604-AL604)/AL604*100)","v":{"$error":"#N/A"}},{"$f":"IF(AO606=0,0,(AO605*AO606+AO607*AO608*6)/AO606)","v":{"$error":"#N/A"}},{"$f":"IF(AP606=0,0,(AP605*AP606+AP607*AP608*6)/AP606)","v":{"$error":"#N/A"}},{"$f":"IF(AO604=0,0,(AP604-AO604)/AO604*100)","v":{"$error":"#N/A"}},{"$f":"IF(AR606=0,0,(AR605*AR606+AR607*AR608*6)/AR606)","v":0},{"$f":"IF(AS606=0,0,(AS605*AS606+AS607*AS608*6)/AS606)","v":0},{"$f":"IF(AR604=0,0,(AS604-AR604)/AR604*100)","v":0},{"$f":"IF(AU606=0,0,(AU605*AU606+AU607*AU608*6)/AU606)","v":0},{"$f":"IF(AV606=0,0,(AV605*AV606+AV607*AV608*6)/AV606)","v":0},{"$f":"IF(AU604=0,0,(AV604-AU604)/AU604*100)","v":0},{"$f":"IF(AX606=0,0,(AX605*AX606+AX607*AX608*6)/AX606)","v":0},{"$f":"IF(AY606=0,0,(AY605*AY606+AY607*AY608*6)/AY606)","v":0},{"$f":"IF(AX604=0,0,(AY604-AX604)/AX604*100)","v":0},{"$f":"IF(BA606=0,0,(BA605*BA606+BA607*BA608*6)/BA606)","v":0},{"$f":"IF(BB606=0,0,(BB605*BB606+BB607*BB608*6)/BB606)","v":0},{"$f":"IF(BA604=0,0,(BB604-BA604)/BA604*100)","v":0},{"$f":"IF(BD606=0,0,(BD605*BD606+BD607*BD608*6)/BD606)","v":0},{"$f":"IF(BE606=0,0,(BE605*BE606+BE607*BE608*6)/BE606)","v":0},{"$f":"IF(BD604=0,0,(BE604-BD604)/BD604*100)","v":0},{"$f":"IF(BG606=0,0,(BG605*BG606+BG607*BG608*6)/BG606)","v":0},{"$f":"IF(BH606=0,0,(BH605*BH606+BH607*BH608*6)/BH606)","v":0},{"$f":"IF(BG604=0,0,(BH604-BG604)/BG604*100)","v":0},{"$f":"IF(BJ606=0,0,(BJ605*BJ606+BJ607*BJ608*6)/BJ606)","v":0},{"$f":"IF(BK606=0,0,(BK605*BK606+BK607*BK608*6)/BK606)","v":0},{"$f":"IF(BJ604=0,0,(BK604-BJ604)/BJ604*100)","v":0},{"$f":"IF(BM606=0,0,(BM605*BM606+BM607*BM608*6)/BM606)","v":0},{"$f":"IF(BN606=0,0,(BN605*BN606+BN607*BN608*6)/BN606)","v":0},{"$f":"IF(BM604=0,0,(BN604-BM604)/BM604*100)","v":0},{"$f":"IF(BP606=0,0,(BP605*BP606+BP607*BP608*6)/BP606)","v":0},{"$f":"IF(BQ606=0,0,(BQ605*BQ606+BQ607*BQ608*6)/BQ606)","v":0},{"$f":"IF(BP604=0,0,(BQ604-BP604)/BP604*100)","v":0},{"$f":"IF(BS606=0,0,(BS605*BS606+BS607*BS608*6)/BS606)","v":0},{"$f":"IF(BT606=0,0,(BT605*BT606+BT607*BT608*6)/BT606)","v":0},{"$f":"IF(BS604=0,0,(BT604-BS604)/BS604*100)","v":0},{"$f":"IF(BV606=0,0,(BV605*BV606+BV607*BV608*6)/BV606)","v":0},{"$f":"IF(BW606=0,0,(BW605*BW606+BW607*BW608*6)/BW606)","v":0},{"$f":"IF(BV604=0,0,(BW604-BV604)/BV604*100)","v":0},{"$f":"IF(BY606=0,0,(BY605*BY606+BY607*BY608*6)/BY606)","v":0},{"$f":"IF(BZ606=0,0,(BZ605*BZ606+BZ607*BZ608*6)/BZ606)","v":0},{"$f":"IF(BY604=0,0,(BZ604-BY604)/BY604*100)","v":0},{"$f":"IF(CB606=0,0,(CB605*CB606+CB607*CB608*6)/CB606)","v":0},{"$f":"IF(CC606=0,0,(CC605*CC606+CC607*CC608*6)/CC606)","v":0},{"$f":"IF(CB604=0,0,(CC604-CB604)/CB604*100)","v":0},{"$f":"IF(CE606=0,0,(CE605*CE606+CE607*CE608*6)/CE606)","v":0},{"$f":"IF(CF606=0,0,(CF605*CF606+CF607*CF608*6)/CF606)","v":0},{"$f":"IF(CE604=0,0,(CF604-CE604)/CE604*100)","v":0},{"$f":"IF(CH606=0,0,(CH605*CH606+CH607*CH608*6)/CH606)","v":0},{"$f":"IF(CI606=0,0,(CI605*CI606+CI607*CI608*6)/CI606)","v":0},{"$f":"IF(CH604=0,0,(CI604-CH604)/CH604*100)","v":0},{"$f":"IF(CK606=0,0,(CK605*CK606+CK607*CK608*6)/CK606)","v":0},{"$f":"IF(CL606=0,0,(CL605*CL606+CL607*CL608*6)/CL606)","v":0},{"$f":"IF(CK604=0,0,(CL604-CK604)/CK604*100)","v":0},{"$f":"IF(CN606=0,0,(CN605*CN606+CN607*CN608*6)/CN606)","v":0},{"$f":"IF(CO606=0,0,(CO605*CO606+CO607*CO608*6)/CO606)","v":0},{"$f":"IF(CN604=0,0,(CO604-CN604)/CN604*100)","v":0},{"$f":"IF(CQ606=0,0,(CQ605*CQ606+CQ607*CQ608*6)/CQ606)","v":0},{"$f":"IF(CR606=0,0,(CR605*CR606+CR607*CR608*6)/CR606)","v":0},{"$f":"IF(CQ604=0,0,(CR604-CQ604)/CQ604*100)","v":0},{"$f":"IF(CT606=0,0,(CT605*CT606+CT607*CT608*6)/CT606)","v":0},{"$f":"IF(CU606=0,0,(CU605*CU606+CU607*CU608*6)/CU606)","v":0},{"$f":"IF(CT604=0,0,(CU604-CT604)/CT604*100)","v":0},{"$f":"IF(CW606=0,0,(CW605*CW606+CW607*CW608*6)/CW606)","v":0},{"$f":"IF(CX606=0,0,(CX605*CX606+CX607*CX608*6)/CX606)","v":0},{"$f":"IF(CW604=0,0,(CX604-CW604)/CW604*100)","v":0},{"$f":"IF(CZ606=0,0,(CZ605*CZ606+CZ607*CZ608*6)/CZ606)","v":0},{"$f":"IF(DA606=0,0,(DA605*DA606+DA607*DA608*6)/DA606)","v":0},{"$f":"IF(CZ604=0,0,(DA604-CZ604)/CZ604*100)","v":0},{"$f":"IF(DC606=0,0,(DC605*DC606+DC607*DC608*6)/DC606)","v":0},{"$f":"IF(DD606=0,0,(DD605*DD606+DD607*DD608*6)/DD606)","v":0},{"$f":"IF(DC604=0,0,(DD604-DC604)/DC604*100)","v":0},{"$f":"IF(DF606=0,0,(DF605*DF606+DF607*DF608*6)/DF606)","v":0},{"$f":"IF(DG606=0,0,(DG605*DG606+DG607*DG608*6)/DG606)","v":0},{"$f":"IF(DF604=0,0,(DG604-DF604)/DF604*100)","v":0},{"$f":"IF(DI606=0,0,(DI605*DI606+DI607*DI608*6)/DI606)","v":0},{"$f":"IF(DJ606=0,0,(DJ605*DJ606+DJ607*DJ608*6)/DJ606)","v":0},{"$f":"IF(DI604=0,0,(DJ604-DI604)/DI604*100)","v":0},{"$f":"IF(DL606=0,0,(DL605*DL606+DL607*DL608*6)/DL606)","v":0},{"$f":"IF(DM606=0,0,(DM605*DM606+DM607*DM608*6)/DM606)","v":0},{"$f":"IF(DL604=0,0,(DM604-DL604)/DL604*100)","v":0},{"$f":"IF(DO606=0,0,(DO605*DO606+DO607*DO608*6)/DO606)","v":0},{"$f":"IF(DP606=0,0,(DP605*DP606+DP607*DP608*6)/DP606)","v":0},{"$f":"IF(DO604=0,0,(DP604-DO604)/DO604*100)","v":0},{"$f":"IF(DR606=0,0,(DR605*DR606+DR607*DR608*6)/DR606)","v":0},{"$f":"IF(DS606=0,0,(DS605*DS606+DS607*DS608*6)/DS606)","v":0},{"$f":"IF(DR604=0,0,(DS604-DR604)/DR604*100)","v":0},{"$f":"IF(DU606=0,0,(DU605*DU606+DU607*DU608*6)/DU606)","v":0},{"$f":"IF(DV606=0,0,(DV605*DV606+DV607*DV608*6)/DV606)","v":0},{"$f":"IF(DU604=0,0,(DV604-DU604)/DU604*100)","v":0},{"$f":"IF(DX606=0,0,(DX605*DX606+DX607*DX608*6)/DX606)","v":0},{"$f":"IF(DY606=0,0,(DY605*DY606+DY607*DY608*6)/DY606)","v":0},{"$f":"IF(DX604=0,0,(DY604-DX604)/DX604*100)","v":0},{"$f":"IF(EA606=0,0,(EA605*EA606+EA607*EA608*6)/EA606)","v":0},{"$f":"IF(EB606=0,0,(EB605*EB606+EB607*EB608*6)/EB606)","v":0},{"$f":"IF(EA604=0,0,(EB604-EA604)/EA604*100)","v":0},{"$f":"IF(ED606=0,0,(ED605*ED606+ED607*ED608*6)/ED606)","v":0},{"$f":"IF(EE606=0,0,(EE605*EE606+EE607*EE608*6)/EE606)","v":0},{"$f":"IF(ED604=0,0,(EE604-ED604)/ED604*100)","v":0},{"$f":"IF(EG606=0,0,(EG605*EG606+EG607*EG608*6)/EG606)","v":0},{"$f":"IF(EH606=0,0,(EH605*EH606+EH607*EH608*6)/EH606)","v":0},{"$f":"IF(EG604=0,0,(EH604-EG604)/EG604*100)","v":0},{"$f":"IF(EJ606=0,0,(EJ605*EJ606+EJ607*EJ608*6)/EJ606)","v":0},{"$f":"IF(EK606=0,0,(EK605*EK606+EK607*EK608*6)/EK606)","v":0},{"$f":"IF(EJ604=0,0,(EK604-EJ604)/EJ604*100)","v":0},{"$f":"IF(EM606=0,0,(EM605*EM606+EM607*EM608*6)/EM606)","v":0},{"$f":"IF(EN606=0,0,(EN605*EN606+EN607*EN608*6)/EN606)","v":0},{"$f":"IF(EM604=0,0,(EN604-EM604)/EM604*100)","v":0},{"$f":"IF(EP606=0,0,(EP605*EP606+EP607*EP608*6)/EP606)","v":0},{"$f":"IF(EQ606=0,0,(EQ605*EQ606+EQ607*EQ608*6)/EQ606)","v":0},{"$f":"IF(EP604=0,0,(EQ604-EP604)/EP604*100)","v":0},{"$f":"IF(ES606=0,0,(ES605*ES606+ES607*ES608*6)/ES606)","v":0},{"$f":"IF(ET606=0,0,(ET605*ET606+ET607*ET608*6)/ET606)","v":0},{"$f":"IF(ES604=0,0,(ET604-ES604)/ES604*100)","v":0},{"$f":"IF(EV606=0,0,(EV605*EV606+EV607*EV608*6)/EV606)","v":0},{"$f":"IF(EW606=0,0,(EW605*EW606+EW607*EW608*6)/EW606)","v":0},{"$f":"IF(EV604=0,0,(EW604-EV604)/EV604*100)","v":0},{"$f":"IF(EY606=0,0,(EY605*EY606+EY607*EY608*6)/EY606)","v":0},{"$f":"IF(EZ606=0,0,(EZ605*EZ606+EZ607*EZ608*6)/EZ606)","v":0},{"$f":"IF(EY604=0,0,(EZ604-EY604)/EY604*100)","v":0},{"$f":"IF(FB606=0,0,(FB605*FB606+FB607*FB608*6)/FB606)","v":0},{"$f":"IF(FC606=0,0,(FC605*FC606+FC607*FC608*6)/FC606)","v":0},{"$f":"IF(FB604=0,0,(FC604-FB604)/FB604*100)","v":0},{"$f":"IF(FE606=0,0,(FE605*FE606+FE607*FE608*6)/FE606)","v":0},{"$f":"IF(FF606=0,0,(FF605*FF606+FF607*FF608*6)/FF606)","v":0},{"$f":"IF(FE604=0,0,(FF604-FE604)/FE604*100)","v":0}]
["1",null,"L2_1_2","для прочих потребителей с 01.07 по 31.12 без НДС",null,null,{"$f":"F582=\"двухставочный\"","v":false},null,null,null,null,"ставка платы за потребление 1 куб.м холодной воды","руб./куб.м",null,null,{"$f":"IF(N605=0,0,(O605-N605)/N605*100)","v":0},null,null,{"$f":"IF(Q605=0,0,(R605-Q605)/Q605*100)","v":0},null,null,{"$f":"IF(T605=0,0,(U605-T605)/T605*100)","v":0},null,null,{"$f":"IF(W605=0,0,(X605-W605)/W605*100)","v":0},null,null,{"$f":"IF(Z605=0,0,(AA605-Z605)/Z605*100)","v":0},null,null,{"$f":"IF(AC605=0,0,(AD605-AC605)/AC605*100)","v":0},null,null,{"$f":"IF(AF605=0,0,(AG605-AF605)/AF605*100)","v":0},null,null,{"$f":"IF(AI605=0,0,(AJ605-AI605)/AI605*100)","v":0},null,null,{"$f":"IF(AL605=0,0,(AM605-AL605)/AL605*100)","v":0},null,null,{"$f":"IF(AO605=0,0,(AP605-AO605)/AO605*100)","v":0},null,null,{"$f":"IF(AR605=0,0,(AS605-AR605)/AR605*100)","v":0},null,null,{"$f":"IF(AU605=0,0,(AV605-AU605)/AU605*100)","v":0},null,null,{"$f":"IF(AX605=0,0,(AY605-AX605)/AX605*100)","v":0},null,null,{"$f":"IF(BA605=0,0,(BB605-BA605)/BA605*100)","v":0},null,null,{"$f":"IF(BD605=0,0,(BE605-BD605)/BD605*100)","v":0},null,null,{"$f":"IF(BG605=0,0,(BH605-BG605)/BG605*100)","v":0},null,null,{"$f":"IF(BJ605=0,0,(BK605-BJ605)/BJ605*100)","v":0},null,null,{"$f":"IF(BM605=0,0,(BN605-BM605)/BM605*100)","v":0},null,null,{"$f":"IF(BP605=0,0,(BQ605-BP605)/BP605*100)","v":0},null,null,{"$f":"IF(BS605=0,0,(BT605-BS605)/BS605*100)","v":0},null,null,{"$f":"IF(BV605=0,0,(BW605-BV605)/BV605*100)","v":0},null,null,{"$f":"IF(BY605=0,0,(BZ605-BY605)/BY605*100)","v":0},null,null,{"$f":"IF(CB605=0,0,(CC605-CB605)/CB605*100)","v":0},null,null,{"$f":"IF(CE605=0,0,(CF605-CE605)/CE605*100)","v":0},null,null,{"$f":"IF(CH605=0,0,(CI605-CH605)/CH605*100)","v":0},null,null,{"$f":"IF(CK605=0,0,(CL605-CK605)/CK605*100)","v":0},null,null,{"$f":"IF(CN605=0,0,(CO605-CN605)/CN605*100)","v":0},null,null,{"$f":"IF(CQ605=0,0,(CR605-CQ605)/CQ605*100)","v":0},null,null,{"$f":"IF(CT605=0,0,(CU605-CT605)/CT605*100)","v":0},null,null,{"$f":"IF(CW605=0,0,(CX605-CW605)/CW605*100)","v":0},null,null,{"$f":"IF(CZ605=0,0,(DA605-CZ605)/CZ605*100)","v":0},null,null,{"$f":"IF(DC605=0,0,(DD605-DC605)/DC605*100)","v":0},null,null,{"$f":"IF(DF605=0,0,(DG605-DF605)/DF605*100)","v":0},null,null,{"$f":"IF(DI605=0,0,(DJ605-DI605)/DI605*100)","v":0},null,null,{"$f":"IF(DL605=0,0,(DM605-DL605)/DL605*100)","v":0},null,null,{"$f":"IF(DO605=0,0,(DP605-DO605)/DO605*100)","v":0},null,null,{"$f":"IF(DR605=0,0,(DS605-DR605)/DR605*100)","v":0},null,null,{"$f":"IF(DU605=0,0,(DV605-DU605)/DU605*100)","v":0},null,null,{"$f":"IF(DX605=0,0,(DY605-DX605)/DX605*100)","v":0},null,null,{"$f":"IF(EA605=0,0,(EB605-EA605)/EA605*100)","v":0},null,null,{"$f":"IF(ED605=0,0,(EE605-ED605)/ED605*100)","v":0},null,null,{"$f":"IF(EG605=0,0,(EH605-EG605)/EG605*100)","v":0},null,null,{"$f":"IF(EJ605=0,0,(EK605-EJ605)/EJ605*100)","v":0},null,null,{"$f":"IF(EM605=0,0,(EN605-EM605)/EM605*100)","v":0},null,null,{"$f":"IF(EP605=0,0,(EQ605-EP605)/EP605*100)","v":0},null,null,{"$f":"IF(ES605=0,0,(ET605-ES605)/ES605*100)","v":0},null,null,{"$f":"IF(EV605=0,0,(EW605-EV605)/EV605*100)","v":0},null,null,{"$f":"IF(EY605=0,0,(EZ605-EY605)/EY605*100)","v":0},null,null,{"$f":"IF(FB605=0,0,(FC605-FB605)/FB605*100)","v":0},null,null,{"$f":"IF(FE605=0,0,(FF605-FE605)/FE605*100)","v":0}]
["1","ПО.прочие.II","L2_1_3","для прочих потребителей с 01.07 по 31.12 без НДС",null,null,{"$f":"F582=\"двухставочный\"","v":false},null,null,null,null,"объём потребления холодной воды","тыс.куб.м",{"$f":"SUMIFS(INDEX(Калькуляция!$T$15:$AM$143,,MATCH(N$3,Калькуляция!$T$3:$AM$3,0)),Калькуляция!$A$15:$A$143,$A606,Калькуляция!$B$15:$B$143,$B606)","v":{"$error":"#N/A"}},{"$f":"SUMIFS(INDEX(Калькуляция!$T$15:$AM$143,,MATCH(O$3,Калькуляция!$T$3:$AM$3,0)),Калькуляция!$A$15:$A$143,$A606,Калькуляция!$B$15:$B$143,$B606)","v":{"$error":"#N/A"}},{"$f":"IF(N606=0,0,(O606-N606)/N606*100)","v":{"$error":"#N/A"}},{"$f":"SUMIFS(INDEX(Калькуляция!$T$15:$AM$143,,MATCH(Q$3,Калькуляция!$T$3:$AM$3,0)),Калькуляция!$A$15:$A$143,$A606,Калькуляция!$B$15:$B$143,$B606)","v":{"$error":"#N/A"}},{"$f":"SUMIFS(INDEX(Калькуляция!$T$15:$AM$143,,MATCH(R$3,Калькуляция!$T$3:$AM$3,0)),Калькуляция!$A$15:$A$143,$A606,Калькуляция!$B$15:$B$143,$B606)","v":{"$error":"#N/A"}},{"$f":"IF(Q606=0,0,(R606-Q606)/Q606*100)","v":{"$error":"#N/A"}},{"$f":"SUMIFS(INDEX(Калькуляция!$T$15:$AM$143,,MATCH(T$3,Калькуляция!$T$3:$AM$3,0)),Калькуляция!$A$15:$A$143,$A606,Калькуляция!$B$15:$B$143,$B606)","v":{"$error":"#N/A"}},{"$f":"SUMIFS(INDEX(Калькуляция!$T$15:$AM$143,,MATCH(U$3,Калькуляция!$T$3:$AM$3,0)),Калькуляция!$A$15:$A$143,$A606,Калькуляция!$B$15:$B$143,$B606)","v":{"$error":"#N/A"}},{"$f":"IF(T606=0,0,(U606-T606)/T606*100)","v":{"$error":"#N/A"}},{"$f":"SUMIFS(INDEX(Калькуляция!$T$15:$AM$143,,MATCH(W$3,Калькуляция!$T$3:$AM$3,0)),Калькуляция!$A$15:$A$143,$A606,Калькуляция!$B$15:$B$143,$B606)","v":{"$error":"#N/A"}},{"$f":"SUMIFS(INDEX(Калькуляция!$T$15:$AM$143,,MATCH(X$3,Калькуляция!$T$3:$AM$3,0)),Калькуляция!$A$15:$A$143,$A606,Калькуляция!$B$15:$B$143,$B606)","v":{"$error":"#N/A"}},{"$f":"IF(W606=0,0,(X606-W606)/W606*100)","v":{"$error":"#N/A"}},{"$f":"SUMIFS(INDEX(Калькуляция!$T$15:$AM$143,,MATCH(Z$3,Калькуляция!$T$3:$AM$3,0)),Калькуляция!$A$15:$A$143,$A606,Калькуляция!$B$15:$B$143,$B606)","v":{"$error":"#N/A"}},{"$f":"SUMIFS(INDEX(Калькуляция!$T$15:$AM$143,,MATCH(AA$3,Калькуляция!$T$3:$AM$3,0)),Калькуляция!$A$15:$A$143,$A606,Калькуляция!$B$15:$B$143,$B606)","v":{"$error":"#N/A"}},{"$f":"IF(Z606=0,0,(AA606-Z606)/Z606*100)","v":{"$error":"#N/A"}},{"$f":"SUMIFS(INDEX(Калькуляция!$T$15:$AM$143,,MATCH(AC$3,Калькуляция!$T$3:$AM$3,0)),Калькуляция!$A$15:$A$143,$A606,Калькуляция!$B$15:$B$143,$B606)","v":{"$error":"#N/A"}},{"$f":"SUMIFS(INDEX(Калькуляция!$T$15:$AM$143,,MATCH(AD$3,Калькуляция!$T$3:$AM$3,0)),Калькуляция!$A$15:$A$143,$A606,Калькуляция!$B$15:$B$143,$B606)","v":{"$error":"#N/A"}},{"$f":"IF(AC606=0,0,(AD606-AC606)/AC606*100)","v":{"$error":"#N/A"}},{"$f":"SUMIFS(INDEX(Калькуляция!$T$15:$AM$143,,MATCH(AF$3,Калькуляция!$T$3:$AM$3,0)),Калькуляция!$A$15:$A$143,$A606,Калькуляция!$B$15:$B$143,$B606)","v":{"$error":"#N/A"}},{"$f":"SUMIFS(INDEX(Калькуляция!$T$15:$AM$143,,MATCH(AG$3,Калькуляция!$T$3:$AM$3,0)),Калькуляция!$A$15:$A$143,$A606,Калькуляция!$B$15:$B$143,$B606)","v":{"$error":"#N/A"}},{"$f":"IF(AF606=0,0,(AG606-AF606)/AF606*100)","v":{"$error":"#N/A"}},{"$f":"SUMIFS(INDEX(Калькуляция!$T$15:$AM$143,,MATCH(AI$3,Калькуляция!$T$3:$AM$3,0)),Калькуляция!$A$15:$A$143,$A606,Калькуляция!$B$15:$B$143,$B606)","v":{"$error":"#N/A"}},{"$f":"SUMIFS(INDEX(Калькуляция!$T$15:$AM$143,,MATCH(AJ$3,Калькуляция!$T$3:$AM$3,0)),Калькуляция!$A$15:$A$143,$A606,Калькуляция!$B$15:$B$143,$B606)","v":{"$error":"#N/A"}},{"$f":"IF(AI606=0,0,(AJ606-AI606)/AI606*100)","v":{"$error":"#N/A"}},{"$f":"SUMIFS(INDEX(Калькуляция!$T$15:$AM$143,,MATCH(AL$3,Калькуляция!$T$3:$AM$3,0)),Калькуляция!$A$15:$A$143,$A606,Калькуляция!$B$15:$B$143,$B606)","v":{"$error":"#N/A"}},{"$f":"SUMIFS(INDEX(Калькуляция!$T$15:$AM$143,,MATCH(AM$3,Калькуляция!$T$3:$AM$3,0)),Калькуляция!$A$15:$A$143,$A606,Калькуляция!$B$15:$B$143,$B606)","v":{"$error":"#N/A"}},{"$f":"IF(AL606=0,0,(AM606-AL606)/AL606*100)","v":{"$error":"#N/A"}},{"$f":"SUMIFS(INDEX(Калькуляция!$T$15:$AM$143,,MATCH(AO$3,Калькуляция!$T$3:$AM$3,0)),Калькуляция!$A$15:$A$143,$A606,Калькуляция!$B$15:$B$143,$B606)","v":{"$error":"#N/A"}},{"$f":"SUMIFS(INDEX(Калькуляция!$T$15:$AM$143,,MATCH(AP$3,Калькуляция!$T$3:$AM$3,0)),Калькуляция!$A$15:$A$143,$A606,Калькуляция!$B$15:$B$143,$B606)","v":{"$error":"#N/A"}},{"$f":"IF(AO606=0,0,(AP606-AO606)/AO606*100)","v":{"$error":"#N/A"}},null,null,{"$f":"IF(AR606=0,0,(AS606-AR606)/AR606*100)","v":0},null,null,{"$f":"IF(AU606=0,0,(AV606-AU606)/AU606*100)","v":0},null,null,{"$f":"IF(AX606=0,0,(AY606-AX606)/AX606*100)","v":0},null,null,{"$f":"IF(BA606=0,0,(BB606-BA606)/BA606*100)","v":0},null,null,{"$f":"IF(BD606=0,0,(BE606-BD606)/BD606*100)","v":0},null,null,{"$f":"IF(BG606=0,0,(BH606-BG606)/BG606*100)","v":0},null,null,{"$f":"IF(BJ606=0,0,(BK606-BJ606)/BJ606*100)","v":0},null,null,{"$f":"IF(BM606=0,0,(BN606-BM606)/BM606*100)","v":0},null,null,{"$f":"IF(BP606=0,0,(BQ606-BP606)/BP606*100)","v":0},null,null,{"$f":"IF(BS606=0,0,(BT606-BS606)/BS606*100)","v":0},null,null,{"$f":"IF(BV606=0,0,(BW606-BV606)/BV606*100)","v":0},null,null,{"$f":"IF(BY606=0,0,(BZ606-BY606)/BY606*100)","v":0},null,null,{"$f":"IF(CB606=0,0,(CC606-CB606)/CB606*100)","v":0},null,null,{"$f":"IF(CE606=0,0,(CF606-CE606)/CE606*100)","v":0},null,null,{"$f":"IF(CH606=0,0,(CI606-CH606)/CH606*100)","v":0},null,null,{"$f":"IF(CK606=0,0,(CL606-CK606)/CK606*100)","v":0},null,null,{"$f":"IF(CN606=0,0,(CO606-CN606)/CN606*100)","v":0},null,null,{"$f":"IF(CQ606=0,0,(CR606-CQ606)/CQ606*100)","v":0},null,null,{"$f":"IF(CT606=0,0,(CU606-CT606)/CT606*100)","v":0},null,null,{"$f":"IF(CW606=0,0,(CX606-CW606)/CW606*100)","v":0},null,null,{"$f":"IF(CZ606=0,0,(DA606-CZ606)/CZ606*100)","v":0},null,null,{"$f":"IF(DC606=0,0,(DD606-DC606)/DC606*100)","v":0},null,null,{"$f":"IF(DF606=0,0,(DG606-DF606)/DF606*100)","v":0},null,null,{"$f":"IF(DI606=0,0,(DJ606-DI606)/DI606*100)","v":0},null,null,{"$f":"IF(DL606=0,0,(DM606-DL606)/DL606*100)","v":0},null,null,{"$f":"IF(DO606=0,0,(DP606-DO606)/DO606*100)","v":0},null,null,{"$f":"IF(DR606=0,0,(DS606-DR606)/DR606*100)","v":0},null,null,{"$f":"IF(DU606=0,0,(DV606-DU606)/DU606*100)","v":0},null,null,{"$f":"IF(DX606=0,0,(DY606-DX606)/DX606*100)","v":0},null,null,{"$f":"IF(EA606=0,0,(EB606-EA606)/EA606*100)","v":0},null,null,{"$f":"IF(ED606=0,0,(EE606-ED606)/ED606*100)","v":0},null,null,{"$f":"IF(EG606=0,0,(EH606-EG606)/EG606*100)","v":0},null,null,{"$f":"IF(EJ606=0,0,(EK606-EJ606)/EJ606*100)","v":0},null,null,{"$f":"IF(EM606=0,0,(EN606-EM606)/EM606*100)","v":0},null,null,{"$f":"IF(EP606=0,0,(EQ606-EP606)/EP606*100)","v":0},null,null,{"$f":"IF(ES606=0,0,(ET606-ES606)/ES606*100)","v":0},null,null,{"$f":"IF(EV606=0,0,(EW606-EV606)/EV606*100)","v":0},null,null,{"$f":"IF(EY606=0,0,(EZ606-EY606)/EY606*100)","v":0},null,null,{"$f":"IF(FB606=0,0,(FC606-FB606)/FB606*100)","v":0},null,null,{"$f":"IF(FE606=0,0,(FF606-FE606)/FE606*100)","v":0}]
["1",null,"L2_1_4","для прочих потребителей с 01.07 по 31.12 без НДС",null,null,{"$f":"F582=\"двухставочный\"","v":false},null,null,null,null,"ставка платы за содержание системы холодного водоснабжения","тыс.руб./куб.м*час/в месяц",null,null,{"$f":"IF(N607=0,0,(O607-N607)/N607*100)","v":0},null,null,{"$f":"IF(Q607=0,0,(R607-Q607)/Q607*100)","v":0},null,null,{"$f":"IF(T607=0,0,(U607-T607)/T607*100)","v":0},null,null,{"$f":"IF(W607=0,0,(X607-W607)/W607*100)","v":0},null,null,{"$f":"IF(Z607=0,0,(AA607-Z607)/Z607*100)","v":0},null,null,{"$f":"IF(AC607=0,0,(AD607-AC607)/AC607*100)","v":0},null,null,{"$f":"IF(AF607=0,0,(AG607-AF607)/AF607*100)","v":0},null,null,{"$f":"IF(AI607=0,0,(AJ607-AI607)/AI607*100)","v":0},null,null,{"$f":"IF(AL607=0,0,(AM607-AL607)/AL607*100)","v":0},null,null,{"$f":"IF(AO607=0,0,(AP607-AO607)/AO607*100)","v":0},null,null,{"$f":"IF(AR607=0,0,(AS607-AR607)/AR607*100)","v":0},null,null,{"$f":"IF(AU607=0,0,(AV607-AU607)/AU607*100)","v":0},null,null,{"$f":"IF(AX607=0,0,(AY607-AX607)/AX607*100)","v":0},null,null,{"$f":"IF(BA607=0,0,(BB607-BA607)/BA607*100)","v":0},null,null,{"$f":"IF(BD607=0,0,(BE607-BD607)/BD607*100)","v":0},null,null,{"$f":"IF(BG607=0,0,(BH607-BG607)/BG607*100)","v":0},null,null,{"$f":"IF(BJ607=0,0,(BK607-BJ607)/BJ607*100)","v":0},null,null,{"$f":"IF(BM607=0,0,(BN607-BM607)/BM607*100)","v":0},null,null,{"$f":"IF(BP607=0,0,(BQ607-BP607)/BP607*100)","v":0},null,null,{"$f":"IF(BS607=0,0,(BT607-BS607)/BS607*100)","v":0},null,null,{"$f":"IF(BV607=0,0,(BW607-BV607)/BV607*100)","v":0},null,null,{"$f":"IF(BY607=0,0,(BZ607-BY607)/BY607*100)","v":0},null,null,{"$f":"IF(CB607=0,0,(CC607-CB607)/CB607*100)","v":0},null,null,{"$f":"IF(CE607=0,0,(CF607-CE607)/CE607*100)","v":0},null,null,{"$f":"IF(CH607=0,0,(CI607-CH607)/CH607*100)","v":0},null,null,{"$f":"IF(CK607=0,0,(CL607-CK607)/CK607*100)","v":0},null,null,{"$f":"IF(CN607=0,0,(CO607-CN607)/CN607*100)","v":0},null,null,{"$f":"IF(CQ607=0,0,(CR607-CQ607)/CQ607*100)","v":0},null,null,{"$f":"IF(CT607=0,0,(CU607-CT607)/CT607*100)","v":0},null,null,{"$f":"IF(CW607=0,0,(CX607-CW607)/CW607*100)","v":0},null,null,{"$f":"IF(CZ607=0,0,(DA607-CZ607)/CZ607*100)","v":0},null,null,{"$f":"IF(DC607=0,0,(DD607-DC607)/DC607*100)","v":0},null,null,{"$f":"IF(DF607=0,0,(DG607-DF607)/DF607*100)","v":0},null,null,{"$f":"IF(DI607=0,0,(DJ607-DI607)/DI607*100)","v":0},null,null,{"$f":"IF(DL607=0,0,(DM607-DL607)/DL607*100)","v":0},null,null,{"$f":"IF(DO607=0,0,(DP607-DO607)/DO607*100)","v":0},null,null,{"$f":"IF(DR607=0,0,(DS607-DR607)/DR607*100)","v":0},null,null,{"$f":"IF(DU607=0,0,(DV607-DU607)/DU607*100)","v":0},null,null,{"$f":"IF(DX607=0,0,(DY607-DX607)/DX607*100)","v":0},null,null,{"$f":"IF(EA607=0,0,(EB607-EA607)/EA607*100)","v":0},null,null,{"$f":"IF(ED607=0,0,(EE607-ED607)/ED607*100)","v":0},null,null,{"$f":"IF(EG607=0,0,(EH607-EG607)/EG607*100)","v":0},null,null,{"$f":"IF(EJ607=0,0,(EK607-EJ607)/EJ607*100)","v":0},null,null,{"$f":"IF(EM607=0,0,(EN607-EM607)/EM607*100)","v":0},null,null,{"$f":"IF(EP607=0,0,(EQ607-EP607)/EP607*100)","v":0},null,null,{"$f":"IF(ES607=0,0,(ET607-ES607)/ES607*100)","v":0},null,null,{"$f":"IF(EV607=0,0,(EW607-EV607)/EV607*100)","v":0},null,null,{"$f":"IF(EY607=0,0,(EZ607-EY607)/EY607*100)","v":0},null,null,{"$f":"IF(FB607=0,0,(FC607-FB607)/FB607*100)","v":0},null,null,{"$f":"IF(FE607=0,0,(FF607-FE607)/FE607*100)","v":0}]
["1",null,"L2_1_5","для прочих потребителей с 01.07 по 31.12 без НДС",null,null,{"$f":"F582=\"двухставочный\"","v":false},null,null,null,null,"величина присоединённой мощности","куб.м*час",null,null,{"$f":"IF(N608=0,0,(O608-N608)/N608*100)","v":0},null,null,{"$f":"IF(Q608=0,0,(R608-Q608)/Q608*100)","v":0},null,null,{"$f":"IF(T608=0,0,(U608-T608)/T608*100)","v":0},null,null,{"$f":"IF(W608=0,0,(X608-W608)/W608*100)","v":0},null,null,{"$f":"IF(Z608=0,0,(AA608-Z608)/Z608*100)","v":0},null,null,{"$f":"IF(AC608=0,0,(AD608-AC608)/AC608*100)","v":0},null,null,{"$f":"IF(AF608=0,0,(AG608-AF608)/AF608*100)","v":0},null,null,{"$f":"IF(AI608=0,0,(AJ608-AI608)/AI608*100)","v":0},null,null,{"$f":"IF(AL608=0,0,(AM608-AL608)/AL608*100)","v":0},null,null,{"$f":"IF(AO608=0,0,(AP608-AO608)/AO608*100)","v":0},null,null,{"$f":"IF(AR608=0,0,(AS608-AR608)/AR608*100)","v":0},null,null,{"$f":"IF(AU608=0,0,(AV608-AU608)/AU608*100)","v":0},null,null,{"$f":"IF(AX608=0,0,(AY608-AX608)/AX608*100)","v":0},null,null,{"$f":"IF(BA608=0,0,(BB608-BA608)/BA608*100)","v":0},null,null,{"$f":"IF(BD608=0,0,(BE608-BD608)/BD608*100)","v":0},null,null,{"$f":"IF(BG608=0,0,(BH608-BG608)/BG608*100)","v":0},null,null,{"$f":"IF(BJ608=0,0,(BK608-BJ608)/BJ608*100)","v":0},null,null,{"$f":"IF(BM608=0,0,(BN608-BM608)/BM608*100)","v":0},null,null,{"$f":"IF(BP608=0,0,(BQ608-BP608)/BP608*100)","v":0},null,null,{"$f":"IF(BS608=0,0,(BT608-BS608)/BS608*100)","v":0},null,null,{"$f":"IF(BV608=0,0,(BW608-BV608)/BV608*100)","v":0},null,null,{"$f":"IF(BY608=0,0,(BZ608-BY608)/BY608*100)","v":0},null,null,{"$f":"IF(CB608=0,0,(CC608-CB608)/CB608*100)","v":0},null,null,{"$f":"IF(CE608=0,0,(CF608-CE608)/CE608*100)","v":0},null,null,{"$f":"IF(CH608=0,0,(CI608-CH608)/CH608*100)","v":0},null,null,{"$f":"IF(CK608=0,0,(CL608-CK608)/CK608*100)","v":0},null,null,{"$f":"IF(CN608=0,0,(CO608-CN608)/CN608*100)","v":0},null,null,{"$f":"IF(CQ608=0,0,(CR608-CQ608)/CQ608*100)","v":0},null,null,{"$f":"IF(CT608=0,0,(CU608-CT608)/CT608*100)","v":0},null,null,{"$f":"IF(CW608=0,0,(CX608-CW608)/CW608*100)","v":0},null,null,{"$f":"IF(CZ608=0,0,(DA608-CZ608)/CZ608*100)","v":0},null,null,{"$f":"IF(DC608=0,0,(DD608-DC608)/DC608*100)","v":0},null,null,{"$f":"IF(DF608=0,0,(DG608-DF608)/DF608*100)","v":0},null,null,{"$f":"IF(DI608=0,0,(DJ608-DI608)/DI608*100)","v":0},null,null,{"$f":"IF(DL608=0,0,(DM608-DL608)/DL608*100)","v":0},null,null,{"$f":"IF(DO608=0,0,(DP608-DO608)/DO608*100)","v":0},null,null,{"$f":"IF(DR608=0,0,(DS608-DR608)/DR608*100)","v":0},null,null,{"$f":"IF(DU608=0,0,(DV608-DU608)/DU608*100)","v":0},null,null,{"$f":"IF(DX608=0,0,(DY608-DX608)/DX608*100)","v":0},null,null,{"$f":"IF(EA608=0,0,(EB608-EA608)/EA608*100)","v":0},null,null,{"$f":"IF(ED608=0,0,(EE608-ED608)/ED608*100)","v":0},null,null,{"$f":"IF(EG608=0,0,(EH608-EG608)/EG608*100)","v":0},null,null,{"$f":"IF(EJ608=0,0,(EK608-EJ608)/EJ608*100)","v":0},null,null,{"$f":"IF(EM608=0,0,(EN608-EM608)/EM608*100)","v":0},null,null,{"$f":"IF(EP608=0,0,(EQ608-EP608)/EP608*100)","v":0},null,null,{"$f":"IF(ES608=0,0,(ET608-ES608)/ES608*100)","v":0},null,null,{"$f":"IF(EV608=0,0,(EW608-EV608)/EV608*100)","v":0},null,null,{"$f":"IF(EY608=0,0,(EZ608-EY608)/EY608*100)","v":0},null,null,{"$f":"IF(FB608=0,0,(FC608-FB608)/FB608*100)","v":0},null,null,{"$f":"IF(FE608=0,0,(FF608-FE608)/FE608*100)","v":0}]
["1",null,null,null,null,null,{"$f":"F582=\"двухставочный\"","v":false},null,null,null,null,"Тариф с 01.01 по 30.06 для населения с НДС:"]
["1",null,"L2_1_1","для населения с 01.01 по 30.06 с НДС",null,null,{"$f":"F582=\"двухставочный\"","v":false},null,null,null,null,"перевод двухставочного тарифа в одноставочный тариф","руб./куб.м",{"$f":"IF(N612=0,0,(N611*N612+N613*N614*6)/N612)","v":{"$error":"#N/A"}},{"$f":"IF(O612=0,0,(O611*O612+O613*O614*6)/O612)","v":{"$error":"#N/A"}},{"$f":"IF(N610=0,0,(O610-N610)/N610*100)","v":{"$error":"#N/A"}},{"$f":"IF(Q612=0,0,(Q611*Q612+Q613*Q614*6)/Q612)","v":{"$error":"#N/A"}},{"$f":"IF(R612=0,0,(R611*R612+R613*R614*6)/R612)","v":{"$error":"#N/A"}},{"$f":"IF(Q610=0,0,(R610-Q610)/Q610*100)","v":{"$error":"#N/A"}},{"$f":"IF(T612=0,0,(T611*T612+T613*T614*6)/T612)","v":{"$error":"#N/A"}},{"$f":"IF(U612=0,0,(U611*U612+U613*U614*6)/U612)","v":{"$error":"#N/A"}},{"$f":"IF(T610=0,0,(U610-T610)/T610*100)","v":{"$error":"#N/A"}},{"$f":"IF(W612=0,0,(W611*W612+W613*W614*6)/W612)","v":{"$error":"#N/A"}},{"$f":"IF(X612=0,0,(X611*X612+X613*X614*6)/X612)","v":{"$error":"#N/A"}},{"$f":"IF(W610=0,0,(X610-W610)/W610*100)","v":{"$error":"#N/A"}},{"$f":"IF(Z612=0,0,(Z611*Z612+Z613*Z614*6)/Z612)","v":{"$error":"#N/A"}},{"$f":"IF(AA612=0,0,(AA611*AA612+AA613*AA614*6)/AA612)","v":{"$error":"#N/A"}},{"$f":"IF(Z610=0,0,(AA610-Z610)/Z610*100)","v":{"$error":"#N/A"}},{"$f":"IF(AC612=0,0,(AC611*AC612+AC613*AC614*6)/AC612)","v":{"$error":"#N/A"}},{"$f":"IF(AD612=0,0,(AD611*AD612+AD613*AD614*6)/AD612)","v":{"$error":"#N/A"}},{"$f":"IF(AC610=0,0,(AD610-AC610)/AC610*100)","v":{"$error":"#N/A"}},{"$f":"IF(AF612=0,0,(AF611*AF612+AF613*AF614*6)/AF612)","v":{"$error":"#N/A"}},{"$f":"IF(AG612=0,0,(AG611*AG612+AG613*AG614*6)/AG612)","v":{"$error":"#N/A"}},{"$f":"IF(AF610=0,0,(AG610-AF610)/AF610*100)","v":{"$error":"#N/A"}},{"$f":"IF(AI612=0,0,(AI611*AI612+AI613*AI614*6)/AI612)","v":{"$error":"#N/A"}},{"$f":"IF(AJ612=0,0,(AJ611*AJ612+AJ613*AJ614*6)/AJ612)","v":{"$error":"#N/A"}},{"$f":"IF(AI610=0,0,(AJ610-AI610)/AI610*100)","v":{"$error":"#N/A"}},{"$f":"IF(AL612=0,0,(AL611*AL612+AL613*AL614*6)/AL612)","v":{"$error":"#N/A"}},{"$f":"IF(AM612=0,0,(AM611*AM612+AM613*AM614*6)/AM612)","v":{"$error":"#N/A"}},{"$f":"IF(AL610=0,0,(AM610-AL610)/AL610*100)","v":{"$error":"#N/A"}},{"$f":"IF(AO612=0,0,(AO611*AO612+AO613*AO614*6)/AO612)","v":{"$error":"#N/A"}},{"$f":"IF(AP612=0,0,(AP611*AP612+AP613*AP614*6)/AP612)","v":{"$error":"#N/A"}},{"$f":"IF(AO610=0,0,(AP610-AO610)/AO610*100)","v":{"$error":"#N/A"}},{"$f":"IF(AR612=0,0,(AR611*AR612+AR613*AR614*6)/AR612)","v":0},{"$f":"IF(AS612=0,0,(AS611*AS612+AS613*AS614*6)/AS612)","v":0},{"$f":"IF(AR610=0,0,(AS610-AR610)/AR610*100)","v":0},{"$f":"IF(AU612=0,0,(AU611*AU612+AU613*AU614*6)/AU612)","v":0},{"$f":"IF(AV612=0,0,(AV611*AV612+AV613*AV614*6)/AV612)","v":0},{"$f":"IF(AU610=0,0,(AV610-AU610)/AU610*100)","v":0},{"$f":"IF(AX612=0,0,(AX611*AX612+AX613*AX614*6)/AX612)","v":0},{"$f":"IF(AY612=0,0,(AY611*AY612+AY613*AY614*6)/AY612)","v":0},{"$f":"IF(AX610=0,0,(AY610-AX610)/AX610*100)","v":0},{"$f":"IF(BA612=0,0,(BA611*BA612+BA613*BA614*6)/BA612)","v":0},{"$f":"IF(BB612=0,0,(BB611*BB612+BB613*BB614*6)/BB612)","v":0},{"$f":"IF(BA610=0,0,(BB610-BA610)/BA610*100)","v":0},{"$f":"IF(BD612=0,0,(BD611*BD612+BD613*BD614*6)/BD612)","v":0},{"$f":"IF(BE612=0,0,(BE611*BE612+BE613*BE614*6)/BE612)","v":0},{"$f":"IF(BD610=0,0,(BE610-BD610)/BD610*100)","v":0},{"$f":"IF(BG612=0,0,(BG611*BG612+BG613*BG614*6)/BG612)","v":0},{"$f":"IF(BH612=0,0,(BH611*BH612+BH613*BH614*6)/BH612)","v":0},{"$f":"IF(BG610=0,0,(BH610-BG610)/BG610*100)","v":0},{"$f":"IF(BJ612=0,0,(BJ611*BJ612+BJ613*BJ614*6)/BJ612)","v":0},{"$f":"IF(BK612=0,0,(BK611*BK612+BK613*BK614*6)/BK612)","v":0},{"$f":"IF(BJ610=0,0,(BK610-BJ610)/BJ610*100)","v":0},{"$f":"IF(BM612=0,0,(BM611*BM612+BM613*BM614*6)/BM612)","v":0},{"$f":"IF(BN612=0,0,(BN611*BN612+BN613*BN614*6)/BN612)","v":0},{"$f":"IF(BM610=0,0,(BN610-BM610)/BM610*100)","v":0},{"$f":"IF(BP612=0,0,(BP611*BP612+BP613*BP614*6)/BP612)","v":0},{"$f":"IF(BQ612=0,0,(BQ611*BQ612+BQ613*BQ614*6)/BQ612)","v":0},{"$f":"IF(BP610=0,0,(BQ610-BP610)/BP610*100)","v":0},{"$f":"IF(BS612=0,0,(BS611*BS612+BS613*BS614*6)/BS612)","v":0},{"$f":"IF(BT612=0,0,(BT611*BT612+BT613*BT614*6)/BT612)","v":0},{"$f":"IF(BS610=0,0,(BT610-BS610)/BS610*100)","v":0},{"$f":"IF(BV612=0,0,(BV611*BV612+BV613*BV614*6)/BV612)","v":0},{"$f":"IF(BW612=0,0,(BW611*BW612+BW613*BW614*6)/BW612)","v":0},{"$f":"IF(BV610=0,0,(BW610-BV610)/BV610*100)","v":0},{"$f":"IF(BY612=0,0,(BY611*BY612+BY613*BY614*6)/BY612)","v":0},{"$f":"IF(BZ612=0,0,(BZ611*BZ612+BZ613*BZ614*6)/BZ612)","v":0},{"$f":"IF(BY610=0,0,(BZ610-BY610)/BY610*100)","v":0},{"$f":"IF(CB612=0,0,(CB611*CB612+CB613*CB614*6)/CB612)","v":0},{"$f":"IF(CC612=0,0,(CC611*CC612+CC613*CC614*6)/CC612)","v":0},{"$f":"IF(CB610=0,0,(CC610-CB610)/CB610*100)","v":0},{"$f":"IF(CE612=0,0,(CE611*CE612+CE613*CE614*6)/CE612)","v":0},{"$f":"IF(CF612=0,0,(CF611*CF612+CF613*CF614*6)/CF612)","v":0},{"$f":"IF(CE610=0,0,(CF610-CE610)/CE610*100)","v":0},{"$f":"IF(CH612=0,0,(CH611*CH612+CH613*CH614*6)/CH612)","v":0},{"$f":"IF(CI612=0,0,(CI611*CI612+CI613*CI614*6)/CI612)","v":0},{"$f":"IF(CH610=0,0,(CI610-CH610)/CH610*100)","v":0},{"$f":"IF(CK612=0,0,(CK611*CK612+CK613*CK614*6)/CK612)","v":0},{"$f":"IF(CL612=0,0,(CL611*CL612+CL613*CL614*6)/CL612)","v":0},{"$f":"IF(CK610=0,0,(CL610-CK610)/CK610*100)","v":0},{"$f":"IF(CN612=0,0,(CN611*CN612+CN613*CN614*6)/CN612)","v":0},{"$f":"IF(CO612=0,0,(CO611*CO612+CO613*CO614*6)/CO612)","v":0},{"$f":"IF(CN610=0,0,(CO610-CN610)/CN610*100)","v":0},{"$f":"IF(CQ612=0,0,(CQ611*CQ612+CQ613*CQ614*6)/CQ612)","v":0},{"$f":"IF(CR612=0,0,(CR611*CR612+CR613*CR614*6)/CR612)","v":0},{"$f":"IF(CQ610=0,0,(CR610-CQ610)/CQ610*100)","v":0},{"$f":"IF(CT612=0,0,(CT611*CT612+CT613*CT614*6)/CT612)","v":0},{"$f":"IF(CU612=0,0,(CU611*CU612+CU613*CU614*6)/CU612)","v":0},{"$f":"IF(CT610=0,0,(CU610-CT610)/CT610*100)","v":0},{"$f":"IF(CW612=0,0,(CW611*CW612+CW613*CW614*6)/CW612)","v":0},{"$f":"IF(CX612=0,0,(CX611*CX612+CX613*CX614*6)/CX612)","v":0},{"$f":"IF(CW610=0,0,(CX610-CW610)/CW610*100)","v":0},{"$f":"IF(CZ612=0,0,(CZ611*CZ612+CZ613*CZ614*6)/CZ612)","v":0},{"$f":"IF(DA612=0,0,(DA611*DA612+DA613*DA614*6)/DA612)","v":0},{"$f":"IF(CZ610=0,0,(DA610-CZ610)/CZ610*100)","v":0},{"$f":"IF(DC612=0,0,(DC611*DC612+DC613*DC614*6)/DC612)","v":0},{"$f":"IF(DD612=0,0,(DD611*DD612+DD613*DD614*6)/DD612)","v":0},{"$f":"IF(DC610=0,0,(DD610-DC610)/DC610*100)","v":0},{"$f":"IF(DF612=0,0,(DF611*DF612+DF613*DF614*6)/DF612)","v":0},{"$f":"IF(DG612=0,0,(DG611*DG612+DG613*DG614*6)/DG612)","v":0},{"$f":"IF(DF610=0,0,(DG610-DF610)/DF610*100)","v":0},{"$f":"IF(DI612=0,0,(DI611*DI612+DI613*DI614*6)/DI612)","v":0},{"$f":"IF(DJ612=0,0,(DJ611*DJ612+DJ613*DJ614*6)/DJ612)","v":0},{"$f":"IF(DI610=0,0,(DJ610-DI610)/DI610*100)","v":0},{"$f":"IF(DL612=0,0,(DL611*DL612+DL613*DL614*6)/DL612)","v":0},{"$f":"IF(DM612=0,0,(DM611*DM612+DM613*DM614*6)/DM612)","v":0},{"$f":"IF(DL610=0,0,(DM610-DL610)/DL610*100)","v":0},{"$f":"IF(DO612=0,0,(DO611*DO612+DO613*DO614*6)/DO612)","v":0},{"$f":"IF(DP612=0,0,(DP611*DP612+DP613*DP614*6)/DP612)","v":0},{"$f":"IF(DO610=0,0,(DP610-DO610)/DO610*100)","v":0},{"$f":"IF(DR612=0,0,(DR611*DR612+DR613*DR614*6)/DR612)","v":0},{"$f":"IF(DS612=0,0,(DS611*DS612+DS613*DS614*6)/DS612)","v":0},{"$f":"IF(DR610=0,0,(DS610-DR610)/DR610*100)","v":0},{"$f":"IF(DU612=0,0,(DU611*DU612+DU613*DU614*6)/DU612)","v":0},{"$f":"IF(DV612=0,0,(DV611*DV612+DV613*DV614*6)/DV612)","v":0},{"$f":"IF(DU610=0,0,(DV610-DU610)/DU610*100)","v":0},{"$f":"IF(DX612=0,0,(DX611*DX612+DX613*DX614*6)/DX612)","v":0},{"$f":"IF(DY612=0,0,(DY611*DY612+DY613*DY614*6)/DY612)","v":0},{"$f":"IF(DX610=0,0,(DY610-DX610)/DX610*100)","v":0},{"$f":"IF(EA612=0,0,(EA611*EA612+EA613*EA614*6)/EA612)","v":0},{"$f":"IF(EB612=0,0,(EB611*EB612+EB613*EB614*6)/EB612)","v":0},{"$f":"IF(EA610=0,0,(EB610-EA610)/EA610*100)","v":0},{"$f":"IF(ED612=0,0,(ED611*ED612+ED613*ED614*6)/ED612)","v":0},{"$f":"IF(EE612=0,0,(EE611*EE612+EE613*EE614*6)/EE612)","v":0},{"$f":"IF(ED610=0,0,(EE610-ED610)/ED610*100)","v":0},{"$f":"IF(EG612=0,0,(EG611*EG612+EG613*EG614*6)/EG612)","v":0},{"$f":"IF(EH612=0,0,(EH611*EH612+EH613*EH614*6)/EH612)","v":0},{"$f":"IF(EG610=0,0,(EH610-EG610)/EG610*100)","v":0},{"$f":"IF(EJ612=0,0,(EJ611*EJ612+EJ613*EJ614*6)/EJ612)","v":0},{"$f":"IF(EK612=0,0,(EK611*EK612+EK613*EK614*6)/EK612)","v":0},{"$f":"IF(EJ610=0,0,(EK610-EJ610)/EJ610*100)","v":0},{"$f":"IF(EM612=0,0,(EM611*EM612+EM613*EM614*6)/EM612)","v":0},{"$f":"IF(EN612=0,0,(EN611*EN612+EN613*EN614*6)/EN612)","v":0},{"$f":"IF(EM610=0,0,(EN610-EM610)/EM610*100)","v":0},{"$f":"IF(EP612=0,0,(EP611*EP612+EP613*EP614*6)/EP612)","v":0},{"$f":"IF(EQ612=0,0,(EQ611*EQ612+EQ613*EQ614*6)/EQ612)","v":0},{"$f":"IF(EP610=0,0,(EQ610-EP610)/EP610*100)","v":0},{"$f":"IF(ES612=0,0,(ES611*ES612+ES613*ES614*6)/ES612)","v":0},{"$f":"IF(ET612=0,0,(ET611*ET612+ET613*ET614*6)/ET612)","v":0},{"$f":"IF(ES610=0,0,(ET610-ES610)/ES610*100)","v":0},{"$f":"IF(EV612=0,0,(EV611*EV612+EV613*EV614*6)/EV612)","v":0},{"$f":"IF(EW612=0,0,(EW611*EW612+EW613*EW614*6)/EW612)","v":0},{"$f":"IF(EV610=0,0,(EW610-EV610)/EV610*100)","v":0},{"$f":"IF(EY612=0,0,(EY611*EY612+EY613*EY614*6)/EY612)","v":0},{"$f":"IF(EZ612=0,0,(EZ611*EZ612+EZ613*EZ614*6)/EZ612)","v":0},{"$f":"IF(EY610=0,0,(EZ610-EY610)/EY610*100)","v":0},{"$f":"IF(FB612=0,0,(FB611*FB612+FB613*FB614*6)/FB612)","v":0},{"$f":"IF(FC612=0,0,(FC611*FC612+FC613*FC614*6)/FC612)","v":0},{"$f":"IF(FB610=0,0,(FC610-FB610)/FB610*100)","v":0},{"$f":"IF(FE612=0,0,(FE611*FE612+FE613*FE614*6)/FE612)","v":0},{"$f":"IF(FF612=0,0,(FF611*FF612+FF613*FF614*6)/FF612)","v":0},{"$f":"IF(FE610=0,0,(FF610-FE610)/FE610*100)","v":0}]
["1",null,"L2_1_2","для населения с 01.01 по 30.06 с НДС",null,null,{"$f":"F582=\"двухставочный\"","v":false},null,null,null,null,"ставка платы за потребление 1 куб.м холодной воды","руб./куб.м",null,null,{"$f":"IF(N611=0,0,(O611-N611)/N611*100)","v":0},null,null,{"$f":"IF(Q611=0,0,(R611-Q611)/Q611*100)","v":0},null,null,{"$f":"IF(T611=0,0,(U611-T611)/T611*100)","v":0},null,null,{"$f":"IF(W611=0,0,(X611-W611)/W611*100)","v":0},null,null,{"$f":"IF(Z611=0,0,(AA611-Z611)/Z611*100)","v":0},null,null,{"$f":"IF(AC611=0,0,(AD611-AC611)/AC611*100)","v":0},null,null,{"$f":"IF(AF611=0,0,(AG611-AF611)/AF611*100)","v":0},null,null,{"$f":"IF(AI611=0,0,(AJ611-AI611)/AI611*100)","v":0},null,null,{"$f":"IF(AL611=0,0,(AM611-AL611)/AL611*100)","v":0},null,null,{"$f":"IF(AO611=0,0,(AP611-AO611)/AO611*100)","v":0},null,null,{"$f":"IF(AR611=0,0,(AS611-AR611)/AR611*100)","v":0},null,null,{"$f":"IF(AU611=0,0,(AV611-AU611)/AU611*100)","v":0},null,null,{"$f":"IF(AX611=0,0,(AY611-AX611)/AX611*100)","v":0},null,null,{"$f":"IF(BA611=0,0,(BB611-BA611)/BA611*100)","v":0},null,null,{"$f":"IF(BD611=0,0,(BE611-BD611)/BD611*100)","v":0},null,null,{"$f":"IF(BG611=0,0,(BH611-BG611)/BG611*100)","v":0},null,null,{"$f":"IF(BJ611=0,0,(BK611-BJ611)/BJ611*100)","v":0},null,null,{"$f":"IF(BM611=0,0,(BN611-BM611)/BM611*100)","v":0},null,null,{"$f":"IF(BP611=0,0,(BQ611-BP611)/BP611*100)","v":0},null,null,{"$f":"IF(BS611=0,0,(BT611-BS611)/BS611*100)","v":0},null,null,{"$f":"IF(BV611=0,0,(BW611-BV611)/BV611*100)","v":0},null,null,{"$f":"IF(BY611=0,0,(BZ611-BY611)/BY611*100)","v":0},null,null,{"$f":"IF(CB611=0,0,(CC611-CB611)/CB611*100)","v":0},null,null,{"$f":"IF(CE611=0,0,(CF611-CE611)/CE611*100)","v":0},null,null,{"$f":"IF(CH611=0,0,(CI611-CH611)/CH611*100)","v":0},null,null,{"$f":"IF(CK611=0,0,(CL611-CK611)/CK611*100)","v":0},null,null,{"$f":"IF(CN611=0,0,(CO611-CN611)/CN611*100)","v":0},null,null,{"$f":"IF(CQ611=0,0,(CR611-CQ611)/CQ611*100)","v":0},null,null,{"$f":"IF(CT611=0,0,(CU611-CT611)/CT611*100)","v":0},null,null,{"$f":"IF(CW611=0,0,(CX611-CW611)/CW611*100)","v":0},null,null,{"$f":"IF(CZ611=0,0,(DA611-CZ611)/CZ611*100)","v":0},null,null,{"$f":"IF(DC611=0,0,(DD611-DC611)/DC611*100)","v":0},null,null,{"$f":"IF(DF611=0,0,(DG611-DF611)/DF611*100)","v":0},null,null,{"$f":"IF(DI611=0,0,(DJ611-DI611)/DI611*100)","v":0},null,null,{"$f":"IF(DL611=0,0,(DM611-DL611)/DL611*100)","v":0},null,null,{"$f":"IF(DO611=0,0,(DP611-DO611)/DO611*100)","v":0},null,null,{"$f":"IF(DR611=0,0,(DS611-DR611)/DR611*100)","v":0},null,null,{"$f":"IF(DU611=0,0,(DV611-DU611)/DU611*100)","v":0},null,null,{"$f":"IF(DX611=0,0,(DY611-DX611)/DX611*100)","v":0},null,null,{"$f":"IF(EA611=0,0,(EB611-EA611)/EA611*100)","v":0},null,null,{"$f":"IF(ED611=0,0,(EE611-ED611)/ED611*100)","v":0},null,null,{"$f":"IF(EG611=0,0,(EH611-EG611)/EG611*100)","v":0},null,null,{"$f":"IF(EJ611=0,0,(EK611-EJ611)/EJ611*100)","v":0},null,null,{"$f":"IF(EM611=0,0,(EN611-EM611)/EM611*100)","v":0},null,null,{"$f":"IF(EP611=0,0,(EQ611-EP611)/EP611*100)","v":0},null,null,{"$f":"IF(ES611=0,0,(ET611-ES611)/ES611*100)","v":0},null,null,{"$f":"IF(EV611=0,0,(EW611-EV611)/EV611*100)","v":0},null,null,{"$f":"IF(EY611=0,0,(EZ611-EY611)/EY611*100)","v":0},null,null,{"$f":"IF(FB611=0,0,(FC611-FB611)/FB611*100)","v":0},null,null,{"$f":"IF(FE611=0,0,(FF611-FE611)/FE611*100)","v":0}]
["1","ПО.население.I","L2_1_3","для населения с 01.01 по 30.06 с НДС",null,null,{"$f":"F582=\"двухставочный\"","v":false},null,null,null,null,"объём потребления холодной воды","тыс.куб.м",{"$f":"SUMIFS(INDEX(Калькуляция!$T$15:$AM$143,,MATCH(N$3,Калькуляция!$T$3:$AM$3,0)),Калькуляция!$A$15:$A$143,$A612,Калькуляция!$B$15:$B$143,$B612)","v":{"$error":"#N/A"}},{"$f":"SUMIFS(INDEX(Калькуляция!$T$15:$AM$143,,MATCH(O$3,Калькуляция!$T$3:$AM$3,0)),Калькуляция!$A$15:$A$143,$A612,Калькуляция!$B$15:$B$143,$B612)","v":{"$error":"#N/A"}},{"$f":"IF(N612=0,0,(O612-N612)/N612*100)","v":{"$error":"#N/A"}},{"$f":"SUMIFS(INDEX(Калькуляция!$T$15:$AM$143,,MATCH(Q$3,Калькуляция!$T$3:$AM$3,0)),Калькуляция!$A$15:$A$143,$A612,Калькуляция!$B$15:$B$143,$B612)","v":{"$error":"#N/A"}},{"$f":"SUMIFS(INDEX(Калькуляция!$T$15:$AM$143,,MATCH(R$3,Калькуляция!$T$3:$AM$3,0)),Калькуляция!$A$15:$A$143,$A612,Калькуляция!$B$15:$B$143,$B612)","v":{"$error":"#N/A"}},{"$f":"IF(Q612=0,0,(R612-Q612)/Q612*100)","v":{"$error":"#N/A"}},{"$f":"SUMIFS(INDEX(Калькуляция!$T$15:$AM$143,,MATCH(T$3,Калькуляция!$T$3:$AM$3,0)),Калькуляция!$A$15:$A$143,$A612,Калькуляция!$B$15:$B$143,$B612)","v":{"$error":"#N/A"}},{"$f":"SUMIFS(INDEX(Калькуляция!$T$15:$AM$143,,MATCH(U$3,Калькуляция!$T$3:$AM$3,0)),Калькуляция!$A$15:$A$143,$A612,Калькуляция!$B$15:$B$143,$B612)","v":{"$error":"#N/A"}},{"$f":"IF(T612=0,0,(U612-T612)/T612*100)","v":{"$error":"#N/A"}},{"$f":"SUMIFS(INDEX(Калькуляция!$T$15:$AM$143,,MATCH(W$3,Калькуляция!$T$3:$AM$3,0)),Калькуляция!$A$15:$A$143,$A612,Калькуляция!$B$15:$B$143,$B612)","v":{"$error":"#N/A"}},{"$f":"SUMIFS(INDEX(Калькуляция!$T$15:$AM$143,,MATCH(X$3,Калькуляция!$T$3:$AM$3,0)),Калькуляция!$A$15:$A$143,$A612,Калькуляция!$B$15:$B$143,$B612)","v":{"$error":"#N/A"}},{"$f":"IF(W612=0,0,(X612-W612)/W612*100)","v":{"$error":"#N/A"}},{"$f":"SUMIFS(INDEX(Калькуляция!$T$15:$AM$143,,MATCH(Z$3,Калькуляция!$T$3:$AM$3,0)),Калькуляция!$A$15:$A$143,$A612,Калькуляция!$B$15:$B$143,$B612)","v":{"$error":"#N/A"}},{"$f":"SUMIFS(INDEX(Калькуляция!$T$15:$AM$143,,MATCH(AA$3,Калькуляция!$T$3:$AM$3,0)),Калькуляция!$A$15:$A$143,$A612,Калькуляция!$B$15:$B$143,$B612)","v":{"$error":"#N/A"}},{"$f":"IF(Z612=0,0,(AA612-Z612)/Z612*100)","v":{"$error":"#N/A"}},{"$f":"SUMIFS(INDEX(Калькуляция!$T$15:$AM$143,,MATCH(AC$3,Калькуляция!$T$3:$AM$3,0)),Калькуляция!$A$15:$A$143,$A612,Калькуляция!$B$15:$B$143,$B612)","v":{"$error":"#N/A"}},{"$f":"SUMIFS(INDEX(Калькуляция!$T$15:$AM$143,,MATCH(AD$3,Калькуляция!$T$3:$AM$3,0)),Калькуляция!$A$15:$A$143,$A612,Калькуляция!$B$15:$B$143,$B612)","v":{"$error":"#N/A"}},{"$f":"IF(AC612=0,0,(AD612-AC612)/AC612*100)","v":{"$error":"#N/A"}},{"$f":"SUMIFS(INDEX(Калькуляция!$T$15:$AM$143,,MATCH(AF$3,Калькуляция!$T$3:$AM$3,0)),Калькуляция!$A$15:$A$143,$A612,Калькуляция!$B$15:$B$143,$B612)","v":{"$error":"#N/A"}},{"$f":"SUMIFS(INDEX(Калькуляция!$T$15:$AM$143,,MATCH(AG$3,Калькуляция!$T$3:$AM$3,0)),Калькуляция!$A$15:$A$143,$A612,Калькуляция!$B$15:$B$143,$B612)","v":{"$error":"#N/A"}},{"$f":"IF(AF612=0,0,(AG612-AF612)/AF612*100)","v":{"$error":"#N/A"}},{"$f":"SUMIFS(INDEX(Калькуляция!$T$15:$AM$143,,MATCH(AI$3,Калькуляция!$T$3:$AM$3,0)),Калькуляция!$A$15:$A$143,$A612,Калькуляция!$B$15:$B$143,$B612)","v":{"$error":"#N/A"}},{"$f":"SUMIFS(INDEX(Калькуляция!$T$15:$AM$143,,MATCH(AJ$3,Калькуляция!$T$3:$AM$3,0)),Калькуляция!$A$15:$A$143,$A612,Калькуляция!$B$15:$B$143,$B612)","v":{"$error":"#N/A"}},{"$f":"IF(AI612=0,0,(AJ612-AI612)/AI612*100)","v":{"$error":"#N/A"}},{"$f":"SUMIFS(INDEX(Калькуляция!$T$15:$AM$143,,MATCH(AL$3,Калькуляция!$T$3:$AM$3,0)),Калькуляция!$A$15:$A$143,$A612,Калькуляция!$B$15:$B$143,$B612)","v":{"$error":"#N/A"}},{"$f":"SUMIFS(INDEX(Калькуляция!$T$15:$AM$143,,MATCH(AM$3,Калькуляция!$T$3:$AM$3,0)),Калькуляция!$A$15:$A$143,$A612,Калькуляция!$B$15:$B$143,$B612)","v":{"$error":"#N/A"}},{"$f":"IF(AL612=0,0,(AM612-AL612)/AL612*100)","v":{"$error":"#N/A"}},{"$f":"SUMIFS(INDEX(Калькуляция!$T$15:$AM$143,,MATCH(AO$3,Калькуляция!$T$3:$AM$3,0)),Калькуляция!$A$15:$A$143,$A612,Калькуляция!$B$15:$B$143,$B612)","v":{"$error":"#N/A"}},{"$f":"SUMIFS(INDEX(Калькуляция!$T$15:$AM$143,,MATCH(AP$3,Калькуляция!$T$3:$AM$3,0)),Калькуляция!$A$15:$A$143,$A612,Калькуляция!$B$15:$B$143,$B612)","v":{"$error":"#N/A"}},{"$f":"IF(AO612=0,0,(AP612-AO612)/AO612*100)","v":{"$error":"#N/A"}},null,null,{"$f":"IF(AR612=0,0,(AS612-AR612)/AR612*100)","v":0},null,null,{"$f":"IF(AU612=0,0,(AV612-AU612)/AU612*100)","v":0},null,null,{"$f":"IF(AX612=0,0,(AY612-AX612)/AX612*100)","v":0},null,null,{"$f":"IF(BA612=0,0,(BB612-BA612)/BA612*100)","v":0},null,null,{"$f":"IF(BD612=0,0,(BE612-BD612)/BD612*100)","v":0},null,null,{"$f":"IF(BG612=0,0,(BH612-BG612)/BG612*100)","v":0},null,null,{"$f":"IF(BJ612=0,0,(BK612-BJ612)/BJ612*100)","v":0},null,null,{"$f":"IF(BM612=0,0,(BN612-BM612)/BM612*100)","v":0},null,null,{"$f":"IF(BP612=0,0,(BQ612-BP612)/BP612*100)","v":0},null,null,{"$f":"IF(BS612=0,0,(BT612-BS612)/BS612*100)","v":0},null,null,{"$f":"IF(BV612=0,0,(BW612-BV612)/BV612*100)","v":0},null,null,{"$f":"IF(BY612=0,0,(BZ612-BY612)/BY612*100)","v":0},null,null,{"$f":"IF(CB612=0,0,(CC612-CB612)/CB612*100)","v":0},null,null,{"$f":"IF(CE612=0,0,(CF612-CE612)/CE612*100)","v":0},null,null,{"$f":"IF(CH612=0,0,(CI612-CH612)/CH612*100)","v":0},null,null,{"$f":"IF(CK612=0,0,(CL612-CK612)/CK612*100)","v":0},null,null,{"$f":"IF(CN612=0,0,(CO612-CN612)/CN612*100)","v":0},null,null,{"$f":"IF(CQ612=0,0,(CR612-CQ612)/CQ612*100)","v":0},null,null,{"$f":"IF(CT612=0,0,(CU612-CT612)/CT612*100)","v":0},null,null,{"$f":"IF(CW612=0,0,(CX612-CW612)/CW612*100)","v":0},null,null,{"$f":"IF(CZ612=0,0,(DA612-CZ612)/CZ612*100)","v":0},null,null,{"$f":"IF(DC612=0,0,(DD612-DC612)/DC612*100)","v":0},null,null,{"$f":"IF(DF612=0,0,(DG612-DF612)/DF612*100)","v":0},null,null,{"$f":"IF(DI612=0,0,(DJ612-DI612)/DI612*100)","v":0},null,null,{"$f":"IF(DL612=0,0,(DM612-DL612)/DL612*100)","v":0},null,null,{"$f":"IF(DO612=0,0,(DP612-DO612)/DO612*100)","v":0},null,null,{"$f":"IF(DR612=0,0,(DS612-DR612)/DR612*100)","v":0},null,null,{"$f":"IF(DU612=0,0,(DV612-DU612)/DU612*100)","v":0},null,null,{"$f":"IF(DX612=0,0,(DY612-DX612)/DX612*100)","v":0},null,null,{"$f":"IF(EA612=0,0,(EB612-EA612)/EA612*100)","v":0},null,null,{"$f":"IF(ED612=0,0,(EE612-ED612)/ED612*100)","v":0},null,null,{"$f":"IF(EG612=0,0,(EH612-EG612)/EG612*100)","v":0},null,null,{"$f":"IF(EJ612=0,0,(EK612-EJ612)/EJ612*100)","v":0},null,null,{"$f":"IF(EM612=0,0,(EN612-EM612)/EM612*100)","v":0},null,null,{"$f":"IF(EP612=0,0,(EQ612-EP612)/EP612*100)","v":0},null,null,{"$f":"IF(ES612=0,0,(ET612-ES612)/ES612*100)","v":0},null,null,{"$f":"IF(EV612=0,0,(EW612-EV612)/EV612*100)","v":0},null,null,{"$f":"IF(EY612=0,0,(EZ612-EY612)/EY612*100)","v":0},null,null,{"$f":"IF(FB612=0,0,(FC612-FB612)/FB612*100)","v":0},null,null,{"$f":"IF(FE612=0,0,(FF612-FE612)/FE612*100)","v":0}]
["1",null,"L2_1_4","для населения с 01.01 по 30.06 с НДС",null,null,{"$f":"F582=\"двухставочный\"","v":false},null,null,null,null,"ставка платы за содержание системы холодного водоснабжения","тыс.руб./куб.м*час/в месяц",null,null,{"$f":"IF(N613=0,0,(O613-N613)/N613*100)","v":0},null,null,{"$f":"IF(Q613=0,0,(R613-Q613)/Q613*100)","v":0},null,null,{"$f":"IF(T613=0,0,(U613-T613)/T613*100)","v":0},null,null,{"$f":"IF(W613=0,0,(X613-W613)/W613*100)","v":0},null,null,{"$f":"IF(Z613=0,0,(AA613-Z613)/Z613*100)","v":0},null,null,{"$f":"IF(AC613=0,0,(AD613-AC613)/AC613*100)","v":0},null,null,{"$f":"IF(AF613=0,0,(AG613-AF613)/AF613*100)","v":0},null,null,{"$f":"IF(AI613=0,0,(AJ613-AI613)/AI613*100)","v":0},null,null,{"$f":"IF(AL613=0,0,(AM613-AL613)/AL613*100)","v":0},null,null,{"$f":"IF(AO613=0,0,(AP613-AO613)/AO613*100)","v":0},null,null,{"$f":"IF(AR613=0,0,(AS613-AR613)/AR613*100)","v":0},null,null,{"$f":"IF(AU613=0,0,(AV613-AU613)/AU613*100)","v":0},null,null,{"$f":"IF(AX613=0,0,(AY613-AX613)/AX613*100)","v":0},null,null,{"$f":"IF(BA613=0,0,(BB613-BA613)/BA613*100)","v":0},null,null,{"$f":"IF(BD613=0,0,(BE613-BD613)/BD613*100)","v":0},null,null,{"$f":"IF(BG613=0,0,(BH613-BG613)/BG613*100)","v":0},null,null,{"$f":"IF(BJ613=0,0,(BK613-BJ613)/BJ613*100)","v":0},null,null,{"$f":"IF(BM613=0,0,(BN613-BM613)/BM613*100)","v":0},null,null,{"$f":"IF(BP613=0,0,(BQ613-BP613)/BP613*100)","v":0},null,null,{"$f":"IF(BS613=0,0,(BT613-BS613)/BS613*100)","v":0},null,null,{"$f":"IF(BV613=0,0,(BW613-BV613)/BV613*100)","v":0},null,null,{"$f":"IF(BY613=0,0,(BZ613-BY613)/BY613*100)","v":0},null,null,{"$f":"IF(CB613=0,0,(CC613-CB613)/CB613*100)","v":0},null,null,{"$f":"IF(CE613=0,0,(CF613-CE613)/CE613*100)","v":0},null,null,{"$f":"IF(CH613=0,0,(CI613-CH613)/CH613*100)","v":0},null,null,{"$f":"IF(CK613=0,0,(CL613-CK613)/CK613*100)","v":0},null,null,{"$f":"IF(CN613=0,0,(CO613-CN613)/CN613*100)","v":0},null,null,{"$f":"IF(CQ613=0,0,(CR613-CQ613)/CQ613*100)","v":0},null,null,{"$f":"IF(CT613=0,0,(CU613-CT613)/CT613*100)","v":0},null,null,{"$f":"IF(CW613=0,0,(CX613-CW613)/CW613*100)","v":0},null,null,{"$f":"IF(CZ613=0,0,(DA613-CZ613)/CZ613*100)","v":0},null,null,{"$f":"IF(DC613=0,0,(DD613-DC613)/DC613*100)","v":0},null,null,{"$f":"IF(DF613=0,0,(DG613-DF613)/DF613*100)","v":0},null,null,{"$f":"IF(DI613=0,0,(DJ613-DI613)/DI613*100)","v":0},null,null,{"$f":"IF(DL613=0,0,(DM613-DL613)/DL613*100)","v":0},null,null,{"$f":"IF(DO613=0,0,(DP613-DO613)/DO613*100)","v":0},null,null,{"$f":"IF(DR613=0,0,(DS613-DR613)/DR613*100)","v":0},null,null,{"$f":"IF(DU613=0,0,(DV613-DU613)/DU613*100)","v":0},null,null,{"$f":"IF(DX613=0,0,(DY613-DX613)/DX613*100)","v":0},null,null,{"$f":"IF(EA613=0,0,(EB613-EA613)/EA613*100)","v":0},null,null,{"$f":"IF(ED613=0,0,(EE613-ED613)/ED613*100)","v":0},null,null,{"$f":"IF(EG613=0,0,(EH613-EG613)/EG613*100)","v":0},null,null,{"$f":"IF(EJ613=0,0,(EK613-EJ613)/EJ613*100)","v":0},null,null,{"$f":"IF(EM613=0,0,(EN613-EM613)/EM613*100)","v":0},null,null,{"$f":"IF(EP613=0,0,(EQ613-EP613)/EP613*100)","v":0},null,null,{"$f":"IF(ES613=0,0,(ET613-ES613)/ES613*100)","v":0},null,null,{"$f":"IF(EV613=0,0,(EW613-EV613)/EV613*100)","v":0},null,null,{"$f":"IF(EY613=0,0,(EZ613-EY613)/EY613*100)","v":0},null,null,{"$f":"IF(FB613=0,0,(FC613-FB613)/FB613*100)","v":0},null,null,{"$f":"IF(FE613=0,0,(FF613-FE613)/FE613*100)","v":0}]
["1",null,"L2_1_5","для населения с 01.01 по 30.06 с НДС",null,null,{"$f":"F582=\"двухставочный\"","v":false},null,null,null,null,"величина присоединённой мощности","куб.м*час",null,null,{"$f":"IF(N614=0,0,(O614-N614)/N614*100)","v":0},null,null,{"$f":"IF(Q614=0,0,(R614-Q614)/Q614*100)","v":0},null,null,{"$f":"IF(T614=0,0,(U614-T614)/T614*100)","v":0},null,null,{"$f":"IF(W614=0,0,(X614-W614)/W614*100)","v":0},null,null,{"$f":"IF(Z614=0,0,(AA614-Z614)/Z614*100)","v":0},null,null,{"$f":"IF(AC614=0,0,(AD614-AC614)/AC614*100)","v":0},null,null,{"$f":"IF(AF614=0,0,(AG614-AF614)/AF614*100)","v":0},null,null,{"$f":"IF(AI614=0,0,(AJ614-AI614)/AI614*100)","v":0},null,null,{"$f":"IF(AL614=0,0,(AM614-AL614)/AL614*100)","v":0},null,null,{"$f":"IF(AO614=0,0,(AP614-AO614)/AO614*100)","v":0},null,null,{"$f":"IF(AR614=0,0,(AS614-AR614)/AR614*100)","v":0},null,null,{"$f":"IF(AU614=0,0,(AV614-AU614)/AU614*100)","v":0},null,null,{"$f":"IF(AX614=0,0,(AY614-AX614)/AX614*100)","v":0},null,null,{"$f":"IF(BA614=0,0,(BB614-BA614)/BA614*100)","v":0},null,null,{"$f":"IF(BD614=0,0,(BE614-BD614)/BD614*100)","v":0},null,null,{"$f":"IF(BG614=0,0,(BH614-BG614)/BG614*100)","v":0},null,null,{"$f":"IF(BJ614=0,0,(BK614-BJ614)/BJ614*100)","v":0},null,null,{"$f":"IF(BM614=0,0,(BN614-BM614)/BM614*100)","v":0},null,null,{"$f":"IF(BP614=0,0,(BQ614-BP614)/BP614*100)","v":0},null,null,{"$f":"IF(BS614=0,0,(BT614-BS614)/BS614*100)","v":0},null,null,{"$f":"IF(BV614=0,0,(BW614-BV614)/BV614*100)","v":0},null,null,{"$f":"IF(BY614=0,0,(BZ614-BY614)/BY614*100)","v":0},null,null,{"$f":"IF(CB614=0,0,(CC614-CB614)/CB614*100)","v":0},null,null,{"$f":"IF(CE614=0,0,(CF614-CE614)/CE614*100)","v":0},null,null,{"$f":"IF(CH614=0,0,(CI614-CH614)/CH614*100)","v":0},null,null,{"$f":"IF(CK614=0,0,(CL614-CK614)/CK614*100)","v":0},null,null,{"$f":"IF(CN614=0,0,(CO614-CN614)/CN614*100)","v":0},null,null,{"$f":"IF(CQ614=0,0,(CR614-CQ614)/CQ614*100)","v":0},null,null,{"$f":"IF(CT614=0,0,(CU614-CT614)/CT614*100)","v":0},null,null,{"$f":"IF(CW614=0,0,(CX614-CW614)/CW614*100)","v":0},null,null,{"$f":"IF(CZ614=0,0,(DA614-CZ614)/CZ614*100)","v":0},null,null,{"$f":"IF(DC614=0,0,(DD614-DC614)/DC614*100)","v":0},null,null,{"$f":"IF(DF614=0,0,(DG614-DF614)/DF614*100)","v":0},null,null,{"$f":"IF(DI614=0,0,(DJ614-DI614)/DI614*100)","v":0},null,null,{"$f":"IF(DL614=0,0,(DM614-DL614)/DL614*100)","v":0},null,null,{"$f":"IF(DO614=0,0,(DP614-DO614)/DO614*100)","v":0},null,null,{"$f":"IF(DR614=0,0,(DS614-DR614)/DR614*100)","v":0},null,null,{"$f":"IF(DU614=0,0,(DV614-DU614)/DU614*100)","v":0},null,null,{"$f":"IF(DX614=0,0,(DY614-DX614)/DX614*100)","v":0},null,null,{"$f":"IF(EA614=0,0,(EB614-EA614)/EA614*100)","v":0},null,null,{"$f":"IF(ED614=0,0,(EE614-ED614)/ED614*100)","v":0},null,null,{"$f":"IF(EG614=0,0,(EH614-EG614)/EG614*100)","v":0},null,null,{"$f":"IF(EJ614=0,0,(EK614-EJ614)/EJ614*100)","v":0},null,null,{"$f":"IF(EM614=0,0,(EN614-EM614)/EM614*100)","v":0},null,null,{"$f":"IF(EP614=0,0,(EQ614-EP614)/EP614*100)","v":0},null,null,{"$f":"IF(ES614=0,0,(ET614-ES614)/ES614*100)","v":0},null,null,{"$f":"IF(EV614=0,0,(EW614-EV614)/EV614*100)","v":0},null,null,{"$f":"IF(EY614=0,0,(EZ614-EY614)/EY614*100)","v":0},null,null,{"$f":"IF(FB614=0,0,(FC614-FB614)/FB614*100)","v":0},null,null,{"$f":"IF(FE614=0,0,(FF614-FE614)/FE614*100)","v":0}]
["1",null,null,null,null,null,{"$f":"F582=\"двухставочный\"","v":false},null,null,null,null,"Тариф с 01.01 по 30.06 для населения с НДС:"]
["1",null,"L2_1_1","для населения с 01.07 по 31.12 с НДС",null,null,{"$f":"F582=\"двухставочный\"","v":false},null,null,null,null,"перевод двухставочного тарифа в одноставочный тариф","руб./куб.м",{"$f":"IF(N618=0,0,(N617*N618+N619*N620*6)/N618)","v":{"$error":"#N/A"}},{"$f":"IF(O618=0,0,(O617*O618+O619*O620*6)/O618)","v":{"$error":"#N/A"}},{"$f":"IF(N616=0,0,(O616-N616)/N616*100)","v":{"$error":"#N/A"}},{"$f":"IF(Q618=0,0,(Q617*Q618+Q619*Q620*6)/Q618)","v":{"$error":"#N/A"}},{"$f":"IF(R618=0,0,(R617*R618+R619*R620*6)/R618)","v":{"$error":"#N/A"}},{"$f":"IF(Q616=0,0,(R616-Q616)/Q616*100)","v":{"$error":"#N/A"}},{"$f":"IF(T618=0,0,(T617*T618+T619*T620*6)/T618)","v":{"$error":"#N/A"}},{"$f":"IF(U618=0,0,(U617*U618+U619*U620*6)/U618)","v":{"$error":"#N/A"}},{"$f":"IF(T616=0,0,(U616-T616)/T616*100)","v":{"$error":"#N/A"}},{"$f":"IF(W618=0,0,(W617*W618+W619*W620*6)/W618)","v":{"$error":"#N/A"}},{"$f":"IF(X618=0,0,(X617*X618+X619*X620*6)/X618)","v":{"$error":"#N/A"}},{"$f":"IF(W616=0,0,(X616-W616)/W616*100)","v":{"$error":"#N/A"}},{"$f":"IF(Z618=0,0,(Z617*Z618+Z619*Z620*6)/Z618)","v":{"$error":"#N/A"}},{"$f":"IF(AA618=0,0,(AA617*AA618+AA619*AA620*6)/AA618)","v":{"$error":"#N/A"}},{"$f":"IF(Z616=0,0,(AA616-Z616)/Z616*100)","v":{"$error":"#N/A"}},{"$f":"IF(AC618=0,0,(AC617*AC618+AC619*AC620*6)/AC618)","v":{"$error":"#N/A"}},{"$f":"IF(AD618=0,0,(AD617*AD618+AD619*AD620*6)/AD618)","v":{"$error":"#N/A"}},{"$f":"IF(AC616=0,0,(AD616-AC616)/AC616*100)","v":{"$error":"#N/A"}},{"$f":"IF(AF618=0,0,(AF617*AF618+AF619*AF620*6)/AF618)","v":{"$error":"#N/A"}},{"$f":"IF(AG618=0,0,(AG617*AG618+AG619*AG620*6)/AG618)","v":{"$error":"#N/A"}},{"$f":"IF(AF616=0,0,(AG616-AF616)/AF616*100)","v":{"$error":"#N/A"}},{"$f":"IF(AI618=0,0,(AI617*AI618+AI619*AI620*6)/AI618)","v":{"$error":"#N/A"}},{"$f":"IF(AJ618=0,0,(AJ617*AJ618+AJ619*AJ620*6)/AJ618)","v":{"$error":"#N/A"}},{"$f":"IF(AI616=0,0,(AJ616-AI616)/AI616*100)","v":{"$error":"#N/A"}},{"$f":"IF(AL618=0,0,(AL617*AL618+AL619*AL620*6)/AL618)","v":{"$error":"#N/A"}},{"$f":"IF(AM618=0,0,(AM617*AM618+AM619*AM620*6)/AM618)","v":{"$error":"#N/A"}},{"$f":"IF(AL616=0,0,(AM616-AL616)/AL616*100)","v":{"$error":"#N/A"}},{"$f":"IF(AO618=0,0,(AO617*AO618+AO619*AO620*6)/AO618)","v":{"$error":"#N/A"}},{"$f":"IF(AP618=0,0,(AP617*AP618+AP619*AP620*6)/AP618)","v":{"$error":"#N/A"}},{"$f":"IF(AO616=0,0,(AP616-AO616)/AO616*100)","v":{"$error":"#N/A"}},{"$f":"IF(AR618=0,0,(AR617*AR618+AR619*AR620*6)/AR618)","v":0},{"$f":"IF(AS618=0,0,(AS617*AS618+AS619*AS620*6)/AS618)","v":0},{"$f":"IF(AR616=0,0,(AS616-AR616)/AR616*100)","v":0},{"$f":"IF(AU618=0,0,(AU617*AU618+AU619*AU620*6)/AU618)","v":0},{"$f":"IF(AV618=0,0,(AV617*AV618+AV619*AV620*6)/AV618)","v":0},{"$f":"IF(AU616=0,0,(AV616-AU616)/AU616*100)","v":0},{"$f":"IF(AX618=0,0,(AX617*AX618+AX619*AX620*6)/AX618)","v":0},{"$f":"IF(AY618=0,0,(AY617*AY618+AY619*AY620*6)/AY618)","v":0},{"$f":"IF(AX616=0,0,(AY616-AX616)/AX616*100)","v":0},{"$f":"IF(BA618=0,0,(BA617*BA618+BA619*BA620*6)/BA618)","v":0},{"$f":"IF(BB618=0,0,(BB617*BB618+BB619*BB620*6)/BB618)","v":0},{"$f":"IF(BA616=0,0,(BB616-BA616)/BA616*100)","v":0},{"$f":"IF(BD618=0,0,(BD617*BD618+BD619*BD620*6)/BD618)","v":0},{"$f":"IF(BE618=0,0,(BE617*BE618+BE619*BE620*6)/BE618)","v":0},{"$f":"IF(BD616=0,0,(BE616-BD616)/BD616*100)","v":0},{"$f":"IF(BG618=0,0,(BG617*BG618+BG619*BG620*6)/BG618)","v":0},{"$f":"IF(BH618=0,0,(BH617*BH618+BH619*BH620*6)/BH618)","v":0},{"$f":"IF(BG616=0,0,(BH616-BG616)/BG616*100)","v":0},{"$f":"IF(BJ618=0,0,(BJ617*BJ618+BJ619*BJ620*6)/BJ618)","v":0},{"$f":"IF(BK618=0,0,(BK617*BK618+BK619*BK620*6)/BK618)","v":0},{"$f":"IF(BJ616=0,0,(BK616-BJ616)/BJ616*100)","v":0},{"$f":"IF(BM618=0,0,(BM617*BM618+BM619*BM620*6)/BM618)","v":0},{"$f":"IF(BN618=0,0,(BN617*BN618+BN619*BN620*6)/BN618)","v":0},{"$f":"IF(BM616=0,0,(BN616-BM616)/BM616*100)","v":0},{"$f":"IF(BP618=0,0,(BP617*BP618+BP619*BP620*6)/BP618)","v":0},{"$f":"IF(BQ618=0,0,(BQ617*BQ618+BQ619*BQ620*6)/BQ618)","v":0},{"$f":"IF(BP616=0,0,(BQ616-BP616)/BP616*100)","v":0},{"$f":"IF(BS618=0,0,(BS617*BS618+BS619*BS620*6)/BS618)","v":0},{"$f":"IF(BT618=0,0,(BT617*BT618+BT619*BT620*6)/BT618)","v":0},{"$f":"IF(BS616=0,0,(BT616-BS616)/BS616*100)","v":0},{"$f":"IF(BV618=0,0,(BV617*BV618+BV619*BV620*6)/BV618)","v":0},{"$f":"IF(BW618=0,0,(BW617*BW618+BW619*BW620*6)/BW618)","v":0},{"$f":"IF(BV616=0,0,(BW616-BV616)/BV616*100)","v":0},{"$f":"IF(BY618=0,0,(BY617*BY618+BY619*BY620*6)/BY618)","v":0},{"$f":"IF(BZ618=0,0,(BZ617*BZ618+BZ619*BZ620*6)/BZ618)","v":0},{"$f":"IF(BY616=0,0,(BZ616-BY616)/BY616*100)","v":0},{"$f":"IF(CB618=0,0,(CB617*CB618+CB619*CB620*6)/CB618)","v":0},{"$f":"IF(CC618=0,0,(CC617*CC618+CC619*CC620*6)/CC618)","v":0},{"$f":"IF(CB616=0,0,(CC616-CB616)/CB616*100)","v":0},{"$f":"IF(CE618=0,0,(CE617*CE618+CE619*CE620*6)/CE618)","v":0},{"$f":"IF(CF618=0,0,(CF617*CF618+CF619*CF620*6)/CF618)","v":0},{"$f":"IF(CE616=0,0,(CF616-CE616)/CE616*100)","v":0},{"$f":"IF(CH618=0,0,(CH617*CH618+CH619*CH620*6)/CH618)","v":0},{"$f":"IF(CI618=0,0,(CI617*CI618+CI619*CI620*6)/CI618)","v":0},{"$f":"IF(CH616=0,0,(CI616-CH616)/CH616*100)","v":0},{"$f":"IF(CK618=0,0,(CK617*CK618+CK619*CK620*6)/CK618)","v":0},{"$f":"IF(CL618=0,0,(CL617*CL618+CL619*CL620*6)/CL618)","v":0},{"$f":"IF(CK616=0,0,(CL616-CK616)/CK616*100)","v":0},{"$f":"IF(CN618=0,0,(CN617*CN618+CN619*CN620*6)/CN618)","v":0},{"$f":"IF(CO618=0,0,(CO617*CO618+CO619*CO620*6)/CO618)","v":0},{"$f":"IF(CN616=0,0,(CO616-CN616)/CN616*100)","v":0},{"$f":"IF(CQ618=0,0,(CQ617*CQ618+CQ619*CQ620*6)/CQ618)","v":0},{"$f":"IF(CR618=0,0,(CR617*CR618+CR619*CR620*6)/CR618)","v":0},{"$f":"IF(CQ616=0,0,(CR616-CQ616)/CQ616*100)","v":0},{"$f":"IF(CT618=0,0,(CT617*CT618+CT619*CT620*6)/CT618)","v":0},{"$f":"IF(CU618=0,0,(CU617*CU618+CU619*CU620*6)/CU618)","v":0},{"$f":"IF(CT616=0,0,(CU616-CT616)/CT616*100)","v":0},{"$f":"IF(CW618=0,0,(CW617*CW618+CW619*CW620*6)/CW618)","v":0},{"$f":"IF(CX618=0,0,(CX617*CX618+CX619*CX620*6)/CX618)","v":0},{"$f":"IF(CW616=0,0,(CX616-CW616)/CW616*100)","v":0},{"$f":"IF(CZ618=0,0,(CZ617*CZ618+CZ619*CZ620*6)/CZ618)","v":0},{"$f":"IF(DA618=0,0,(DA617*DA618+DA619*DA620*6)/DA618)","v":0},{"$f":"IF(CZ616=0,0,(DA616-CZ616)/CZ616*100)","v":0},{"$f":"IF(DC618=0,0,(DC617*DC618+DC619*DC620*6)/DC618)","v":0},{"$f":"IF(DD618=0,0,(DD617*DD618+DD619*DD620*6)/DD618)","v":0},{"$f":"IF(DC616=0,0,(DD616-DC616)/DC616*100)","v":0},{"$f":"IF(DF618=0,0,(DF617*DF618+DF619*DF620*6)/DF618)","v":0},{"$f":"IF(DG618=0,0,(DG617*DG618+DG619*DG620*6)/DG618)","v":0},{"$f":"IF(DF616=0,0,(DG616-DF616)/DF616*100)","v":0},{"$f":"IF(DI618=0,0,(DI617*DI618+DI619*DI620*6)/DI618)","v":0},{"$f":"IF(DJ618=0,0,(DJ617*DJ618+DJ619*DJ620*6)/DJ618)","v":0},{"$f":"IF(DI616=0,0,(DJ616-DI616)/DI616*100)","v":0},{"$f":"IF(DL618=0,0,(DL617*DL618+DL619*DL620*6)/DL618)","v":0},{"$f":"IF(DM618=0,0,(DM617*DM618+DM619*DM620*6)/DM618)","v":0},{"$f":"IF(DL616=0,0,(DM616-DL616)/DL616*100)","v":0},{"$f":"IF(DO618=0,0,(DO617*DO618+DO619*DO620*6)/DO618)","v":0},{"$f":"IF(DP618=0,0,(DP617*DP618+DP619*DP620*6)/DP618)","v":0},{"$f":"IF(DO616=0,0,(DP616-DO616)/DO616*100)","v":0},{"$f":"IF(DR618=0,0,(DR617*DR618+DR619*DR620*6)/DR618)","v":0},{"$f":"IF(DS618=0,0,(DS617*DS618+DS619*DS620*6)/DS618)","v":0},{"$f":"IF(DR616=0,0,(DS616-DR616)/DR616*100)","v":0},{"$f":"IF(DU618=0,0,(DU617*DU618+DU619*DU620*6)/DU618)","v":0},{"$f":"IF(DV618=0,0,(DV617*DV618+DV619*DV620*6)/DV618)","v":0},{"$f":"IF(DU616=0,0,(DV616-DU616)/DU616*100)","v":0},{"$f":"IF(DX618=0,0,(DX617*DX618+DX619*DX620*6)/DX618)","v":0},{"$f":"IF(DY618=0,0,(DY617*DY618+DY619*DY620*6)/DY618)","v":0},{"$f":"IF(DX616=0,0,(DY616-DX616)/DX616*100)","v":0},{"$f":"IF(EA618=0,0,(EA617*EA618+EA619*EA620*6)/EA618)","v":0},{"$f":"IF(EB618=0,0,(EB617*EB618+EB619*EB620*6)/EB618)","v":0},{"$f":"IF(EA616=0,0,(EB616-EA616)/EA616*100)","v":0},{"$f":"IF(ED618=0,0,(ED617*ED618+ED619*ED620*6)/ED618)","v":0},{"$f":"IF(EE618=0,0,(EE617*EE618+EE619*EE620*6)/EE618)","v":0},{"$f":"IF(ED616=0,0,(EE616-ED616)/ED616*100)","v":0},{"$f":"IF(EG618=0,0,(EG617*EG618+EG619*EG620*6)/EG618)","v":0},{"$f":"IF(EH618=0,0,(EH617*EH618+EH619*EH620*6)/EH618)","v":0},{"$f":"IF(EG616=0,0,(EH616-EG616)/EG616*100)","v":0},{"$f":"IF(EJ618=0,0,(EJ617*EJ618+EJ619*EJ620*6)/EJ618)","v":0},{"$f":"IF(EK618=0,0,(EK617*EK618+EK619*EK620*6)/EK618)","v":0},{"$f":"IF(EJ616=0,0,(EK616-EJ616)/EJ616*100)","v":0},{"$f":"IF(EM618=0,0,(EM617*EM618+EM619*EM620*6)/EM618)","v":0},{"$f":"IF(EN618=0,0,(EN617*EN618+EN619*EN620*6)/EN618)","v":0},{"$f":"IF(EM616=0,0,(EN616-EM616)/EM616*100)","v":0},{"$f":"IF(EP618=0,0,(EP617*EP618+EP619*EP620*6)/EP618)","v":0},{"$f":"IF(EQ618=0,0,(EQ617*EQ618+EQ619*EQ620*6)/EQ618)","v":0},{"$f":"IF(EP616=0,0,(EQ616-EP616)/EP616*100)","v":0},{"$f":"IF(ES618=0,0,(ES617*ES618+ES619*ES620*6)/ES618)","v":0},{"$f":"IF(ET618=0,0,(ET617*ET618+ET619*ET620*6)/ET618)","v":0},{"$f":"IF(ES616=0,0,(ET616-ES616)/ES616*100)","v":0},{"$f":"IF(EV618=0,0,(EV617*EV618+EV619*EV620*6)/EV618)","v":0},{"$f":"IF(EW618=0,0,(EW617*EW618+EW619*EW620*6)/EW618)","v":0},{"$f":"IF(EV616=0,0,(EW616-EV616)/EV616*100)","v":0},{"$f":"IF(EY618=0,0,(EY617*EY618+EY619*EY620*6)/EY618)","v":0},{"$f":"IF(EZ618=0,0,(EZ617*EZ618+EZ619*EZ620*6)/EZ618)","v":0},{"$f":"IF(EY616=0,0,(EZ616-EY616)/EY616*100)","v":0},{"$f":"IF(FB618=0,0,(FB617*FB618+FB619*FB620*6)/FB618)","v":0},{"$f":"IF(FC618=0,0,(FC617*FC618+FC619*FC620*6)/FC618)","v":0},{"$f":"IF(FB616=0,0,(FC616-FB616)/FB616*100)","v":0},{"$f":"IF(FE618=0,0,(FE617*FE618+FE619*FE620*6)/FE618)","v":0},{"$f":"IF(FF618=0,0,(FF617*FF618+FF619*FF620*6)/FF618)","v":0},{"$f":"IF(FE616=0,0,(FF616-FE616)/FE616*100)","v":0}]
["1",null,"L2_1_2","для населения с 01.07 по 31.12 с НДС",null,null,{"$f":"F582=\"двухставочный\"","v":false},null,null,null,null,"ставка платы за потребление 1 куб.м холодной воды","руб./куб.м",null,null,{"$f":"IF(N617=0,0,(O617-N617)/N617*100)","v":0},null,null,{"$f":"IF(Q617=0,0,(R617-Q617)/Q617*100)","v":0},null,null,{"$f":"IF(T617=0,0,(U617-T617)/T617*100)","v":0},null,null,{"$f":"IF(W617=0,0,(X617-W617)/W617*100)","v":0},null,null,{"$f":"IF(Z617=0,0,(AA617-Z617)/Z617*100)","v":0},null,null,{"$f":"IF(AC617=0,0,(AD617-AC617)/AC617*100)","v":0},null,null,{"$f":"IF(AF617=0,0,(AG617-AF617)/AF617*100)","v":0},null,null,{"$f":"IF(AI617=0,0,(AJ617-AI617)/AI617*100)","v":0},null,null,{"$f":"IF(AL617=0,0,(AM617-AL617)/AL617*100)","v":0},null,null,{"$f":"IF(AO617=0,0,(AP617-AO617)/AO617*100)","v":0},null,null,{"$f":"IF(AR617=0,0,(AS617-AR617)/AR617*100)","v":0},null,null,{"$f":"IF(AU617=0,0,(AV617-AU617)/AU617*100)","v":0},null,null,{"$f":"IF(AX617=0,0,(AY617-AX617)/AX617*100)","v":0},null,null,{"$f":"IF(BA617=0,0,(BB617-BA617)/BA617*100)","v":0},null,null,{"$f":"IF(BD617=0,0,(BE617-BD617)/BD617*100)","v":0},null,null,{"$f":"IF(BG617=0,0,(BH617-BG617)/BG617*100)","v":0},null,null,{"$f":"IF(BJ617=0,0,(BK617-BJ617)/BJ617*100)","v":0},null,null,{"$f":"IF(BM617=0,0,(BN617-BM617)/BM617*100)","v":0},null,null,{"$f":"IF(BP617=0,0,(BQ617-BP617)/BP617*100)","v":0},null,null,{"$f":"IF(BS617=0,0,(BT617-BS617)/BS617*100)","v":0},null,null,{"$f":"IF(BV617=0,0,(BW617-BV617)/BV617*100)","v":0},null,null,{"$f":"IF(BY617=0,0,(BZ617-BY617)/BY617*100)","v":0},null,null,{"$f":"IF(CB617=0,0,(CC617-CB617)/CB617*100)","v":0},null,null,{"$f":"IF(CE617=0,0,(CF617-CE617)/CE617*100)","v":0},null,null,{"$f":"IF(CH617=0,0,(CI617-CH617)/CH617*100)","v":0},null,null,{"$f":"IF(CK617=0,0,(CL617-CK617)/CK617*100)","v":0},null,null,{"$f":"IF(CN617=0,0,(CO617-CN617)/CN617*100)","v":0},null,null,{"$f":"IF(CQ617=0,0,(CR617-CQ617)/CQ617*100)","v":0},null,null,{"$f":"IF(CT617=0,0,(CU617-CT617)/CT617*100)","v":0},null,null,{"$f":"IF(CW617=0,0,(CX617-CW617)/CW617*100)","v":0},null,null,{"$f":"IF(CZ617=0,0,(DA617-CZ617)/CZ617*100)","v":0},null,null,{"$f":"IF(DC617=0,0,(DD617-DC617)/DC617*100)","v":0},null,null,{"$f":"IF(DF617=0,0,(DG617-DF617)/DF617*100)","v":0},null,null,{"$f":"IF(DI617=0,0,(DJ617-DI617)/DI617*100)","v":0},null,null,{"$f":"IF(DL617=0,0,(DM617-DL617)/DL617*100)","v":0},null,null,{"$f":"IF(DO617=0,0,(DP617-DO617)/DO617*100)","v":0},null,null,{"$f":"IF(DR617=0,0,(DS617-DR617)/DR617*100)","v":0},null,null,{"$f":"IF(DU617=0,0,(DV617-DU617)/DU617*100)","v":0},null,null,{"$f":"IF(DX617=0,0,(DY617-DX617)/DX617*100)","v":0},null,null,{"$f":"IF(EA617=0,0,(EB617-EA617)/EA617*100)","v":0},null,null,{"$f":"IF(ED617=0,0,(EE617-ED617)/ED617*100)","v":0},null,null,{"$f":"IF(EG617=0,0,(EH617-EG617)/EG617*100)","v":0},null,null,{"$f":"IF(EJ617=0,0,(EK617-EJ617)/EJ617*100)","v":0},null,null,{"$f":"IF(EM617=0,0,(EN617-EM617)/EM617*100)","v":0},null,null,{"$f":"IF(EP617=0,0,(EQ617-EP617)/EP617*100)","v":0},null,null,{"$f":"IF(ES617=0,0,(ET617-ES617)/ES617*100)","v":0},null,null,{"$f":"IF(EV617=0,0,(EW617-EV617)/EV617*100)","v":0},null,null,{"$f":"IF(EY617=0,0,(EZ617-EY617)/EY617*100)","v":0},null,null,{"$f":"IF(FB617=0,0,(FC617-FB617)/FB617*100)","v":0},null,null,{"$f":"IF(FE617=0,0,(FF617-FE617)/FE617*100)","v":0}]
["1","ПО.население.II","L2_1_3","для населения с 01.07 по 31.12 с НДС",null,null,{"$f":"F582=\"двухставочный\"","v":false},null,null,null,null,"объём потребления холодной воды","тыс.куб.м",{"$f":"SUMIFS(INDEX(Калькуляция!$T$15:$AM$143,,MATCH(N$3,Калькуляция!$T$3:$AM$3,0)),Калькуляция!$A$15:$A$143,$A618,Калькуляция!$B$15:$B$143,$B618)","v":{"$error":"#N/A"}},{"$f":"SUMIFS(INDEX(Калькуляция!$T$15:$AM$143,,MATCH(O$3,Калькуляция!$T$3:$AM$3,0)),Калькуляция!$A$15:$A$143,$A618,Калькуляция!$B$15:$B$143,$B618)","v":{"$error":"#N/A"}},{"$f":"IF(N618=0,0,(O618-N618)/N618*100)","v":{"$error":"#N/A"}},{"$f":"SUMIFS(INDEX(Калькуляция!$T$15:$AM$143,,MATCH(Q$3,Калькуляция!$T$3:$AM$3,0)),Калькуляция!$A$15:$A$143,$A618,Калькуляция!$B$15:$B$143,$B618)","v":{"$error":"#N/A"}},{"$f":"SUMIFS(INDEX(Калькуляция!$T$15:$AM$143,,MATCH(R$3,Калькуляция!$T$3:$AM$3,0)),Калькуляция!$A$15:$A$143,$A618,Калькуляция!$B$15:$B$143,$B618)","v":{"$error":"#N/A"}},{"$f":"IF(Q618=0,0,(R618-Q618)/Q618*100)","v":{"$error":"#N/A"}},{"$f":"SUMIFS(INDEX(Калькуляция!$T$15:$AM$143,,MATCH(T$3,Калькуляция!$T$3:$AM$3,0)),Калькуляция!$A$15:$A$143,$A618,Калькуляция!$B$15:$B$143,$B618)","v":{"$error":"#N/A"}},{"$f":"SUMIFS(INDEX(Калькуляция!$T$15:$AM$143,,MATCH(U$3,Калькуляция!$T$3:$AM$3,0)),Калькуляция!$A$15:$A$143,$A618,Калькуляция!$B$15:$B$143,$B618)","v":{"$error":"#N/A"}},{"$f":"IF(T618=0,0,(U618-T618)/T618*100)","v":{"$error":"#N/A"}},{"$f":"SUMIFS(INDEX(Калькуляция!$T$15:$AM$143,,MATCH(W$3,Калькуляция!$T$3:$AM$3,0)),Калькуляция!$A$15:$A$143,$A618,Калькуляция!$B$15:$B$143,$B618)","v":{"$error":"#N/A"}},{"$f":"SUMIFS(INDEX(Калькуляция!$T$15:$AM$143,,MATCH(X$3,Калькуляция!$T$3:$AM$3,0)),Калькуляция!$A$15:$A$143,$A618,Калькуляция!$B$15:$B$143,$B618)","v":{"$error":"#N/A"}},{"$f":"IF(W618=0,0,(X618-W618)/W618*100)","v":{"$error":"#N/A"}},{"$f":"SUMIFS(INDEX(Калькуляция!$T$15:$AM$143,,MATCH(Z$3,Калькуляция!$T$3:$AM$3,0)),Калькуляция!$A$15:$A$143,$A618,Калькуляция!$B$15:$B$143,$B618)","v":{"$error":"#N/A"}},{"$f":"SUMIFS(INDEX(Калькуляция!$T$15:$AM$143,,MATCH(AA$3,Калькуляция!$T$3:$AM$3,0)),Калькуляция!$A$15:$A$143,$A618,Калькуляция!$B$15:$B$143,$B618)","v":{"$error":"#N/A"}},{"$f":"IF(Z618=0,0,(AA618-Z618)/Z618*100)","v":{"$error":"#N/A"}},{"$f":"SUMIFS(INDEX(Калькуляция!$T$15:$AM$143,,MATCH(AC$3,Калькуляция!$T$3:$AM$3,0)),Калькуляция!$A$15:$A$143,$A618,Калькуляция!$B$15:$B$143,$B618)","v":{"$error":"#N/A"}},{"$f":"SUMIFS(INDEX(Калькуляция!$T$15:$AM$143,,MATCH(AD$3,Калькуляция!$T$3:$AM$3,0)),Калькуляция!$A$15:$A$143,$A618,Калькуляция!$B$15:$B$143,$B618)","v":{"$error":"#N/A"}},{"$f":"IF(AC618=0,0,(AD618-AC618)/AC618*100)","v":{"$error":"#N/A"}},{"$f":"SUMIFS(INDEX(Калькуляция!$T$15:$AM$143,,MATCH(AF$3,Калькуляция!$T$3:$AM$3,0)),Калькуляция!$A$15:$A$143,$A618,Калькуляция!$B$15:$B$143,$B618)","v":{"$error":"#N/A"}},{"$f":"SUMIFS(INDEX(Калькуляция!$T$15:$AM$143,,MATCH(AG$3,Калькуляция!$T$3:$AM$3,0)),Калькуляция!$A$15:$A$143,$A618,Калькуляция!$B$15:$B$143,$B618)","v":{"$error":"#N/A"}},{"$f":"IF(AF618=0,0,(AG618-AF618)/AF618*100)","v":{"$error":"#N/A"}},{"$f":"SUMIFS(INDEX(Калькуляция!$T$15:$AM$143,,MATCH(AI$3,Калькуляция!$T$3:$AM$3,0)),Калькуляция!$A$15:$A$143,$A618,Калькуляция!$B$15:$B$143,$B618)","v":{"$error":"#N/A"}},{"$f":"SUMIFS(INDEX(Калькуляция!$T$15:$AM$143,,MATCH(AJ$3,Калькуляция!$T$3:$AM$3,0)),Калькуляция!$A$15:$A$143,$A618,Калькуляция!$B$15:$B$143,$B618)","v":{"$error":"#N/A"}},{"$f":"IF(AI618=0,0,(AJ618-AI618)/AI618*100)","v":{"$error":"#N/A"}},{"$f":"SUMIFS(INDEX(Калькуляция!$T$15:$AM$143,,MATCH(AL$3,Калькуляция!$T$3:$AM$3,0)),Калькуляция!$A$15:$A$143,$A618,Калькуляция!$B$15:$B$143,$B618)","v":{"$error":"#N/A"}},{"$f":"SUMIFS(INDEX(Калькуляция!$T$15:$AM$143,,MATCH(AM$3,Калькуляция!$T$3:$AM$3,0)),Калькуляция!$A$15:$A$143,$A618,Калькуляция!$B$15:$B$143,$B618)","v":{"$error":"#N/A"}},{"$f":"IF(AL618=0,0,(AM618-AL618)/AL618*100)","v":{"$error":"#N/A"}},{"$f":"SUMIFS(INDEX(Калькуляция!$T$15:$AM$143,,MATCH(AO$3,Калькуляция!$T$3:$AM$3,0)),Калькуляция!$A$15:$A$143,$A618,Калькуляция!$B$15:$B$143,$B618)","v":{"$error":"#N/A"}},{"$f":"SUMIFS(INDEX(Калькуляция!$T$15:$AM$143,,MATCH(AP$3,Калькуляция!$T$3:$AM$3,0)),Калькуляция!$A$15:$A$143,$A618,Калькуляция!$B$15:$B$143,$B618)","v":{"$error":"#N/A"}},{"$f":"IF(AO618=0,0,(AP618-AO618)/AO618*100)","v":{"$error":"#N/A"}},null,null,{"$f":"IF(AR618=0,0,(AS618-AR618)/AR618*100)","v":0},null,null,{"$f":"IF(AU618=0,0,(AV618-AU618)/AU618*100)","v":0},null,null,{"$f":"IF(AX618=0,0,(AY618-AX618)/AX618*100)","v":0},null,null,{"$f":"IF(BA618=0,0,(BB618-BA618)/BA618*100)","v":0},null,null,{"$f":"IF(BD618=0,0,(BE618-BD618)/BD618*100)","v":0},null,null,{"$f":"IF(BG618=0,0,(BH618-BG618)/BG618*100)","v":0},null,null,{"$f":"IF(BJ618=0,0,(BK618-BJ618)/BJ618*100)","v":0},null,null,{"$f":"IF(BM618=0,0,(BN618-BM618)/BM618*100)","v":0},null,null,{"$f":"IF(BP618=0,0,(BQ618-BP618)/BP618*100)","v":0},null,null,{"$f":"IF(BS618=0,0,(BT618-BS618)/BS618*100)","v":0},null,null,{"$f":"IF(BV618=0,0,(BW618-BV618)/BV618*100)","v":0},null,null,{"$f":"IF(BY618=0,0,(BZ618-BY618)/BY618*100)","v":0},null,null,{"$f":"IF(CB618=0,0,(CC618-CB618)/CB618*100)","v":0},null,null,{"$f":"IF(CE618=0,0,(CF618-CE618)/CE618*100)","v":0},null,null,{"$f":"IF(CH618=0,0,(CI618-CH618)/CH618*100)","v":0},null,null,{"$f":"IF(CK618=0,0,(CL618-CK618)/CK618*100)","v":0},null,null,{"$f":"IF(CN618=0,0,(CO618-CN618)/CN618*100)","v":0},null,null,{"$f":"IF(CQ618=0,0,(CR618-CQ618)/CQ618*100)","v":0},null,null,{"$f":"IF(CT618=0,0,(CU618-CT618)/CT618*100)","v":0},null,null,{"$f":"IF(CW618=0,0,(CX618-CW618)/CW618*100)","v":0},null,null,{"$f":"IF(CZ618=0,0,(DA618-CZ618)/CZ618*100)","v":0},null,null,{"$f":"IF(DC618=0,0,(DD618-DC618)/DC618*100)","v":0},null,null,{"$f":"IF(DF618=0,0,(DG618-DF618)/DF618*100)","v":0},null,null,{"$f":"IF(DI618=0,0,(DJ618-DI618)/DI618*100)","v":0},null,null,{"$f":"IF(DL618=0,0,(DM618-DL618)/DL618*100)","v":0},null,null,{"$f":"IF(DO618=0,0,(DP618-DO618)/DO618*100)","v":0},null,null,{"$f":"IF(DR618=0,0,(DS618-DR618)/DR618*100)","v":0},null,null,{"$f":"IF(DU618=0,0,(DV618-DU618)/DU618*100)","v":0},null,null,{"$f":"IF(DX618=0,0,(DY618-DX618)/DX618*100)","v":0},null,null,{"$f":"IF(EA618=0,0,(EB618-EA618)/EA618*100)","v":0},null,null,{"$f":"IF(ED618=0,0,(EE618-ED618)/ED618*100)","v":0},null,null,{"$f":"IF(EG618=0,0,(EH618-EG618)/EG618*100)","v":0},null,null,{"$f":"IF(EJ618=0,0,(EK618-EJ618)/EJ618*100)","v":0},null,null,{"$f":"IF(EM618=0,0,(EN618-EM618)/EM618*100)","v":0},null,null,{"$f":"IF(EP618=0,0,(EQ618-EP618)/EP618*100)","v":0},null,null,{"$f":"IF(ES618=0,0,(ET618-ES618)/ES618*100)","v":0},null,null,{"$f":"IF(EV618=0,0,(EW618-EV618)/EV618*100)","v":0},null,null,{"$f":"IF(EY618=0,0,(EZ618-EY618)/EY618*100)","v":0},null,null,{"$f":"IF(FB618=0,0,(FC618-FB618)/FB618*100)","v":0},null,null,{"$f":"IF(FE618=0,0,(FF618-FE618)/FE618*100)","v":0}]
["1",null,"L2_1_4","для населения с 01.07 по 31.12 с НДС",null,null,{"$f":"F582=\"двухставочный\"","v":false},null,null,null,null,"ставка платы за содержание системы холодного водоснабжения","тыс.руб./куб.м*час/в месяц",null,null,{"$f":"IF(N619=0,0,(O619-N619)/N619*100)","v":0},null,null,{"$f":"IF(Q619=0,0,(R619-Q619)/Q619*100)","v":0},null,null,{"$f":"IF(T619=0,0,(U619-T619)/T619*100)","v":0},null,null,{"$f":"IF(W619=0,0,(X619-W619)/W619*100)","v":0},null,null,{"$f":"IF(Z619=0,0,(AA619-Z619)/Z619*100)","v":0},null,null,{"$f":"IF(AC619=0,0,(AD619-AC619)/AC619*100)","v":0},null,null,{"$f":"IF(AF619=0,0,(AG619-AF619)/AF619*100)","v":0},null,null,{"$f":"IF(AI619=0,0,(AJ619-AI619)/AI619*100)","v":0},null,null,{"$f":"IF(AL619=0,0,(AM619-AL619)/AL619*100)","v":0},null,null,{"$f":"IF(AO619=0,0,(AP619-AO619)/AO619*100)","v":0},null,null,{"$f":"IF(AR619=0,0,(AS619-AR619)/AR619*100)","v":0},null,null,{"$f":"IF(AU619=0,0,(AV619-AU619)/AU619*100)","v":0},null,null,{"$f":"IF(AX619=0,0,(AY619-AX619)/AX619*100)","v":0},null,null,{"$f":"IF(BA619=0,0,(BB619-BA619)/BA619*100)","v":0},null,null,{"$f":"IF(BD619=0,0,(BE619-BD619)/BD619*100)","v":0},null,null,{"$f":"IF(BG619=0,0,(BH619-BG619)/BG619*100)","v":0},null,null,{"$f":"IF(BJ619=0,0,(BK619-BJ619)/BJ619*100)","v":0},null,null,{"$f":"IF(BM619=0,0,(BN619-BM619)/BM619*100)","v":0},null,null,{"$f":"IF(BP619=0,0,(BQ619-BP619)/BP619*100)","v":0},null,null,{"$f":"IF(BS619=0,0,(BT619-BS619)/BS619*100)","v":0},null,null,{"$f":"IF(BV619=0,0,(BW619-BV619)/BV619*100)","v":0},null,null,{"$f":"IF(BY619=0,0,(BZ619-BY619)/BY619*100)","v":0},null,null,{"$f":"IF(CB619=0,0,(CC619-CB619)/CB619*100)","v":0},null,null,{"$f":"IF(CE619=0,0,(CF619-CE619)/CE619*100)","v":0},null,null,{"$f":"IF(CH619=0,0,(CI619-CH619)/CH619*100)","v":0},null,null,{"$f":"IF(CK619=0,0,(CL619-CK619)/CK619*100)","v":0},null,null,{"$f":"IF(CN619=0,0,(CO619-CN619)/CN619*100)","v":0},null,null,{"$f":"IF(CQ619=0,0,(CR619-CQ619)/CQ619*100)","v":0},null,null,{"$f":"IF(CT619=0,0,(CU619-CT619)/CT619*100)","v":0},null,null,{"$f":"IF(CW619=0,0,(CX619-CW619)/CW619*100)","v":0},null,null,{"$f":"IF(CZ619=0,0,(DA619-CZ619)/CZ619*100)","v":0},null,null,{"$f":"IF(DC619=0,0,(DD619-DC619)/DC619*100)","v":0},null,null,{"$f":"IF(DF619=0,0,(DG619-DF619)/DF619*100)","v":0},null,null,{"$f":"IF(DI619=0,0,(DJ619-DI619)/DI619*100)","v":0},null,null,{"$f":"IF(DL619=0,0,(DM619-DL619)/DL619*100)","v":0},null,null,{"$f":"IF(DO619=0,0,(DP619-DO619)/DO619*100)","v":0},null,null,{"$f":"IF(DR619=0,0,(DS619-DR619)/DR619*100)","v":0},null,null,{"$f":"IF(DU619=0,0,(DV619-DU619)/DU619*100)","v":0},null,null,{"$f":"IF(DX619=0,0,(DY619-DX619)/DX619*100)","v":0},null,null,{"$f":"IF(EA619=0,0,(EB619-EA619)/EA619*100)","v":0},null,null,{"$f":"IF(ED619=0,0,(EE619-ED619)/ED619*100)","v":0},null,null,{"$f":"IF(EG619=0,0,(EH619-EG619)/EG619*100)","v":0},null,null,{"$f":"IF(EJ619=0,0,(EK619-EJ619)/EJ619*100)","v":0},null,null,{"$f":"IF(EM619=0,0,(EN619-EM619)/EM619*100)","v":0},null,null,{"$f":"IF(EP619=0,0,(EQ619-EP619)/EP619*100)","v":0},null,null,{"$f":"IF(ES619=0,0,(ET619-ES619)/ES619*100)","v":0},null,null,{"$f":"IF(EV619=0,0,(EW619-EV619)/EV619*100)","v":0},null,null,{"$f":"IF(EY619=0,0,(EZ619-EY619)/EY619*100)","v":0},null,null,{"$f":"IF(FB619=0,0,(FC619-FB619)/FB619*100)","v":0},null,null,{"$f":"IF(FE619=0,0,(FF619-FE619)/FE619*100)","v":0}]
["1",null,"L2_1_5","для населения с 01.07 по 31.12 с НДС",null,null,{"$f":"F582=\"двухставочный\"","v":false},null,null,null,null,"величина присоединённой мощности","куб.м*час",null,null,{"$f":"IF(N620=0,0,(O620-N620)/N620*100)","v":0},null,null,{"$f":"IF(Q620=0,0,(R620-Q620)/Q620*100)","v":0},null,null,{"$f":"IF(T620=0,0,(U620-T620)/T620*100)","v":0},null,null,{"$f":"IF(W620=0,0,(X620-W620)/W620*100)","v":0},null,null,{"$f":"IF(Z620=0,0,(AA620-Z620)/Z620*100)","v":0},null,null,{"$f":"IF(AC620=0,0,(AD620-AC620)/AC620*100)","v":0},null,null,{"$f":"IF(AF620=0,0,(AG620-AF620)/AF620*100)","v":0},null,null,{"$f":"IF(AI620=0,0,(AJ620-AI620)/AI620*100)","v":0},null,null,{"$f":"IF(AL620=0,0,(AM620-AL620)/AL620*100)","v":0},null,null,{"$f":"IF(AO620=0,0,(AP620-AO620)/AO620*100)","v":0},null,null,{"$f":"IF(AR620=0,0,(AS620-AR620)/AR620*100)","v":0},null,null,{"$f":"IF(AU620=0,0,(AV620-AU620)/AU620*100)","v":0},null,null,{"$f":"IF(AX620=0,0,(AY620-AX620)/AX620*100)","v":0},null,null,{"$f":"IF(BA620=0,0,(BB620-BA620)/BA620*100)","v":0},null,null,{"$f":"IF(BD620=0,0,(BE620-BD620)/BD620*100)","v":0},null,null,{"$f":"IF(BG620=0,0,(BH620-BG620)/BG620*100)","v":0},null,null,{"$f":"IF(BJ620=0,0,(BK620-BJ620)/BJ620*100)","v":0},null,null,{"$f":"IF(BM620=0,0,(BN620-BM620)/BM620*100)","v":0},null,null,{"$f":"IF(BP620=0,0,(BQ620-BP620)/BP620*100)","v":0},null,null,{"$f":"IF(BS620=0,0,(BT620-BS620)/BS620*100)","v":0},null,null,{"$f":"IF(BV620=0,0,(BW620-BV620)/BV620*100)","v":0},null,null,{"$f":"IF(BY620=0,0,(BZ620-BY620)/BY620*100)","v":0},null,null,{"$f":"IF(CB620=0,0,(CC620-CB620)/CB620*100)","v":0},null,null,{"$f":"IF(CE620=0,0,(CF620-CE620)/CE620*100)","v":0},null,null,{"$f":"IF(CH620=0,0,(CI620-CH620)/CH620*100)","v":0},null,null,{"$f":"IF(CK620=0,0,(CL620-CK620)/CK620*100)","v":0},null,null,{"$f":"IF(CN620=0,0,(CO620-CN620)/CN620*100)","v":0},null,null,{"$f":"IF(CQ620=0,0,(CR620-CQ620)/CQ620*100)","v":0},null,null,{"$f":"IF(CT620=0,0,(CU620-CT620)/CT620*100)","v":0},null,null,{"$f":"IF(CW620=0,0,(CX620-CW620)/CW620*100)","v":0},null,null,{"$f":"IF(CZ620=0,0,(DA620-CZ620)/CZ620*100)","v":0},null,null,{"$f":"IF(DC620=0,0,(DD620-DC620)/DC620*100)","v":0},null,null,{"$f":"IF(DF620=0,0,(DG620-DF620)/DF620*100)","v":0},null,null,{"$f":"IF(DI620=0,0,(DJ620-DI620)/DI620*100)","v":0},null,null,{"$f":"IF(DL620=0,0,(DM620-DL620)/DL620*100)","v":0},null,null,{"$f":"IF(DO620=0,0,(DP620-DO620)/DO620*100)","v":0},null,null,{"$f":"IF(DR620=0,0,(DS620-DR620)/DR620*100)","v":0},null,null,{"$f":"IF(DU620=0,0,(DV620-DU620)/DU620*100)","v":0},null,null,{"$f":"IF(DX620=0,0,(DY620-DX620)/DX620*100)","v":0},null,null,{"$f":"IF(EA620=0,0,(EB620-EA620)/EA620*100)","v":0},null,null,{"$f":"IF(ED620=0,0,(EE620-ED620)/ED620*100)","v":0},null,null,{"$f":"IF(EG620=0,0,(EH620-EG620)/EG620*100)","v":0},null,null,{"$f":"IF(EJ620=0,0,(EK620-EJ620)/EJ620*100)","v":0},null,null,{"$f":"IF(EM620=0,0,(EN620-EM620)/EM620*100)","v":0},null,null,{"$f":"IF(EP620=0,0,(EQ620-EP620)/EP620*100)","v":0},null,null,{"$f":"IF(ES620=0,0,(ET620-ES620)/ES620*100)","v":0},null,null,{"$f":"IF(EV620=0,0,(EW620-EV620)/EV620*100)","v":0},null,null,{"$f":"IF(EY620=0,0,(EZ620-EY620)/EY620*100)","v":0},null,null,{"$f":"IF(FB620=0,0,(FC620-FB620)/FB620*100)","v":0},null,null,{"$f":"IF(FE620=0,0,(FF620-FE620)/FE620*100)","v":0}]
["1",null,{"$f":"A621&\"pIns2\"","v":"1pIns2"},null,null,null,{"$f":"F582=\"двухставочный\"","v":false},null,null,"д",null,"Добавить"]
["et_List16_tariff_transp"]
["1",null,null,null,null,null,null,null,null,null,null,"№ п/п",null,{"$f":"\"Тариф \" & A623","v":"Тариф 1"}]
[{"$f":"A623","v":"1"},null,null,null,null,null,null,null,null,null,null,"Вид воды / сточных вод",null,{"$f":"INDEX('Общие сведения'!$K$121:$K$135,MATCH($A624,'Общие сведения'!$D$121:$D$135,0))","v":"без дифференциации"}]
["1",null,null,null,null,null,null,null,null,null,null,"Утверждаемый тариф",null,{"$f":"INDEX('Общие сведения'!$L$121:$L$135,MATCH($A625,'Общие сведения'!$D$121:$D$135,0))","v":"тариф на водоотведение"}]
["1",null,null,null,null,null,null,null,null,null,null,"Дополнительные признаки дифференциации тарифов",null,{"$f":"INDEX('Общие сведения'!$M$121:$M$135,MATCH($A626,'Общие сведения'!$D$121:$D$135,0))","v":0}]
["1",null,"L1_1","с 01.01 по 30.06 без НДС",null,null,null,null,null,null,null,"Тариф с 01.01 по 30.06 без НДС","руб./куб.м",null,null,{"$f":"IF(N627=0,0,(O627-N627)/N627*100)","v":0},null,null,{"$f":"IF(Q627=0,0,(R627-Q627)/Q627*100)","v":0},null,null,{"$f":"IF(T627=0,0,(U627-T627)/T627*100)","v":0},null,null,{"$f":"IF(W627=0,0,(X627-W627)/W627*100)","v":0},null,null,{"$f":"IF(Z627=0,0,(AA627-Z627)/Z627*100)","v":0},null,null,{"$f":"IF(AC627=0,0,(AD627-AC627)/AC627*100)","v":0},null,null,{"$f":"IF(AF627=0,0,(AG627-AF627)/AF627*100)","v":0},null,null,{"$f":"IF(AI627=0,0,(AJ627-AI627)/AI627*100)","v":0},null,null,{"$f":"IF(AL627=0,0,(AM627-AL627)/AL627*100)","v":0},null,null,{"$f":"IF(AO627=0,0,(AP627-AO627)/AO627*100)","v":0},null,null,{"$f":"IF(AR627=0,0,(AS627-AR627)/AR627*100)","v":0},null,null,{"$f":"IF(AU627=0,0,(AV627-AU627)/AU627*100)","v":0},null,null,{"$f":"IF(AX627=0,0,(AY627-AX627)/AX627*100)","v":0},null,null,{"$f":"IF(BA627=0,0,(BB627-BA627)/BA627*100)","v":0},null,null,{"$f":"IF(BD627=0,0,(BE627-BD627)/BD627*100)","v":0},null,null,{"$f":"IF(BG627=0,0,(BH627-BG627)/BG627*100)","v":0},null,null,{"$f":"IF(BJ627=0,0,(BK627-BJ627)/BJ627*100)","v":0},null,null,{"$f":"IF(BM627=0,0,(BN627-BM627)/BM627*100)","v":0},null,null,{"$f":"IF(BP627=0,0,(BQ627-BP627)/BP627*100)","v":0},null,null,{"$f":"IF(BS627=0,0,(BT627-BS627)/BS627*100)","v":0},null,null,{"$f":"IF(BV627=0,0,(BW627-BV627)/BV627*100)","v":0},null,null,{"$f":"IF(BY627=0,0,(BZ627-BY627)/BY627*100)","v":0},null,null,{"$f":"IF(CB627=0,0,(CC627-CB627)/CB627*100)","v":0},null,null,{"$f":"IF(CE627=0,0,(CF627-CE627)/CE627*100)","v":0},null,null,{"$f":"IF(CH627=0,0,(CI627-CH627)/CH627*100)","v":0},null,null,{"$f":"IF(CK627=0,0,(CL627-CK627)/CK627*100)","v":0},null,null,{"$f":"IF(CN627=0,0,(CO627-CN627)/CN627*100)","v":0},null,null,{"$f":"IF(CQ627=0,0,(CR627-CQ627)/CQ627*100)","v":0},null,null,{"$f":"IF(CT627=0,0,(CU627-CT627)/CT627*100)","v":0},null,null,{"$f":"IF(CW627=0,0,(CX627-CW627)/CW627*100)","v":0},null,null,{"$f":"IF(CZ627=0,0,(DA627-CZ627)/CZ627*100)","v":0},null,null,{"$f":"IF(DC627=0,0,(DD627-DC627)/DC627*100)","v":0},null,null,{"$f":"IF(DF627=0,0,(DG627-DF627)/DF627*100)","v":0},null,null,{"$f":"IF(DI627=0,0,(DJ627-DI627)/DI627*100)","v":0},null,null,{"$f":"IF(DL627=0,0,(DM627-DL627)/DL627*100)","v":0},null,null,{"$f":"IF(DO627=0,0,(DP627-DO627)/DO627*100)","v":0},null,null,{"$f":"IF(DR627=0,0,(DS627-DR627)/DR627*100)","v":0},null,null,{"$f":"IF(DU627=0,0,(DV627-DU627)/DU627*100)","v":0},null,null,{"$f":"IF(DX627=0,0,(DY627-DX627)/DX627*100)","v":0},null,null,{"$f":"IF(EA627=0,0,(EB627-EA627)/EA627*100)","v":0},null,null,{"$f":"IF(ED627=0,0,(EE627-ED627)/ED627*100)","v":0},null,null,{"$f":"IF(EG627=0,0,(EH627-EG627)/EG627*100)","v":0},null,null,{"$f":"IF(EJ627=0,0,(EK627-EJ627)/EJ627*100)","v":0},null,null,{"$f":"IF(EM627=0,0,(EN627-EM627)/EM627*100)","v":0},null,null,{"$f":"IF(EP627=0,0,(EQ627-EP627)/EP627*100)","v":0},null,null,{"$f":"IF(ES627=0,0,(ET627-ES627)/ES627*100)","v":0},null,null,{"$f":"IF(EV627=0,0,(EW627-EV627)/EV627*100)","v":0},null,null,{"$f":"IF(EY627=0,0,(EZ627-EY627)/EY627*100)","v":0},null,null,{"$f":"IF(FB627=0,0,(FC627-FB627)/FB627*100)","v":0},null,null,{"$f":"IF(FE627=0,0,(FF627-FE627)/FE627*100)","v":0}]
["1",null,"L1_1","с 01.07 по 31.12 без НДС",null,null,null,null,null,null,null,"Тариф с 01.07 по 31.12 без НДС","руб./куб.м",null,null,{"$f":"IF(N628=0,0,(O628-N628)/N628*100)","v":0},null,null,{"$f":"IF(Q628=0,0,(R628-Q628)/Q628*100)","v":0},null,null,{"$f":"IF(T628=0,0,(U628-T628)/T628*100)","v":0},null,null,{"$f":"IF(W628=0,0,(X628-W628)/W628*100)","v":0},null,null,{"$f":"IF(Z628=0,0,(AA628-Z628)/Z628*100)","v":0},null,null,{"$f":"IF(AC628=0,0,(AD628-AC628)/AC628*100)","v":0},null,null,{"$f":"IF(AF628=0,0,(AG628-AF628)/AF628*100)","v":0},null,null,{"$f":"IF(AI628=0,0,(AJ628-AI628)/AI628*100)","v":0},null,null,{"$f":"IF(AL628=0,0,(AM628-AL628)/AL628*100)","v":0},null,null,{"$f":"IF(AO628=0,0,(AP628-AO628)/AO628*100)","v":0},null,null,{"$f":"IF(AR628=0,0,(AS628-AR628)/AR628*100)","v":0},null,null,{"$f":"IF(AU628=0,0,(AV628-AU628)/AU628*100)","v":0},null,null,{"$f":"IF(AX628=0,0,(AY628-AX628)/AX628*100)","v":0},null,null,{"$f":"IF(BA628=0,0,(BB628-BA628)/BA628*100)","v":0},null,null,{"$f":"IF(BD628=0,0,(BE628-BD628)/BD628*100)","v":0},null,null,{"$f":"IF(BG628=0,0,(BH628-BG628)/BG628*100)","v":0},null,null,{"$f":"IF(BJ628=0,0,(BK628-BJ628)/BJ628*100)","v":0},null,null,{"$f":"IF(BM628=0,0,(BN628-BM628)/BM628*100)","v":0},null,null,{"$f":"IF(BP628=0,0,(BQ628-BP628)/BP628*100)","v":0},null,null,{"$f":"IF(BS628=0,0,(BT628-BS628)/BS628*100)","v":0},null,null,{"$f":"IF(BV628=0,0,(BW628-BV628)/BV628*100)","v":0},null,null,{"$f":"IF(BY628=0,0,(BZ628-BY628)/BY628*100)","v":0},null,null,{"$f":"IF(CB628=0,0,(CC628-CB628)/CB628*100)","v":0},null,null,{"$f":"IF(CE628=0,0,(CF628-CE628)/CE628*100)","v":0},null,null,{"$f":"IF(CH628=0,0,(CI628-CH628)/CH628*100)","v":0},null,null,{"$f":"IF(CK628=0,0,(CL628-CK628)/CK628*100)","v":0},null,null,{"$f":"IF(CN628=0,0,(CO628-CN628)/CN628*100)","v":0},null,null,{"$f":"IF(CQ628=0,0,(CR628-CQ628)/CQ628*100)","v":0},null,null,{"$f":"IF(CT628=0,0,(CU628-CT628)/CT628*100)","v":0},null,null,{"$f":"IF(CW628=0,0,(CX628-CW628)/CW628*100)","v":0},null,null,{"$f":"IF(CZ628=0,0,(DA628-CZ628)/CZ628*100)","v":0},null,null,{"$f":"IF(DC628=0,0,(DD628-DC628)/DC628*100)","v":0},null,null,{"$f":"IF(DF628=0,0,(DG628-DF628)/DF628*100)","v":0},null,null,{"$f":"IF(DI628=0,0,(DJ628-DI628)/DI628*100)","v":0},null,null,{"$f":"IF(DL628=0,0,(DM628-DL628)/DL628*100)","v":0},null,null,{"$f":"IF(DO628=0,0,(DP628-DO628)/DO628*100)","v":0},null,null,{"$f":"IF(DR628=0,0,(DS628-DR628)/DR628*100)","v":0},null,null,{"$f":"IF(DU628=0,0,(DV628-DU628)/DU628*100)","v":0},null,null,{"$f":"IF(DX628=0,0,(DY628-DX628)/DX628*100)","v":0},null,null,{"$f":"IF(EA628=0,0,(EB628-EA628)/EA628*100)","v":0},null,null,{"$f":"IF(ED628=0,0,(EE628-ED628)/ED628*100)","v":0},null,null,{"$f":"IF(EG628=0,0,(EH628-EG628)/EG628*100)","v":0},null,null,{"$f":"IF(EJ628=0,0,(EK628-EJ628)/EJ628*100)","v":0},null,null,{"$f":"IF(EM628=0,0,(EN628-EM628)/EM628*100)","v":0},null,null,{"$f":"IF(EP628=0,0,(EQ628-EP628)/EP628*100)","v":0},null,null,{"$f":"IF(ES628=0,0,(ET628-ES628)/ES628*100)","v":0},null,null,{"$f":"IF(EV628=0,0,(EW628-EV628)/EV628*100)","v":0},null,null,{"$f":"IF(EY628=0,0,(EZ628-EY628)/EY628*100)","v":0},null,null,{"$f":"IF(FB628=0,0,(FC628-FB628)/FB628*100)","v":0},null,null,{"$f":"IF(FE628=0,0,(FF628-FE628)/FE628*100)","v":0}]
["1",null,"L1_2",null,null,null,null,null,null,null,null,"Темп роста тарифов с 01.07","%",{"$f":"IF(N627=0,0,N628/N627)*100","v":0},{"$f":"IF(O627=0,0,O628/O627)*100","v":0},null,{"$f":"IF(Q627=0,0,Q628/Q627)*100","v":0},{"$f":"IF(R627=0,0,R628/R627)*100","v":0},null,{"$f":"IF(T627=0,0,T628/T627)*100","v":0},{"$f":"IF(U627=0,0,U628/U627)*100","v":0},null,{"$f":"IF(W627=0,0,W628/W627)*100","v":0},{"$f":"IF(X627=0,0,X628/X627)*100","v":0},null,{"$f":"IF(Z627=0,0,Z628/Z627)*100","v":0},{"$f":"IF(AA627=0,0,AA628/AA627)*100","v":0},null,{"$f":"IF(AC627=0,0,AC628/AC627)*100","v":0},{"$f":"IF(AD627=0,0,AD628/AD627)*100","v":0},null,{"$f":"IF(AF627=0,0,AF628/AF627)*100","v":0},{"$f":"IF(AG627=0,0,AG628/AG627)*100","v":0},null,{"$f":"IF(AI627=0,0,AI628/AI627)*100","v":0},{"$f":"IF(AJ627=0,0,AJ628/AJ627)*100","v":0},null,{"$f":"IF(AL627=0,0,AL628/AL627)*100","v":0},{"$f":"IF(AM627=0,0,AM628/AM627)*100","v":0},null,{"$f":"IF(AO627=0,0,AO628/AO627)*100","v":0},{"$f":"IF(AP627=0,0,AP628/AP627)*100","v":0},null,{"$f":"IF(AR627=0,0,AR628/AR627)*100","v":0},{"$f":"IF(AS627=0,0,AS628/AS627)*100","v":0},null,{"$f":"IF(AU627=0,0,AU628/AU627)*100","v":0},{"$f":"IF(AV627=0,0,AV628/AV627)*100","v":0},null,{"$f":"IF(AX627=0,0,AX628/AX627)*100","v":0},{"$f":"IF(AY627=0,0,AY628/AY627)*100","v":0},null,{"$f":"IF(BA627=0,0,BA628/BA627)*100","v":0},{"$f":"IF(BB627=0,0,BB628/BB627)*100","v":0},null,{"$f":"IF(BD627=0,0,BD628/BD627)*100","v":0},{"$f":"IF(BE627=0,0,BE628/BE627)*100","v":0},null,{"$f":"IF(BG627=0,0,BG628/BG627)*100","v":0},{"$f":"IF(BH627=0,0,BH628/BH627)*100","v":0},null,{"$f":"IF(BJ627=0,0,BJ628/BJ627)*100","v":0},{"$f":"IF(BK627=0,0,BK628/BK627)*100","v":0},null,{"$f":"IF(BM627=0,0,BM628/BM627)*100","v":0},{"$f":"IF(BN627=0,0,BN628/BN627)*100","v":0},null,{"$f":"IF(BP627=0,0,BP628/BP627)*100","v":0},{"$f":"IF(BQ627=0,0,BQ628/BQ627)*100","v":0},null,{"$f":"IF(BS627=0,0,BS628/BS627)*100","v":0},{"$f":"IF(BT627=0,0,BT628/BT627)*100","v":0},null,{"$f":"IF(BV627=0,0,BV628/BV627)*100","v":0},{"$f":"IF(BW627=0,0,BW628/BW627)*100","v":0},null,{"$f":"IF(BY627=0,0,BY628/BY627)*100","v":0},{"$f":"IF(BZ627=0,0,BZ628/BZ627)*100","v":0},null,{"$f":"IF(CB627=0,0,CB628/CB627)*100","v":0},{"$f":"IF(CC627=0,0,CC628/CC627)*100","v":0},null,{"$f":"IF(CE627=0,0,CE628/CE627)*100","v":0},{"$f":"IF(CF627=0,0,CF628/CF627)*100","v":0},null,{"$f":"IF(CH627=0,0,CH628/CH627)*100","v":0},{"$f":"IF(CI627=0,0,CI628/CI627)*100","v":0},null,{"$f":"IF(CK627=0,0,CK628/CK627)*100","v":0},{"$f":"IF(CL627=0,0,CL628/CL627)*100","v":0},null,{"$f":"IF(CN627=0,0,CN628/CN627)*100","v":0},{"$f":"IF(CO627=0,0,CO628/CO627)*100","v":0},null,{"$f":"IF(CQ627=0,0,CQ628/CQ627)*100","v":0},{"$f":"IF(CR627=0,0,CR628/CR627)*100","v":0},null,{"$f":"IF(CT627=0,0,CT628/CT627)*100","v":0},{"$f":"IF(CU627=0,0,CU628/CU627)*100","v":0},null,{"$f":"IF(CW627=0,0,CW628/CW627)*100","v":0},{"$f":"IF(CX627=0,0,CX628/CX627)*100","v":0},null,{"$f":"IF(CZ627=0,0,CZ628/CZ627)*100","v":0},{"$f":"IF(DA627=0,0,DA628/DA627)*100","v":0},null,{"$f":"IF(DC627=0,0,DC628/DC627)*100","v":0},{"$f":"IF(DD627=0,0,DD628/DD627)*100","v":0},null,{"$f":"IF(DF627=0,0,DF628/DF627)*100","v":0},{"$f":"IF(DG627=0,0,DG628/DG627)*100","v":0},null,{"$f":"IF(DI627=0,0,DI628/DI627)*100","v":0},{"$f":"IF(DJ627=0,0,DJ628/DJ627)*100","v":0},null,{"$f":"IF(DL627=0,0,DL628/DL627)*100","v":0},{"$f":"IF(DM627=0,0,DM628/DM627)*100","v":0},null,{"$f":"IF(DO627=0,0,DO628/DO627)*100","v":0},{"$f":"IF(DP627=0,0,DP628/DP627)*100","v":0},null,{"$f":"IF(DR627=0,0,DR628/DR627)*100","v":0},{"$f":"IF(DS627=0,0,DS628/DS627)*100","v":0},null,{"$f":"IF(DU627=0,0,DU628/DU627)*100","v":0},{"$f":"IF(DV627=0,0,DV628/DV627)*100","v":0},null,{"$f":"IF(DX627=0,0,DX628/DX627)*100","v":0},{"$f":"IF(DY627=0,0,DY628/DY627)*100","v":0},null,{"$f":"IF(EA627=0,0,EA628/EA627)*100","v":0},{"$f":"IF(EB627=0,0,EB628/EB627)*100","v":0},null,{"$f":"IF(ED627=0,0,ED628/ED627)*100","v":0},{"$f":"IF(EE627=0,0,EE628/EE627)*100","v":0},null,{"$f":"IF(EG627=0,0,EG628/EG627)*100","v":0},{"$f":"IF(EH627=0,0,EH628/EH627)*100","v":0},null,{"$f":"IF(EJ627=0,0,EJ628/EJ627)*100","v":0},{"$f":"IF(EK627=0,0,EK628/EK627)*100","v":0},null,{"$f":"IF(EM627=0,0,EM628/EM627)*100","v":0},{"$f":"IF(EN627=0,0,EN628/EN627)*100","v":0},null,{"$f":"IF(EP627=0,0,EP628/EP627)*100","v":0},{"$f":"IF(EQ627=0,0,EQ628/EQ627)*100","v":0},null,{"$f":"IF(ES627=0,0,ES628/ES627)*100","v":0},{"$f":"IF(ET627=0,0,ET628/ET627)*100","v":0},null,{"$f":"IF(EV627=0,0,EV628/EV627)*100","v":0},{"$f":"IF(EW627=0,0,EW628/EW627)*100","v":0},null,{"$f":"IF(EY627=0,0,EY628/EY627)*100","v":0},{"$f":"IF(EZ627=0,0,EZ628/EZ627)*100","v":0},null,{"$f":"IF(FB627=0,0,FB628/FB627)*100","v":0},{"$f":"IF(FC627=0,0,FC628/FC627)*100","v":0},null,{"$f":"IF(FE627=0,0,FE628/FE627)*100","v":0},{"$f":"IF(FF627=0,0,FF628/FF627)*100","v":0}]
["1",null,{"$f":"A630&\"pIns3\"","v":"1pIns3"},null,null,null,null,null,null,"т",null,"Добавить"]
["et_List16_line_o"]
[{"$f":"OFFSET(A632,-1,0)","v":"et_List16_line_o"},null,"L1_1",{"$f":"L632","v":0},null,null,{"$f":"OFFSET(G632,-1,0)","v":0},null,null,null,"О",null,"руб./куб.м",null,null,{"$f":"IF(N632=0,0,(O632-N632)/N632*100)","v":0},null,null,{"$f":"IF(Q632=0,0,(R632-Q632)/Q632*100)","v":0},null,null,{"$f":"IF(T632=0,0,(U632-T632)/T632*100)","v":0},null,null,{"$f":"IF(W632=0,0,(X632-W632)/W632*100)","v":0},null,null,{"$f":"IF(Z632=0,0,(AA632-Z632)/Z632*100)","v":0},null,null,{"$f":"IF(AC632=0,0,(AD632-AC632)/AC632*100)","v":0},null,null,{"$f":"IF(AF632=0,0,(AG632-AF632)/AF632*100)","v":0},null,null,{"$f":"IF(AI632=0,0,(AJ632-AI632)/AI632*100)","v":0},null,null,{"$f":"IF(AL632=0,0,(AM632-AL632)/AL632*100)","v":0},null,null,{"$f":"IF(AO632=0,0,(AP632-AO632)/AO632*100)","v":0},null,null,{"$f":"IF(AR632=0,0,(AS632-AR632)/AR632*100)","v":0},null,null,{"$f":"IF(AU632=0,0,(AV632-AU632)/AU632*100)","v":0},null,null,{"$f":"IF(AX632=0,0,(AY632-AX632)/AX632*100)","v":0},null,null,{"$f":"IF(BA632=0,0,(BB632-BA632)/BA632*100)","v":0},null,null,{"$f":"IF(BD632=0,0,(BE632-BD632)/BD632*100)","v":0},null,null,{"$f":"IF(BG632=0,0,(BH632-BG632)/BG632*100)","v":0},null,null,{"$f":"IF(BJ632=0,0,(BK632-BJ632)/BJ632*100)","v":0},null,null,{"$f":"IF(BM632=0,0,(BN632-BM632)/BM632*100)","v":0},null,null,{"$f":"IF(BP632=0,0,(BQ632-BP632)/BP632*100)","v":0},null,null,{"$f":"IF(BS632=0,0,(BT632-BS632)/BS632*100)","v":0},null,null,{"$f":"IF(BV632=0,0,(BW632-BV632)/BV632*100)","v":0},null,null,{"$f":"IF(BY632=0,0,(BZ632-BY632)/BY632*100)","v":0},null,null,{"$f":"IF(CB632=0,0,(CC632-CB632)/CB632*100)","v":0},null,null,{"$f":"IF(CE632=0,0,(CF632-CE632)/CE632*100)","v":0},null,null,{"$f":"IF(CH632=0,0,(CI632-CH632)/CH632*100)","v":0},null,null,{"$f":"IF(CK632=0,0,(CL632-CK632)/CK632*100)","v":0},null,null,{"$f":"IF(CN632=0,0,(CO632-CN632)/CN632*100)","v":0},null,null,{"$f":"IF(CQ632=0,0,(CR632-CQ632)/CQ632*100)","v":0},null,null,{"$f":"IF(CT632=0,0,(CU632-CT632)/CT632*100)","v":0},null,null,{"$f":"IF(CW632=0,0,(CX632-CW632)/CW632*100)","v":0},null,null,{"$f":"IF(CZ632=0,0,(DA632-CZ632)/CZ632*100)","v":0},null,null,{"$f":"IF(DC632=0,0,(DD632-DC632)/DC632*100)","v":0},null,null,{"$f":"IF(DF632=0,0,(DG632-DF632)/DF632*100)","v":0},null,null,{"$f":"IF(DI632=0,0,(DJ632-DI632)/DI632*100)","v":0},null,null,{"$f":"IF(DL632=0,0,(DM632-DL632)/DL632*100)","v":0},null,null,{"$f":"IF(DO632=0,0,(DP632-DO632)/DO632*100)","v":0},null,null,{"$f":"IF(DR632=0,0,(DS632-DR632)/DR632*100)","v":0},null,null,{"$f":"IF(DU632=0,0,(DV632-DU632)/DU632*100)","v":0},null,null,{"$f":"IF(DX632=0,0,(DY632-DX632)/DX632*100)","v":0},null,null,{"$f":"IF(EA632=0,0,(EB632-EA632)/EA632*100)","v":0},null,null,{"$f":"IF(ED632=0,0,(EE632-ED632)/ED632*100)","v":0},null,null,{"$f":"IF(EG632=0,0,(EH632-EG632)/EG632*100)","v":0},null,null,{"$f":"IF(EJ632=0,0,(EK632-EJ632)/EJ632*100)","v":0},null,null,{"$f":"IF(EM632=0,0,(EN632-EM632)/EM632*100)","v":0},null,null,{"$f":"IF(EP632=0,0,(EQ632-EP632)/EP632*100)","v":0},null,null,{"$f":"IF(ES632=0,0,(ET632-ES632)/ES632*100)","v":0},null,null,{"$f":"IF(EV632=0,0,(EW632-EV632)/EV632*100)","v":0},null,null,{"$f":"IF(EY632=0,0,(EZ632-EY632)/EY632*100)","v":0},null,null,{"$f":"IF(FB632=0,0,(FC632-FB632)/FB632*100)","v":0},null,null,{"$f":"IF(FE632=0,0,(FF632-FE632)/FE632*100)","v":0}]
[{"$f":"OFFSET(A633,-1,0)","v":"et_List16_line_o"},null,"L1_3",{"$f":"D632","v":0},null,null,{"$f":"OFFSET(G633,-1,0)","v":0},null,null,null,null,"Объём реализации услуги","тыс.куб.м",null,null,{"$f":"IF(N633=0,0,(O633-N633)/N633*100)","v":0},null,null,{"$f":"IF(Q633=0,0,(R633-Q633)/Q633*100)","v":0},null,null,{"$f":"IF(T633=0,0,(U633-T633)/T633*100)","v":0},null,null,{"$f":"IF(W633=0,0,(X633-W633)/W633*100)","v":0},null,null,{"$f":"IF(Z633=0,0,(AA633-Z633)/Z633*100)","v":0},null,null,{"$f":"IF(AC633=0,0,(AD633-AC633)/AC633*100)","v":0},null,null,{"$f":"IF(AF633=0,0,(AG633-AF633)/AF633*100)","v":0},null,null,{"$f":"IF(AI633=0,0,(AJ633-AI633)/AI633*100)","v":0},null,null,{"$f":"IF(AL633=0,0,(AM633-AL633)/AL633*100)","v":0},null,null,{"$f":"IF(AO633=0,0,(AP633-AO633)/AO633*100)","v":0},null,null,{"$f":"IF(AR633=0,0,(AS633-AR633)/AR633*100)","v":0},null,null,{"$f":"IF(AU633=0,0,(AV633-AU633)/AU633*100)","v":0},null,null,{"$f":"IF(AX633=0,0,(AY633-AX633)/AX633*100)","v":0},null,null,{"$f":"IF(BA633=0,0,(BB633-BA633)/BA633*100)","v":0},null,null,{"$f":"IF(BD633=0,0,(BE633-BD633)/BD633*100)","v":0},null,null,{"$f":"IF(BG633=0,0,(BH633-BG633)/BG633*100)","v":0},null,null,{"$f":"IF(BJ633=0,0,(BK633-BJ633)/BJ633*100)","v":0},null,null,{"$f":"IF(BM633=0,0,(BN633-BM633)/BM633*100)","v":0},null,null,{"$f":"IF(BP633=0,0,(BQ633-BP633)/BP633*100)","v":0},null,null,{"$f":"IF(BS633=0,0,(BT633-BS633)/BS633*100)","v":0},null,null,{"$f":"IF(BV633=0,0,(BW633-BV633)/BV633*100)","v":0},null,null,{"$f":"IF(BY633=0,0,(BZ633-BY633)/BY633*100)","v":0},null,null,{"$f":"IF(CB633=0,0,(CC633-CB633)/CB633*100)","v":0},null,null,{"$f":"IF(CE633=0,0,(CF633-CE633)/CE633*100)","v":0},null,null,{"$f":"IF(CH633=0,0,(CI633-CH633)/CH633*100)","v":0},null,null,{"$f":"IF(CK633=0,0,(CL633-CK633)/CK633*100)","v":0},null,null,{"$f":"IF(CN633=0,0,(CO633-CN633)/CN633*100)","v":0},null,null,{"$f":"IF(CQ633=0,0,(CR633-CQ633)/CQ633*100)","v":0},null,null,{"$f":"IF(CT633=0,0,(CU633-CT633)/CT633*100)","v":0},null,null,{"$f":"IF(CW633=0,0,(CX633-CW633)/CW633*100)","v":0},null,null,{"$f":"IF(CZ633=0,0,(DA633-CZ633)/CZ633*100)","v":0},null,null,{"$f":"IF(DC633=0,0,(DD633-DC633)/DC633*100)","v":0},null,null,{"$f":"IF(DF633=0,0,(DG633-DF633)/DF633*100)","v":0},null,null,{"$f":"IF(DI633=0,0,(DJ633-DI633)/DI633*100)","v":0},null,null,{"$f":"IF(DL633=0,0,(DM633-DL633)/DL633*100)","v":0},null,null,{"$f":"IF(DO633=0,0,(DP633-DO633)/DO633*100)","v":0},null,null,{"$f":"IF(DR633=0,0,(DS633-DR633)/DR633*100)","v":0},null,null,{"$f":"IF(DU633=0,0,(DV633-DU633)/DU633*100)","v":0},null,null,{"$f":"IF(DX633=0,0,(DY633-DX633)/DX633*100)","v":0},null,null,{"$f":"IF(EA633=0,0,(EB633-EA633)/EA633*100)","v":0},null,null,{"$f":"IF(ED633=0,0,(EE633-ED633)/ED633*100)","v":0},null,null,{"$f":"IF(EG633=0,0,(EH633-EG633)/EG633*100)","v":0},null,null,{"$f":"IF(EJ633=0,0,(EK633-EJ633)/EJ633*100)","v":0},null,null,{"$f":"IF(EM633=0,0,(EN633-EM633)/EM633*100)","v":0},null,null,{"$f":"IF(EP633=0,0,(EQ633-EP633)/EP633*100)","v":0},null,null,{"$f":"IF(ES633=0,0,(ET633-ES633)/ES633*100)","v":0},null,null,{"$f":"IF(EV633=0,0,(EW633-EV633)/EV633*100)","v":0},null,null,{"$f":"IF(EY633=0,0,(EZ633-EY633)/EY633*100)","v":0},null,null,{"$f":"IF(FB633=0,0,(FC633-FB633)/FB633*100)","v":0},null,null,{"$f":"IF(FE633=0,0,(FF633-FE633)/FE633*100)","v":0}]
["et_List16_line_d"]
[{"$f":"OFFSET(A635,-1,0)","v":"et_List16_line_d"},null,null,null,null,null,{"$f":"OFFSET(G635,-1,0)","v":0},null,null,null,"О"]
["et_List16_line_d",null,"L2_1_1",{"$f":"L635","v":0},null,null,0,null,null,null,null,"перевод двухставочного тарифа в одноставочный тариф","руб./куб.м",{"$f":"IF(N638=0,0,(N637*N638+N639*N640*6)/N638)","v":0},{"$f":"IF(O638=0,0,(O637*O638+O639*O640*6)/O638)","v":0},{"$f":"IF(N636=0,0,(O636-N636)/N636*100)","v":0},{"$f":"IF(Q638=0,0,(Q637*Q638+Q639*Q640*6)/Q638)","v":0},{"$f":"IF(R638=0,0,(R637*R638+R639*R640*6)/R638)","v":0},{"$f":"IF(Q636=0,0,(R636-Q636)/Q636*100)","v":0},{"$f":"IF(T638=0,0,(T637*T638+T639*T640*6)/T638)","v":0},{"$f":"IF(U638=0,0,(U637*U638+U639*U640*6)/U638)","v":0},{"$f":"IF(T636=0,0,(U636-T636)/T636*100)","v":0},{"$f":"IF(W638=0,0,(W637*W638+W639*W640*6)/W638)","v":0},{"$f":"IF(X638=0,0,(X637*X638+X639*X640*6)/X638)","v":0},{"$f":"IF(W636=0,0,(X636-W636)/W636*100)","v":0},{"$f":"IF(Z638=0,0,(Z637*Z638+Z639*Z640*6)/Z638)","v":0},{"$f":"IF(AA638=0,0,(AA637*AA638+AA639*AA640*6)/AA638)","v":0},{"$f":"IF(Z636=0,0,(AA636-Z636)/Z636*100)","v":0},{"$f":"IF(AC638=0,0,(AC637*AC638+AC639*AC640*6)/AC638)","v":0},{"$f":"IF(AD638=0,0,(AD637*AD638+AD639*AD640*6)/AD638)","v":0},{"$f":"IF(AC636=0,0,(AD636-AC636)/AC636*100)","v":0},{"$f":"IF(AF638=0,0,(AF637*AF638+AF639*AF640*6)/AF638)","v":0},{"$f":"IF(AG638=0,0,(AG637*AG638+AG639*AG640*6)/AG638)","v":0},{"$f":"IF(AF636=0,0,(AG636-AF636)/AF636*100)","v":0},{"$f":"IF(AI638=0,0,(AI637*AI638+AI639*AI640*6)/AI638)","v":0},{"$f":"IF(AJ638=0,0,(AJ637*AJ638+AJ639*AJ640*6)/AJ638)","v":0},{"$f":"IF(AI636=0,0,(AJ636-AI636)/AI636*100)","v":0},{"$f":"IF(AL638=0,0,(AL637*AL638+AL639*AL640*6)/AL638)","v":0},{"$f":"IF(AM638=0,0,(AM637*AM638+AM639*AM640*6)/AM638)","v":0},{"$f":"IF(AL636=0,0,(AM636-AL636)/AL636*100)","v":0},{"$f":"IF(AO638=0,0,(AO637*AO638+AO639*AO640*6)/AO638)","v":0},{"$f":"IF(AP638=0,0,(AP637*AP638+AP639*AP640*6)/AP638)","v":0},{"$f":"IF(AO636=0,0,(AP636-AO636)/AO636*100)","v":0},{"$f":"IF(AR638=0,0,(AR637*AR638+AR639*AR640*6)/AR638)","v":0},{"$f":"IF(AS638=0,0,(AS637*AS638+AS639*AS640*6)/AS638)","v":0},{"$f":"IF(AR636=0,0,(AS636-AR636)/AR636*100)","v":0},{"$f":"IF(AU638=0,0,(AU637*AU638+AU639*AU640*6)/AU638)","v":0},{"$f":"IF(AV638=0,0,(AV637*AV638+AV639*AV640*6)/AV638)","v":0},{"$f":"IF(AU636=0,0,(AV636-AU636)/AU636*100)","v":0},{"$f":"IF(AX638=0,0,(AX637*AX638+AX639*AX640*6)/AX638)","v":0},{"$f":"IF(AY638=0,0,(AY637*AY638+AY639*AY640*6)/AY638)","v":0},{"$f":"IF(AX636=0,0,(AY636-AX636)/AX636*100)","v":0},{"$f":"IF(BA638=0,0,(BA637*BA638+BA639*BA640*6)/BA638)","v":0},{"$f":"IF(BB638=0,0,(BB637*BB638+BB639*BB640*6)/BB638)","v":0},{"$f":"IF(BA636=0,0,(BB636-BA636)/BA636*100)","v":0},{"$f":"IF(BD638=0,0,(BD637*BD638+BD639*BD640*6)/BD638)","v":0},{"$f":"IF(BE638=0,0,(BE637*BE638+BE639*BE640*6)/BE638)","v":0},{"$f":"IF(BD636=0,0,(BE636-BD636)/BD636*100)","v":0},{"$f":"IF(BG638=0,0,(BG637*BG638+BG639*BG640*6)/BG638)","v":0},{"$f":"IF(BH638=0,0,(BH637*BH638+BH639*BH640*6)/BH638)","v":0},{"$f":"IF(BG636=0,0,(BH636-BG636)/BG636*100)","v":0},{"$f":"IF(BJ638=0,0,(BJ637*BJ638+BJ639*BJ640*6)/BJ638)","v":0},{"$f":"IF(BK638=0,0,(BK637*BK638+BK639*BK640*6)/BK638)","v":0},{"$f":"IF(BJ636=0,0,(BK636-BJ636)/BJ636*100)","v":0},{"$f":"IF(BM638=0,0,(BM637*BM638+BM639*BM640*6)/BM638)","v":0},{"$f":"IF(BN638=0,0,(BN637*BN638+BN639*BN640*6)/BN638)","v":0},{"$f":"IF(BM636=0,0,(BN636-BM636)/BM636*100)","v":0},{"$f":"IF(BP638=0,0,(BP637*BP638+BP639*BP640*6)/BP638)","v":0},{"$f":"IF(BQ638=0,0,(BQ637*BQ638+BQ639*BQ640*6)/BQ638)","v":0},{"$f":"IF(BP636=0,0,(BQ636-BP636)/BP636*100)","v":0},{"$f":"IF(BS638=0,0,(BS637*BS638+BS639*BS640*6)/BS638)","v":0},{"$f":"IF(BT638=0,0,(BT637*BT638+BT639*BT640*6)/BT638)","v":0},{"$f":"IF(BS636=0,0,(BT636-BS636)/BS636*100)","v":0},{"$f":"IF(BV638=0,0,(BV637*BV638+BV639*BV640*6)/BV638)","v":0},{"$f":"IF(BW638=0,0,(BW637*BW638+BW639*BW640*6)/BW638)","v":0},{"$f":"IF(BV636=0,0,(BW636-BV636)/BV636*100)","v":0},{"$f":"IF(BY638=0,0,(BY637*BY638+BY639*BY640*6)/BY638)","v":0},{"$f":"IF(BZ638=0,0,(BZ637*BZ638+BZ639*BZ640*6)/BZ638)","v":0},{"$f":"IF(BY636=0,0,(BZ636-BY636)/BY636*100)","v":0},{"$f":"IF(CB638=0,0,(CB637*CB638+CB639*CB640*6)/CB638)","v":0},{"$f":"IF(CC638=0,0,(CC637*CC638+CC639*CC640*6)/CC638)","v":0},{"$f":"IF(CB636=0,0,(CC636-CB636)/CB636*100)","v":0},{"$f":"IF(CE638=0,0,(CE637*CE638+CE639*CE640*6)/CE638)","v":0},{"$f":"IF(CF638=0,0,(CF637*CF638+CF639*CF640*6)/CF638)","v":0},{"$f":"IF(CE636=0,0,(CF636-CE636)/CE636*100)","v":0},{"$f":"IF(CH638=0,0,(CH637*CH638+CH639*CH640*6)/CH638)","v":0},{"$f":"IF(CI638=0,0,(CI637*CI638+CI639*CI640*6)/CI638)","v":0},{"$f":"IF(CH636=0,0,(CI636-CH636)/CH636*100)","v":0},{"$f":"IF(CK638=0,0,(CK637*CK638+CK639*CK640*6)/CK638)","v":0},{"$f":"IF(CL638=0,0,(CL637*CL638+CL639*CL640*6)/CL638)","v":0},{"$f":"IF(CK636=0,0,(CL636-CK636)/CK636*100)","v":0},{"$f":"IF(CN638=0,0,(CN637*CN638+CN639*CN640*6)/CN638)","v":0},{"$f":"IF(CO638=0,0,(CO637*CO638+CO639*CO640*6)/CO638)","v":0},{"$f":"IF(CN636=0,0,(CO636-CN636)/CN636*100)","v":0},{"$f":"IF(CQ638=0,0,(CQ637*CQ638+CQ639*CQ640*6)/CQ638)","v":0},{"$f":"IF(CR638=0,0,(CR637*CR638+CR639*CR640*6)/CR638)","v":0},{"$f":"IF(CQ636=0,0,(CR636-CQ636)/CQ636*100)","v":0},{"$f":"IF(CT638=0,0,(CT637*CT638+CT639*CT640*6)/CT638)","v":0},{"$f":"IF(CU638=0,0,(CU637*CU638+CU639*CU640*6)/CU638)","v":0},{"$f":"IF(CT636=0,0,(CU636-CT636)/CT636*100)","v":0},{"$f":"IF(CW638=0,0,(CW637*CW638+CW639*CW640*6)/CW638)","v":0},{"$f":"IF(CX638=0,0,(CX637*CX638+CX639*CX640*6)/CX638)","v":0},{"$f":"IF(CW636=0,0,(CX636-CW636)/CW636*100)","v":0},{"$f":"IF(CZ638=0,0,(CZ637*CZ638+CZ639*CZ640*6)/CZ638)","v":0},{"$f":"IF(DA638=0,0,(DA637*DA638+DA639*DA640*6)/DA638)","v":0},{"$f":"IF(CZ636=0,0,(DA636-CZ636)/CZ636*100)","v":0},{"$f":"IF(DC638=0,0,(DC637*DC638+DC639*DC640*6)/DC638)","v":0},{"$f":"IF(DD638=0,0,(DD637*DD638+DD639*DD640*6)/DD638)","v":0},{"$f":"IF(DC636=0,0,(DD636-DC636)/DC636*100)","v":0},{"$f":"IF(DF638=0,0,(DF637*DF638+DF639*DF640*6)/DF638)","v":0},{"$f":"IF(DG638=0,0,(DG637*DG638+DG639*DG640*6)/DG638)","v":0},{"$f":"IF(DF636=0,0,(DG636-DF636)/DF636*100)","v":0},{"$f":"IF(DI638=0,0,(DI637*DI638+DI639*DI640*6)/DI638)","v":0},{"$f":"IF(DJ638=0,0,(DJ637*DJ638+DJ639*DJ640*6)/DJ638)","v":0},{"$f":"IF(DI636=0,0,(DJ636-DI636)/DI636*100)","v":0},{"$f":"IF(DL638=0,0,(DL637*DL638+DL639*DL640*6)/DL638)","v":0},{"$f":"IF(DM638=0,0,(DM637*DM638+DM639*DM640*6)/DM638)","v":0},{"$f":"IF(DL636=0,0,(DM636-DL636)/DL636*100)","v":0},{"$f":"IF(DO638=0,0,(DO637*DO638+DO639*DO640*6)/DO638)","v":0},{"$f":"IF(DP638=0,0,(DP637*DP638+DP639*DP640*6)/DP638)","v":0},{"$f":"IF(DO636=0,0,(DP636-DO636)/DO636*100)","v":0},{"$f":"IF(DR638=0,0,(DR637*DR638+DR639*DR640*6)/DR638)","v":0},{"$f":"IF(DS638=0,0,(DS637*DS638+DS639*DS640*6)/DS638)","v":0},{"$f":"IF(DR636=0,0,(DS636-DR636)/DR636*100)","v":0},{"$f":"IF(DU638=0,0,(DU637*DU638+DU639*DU640*6)/DU638)","v":0},{"$f":"IF(DV638=0,0,(DV637*DV638+DV639*DV640*6)/DV638)","v":0},{"$f":"IF(DU636=0,0,(DV636-DU636)/DU636*100)","v":0},{"$f":"IF(DX638=0,0,(DX637*DX638+DX639*DX640*6)/DX638)","v":0},{"$f":"IF(DY638=0,0,(DY637*DY638+DY639*DY640*6)/DY638)","v":0},{"$f":"IF(DX636=0,0,(DY636-DX636)/DX636*100)","v":0},{"$f":"IF(EA638=0,0,(EA637*EA638+EA639*EA640*6)/EA638)","v":0},{"$f":"IF(EB638=0,0,(EB637*EB638+EB639*EB640*6)/EB638)","v":0},{"$f":"IF(EA636=0,0,(EB636-EA636)/EA636*100)","v":0},{"$f":"IF(ED638=0,0,(ED637*ED638+ED639*ED640*6)/ED638)","v":0},{"$f":"IF(EE638=0,0,(EE637*EE638+EE639*EE640*6)/EE638)","v":0},{"$f":"IF(ED636=0,0,(EE636-ED636)/ED636*100)","v":0},{"$f":"IF(EG638=0,0,(EG637*EG638+EG639*EG640*6)/EG638)","v":0},{"$f":"IF(EH638=0,0,(EH637*EH638+EH639*EH640*6)/EH638)","v":0},{"$f":"IF(EG636=0,0,(EH636-EG636)/EG636*100)","v":0},{"$f":"IF(EJ638=0,0,(EJ637*EJ638+EJ639*EJ640*6)/EJ638)","v":0},{"$f":"IF(EK638=0,0,(EK637*EK638+EK639*EK640*6)/EK638)","v":0},{"$f":"IF(EJ636=0,0,(EK636-EJ636)/EJ636*100)","v":0},{"$f":"IF(EM638=0,0,(EM637*EM638+EM639*EM640*6)/EM638)","v":0},{"$f":"IF(EN638=0,0,(EN637*EN638+EN639*EN640*6)/EN638)","v":0},{"$f":"IF(EM636=0,0,(EN636-EM636)/EM636*100)","v":0},{"$f":"IF(EP638=0,0,(EP637*EP638+EP639*EP640*6)/EP638)","v":0},{"$f":"IF(EQ638=0,0,(EQ637*EQ638+EQ639*EQ640*6)/EQ638)","v":0},{"$f":"IF(EP636=0,0,(EQ636-EP636)/EP636*100)","v":0},{"$f":"IF(ES638=0,0,(ES637*ES638+ES639*ES640*6)/ES638)","v":0},{"$f":"IF(ET638=0,0,(ET637*ET638+ET639*ET640*6)/ET638)","v":0},{"$f":"IF(ES636=0,0,(ET636-ES636)/ES636*100)","v":0},{"$f":"IF(EV638=0,0,(EV637*EV638+EV639*EV640*6)/EV638)","v":0},{"$f":"IF(EW638=0,0,(EW637*EW638+EW639*EW640*6)/EW638)","v":0},{"$f":"IF(EV636=0,0,(EW636-EV636)/EV636*100)","v":0},{"$f":"IF(EY638=0,0,(EY637*EY638+EY639*EY640*6)/EY638)","v":0},{"$f":"IF(EZ638=0,0,(EZ637*EZ638+EZ639*EZ640*6)/EZ638)","v":0},{"$f":"IF(EY636=0,0,(EZ636-EY636)/EY636*100)","v":0},{"$f":"IF(FB638=0,0,(FB637*FB638+FB639*FB640*6)/FB638)","v":0},{"$f":"IF(FC638=0,0,(FC637*FC638+FC639*FC640*6)/FC638)","v":0},{"$f":"IF(FB636=0,0,(FC636-FB636)/FB636*100)","v":0},{"$f":"IF(FE638=0,0,(FE637*FE638+FE639*FE640*6)/FE638)","v":0},{"$f":"IF(FF638=0,0,(FF637*FF638+FF639*FF640*6)/FF638)","v":0},{"$f":"IF(FE636=0,0,(FF636-FE636)/FE636*100)","v":0}]
["et_List16_line_d",null,"L2_1_2",{"$f":"D636","v":0},null,null,0,null,null,null,null,"ставка платы за потребление 1 куб.м холодной воды","руб./куб.м",null,null,{"$f":"IF(N637=0,0,(O637-N637)/N637*100)","v":0},null,null,{"$f":"IF(Q637=0,0,(R637-Q637)/Q637*100)","v":0},null,null,{"$f":"IF(T637=0,0,(U637-T637)/T637*100)","v":0},null,null,{"$f":"IF(W637=0,0,(X637-W637)/W637*100)","v":0},null,null,{"$f":"IF(Z637=0,0,(AA637-Z637)/Z637*100)","v":0},null,null,{"$f":"IF(AC637=0,0,(AD637-AC637)/AC637*100)","v":0},null,null,{"$f":"IF(AF637=0,0,(AG637-AF637)/AF637*100)","v":0},null,null,{"$f":"IF(AI637=0,0,(AJ637-AI637)/AI637*100)","v":0},null,null,{"$f":"IF(AL637=0,0,(AM637-AL637)/AL637*100)","v":0},null,null,{"$f":"IF(AO637=0,0,(AP637-AO637)/AO637*100)","v":0},null,null,{"$f":"IF(AR637=0,0,(AS637-AR637)/AR637*100)","v":0},null,null,{"$f":"IF(AU637=0,0,(AV637-AU637)/AU637*100)","v":0},null,null,{"$f":"IF(AX637=0,0,(AY637-AX637)/AX637*100)","v":0},null,null,{"$f":"IF(BA637=0,0,(BB637-BA637)/BA637*100)","v":0},null,null,{"$f":"IF(BD637=0,0,(BE637-BD637)/BD637*100)","v":0},null,null,{"$f":"IF(BG637=0,0,(BH637-BG637)/BG637*100)","v":0},null,null,{"$f":"IF(BJ637=0,0,(BK637-BJ637)/BJ637*100)","v":0},null,null,{"$f":"IF(BM637=0,0,(BN637-BM637)/BM637*100)","v":0},null,null,{"$f":"IF(BP637=0,0,(BQ637-BP637)/BP637*100)","v":0},null,null,{"$f":"IF(BS637=0,0,(BT637-BS637)/BS637*100)","v":0},null,null,{"$f":"IF(BV637=0,0,(BW637-BV637)/BV637*100)","v":0},null,null,{"$f":"IF(BY637=0,0,(BZ637-BY637)/BY637*100)","v":0},null,null,{"$f":"IF(CB637=0,0,(CC637-CB637)/CB637*100)","v":0},null,null,{"$f":"IF(CE637=0,0,(CF637-CE637)/CE637*100)","v":0},null,null,{"$f":"IF(CH637=0,0,(CI637-CH637)/CH637*100)","v":0},null,null,{"$f":"IF(CK637=0,0,(CL637-CK637)/CK637*100)","v":0},null,null,{"$f":"IF(CN637=0,0,(CO637-CN637)/CN637*100)","v":0},null,null,{"$f":"IF(CQ637=0,0,(CR637-CQ637)/CQ637*100)","v":0},null,null,{"$f":"IF(CT637=0,0,(CU637-CT637)/CT637*100)","v":0},null,null,{"$f":"IF(CW637=0,0,(CX637-CW637)/CW637*100)","v":0},null,null,{"$f":"IF(CZ637=0,0,(DA637-CZ637)/CZ637*100)","v":0},null,null,{"$f":"IF(DC637=0,0,(DD637-DC637)/DC637*100)","v":0},null,null,{"$f":"IF(DF637=0,0,(DG637-DF637)/DF637*100)","v":0},null,null,{"$f":"IF(DI637=0,0,(DJ637-DI637)/DI637*100)","v":0},null,null,{"$f":"IF(DL637=0,0,(DM637-DL637)/DL637*100)","v":0},null,null,{"$f":"IF(DO637=0,0,(DP637-DO637)/DO637*100)","v":0},null,null,{"$f":"IF(DR637=0,0,(DS637-DR637)/DR637*100)","v":0},null,null,{"$f":"IF(DU637=0,0,(DV637-DU637)/DU637*100)","v":0},null,null,{"$f":"IF(DX637=0,0,(DY637-DX637)/DX637*100)","v":0},null,null,{"$f":"IF(EA637=0,0,(EB637-EA637)/EA637*100)","v":0},null,null,{"$f":"IF(ED637=0,0,(EE637-ED637)/ED637*100)","v":0},null,null,{"$f":"IF(EG637=0,0,(EH637-EG637)/EG637*100)","v":0},null,null,{"$f":"IF(EJ637=0,0,(EK637-EJ637)/EJ637*100)","v":0},null,null,{"$f":"IF(EM637=0,0,(EN637-EM637)/EM637*100)","v":0},null,null,{"$f":"IF(EP637=0,0,(EQ637-EP637)/EP637*100)","v":0},null,null,{"$f":"IF(ES637=0,0,(ET637-ES637)/ES637*100)","v":0},null,null,{"$f":"IF(EV637=0,0,(EW637-EV637)/EV637*100)","v":0},null,null,{"$f":"IF(EY637=0,0,(EZ637-EY637)/EY637*100)","v":0},null,null,{"$f":"IF(FB637=0,0,(FC637-FB637)/FB637*100)","v":0},null,null,{"$f":"IF(FE637=0,0,(FF637-FE637)/FE637*100)","v":0}]
["et_List16_line_d",null,"L2_1_3",{"$f":"D637","v":0},null,null,0,null,null,null,null,"объём потребления холодной воды","тыс.куб.м",null,null,{"$f":"IF(N638=0,0,(O638-N638)/N638*100)","v":0},null,null,{"$f":"IF(Q638=0,0,(R638-Q638)/Q638*100)","v":0},null,null,{"$f":"IF(T638=0,0,(U638-T638)/T638*100)","v":0},null,null,{"$f":"IF(W638=0,0,(X638-W638)/W638*100)","v":0},null,null,{"$f":"IF(Z638=0,0,(AA638-Z638)/Z638*100)","v":0},null,null,{"$f":"IF(AC638=0,0,(AD638-AC638)/AC638*100)","v":0},null,null,{"$f":"IF(AF638=0,0,(AG638-AF638)/AF638*100)","v":0},null,null,{"$f":"IF(AI638=0,0,(AJ638-AI638)/AI638*100)","v":0},null,null,{"$f":"IF(AL638=0,0,(AM638-AL638)/AL638*100)","v":0},null,null,{"$f":"IF(AO638=0,0,(AP638-AO638)/AO638*100)","v":0},null,null,{"$f":"IF(AR638=0,0,(AS638-AR638)/AR638*100)","v":0},null,null,{"$f":"IF(AU638=0,0,(AV638-AU638)/AU638*100)","v":0},null,null,{"$f":"IF(AX638=0,0,(AY638-AX638)/AX638*100)","v":0},null,null,{"$f":"IF(BA638=0,0,(BB638-BA638)/BA638*100)","v":0},null,null,{"$f":"IF(BD638=0,0,(BE638-BD638)/BD638*100)","v":0},null,null,{"$f":"IF(BG638=0,0,(BH638-BG638)/BG638*100)","v":0},null,null,{"$f":"IF(BJ638=0,0,(BK638-BJ638)/BJ638*100)","v":0},null,null,{"$f":"IF(BM638=0,0,(BN638-BM638)/BM638*100)","v":0},null,null,{"$f":"IF(BP638=0,0,(BQ638-BP638)/BP638*100)","v":0},null,null,{"$f":"IF(BS638=0,0,(BT638-BS638)/BS638*100)","v":0},null,null,{"$f":"IF(BV638=0,0,(BW638-BV638)/BV638*100)","v":0},null,null,{"$f":"IF(BY638=0,0,(BZ638-BY638)/BY638*100)","v":0},null,null,{"$f":"IF(CB638=0,0,(CC638-CB638)/CB638*100)","v":0},null,null,{"$f":"IF(CE638=0,0,(CF638-CE638)/CE638*100)","v":0},null,null,{"$f":"IF(CH638=0,0,(CI638-CH638)/CH638*100)","v":0},null,null,{"$f":"IF(CK638=0,0,(CL638-CK638)/CK638*100)","v":0},null,null,{"$f":"IF(CN638=0,0,(CO638-CN638)/CN638*100)","v":0},null,null,{"$f":"IF(CQ638=0,0,(CR638-CQ638)/CQ638*100)","v":0},null,null,{"$f":"IF(CT638=0,0,(CU638-CT638)/CT638*100)","v":0},null,null,{"$f":"IF(CW638=0,0,(CX638-CW638)/CW638*100)","v":0},null,null,{"$f":"IF(CZ638=0,0,(DA638-CZ638)/CZ638*100)","v":0},null,null,{"$f":"IF(DC638=0,0,(DD638-DC638)/DC638*100)","v":0},null,null,{"$f":"IF(DF638=0,0,(DG638-DF638)/DF638*100)","v":0},null,null,{"$f":"IF(DI638=0,0,(DJ638-DI638)/DI638*100)","v":0},null,null,{"$f":"IF(DL638=0,0,(DM638-DL638)/DL638*100)","v":0},null,null,{"$f":"IF(DO638=0,0,(DP638-DO638)/DO638*100)","v":0},null,null,{"$f":"IF(DR638=0,0,(DS638-DR638)/DR638*100)","v":0},null,null,{"$f":"IF(DU638=0,0,(DV638-DU638)/DU638*100)","v":0},null,null,{"$f":"IF(DX638=0,0,(DY638-DX638)/DX638*100)","v":0},null,null,{"$f":"IF(EA638=0,0,(EB638-EA638)/EA638*100)","v":0},null,null,{"$f":"IF(ED638=0,0,(EE638-ED638)/ED638*100)","v":0},null,null,{"$f":"IF(EG638=0,0,(EH638-EG638)/EG638*100)","v":0},null,null,{"$f":"IF(EJ638=0,0,(EK638-EJ638)/EJ638*100)","v":0},null,null,{"$f":"IF(EM638=0,0,(EN638-EM638)/EM638*100)","v":0},null,null,{"$f":"IF(EP638=0,0,(EQ638-EP638)/EP638*100)","v":0},null,null,{"$f":"IF(ES638=0,0,(ET638-ES638)/ES638*100)","v":0},null,null,{"$f":"IF(EV638=0,0,(EW638-EV638)/EV638*100)","v":0},null,null,{"$f":"IF(EY638=0,0,(EZ638-EY638)/EY638*100)","v":0},null,null,{"$f":"IF(FB638=0,0,(FC638-FB638)/FB638*100)","v":0},null,null,{"$f":"IF(FE638=0,0,(FF638-FE638)/FE638*100)","v":0}]
["et_List16_line_d",null,"L2_1_4",{"$f":"D638","v":0},null,null,0,null,null,null,null,"ставка платы за содержание системы холодного водоснабжения","тыс.руб./куб.м*час/в месяц",null,null,{"$f":"IF(N639=0,0,(O639-N639)/N639*100)","v":0},null,null,{"$f":"IF(Q639=0,0,(R639-Q639)/Q639*100)","v":0},null,null,{"$f":"IF(T639=0,0,(U639-T639)/T639*100)","v":0},null,null,{"$f":"IF(W639=0,0,(X639-W639)/W639*100)","v":0},null,null,{"$f":"IF(Z639=0,0,(AA639-Z639)/Z639*100)","v":0},null,null,{"$f":"IF(AC639=0,0,(AD639-AC639)/AC639*100)","v":0},null,null,{"$f":"IF(AF639=0,0,(AG639-AF639)/AF639*100)","v":0},null,null,{"$f":"IF(AI639=0,0,(AJ639-AI639)/AI639*100)","v":0},null,null,{"$f":"IF(AL639=0,0,(AM639-AL639)/AL639*100)","v":0},null,null,{"$f":"IF(AO639=0,0,(AP639-AO639)/AO639*100)","v":0},null,null,{"$f":"IF(AR639=0,0,(AS639-AR639)/AR639*100)","v":0},null,null,{"$f":"IF(AU639=0,0,(AV639-AU639)/AU639*100)","v":0},null,null,{"$f":"IF(AX639=0,0,(AY639-AX639)/AX639*100)","v":0},null,null,{"$f":"IF(BA639=0,0,(BB639-BA639)/BA639*100)","v":0},null,null,{"$f":"IF(BD639=0,0,(BE639-BD639)/BD639*100)","v":0},null,null,{"$f":"IF(BG639=0,0,(BH639-BG639)/BG639*100)","v":0},null,null,{"$f":"IF(BJ639=0,0,(BK639-BJ639)/BJ639*100)","v":0},null,null,{"$f":"IF(BM639=0,0,(BN639-BM639)/BM639*100)","v":0},null,null,{"$f":"IF(BP639=0,0,(BQ639-BP639)/BP639*100)","v":0},null,null,{"$f":"IF(BS639=0,0,(BT639-BS639)/BS639*100)","v":0},null,null,{"$f":"IF(BV639=0,0,(BW639-BV639)/BV639*100)","v":0},null,null,{"$f":"IF(BY639=0,0,(BZ639-BY639)/BY639*100)","v":0},null,null,{"$f":"IF(CB639=0,0,(CC639-CB639)/CB639*100)","v":0},null,null,{"$f":"IF(CE639=0,0,(CF639-CE639)/CE639*100)","v":0},null,null,{"$f":"IF(CH639=0,0,(CI639-CH639)/CH639*100)","v":0},null,null,{"$f":"IF(CK639=0,0,(CL639-CK639)/CK639*100)","v":0},null,null,{"$f":"IF(CN639=0,0,(CO639-CN639)/CN639*100)","v":0},null,null,{"$f":"IF(CQ639=0,0,(CR639-CQ639)/CQ639*100)","v":0},null,null,{"$f":"IF(CT639=0,0,(CU639-CT639)/CT639*100)","v":0},null,null,{"$f":"IF(CW639=0,0,(CX639-CW639)/CW639*100)","v":0},null,null,{"$f":"IF(CZ639=0,0,(DA639-CZ639)/CZ639*100)","v":0},null,null,{"$f":"IF(DC639=0,0,(DD639-DC639)/DC639*100)","v":0},null,null,{"$f":"IF(DF639=0,0,(DG639-DF639)/DF639*100)","v":0},null,null,{"$f":"IF(DI639=0,0,(DJ639-DI639)/DI639*100)","v":0},null,null,{"$f":"IF(DL639=0,0,(DM639-DL639)/DL639*100)","v":0},null,null,{"$f":"IF(DO639=0,0,(DP639-DO639)/DO639*100)","v":0},null,null,{"$f":"IF(DR639=0,0,(DS639-DR639)/DR639*100)","v":0},null,null,{"$f":"IF(DU639=0,0,(DV639-DU639)/DU639*100)","v":0},null,null,{"$f":"IF(DX639=0,0,(DY639-DX639)/DX639*100)","v":0},null,null,{"$f":"IF(EA639=0,0,(EB639-EA639)/EA639*100)","v":0},null,null,{"$f":"IF(ED639=0,0,(EE639-ED639)/ED639*100)","v":0},null,null,{"$f":"IF(EG639=0,0,(EH639-EG639)/EG639*100)","v":0},null,null,{"$f":"IF(EJ639=0,0,(EK639-EJ639)/EJ639*100)","v":0},null,null,{"$f":"IF(EM639=0,0,(EN639-EM639)/EM639*100)","v":0},null,null,{"$f":"IF(EP639=0,0,(EQ639-EP639)/EP639*100)","v":0},null,null,{"$f":"IF(ES639=0,0,(ET639-ES639)/ES639*100)","v":0},null,null,{"$f":"IF(EV639=0,0,(EW639-EV639)/EV639*100)","v":0},null,null,{"$f":"IF(EY639=0,0,(EZ639-EY639)/EY639*100)","v":0},null,null,{"$f":"IF(FB639=0,0,(FC639-FB639)/FB639*100)","v":0},null,null,{"$f":"IF(FE639=0,0,(FF639-FE639)/FE639*100)","v":0}]
["et_List16_line_d",null,"L2_1_5",{"$f":"D639","v":0},null,null,0,null,null,null,null,"величина присоединённой мощности","куб.м*час",null,null,{"$f":"IF(N640=0,0,(O640-N640)/N640*100)","v":0},null,null,{"$f":"IF(Q640=0,0,(R640-Q640)/Q640*100)","v":0},null,null,{"$f":"IF(T640=0,0,(U640-T640)/T640*100)","v":0},null,null,{"$f":"IF(W640=0,0,(X640-W640)/W640*100)","v":0},null,null,{"$f":"IF(Z640=0,0,(AA640-Z640)/Z640*100)","v":0},null,null,{"$f":"IF(AC640=0,0,(AD640-AC640)/AC640*100)","v":0},null,null,{"$f":"IF(AF640=0,0,(AG640-AF640)/AF640*100)","v":0},null,null,{"$f":"IF(AI640=0,0,(AJ640-AI640)/AI640*100)","v":0},null,null,{"$f":"IF(AL640=0,0,(AM640-AL640)/AL640*100)","v":0},null,null,{"$f":"IF(AO640=0,0,(AP640-AO640)/AO640*100)","v":0},null,null,{"$f":"IF(AR640=0,0,(AS640-AR640)/AR640*100)","v":0},null,null,{"$f":"IF(AU640=0,0,(AV640-AU640)/AU640*100)","v":0},null,null,{"$f":"IF(AX640=0,0,(AY640-AX640)/AX640*100)","v":0},null,null,{"$f":"IF(BA640=0,0,(BB640-BA640)/BA640*100)","v":0},null,null,{"$f":"IF(BD640=0,0,(BE640-BD640)/BD640*100)","v":0},null,null,{"$f":"IF(BG640=0,0,(BH640-BG640)/BG640*100)","v":0},null,null,{"$f":"IF(BJ640=0,0,(BK640-BJ640)/BJ640*100)","v":0},null,null,{"$f":"IF(BM640=0,0,(BN640-BM640)/BM640*100)","v":0},null,null,{"$f":"IF(BP640=0,0,(BQ640-BP640)/BP640*100)","v":0},null,null,{"$f":"IF(BS640=0,0,(BT640-BS640)/BS640*100)","v":0},null,null,{"$f":"IF(BV640=0,0,(BW640-BV640)/BV640*100)","v":0},null,null,{"$f":"IF(BY640=0,0,(BZ640-BY640)/BY640*100)","v":0},null,null,{"$f":"IF(CB640=0,0,(CC640-CB640)/CB640*100)","v":0},null,null,{"$f":"IF(CE640=0,0,(CF640-CE640)/CE640*100)","v":0},null,null,{"$f":"IF(CH640=0,0,(CI640-CH640)/CH640*100)","v":0},null,null,{"$f":"IF(CK640=0,0,(CL640-CK640)/CK640*100)","v":0},null,null,{"$f":"IF(CN640=0,0,(CO640-CN640)/CN640*100)","v":0},null,null,{"$f":"IF(CQ640=0,0,(CR640-CQ640)/CQ640*100)","v":0},null,null,{"$f":"IF(CT640=0,0,(CU640-CT640)/CT640*100)","v":0},null,null,{"$f":"IF(CW640=0,0,(CX640-CW640)/CW640*100)","v":0},null,null,{"$f":"IF(CZ640=0,0,(DA640-CZ640)/CZ640*100)","v":0},null,null,{"$f":"IF(DC640=0,0,(DD640-DC640)/DC640*100)","v":0},null,null,{"$f":"IF(DF640=0,0,(DG640-DF640)/DF640*100)","v":0},null,null,{"$f":"IF(DI640=0,0,(DJ640-DI640)/DI640*100)","v":0},null,null,{"$f":"IF(DL640=0,0,(DM640-DL640)/DL640*100)","v":0},null,null,{"$f":"IF(DO640=0,0,(DP640-DO640)/DO640*100)","v":0},null,null,{"$f":"IF(DR640=0,0,(DS640-DR640)/DR640*100)","v":0},null,null,{"$f":"IF(DU640=0,0,(DV640-DU640)/DU640*100)","v":0},null,null,{"$f":"IF(DX640=0,0,(DY640-DX640)/DX640*100)","v":0},null,null,{"$f":"IF(EA640=0,0,(EB640-EA640)/EA640*100)","v":0},null,null,{"$f":"IF(ED640=0,0,(EE640-ED640)/ED640*100)","v":0},null,null,{"$f":"IF(EG640=0,0,(EH640-EG640)/EG640*100)","v":0},null,null,{"$f":"IF(EJ640=0,0,(EK640-EJ640)/EJ640*100)","v":0},null,null,{"$f":"IF(EM640=0,0,(EN640-EM640)/EM640*100)","v":0},null,null,{"$f":"IF(EP640=0,0,(EQ640-EP640)/EP640*100)","v":0},null,null,{"$f":"IF(ES640=0,0,(ET640-ES640)/ES640*100)","v":0},null,null,{"$f":"IF(EV640=0,0,(EW640-EV640)/EV640*100)","v":0},null,null,{"$f":"IF(EY640=0,0,(EZ640-EY640)/EY640*100)","v":0},null,null,{"$f":"IF(FB640=0,0,(FC640-FB640)/FB640*100)","v":0},null,null,{"$f":"IF(FE640=0,0,(FF640-FE640)/FE640*100)","v":0}]
["et_List16_line_transp"]
[{"$f":"OFFSET(A642,-1,0)","v":"et_List16_line_transp"},null,"L1_1",{"$f":"L642","v":0},null,null,null,null,null,null,"О",null,"руб./куб.м",null,null,{"$f":"IF(N642=0,0,(O642-N642)/N642*100)","v":0},null,null,{"$f":"IF(Q642=0,0,(R642-Q642)/Q642*100)","v":0},null,null,{"$f":"IF(T642=0,0,(U642-T642)/T642*100)","v":0},null,null,{"$f":"IF(W642=0,0,(X642-W642)/W642*100)","v":0},null,null,{"$f":"IF(Z642=0,0,(AA642-Z642)/Z642*100)","v":0},null,null,{"$f":"IF(AC642=0,0,(AD642-AC642)/AC642*100)","v":0},null,null,{"$f":"IF(AF642=0,0,(AG642-AF642)/AF642*100)","v":0},null,null,{"$f":"IF(AI642=0,0,(AJ642-AI642)/AI642*100)","v":0},null,null,{"$f":"IF(AL642=0,0,(AM642-AL642)/AL642*100)","v":0},null,null,{"$f":"IF(AO642=0,0,(AP642-AO642)/AO642*100)","v":0},null,null,{"$f":"IF(AR642=0,0,(AS642-AR642)/AR642*100)","v":0},null,null,{"$f":"IF(AU642=0,0,(AV642-AU642)/AU642*100)","v":0},null,null,{"$f":"IF(AX642=0,0,(AY642-AX642)/AX642*100)","v":0},null,null,{"$f":"IF(BA642=0,0,(BB642-BA642)/BA642*100)","v":0},null,null,{"$f":"IF(BD642=0,0,(BE642-BD642)/BD642*100)","v":0},null,null,{"$f":"IF(BG642=0,0,(BH642-BG642)/BG642*100)","v":0},null,null,{"$f":"IF(BJ642=0,0,(BK642-BJ642)/BJ642*100)","v":0},null,null,{"$f":"IF(BM642=0,0,(BN642-BM642)/BM642*100)","v":0},null,null,{"$f":"IF(BP642=0,0,(BQ642-BP642)/BP642*100)","v":0},null,null,{"$f":"IF(BS642=0,0,(BT642-BS642)/BS642*100)","v":0},null,null,{"$f":"IF(BV642=0,0,(BW642-BV642)/BV642*100)","v":0},null,null,{"$f":"IF(BY642=0,0,(BZ642-BY642)/BY642*100)","v":0},null,null,{"$f":"IF(CB642=0,0,(CC642-CB642)/CB642*100)","v":0},null,null,{"$f":"IF(CE642=0,0,(CF642-CE642)/CE642*100)","v":0},null,null,{"$f":"IF(CH642=0,0,(CI642-CH642)/CH642*100)","v":0},null,null,{"$f":"IF(CK642=0,0,(CL642-CK642)/CK642*100)","v":0},null,null,{"$f":"IF(CN642=0,0,(CO642-CN642)/CN642*100)","v":0},null,null,{"$f":"IF(CQ642=0,0,(CR642-CQ642)/CQ642*100)","v":0},null,null,{"$f":"IF(CT642=0,0,(CU642-CT642)/CT642*100)","v":0},null,null,{"$f":"IF(CW642=0,0,(CX642-CW642)/CW642*100)","v":0},null,null,{"$f":"IF(CZ642=0,0,(DA642-CZ642)/CZ642*100)","v":0},null,null,{"$f":"IF(DC642=0,0,(DD642-DC642)/DC642*100)","v":0},null,null,{"$f":"IF(DF642=0,0,(DG642-DF642)/DF642*100)","v":0},null,null,{"$f":"IF(DI642=0,0,(DJ642-DI642)/DI642*100)","v":0},null,null,{"$f":"IF(DL642=0,0,(DM642-DL642)/DL642*100)","v":0},null,null,{"$f":"IF(DO642=0,0,(DP642-DO642)/DO642*100)","v":0},null,null,{"$f":"IF(DR642=0,0,(DS642-DR642)/DR642*100)","v":0},null,null,{"$f":"IF(DU642=0,0,(DV642-DU642)/DU642*100)","v":0},null,null,{"$f":"IF(DX642=0,0,(DY642-DX642)/DX642*100)","v":0},null,null,{"$f":"IF(EA642=0,0,(EB642-EA642)/EA642*100)","v":0},null,null,{"$f":"IF(ED642=0,0,(EE642-ED642)/ED642*100)","v":0},null,null,{"$f":"IF(EG642=0,0,(EH642-EG642)/EG642*100)","v":0},null,null,{"$f":"IF(EJ642=0,0,(EK642-EJ642)/EJ642*100)","v":0},null,null,{"$f":"IF(EM642=0,0,(EN642-EM642)/EM642*100)","v":0},null,null,{"$f":"IF(EP642=0,0,(EQ642-EP642)/EP642*100)","v":0},null,null,{"$f":"IF(ES642=0,0,(ET642-ES642)/ES642*100)","v":0},null,null,{"$f":"IF(EV642=0,0,(EW642-EV642)/EV642*100)","v":0},null,null,{"$f":"IF(EY642=0,0,(EZ642-EY642)/EY642*100)","v":0},null,null,{"$f":"IF(FB642=0,0,(FC642-FB642)/FB642*100)","v":0},null,null,{"$f":"IF(FE642=0,0,(FF642-FE642)/FE642*100)","v":0}]
[]
["17. ДПР"]
["et_List17_tariff_vs"]
["1",null,null,null,null,null,null,null,null,null,null,{"$f":"INDEX('Общие сведения'!$J$121:$J$135,MATCH($A646,'Общие сведения'!$D$121:$D$135,0))","v":"Тариф 1 (Водоотведение) - тариф на водоотведение"}]
[{"$f":"A646","v":"1"},null,null,null,null,{"$f":"first_year","v":2019},{"$f":"F647<first_year+PERIOD_LENGTH","v":true},null,null,null,null,{"$f":"F647& \" год\"","v":"2019 год"},{"$f":"IFERROR(SUMIFS(INDEX(Калькуляция!$O$15:$AM$143,,MATCH(F647&\"Принято органом регулирования\",Калькуляция!$O$3:$AM$3,0)),Калькуляция!$A$15:$A$143,A647,Калькуляция!$M$15:$M$143,\"Операционные расходы\"),0)","v":0},{"$f":"IFERROR(SUMIFS(INDEX(Сценарии!$O$15:$AP$35,,MATCH($F647&\"Принято органом регулирования\",Сценарии!$O$3:$AP$3,0)),Сценарии!$A$15:$A$35,$A647,Сценарии!$M$15:$M$35,\"Индекс эффективности операционных расходов\"),0)","v":0},null,{"$f":"IFERROR(SUMIFS(INDEX(Баланс!$O$16:$AL$57,,MATCH($F647&\"Принято органом регулирования\",Баланс!$O$3:$AL$3,0)),Баланс!$A$16:$A$57,$A647,Баланс!$M$16:$M$57,\"Уровень потерь воды\"),0)","v":0},{"$f":"IFERROR(SUMIFS(INDEX(ЭЭ!$O$15:$AL$42,,MATCH($F647&\"Принято органом регулирования\",ЭЭ!$O$3:$AL$3,0)),ЭЭ!$A$15:$A$42,$A647,ЭЭ!$M$15:$M$42,\"Удельный расход электроэнергии\"),0)","v":0},{"$f":"IFERROR(SUMIFS(INDEX(ЭЭ!$O$15:$AL$42,,MATCH($F647&\"Принято органом регулирования\",ЭЭ!$O$3:$AL$3,0)),ЭЭ!$A$15:$A$42,$A647,ЭЭ!$M$15:$M$42,\"Удельный расход электроэнергии\"),0)","v":0},{"$f":"IFERROR(SUMIFS(INDEX(ЭЭ!$O$15:$AL$42,,MATCH($F647&\"Принято органом регулирования\",ЭЭ!$O$3:$AL$3,0)),ЭЭ!$A$15:$A$42,$A647,ЭЭ!$M$15:$M$42,\"Удельный расход электроэнергии\"),0)","v":0}]
["1",null,null,null,null,{"$f":"first_year+1","v":2020},true,null,null,null,null,"2020 год",{"$f":"IFERROR(SUMIFS(INDEX(Калькуляция!$O$15:$AM$143,,MATCH(F648&\"Принято органом регулирования\",Калькуляция!$O$3:$AM$3,0)),Калькуляция!$A$15:$A$143,A648,Калькуляция!$M$15:$M$143,\"Операционные расходы\"),0)","v":0},{"$f":"IFERROR(SUMIFS(INDEX(Сценарии!$O$15:$AP$35,,MATCH(F648&\"Принято органом регулирования\",Сценарии!$O$3:$AP$3,0)),Сценарии!$A$15:$A$35,A648,Сценарии!$M$15:$M$35,\"Индекс эффективности операционных расходов\"),0)","v":0},null,{"$f":"IFERROR(SUMIFS(INDEX(Баланс!$O$16:$AL$57,,MATCH($F648&\"Принято органом регулирования\",Баланс!$O$3:$AL$3,0)),Баланс!$A$16:$A$57,$A648,Баланс!$M$16:$M$57,\"Уровень потерь воды\"),0)","v":0},{"$f":"IFERROR(SUMIFS(INDEX(ЭЭ!$O$15:$AL$42,,MATCH($F648&\"Принято органом регулирования\",ЭЭ!$O$3:$AL$3,0)),ЭЭ!$A$15:$A$42,$A648,ЭЭ!$M$15:$M$42,\"Удельный расход электроэнергии\"),0)","v":0},{"$f":"IFERROR(SUMIFS(INDEX(ЭЭ!$O$15:$AL$42,,MATCH($F648&\"Принято органом регулирования\",ЭЭ!$O$3:$AL$3,0)),ЭЭ!$A$15:$A$42,$A648,ЭЭ!$M$15:$M$42,\"Удельный расход электроэнергии\"),0)","v":0},{"$f":"IFERROR(SUMIFS(INDEX(ЭЭ!$O$15:$AL$42,,MATCH($F648&\"Принято органом регулирования\",ЭЭ!$O$3:$AL$3,0)),ЭЭ!$A$15:$A$42,$A648,ЭЭ!$M$15:$M$42,\"Удельный расход электроэнергии\"),0)","v":0}]
["1",null,null,null,null,{"$f":"first_year+2","v":2021},true,null,null,null,null,"2021 год",{"$f":"IFERROR(SUMIFS(INDEX(Калькуляция!$O$15:$AM$143,,MATCH(F649&\"Принято органом регулирования\",Калькуляция!$O$3:$AM$3,0)),Калькуляция!$A$15:$A$143,A649,Калькуляция!$M$15:$M$143,\"Операционные расходы\"),0)","v":0},{"$f":"IFERROR(SUMIFS(INDEX(Сценарии!$O$15:$AP$35,,MATCH(F649&\"Принято органом регулирования\",Сценарии!$O$3:$AP$3,0)),Сценарии!$A$15:$A$35,A649,Сценарии!$M$15:$M$35,\"Индекс эффективности операционных расходов\"),0)","v":0},null,{"$f":"IFERROR(SUMIFS(INDEX(Баланс!$O$16:$AL$57,,MATCH($F649&\"Принято органом регулирования\",Баланс!$O$3:$AL$3,0)),Баланс!$A$16:$A$57,$A649,Баланс!$M$16:$M$57,\"Уровень потерь воды\"),0)","v":0},{"$f":"IFERROR(SUMIFS(INDEX(ЭЭ!$O$15:$AL$42,,MATCH($F649&\"Принято органом регулирования\",ЭЭ!$O$3:$AL$3,0)),ЭЭ!$A$15:$A$42,$A649,ЭЭ!$M$15:$M$42,\"Удельный расход электроэнергии\"),0)","v":0},{"$f":"IFERROR(SUMIFS(INDEX(ЭЭ!$O$15:$AL$42,,MATCH($F649&\"Принято органом регулирования\",ЭЭ!$O$3:$AL$3,0)),ЭЭ!$A$15:$A$42,$A649,ЭЭ!$M$15:$M$42,\"Удельный расход электроэнергии\"),0)","v":0},{"$f":"IFERROR(SUMIFS(INDEX(ЭЭ!$O$15:$AL$42,,MATCH($F649&\"Принято органом регулирования\",ЭЭ!$O$3:$AL$3,0)),ЭЭ!$A$15:$A$42,$A649,ЭЭ!$M$15:$M$42,\"Удельный расход электроэнергии\"),0)","v":0}]
["1",null,null,null,null,{"$f":"first_year+3","v":2022},true,null,null,null,null,"2022 год",{"$f":"IFERROR(SUMIFS(INDEX(Калькуляция!$O$15:$AM$143,,MATCH(F650&\"Принято органом регулирования\",Калькуляция!$O$3:$AM$3,0)),Калькуляция!$A$15:$A$143,A650,Калькуляция!$M$15:$M$143,\"Операционные расходы\"),0)","v":0},{"$f":"IFERROR(SUMIFS(INDEX(Сценарии!$O$15:$AP$35,,MATCH(F650&\"Принято органом регулирования\",Сценарии!$O$3:$AP$3,0)),Сценарии!$A$15:$A$35,A650,Сценарии!$M$15:$M$35,\"Индекс эффективности операционных расходов\"),0)","v":0},null,{"$f":"IFERROR(SUMIFS(INDEX(Баланс!$O$16:$AL$57,,MATCH($F650&\"Принято органом регулирования\",Баланс!$O$3:$AL$3,0)),Баланс!$A$16:$A$57,$A650,Баланс!$M$16:$M$57,\"Уровень потерь воды\"),0)","v":0},{"$f":"IFERROR(SUMIFS(INDEX(ЭЭ!$O$15:$AL$42,,MATCH($F650&\"Принято органом регулирования\",ЭЭ!$O$3:$AL$3,0)),ЭЭ!$A$15:$A$42,$A650,ЭЭ!$M$15:$M$42,\"Удельный расход электроэнергии\"),0)","v":0},{"$f":"IFERROR(SUMIFS(INDEX(ЭЭ!$O$15:$AL$42,,MATCH($F650&\"Принято органом регулирования\",ЭЭ!$O$3:$AL$3,0)),ЭЭ!$A$15:$A$42,$A650,ЭЭ!$M$15:$M$42,\"Удельный расход электроэнергии\"),0)","v":0},{"$f":"IFERROR(SUMIFS(INDEX(ЭЭ!$O$15:$AL$42,,MATCH($F650&\"Принято органом регулирования\",ЭЭ!$O$3:$AL$3,0)),ЭЭ!$A$15:$A$42,$A650,ЭЭ!$M$15:$M$42,\"Удельный расход электроэнергии\"),0)","v":0}]
["1",null,null,null,null,{"$f":"first_year+4","v":2023},true,null,null,null,null,"2023 год",{"$f":"IFERROR(SUMIFS(INDEX(Калькуляция!$O$15:$AM$143,,MATCH(F651&\"Принято органом регулирования\",Калькуляция!$O$3:$AM$3,0)),Калькуляция!$A$15:$A$143,A651,Калькуляция!$M$15:$M$143,\"Операционные расходы\"),0)","v":116336.826778181},{"$f":"IFERROR(SUMIFS(INDEX(Сценарии!$O$15:$AP$35,,MATCH(F651&\"Принято органом регулирования\",Сценарии!$O$3:$AP$3,0)),Сценарии!$A$15:$A$35,A651,Сценарии!$M$15:$M$35,\"Индекс эффективности операционных расходов\"),0)","v":1},null,{"$f":"IFERROR(SUMIFS(INDEX(Баланс!$O$16:$AL$57,,MATCH($F651&\"Принято органом регулирования\",Баланс!$O$3:$AL$3,0)),Баланс!$A$16:$A$57,$A651,Баланс!$M$16:$M$57,\"Уровень потерь воды\"),0)","v":0},{"$f":"IFERROR(SUMIFS(INDEX(ЭЭ!$O$15:$AL$42,,MATCH($F651&\"Принято органом регулирования\",ЭЭ!$O$3:$AL$3,0)),ЭЭ!$A$15:$A$42,$A651,ЭЭ!$M$15:$M$42,\"Удельный расход электроэнергии\"),0)","v":1.2500000000000069},{"$f":"IFERROR(SUMIFS(INDEX(ЭЭ!$O$15:$AL$42,,MATCH($F651&\"Принято органом регулирования\",ЭЭ!$O$3:$AL$3,0)),ЭЭ!$A$15:$A$42,$A651,ЭЭ!$M$15:$M$42,\"Удельный расход электроэнергии\"),0)","v":1.2500000000000069},{"$f":"IFERROR(SUMIFS(INDEX(ЭЭ!$O$15:$AL$42,,MATCH($F651&\"Принято органом регулирования\",ЭЭ!$O$3:$AL$3,0)),ЭЭ!$A$15:$A$42,$A651,ЭЭ!$M$15:$M$42,\"Удельный расход электроэнергии\"),0)","v":1.2500000000000069}]
["1",null,null,null,null,{"$f":"first_year+5","v":2024},true,null,null,null,null,"2024 год",{"$f":"IFERROR(SUMIFS(INDEX(Калькуляция!$O$15:$AM$143,,MATCH(F652&\"Принято органом регулирования\",Калькуляция!$O$3:$AM$3,0)),Калькуляция!$A$15:$A$143,A652,Калькуляция!$M$15:$M$143,\"Операционные расходы\"),0)","v":123124.798881558},{"$f":"IFERROR(SUMIFS(INDEX(Сценарии!$O$15:$AP$35,,MATCH(F652&\"Принято органом регулирования\",Сценарии!$O$3:$AP$3,0)),Сценарии!$A$15:$A$35,A652,Сценарии!$M$15:$M$35,\"Индекс эффективности операционных расходов\"),0)","v":1},null,{"$f":"IFERROR(SUMIFS(INDEX(Баланс!$O$16:$AL$57,,MATCH($F652&\"Принято органом регулирования\",Баланс!$O$3:$AL$3,0)),Баланс!$A$16:$A$57,$A652,Баланс!$M$16:$M$57,\"Уровень потерь воды\"),0)","v":0},{"$f":"IFERROR(SUMIFS(INDEX(ЭЭ!$O$15:$AL$42,,MATCH($F652&\"Принято органом регулирования\",ЭЭ!$O$3:$AL$3,0)),ЭЭ!$A$15:$A$42,$A652,ЭЭ!$M$15:$M$42,\"Удельный расход электроэнергии\"),0)","v":1.25},{"$f":"IFERROR(SUMIFS(INDEX(ЭЭ!$O$15:$AL$42,,MATCH($F652&\"Принято органом регулирования\",ЭЭ!$O$3:$AL$3,0)),ЭЭ!$A$15:$A$42,$A652,ЭЭ!$M$15:$M$42,\"Удельный расход электроэнергии\"),0)","v":1.25},{"$f":"IFERROR(SUMIFS(INDEX(ЭЭ!$O$15:$AL$42,,MATCH($F652&\"Принято органом регулирования\",ЭЭ!$O$3:$AL$3,0)),ЭЭ!$A$15:$A$42,$A652,ЭЭ!$M$15:$M$42,\"Удельный расход электроэнергии\"),0)","v":1.25}]
["1",null,null,null,null,{"$f":"first_year+6","v":2025},true,null,null,null,null,"2025 год",{"$f":"IFERROR(SUMIFS(INDEX(Калькуляция!$O$15:$AM$143,,MATCH(F653&\"Принято органом регулирования\",Калькуляция!$O$3:$AM$3,0)),Калькуляция!$A$15:$A$143,A653,Калькуляция!$M$15:$M$143,\"Операционные расходы\"),0)","v":130048.5902231364},{"$f":"IFERROR(SUMIFS(INDEX(Сценарии!$O$15:$AP$35,,MATCH(F653&\"Принято органом регулирования\",Сценарии!$O$3:$AP$3,0)),Сценарии!$A$15:$A$35,A653,Сценарии!$M$15:$M$35,\"Индекс эффективности операционных расходов\"),0)","v":1},null,{"$f":"IFERROR(SUMIFS(INDEX(Баланс!$O$16:$AL$57,,MATCH($F653&\"Принято органом регулирования\",Баланс!$O$3:$AL$3,0)),Баланс!$A$16:$A$57,$A653,Баланс!$M$16:$M$57,\"Уровень потерь воды\"),0)","v":0},{"$f":"IFERROR(SUMIFS(INDEX(ЭЭ!$O$15:$AL$42,,MATCH($F653&\"Принято органом регулирования\",ЭЭ!$O$3:$AL$3,0)),ЭЭ!$A$15:$A$42,$A653,ЭЭ!$M$15:$M$42,\"Удельный расход электроэнергии\"),0)","v":1.2500000638046289},{"$f":"IFERROR(SUMIFS(INDEX(ЭЭ!$O$15:$AL$42,,MATCH($F653&\"Принято органом регулирования\",ЭЭ!$O$3:$AL$3,0)),ЭЭ!$A$15:$A$42,$A653,ЭЭ!$M$15:$M$42,\"Удельный расход электроэнергии\"),0)","v":1.2500000638046289},{"$f":"IFERROR(SUMIFS(INDEX(ЭЭ!$O$15:$AL$42,,MATCH($F653&\"Принято органом регулирования\",ЭЭ!$O$3:$AL$3,0)),ЭЭ!$A$15:$A$42,$A653,ЭЭ!$M$15:$M$42,\"Удельный расход электроэнергии\"),0)","v":1.2500000638046289}]
["1",null,null,null,null,{"$f":"first_year+7","v":2026},true,null,null,null,null,"2026 год",{"$f":"IFERROR(SUMIFS(INDEX(Калькуляция!$O$15:$AM$143,,MATCH(F654&\"Принято органом регулирования\",Калькуляция!$O$3:$AM$3,0)),Калькуляция!$A$15:$A$143,A654,Калькуляция!$M$15:$M$143,\"Операционные расходы\"),0)","v":130048.5902231364},{"$f":"IFERROR(SUMIFS(INDEX(Сценарии!$O$15:$AP$35,,MATCH(F654&\"Принято органом регулирования\",Сценарии!$O$3:$AP$3,0)),Сценарии!$A$15:$A$35,A654,Сценарии!$M$15:$M$35,\"Индекс эффективности операционных расходов\"),0)","v":0},null,{"$f":"IFERROR(SUMIFS(INDEX(Баланс!$O$16:$AL$57,,MATCH($F654&\"Принято органом регулирования\",Баланс!$O$3:$AL$3,0)),Баланс!$A$16:$A$57,$A654,Баланс!$M$16:$M$57,\"Уровень потерь воды\"),0)","v":0},{"$f":"IFERROR(SUMIFS(INDEX(ЭЭ!$O$15:$AL$42,,MATCH($F654&\"Принято органом регулирования\",ЭЭ!$O$3:$AL$3,0)),ЭЭ!$A$15:$A$42,$A654,ЭЭ!$M$15:$M$42,\"Удельный расход электроэнергии\"),0)","v":0},{"$f":"IFERROR(SUMIFS(INDEX(ЭЭ!$O$15:$AL$42,,MATCH($F654&\"Принято органом регулирования\",ЭЭ!$O$3:$AL$3,0)),ЭЭ!$A$15:$A$42,$A654,ЭЭ!$M$15:$M$42,\"Удельный расход электроэнергии\"),0)","v":0},{"$f":"IFERROR(SUMIFS(INDEX(ЭЭ!$O$15:$AL$42,,MATCH($F654&\"Принято органом регулирования\",ЭЭ!$O$3:$AL$3,0)),ЭЭ!$A$15:$A$42,$A654,ЭЭ!$M$15:$M$42,\"Удельный расход электроэнергии\"),0)","v":0}]
["1",null,null,null,null,{"$f":"first_year+8","v":2027},true,null,null,null,null,"2027 год",{"$f":"IFERROR(SUMIFS(INDEX(Калькуляция!$O$15:$AM$143,,MATCH(F655&\"Принято органом регулирования\",Калькуляция!$O$3:$AM$3,0)),Калькуляция!$A$15:$A$143,A655,Калькуляция!$M$15:$M$143,\"Операционные расходы\"),0)","v":130048.5902231364},{"$f":"IFERROR(SUMIFS(INDEX(Сценарии!$O$15:$AP$35,,MATCH(F655&\"Принято органом регулирования\",Сценарии!$O$3:$AP$3,0)),Сценарии!$A$15:$A$35,A655,Сценарии!$M$15:$M$35,\"Индекс эффективности операционных расходов\"),0)","v":0},null,{"$f":"IFERROR(SUMIFS(INDEX(Баланс!$O$16:$AL$57,,MATCH($F655&\"Принято органом регулирования\",Баланс!$O$3:$AL$3,0)),Баланс!$A$16:$A$57,$A655,Баланс!$M$16:$M$57,\"Уровень потерь воды\"),0)","v":0},{"$f":"IFERROR(SUMIFS(INDEX(ЭЭ!$O$15:$AL$42,,MATCH($F655&\"Принято органом регулирования\",ЭЭ!$O$3:$AL$3,0)),ЭЭ!$A$15:$A$42,$A655,ЭЭ!$M$15:$M$42,\"Удельный расход электроэнергии\"),0)","v":0},{"$f":"IFERROR(SUMIFS(INDEX(ЭЭ!$O$15:$AL$42,,MATCH($F655&\"Принято органом регулирования\",ЭЭ!$O$3:$AL$3,0)),ЭЭ!$A$15:$A$42,$A655,ЭЭ!$M$15:$M$42,\"Удельный расход электроэнергии\"),0)","v":0},{"$f":"IFERROR(SUMIFS(INDEX(ЭЭ!$O$15:$AL$42,,MATCH($F655&\"Принято органом регулирования\",ЭЭ!$O$3:$AL$3,0)),ЭЭ!$A$15:$A$42,$A655,ЭЭ!$M$15:$M$42,\"Удельный расход электроэнергии\"),0)","v":0}]
["1",null,null,null,null,{"$f":"first_year+9","v":2028},{"$f":"F656<first_year+PERIOD_LENGTH","v":true},null,null,null,null,"2028 год",{"$f":"IFERROR(SUMIFS(INDEX(Калькуляция!$O$15:$AM$143,,MATCH(F656&\"Принято органом регулирования\",Калькуляция!$O$3:$AM$3,0)),Калькуляция!$A$15:$A$143,A656,Калькуляция!$M$15:$M$143,\"Операционные расходы\"),0)","v":130048.5902231364},{"$f":"IFERROR(SUMIFS(INDEX(Сценарии!$O$15:$AP$35,,MATCH(F656&\"Принято органом регулирования\",Сценарии!$O$3:$AP$3,0)),Сценарии!$A$15:$A$35,A656,Сценарии!$M$15:$M$35,\"Индекс эффективности операционных расходов\"),0)","v":0},null,{"$f":"IFERROR(SUMIFS(INDEX(Баланс!$O$16:$AL$57,,MATCH($F656&\"Принято органом регулирования\",Баланс!$O$3:$AL$3,0)),Баланс!$A$16:$A$57,$A656,Баланс!$M$16:$M$57,\"Уровень потерь воды\"),0)","v":0},{"$f":"IFERROR(SUMIFS(INDEX(ЭЭ!$O$15:$AL$42,,MATCH($F656&\"Принято органом регулирования\",ЭЭ!$O$3:$AL$3,0)),ЭЭ!$A$15:$A$42,$A656,ЭЭ!$M$15:$M$42,\"Удельный расход электроэнергии\"),0)","v":0},{"$f":"IFERROR(SUMIFS(INDEX(ЭЭ!$O$15:$AL$42,,MATCH($F656&\"Принято органом регулирования\",ЭЭ!$O$3:$AL$3,0)),ЭЭ!$A$15:$A$42,$A656,ЭЭ!$M$15:$M$42,\"Удельный расход электроэнергии\"),0)","v":0},{"$f":"IFERROR(SUMIFS(INDEX(ЭЭ!$O$15:$AL$42,,MATCH($F656&\"Принято органом регулирования\",ЭЭ!$O$3:$AL$3,0)),ЭЭ!$A$15:$A$42,$A656,ЭЭ!$M$15:$M$42,\"Удельный расход электроэнергии\"),0)","v":0}]
["1",null,null,null,null,{"$f":"first_year+10","v":2029},false,null,null,null,null,"2029 год"]
["1",null,null,null,null,{"$f":"first_year+11","v":2030},false,null,null,null,null,"2030 год"]
["1",null,null,null,null,{"$f":"first_year+12","v":2031},false,null,null,null,null,"2031 год"]
["1",null,null,null,null,{"$f":"first_year+13","v":2032},false,null,null,null,null,"2032 год"]
["1",null,null,null,null,{"$f":"first_year+14","v":2033},false,null,null,null,null,"2033 год"]
["1",null,null,null,null,{"$f":"first_year+15","v":2034},false,null,null,null,null,"2034 год"]
["1",null,null,null,null,{"$f":"first_year+16","v":2035},false,null,null,null,null,"2035 год"]
["1",null,null,null,null,{"$f":"first_year+17","v":2036},false,null,null,null,null,"2036 год"]
["1",null,null,null,null,{"$f":"first_year+18","v":2037},false,null,null,null,null,"2037 год"]
["1",null,null,null,null,{"$f":"first_year+19","v":2038},false,null,null,null,null,"2038 год"]
["1",null,null,null,null,{"$f":"first_year+20","v":2039},false,null,null,null,null,"2039 год"]
["1",null,null,null,null,{"$f":"first_year+21","v":2040},false,null,null,null,null,"2040 год"]
["1",null,null,null,null,{"$f":"first_year+22","v":2041},false,null,null,null,null,"2041 год"]
["1",null,null,null,null,{"$f":"first_year+23","v":2042},false,null,null,null,null,"2042 год"]
["1",null,null,null,null,{"$f":"first_year+24","v":2043},false,null,null,null,null,"2043 год"]
["1",null,null,null,null,{"$f":"first_year+25","v":2044},false,null,null,null,null,"2044 год"]
["1",null,null,null,null,{"$f":"first_year+26","v":2045},false,null,null,null,null,"2045 год"]
["1",null,null,null,null,{"$f":"first_year+27","v":2046},false,null,null,null,null,"2046 год"]
["1",null,null,null,null,{"$f":"first_year+28","v":2047},false,null,null,null,null,"2047 год"]
["1",null,null,null,null,{"$f":"first_year+29","v":2048},false,null,null,null,null,"2048 год"]
["1",null,null,null,null,{"$f":"first_year+30","v":2049},false,null,null,null,null,"2049 год"]
["1",null,null,null,null,{"$f":"first_year+31","v":2050},false,null,null,null,null,"2050 год"]
["1",null,null,null,null,{"$f":"first_year+32","v":2051},false,null,null,null,null,"2051 год"]
["1",null,null,null,null,{"$f":"first_year+33","v":2052},false,null,null,null,null,"2052 год"]
["1",null,null,null,null,{"$f":"first_year+34","v":2053},false,null,null,null,null,"2053 год"]
["1",null,null,null,null,{"$f":"first_year+35","v":2054},false,null,null,null,null,"2054 год"]
["1",null,null,null,null,{"$f":"first_year+36","v":2055},false,null,null,null,null,"2055 год"]
["1",null,null,null,null,{"$f":"first_year+37","v":2056},false,null,null,null,null,"2056 год"]
["1",null,null,null,null,{"$f":"first_year+38","v":2057},false,null,null,null,null,"2057 год"]
["1",null,null,null,null,{"$f":"first_year+39","v":2058},false,null,null,null,null,"2058 год"]
["1",null,null,null,null,{"$f":"first_year+40","v":2059},false,null,null,null,null,"2059 год"]
["1",null,null,null,null,{"$f":"first_year+41","v":2060},false,null,null,null,null,"2060 год"]
["1",null,null,null,null,{"$f":"first_year+42","v":2061},false,null,null,null,null,"2061 год"]
["1",null,null,null,null,{"$f":"first_year+43","v":2062},false,null,null,null,null,"2062 год"]
["1",null,null,null,null,{"$f":"first_year+44","v":2063},false,null,null,null,null,"2063 год"]
["1",null,null,null,null,{"$f":"first_year+45","v":2064},false,null,null,null,null,"2064 год"]
["1",null,null,null,null,{"$f":"first_year+46","v":2065},false,null,null,null,null,"2065 год"]
["1",null,null,null,null,{"$f":"first_year+47","v":2066},false,null,null,null,null,"2066 год"]
["1",null,null,null,null,{"$f":"first_year+48","v":2067},false,null,null,null,null,"2067 год"]
["1",null,null,null,null,{"$f":"first_year+49","v":2068},{"$f":"F696<first_year+PERIOD_LENGTH","v":false},null,null,null,null,{"$f":"F696& \" год\"","v":"2068 год"}]
["et_List17_tariff_vo"]
["1",null,null,null,null,null,null,null,null,null,null,{"$f":"INDEX('Общие сведения'!$J$121:$J$135,MATCH($A698,'Общие сведения'!$D$121:$D$135,0))","v":"Тариф 1 (Водоотведение) - тариф на водоотведение"}]
[{"$f":"A698","v":"1"},null,null,null,null,{"$f":"first_year","v":2019},{"$f":"F699<first_year+PERIOD_LENGTH","v":true},null,null,null,null,{"$f":"F699& \" год\"","v":"2019 год"},{"$f":"IFERROR(SUMIFS(INDEX(Калькуляция!$O$15:$AM$143,,MATCH(F699&\"Принято органом регулирования\",Калькуляция!$O$3:$AM$3,0)),Калькуляция!$A$15:$A$143,A699,Калькуляция!$M$15:$M$143,\"Операционные расходы\"),0)","v":0},{"$f":"IFERROR(SUMIFS(INDEX(Сценарии!$O$15:$AP$35,,MATCH($F699&\"Принято органом регулирования\",Сценарии!$O$3:$AP$3,0)),Сценарии!$A$15:$A$35,$A699,Сценарии!$M$15:$M$35,\"Индекс эффективности операционных расходов\"),0)","v":0},null,null,{"$f":"IFERROR(SUMIFS(INDEX(ЭЭ!$O$15:$AL$42,,MATCH($F699&\"Принято органом регулирования\",ЭЭ!$O$3:$AL$3,0)),ЭЭ!$A$15:$A$42,$A699,ЭЭ!$M$15:$M$42,\"Удельный расход электроэнергии\"),0)","v":0},null,null,{"$f":"IFERROR(SUMIFS(INDEX(ЭЭ!$O$15:$AL$42,,MATCH($F699&\"Принято органом регулирования\",ЭЭ!$O$3:$AL$3,0)),ЭЭ!$A$15:$A$42,$A699,ЭЭ!$M$15:$M$42,\"Удельный расход электроэнергии\"),0)","v":0},{"$f":"IFERROR(SUMIFS(INDEX(ЭЭ!$O$15:$AL$42,,MATCH($F699&\"Принято органом регулирования\",ЭЭ!$O$3:$AL$3,0)),ЭЭ!$A$15:$A$42,$A699,ЭЭ!$M$15:$M$42,\"Удельный расход электроэнергии\"),0)","v":0}]
["1",null,null,null,null,{"$f":"first_year+1","v":2020},true,null,null,null,null,"2020 год",{"$f":"IFERROR(SUMIFS(INDEX(Калькуляция!$O$15:$AM$143,,MATCH(F700&\"Принято органом регулирования\",Калькуляция!$O$3:$AM$3,0)),Калькуляция!$A$15:$A$143,A700,Калькуляция!$M$15:$M$143,\"Операционные расходы\"),0)","v":0},{"$f":"IFERROR(SUMIFS(INDEX(Сценарии!$O$15:$AP$35,,MATCH(F700&\"Принято органом регулирования\",Сценарии!$O$3:$AP$3,0)),Сценарии!$A$15:$A$35,A700,Сценарии!$M$15:$M$35,\"Индекс эффективности операционных расходов\"),0)","v":0},null,null,{"$f":"IFERROR(SUMIFS(INDEX(ЭЭ!$O$15:$AL$42,,MATCH($F700&\"Принято органом регулирования\",ЭЭ!$O$3:$AL$3,0)),ЭЭ!$A$15:$A$42,$A700,ЭЭ!$M$15:$M$42,\"Удельный расход электроэнергии\"),0)","v":0},null,null,{"$f":"IFERROR(SUMIFS(INDEX(ЭЭ!$O$15:$AL$42,,MATCH($F700&\"Принято органом регулирования\",ЭЭ!$O$3:$AL$3,0)),ЭЭ!$A$15:$A$42,$A700,ЭЭ!$M$15:$M$42,\"Удельный расход электроэнергии\"),0)","v":0},{"$f":"IFERROR(SUMIFS(INDEX(ЭЭ!$O$15:$AL$42,,MATCH($F700&\"Принято органом регулирования\",ЭЭ!$O$3:$AL$3,0)),ЭЭ!$A$15:$A$42,$A700,ЭЭ!$M$15:$M$42,\"Удельный расход электроэнергии\"),0)","v":0}]
["1",null,null,null,null,{"$f":"first_year+2","v":2021},true,null,null,null,null,"2021 год",{"$f":"IFERROR(SUMIFS(INDEX(Калькуляция!$O$15:$AM$143,,MATCH(F701&\"Принято органом регулирования\",Калькуляция!$O$3:$AM$3,0)),Калькуляция!$A$15:$A$143,A701,Калькуляция!$M$15:$M$143,\"Операционные расходы\"),0)","v":0},{"$f":"IFERROR(SUMIFS(INDEX(Сценарии!$O$15:$AP$35,,MATCH(F701&\"Принято органом регулирования\",Сценарии!$O$3:$AP$3,0)),Сценарии!$A$15:$A$35,A701,Сценарии!$M$15:$M$35,\"Индекс эффективности операционных расходов\"),0)","v":0},null,null,{"$f":"IFERROR(SUMIFS(INDEX(ЭЭ!$O$15:$AL$42,,MATCH($F701&\"Принято органом регулирования\",ЭЭ!$O$3:$AL$3,0)),ЭЭ!$A$15:$A$42,$A701,ЭЭ!$M$15:$M$42,\"Удельный расход электроэнергии\"),0)","v":0},null,null,{"$f":"IFERROR(SUMIFS(INDEX(ЭЭ!$O$15:$AL$42,,MATCH($F701&\"Принято органом регулирования\",ЭЭ!$O$3:$AL$3,0)),ЭЭ!$A$15:$A$42,$A701,ЭЭ!$M$15:$M$42,\"Удельный расход электроэнергии\"),0)","v":0},{"$f":"IFERROR(SUMIFS(INDEX(ЭЭ!$O$15:$AL$42,,MATCH($F701&\"Принято органом регулирования\",ЭЭ!$O$3:$AL$3,0)),ЭЭ!$A$15:$A$42,$A701,ЭЭ!$M$15:$M$42,\"Удельный расход электроэнергии\"),0)","v":0}]
["1",null,null,null,null,{"$f":"first_year+3","v":2022},true,null,null,null,null,"2022 год",{"$f":"IFERROR(SUMIFS(INDEX(Калькуляция!$O$15:$AM$143,,MATCH(F702&\"Принято органом регулирования\",Калькуляция!$O$3:$AM$3,0)),Калькуляция!$A$15:$A$143,A702,Калькуляция!$M$15:$M$143,\"Операционные расходы\"),0)","v":0},{"$f":"IFERROR(SUMIFS(INDEX(Сценарии!$O$15:$AP$35,,MATCH(F702&\"Принято органом регулирования\",Сценарии!$O$3:$AP$3,0)),Сценарии!$A$15:$A$35,A702,Сценарии!$M$15:$M$35,\"Индекс эффективности операционных расходов\"),0)","v":0},null,null,{"$f":"IFERROR(SUMIFS(INDEX(ЭЭ!$O$15:$AL$42,,MATCH($F702&\"Принято органом регулирования\",ЭЭ!$O$3:$AL$3,0)),ЭЭ!$A$15:$A$42,$A702,ЭЭ!$M$15:$M$42,\"Удельный расход электроэнергии\"),0)","v":0},null,null,{"$f":"IFERROR(SUMIFS(INDEX(ЭЭ!$O$15:$AL$42,,MATCH($F702&\"Принято органом регулирования\",ЭЭ!$O$3:$AL$3,0)),ЭЭ!$A$15:$A$42,$A702,ЭЭ!$M$15:$M$42,\"Удельный расход электроэнергии\"),0)","v":0},{"$f":"IFERROR(SUMIFS(INDEX(ЭЭ!$O$15:$AL$42,,MATCH($F702&\"Принято органом регулирования\",ЭЭ!$O$3:$AL$3,0)),ЭЭ!$A$15:$A$42,$A702,ЭЭ!$M$15:$M$42,\"Удельный расход электроэнергии\"),0)","v":0}]
["1",null,null,null,null,{"$f":"first_year+4","v":2023},true,null,null,null,null,"2023 год",{"$f":"IFERROR(SUMIFS(INDEX(Калькуляция!$O$15:$AM$143,,MATCH(F703&\"Принято органом регулирования\",Калькуляция!$O$3:$AM$3,0)),Калькуляция!$A$15:$A$143,A703,Калькуляция!$M$15:$M$143,\"Операционные расходы\"),0)","v":116336.826778181},{"$f":"IFERROR(SUMIFS(INDEX(Сценарии!$O$15:$AP$35,,MATCH(F703&\"Принято органом регулирования\",Сценарии!$O$3:$AP$3,0)),Сценарии!$A$15:$A$35,A703,Сценарии!$M$15:$M$35,\"Индекс эффективности операционных расходов\"),0)","v":1},null,null,{"$f":"IFERROR(SUMIFS(INDEX(ЭЭ!$O$15:$AL$42,,MATCH($F703&\"Принято органом регулирования\",ЭЭ!$O$3:$AL$3,0)),ЭЭ!$A$15:$A$42,$A703,ЭЭ!$M$15:$M$42,\"Удельный расход электроэнергии\"),0)","v":1.2500000000000069},null,null,{"$f":"IFERROR(SUMIFS(INDEX(ЭЭ!$O$15:$AL$42,,MATCH($F703&\"Принято органом регулирования\",ЭЭ!$O$3:$AL$3,0)),ЭЭ!$A$15:$A$42,$A703,ЭЭ!$M$15:$M$42,\"Удельный расход электроэнергии\"),0)","v":1.2500000000000069},{"$f":"IFERROR(SUMIFS(INDEX(ЭЭ!$O$15:$AL$42,,MATCH($F703&\"Принято органом регулирования\",ЭЭ!$O$3:$AL$3,0)),ЭЭ!$A$15:$A$42,$A703,ЭЭ!$M$15:$M$42,\"Удельный расход электроэнергии\"),0)","v":1.2500000000000069}]
["1",null,null,null,null,{"$f":"first_year+5","v":2024},true,null,null,null,null,"2024 год",{"$f":"IFERROR(SUMIFS(INDEX(Калькуляция!$O$15:$AM$143,,MATCH(F704&\"Принято органом регулирования\",Калькуляция!$O$3:$AM$3,0)),Калькуляция!$A$15:$A$143,A704,Калькуляция!$M$15:$M$143,\"Операционные расходы\"),0)","v":123124.798881558},{"$f":"IFERROR(SUMIFS(INDEX(Сценарии!$O$15:$AP$35,,MATCH(F704&\"Принято органом регулирования\",Сценарии!$O$3:$AP$3,0)),Сценарии!$A$15:$A$35,A704,Сценарии!$M$15:$M$35,\"Индекс эффективности операционных расходов\"),0)","v":1},null,null,{"$f":"IFERROR(SUMIFS(INDEX(ЭЭ!$O$15:$AL$42,,MATCH($F704&\"Принято органом регулирования\",ЭЭ!$O$3:$AL$3,0)),ЭЭ!$A$15:$A$42,$A704,ЭЭ!$M$15:$M$42,\"Удельный расход электроэнергии\"),0)","v":1.25},null,null,{"$f":"IFERROR(SUMIFS(INDEX(ЭЭ!$O$15:$AL$42,,MATCH($F704&\"Принято органом регулирования\",ЭЭ!$O$3:$AL$3,0)),ЭЭ!$A$15:$A$42,$A704,ЭЭ!$M$15:$M$42,\"Удельный расход электроэнергии\"),0)","v":1.25},{"$f":"IFERROR(SUMIFS(INDEX(ЭЭ!$O$15:$AL$42,,MATCH($F704&\"Принято органом регулирования\",ЭЭ!$O$3:$AL$3,0)),ЭЭ!$A$15:$A$42,$A704,ЭЭ!$M$15:$M$42,\"Удельный расход электроэнергии\"),0)","v":1.25}]
["1",null,null,null,null,{"$f":"first_year+6","v":2025},true,null,null,null,null,"2025 год",{"$f":"IFERROR(SUMIFS(INDEX(Калькуляция!$O$15:$AM$143,,MATCH(F705&\"Принято органом регулирования\",Калькуляция!$O$3:$AM$3,0)),Калькуляция!$A$15:$A$143,A705,Калькуляция!$M$15:$M$143,\"Операционные расходы\"),0)","v":130048.5902231364},{"$f":"IFERROR(SUMIFS(INDEX(Сценарии!$O$15:$AP$35,,MATCH(F705&\"Принято органом регулирования\",Сценарии!$O$3:$AP$3,0)),Сценарии!$A$15:$A$35,A705,Сценарии!$M$15:$M$35,\"Индекс эффективности операционных расходов\"),0)","v":1},null,null,{"$f":"IFERROR(SUMIFS(INDEX(ЭЭ!$O$15:$AL$42,,MATCH($F705&\"Принято органом регулирования\",ЭЭ!$O$3:$AL$3,0)),ЭЭ!$A$15:$A$42,$A705,ЭЭ!$M$15:$M$42,\"Удельный расход электроэнергии\"),0)","v":1.2500000638046289},null,null,{"$f":"IFERROR(SUMIFS(INDEX(ЭЭ!$O$15:$AL$42,,MATCH($F705&\"Принято органом регулирования\",ЭЭ!$O$3:$AL$3,0)),ЭЭ!$A$15:$A$42,$A705,ЭЭ!$M$15:$M$42,\"Удельный расход электроэнергии\"),0)","v":1.2500000638046289},{"$f":"IFERROR(SUMIFS(INDEX(ЭЭ!$O$15:$AL$42,,MATCH($F705&\"Принято органом регулирования\",ЭЭ!$O$3:$AL$3,0)),ЭЭ!$A$15:$A$42,$A705,ЭЭ!$M$15:$M$42,\"Удельный расход электроэнергии\"),0)","v":1.2500000638046289}]
["1",null,null,null,null,{"$f":"first_year+7","v":2026},true,null,null,null,null,"2026 год",{"$f":"IFERROR(SUMIFS(INDEX(Калькуляция!$O$15:$AM$143,,MATCH(F706&\"Принято органом регулирования\",Калькуляция!$O$3:$AM$3,0)),Калькуляция!$A$15:$A$143,A706,Калькуляция!$M$15:$M$143,\"Операционные расходы\"),0)","v":130048.5902231364},{"$f":"IFERROR(SUMIFS(INDEX(Сценарии!$O$15:$AP$35,,MATCH(F706&\"Принято органом регулирования\",Сценарии!$O$3:$AP$3,0)),Сценарии!$A$15:$A$35,A706,Сценарии!$M$15:$M$35,\"Индекс эффективности операционных расходов\"),0)","v":0},null,null,{"$f":"IFERROR(SUMIFS(INDEX(ЭЭ!$O$15:$AL$42,,MATCH($F706&\"Принято органом регулирования\",ЭЭ!$O$3:$AL$3,0)),ЭЭ!$A$15:$A$42,$A706,ЭЭ!$M$15:$M$42,\"Удельный расход электроэнергии\"),0)","v":0},null,null,{"$f":"IFERROR(SUMIFS(INDEX(ЭЭ!$O$15:$AL$42,,MATCH($F706&\"Принято органом регулирования\",ЭЭ!$O$3:$AL$3,0)),ЭЭ!$A$15:$A$42,$A706,ЭЭ!$M$15:$M$42,\"Удельный расход электроэнергии\"),0)","v":0},{"$f":"IFERROR(SUMIFS(INDEX(ЭЭ!$O$15:$AL$42,,MATCH($F706&\"Принято органом регулирования\",ЭЭ!$O$3:$AL$3,0)),ЭЭ!$A$15:$A$42,$A706,ЭЭ!$M$15:$M$42,\"Удельный расход электроэнергии\"),0)","v":0}]
["1",null,null,null,null,{"$f":"first_year+8","v":2027},true,null,null,null,null,"2027 год",{"$f":"IFERROR(SUMIFS(INDEX(Калькуляция!$O$15:$AM$143,,MATCH(F707&\"Принято органом регулирования\",Калькуляция!$O$3:$AM$3,0)),Калькуляция!$A$15:$A$143,A707,Калькуляция!$M$15:$M$143,\"Операционные расходы\"),0)","v":130048.5902231364},{"$f":"IFERROR(SUMIFS(INDEX(Сценарии!$O$15:$AP$35,,MATCH(F707&\"Принято органом регулирования\",Сценарии!$O$3:$AP$3,0)),Сценарии!$A$15:$A$35,A707,Сценарии!$M$15:$M$35,\"Индекс эффективности операционных расходов\"),0)","v":0},null,null,{"$f":"IFERROR(SUMIFS(INDEX(ЭЭ!$O$15:$AL$42,,MATCH($F707&\"Принято органом регулирования\",ЭЭ!$O$3:$AL$3,0)),ЭЭ!$A$15:$A$42,$A707,ЭЭ!$M$15:$M$42,\"Удельный расход электроэнергии\"),0)","v":0},null,null,{"$f":"IFERROR(SUMIFS(INDEX(ЭЭ!$O$15:$AL$42,,MATCH($F707&\"Принято органом регулирования\",ЭЭ!$O$3:$AL$3,0)),ЭЭ!$A$15:$A$42,$A707,ЭЭ!$M$15:$M$42,\"Удельный расход электроэнергии\"),0)","v":0},{"$f":"IFERROR(SUMIFS(INDEX(ЭЭ!$O$15:$AL$42,,MATCH($F707&\"Принято органом регулирования\",ЭЭ!$O$3:$AL$3,0)),ЭЭ!$A$15:$A$42,$A707,ЭЭ!$M$15:$M$42,\"Удельный расход электроэнергии\"),0)","v":0}]
["1",null,null,null,null,{"$f":"first_year+9","v":2028},{"$f":"F708<first_year+PERIOD_LENGTH","v":true},null,null,null,null,"2028 год",{"$f":"IFERROR(SUMIFS(INDEX(Калькуляция!$O$15:$AM$143,,MATCH(F708&\"Принято органом регулирования\",Калькуляция!$O$3:$AM$3,0)),Калькуляция!$A$15:$A$143,A708,Калькуляция!$M$15:$M$143,\"Операционные расходы\"),0)","v":130048.5902231364},{"$f":"IFERROR(SUMIFS(INDEX(Сценарии!$O$15:$AP$35,,MATCH(F708&\"Принято органом регулирования\",Сценарии!$O$3:$AP$3,0)),Сценарии!$A$15:$A$35,A708,Сценарии!$M$15:$M$35,\"Индекс эффективности операционных расходов\"),0)","v":0},null,null,{"$f":"IFERROR(SUMIFS(INDEX(ЭЭ!$O$15:$AL$42,,MATCH($F708&\"Принято органом регулирования\",ЭЭ!$O$3:$AL$3,0)),ЭЭ!$A$15:$A$42,$A708,ЭЭ!$M$15:$M$42,\"Удельный расход электроэнергии\"),0)","v":0},null,null,{"$f":"IFERROR(SUMIFS(INDEX(ЭЭ!$O$15:$AL$42,,MATCH($F708&\"Принято органом регулирования\",ЭЭ!$O$3:$AL$3,0)),ЭЭ!$A$15:$A$42,$A708,ЭЭ!$M$15:$M$42,\"Удельный расход электроэнергии\"),0)","v":0},{"$f":"IFERROR(SUMIFS(INDEX(ЭЭ!$O$15:$AL$42,,MATCH($F708&\"Принято органом регулирования\",ЭЭ!$O$3:$AL$3,0)),ЭЭ!$A$15:$A$42,$A708,ЭЭ!$M$15:$M$42,\"Удельный расход электроэнергии\"),0)","v":0}]
["1",null,null,null,null,{"$f":"first_year+10","v":2029},false,null,null,null,null,"2029 год"]
["1",null,null,null,null,{"$f":"first_year+11","v":2030},false,null,null,null,null,"2030 год"]
["1",null,null,null,null,{"$f":"first_year+12","v":2031},false,null,null,null,null,"2031 год"]
["1",null,null,null,null,{"$f":"first_year+13","v":2032},false,null,null,null,null,"2032 год"]
["1",null,null,null,null,{"$f":"first_year+14","v":2033},false,null,null,null,null,"2033 год"]
["1",null,null,null,null,{"$f":"first_year+15","v":2034},false,null,null,null,null,"2034 год"]
["1",null,null,null,null,{"$f":"first_year+16","v":2035},false,null,null,null,null,"2035 год"]
["1",null,null,null,null,{"$f":"first_year+17","v":2036},false,null,null,null,null,"2036 год"]
["1",null,null,null,null,{"$f":"first_year+18","v":2037},false,null,null,null,null,"2037 год"]
["1",null,null,null,null,{"$f":"first_year+19","v":2038},false,null,null,null,null,"2038 год"]
["1",null,null,null,null,{"$f":"first_year+20","v":2039},false,null,null,null,null,"2039 год"]
["1",null,null,null,null,{"$f":"first_year+21","v":2040},false,null,null,null,null,"2040 год"]
["1",null,null,null,null,{"$f":"first_year+22","v":2041},false,null,null,null,null,"2041 год"]
["1",null,null,null,null,{"$f":"first_year+23","v":2042},false,null,null,null,null,"2042 год"]
["1",null,null,null,null,{"$f":"first_year+24","v":2043},false,null,null,null,null,"2043 год"]
["1",null,null,null,null,{"$f":"first_year+25","v":2044},false,null,null,null,null,"2044 год"]
["1",null,null,null,null,{"$f":"first_year+26","v":2045},false,null,null,null,null,"2045 год"]
["1",null,null,null,null,{"$f":"first_year+27","v":2046},false,null,null,null,null,"2046 год"]
["1",null,null,null,null,{"$f":"first_year+28","v":2047},false,null,null,null,null,"2047 год"]
["1",null,null,null,null,{"$f":"first_year+29","v":2048},false,null,null,null,null,"2048 год"]
["1",null,null,null,null,{"$f":"first_year+30","v":2049},false,null,null,null,null,"2049 год"]
["1",null,null,null,null,{"$f":"first_year+31","v":2050},false,null,null,null,null,"2050 год"]
["1",null,null,null,null,{"$f":"first_year+32","v":2051},false,null,null,null,null,"2051 год"]
["1",null,null,null,null,{"$f":"first_year+33","v":2052},false,null,null,null,null,"2052 год"]
["1",null,null,null,null,{"$f":"first_year+34","v":2053},false,null,null,null,null,"2053 год"]
["1",null,null,null,null,{"$f":"first_year+35","v":2054},false,null,null,null,null,"2054 год"]
["1",null,null,null,null,{"$f":"first_year+36","v":2055},false,null,null,null,null,"2055 год"]
["1",null,null,null,null,{"$f":"first_year+37","v":2056},false,null,null,null,null,"2056 год"]
["1",null,null,null,null,{"$f":"first_year+38","v":2057},false,null,null,null,null,"2057 год"]
["1",null,null,null,null,{"$f":"first_year+39","v":2058},false,null,null,null,null,"2058 год"]
["1",null,null,null,null,{"$f":"first_year+40","v":2059},false,null,null,null,null,"2059 год"]
["1",null,null,null,null,{"$f":"first_year+41","v":2060},false,null,null,null,null,"2060 год"]
["1",null,null,null,null,{"$f":"first_year+42","v":2061},false,null,null,null,null,"2061 год"]
["1",null,null,null,null,{"$f":"first_year+43","v":2062},false,null,null,null,null,"2062 год"]
["1",null,null,null,null,{"$f":"first_year+44","v":2063},false,null,null,null,null,"2063 год"]
["1",null,null,null,null,{"$f":"first_year+45","v":2064},false,null,null,null,null,"2064 год"]
["1",null,null,null,null,{"$f":"first_year+46","v":2065},false,null,null,null,null,"2065 год"]
["1",null,null,null,null,{"$f":"first_year+47","v":2066},false,null,null,null,null,"2066 год"]
["1",null,null,null,null,{"$f":"first_year+48","v":2067},false,null,null,null,null,"2067 год"]
["1",null,null,null,null,{"$f":"first_year+49","v":2068},{"$f":"F748<first_year+PERIOD_LENGTH","v":false},null,null,null,null,{"$f":"F748& \" год\"","v":"2068 год"}]
[]
["18. ДПР (концессии)"]
["et_List18_tariff"]
["1",null,null,null,null,null,null,null,null,null,null,{"$f":"INDEX('Общие сведения'!$J$121:$J$135,MATCH($A752,'Общие сведения'!$D$121:$D$135,0))","v":"Тариф 1 (Водоотведение) - тариф на водоотведение"}]
[{"$f":"A752","v":"1"},{"$f":"A753&\"pIns\"","v":"1pIns"},null,null,null,null,null,null,null,null,null,"Добавить"]
["et_List18_block"]
[{"$f":"OFFSET(B755,-1,-1)","v":"et_List18_block"},{"$f":"L755","v":0},null,null,null,null,null,null,null,null,"О"]
[{"$f":"OFFSET(B756,-1,-1)","v":"et_List18_block"},{"$f":"B755","v":0},null,null,null,{"$f":"first_year","v":2019},{"$f":"F756<first_year+PERIOD_LENGTH","v":true},null,null,null,null,{"$f":"F756& \" год\"","v":"2019 год"}]
["et_List18_block",{"$f":"B756","v":0},null,null,null,{"$f":"first_year+1","v":2020},true,null,null,null,null,{"$f":"F757& \" год\"","v":"2020 год"}]
["et_List18_block",0,null,null,null,{"$f":"first_year+2","v":2021},true,null,null,null,null,"2021 год"]
["et_List18_block",0,null,null,null,{"$f":"first_year+3","v":2022},true,null,null,null,null,"2022 год"]
["et_List18_block",0,null,null,null,{"$f":"first_year+4","v":2023},true,null,null,null,null,"2023 год"]
["et_List18_block",0,null,null,null,{"$f":"first_year+5","v":2024},true,null,null,null,null,"2024 год"]
["et_List18_block",0,null,null,null,{"$f":"first_year+6","v":2025},true,null,null,null,null,"2025 год"]
["et_List18_block",0,null,null,null,{"$f":"first_year+7","v":2026},true,null,null,null,null,"2026 год"]
["et_List18_block",0,null,null,null,{"$f":"first_year+8","v":2027},true,null,null,null,null,"2027 год"]
["et_List18_block",0,null,null,null,{"$f":"first_year+9","v":2028},{"$f":"F765<first_year+PERIOD_LENGTH","v":true},null,null,null,null,"2028 год"]
["et_List18_block",0,null,null,null,{"$f":"first_year+10","v":2029},false,null,null,null,null,"2029 год"]
["et_List18_block",0,null,null,null,{"$f":"first_year+11","v":2030},false,null,null,null,null,"2030 год"]
["et_List18_block",0,null,null,null,{"$f":"first_year+12","v":2031},false,null,null,null,null,"2031 год"]
["et_List18_block",0,null,null,null,{"$f":"first_year+13","v":2032},false,null,null,null,null,"2032 год"]
["et_List18_block",0,null,null,null,{"$f":"first_year+14","v":2033},false,null,null,null,null,"2033 год"]
["et_List18_block",0,null,null,null,{"$f":"first_year+15","v":2034},false,null,null,null,null,"2034 год"]
["et_List18_block",0,null,null,null,{"$f":"first_year+16","v":2035},false,null,null,null,null,"2035 год"]
["et_List18_block",0,null,null,null,{"$f":"first_year+17","v":2036},false,null,null,null,null,"2036 год"]
["et_List18_block",0,null,null,null,{"$f":"first_year+18","v":2037},false,null,null,null,null,"2037 год"]
["et_List18_block",0,null,null,null,{"$f":"first_year+19","v":2038},false,null,null,null,null,"2038 год"]
["et_List18_block",0,null,null,null,{"$f":"first_year+20","v":2039},false,null,null,null,null,"2039 год"]
["et_List18_block",0,null,null,null,{"$f":"first_year+21","v":2040},false,null,null,null,null,"2040 год"]
["et_List18_block",0,null,null,null,{"$f":"first_year+22","v":2041},false,null,null,null,null,"2041 год"]
["et_List18_block",0,null,null,null,{"$f":"first_year+23","v":2042},false,null,null,null,null,"2042 год"]
["et_List18_block",0,null,null,null,{"$f":"first_year+24","v":2043},false,null,null,null,null,"2043 год"]
["et_List18_block",0,null,null,null,{"$f":"first_year+25","v":2044},false,null,null,null,null,"2044 год"]
["et_List18_block",0,null,null,null,{"$f":"first_year+26","v":2045},false,null,null,null,null,"2045 год"]
["et_List18_block",0,null,null,null,{"$f":"first_year+27","v":2046},false,null,null,null,null,"2046 год"]
["et_List18_block",0,null,null,null,{"$f":"first_year+28","v":2047},false,null,null,null,null,"2047 год"]
["et_List18_block",0,null,null,null,{"$f":"first_year+29","v":2048},false,null,null,null,null,"2048 год"]
["et_List18_block",0,null,null,null,{"$f":"first_year+30","v":2049},false,null,null,null,null,"2049 год"]
["et_List18_block",0,null,null,null,{"$f":"first_year+31","v":2050},false,null,null,null,null,"2050 год"]
["et_List18_block",0,null,null,null,{"$f":"first_year+32","v":2051},false,null,null,null,null,"2051 год"]
["et_List18_block",0,null,null,null,{"$f":"first_year+33","v":2052},false,null,null,null,null,"2052 год"]
["et_List18_block",0,null,null,null,{"$f":"first_year+34","v":2053},false,null,null,null,null,"2053 год"]
["et_List18_block",0,null,null,null,{"$f":"first_year+35","v":2054},false,null,null,null,null,"2054 год"]
["et_List18_block",0,null,null,null,{"$f":"first_year+36","v":2055},false,null,null,null,null,"2055 год"]
["et_List18_block",0,null,null,null,{"$f":"first_year+37","v":2056},false,null,null,null,null,"2056 год"]
["et_List18_block",0,null,null,null,{"$f":"first_year+38","v":2057},false,null,null,null,null,"2057 год"]
["et_List18_block",0,null,null,null,{"$f":"first_year+39","v":2058},false,null,null,null,null,"2058 год"]
["et_List18_block",0,null,null,null,{"$f":"first_year+40","v":2059},false,null,null,null,null,"2059 год"]
["et_List18_block",0,null,null,null,{"$f":"first_year+41","v":2060},false,null,null,null,null,"2060 год"]
["et_List18_block",0,null,null,null,{"$f":"first_year+42","v":2061},false,null,null,null,null,"2061 год"]
["et_List18_block",0,null,null,null,{"$f":"first_year+43","v":2062},false,null,null,null,null,"2062 год"]
["et_List18_block",0,null,null,null,{"$f":"first_year+44","v":2063},false,null,null,null,null,"2063 год"]
["et_List18_block",0,null,null,null,{"$f":"first_year+45","v":2064},false,null,null,null,null,"2064 год"]
["et_List18_block",0,null,null,null,{"$f":"first_year+46","v":2065},false,null,null,null,null,"2065 год"]
["et_List18_block",0,null,null,null,{"$f":"first_year+47","v":2066},false,null,null,null,null,"2066 год"]
["et_List18_block",0,null,null,null,{"$f":"first_year+48","v":2067},false,null,null,null,null,"2067 год"]
["et_List18_block",0,null,null,null,{"$f":"first_year+49","v":2068},false,null,null,null,null,{"$f":"F805& \" год\"","v":"2068 год"}]

{"sheet":"ТМ","index":30,"n_rows":64,"n_cols":163,"rows_kept":64,"cut":false,"hidden":false,"merged":[[16,11,16,12],[17,11,17,12],[18,11,18,12],[19,11,19,12],[14,11,15,11],[14,12,15,12],[14,13,14,15],[14,40,14,42],[14,16,14,18],[14,34,14,36],[14,37,14,39],[14,22,14,24],[14,25,14,27],[14,28,14,30],[14,31,14,33],[14,19,14,21],[63,11,63,12],[62,11,62,42],[58,11,59,11],[58,12,59,12],[58,37,58,39],[58,13,58,15],[58,16,58,18],[58,40,58,42],[61,11,61,42],[58,19,58,21],[58,22,58,24],[58,28,58,30],[58,31,58,33],[58,34,58,36],[58,25,58,27],[14,58,14,60],[14,61,14,63],[14,64,14,66],[14,67,14,69],[14,70,14,72],[14,43,14,45],[14,46,14,48],[14,49,14,51],[14,52,14,54],[14,55,14,57],[14,88,14,90],[14,91,14,93],[14,94,14,96],[14,97,14,99],[14,100,14,102],[14,73,14,75],[14,76,14,78],[14,79,14,81],[14,82,14,84],[14,85,14,87],[14,118,14,120],[14,121,14,123],[14,124,14,126],[14,127,14,129],[14,130,14,132],[14,103,14,105],[14,106,14,108],[14,109,14,111],[14,112,14,114],[14,115,14,117],[14,148,14,150],[14,151,14,153],[14,154,14,156],[14,157,14,159],[14,160,14,162],[14,133,14,135],[14,136,14,138],[14,139,14,141],[14,142,14,144],[14,145,14,147],[58,58,58,60],[58,61,58,63],[58,64,58,66],[58,67,58,69],[58,70,58,72],[58,43,58,45],[58,46,58,48],[58,49,58,51],[58,52,58,54],[58,55,58,57],[58,88,58,90],[58,91,58,93],[58,94,58,96],[58,97,58,99],[58,100,58,102],[58,73,58,75],[58,76,58,78],[58,79,58,81],[58,82,58,84],[58,85,58,87],[58,118,58,120],[58,121,58,123],[58,124,58,126],[58,127,58,129],[58,130,58,132],[58,103,58,105],[58,106,58,108],[58,109,58,111],[58,112,58,114],[58,115,58,117],[58,148,58,150],[58,151,58,153],[58,154,58,156],[58,157,58,159],[58,160,58,162],[58,133,58,135],[58,136,58,138],[58,139,58,141],[58,142,58,144],[58,145,58,147]]}
[null,null,null,null,null,null,null,null,null,null,null,null,null,{"$f":"god","v":2025},{"$f":"god","v":2025},{"$f":"god","v":2025},{"$f":"god+1","v":2026},{"$f":"god+1","v":2026},{"$f":"god+1","v":2026},{"$f":"god+2","v":2027},{"$f":"god+2","v":2027},{"$f":"god+2","v":2027},{"$f":"god+3","v":2028},{"$f":"god+3","v":2028},{"$f":"god+3","v":2028},{"$f":"god+4","v":2029},{"$f":"god+4","v":2029},{"$f":"god+4","v":2029},{"$f":"god+5","v":2030},{"$f":"god+5","v":2030},{"$f":"god+5","v":2030},{"$f":"god+6","v":2031},{"$f":"god+6","v":2031},{"$f":"god+6","v":2031},{"$f":"god+7","v":2032},{"$f":"god+7","v":2032},{"$f":"god+7","v":2032},{"$f":"god+8","v":2033},{"$f":"god+8","v":2033},{"$f":"god+8","v":2033},{"$f":"god+9","v":2034},{"$f":"god+9","v":2034},{"$f":"god+9","v":2034},{"$f":"god+10","v":2035},{"$f":"god+10","v":2035},{"$f":"god+10","v":2035},{"$f":"god+11","v":2036},{"$f":"god+11","v":2036},{"$f":"god+11","v":2036},{"$f":"god+12","v":2037},{"$f":"god+12","v":2037},{"$f":"god+12","v":2037},{"$f":"god+13","v":2038},{"$f":"god+13","v":2038},{"$f":"god+13","v":2038},{"$f":"god+14","v":2039},{"$f":"god+14","v":2039},{"$f":"god+14","v":2039},{"$f":"god+15","v":2040},{"$f":"god+15","v":2040},{"$f":"god+15","v":2040},{"$f":"god+16","v":2041},{"$f":"god+16","v":2041},{"$f":"god+16","v":2041},{"$f":"god+17","v":2042},{"$f":"god+17","v":2042},{"$f":"god+17","v":2042},{"$f":"god+18","v":2043},{"$f":"god+18","v":2043},{"$f":"god+18","v":2043},{"$f":"god+19","v":2044},{"$f":"god+19","v":2044},{"$f":"god+19","v":2044},{"$f":"god+20","v":2045},{"$f":"god+20","v":2045},{"$f":"god+20","v":2045},{"$f":"god+21","v":2046},{"$f":"god+21","v":2046},{"$f":"god+21","v":2046},{"$f":"god+22","v":2047},{"$f":"god+22","v":2047},{"$f":"god+22","v":2047},{"$f":"god+23","v":2048},{"$f":"god+23","v":2048},{"$f":"god+23","v":2048},{"$f":"god+24","v":2049},{"$f":"god+24","v":2049},{"$f":"god+24","v":2049},{"$f":"god+25","v":2050},{"$f":"god+25","v":2050},{"$f":"god+25","v":2050},{"$f":"god+26","v":2051},{"$f":"god+26","v":2051},{"$f":"god+26","v":2051},{"$f":"god+27","v":2052},{"$f":"god+27","v":2052},{"$f":"god+27","v":2052},{"$f":"god+28","v":2053},{"$f":"god+28","v":2053},{"$f":"god+28","v":2053},{"$f":"god+29","v":2054},{"$f":"god+29","v":2054},{"$f":"god+29","v":2054},{"$f":"god+30","v":2055},{"$f":"god+30","v":2055},{"$f":"god+30","v":2055},{"$f":"god+31","v":2056},{"$f":"god+31","v":2056},{"$f":"god+31","v":2056},{"$f":"god+32","v":2057},{"$f":"god+32","v":2057},{"$f":"god+32","v":2057},{"$f":"god+33","v":2058},{"$f":"god+33","v":2058},{"$f":"god+33","v":2058},{"$f":"god+34","v":2059},{"$f":"god+34","v":2059},{"$f":"god+34","v":2059},{"$f":"god+35","v":2060},{"$f":"god+35","v":2060},{"$f":"god+35","v":2060},{"$f":"god+36","v":2061},{"$f":"god+36","v":2061},{"$f":"god+36","v":2061},{"$f":"god+37","v":2062},{"$f":"god+37","v":2062},{"$f":"god+37","v":2062},{"$f":"god+38","v":2063},{"$f":"god+38","v":2063},{"$f":"god+38","v":2063},{"$f":"god+39","v":2064},{"$f":"god+39","v":2064},{"$f":"god+39","v":2064},{"$f":"god+40","v":2065},{"$f":"god+40","v":2065},{"$f":"god+40","v":2065},{"$f":"god+41","v":2066},{"$f":"god+41","v":2066},{"$f":"god+41","v":2066},{"$f":"god+42","v":2067},{"$f":"god+42","v":2067},{"$f":"god+42","v":2067},{"$f":"god+43","v":2068},{"$f":"god+43","v":2068},{"$f":"god+43","v":2068},{"$f":"god+44","v":2069},{"$f":"god+44","v":2069},{"$f":"god+44","v":2069},{"$f":"god+45","v":2070},{"$f":"god+45","v":2070},{"$f":"god+45","v":2070},{"$f":"god+46","v":2071},{"$f":"god+46","v":2071},{"$f":"god+46","v":2071},{"$f":"god+47","v":2072},{"$f":"god+47","v":2072},{"$f":"god+47","v":2072},{"$f":"god+48","v":2073},{"$f":"god+48","v":2073},{"$f":"god+48","v":2073},{"$f":"god+49","v":2074},{"$f":"god+49","v":2074},{"$f":"god+49","v":2074}]
[null,null,null,null,null,null,null,null,null,null,null,null,null,{"$f":"N16","v":"Предложение организации"},{"$f":"O16","v":"Принято органом регулирования"},"Отклонение, %","Предложение организации","Принято органом регулирования","Отклонение, %","Предложение организации","Принято органом регулирования","Отклонение, %","Предложение организации","Принято органом регулирования","Отклонение, %","Предложение организации","Принято органом регулирования","Отклонение, %","Предложение организации","Принято органом регулирования","Отклонение, %","Предложение организации","Принято органом регулирования","Отклонение, %","Предложение организации","Принято органом регулирования","Отклонение, %","Предложение организации","Принято органом регулирования","Отклонение, %","Предложение организации","Принято органом регулирования","Отклонение, %",{"$f":"AR16","v":"Предложение организации"},{"$f":"AS16","v":"Принято органом регулирования"},{"$f":"AT16","v":"Отклонение, %"},{"$f":"AU16","v":"Предложение организации"},"Принято органом регулирования","Отклонение, %","Предложение организации","Принято органом регулирования","Отклонение, %","Предложение организации","Принято органом регулирования","Отклонение, %","Предложение организации","Принято органом регулирования","Отклонение, %","Предложение организации","Принято органом регулирования","Отклонение, %","Предложение организации","Принято органом регулирования","Отклонение, %","Предложение организации","Принято органом регулирования","Отклонение, %","Предложение организации","Принято органом регулирования","Отклонение, %","Предложение организации","Принято органом регулирования","Отклонение, %","Предложение организации","Принято органом регулирования","Отклонение, %","Предложение организации","Принято органом регулирования","Отклонение, %","Предложение организации","Принято органом регулирования","Отклонение, %","Предложение организации","Принято органом регулирования","Отклонение, %","Предложение организации","Принято органом регулирования","Отклонение, %","Предложение организации","Принято органом регулирования","Отклонение, %","Предложение организации","Принято органом регулирования","Отклонение, %","Предложение организации","Принято органом регулирования","Отклонение, %","Предложение организации","Принято органом регулирования","Отклонение, %","Предложение организации","Принято органом регулирования","Отклонение, %","Предложение организации","Принято органом регулирования","Отклонение, %","Предложение организации","Принято органом регулирования","Отклонение, %","Предложение организации",{"$f":"DG16","v":"Принято органом регулирования"},"Отклонение, %","Предложение организации","Принято органом регулирования","Отклонение, %","Предложение организации","Принято органом регулирования","Отклонение, %","Предложение организации","Принято органом регулирования","Отклонение, %","Предложение организации","Принято органом регулирования","Отклонение, %","Предложение организации","Принято органом регулирования","Отклонение, %","Предложение организации","Принято органом регулирования","Отклонение, %","Предложение организации","Принято органом регулирования","Отклонение, %","Предложение организации","Принято органом регулирования","Отклонение, %","Предложение организации","Принято органом регулирования","Отклонение, %","Предложение организации","Принято органом регулирования","Отклонение, %","Предложение организации","Принято органом регулирования","Отклонение, %","Предложение организации","Принято органом регулирования","Отклонение, %","Предложение организации","Принято органом регулирования","Отклонение, %","Предложение организации","Принято органом регулирования","Отклонение, %","Предложение организации","Принято органом регулирования","Отклонение, %","Предложение организации","Принято органом регулирования","Отклонение, %","Предложение организации","Принято органом регулирования","Отклонение, %"]
[null,null,null,null,null,null,null,null,null,null,null,null,null,{"$f":"N1&N2","v":"2025Предложение организации"},{"$f":"O1&O2","v":"2025Принято органом регулирования"},"2025Отклонение, %","2026Предложение организации","2026Принято органом регулирования","2026Отклонение, %","2027Предложение организации","2027Принято органом регулирования","2027Отклонение, %","2028Предложение организации","2028Принято органом регулирования","2028Отклонение, %","2029Предложение организации","2029Принято органом регулирования","2029Отклонение, %","2030Предложение организации","2030Принято органом регулирования","2030Отклонение, %","2031Предложение организации","2031Принято органом регулирования","2031Отклонение, %","2032Предложение организации","2032Принято органом регулирования","2032Отклонение, %","2033Предложение организации","2033Принято органом регулирования","2033Отклонение, %","2034Предложение организации","2034Принято органом регулирования","2034Отклонение, %",{"$f":"AR1&AR2","v":"2035Предложение организации"},{"$f":"AS1&AS2","v":"2035Принято органом регулирования"},{"$f":"AT1&AT2","v":"2035Отклонение, %"},{"$f":"AU1&AU2","v":"2036Предложение организации"},"2036Принято органом регулирования","2036Отклонение, %","2037Предложение организации","2037Принято органом регулирования","2037Отклонение, %","2038Предложение организации","2038Принято органом регулирования","2038Отклонение, %","2039Предложение организации","2039Принято органом регулирования","2039Отклонение, %","2040Предложение организации","2040Принято органом регулирования","2040Отклонение, %","2041Предложение организации","2041Принято органом регулирования","2041Отклонение, %","2042Предложение организации","2042Принято органом регулирования","2042Отклонение, %","2043Предложение организации","2043Принято органом регулирования","2043Отклонение, %","2044Предложение организации","2044Принято органом регулирования","2044Отклонение, %","2045Предложение организации","2045Принято органом регулирования","2045Отклонение, %","2046Предложение организации","2046Принято органом регулирования","2046Отклонение, %","2047Предложение организации","2047Принято органом регулирования","2047Отклонение, %","2048Предложение организации","2048Принято органом регулирования","2048Отклонение, %","2049Предложение организации","2049Принято органом регулирования","2049Отклонение, %","2050Предложение организации","2050Принято органом регулирования","2050Отклонение, %","2051Предложение организации","2051Принято органом регулирования","2051Отклонение, %","2052Предложение организации","2052Принято органом регулирования","2052Отклонение, %","2053Предложение организации","2053Принято органом регулирования","2053Отклонение, %","2054Предложение организации","2054Принято органом регулирования","2054Отклонение, %","2055Предложение организации","2055Принято органом регулирования","2055Отклонение, %","2056Предложение организации","2056Принято органом регулирования","2056Отклонение, %","2057Предложение организации",{"$f":"DG1&DG2","v":"2057Принято органом регулирования"},"2057Отклонение, %","2058Предложение организации","2058Принято органом регулирования","2058Отклонение, %","2059Предложение организации","2059Принято органом регулирования","2059Отклонение, %","2060Предложение организации","2060Принято органом регулирования","2060Отклонение, %","2061Предложение организации","2061Принято органом регулирования","2061Отклонение, %","2062Предложение организации","2062Принято органом регулирования","2062Отклонение, %","2063Предложение организации","2063Принято органом регулирования","2063Отклонение, %","2064Предложение организации","2064Принято органом регулирования","2064Отклонение, %","2065Предложение организации","2065Принято органом регулирования","2065Отклонение, %","2066Предложение организации","2066Принято органом регулирования","2066Отклонение, %","2067Предложение организации","2067Принято органом регулирования","2067Отклонение, %","2068Предложение организации","2068Принято органом регулирования","2068Отклонение, %","2069Предложение организации","2069Принято органом регулирования","2069Отклонение, %","2070Предложение организации","2070Принято органом регулирования","2070Отклонение, %","2071Предложение организации","2071Принято органом регулирования","2071Отклонение, %","2072Предложение организации","2072Принято органом регулирования","2072Отклонение, %","2073Предложение организации","2073Принято органом регулирования","2073Отклонение, %","2074Предложение организации","2074Принято органом регулирования","2074Отклонение, %"]
[]
[]
[]
[null,null,null,null,null,null,null,null,null,null,null,null,null,null,null,null,{"$f":"Q1<=last_year_vis","v":false},false,false,false,false,false,false,false,false,false,false,false,false,false,false,false,false,false,false,false,false,false,false,false,false,false,false,{"$f":"AR1<=last_year_vis","v":false},false,false,false,false,false,false,false,false,false,false,false,false,false,false,false,false,false,false,false,false,false,false,false,false,false,false,false,false,false,false,false,{"$f":"BX1<=last_year_vis","v":false},false,false,false,false,false,false,false,false,false,false,false,false,false,false,false,false,false,false,false,false,false,false,false,false,false,false,false,false,false,false,false,{"$f":"DD1<=last_year_vis","v":false},false,false,false,false,false,false,false,false,false,false,false,false,false,false,false,false,false,false,false,false,false,false,false,false,false,false,false,false,false,false,false,{"$f":"EJ1<=last_year_vis","v":false},false,false,false,false,false,false,false,false,false,false,false,false,false,false,false,false,false,false,false,false,false,false,false]
[]
[]
[]
[null,null,null,null,null,null,null,null,null,null,null,{"$f":"tpl_title","v":"Кемеровская область / 2025 / ООО\"БелГОС\" (ИНН:4202023230, КПП:420201001) / ДПР: 2019-2028"}]
[null,null,null,null,null,null,null,null,null,null,null,"19. Тарифное меню"]
[]
[null,null,null,null,null,null,{"$f":"OR(hasVS,hasVO)","v":true},null,null,null,null,"16.1. Тарифное меню (водоснабжение/водоотведение)"]
[null,null,null,null,null,null,{"$f":"OR(hasVS,hasVO)","v":true},null,null,null,null,"Наименование показателя","Единица измерения",{"$f":"N1 & \" год\"","v":"2025 год"},null,null,{"$f":"Q1 & \" год\"","v":"2026 год"},null,null,{"$f":"T1 & \" год\"","v":"2027 год"},null,null,{"$f":"W1 & \" год\"","v":"2028 год"},null,null,{"$f":"Z1 & \" год\"","v":"2029 год"},null,null,{"$f":"AC1 & \" год\"","v":"2030 год"},null,null,{"$f":"AF1 & \" год\"","v":"2031 год"},null,null,{"$f":"AI1 & \" год\"","v":"2032 год"},null,null,{"$f":"AL1 & \" год\"","v":"2033 год"},null,null,{"$f":"AO1 & \" год\"","v":"2034 год"},null,null,{"$f":"AR1 & \" год\"","v":"2035 год"},null,null,{"$f":"AU1 & \" год\"","v":"2036 год"},null,null,{"$f":"AX1 & \" год\"","v":"2037 год"},null,null,{"$f":"BA1 & \" год\"","v":"2038 год"},null,null,{"$f":"BD1 & \" год\"","v":"2039 год"},null,null,{"$f":"BG1 & \" год\"","v":"2040 год"},null,null,{"$f":"BJ1 & \" год\"","v":"2041 год"},null,null,{"$f":"BM1 & \" год\"","v":"2042 год"},null,null,{"$f":"BP1 & \" год\"","v":"2043 год"},null,null,{"$f":"BS1 & \" год\"","v":"2044 год"},null,null,{"$f":"BV1 & \" год\"","v":"2045 год"},null,null,{"$f":"BY1 & \" год\"","v":"2046 год"},null,null,{"$f":"CB1 & \" год\"","v":"2047 год"},null,null,{"$f":"CE1 & \" год\"","v":"2048 год"},null,null,{"$f":"CH1 & \" год\"","v":"2049 год"},null,null,{"$f":"CK1 & \" год\"","v":"2050 год"},null,null,{"$f":"CN1 & \" год\"","v":"2051 год"},null,null,{"$f":"CQ1 & \" год\"","v":"2052 год"},null,null,{"$f":"CT1 & \" год\"","v":"2053 год"},null,null,{"$f":"CW1 & \" год\"","v":"2054 год"},null,null,{"$f":"CZ1 & \" год\"","v":"2055 год"},null,null,{"$f":"DC1 & \" год\"","v":"2056 год"},null,null,{"$f":"DF1 & \" год\"","v":"2057 год"},null,null,{"$f":"DI1 & \" год\"","v":"2058 год"},null,null,{"$f":"DL1 & \" год\"","v":"2059 год"},null,null,{"$f":"DO1 & \" год\"","v":"2060 год"},null,null,{"$f":"DR1 & \" год\"","v":"2061 год"},null,null,{"$f":"DU1 & \" год\"","v":"2062 год"},null,null,{"$f":"DX1 & \" год\"","v":"2063 год"},null,null,{"$f":"EA1 & \" год\"","v":"2064 год"},null,null,{"$f":"ED1 & \" год\"","v":"2065 год"},null,null,{"$f":"EG1 & \" год\"","v":"2066 год"},null,null,{"$f":"EJ1 & \" год\"","v":"2067 год"},null,null,{"$f":"EM1 & \" год\"","v":"2068 год"},null,null,{"$f":"EP1 & \" год\"","v":"2069 год"},null,null,{"$f":"ES1 & \" год\"","v":"2070 год"},null,null,{"$f":"EV1 & \" год\"","v":"2071 год"},null,null,{"$f":"EY1 & \" год\"","v":"2072 год"},null,null,{"$f":"FB1 & \" год\"","v":"2073 год"},null,null,{"$f":"FE1 & \" год\"","v":"2074 год"}]
[null,null,null,null,null,null,{"$f":"OR(hasVS,hasVO)","v":true},null,null,null,null,null,null,"Предложение организации","Принято органом регулирования","Отклонение, %","Предложение организации","Принято органом регулирования","Отклонение, %","Предложение организации","Принято органом регулирования","Отклонение, %","Предложение организации","Принято органом регулирования","Отклонение, %","Предложение организации","Принято органом регулирования","Отклонение, %","Предложение организации","Принято органом регулирования","Отклонение, %","Предложение организации","Принято органом регулирования","Отклонение, %","Предложение организации","Принято органом регулирования","Отклонение, %","Предложение организации","Принято органом регулирования","Отклонение, %","Предложение организации","Принято органом регулирования","Отклонение, %","Предложение организации","Принято органом регулирования","Отклонение, %","Предложение организации","Принято органом регулирования","Отклонение, %","Предложение организации","Принято органом регулирования","Отклонение, %","Предложение организации","Принято органом регулирования","Отклонение, %","Предложение организации","Принято органом регулирования","Отклонение, %","Предложение организации","Принято органом регулирования","Отклонение, %","Предложение организации","Принято органом регулирования","Отклонение, %","Предложение организации","Принято органом регулирования","Отклонение, %","Предложение организации","Принято органом регулирования","Отклонение, %","Предложение организации","Принято органом регулирования","Отклонение, %","Предложение организации","Принято органом регулирования","Отклонение, %","Предложение организации","Принято органом регулирования","Отклонение, %","Предложение организации","Принято органом регулирования","Отклонение, %","Предложение организации","Принято органом регулирования","Отклонение, %","Предложение организации","Принято органом регулирования","Отклонение, %","Предложение организации","Принято органом регулирования","Отклонение, %","Предложение организации","Принято органом регулирования","Отклонение, %","Предложение организации","Принято органом регулирования","Отклонение, %","Предложение организации","Принято органом регулирования","Отклонение, %","Предложение организации","Принято органом регулирования","Отклонение, %","Предложение организации","Принято органом регулирования","Отклонение, %","Предложение организации","Принято органом регулирования","Отклонение, %","Предложение организации","Принято органом регулирования","Отклонение, %","Предложение организации","Принято органом регулирования","Отклонение, %","Предложение организации","Принято органом регулирования","Отклонение, %","Предложение организации","Принято органом регулирования","Отклонение, %","Предложение организации","Принято органом регулирования","Отклонение, %","Предложение организации","Принято органом регулирования","Отклонение, %","Предложение организации","Принято органом регулирования","Отклонение, %","Предложение организации","Принято органом регулирования","Отклонение, %","Предложение организации","Принято органом регулирования","Отклонение, %","Предложение организации","Принято органом регулирования","Отклонение, %","Предложение организации","Принято органом регулирования","Отклонение, %","Предложение организации","Принято органом регулирования","Отклонение, %","Предложение организации","Принято органом регулирования","Отклонение, %","Предложение организации","Принято органом регулирования","Отклонение, %","Предложение организации","Принято органом регулирования","Отклонение, %","Предложение организации","Принято органом регулирования","Отклонение, %","Предложение организации","Принято органом регулирования","Отклонение, %","Предложение организации","Принято органом регулирования","Отклонение, %"]
[{"$f":"'Общие сведения'!$D$122","v":"1"},null,null,null,null,{"$f":"INDEX('Общие сведения'!$N$121:$N$135,MATCH($A17,'Общие сведения'!$D$121:$D$135,0))","v":"одноставочный"},null,null,null,null,null,"№ п/п",null,{"$f":"\"Тариф \" & A17","v":"Тариф 1"}]
[{"$f":"A17","v":"1"},null,null,null,null,null,null,null,null,null,null,"Вид воды / сточных вод",null,{"$f":"INDEX('Общие сведения'!$K$121:$K$135,MATCH($A18,'Общие сведения'!$D$121:$D$135,0))","v":"без дифференциации"}]
[{"$f":"A18","v":"1"},null,null,null,null,null,null,null,null,null,null,"Утверждаемый тариф",null,{"$f":"INDEX('Общие сведения'!$L$121:$L$135,MATCH($A19,'Общие сведения'!$D$121:$D$135,0))","v":"тариф на водоотведение"}]
["1",null,null,null,null,null,null,null,null,null,null,"Дополнительные признаки дифференциации тарифов",null,{"$f":"INDEX('Общие сведения'!$M$121:$M$135,MATCH($A20,'Общие сведения'!$D$121:$D$135,0))","v":0}]
["1",null,null,null,null,null,{"$f":"F17=\"одноставочный\"","v":true},null,null,null,null,"Одноставочный тариф:"]
["1","тариф.прочие.I","L1_1","для прочих потребителей с 01.01 по 30.06 без НДС",null,null,{"$f":"F17=\"одноставочный\"","v":true},null,null,null,null,"Тариф с 01.01 по 30.06 для прочих потребителей без НДС","руб./куб.м",{"$f":"SUMIFS(INDEX(Калькуляция!$T$15:$AM$143,,MATCH(N$3,Калькуляция!$T$3:$AM$3,0)),Калькуляция!$A$15:$A$143,$A22,Калькуляция!$B$15:$B$143,$B22)","v":43.469250079257648},{"$f":"SUMIFS(INDEX(Калькуляция!$T$15:$AM$143,,MATCH(O$3,Калькуляция!$T$3:$AM$3,0)),Калькуляция!$A$15:$A$143,$A22,Калькуляция!$B$15:$B$143,$B22)","v":40.879999397500001},{"$f":"IF(N22=0,0,(O22-N22)/N22*100)","v":-5.9565110440982005},{"$f":"SUMIFS(INDEX(Калькуляция!$T$15:$AM$143,,MATCH(Q$3,Калькуляция!$T$3:$AM$3,0)),Калькуляция!$A$15:$A$143,$A22,Калькуляция!$B$15:$B$143,$B22)","v":0},{"$f":"SUMIFS(INDEX(Калькуляция!$T$15:$AM$143,,MATCH(R$3,Калькуляция!$T$3:$AM$3,0)),Калькуляция!$A$15:$A$143,$A22,Калькуляция!$B$15:$B$143,$B22)","v":0},{"$f":"IF(Q22=0,0,(R22-Q22)/Q22*100)","v":0},{"$f":"SUMIFS(INDEX(Калькуляция!$T$15:$AM$143,,MATCH(T$3,Калькуляция!$T$3:$AM$3,0)),Калькуляция!$A$15:$A$143,$A22,Калькуляция!$B$15:$B$143,$B22)","v":0},{"$f":"SUMIFS(INDEX(Калькуляция!$T$15:$AM$143,,MATCH(U$3,Калькуляция!$T$3:$AM$3,0)),Калькуляция!$A$15:$A$143,$A22,Калькуляция!$B$15:$B$143,$B22)","v":0},{"$f":"IF(T22=0,0,(U22-T22)/T22*100)","v":0},{"$f":"SUMIFS(INDEX(Калькуляция!$T$15:$AM$143,,MATCH(W$3,Калькуляция!$T$3:$AM$3,0)),Калькуляция!$A$15:$A$143,$A22,Калькуляция!$B$15:$B$143,$B22)","v":0},{"$f":"SUMIFS(INDEX(Калькуляция!$T$15:$AM$143,,MATCH(X$3,Калькуляция!$T$3:$AM$3,0)),Калькуляция!$A$15:$A$143,$A22,Калькуляция!$B$15:$B$143,$B22)","v":0},{"$f":"IF(W22=0,0,(X22-W22)/W22*100)","v":0},{"$f":"SUMIFS(INDEX(Калькуляция!$T$15:$AM$143,,MATCH(Z$3,Калькуляция!$T$3:$AM$3,0)),Калькуляция!$A$15:$A$143,$A22,Калькуляция!$B$15:$B$143,$B22)","v":0},{"$f":"SUMIFS(INDEX(Калькуляция!$T$15:$AM$143,,MATCH(AA$3,Калькуляция!$T$3:$AM$3,0)),Калькуляция!$A$15:$A$143,$A22,Калькуляция!$B$15:$B$143,$B22)","v":0},{"$f":"IF(Z22=0,0,(AA22-Z22)/Z22*100)","v":0},{"$f":"SUMIFS(INDEX(Калькуляция!$T$15:$AM$143,,MATCH(AC$3,Калькуляция!$T$3:$AM$3,0)),Калькуляция!$A$15:$A$143,$A22,Калькуляция!$B$15:$B$143,$B22)","v":0},{"$f":"SUMIFS(INDEX(Калькуляция!$T$15:$AM$143,,MATCH(AD$3,Калькуляция!$T$3:$AM$3,0)),Калькуляция!$A$15:$A$143,$A22,Калькуляция!$B$15:$B$143,$B22)","v":0},{"$f":"IF(AC22=0,0,(AD22-AC22)/AC22*100)","v":0},{"$f":"SUMIFS(INDEX(Калькуляция!$T$15:$AM$143,,MATCH(AF$3,Калькуляция!$T$3:$AM$3,0)),Калькуляция!$A$15:$A$143,$A22,Калькуляция!$B$15:$B$143,$B22)","v":0},{"$f":"SUMIFS(INDEX(Калькуляция!$T$15:$AM$143,,MATCH(AG$3,Калькуляция!$T$3:$AM$3,0)),Калькуляция!$A$15:$A$143,$A22,Калькуляция!$B$15:$B$143,$B22)","v":0},{"$f":"IF(AF22=0,0,(AG22-AF22)/AF22*100)","v":0},{"$f":"SUMIFS(INDEX(Калькуляция!$T$15:$AM$143,,MATCH(AI$3,Калькуляция!$T$3:$AM$3,0)),Калькуляция!$A$15:$A$143,$A22,Калькуляция!$B$15:$B$143,$B22)","v":0},{"$f":"SUMIFS(INDEX(Калькуляция!$T$15:$AM$143,,MATCH(AJ$3,Калькуляция!$T$3:$AM$3,0)),Калькуляция!$A$15:$A$143,$A22,Калькуляция!$B$15:$B$143,$B22)","v":0},{"$f":"IF(AI22=0,0,(AJ22-AI22)/AI22*100)","v":0},{"$f":"SUMIFS(INDEX(Калькуляция!$T$15:$AM$143,,MATCH(AL$3,Калькуляция!$T$3:$AM$3,0)),Калькуляция!$A$15:$A$143,$A22,Калькуляция!$B$15:$B$143,$B22)","v":0},{"$f":"SUMIFS(INDEX(Калькуляция!$T$15:$AM$143,,MATCH(AM$3,Калькуляция!$T$3:$AM$3,0)),Калькуляция!$A$15:$A$143,$A22,Калькуляция!$B$15:$B$143,$B22)","v":0},{"$f":"IF(AL22=0,0,(AM22-AL22)/AL22*100)","v":0},{"$f":"SUMIFS(INDEX(Калькуляция!$T$15:$AM$143,,MATCH(AO$3,Калькуляция!$T$3:$AM$3,0)),Калькуляция!$A$15:$A$143,$A22,Калькуляция!$B$15:$B$143,$B22)","v":0},{"$f":"SUMIFS(INDEX(Калькуляция!$T$15:$AM$143,,MATCH(AP$3,Калькуляция!$T$3:$AM$3,0)),Калькуляция!$A$15:$A$143,$A22,Калькуляция!$B$15:$B$143,$B22)","v":0},{"$f":"IF(AO22=0,0,(AP22-AO22)/AO22*100)","v":0},null,null,{"$f":"IF(AR22=0,0,(AS22-AR22)/AR22*100)","v":0},null,null,{"$f":"IF(AU22=0,0,(AV22-AU22)/AU22*100)","v":0},null,null,{"$f":"IF(AX22=0,0,(AY22-AX22)/AX22*100)","v":0},null,null,{"$f":"IF(BA22=0,0,(BB22-BA22)/BA22*100)","v":0},null,null,{"$f":"IF(BD22=0,0,(BE22-BD22)/BD22*100)","v":0},null,null,{"$f":"IF(BG22=0,0,(BH22-BG22)/BG22*100)","v":0},null,null,{"$f":"IF(BJ22=0,0,(BK22-BJ22)/BJ22*100)","v":0},null,null,{"$f":"IF(BM22=0,0,(BN22-BM22)/BM22*100)","v":0},null,null,{"$f":"IF(BP22=0,0,(BQ22-BP22)/BP22*100)","v":0},null,null,{"$f":"IF(BS22=0,0,(BT22-BS22)/BS22*100)","v":0},null,null,{"$f":"IF(BV22=0,0,(BW22-BV22)/BV22*100)","v":0},null,null,{"$f":"IF(BY22=0,0,(BZ22-BY22)/BY22*100)","v":0},null,null,{"$f":"IF(CB22=0,0,(CC22-CB22)/CB22*100)","v":0},null,null,{"$f":"IF(CE22=0,0,(CF22-CE22)/CE22*100)","v":0},null,null,{"$f":"IF(CH22=0,0,(CI22-CH22)/CH22*100)","v":0},null,null,{"$f":"IF(CK22=0,0,(CL22-CK22)/CK22*100)","v":0},null,null,{"$f":"IF(CN22=0,0,(CO22-CN22)/CN22*100)","v":0},null,null,{"$f":"IF(CQ22=0,0,(CR22-CQ22)/CQ22*100)","v":0},null,null,{"$f":"IF(CT22=0,0,(CU22-CT22)/CT22*100)","v":0},null,null,{"$f":"IF(CW22=0,0,(CX22-CW22)/CW22*100)","v":0},null,null,{"$f":"IF(CZ22=0,0,(DA22-CZ22)/CZ22*100)","v":0},null,null,{"$f":"IF(DC22=0,0,(DD22-DC22)/DC22*100)","v":0},null,null,{"$f":"IF(DF22=0,0,(DG22-DF22)/DF22*100)","v":0},null,null,{"$f":"IF(DI22=0,0,(DJ22-DI22)/DI22*100)","v":0},null,null,{"$f":"IF(DL22=0,0,(DM22-DL22)/DL22*100)","v":0},null,null,{"$f":"IF(DO22=0,0,(DP22-DO22)/DO22*100)","v":0},null,null,{"$f":"IF(DR22=0,0,(DS22-DR22)/DR22*100)","v":0},null,null,{"$f":"IF(DU22=0,0,(DV22-DU22)/DU22*100)","v":0},null,null,{"$f":"IF(DX22=0,0,(DY22-DX22)/DX22*100)","v":0},null,null,{"$f":"IF(EA22=0,0,(EB22-EA22)/EA22*100)","v":0},null,null,{"$f":"IF(ED22=0,0,(EE22-ED22)/ED22*100)","v":0},null,null,{"$f":"IF(EG22=0,0,(EH22-EG22)/EG22*100)","v":0},null,null,{"$f":"IF(EJ22=0,0,(EK22-EJ22)/EJ22*100)","v":0},null,null,{"$f":"IF(EM22=0,0,(EN22-EM22)/EM22*100)","v":0},null,null,{"$f":"IF(EP22=0,0,(EQ22-EP22)/EP22*100)","v":0},null,null,{"$f":"IF(ES22=0,0,(ET22-ES22)/ES22*100)","v":0},null,null,{"$f":"IF(EV22=0,0,(EW22-EV22)/EV22*100)","v":0},null,null,{"$f":"IF(EY22=0,0,(EZ22-EY22)/EY22*100)","v":0},null,null,{"$f":"IF(FB22=0,0,(FC22-FB22)/FB22*100)","v":0},null,null,{"$f":"IF(FE22=0,0,(FF22-FE22)/FE22*100)","v":0}]
["1","тариф.прочие.II","L1_1","для прочих потребителей с 01.07 по 31.12 без НДС",null,null,{"$f":"F17=\"одноставочный\"","v":true},null,null,null,null,"Тариф с 01.07 по 31.12 для прочих потребителей без НДС","руб./куб.м",{"$f":"SUMIFS(INDEX(Калькуляция!$T$15:$AM$143,,MATCH(N$3,Калькуляция!$T$3:$AM$3,0)),Калькуляция!$A$15:$A$143,$A23,Калькуляция!$B$15:$B$143,$B23)","v":43.469250079257648},{"$f":"SUMIFS(INDEX(Калькуляция!$T$15:$AM$143,,MATCH(O$3,Калькуляция!$T$3:$AM$3,0)),Калькуляция!$A$15:$A$143,$A23,Калькуляция!$B$15:$B$143,$B23)","v":42.930000053946365},{"$f":"IF(N23=0,0,(O23-N23)/N23*100)","v":-1.2405321562439338},{"$f":"SUMIFS(INDEX(Калькуляция!$T$15:$AM$143,,MATCH(Q$3,Калькуляция!$T$3:$AM$3,0)),Калькуляция!$A$15:$A$143,$A23,Калькуляция!$B$15:$B$143,$B23)","v":0},{"$f":"SUMIFS(INDEX(Калькуляция!$T$15:$AM$143,,MATCH(R$3,Калькуляция!$T$3:$AM$3,0)),Калькуляция!$A$15:$A$143,$A23,Калькуляция!$B$15:$B$143,$B23)","v":0},{"$f":"IF(Q23=0,0,(R23-Q23)/Q23*100)","v":0},{"$f":"SUMIFS(INDEX(Калькуляция!$T$15:$AM$143,,MATCH(T$3,Калькуляция!$T$3:$AM$3,0)),Калькуляция!$A$15:$A$143,$A23,Калькуляция!$B$15:$B$143,$B23)","v":0},{"$f":"SUMIFS(INDEX(Калькуляция!$T$15:$AM$143,,MATCH(U$3,Калькуляция!$T$3:$AM$3,0)),Калькуляция!$A$15:$A$143,$A23,Калькуляция!$B$15:$B$143,$B23)","v":0},{"$f":"IF(T23=0,0,(U23-T23)/T23*100)","v":0},{"$f":"SUMIFS(INDEX(Калькуляция!$T$15:$AM$143,,MATCH(W$3,Калькуляция!$T$3:$AM$3,0)),Калькуляция!$A$15:$A$143,$A23,Калькуляция!$B$15:$B$143,$B23)","v":0},{"$f":"SUMIFS(INDEX(Калькуляция!$T$15:$AM$143,,MATCH(X$3,Калькуляция!$T$3:$AM$3,0)),Калькуляция!$A$15:$A$143,$A23,Калькуляция!$B$15:$B$143,$B23)","v":0},{"$f":"IF(W23=0,0,(X23-W23)/W23*100)","v":0},{"$f":"SUMIFS(INDEX(Калькуляция!$T$15:$AM$143,,MATCH(Z$3,Калькуляция!$T$3:$AM$3,0)),Калькуляция!$A$15:$A$143,$A23,Калькуляция!$B$15:$B$143,$B23)","v":0},{"$f":"SUMIFS(INDEX(Калькуляция!$T$15:$AM$143,,MATCH(AA$3,Калькуляция!$T$3:$AM$3,0)),Калькуляция!$A$15:$A$143,$A23,Калькуляция!$B$15:$B$143,$B23)","v":0},{"$f":"IF(Z23=0,0,(AA23-Z23)/Z23*100)","v":0},{"$f":"SUMIFS(INDEX(Калькуляция!$T$15:$AM$143,,MATCH(AC$3,Калькуляция!$T$3:$AM$3,0)),Калькуляция!$A$15:$A$143,$A23,Калькуляция!$B$15:$B$143,$B23)","v":0},{"$f":"SUMIFS(INDEX(Калькуляция!$T$15:$AM$143,,MATCH(AD$3,Калькуляция!$T$3:$AM$3,0)),Калькуляция!$A$15:$A$143,$A23,Калькуляция!$B$15:$B$143,$B23)","v":0},{"$f":"IF(AC23=0,0,(AD23-AC23)/AC23*100)","v":0},{"$f":"SUMIFS(INDEX(Калькуляция!$T$15:$AM$143,,MATCH(AF$3,Калькуляция!$T$3:$AM$3,0)),Калькуляция!$A$15:$A$143,$A23,Калькуляция!$B$15:$B$143,$B23)","v":0},{"$f":"SUMIFS(INDEX(Калькуляция!$T$15:$AM$143,,MATCH(AG$3,Калькуляция!$T$3:$AM$3,0)),Калькуляция!$A$15:$A$143,$A23,Калькуляция!$B$15:$B$143,$B23)","v":0},{"$f":"IF(AF23=0,0,(AG23-AF23)/AF23*100)","v":0},{"$f":"SUMIFS(INDEX(Калькуляция!$T$15:$AM$143,,MATCH(AI$3,Калькуляция!$T$3:$AM$3,0)),Калькуляция!$A$15:$A$143,$A23,Калькуляция!$B$15:$B$143,$B23)","v":0},{"$f":"SUMIFS(INDEX(Калькуляция!$T$15:$AM$143,,MATCH(AJ$3,Калькуляция!$T$3:$AM$3,0)),Калькуляция!$A$15:$A$143,$A23,Калькуляция!$B$15:$B$143,$B23)","v":0},{"$f":"IF(AI23=0,0,(AJ23-AI23)/AI23*100)","v":0},{"$f":"SUMIFS(INDEX(Калькуляция!$T$15:$AM$143,,MATCH(AL$3,Калькуляция!$T$3:$AM$3,0)),Калькуляция!$A$15:$A$143,$A23,Калькуляция!$B$15:$B$143,$B23)","v":0},{"$f":"SUMIFS(INDEX(Калькуляция!$T$15:$AM$143,,MATCH(AM$3,Калькуляция!$T$3:$AM$3,0)),Калькуляция!$A$15:$A$143,$A23,Калькуляция!$B$15:$B$143,$B23)","v":0},{"$f":"IF(AL23=0,0,(AM23-AL23)/AL23*100)","v":0},{"$f":"SUMIFS(INDEX(Калькуляция!$T$15:$AM$143,,MATCH(AO$3,Калькуляция!$T$3:$AM$3,0)),Калькуляция!$A$15:$A$143,$A23,Калькуляция!$B$15:$B$143,$B23)","v":0},{"$f":"SUMIFS(INDEX(Калькуляция!$T$15:$AM$143,,MATCH(AP$3,Калькуляция!$T$3:$AM$3,0)),Калькуляция!$A$15:$A$143,$A23,Калькуляция!$B$15:$B$143,$B23)","v":0},{"$f":"IF(AO23=0,0,(AP23-AO23)/AO23*100)","v":0},null,null,{"$f":"IF(AR23=0,0,(AS23-AR23)/AR23*100)","v":0},null,null,{"$f":"IF(AU23=0,0,(AV23-AU23)/AU23*100)","v":0},null,null,{"$f":"IF(AX23=0,0,(AY23-AX23)/AX23*100)","v":0},null,null,{"$f":"IF(BA23=0,0,(BB23-BA23)/BA23*100)","v":0},null,null,{"$f":"IF(BD23=0,0,(BE23-BD23)/BD23*100)","v":0},null,null,{"$f":"IF(BG23=0,0,(BH23-BG23)/BG23*100)","v":0},null,null,{"$f":"IF(BJ23=0,0,(BK23-BJ23)/BJ23*100)","v":0},null,null,{"$f":"IF(BM23=0,0,(BN23-BM23)/BM23*100)","v":0},null,null,{"$f":"IF(BP23=0,0,(BQ23-BP23)/BP23*100)","v":0},null,null,{"$f":"IF(BS23=0,0,(BT23-BS23)/BS23*100)","v":0},null,null,{"$f":"IF(BV23=0,0,(BW23-BV23)/BV23*100)","v":0},null,null,{"$f":"IF(BY23=0,0,(BZ23-BY23)/BY23*100)","v":0},null,null,{"$f":"IF(CB23=0,0,(CC23-CB23)/CB23*100)","v":0},null,null,{"$f":"IF(CE23=0,0,(CF23-CE23)/CE23*100)","v":0},null,null,{"$f":"IF(CH23=0,0,(CI23-CH23)/CH23*100)","v":0},null,null,{"$f":"IF(CK23=0,0,(CL23-CK23)/CK23*100)","v":0},null,null,{"$f":"IF(CN23=0,0,(CO23-CN23)/CN23*100)","v":0},null,null,{"$f":"IF(CQ23=0,0,(CR23-CQ23)/CQ23*100)","v":0},null,null,{"$f":"IF(CT23=0,0,(CU23-CT23)/CT23*100)","v":0},null,null,{"$f":"IF(CW23=0,0,(CX23-CW23)/CW23*100)","v":0},null,null,{"$f":"IF(CZ23=0,0,(DA23-CZ23)/CZ23*100)","v":0},null,null,{"$f":"IF(DC23=0,0,(DD23-DC23)/DC23*100)","v":0},null,null,{"$f":"IF(DF23=0,0,(DG23-DF23)/DF23*100)","v":0},null,null,{"$f":"IF(DI23=0,0,(DJ23-DI23)/DI23*100)","v":0},null,null,{"$f":"IF(DL23=0,0,(DM23-DL23)/DL23*100)","v":0},null,null,{"$f":"IF(DO23=0,0,(DP23-DO23)/DO23*100)","v":0},null,null,{"$f":"IF(DR23=0,0,(DS23-DR23)/DR23*100)","v":0},null,null,{"$f":"IF(DU23=0,0,(DV23-DU23)/DU23*100)","v":0},null,null,{"$f":"IF(DX23=0,0,(DY23-DX23)/DX23*100)","v":0},null,null,{"$f":"IF(EA23=0,0,(EB23-EA23)/EA23*100)","v":0},null,null,{"$f":"IF(ED23=0,0,(EE23-ED23)/ED23*100)","v":0},null,null,{"$f":"IF(EG23=0,0,(EH23-EG23)/EG23*100)","v":0},null,null,{"$f":"IF(EJ23=0,0,(EK23-EJ23)/EJ23*100)","v":0},null,null,{"$f":"IF(EM23=0,0,(EN23-EM23)/EM23*100)","v":0},null,null,{"$f":"IF(EP23=0,0,(EQ23-EP23)/EP23*100)","v":0},null,null,{"$f":"IF(ES23=0,0,(ET23-ES23)/ES23*100)","v":0},null,null,{"$f":"IF(EV23=0,0,(EW23-EV23)/EV23*100)","v":0},null,null,{"$f":"IF(EY23=0,0,(EZ23-EY23)/EY23*100)","v":0},null,null,{"$f":"IF(FB23=0,0,(FC23-FB23)/FB23*100)","v":0},null,null,{"$f":"IF(FE23=0,0,(FF23-FE23)/FE23*100)","v":0}]
["1",null,"L1_2","для прочих потребителей без НДС",null,null,{"$f":"F17=\"одноставочный\"","v":true},null,null,null,null,"Темп роста тарифов с 01.07","%",{"$f":"IF(N22=0,0,N23/N22)*100","v":100},{"$f":"IF(O22=0,0,O23/O22)*100","v":105.0146787834144},null,{"$f":"IF(Q22=0,0,Q23/Q22)*100","v":0},{"$f":"IF(R22=0,0,R23/R22)*100","v":0},null,{"$f":"IF(T22=0,0,T23/T22)*100","v":0},{"$f":"IF(U22=0,0,U23/U22)*100","v":0},null,{"$f":"IF(W22=0,0,W23/W22)*100","v":0},{"$f":"IF(X22=0,0,X23/X22)*100","v":0},null,{"$f":"IF(Z22=0,0,Z23/Z22)*100","v":0},{"$f":"IF(AA22=0,0,AA23/AA22)*100","v":0},null,{"$f":"IF(AC22=0,0,AC23/AC22)*100","v":0},{"$f":"IF(AD22=0,0,AD23/AD22)*100","v":0},null,{"$f":"IF(AF22=0,0,AF23/AF22)*100","v":0},{"$f":"IF(AG22=0,0,AG23/AG22)*100","v":0},null,{"$f":"IF(AI22=0,0,AI23/AI22)*100","v":0},{"$f":"IF(AJ22=0,0,AJ23/AJ22)*100","v":0},null,{"$f":"IF(AL22=0,0,AL23/AL22)*100","v":0},{"$f":"IF(AM22=0,0,AM23/AM22)*100","v":0},null,{"$f":"IF(AO22=0,0,AO23/AO22)*100","v":0},{"$f":"IF(AP22=0,0,AP23/AP22)*100","v":0},null,{"$f":"IF(AR22=0,0,AR23/AR22)*100","v":0},{"$f":"IF(AS22=0,0,AS23/AS22)*100","v":0},null,{"$f":"IF(AU22=0,0,AU23/AU22)*100","v":0},{"$f":"IF(AV22=0,0,AV23/AV22)*100","v":0},null,{"$f":"IF(AX22=0,0,AX23/AX22)*100","v":0},{"$f":"IF(AY22=0,0,AY23/AY22)*100","v":0},null,{"$f":"IF(BA22=0,0,BA23/BA22)*100","v":0},{"$f":"IF(BB22=0,0,BB23/BB22)*100","v":0},null,{"$f":"IF(BD22=0,0,BD23/BD22)*100","v":0},{"$f":"IF(BE22=0,0,BE23/BE22)*100","v":0},null,{"$f":"IF(BG22=0,0,BG23/BG22)*100","v":0},{"$f":"IF(BH22=0,0,BH23/BH22)*100","v":0},null,{"$f":"IF(BJ22=0,0,BJ23/BJ22)*100","v":0},{"$f":"IF(BK22=0,0,BK23/BK22)*100","v":0},null,{"$f":"IF(BM22=0,0,BM23/BM22)*100","v":0},{"$f":"IF(BN22=0,0,BN23/BN22)*100","v":0},null,{"$f":"IF(BP22=0,0,BP23/BP22)*100","v":0},{"$f":"IF(BQ22=0,0,BQ23/BQ22)*100","v":0},null,{"$f":"IF(BS22=0,0,BS23/BS22)*100","v":0},{"$f":"IF(BT22=0,0,BT23/BT22)*100","v":0},null,{"$f":"IF(BV22=0,0,BV23/BV22)*100","v":0},{"$f":"IF(BW22=0,0,BW23/BW22)*100","v":0},null,{"$f":"IF(BY22=0,0,BY23/BY22)*100","v":0},{"$f":"IF(BZ22=0,0,BZ23/BZ22)*100","v":0},null,{"$f":"IF(CB22=0,0,CB23/CB22)*100","v":0},{"$f":"IF(CC22=0,0,CC23/CC22)*100","v":0},null,{"$f":"IF(CE22=0,0,CE23/CE22)*100","v":0},{"$f":"IF(CF22=0,0,CF23/CF22)*100","v":0},null,{"$f":"IF(CH22=0,0,CH23/CH22)*100","v":0},{"$f":"IF(CI22=0,0,CI23/CI22)*100","v":0},null,{"$f":"IF(CK22=0,0,CK23/CK22)*100","v":0},{"$f":"IF(CL22=0,0,CL23/CL22)*100","v":0},null,{"$f":"IF(CN22=0,0,CN23/CN22)*100","v":0},{"$f":"IF(CO22=0,0,CO23/CO22)*100","v":0},null,{"$f":"IF(CQ22=0,0,CQ23/CQ22)*100","v":0},{"$f":"IF(CR22=0,0,CR23/CR22)*100","v":0},null,{"$f":"IF(CT22=0,0,CT23/CT22)*100","v":0},{"$f":"IF(CU22=0,0,CU23/CU22)*100","v":0},null,{"$f":"IF(CW22=0,0,CW23/CW22)*100","v":0},{"$f":"IF(CX22=0,0,CX23/CX22)*100","v":0},null,{"$f":"IF(CZ22=0,0,CZ23/CZ22)*100","v":0},{"$f":"IF(DA22=0,0,DA23/DA22)*100","v":0},null,{"$f":"IF(DC22=0,0,DC23/DC22)*100","v":0},{"$f":"IF(DD22=0,0,DD23/DD22)*100","v":0},null,{"$f":"IF(DF22=0,0,DF23/DF22)*100","v":0},{"$f":"IF(DG22=0,0,DG23/DG22)*100","v":0},null,{"$f":"IF(DI22=0,0,DI23/DI22)*100","v":0},{"$f":"IF(DJ22=0,0,DJ23/DJ22)*100","v":0},null,{"$f":"IF(DL22=0,0,DL23/DL22)*100","v":0},{"$f":"IF(DM22=0,0,DM23/DM22)*100","v":0},null,{"$f":"IF(DO22=0,0,DO23/DO22)*100","v":0},{"$f":"IF(DP22=0,0,DP23/DP22)*100","v":0},null,{"$f":"IF(DR22=0,0,DR23/DR22)*100","v":0},{"$f":"IF(DS22=0,0,DS23/DS22)*100","v":0},null,{"$f":"IF(DU22=0,0,DU23/DU22)*100","v":0},{"$f":"IF(DV22=0,0,DV23/DV22)*100","v":0},null,{"$f":"IF(DX22=0,0,DX23/DX22)*100","v":0},{"$f":"IF(DY22=0,0,DY23/DY22)*100","v":0},null,{"$f":"IF(EA22=0,0,EA23/EA22)*100","v":0},{"$f":"IF(EB22=0,0,EB23/EB22)*100","v":0},null,{"$f":"IF(ED22=0,0,ED23/ED22)*100","v":0},{"$f":"IF(EE22=0,0,EE23/EE22)*100","v":0},null,{"$f":"IF(EG22=0,0,EG23/EG22)*100","v":0},{"$f":"IF(EH22=0,0,EH23/EH22)*100","v":0},null,{"$f":"IF(EJ22=0,0,EJ23/EJ22)*100","v":0},{"$f":"IF(EK22=0,0,EK23/EK22)*100","v":0},null,{"$f":"IF(EM22=0,0,EM23/EM22)*100","v":0},{"$f":"IF(EN22=0,0,EN23/EN22)*100","v":0},null,{"$f":"IF(EP22=0,0,EP23/EP22)*100","v":0},{"$f":"IF(EQ22=0,0,EQ23/EQ22)*100","v":0},null,{"$f":"IF(ES22=0,0,ES23/ES22)*100","v":0},{"$f":"IF(ET22=0,0,ET23/ET22)*100","v":0},null,{"$f":"IF(EV22=0,0,EV23/EV22)*100","v":0},{"$f":"IF(EW22=0,0,EW23/EW22)*100","v":0},null,{"$f":"IF(EY22=0,0,EY23/EY22)*100","v":0},{"$f":"IF(EZ22=0,0,EZ23/EZ22)*100","v":0},null,{"$f":"IF(FB22=0,0,FB23/FB22)*100","v":0},{"$f":"IF(FC22=0,0,FC23/FC22)*100","v":0},null,{"$f":"IF(FE22=0,0,FE23/FE22)*100","v":0},{"$f":"IF(FF22=0,0,FF23/FF22)*100","v":0}]
["1","ПО.прочие","L1_3","для прочих потребителей без НДС",null,null,{"$f":"F17=\"одноставочный\"","v":true},null,null,null,null,"Объём реализации услуги с 01.01 по 31.12","тыс.куб.м",{"$f":"SUMIFS(INDEX(Калькуляция!$T$15:$AM$143,,MATCH(N$3,Калькуляция!$T$3:$AM$3,0)),Калькуляция!$A$15:$A$143,$A25,Калькуляция!$B$15:$B$143,$B25)","v":4043.7739999999999},{"$f":"SUMIFS(INDEX(Калькуляция!$T$15:$AM$143,,MATCH(O$3,Калькуляция!$T$3:$AM$3,0)),Калькуляция!$A$15:$A$143,$A25,Калькуляция!$B$15:$B$143,$B25)","v":3918.2110000000002},{"$f":"IF(N25=0,0,(O25-N25)/N25*100)","v":-3.1050943994397224},{"$f":"SUMIFS(INDEX(Калькуляция!$T$15:$AM$143,,MATCH(Q$3,Калькуляция!$T$3:$AM$3,0)),Калькуляция!$A$15:$A$143,$A25,Калькуляция!$B$15:$B$143,$B25)","v":0},{"$f":"SUMIFS(INDEX(Калькуляция!$T$15:$AM$143,,MATCH(R$3,Калькуляция!$T$3:$AM$3,0)),Калькуляция!$A$15:$A$143,$A25,Калькуляция!$B$15:$B$143,$B25)","v":0},{"$f":"IF(Q25=0,0,(R25-Q25)/Q25*100)","v":0},{"$f":"SUMIFS(INDEX(Калькуляция!$T$15:$AM$143,,MATCH(T$3,Калькуляция!$T$3:$AM$3,0)),Калькуляция!$A$15:$A$143,$A25,Калькуляция!$B$15:$B$143,$B25)","v":0},{"$f":"SUMIFS(INDEX(Калькуляция!$T$15:$AM$143,,MATCH(U$3,Калькуляция!$T$3:$AM$3,0)),Калькуляция!$A$15:$A$143,$A25,Калькуляция!$B$15:$B$143,$B25)","v":0},{"$f":"IF(T25=0,0,(U25-T25)/T25*100)","v":0},{"$f":"SUMIFS(INDEX(Калькуляция!$T$15:$AM$143,,MATCH(W$3,Калькуляция!$T$3:$AM$3,0)),Калькуляция!$A$15:$A$143,$A25,Калькуляция!$B$15:$B$143,$B25)","v":0},{"$f":"SUMIFS(INDEX(Калькуляция!$T$15:$AM$143,,MATCH(X$3,Калькуляция!$T$3:$AM$3,0)),Калькуляция!$A$15:$A$143,$A25,Калькуляция!$B$15:$B$143,$B25)","v":0},{"$f":"IF(W25=0,0,(X25-W25)/W25*100)","v":0},{"$f":"SUMIFS(INDEX(Калькуляция!$T$15:$AM$143,,MATCH(Z$3,Калькуляция!$T$3:$AM$3,0)),Калькуляция!$A$15:$A$143,$A25,Калькуляция!$B$15:$B$143,$B25)","v":0},{"$f":"SUMIFS(INDEX(Калькуляция!$T$15:$AM$143,,MATCH(AA$3,Калькуляция!$T$3:$AM$3,0)),Калькуляция!$A$15:$A$143,$A25,Калькуляция!$B$15:$B$143,$B25)","v":0},{"$f":"IF(Z25=0,0,(AA25-Z25)/Z25*100)","v":0},{"$f":"SUMIFS(INDEX(Калькуляция!$T$15:$AM$143,,MATCH(AC$3,Калькуляция!$T$3:$AM$3,0)),Калькуляция!$A$15:$A$143,$A25,Калькуляция!$B$15:$B$143,$B25)","v":0},{"$f":"SUMIFS(INDEX(Калькуляция!$T$15:$AM$143,,MATCH(AD$3,Калькуляция!$T$3:$AM$3,0)),Калькуляция!$A$15:$A$143,$A25,Калькуляция!$B$15:$B$143,$B25)","v":0},{"$f":"IF(AC25=0,0,(AD25-AC25)/AC25*100)","v":0},{"$f":"SUMIFS(INDEX(Калькуляция!$T$15:$AM$143,,MATCH(AF$3,Калькуляция!$T$3:$AM$3,0)),Калькуляция!$A$15:$A$143,$A25,Калькуляция!$B$15:$B$143,$B25)","v":0},{"$f":"SUMIFS(INDEX(Калькуляция!$T$15:$AM$143,,MATCH(AG$3,Калькуляция!$T$3:$AM$3,0)),Калькуляция!$A$15:$A$143,$A25,Калькуляция!$B$15:$B$143,$B25)","v":0},{"$f":"IF(AF25=0,0,(AG25-AF25)/AF25*100)","v":0},{"$f":"SUMIFS(INDEX(Калькуляция!$T$15:$AM$143,,MATCH(AI$3,Калькуляция!$T$3:$AM$3,0)),Калькуляция!$A$15:$A$143,$A25,Калькуляция!$B$15:$B$143,$B25)","v":0},{"$f":"SUMIFS(INDEX(Калькуляция!$T$15:$AM$143,,MATCH(AJ$3,Калькуляция!$T$3:$AM$3,0)),Калькуляция!$A$15:$A$143,$A25,Калькуляция!$B$15:$B$143,$B25)","v":0},{"$f":"IF(AI25=0,0,(AJ25-AI25)/AI25*100)","v":0},{"$f":"SUMIFS(INDEX(Калькуляция!$T$15:$AM$143,,MATCH(AL$3,Калькуляция!$T$3:$AM$3,0)),Калькуляция!$A$15:$A$143,$A25,Калькуляция!$B$15:$B$143,$B25)","v":0},{"$f":"SUMIFS(INDEX(Калькуляция!$T$15:$AM$143,,MATCH(AM$3,Калькуляция!$T$3:$AM$3,0)),Калькуляция!$A$15:$A$143,$A25,Калькуляция!$B$15:$B$143,$B25)","v":0},{"$f":"IF(AL25=0,0,(AM25-AL25)/AL25*100)","v":0},{"$f":"SUMIFS(INDEX(Калькуляция!$T$15:$AM$143,,MATCH(AO$3,Калькуляция!$T$3:$AM$3,0)),Калькуляция!$A$15:$A$143,$A25,Калькуляция!$B$15:$B$143,$B25)","v":0},{"$f":"SUMIFS(INDEX(Калькуляция!$T$15:$AM$143,,MATCH(AP$3,Калькуляция!$T$3:$AM$3,0)),Калькуляция!$A$15:$A$143,$A25,Калькуляция!$B$15:$B$143,$B25)","v":0},{"$f":"IF(AO25=0,0,(AP25-AO25)/AO25*100)","v":0},null,null,{"$f":"IF(AR25=0,0,(AS25-AR25)/AR25*100)","v":0},null,null,{"$f":"IF(AU25=0,0,(AV25-AU25)/AU25*100)","v":0},null,null,{"$f":"IF(AX25=0,0,(AY25-AX25)/AX25*100)","v":0},null,null,{"$f":"IF(BA25=0,0,(BB25-BA25)/BA25*100)","v":0},null,null,{"$f":"IF(BD25=0,0,(BE25-BD25)/BD25*100)","v":0},null,null,{"$f":"IF(BG25=0,0,(BH25-BG25)/BG25*100)","v":0},null,null,{"$f":"IF(BJ25=0,0,(BK25-BJ25)/BJ25*100)","v":0},null,null,{"$f":"IF(BM25=0,0,(BN25-BM25)/BM25*100)","v":0},null,null,{"$f":"IF(BP25=0,0,(BQ25-BP25)/BP25*100)","v":0},null,null,{"$f":"IF(BS25=0,0,(BT25-BS25)/BS25*100)","v":0},null,null,{"$f":"IF(BV25=0,0,(BW25-BV25)/BV25*100)","v":0},null,null,{"$f":"IF(BY25=0,0,(BZ25-BY25)/BY25*100)","v":0},null,null,{"$f":"IF(CB25=0,0,(CC25-CB25)/CB25*100)","v":0},null,null,{"$f":"IF(CE25=0,0,(CF25-CE25)/CE25*100)","v":0},null,null,{"$f":"IF(CH25=0,0,(CI25-CH25)/CH25*100)","v":0},null,null,{"$f":"IF(CK25=0,0,(CL25-CK25)/CK25*100)","v":0},null,null,{"$f":"IF(CN25=0,0,(CO25-CN25)/CN25*100)","v":0},null,null,{"$f":"IF(CQ25=0,0,(CR25-CQ25)/CQ25*100)","v":0},null,null,{"$f":"IF(CT25=0,0,(CU25-CT25)/CT25*100)","v":0},null,null,{"$f":"IF(CW25=0,0,(CX25-CW25)/CW25*100)","v":0},null,null,{"$f":"IF(CZ25=0,0,(DA25-CZ25)/CZ25*100)","v":0},null,null,{"$f":"IF(DC25=0,0,(DD25-DC25)/DC25*100)","v":0},null,null,{"$f":"IF(DF25=0,0,(DG25-DF25)/DF25*100)","v":0},null,null,{"$f":"IF(DI25=0,0,(DJ25-DI25)/DI25*100)","v":0},null,null,{"$f":"IF(DL25=0,0,(DM25-DL25)/DL25*100)","v":0},null,null,{"$f":"IF(DO25=0,0,(DP25-DO25)/DO25*100)","v":0},null,null,{"$f":"IF(DR25=0,0,(DS25-DR25)/DR25*100)","v":0},null,null,{"$f":"IF(DU25=0,0,(DV25-DU25)/DU25*100)","v":0},null,null,{"$f":"IF(DX25=0,0,(DY25-DX25)/DX25*100)","v":0},null,null,{"$f":"IF(EA25=0,0,(EB25-EA25)/EA25*100)","v":0},null,null,{"$f":"IF(ED25=0,0,(EE25-ED25)/ED25*100)","v":0},null,null,{"$f":"IF(EG25=0,0,(EH25-EG25)/EG25*100)","v":0},null,null,{"$f":"IF(EJ25=0,0,(EK25-EJ25)/EJ25*100)","v":0},null,null,{"$f":"IF(EM25=0,0,(EN25-EM25)/EM25*100)","v":0},null,null,{"$f":"IF(EP25=0,0,(EQ25-EP25)/EP25*100)","v":0},null,null,{"$f":"IF(ES25=0,0,(ET25-ES25)/ES25*100)","v":0},null,null,{"$f":"IF(EV25=0,0,(EW25-EV25)/EV25*100)","v":0},null,null,{"$f":"IF(EY25=0,0,(EZ25-EY25)/EY25*100)","v":0},null,null,{"$f":"IF(FB25=0,0,(FC25-FB25)/FB25*100)","v":0},null,null,{"$f":"IF(FE25=0,0,(FF25-FE25)/FE25*100)","v":0}]
["1","тариф.население.I","L1_1","для населения с 01.01 по 30.06 с НДС",null,null,{"$f":"F17=\"одноставочный\"","v":true},null,null,null,null,"Тариф с 01.01 по 30.06 для населения с НДС","руб./куб.м",{"$f":"SUMIFS(INDEX(Калькуляция!$T$15:$AM$143,,MATCH(N$3,Калькуляция!$T$3:$AM$3,0)),Калькуляция!$A$15:$A$143,$A26,Калькуляция!$B$15:$B$143,$B26)","v":52.163100095109179},{"$f":"SUMIFS(INDEX(Калькуляция!$T$15:$AM$143,,MATCH(O$3,Калькуляция!$T$3:$AM$3,0)),Калькуляция!$A$15:$A$143,$A26,Калькуляция!$B$15:$B$143,$B26)","v":49.055999276999998},{"$f":"IF(N26=0,0,(O26-N26)/N26*100)","v":-5.9565110440982085},{"$f":"SUMIFS(INDEX(Калькуляция!$T$15:$AM$143,,MATCH(Q$3,Калькуляция!$T$3:$AM$3,0)),Калькуляция!$A$15:$A$143,$A26,Калькуляция!$B$15:$B$143,$B26)","v":0},{"$f":"SUMIFS(INDEX(Калькуляция!$T$15:$AM$143,,MATCH(R$3,Калькуляция!$T$3:$AM$3,0)),Калькуляция!$A$15:$A$143,$A26,Калькуляция!$B$15:$B$143,$B26)","v":0},{"$f":"IF(Q26=0,0,(R26-Q26)/Q26*100)","v":0},{"$f":"SUMIFS(INDEX(Калькуляция!$T$15:$AM$143,,MATCH(T$3,Калькуляция!$T$3:$AM$3,0)),Калькуляция!$A$15:$A$143,$A26,Калькуляция!$B$15:$B$143,$B26)","v":0},{"$f":"SUMIFS(INDEX(Калькуляция!$T$15:$AM$143,,MATCH(U$3,Калькуляция!$T$3:$AM$3,0)),Калькуляция!$A$15:$A$143,$A26,Калькуляция!$B$15:$B$143,$B26)","v":0},{"$f":"IF(T26=0,0,(U26-T26)/T26*100)","v":0},{"$f":"SUMIFS(INDEX(Калькуляция!$T$15:$AM$143,,MATCH(W$3,Калькуляция!$T$3:$AM$3,0)),Калькуляция!$A$15:$A$143,$A26,Калькуляция!$B$15:$B$143,$B26)","v":0},{"$f":"SUMIFS(INDEX(Калькуляция!$T$15:$AM$143,,MATCH(X$3,Калькуляция!$T$3:$AM$3,0)),Калькуляция!$A$15:$A$143,$A26,Калькуляция!$B$15:$B$143,$B26)","v":0},{"$f":"IF(W26=0,0,(X26-W26)/W26*100)","v":0},{"$f":"SUMIFS(INDEX(Калькуляция!$T$15:$AM$143,,MATCH(Z$3,Калькуляция!$T$3:$AM$3,0)),Калькуляция!$A$15:$A$143,$A26,Калькуляция!$B$15:$B$143,$B26)","v":0},{"$f":"SUMIFS(INDEX(Калькуляция!$T$15:$AM$143,,MATCH(AA$3,Калькуляция!$T$3:$AM$3,0)),Калькуляция!$A$15:$A$143,$A26,Калькуляция!$B$15:$B$143,$B26)","v":0},{"$f":"IF(Z26=0,0,(AA26-Z26)/Z26*100)","v":0},{"$f":"SUMIFS(INDEX(Калькуляция!$T$15:$AM$143,,MATCH(AC$3,Калькуляция!$T$3:$AM$3,0)),Калькуляция!$A$15:$A$143,$A26,Калькуляция!$B$15:$B$143,$B26)","v":0},{"$f":"SUMIFS(INDEX(Калькуляция!$T$15:$AM$143,,MATCH(AD$3,Калькуляция!$T$3:$AM$3,0)),Калькуляция!$A$15:$A$143,$A26,Калькуляция!$B$15:$B$143,$B26)","v":0},{"$f":"IF(AC26=0,0,(AD26-AC26)/AC26*100)","v":0},{"$f":"SUMIFS(INDEX(Калькуляция!$T$15:$AM$143,,MATCH(AF$3,Калькуляция!$T$3:$AM$3,0)),Калькуляция!$A$15:$A$143,$A26,Калькуляция!$B$15:$B$143,$B26)","v":0},{"$f":"SUMIFS(INDEX(Калькуляция!$T$15:$AM$143,,MATCH(AG$3,Калькуляция!$T$3:$AM$3,0)),Калькуляция!$A$15:$A$143,$A26,Калькуляция!$B$15:$B$143,$B26)","v":0},{"$f":"IF(AF26=0,0,(AG26-AF26)/AF26*100)","v":0},{"$f":"SUMIFS(INDEX(Калькуляция!$T$15:$AM$143,,MATCH(AI$3,Калькуляция!$T$3:$AM$3,0)),Калькуляция!$A$15:$A$143,$A26,Калькуляция!$B$15:$B$143,$B26)","v":0},{"$f":"SUMIFS(INDEX(Калькуляция!$T$15:$AM$143,,MATCH(AJ$3,Калькуляция!$T$3:$AM$3,0)),Калькуляция!$A$15:$A$143,$A26,Калькуляция!$B$15:$B$143,$B26)","v":0},{"$f":"IF(AI26=0,0,(AJ26-AI26)/AI26*100)","v":0},{"$f":"SUMIFS(INDEX(Калькуляция!$T$15:$AM$143,,MATCH(AL$3,Калькуляция!$T$3:$AM$3,0)),Калькуляция!$A$15:$A$143,$A26,Калькуляция!$B$15:$B$143,$B26)","v":0},{"$f":"SUMIFS(INDEX(Калькуляция!$T$15:$AM$143,,MATCH(AM$3,Калькуляция!$T$3:$AM$3,0)),Калькуляция!$A$15:$A$143,$A26,Калькуляция!$B$15:$B$143,$B26)","v":0},{"$f":"IF(AL26=0,0,(AM26-AL26)/AL26*100)","v":0},{"$f":"SUMIFS(INDEX(Калькуляция!$T$15:$AM$143,,MATCH(AO$3,Калькуляция!$T$3:$AM$3,0)),Калькуляция!$A$15:$A$143,$A26,Калькуляция!$B$15:$B$143,$B26)","v":0},{"$f":"SUMIFS(INDEX(Калькуляция!$T$15:$AM$143,,MATCH(AP$3,Калькуляция!$T$3:$AM$3,0)),Калькуляция!$A$15:$A$143,$A26,Калькуляция!$B$15:$B$143,$B26)","v":0},{"$f":"IF(AO26=0,0,(AP26-AO26)/AO26*100)","v":0},null,null,{"$f":"IF(AR26=0,0,(AS26-AR26)/AR26*100)","v":0},null,null,{"$f":"IF(AU26=0,0,(AV26-AU26)/AU26*100)","v":0},null,null,{"$f":"IF(AX26=0,0,(AY26-AX26)/AX26*100)","v":0},null,null,{"$f":"IF(BA26=0,0,(BB26-BA26)/BA26*100)","v":0},null,null,{"$f":"IF(BD26=0,0,(BE26-BD26)/BD26*100)","v":0},null,null,{"$f":"IF(BG26=0,0,(BH26-BG26)/BG26*100)","v":0},null,null,{"$f":"IF(BJ26=0,0,(BK26-BJ26)/BJ26*100)","v":0},null,null,{"$f":"IF(BM26=0,0,(BN26-BM26)/BM26*100)","v":0},null,null,{"$f":"IF(BP26=0,0,(BQ26-BP26)/BP26*100)","v":0},null,null,{"$f":"IF(BS26=0,0,(BT26-BS26)/BS26*100)","v":0},null,null,{"$f":"IF(BV26=0,0,(BW26-BV26)/BV26*100)","v":0},null,null,{"$f":"IF(BY26=0,0,(BZ26-BY26)/BY26*100)","v":0},null,null,{"$f":"IF(CB26=0,0,(CC26-CB26)/CB26*100)","v":0},null,null,{"$f":"IF(CE26=0,0,(CF26-CE26)/CE26*100)","v":0},null,null,{"$f":"IF(CH26=0,0,(CI26-CH26)/CH26*100)","v":0},null,null,{"$f":"IF(CK26=0,0,(CL26-CK26)/CK26*100)","v":0},null,null,{"$f":"IF(CN26=0,0,(CO26-CN26)/CN26*100)","v":0},null,null,{"$f":"IF(CQ26=0,0,(CR26-CQ26)/CQ26*100)","v":0},null,null,{"$f":"IF(CT26=0,0,(CU26-CT26)/CT26*100)","v":0},null,null,{"$f":"IF(CW26=0,0,(CX26-CW26)/CW26*100)","v":0},null,null,{"$f":"IF(CZ26=0,0,(DA26-CZ26)/CZ26*100)","v":0},null,null,{"$f":"IF(DC26=0,0,(DD26-DC26)/DC26*100)","v":0},null,null,{"$f":"IF(DF26=0,0,(DG26-DF26)/DF26*100)","v":0},null,null,{"$f":"IF(DI26=0,0,(DJ26-DI26)/DI26*100)","v":0},null,null,{"$f":"IF(DL26=0,0,(DM26-DL26)/DL26*100)","v":0},null,null,{"$f":"IF(DO26=0,0,(DP26-DO26)/DO26*100)","v":0},null,null,{"$f":"IF(DR26=0,0,(DS26-DR26)/DR26*100)","v":0},null,null,{"$f":"IF(DU26=0,0,(DV26-DU26)/DU26*100)","v":0},null,null,{"$f":"IF(DX26=0,0,(DY26-DX26)/DX26*100)","v":0},null,null,{"$f":"IF(EA26=0,0,(EB26-EA26)/EA26*100)","v":0},null,null,{"$f":"IF(ED26=0,0,(EE26-ED26)/ED26*100)","v":0},null,null,{"$f":"IF(EG26=0,0,(EH26-EG26)/EG26*100)","v":0},null,null,{"$f":"IF(EJ26=0,0,(EK26-EJ26)/EJ26*100)","v":0},null,null,{"$f":"IF(EM26=0,0,(EN26-EM26)/EM26*100)","v":0},null,null,{"$f":"IF(EP26=0,0,(EQ26-EP26)/EP26*100)","v":0},null,null,{"$f":"IF(ES26=0,0,(ET26-ES26)/ES26*100)","v":0},null,null,{"$f":"IF(EV26=0,0,(EW26-EV26)/EV26*100)","v":0},null,null,{"$f":"IF(EY26=0,0,(EZ26-EY26)/EY26*100)","v":0},null,null,{"$f":"IF(FB26=0,0,(FC26-FB26)/FB26*100)","v":0},null,null,{"$f":"IF(FE26=0,0,(FF26-FE26)/FE26*100)","v":0}]
["1","тариф.население.II","L1_1","для населения с 01.07 по 31.12 с НДС",null,null,{"$f":"F17=\"одноставочный\"","v":true},null,null,null,null,"Тариф с 01.07 по 31.12 для населения с НДС","руб./куб.м",{"$f":"SUMIFS(INDEX(Калькуляция!$T$15:$AM$143,,MATCH(N$3,Калькуляция!$T$3:$AM$3,0)),Калькуляция!$A$15:$A$143,$A27,Калькуляция!$B$15:$B$143,$B27)","v":52.163100095109179},{"$f":"SUMIFS(INDEX(Калькуляция!$T$15:$AM$143,,MATCH(O$3,Калькуляция!$T$3:$AM$3,0)),Калькуляция!$A$15:$A$143,$A27,Калькуляция!$B$15:$B$143,$B27)","v":51.516000064735636},{"$f":"IF(N27=0,0,(O27-N27)/N27*100)","v":-1.240532156243942},{"$f":"SUMIFS(INDEX(Калькуляция!$T$15:$AM$143,,MATCH(Q$3,Калькуляция!$T$3:$AM$3,0)),Калькуляция!$A$15:$A$143,$A27,Калькуляция!$B$15:$B$143,$B27)","v":0},{"$f":"SUMIFS(INDEX(Калькуляция!$T$15:$AM$143,,MATCH(R$3,Калькуляция!$T$3:$AM$3,0)),Калькуляция!$A$15:$A$143,$A27,Калькуляция!$B$15:$B$143,$B27)","v":0},{"$f":"IF(Q27=0,0,(R27-Q27)/Q27*100)","v":0},{"$f":"SUMIFS(INDEX(Калькуляция!$T$15:$AM$143,,MATCH(T$3,Калькуляция!$T$3:$AM$3,0)),Калькуляция!$A$15:$A$143,$A27,Калькуляция!$B$15:$B$143,$B27)","v":0},{"$f":"SUMIFS(INDEX(Калькуляция!$T$15:$AM$143,,MATCH(U$3,Калькуляция!$T$3:$AM$3,0)),Калькуляция!$A$15:$A$143,$A27,Калькуляция!$B$15:$B$143,$B27)","v":0},{"$f":"IF(T27=0,0,(U27-T27)/T27*100)","v":0},{"$f":"SUMIFS(INDEX(Калькуляция!$T$15:$AM$143,,MATCH(W$3,Калькуляция!$T$3:$AM$3,0)),Калькуляция!$A$15:$A$143,$A27,Калькуляция!$B$15:$B$143,$B27)","v":0},{"$f":"SUMIFS(INDEX(Калькуляция!$T$15:$AM$143,,MATCH(X$3,Калькуляция!$T$3:$AM$3,0)),Калькуляция!$A$15:$A$143,$A27,Калькуляция!$B$15:$B$143,$B27)","v":0},{"$f":"IF(W27=0,0,(X27-W27)/W27*100)","v":0},{"$f":"SUMIFS(INDEX(Калькуляция!$T$15:$AM$143,,MATCH(Z$3,Калькуляция!$T$3:$AM$3,0)),Калькуляция!$A$15:$A$143,$A27,Калькуляция!$B$15:$B$143,$B27)","v":0},{"$f":"SUMIFS(INDEX(Калькуляция!$T$15:$AM$143,,MATCH(AA$3,Калькуляция!$T$3:$AM$3,0)),Калькуляция!$A$15:$A$143,$A27,Калькуляция!$B$15:$B$143,$B27)","v":0},{"$f":"IF(Z27=0,0,(AA27-Z27)/Z27*100)","v":0},{"$f":"SUMIFS(INDEX(Калькуляция!$T$15:$AM$143,,MATCH(AC$3,Калькуляция!$T$3:$AM$3,0)),Калькуляция!$A$15:$A$143,$A27,Калькуляция!$B$15:$B$143,$B27)","v":0},{"$f":"SUMIFS(INDEX(Калькуляция!$T$15:$AM$143,,MATCH(AD$3,Калькуляция!$T$3:$AM$3,0)),Калькуляция!$A$15:$A$143,$A27,Калькуляция!$B$15:$B$143,$B27)","v":0},{"$f":"IF(AC27=0,0,(AD27-AC27)/AC27*100)","v":0},{"$f":"SUMIFS(INDEX(Калькуляция!$T$15:$AM$143,,MATCH(AF$3,Калькуляция!$T$3:$AM$3,0)),Калькуляция!$A$15:$A$143,$A27,Калькуляция!$B$15:$B$143,$B27)","v":0},{"$f":"SUMIFS(INDEX(Калькуляция!$T$15:$AM$143,,MATCH(AG$3,Калькуляция!$T$3:$AM$3,0)),Калькуляция!$A$15:$A$143,$A27,Калькуляция!$B$15:$B$143,$B27)","v":0},{"$f":"IF(AF27=0,0,(AG27-AF27)/AF27*100)","v":0},{"$f":"SUMIFS(INDEX(Калькуляция!$T$15:$AM$143,,MATCH(AI$3,Калькуляция!$T$3:$AM$3,0)),Калькуляция!$A$15:$A$143,$A27,Калькуляция!$B$15:$B$143,$B27)","v":0},{"$f":"SUMIFS(INDEX(Калькуляция!$T$15:$AM$143,,MATCH(AJ$3,Калькуляция!$T$3:$AM$3,0)),Калькуляция!$A$15:$A$143,$A27,Калькуляция!$B$15:$B$143,$B27)","v":0},{"$f":"IF(AI27=0,0,(AJ27-AI27)/AI27*100)","v":0},{"$f":"SUMIFS(INDEX(Калькуляция!$T$15:$AM$143,,MATCH(AL$3,Калькуляция!$T$3:$AM$3,0)),Калькуляция!$A$15:$A$143,$A27,Калькуляция!$B$15:$B$143,$B27)","v":0},{"$f":"SUMIFS(INDEX(Калькуляция!$T$15:$AM$143,,MATCH(AM$3,Калькуляция!$T$3:$AM$3,0)),Калькуляция!$A$15:$A$143,$A27,Калькуляция!$B$15:$B$143,$B27)","v":0},{"$f":"IF(AL27=0,0,(AM27-AL27)/AL27*100)","v":0},{"$f":"SUMIFS(INDEX(Калькуляция!$T$15:$AM$143,,MATCH(AO$3,Калькуляция!$T$3:$AM$3,0)),Калькуляция!$A$15:$A$143,$A27,Калькуляция!$B$15:$B$143,$B27)","v":0},{"$f":"SUMIFS(INDEX(Калькуляция!$T$15:$AM$143,,MATCH(AP$3,Калькуляция!$T$3:$AM$3,0)),Калькуляция!$A$15:$A$143,$A27,Калькуляция!$B$15:$B$143,$B27)","v":0},{"$f":"IF(AO27=0,0,(AP27-AO27)/AO27*100)","v":0},null,null,{"$f":"IF(AR27=0,0,(AS27-AR27)/AR27*100)","v":0},null,null,{"$f":"IF(AU27=0,0,(AV27-AU27)/AU27*100)","v":0},null,null,{"$f":"IF(AX27=0,0,(AY27-AX27)/AX27*100)","v":0},null,null,{"$f":"IF(BA27=0,0,(BB27-BA27)/BA27*100)","v":0},null,null,{"$f":"IF(BD27=0,0,(BE27-BD27)/BD27*100)","v":0},null,null,{"$f":"IF(BG27=0,0,(BH27-BG27)/BG27*100)","v":0},null,null,{"$f":"IF(BJ27=0,0,(BK27-BJ27)/BJ27*100)","v":0},null,null,{"$f":"IF(BM27=0,0,(BN27-BM27)/BM27*100)","v":0},null,null,{"$f":"IF(BP27=0,0,(BQ27-BP27)/BP27*100)","v":0},null,null,{"$f":"IF(BS27=0,0,(BT27-BS27)/BS27*100)","v":0},null,null,{"$f":"IF(BV27=0,0,(BW27-BV27)/BV27*100)","v":0},null,null,{"$f":"IF(BY27=0,0,(BZ27-BY27)/BY27*100)","v":0},null,null,{"$f":"IF(CB27=0,0,(CC27-CB27)/CB27*100)","v":0},null,null,{"$f":"IF(CE27=0,0,(CF27-CE27)/CE27*100)","v":0},null,null,{"$f":"IF(CH27=0,0,(CI27-CH27)/CH27*100)","v":0},null,null,{"$f":"IF(CK27=0,0,(CL27-CK27)/CK27*100)","v":0},null,null,{"$f":"IF(CN27=0,0,(CO27-CN27)/CN27*100)","v":0},null,null,{"$f":"IF(CQ27=0,0,(CR27-CQ27)/CQ27*100)","v":0},null,null,{"$f":"IF(CT27=0,0,(CU27-CT27)/CT27*100)","v":0},null,null,{"$f":"IF(CW27=0,0,(CX27-CW27)/CW27*100)","v":0},null,null,{"$f":"IF(CZ27=0,0,(DA27-CZ27)/CZ27*100)","v":0},null,null,{"$f":"IF(DC27=0,0,(DD27-DC27)/DC27*100)","v":0},null,null,{"$f":"IF(DF27=0,0,(DG27-DF27)/DF27*100)","v":0},null,null,{"$f":"IF(DI27=0,0,(DJ27-DI27)/DI27*100)","v":0},null,null,{"$f":"IF(DL27=0,0,(DM27-DL27)/DL27*100)","v":0},null,null,{"$f":"IF(DO27=0,0,(DP27-DO27)/DO27*100)","v":0},null,null,{"$f":"IF(DR27=0,0,(DS27-DR27)/DR27*100)","v":0},null,null,{"$f":"IF(DU27=0,0,(DV27-DU27)/DU27*100)","v":0},null,null,{"$f":"IF(DX27=0,0,(DY27-DX27)/DX27*100)","v":0},null,null,{"$f":"IF(EA27=0,0,(EB27-EA27)/EA27*100)","v":0},null,null,{"$f":"IF(ED27=0,0,(EE27-ED27)/ED27*100)","v":0},null,null,{"$f":"IF(EG27=0,0,(EH27-EG27)/EG27*100)","v":0},null,null,{"$f":"IF(EJ27=0,0,(EK27-EJ27)/EJ27*100)","v":0},null,null,{"$f":"IF(EM27=0,0,(EN27-EM27)/EM27*100)","v":0},null,null,{"$f":"IF(EP27=0,0,(EQ27-EP27)/EP27*100)","v":0},null,null,{"$f":"IF(ES27=0,0,(ET27-ES27)/ES27*100)","v":0},null,null,{"$f":"IF(EV27=0,0,(EW27-EV27)/EV27*100)","v":0},null,null,{"$f":"IF(EY27=0,0,(EZ27-EY27)/EY27*100)","v":0},null,null,{"$f":"IF(FB27=0,0,(FC27-FB27)/FB27*100)","v":0},null,null,{"$f":"IF(FE27=0,0,(FF27-FE27)/FE27*100)","v":0}]
["1",null,"L1_2","для населения с НДС",null,null,{"$f":"F17=\"одноставочный\"","v":true},null,null,null,null,"Темп роста тарифов с 01.07","%",{"$f":"IF(N26=0,0,N27/N26)*100","v":100},{"$f":"IF(O26=0,0,O27/O26)*100","v":105.0146787834144},null,{"$f":"IF(Q26=0,0,Q27/Q26)*100","v":0},{"$f":"IF(R26=0,0,R27/R26)*100","v":0},null,{"$f":"IF(T26=0,0,T27/T26)*100","v":0},{"$f":"IF(U26=0,0,U27/U26)*100","v":0},null,{"$f":"IF(W26=0,0,W27/W26)*100","v":0},{"$f":"IF(X26=0,0,X27/X26)*100","v":0},null,{"$f":"IF(Z26=0,0,Z27/Z26)*100","v":0},{"$f":"IF(AA26=0,0,AA27/AA26)*100","v":0},null,{"$f":"IF(AC26=0,0,AC27/AC26)*100","v":0},{"$f":"IF(AD26=0,0,AD27/AD26)*100","v":0},null,{"$f":"IF(AF26=0,0,AF27/AF26)*100","v":0},{"$f":"IF(AG26=0,0,AG27/AG26)*100","v":0},null,{"$f":"IF(AI26=0,0,AI27/AI26)*100","v":0},{"$f":"IF(AJ26=0,0,AJ27/AJ26)*100","v":0},null,{"$f":"IF(AL26=0,0,AL27/AL26)*100","v":0},{"$f":"IF(AM26=0,0,AM27/AM26)*100","v":0},null,{"$f":"IF(AO26=0,0,AO27/AO26)*100","v":0},{"$f":"IF(AP26=0,0,AP27/AP26)*100","v":0},null,{"$f":"IF(AR26=0,0,AR27/AR26)*100","v":0},{"$f":"IF(AS26=0,0,AS27/AS26)*100","v":0},null,{"$f":"IF(AU26=0,0,AU27/AU26)*100","v":0},{"$f":"IF(AV26=0,0,AV27/AV26)*100","v":0},null,{"$f":"IF(AX26=0,0,AX27/AX26)*100","v":0},{"$f":"IF(AY26=0,0,AY27/AY26)*100","v":0},null,{"$f":"IF(BA26=0,0,BA27/BA26)*100","v":0},{"$f":"IF(BB26=0,0,BB27/BB26)*100","v":0},null,{"$f":"IF(BD26=0,0,BD27/BD26)*100","v":0},{"$f":"IF(BE26=0,0,BE27/BE26)*100","v":0},null,{"$f":"IF(BG26=0,0,BG27/BG26)*100","v":0},{"$f":"IF(BH26=0,0,BH27/BH26)*100","v":0},null,{"$f":"IF(BJ26=0,0,BJ27/BJ26)*100","v":0},{"$f":"IF(BK26=0,0,BK27/BK26)*100","v":0},null,{"$f":"IF(BM26=0,0,BM27/BM26)*100","v":0},{"$f":"IF(BN26=0,0,BN27/BN26)*100","v":0},null,{"$f":"IF(BP26=0,0,BP27/BP26)*100","v":0},{"$f":"IF(BQ26=0,0,BQ27/BQ26)*100","v":0},null,{"$f":"IF(BS26=0,0,BS27/BS26)*100","v":0},{"$f":"IF(BT26=0,0,BT27/BT26)*100","v":0},null,{"$f":"IF(BV26=0,0,BV27/BV26)*100","v":0},{"$f":"IF(BW26=0,0,BW27/BW26)*100","v":0},null,{"$f":"IF(BY26=0,0,BY27/BY26)*100","v":0},{"$f":"IF(BZ26=0,0,BZ27/BZ26)*100","v":0},null,{"$f":"IF(CB26=0,0,CB27/CB26)*100","v":0},{"$f":"IF(CC26=0,0,CC27/CC26)*100","v":0},null,{"$f":"IF(CE26=0,0,CE27/CE26)*100","v":0},{"$f":"IF(CF26=0,0,CF27/CF26)*100","v":0},null,{"$f":"IF(CH26=0,0,CH27/CH26)*100","v":0},{"$f":"IF(CI26=0,0,CI27/CI26)*100","v":0},null,{"$f":"IF(CK26=0,0,CK27/CK26)*100","v":0},{"$f":"IF(CL26=0,0,CL27/CL26)*100","v":0},null,{"$f":"IF(CN26=0,0,CN27/CN26)*100","v":0},{"$f":"IF(CO26=0,0,CO27/CO26)*100","v":0},null,{"$f":"IF(CQ26=0,0,CQ27/CQ26)*100","v":0},{"$f":"IF(CR26=0,0,CR27/CR26)*100","v":0},null,{"$f":"IF(CT26=0,0,CT27/CT26)*100","v":0},{"$f":"IF(CU26=0,0,CU27/CU26)*100","v":0},null,{"$f":"IF(CW26=0,0,CW27/CW26)*100","v":0},{"$f":"IF(CX26=0,0,CX27/CX26)*100","v":0},null,{"$f":"IF(CZ26=0,0,CZ27/CZ26)*100","v":0},{"$f":"IF(DA26=0,0,DA27/DA26)*100","v":0},null,{"$f":"IF(DC26=0,0,DC27/DC26)*100","v":0},{"$f":"IF(DD26=0,0,DD27/DD26)*100","v":0},null,{"$f":"IF(DF26=0,0,DF27/DF26)*100","v":0},{"$f":"IF(DG26=0,0,DG27/DG26)*100","v":0},null,{"$f":"IF(DI26=0,0,DI27/DI26)*100","v":0},{"$f":"IF(DJ26=0,0,DJ27/DJ26)*100","v":0},null,{"$f":"IF(DL26=0,0,DL27/DL26)*100","v":0},{"$f":"IF(DM26=0,0,DM27/DM26)*100","v":0},null,{"$f":"IF(DO26=0,0,DO27/DO26)*100","v":0},{"$f":"IF(DP26=0,0,DP27/DP26)*100","v":0},null,{"$f":"IF(DR26=0,0,DR27/DR26)*100","v":0},{"$f":"IF(DS26=0,0,DS27/DS26)*100","v":0},null,{"$f":"IF(DU26=0,0,DU27/DU26)*100","v":0},{"$f":"IF(DV26=0,0,DV27/DV26)*100","v":0},null,{"$f":"IF(DX26=0,0,DX27/DX26)*100","v":0},{"$f":"IF(DY26=0,0,DY27/DY26)*100","v":0},null,{"$f":"IF(EA26=0,0,EA27/EA26)*100","v":0},{"$f":"IF(EB26=0,0,EB27/EB26)*100","v":0},null,{"$f":"IF(ED26=0,0,ED27/ED26)*100","v":0},{"$f":"IF(EE26=0,0,EE27/EE26)*100","v":0},null,{"$f":"IF(EG26=0,0,EG27/EG26)*100","v":0},{"$f":"IF(EH26=0,0,EH27/EH26)*100","v":0},null,{"$f":"IF(EJ26=0,0,EJ27/EJ26)*100","v":0},{"$f":"IF(EK26=0,0,EK27/EK26)*100","v":0},null,{"$f":"IF(EM26=0,0,EM27/EM26)*100","v":0},{"$f":"IF(EN26=0,0,EN27/EN26)*100","v":0},null,{"$f":"IF(EP26=0,0,EP27/EP26)*100","v":0},{"$f":"IF(EQ26=0,0,EQ27/EQ26)*100","v":0},null,{"$f":"IF(ES26=0,0,ES27/ES26)*100","v":0},{"$f":"IF(ET26=0,0,ET27/ET26)*100","v":0},null,{"$f":"IF(EV26=0,0,EV27/EV26)*100","v":0},{"$f":"IF(EW26=0,0,EW27/EW26)*100","v":0},null,{"$f":"IF(EY26=0,0,EY27/EY26)*100","v":0},{"$f":"IF(EZ26=0,0,EZ27/EZ26)*100","v":0},null,{"$f":"IF(FB26=0,0,FB27/FB26)*100","v":0},{"$f":"IF(FC26=0,0,FC27/FC26)*100","v":0},null,{"$f":"IF(FE26=0,0,FE27/FE26)*100","v":0},{"$f":"IF(FF26=0,0,FF27/FF26)*100","v":0}]
["1","ПО.население","L1_3","для населения с НДС",null,null,{"$f":"F17=\"одноставочный\"","v":true},null,null,null,null,"Объём реализации услуги для населения с 01.01 по 31.12","тыс.куб.м",{"$f":"SUMIFS(INDEX(Калькуляция!$T$15:$AM$143,,MATCH(N$3,Калькуляция!$T$3:$AM$3,0)),Калькуляция!$A$15:$A$143,$A29,Калькуляция!$B$15:$B$143,$B29)","v":2791.5120000000002},{"$f":"SUMIFS(INDEX(Калькуляция!$T$15:$AM$143,,MATCH(O$3,Калькуляция!$T$3:$AM$3,0)),Калькуляция!$A$15:$A$143,$A29,Калькуляция!$B$15:$B$143,$B29)","v":2796.9630000000002},{"$f":"IF(N29=0,0,(O29-N29)/N29*100)","v":0.1952705200622466},{"$f":"SUMIFS(INDEX(Калькуляция!$T$15:$AM$143,,MATCH(Q$3,Калькуляция!$T$3:$AM$3,0)),Калькуляция!$A$15:$A$143,$A29,Калькуляция!$B$15:$B$143,$B29)","v":0},{"$f":"SUMIFS(INDEX(Калькуляция!$T$15:$AM$143,,MATCH(R$3,Калькуляция!$T$3:$AM$3,0)),Калькуляция!$A$15:$A$143,$A29,Калькуляция!$B$15:$B$143,$B29)","v":0},{"$f":"IF(Q29=0,0,(R29-Q29)/Q29*100)","v":0},{"$f":"SUMIFS(INDEX(Калькуляция!$T$15:$AM$143,,MATCH(T$3,Калькуляция!$T$3:$AM$3,0)),Калькуляция!$A$15:$A$143,$A29,Калькуляция!$B$15:$B$143,$B29)","v":0},{"$f":"SUMIFS(INDEX(Калькуляция!$T$15:$AM$143,,MATCH(U$3,Калькуляция!$T$3:$AM$3,0)),Калькуляция!$A$15:$A$143,$A29,Калькуляция!$B$15:$B$143,$B29)","v":0},{"$f":"IF(T29=0,0,(U29-T29)/T29*100)","v":0},{"$f":"SUMIFS(INDEX(Калькуляция!$T$15:$AM$143,,MATCH(W$3,Калькуляция!$T$3:$AM$3,0)),Калькуляция!$A$15:$A$143,$A29,Калькуляция!$B$15:$B$143,$B29)","v":0},{"$f":"SUMIFS(INDEX(Калькуляция!$T$15:$AM$143,,MATCH(X$3,Калькуляция!$T$3:$AM$3,0)),Калькуляция!$A$15:$A$143,$A29,Калькуляция!$B$15:$B$143,$B29)","v":0},{"$f":"IF(W29=0,0,(X29-W29)/W29*100)","v":0},{"$f":"SUMIFS(INDEX(Калькуляция!$T$15:$AM$143,,MATCH(Z$3,Калькуляция!$T$3:$AM$3,0)),Калькуляция!$A$15:$A$143,$A29,Калькуляция!$B$15:$B$143,$B29)","v":0},{"$f":"SUMIFS(INDEX(Калькуляция!$T$15:$AM$143,,MATCH(AA$3,Калькуляция!$T$3:$AM$3,0)),Калькуляция!$A$15:$A$143,$A29,Калькуляция!$B$15:$B$143,$B29)","v":0},{"$f":"IF(Z29=0,0,(AA29-Z29)/Z29*100)","v":0},{"$f":"SUMIFS(INDEX(Калькуляция!$T$15:$AM$143,,MATCH(AC$3,Калькуляция!$T$3:$AM$3,0)),Калькуляция!$A$15:$A$143,$A29,Калькуляция!$B$15:$B$143,$B29)","v":0},{"$f":"SUMIFS(INDEX(Калькуляция!$T$15:$AM$143,,MATCH(AD$3,Калькуляция!$T$3:$AM$3,0)),Калькуляция!$A$15:$A$143,$A29,Калькуляция!$B$15:$B$143,$B29)","v":0},{"$f":"IF(AC29=0,0,(AD29-AC29)/AC29*100)","v":0},{"$f":"SUMIFS(INDEX(Калькуляция!$T$15:$AM$143,,MATCH(AF$3,Калькуляция!$T$3:$AM$3,0)),Калькуляция!$A$15:$A$143,$A29,Калькуляция!$B$15:$B$143,$B29)","v":0},{"$f":"SUMIFS(INDEX(Калькуляция!$T$15:$AM$143,,MATCH(AG$3,Калькуляция!$T$3:$AM$3,0)),Калькуляция!$A$15:$A$143,$A29,Калькуляция!$B$15:$B$143,$B29)","v":0},{"$f":"IF(AF29=0,0,(AG29-AF29)/AF29*100)","v":0},{"$f":"SUMIFS(INDEX(Калькуляция!$T$15:$AM$143,,MATCH(AI$3,Калькуляция!$T$3:$AM$3,0)),Калькуляция!$A$15:$A$143,$A29,Калькуляция!$B$15:$B$143,$B29)","v":0},{"$f":"SUMIFS(INDEX(Калькуляция!$T$15:$AM$143,,MATCH(AJ$3,Калькуляция!$T$3:$AM$3,0)),Калькуляция!$A$15:$A$143,$A29,Калькуляция!$B$15:$B$143,$B29)","v":0},{"$f":"IF(AI29=0,0,(AJ29-AI29)/AI29*100)","v":0},{"$f":"SUMIFS(INDEX(Калькуляция!$T$15:$AM$143,,MATCH(AL$3,Калькуляция!$T$3:$AM$3,0)),Калькуляция!$A$15:$A$143,$A29,Калькуляция!$B$15:$B$143,$B29)","v":0},{"$f":"SUMIFS(INDEX(Калькуляция!$T$15:$AM$143,,MATCH(AM$3,Калькуляция!$T$3:$AM$3,0)),Калькуляция!$A$15:$A$143,$A29,Калькуляция!$B$15:$B$143,$B29)","v":0},{"$f":"IF(AL29=0,0,(AM29-AL29)/AL29*100)","v":0},{"$f":"SUMIFS(INDEX(Калькуляция!$T$15:$AM$143,,MATCH(AO$3,Калькуляция!$T$3:$AM$3,0)),Калькуляция!$A$15:$A$143,$A29,Калькуляция!$B$15:$B$143,$B29)","v":0},{"$f":"SUMIFS(INDEX(Калькуляция!$T$15:$AM$143,,MATCH(AP$3,Калькуляция!$T$3:$AM$3,0)),Калькуляция!$A$15:$A$143,$A29,Калькуляция!$B$15:$B$143,$B29)","v":0},{"$f":"IF(AO29=0,0,(AP29-AO29)/AO29*100)","v":0},null,null,{"$f":"IF(AR29=0,0,(AS29-AR29)/AR29*100)","v":0},null,null,{"$f":"IF(AU29=0,0,(AV29-AU29)/AU29*100)","v":0},null,null,{"$f":"IF(AX29=0,0,(AY29-AX29)/AX29*100)","v":0},null,null,{"$f":"IF(BA29=0,0,(BB29-BA29)/BA29*100)","v":0},null,null,{"$f":"IF(BD29=0,0,(BE29-BD29)/BD29*100)","v":0},null,null,{"$f":"IF(BG29=0,0,(BH29-BG29)/BG29*100)","v":0},null,null,{"$f":"IF(BJ29=0,0,(BK29-BJ29)/BJ29*100)","v":0},null,null,{"$f":"IF(BM29=0,0,(BN29-BM29)/BM29*100)","v":0},null,null,{"$f":"IF(BP29=0,0,(BQ29-BP29)/BP29*100)","v":0},null,null,{"$f":"IF(BS29=0,0,(BT29-BS29)/BS29*100)","v":0},null,null,{"$f":"IF(BV29=0,0,(BW29-BV29)/BV29*100)","v":0},null,null,{"$f":"IF(BY29=0,0,(BZ29-BY29)/BY29*100)","v":0},null,null,{"$f":"IF(CB29=0,0,(CC29-CB29)/CB29*100)","v":0},null,null,{"$f":"IF(CE29=0,0,(CF29-CE29)/CE29*100)","v":0},null,null,{"$f":"IF(CH29=0,0,(CI29-CH29)/CH29*100)","v":0},null,null,{"$f":"IF(CK29=0,0,(CL29-CK29)/CK29*100)","v":0},null,null,{"$f":"IF(CN29=0,0,(CO29-CN29)/CN29*100)","v":0},null,null,{"$f":"IF(CQ29=0,0,(CR29-CQ29)/CQ29*100)","v":0},null,null,{"$f":"IF(CT29=0,0,(CU29-CT29)/CT29*100)","v":0},null,null,{"$f":"IF(CW29=0,0,(CX29-CW29)/CW29*100)","v":0},null,null,{"$f":"IF(CZ29=0,0,(DA29-CZ29)/CZ29*100)","v":0},null,null,{"$f":"IF(DC29=0,0,(DD29-DC29)/DC29*100)","v":0},null,null,{"$f":"IF(DF29=0,0,(DG29-DF29)/DF29*100)","v":0},null,null,{"$f":"IF(DI29=0,0,(DJ29-DI29)/DI29*100)","v":0},null,null,{"$f":"IF(DL29=0,0,(DM29-DL29)/DL29*100)","v":0},null,null,{"$f":"IF(DO29=0,0,(DP29-DO29)/DO29*100)","v":0},null,null,{"$f":"IF(DR29=0,0,(DS29-DR29)/DR29*100)","v":0},null,null,{"$f":"IF(DU29=0,0,(DV29-DU29)/DU29*100)","v":0},null,null,{"$f":"IF(DX29=0,0,(DY29-DX29)/DX29*100)","v":0},null,null,{"$f":"IF(EA29=0,0,(EB29-EA29)/EA29*100)","v":0},null,null,{"$f":"IF(ED29=0,0,(EE29-ED29)/ED29*100)","v":0},null,null,{"$f":"IF(EG29=0,0,(EH29-EG29)/EG29*100)","v":0},null,null,{"$f":"IF(EJ29=0,0,(EK29-EJ29)/EJ29*100)","v":0},null,null,{"$f":"IF(EM29=0,0,(EN29-EM29)/EM29*100)","v":0},null,null,{"$f":"IF(EP29=0,0,(EQ29-EP29)/EP29*100)","v":0},null,null,{"$f":"IF(ES29=0,0,(ET29-ES29)/ES29*100)","v":0},null,null,{"$f":"IF(EV29=0,0,(EW29-EV29)/EV29*100)","v":0},null,null,{"$f":"IF(EY29=0,0,(EZ29-EY29)/EY29*100)","v":0},null,null,{"$f":"IF(FB29=0,0,(FC29-FB29)/FB29*100)","v":0},null,null,{"$f":"IF(FE29=0,0,(FF29-FE29)/FE29*100)","v":0}]
["1",null,{"$f":"A30&\"pIns1\"","v":"1pIns1"},null,null,null,{"$f":"F17=\"одноставочный\"","v":true},null,null,"о",null,"Добавить"]
[{"$f":"A29","v":"1"},null,null,null,null,null,{"$f":"F17=\"двухставочный\"","v":false},null,null,null,null,"Двухставочный тариф:"]
["1",null,null,null,null,null,{"$f":"F17=\"двухставочный\"","v":false},null,null,null,null,"Тариф с 01.01 по 30.06 для прочих потребителей без НДС:"]
["1",null,"L2_1_1","для прочих потребителей с 01.01 по 30.06 без НДС",null,null,{"$f":"F17=\"двухставочный\"","v":false},null,null,null,null,"перевод двухставочного тарифа в одноставочный тариф","руб./куб.м",{"$f":"IF(N35=0,0,(N34*N35+N36*N37*6)/N35)","v":0},{"$f":"IF(O35=0,0,(O34*O35+O36*O37*6)/O35)","v":0},{"$f":"IF(N33=0,0,(O33-N33)/N33*100)","v":0},{"$f":"IF(Q35=0,0,(Q34*Q35+Q36*Q37*6)/Q35)","v":0},{"$f":"IF(R35=0,0,(R34*R35+R36*R37*6)/R35)","v":0},{"$f":"IF(Q33=0,0,(R33-Q33)/Q33*100)","v":0},{"$f":"IF(T35=0,0,(T34*T35+T36*T37*6)/T35)","v":0},{"$f":"IF(U35=0,0,(U34*U35+U36*U37*6)/U35)","v":0},{"$f":"IF(T33=0,0,(U33-T33)/T33*100)","v":0},{"$f":"IF(W35=0,0,(W34*W35+W36*W37*6)/W35)","v":0},{"$f":"IF(X35=0,0,(X34*X35+X36*X37*6)/X35)","v":0},{"$f":"IF(W33=0,0,(X33-W33)/W33*100)","v":0},{"$f":"IF(Z35=0,0,(Z34*Z35+Z36*Z37*6)/Z35)","v":0},{"$f":"IF(AA35=0,0,(AA34*AA35+AA36*AA37*6)/AA35)","v":0},{"$f":"IF(Z33=0,0,(AA33-Z33)/Z33*100)","v":0},{"$f":"IF(AC35=0,0,(AC34*AC35+AC36*AC37*6)/AC35)","v":0},{"$f":"IF(AD35=0,0,(AD34*AD35+AD36*AD37*6)/AD35)","v":0},{"$f":"IF(AC33=0,0,(AD33-AC33)/AC33*100)","v":0},{"$f":"IF(AF35=0,0,(AF34*AF35+AF36*AF37*6)/AF35)","v":0},{"$f":"IF(AG35=0,0,(AG34*AG35+AG36*AG37*6)/AG35)","v":0},{"$f":"IF(AF33=0,0,(AG33-AF33)/AF33*100)","v":0},{"$f":"IF(AI35=0,0,(AI34*AI35+AI36*AI37*6)/AI35)","v":0},{"$f":"IF(AJ35=0,0,(AJ34*AJ35+AJ36*AJ37*6)/AJ35)","v":0},{"$f":"IF(AI33=0,0,(AJ33-AI33)/AI33*100)","v":0},{"$f":"IF(AL35=0,0,(AL34*AL35+AL36*AL37*6)/AL35)","v":0},{"$f":"IF(AM35=0,0,(AM34*AM35+AM36*AM37*6)/AM35)","v":0},{"$f":"IF(AL33=0,0,(AM33-AL33)/AL33*100)","v":0},{"$f":"IF(AO35=0,0,(AO34*AO35+AO36*AO37*6)/AO35)","v":0},{"$f":"IF(AP35=0,0,(AP34*AP35+AP36*AP37*6)/AP35)","v":0},{"$f":"IF(AO33=0,0,(AP33-AO33)/AO33*100)","v":0},{"$f":"IF(AR35=0,0,(AR34*AR35+AR36*AR37*6)/AR35)","v":0},{"$f":"IF(AS35=0,0,(AS34*AS35+AS36*AS37*6)/AS35)","v":0},{"$f":"IF(AR33=0,0,(AS33-AR33)/AR33*100)","v":0},{"$f":"IF(AU35=0,0,(AU34*AU35+AU36*AU37*6)/AU35)","v":0},{"$f":"IF(AV35=0,0,(AV34*AV35+AV36*AV37*6)/AV35)","v":0},{"$f":"IF(AU33=0,0,(AV33-AU33)/AU33*100)","v":0},{"$f":"IF(AX35=0,0,(AX34*AX35+AX36*AX37*6)/AX35)","v":0},{"$f":"IF(AY35=0,0,(AY34*AY35+AY36*AY37*6)/AY35)","v":0},{"$f":"IF(AX33=0,0,(AY33-AX33)/AX33*100)","v":0},{"$f":"IF(BA35=0,0,(BA34*BA35+BA36*BA37*6)/BA35)","v":0},{"$f":"IF(BB35=0,0,(BB34*BB35+BB36*BB37*6)/BB35)","v":0},{"$f":"IF(BA33=0,0,(BB33-BA33)/BA33*100)","v":0},{"$f":"IF(BD35=0,0,(BD34*BD35+BD36*BD37*6)/BD35)","v":0},{"$f":"IF(BE35=0,0,(BE34*BE35+BE36*BE37*6)/BE35)","v":0},{"$f":"IF(BD33=0,0,(BE33-BD33)/BD33*100)","v":0},{"$f":"IF(BG35=0,0,(BG34*BG35+BG36*BG37*6)/BG35)","v":0},{"$f":"IF(BH35=0,0,(BH34*BH35+BH36*BH37*6)/BH35)","v":0},{"$f":"IF(BG33=0,0,(BH33-BG33)/BG33*100)","v":0},{"$f":"IF(BJ35=0,0,(BJ34*BJ35+BJ36*BJ37*6)/BJ35)","v":0},{"$f":"IF(BK35=0,0,(BK34*BK35+BK36*BK37*6)/BK35)","v":0},{"$f":"IF(BJ33=0,0,(BK33-BJ33)/BJ33*100)","v":0},{"$f":"IF(BM35=0,0,(BM34*BM35+BM36*BM37*6)/BM35)","v":0},{"$f":"IF(BN35=0,0,(BN34*BN35+BN36*BN37*6)/BN35)","v":0},{"$f":"IF(BM33=0,0,(BN33-BM33)/BM33*100)","v":0},{"$f":"IF(BP35=0,0,(BP34*BP35+BP36*BP37*6)/BP35)","v":0},{"$f":"IF(BQ35=0,0,(BQ34*BQ35+BQ36*BQ37*6)/BQ35)","v":0},{"$f":"IF(BP33=0,0,(BQ33-BP33)/BP33*100)","v":0},{"$f":"IF(BS35=0,0,(BS34*BS35+BS36*BS37*6)/BS35)","v":0},{"$f":"IF(BT35=0,0,(BT34*BT35+BT36*BT37*6)/BT35)","v":0},{"$f":"IF(BS33=0,0,(BT33-BS33)/BS33*100)","v":0},{"$f":"IF(BV35=0,0,(BV34*BV35+BV36*BV37*6)/BV35)","v":0},{"$f":"IF(BW35=0,0,(BW34*BW35+BW36*BW37*6)/BW35)","v":0},{"$f":"IF(BV33=0,0,(BW33-BV33)/BV33*100)","v":0},{"$f":"IF(BY35=0,0,(BY34*BY35+BY36*BY37*6)/BY35)","v":0},{"$f":"IF(BZ35=0,0,(BZ34*BZ35+BZ36*BZ37*6)/BZ35)","v":0},{"$f":"IF(BY33=0,0,(BZ33-BY33)/BY33*100)","v":0},{"$f":"IF(CB35=0,0,(CB34*CB35+CB36*CB37*6)/CB35)","v":0},{"$f":"IF(CC35=0,0,(CC34*CC35+CC36*CC37*6)/CC35)","v":0},{"$f":"IF(CB33=0,0,(CC33-CB33)/CB33*100)","v":0},{"$f":"IF(CE35=0,0,(CE34*CE35+CE36*CE37*6)/CE35)","v":0},{"$f":"IF(CF35=0,0,(CF34*CF35+CF36*CF37*6)/CF35)","v":0},{"$f":"IF(CE33=0,0,(CF33-CE33)/CE33*100)","v":0},{"$f":"IF(CH35=0,0,(CH34*CH35+CH36*CH37*6)/CH35)","v":0},{"$f":"IF(CI35=0,0,(CI34*CI35+CI36*CI37*6)/CI35)","v":0},{"$f":"IF(CH33=0,0,(CI33-CH33)/CH33*100)","v":0},{"$f":"IF(CK35=0,0,(CK34*CK35+CK36*CK37*6)/CK35)","v":0},{"$f":"IF(CL35=0,0,(CL34*CL35+CL36*CL37*6)/CL35)","v":0},{"$f":"IF(CK33=0,0,(CL33-CK33)/CK33*100)","v":0},{"$f":"IF(CN35=0,0,(CN34*CN35+CN36*CN37*6)/CN35)","v":0},{"$f":"IF(CO35=0,0,(CO34*CO35+CO36*CO37*6)/CO35)","v":0},{"$f":"IF(CN33=0,0,(CO33-CN33)/CN33*100)","v":0},{"$f":"IF(CQ35=0,0,(CQ34*CQ35+CQ36*CQ37*6)/CQ35)","v":0},{"$f":"IF(CR35=0,0,(CR34*CR35+CR36*CR37*6)/CR35)","v":0},{"$f":"IF(CQ33=0,0,(CR33-CQ33)/CQ33*100)","v":0},{"$f":"IF(CT35=0,0,(CT34*CT35+CT36*CT37*6)/CT35)","v":0},{"$f":"IF(CU35=0,0,(CU34*CU35+CU36*CU37*6)/CU35)","v":0},{"$f":"IF(CT33=0,0,(CU33-CT33)/CT33*100)","v":0},{"$f":"IF(CW35=0,0,(CW34*CW35+CW36*CW37*6)/CW35)","v":0},{"$f":"IF(CX35=0,0,(CX34*CX35+CX36*CX37*6)/CX35)","v":0},{"$f":"IF(CW33=0,0,(CX33-CW33)/CW33*100)","v":0},{"$f":"IF(CZ35=0,0,(CZ34*CZ35+CZ36*CZ37*6)/CZ35)","v":0},{"$f":"IF(DA35=0,0,(DA34*DA35+DA36*DA37*6)/DA35)","v":0},{"$f":"IF(CZ33=0,0,(DA33-CZ33)/CZ33*100)","v":0},{"$f":"IF(DC35=0,0,(DC34*DC35+DC36*DC37*6)/DC35)","v":0},{"$f":"IF(DD35=0,0,(DD34*DD35+DD36*DD37*6)/DD35)","v":0},{"$f":"IF(DC33=0,0,(DD33-DC33)/DC33*100)","v":0},{"$f":"IF(DF35=0,0,(DF34*DF35+DF36*DF37*6)/DF35)","v":0},{"$f":"IF(DG35=0,0,(DG34*DG35+DG36*DG37*6)/DG35)","v":0},{"$f":"IF(DF33=0,0,(DG33-DF33)/DF33*100)","v":0},{"$f":"IF(DI35=0,0,(DI34*DI35+DI36*DI37*6)/DI35)","v":0},{"$f":"IF(DJ35=0,0,(DJ34*DJ35+DJ36*DJ37*6)/DJ35)","v":0},{"$f":"IF(DI33=0,0,(DJ33-DI33)/DI33*100)","v":0},{"$f":"IF(DL35=0,0,(DL34*DL35+DL36*DL37*6)/DL35)","v":0},{"$f":"IF(DM35=0,0,(DM34*DM35+DM36*DM37*6)/DM35)","v":0},{"$f":"IF(DL33=0,0,(DM33-DL33)/DL33*100)","v":0},{"$f":"IF(DO35=0,0,(DO34*DO35+DO36*DO37*6)/DO35)","v":0},{"$f":"IF(DP35=0,0,(DP34*DP35+DP36*DP37*6)/DP35)","v":0},{"$f":"IF(DO33=0,0,(DP33-DO33)/DO33*100)","v":0},{"$f":"IF(DR35=0,0,(DR34*DR35+DR36*DR37*6)/DR35)","v":0},{"$f":"IF(DS35=0,0,(DS34*DS35+DS36*DS37*6)/DS35)","v":0},{"$f":"IF(DR33=0,0,(DS33-DR33)/DR33*100)","v":0},{"$f":"IF(DU35=0,0,(DU34*DU35+DU36*DU37*6)/DU35)","v":0},{"$f":"IF(DV35=0,0,(DV34*DV35+DV36*DV37*6)/DV35)","v":0},{"$f":"IF(DU33=0,0,(DV33-DU33)/DU33*100)","v":0},{"$f":"IF(DX35=0,0,(DX34*DX35+DX36*DX37*6)/DX35)","v":0},{"$f":"IF(DY35=0,0,(DY34*DY35+DY36*DY37*6)/DY35)","v":0},{"$f":"IF(DX33=0,0,(DY33-DX33)/DX33*100)","v":0},{"$f":"IF(EA35=0,0,(EA34*EA35+EA36*EA37*6)/EA35)","v":0},{"$f":"IF(EB35=0,0,(EB34*EB35+EB36*EB37*6)/EB35)","v":0},{"$f":"IF(EA33=0,0,(EB33-EA33)/EA33*100)","v":0},{"$f":"IF(ED35=0,0,(ED34*ED35+ED36*ED37*6)/ED35)","v":0},{"$f":"IF(EE35=0,0,(EE34*EE35+EE36*EE37*6)/EE35)","v":0},{"$f":"IF(ED33=0,0,(EE33-ED33)/ED33*100)","v":0},{"$f":"IF(EG35=0,0,(EG34*EG35+EG36*EG37*6)/EG35)","v":0},{"$f":"IF(EH35=0,0,(EH34*EH35+EH36*EH37*6)/EH35)","v":0},{"$f":"IF(EG33=0,0,(EH33-EG33)/EG33*100)","v":0},{"$f":"IF(EJ35=0,0,(EJ34*EJ35+EJ36*EJ37*6)/EJ35)","v":0},{"$f":"IF(EK35=0,0,(EK34*EK35+EK36*EK37*6)/EK35)","v":0},{"$f":"IF(EJ33=0,0,(EK33-EJ33)/EJ33*100)","v":0},{"$f":"IF(EM35=0,0,(EM34*EM35+EM36*EM37*6)/EM35)","v":0},{"$f":"IF(EN35=0,0,(EN34*EN35+EN36*EN37*6)/EN35)","v":0},{"$f":"IF(EM33=0,0,(EN33-EM33)/EM33*100)","v":0},{"$f":"IF(EP35=0,0,(EP34*EP35+EP36*EP37*6)/EP35)","v":0},{"$f":"IF(EQ35=0,0,(EQ34*EQ35+EQ36*EQ37*6)/EQ35)","v":0},{"$f":"IF(EP33=0,0,(EQ33-EP33)/EP33*100)","v":0},{"$f":"IF(ES35=0,0,(ES34*ES35+ES36*ES37*6)/ES35)","v":0},{"$f":"IF(ET35=0,0,(ET34*ET35+ET36*ET37*6)/ET35)","v":0},{"$f":"IF(ES33=0,0,(ET33-ES33)/ES33*100)","v":0},{"$f":"IF(EV35=0,0,(EV34*EV35+EV36*EV37*6)/EV35)","v":0},{"$f":"IF(EW35=0,0,(EW34*EW35+EW36*EW37*6)/EW35)","v":0},{"$f":"IF(EV33=0,0,(EW33-EV33)/EV33*100)","v":0},{"$f":"IF(EY35=0,0,(EY34*EY35+EY36*EY37*6)/EY35)","v":0},{"$f":"IF(EZ35=0,0,(EZ34*EZ35+EZ36*EZ37*6)/EZ35)","v":0},{"$f":"IF(EY33=0,0,(EZ33-EY33)/EY33*100)","v":0},{"$f":"IF(FB35=0,0,(FB34*FB35+FB36*FB37*6)/FB35)","v":0},{"$f":"IF(FC35=0,0,(FC34*FC35+FC36*FC37*6)/FC35)","v":0},{"$f":"IF(FB33=0,0,(FC33-FB33)/FB33*100)","v":0},{"$f":"IF(FE35=0,0,(FE34*FE35+FE36*FE37*6)/FE35)","v":0},{"$f":"IF(FF35=0,0,(FF34*FF35+FF36*FF37*6)/FF35)","v":0},{"$f":"IF(FE33=0,0,(FF33-FE33)/FE33*100)","v":0}]
["1",null,"L2_1_2","для прочих потребителей с 01.01 по 30.06 без НДС",null,null,{"$f":"F17=\"двухставочный\"","v":false},null,null,null,null,"ставка платы за потребление 1 куб.м холодной воды","руб./куб.м",null,null,{"$f":"IF(N34=0,0,(O34-N34)/N34*100)","v":0},null,null,{"$f":"IF(Q34=0,0,(R34-Q34)/Q34*100)","v":0},null,null,{"$f":"IF(T34=0,0,(U34-T34)/T34*100)","v":0},null,null,{"$f":"IF(W34=0,0,(X34-W34)/W34*100)","v":0},null,null,{"$f":"IF(Z34=0,0,(AA34-Z34)/Z34*100)","v":0},null,null,{"$f":"IF(AC34=0,0,(AD34-AC34)/AC34*100)","v":0},null,null,{"$f":"IF(AF34=0,0,(AG34-AF34)/AF34*100)","v":0},null,null,{"$f":"IF(AI34=0,0,(AJ34-AI34)/AI34*100)","v":0},null,null,{"$f":"IF(AL34=0,0,(AM34-AL34)/AL34*100)","v":0},null,null,{"$f":"IF(AO34=0,0,(AP34-AO34)/AO34*100)","v":0},null,null,{"$f":"IF(AR34=0,0,(AS34-AR34)/AR34*100)","v":0},null,null,{"$f":"IF(AU34=0,0,(AV34-AU34)/AU34*100)","v":0},null,null,{"$f":"IF(AX34=0,0,(AY34-AX34)/AX34*100)","v":0},null,null,{"$f":"IF(BA34=0,0,(BB34-BA34)/BA34*100)","v":0},null,null,{"$f":"IF(BD34=0,0,(BE34-BD34)/BD34*100)","v":0},null,null,{"$f":"IF(BG34=0,0,(BH34-BG34)/BG34*100)","v":0},null,null,{"$f":"IF(BJ34=0,0,(BK34-BJ34)/BJ34*100)","v":0},null,null,{"$f":"IF(BM34=0,0,(BN34-BM34)/BM34*100)","v":0},null,null,{"$f":"IF(BP34=0,0,(BQ34-BP34)/BP34*100)","v":0},null,null,{"$f":"IF(BS34=0,0,(BT34-BS34)/BS34*100)","v":0},null,null,{"$f":"IF(BV34=0,0,(BW34-BV34)/BV34*100)","v":0},null,null,{"$f":"IF(BY34=0,0,(BZ34-BY34)/BY34*100)","v":0},null,null,{"$f":"IF(CB34=0,0,(CC34-CB34)/CB34*100)","v":0},null,null,{"$f":"IF(CE34=0,0,(CF34-CE34)/CE34*100)","v":0},null,null,{"$f":"IF(CH34=0,0,(CI34-CH34)/CH34*100)","v":0},null,null,{"$f":"IF(CK34=0,0,(CL34-CK34)/CK34*100)","v":0},null,null,{"$f":"IF(CN34=0,0,(CO34-CN34)/CN34*100)","v":0},null,null,{"$f":"IF(CQ34=0,0,(CR34-CQ34)/CQ34*100)","v":0},null,null,{"$f":"IF(CT34=0,0,(CU34-CT34)/CT34*100)","v":0},null,null,{"$f":"IF(CW34=0,0,(CX34-CW34)/CW34*100)","v":0},null,null,{"$f":"IF(CZ34=0,0,(DA34-CZ34)/CZ34*100)","v":0},null,null,{"$f":"IF(DC34=0,0,(DD34-DC34)/DC34*100)","v":0},null,null,{"$f":"IF(DF34=0,0,(DG34-DF34)/DF34*100)","v":0},null,null,{"$f":"IF(DI34=0,0,(DJ34-DI34)/DI34*100)","v":0},null,null,{"$f":"IF(DL34=0,0,(DM34-DL34)/DL34*100)","v":0},null,null,{"$f":"IF(DO34=0,0,(DP34-DO34)/DO34*100)","v":0},null,null,{"$f":"IF(DR34=0,0,(DS34-DR34)/DR34*100)","v":0},null,null,{"$f":"IF(DU34=0,0,(DV34-DU34)/DU34*100)","v":0},null,null,{"$f":"IF(DX34=0,0,(DY34-DX34)/DX34*100)","v":0},null,null,{"$f":"IF(EA34=0,0,(EB34-EA34)/EA34*100)","v":0},null,null,{"$f":"IF(ED34=0,0,(EE34-ED34)/ED34*100)","v":0},null,null,{"$f":"IF(EG34=0,0,(EH34-EG34)/EG34*100)","v":0},null,null,{"$f":"IF(EJ34=0,0,(EK34-EJ34)/EJ34*100)","v":0},null,null,{"$f":"IF(EM34=0,0,(EN34-EM34)/EM34*100)","v":0},null,null,{"$f":"IF(EP34=0,0,(EQ34-EP34)/EP34*100)","v":0},null,null,{"$f":"IF(ES34=0,0,(ET34-ES34)/ES34*100)","v":0},null,null,{"$f":"IF(EV34=0,0,(EW34-EV34)/EV34*100)","v":0},null,null,{"$f":"IF(EY34=0,0,(EZ34-EY34)/EY34*100)","v":0},null,null,{"$f":"IF(FB34=0,0,(FC34-FB34)/FB34*100)","v":0},null,null,{"$f":"IF(FE34=0,0,(FF34-FE34)/FE34*100)","v":0}]
["1","ПО.прочие.I","L2_1_3","для прочих потребителей с 01.01 по 30.06 без НДС",null,null,{"$f":"F17=\"двухставочный\"","v":false},null,null,null,null,"объём потребления холодной воды","тыс.куб.м",{"$f":"SUMIFS(INDEX(Калькуляция!$T$15:$AM$143,,MATCH(N$3,Калькуляция!$T$3:$AM$3,0)),Калькуляция!$A$15:$A$143,$A35,Калькуляция!$B$15:$B$143,$B35)","v":2021.8869999999999},{"$f":"SUMIFS(INDEX(Калькуляция!$T$15:$AM$143,,MATCH(O$3,Калькуляция!$T$3:$AM$3,0)),Калькуляция!$A$15:$A$143,$A35,Калькуляция!$B$15:$B$143,$B35)","v":1959.1055000000001},{"$f":"IF(N35=0,0,(O35-N35)/N35*100)","v":-3.1050943994397224},{"$f":"SUMIFS(INDEX(Калькуляция!$T$15:$AM$143,,MATCH(Q$3,Калькуляция!$T$3:$AM$3,0)),Калькуляция!$A$15:$A$143,$A35,Калькуляция!$B$15:$B$143,$B35)","v":0},{"$f":"SUMIFS(INDEX(Калькуляция!$T$15:$AM$143,,MATCH(R$3,Калькуляция!$T$3:$AM$3,0)),Калькуляция!$A$15:$A$143,$A35,Калькуляция!$B$15:$B$143,$B35)","v":0},{"$f":"IF(Q35=0,0,(R35-Q35)/Q35*100)","v":0},{"$f":"SUMIFS(INDEX(Калькуляция!$T$15:$AM$143,,MATCH(T$3,Калькуляция!$T$3:$AM$3,0)),Калькуляция!$A$15:$A$143,$A35,Калькуляция!$B$15:$B$143,$B35)","v":0},{"$f":"SUMIFS(INDEX(Калькуляция!$T$15:$AM$143,,MATCH(U$3,Калькуляция!$T$3:$AM$3,0)),Калькуляция!$A$15:$A$143,$A35,Калькуляция!$B$15:$B$143,$B35)","v":0},{"$f":"IF(T35=0,0,(U35-T35)/T35*100)","v":0},{"$f":"SUMIFS(INDEX(Калькуляция!$T$15:$AM$143,,MATCH(W$3,Калькуляция!$T$3:$AM$3,0)),Калькуляция!$A$15:$A$143,$A35,Калькуляция!$B$15:$B$143,$B35)","v":0},{"$f":"SUMIFS(INDEX(Калькуляция!$T$15:$AM$143,,MATCH(X$3,Калькуляция!$T$3:$AM$3,0)),Калькуляция!$A$15:$A$143,$A35,Калькуляция!$B$15:$B$143,$B35)","v":0},{"$f":"IF(W35=0,0,(X35-W35)/W35*100)","v":0},{"$f":"SUMIFS(INDEX(Калькуляция!$T$15:$AM$143,,MATCH(Z$3,Калькуляция!$T$3:$AM$3,0)),Калькуляция!$A$15:$A$143,$A35,Калькуляция!$B$15:$B$143,$B35)","v":0},{"$f":"SUMIFS(INDEX(Калькуляция!$T$15:$AM$143,,MATCH(AA$3,Калькуляция!$T$3:$AM$3,0)),Калькуляция!$A$15:$A$143,$A35,Калькуляция!$B$15:$B$143,$B35)","v":0},{"$f":"IF(Z35=0,0,(AA35-Z35)/Z35*100)","v":0},{"$f":"SUMIFS(INDEX(Калькуляция!$T$15:$AM$143,,MATCH(AC$3,Калькуляция!$T$3:$AM$3,0)),Калькуляция!$A$15:$A$143,$A35,Калькуляция!$B$15:$B$143,$B35)","v":0},{"$f":"SUMIFS(INDEX(Калькуляция!$T$15:$AM$143,,MATCH(AD$3,Калькуляция!$T$3:$AM$3,0)),Калькуляция!$A$15:$A$143,$A35,Калькуляция!$B$15:$B$143,$B35)","v":0},{"$f":"IF(AC35=0,0,(AD35-AC35)/AC35*100)","v":0},{"$f":"SUMIFS(INDEX(Калькуляция!$T$15:$AM$143,,MATCH(AF$3,Калькуляция!$T$3:$AM$3,0)),Калькуляция!$A$15:$A$143,$A35,Калькуляция!$B$15:$B$143,$B35)","v":0},{"$f":"SUMIFS(INDEX(Калькуляция!$T$15:$AM$143,,MATCH(AG$3,Калькуляция!$T$3:$AM$3,0)),Калькуляция!$A$15:$A$143,$A35,Калькуляция!$B$15:$B$143,$B35)","v":0},{"$f":"IF(AF35=0,0,(AG35-AF35)/AF35*100)","v":0},{"$f":"SUMIFS(INDEX(Калькуляция!$T$15:$AM$143,,MATCH(AI$3,Калькуляция!$T$3:$AM$3,0)),Калькуляция!$A$15:$A$143,$A35,Калькуляция!$B$15:$B$143,$B35)","v":0},{"$f":"SUMIFS(INDEX(Калькуляция!$T$15:$AM$143,,MATCH(AJ$3,Калькуляция!$T$3:$AM$3,0)),Калькуляция!$A$15:$A$143,$A35,Калькуляция!$B$15:$B$143,$B35)","v":0},{"$f":"IF(AI35=0,0,(AJ35-AI35)/AI35*100)","v":0},{"$f":"SUMIFS(INDEX(Калькуляция!$T$15:$AM$143,,MATCH(AL$3,Калькуляция!$T$3:$AM$3,0)),Калькуляция!$A$15:$A$143,$A35,Калькуляция!$B$15:$B$143,$B35)","v":0},{"$f":"SUMIFS(INDEX(Калькуляция!$T$15:$AM$143,,MATCH(AM$3,Калькуляция!$T$3:$AM$3,0)),Калькуляция!$A$15:$A$143,$A35,Калькуляция!$B$15:$B$143,$B35)","v":0},{"$f":"IF(AL35=0,0,(AM35-AL35)/AL35*100)","v":0},{"$f":"SUMIFS(INDEX(Калькуляция!$T$15:$AM$143,,MATCH(AO$3,Калькуляция!$T$3:$AM$3,0)),Калькуляция!$A$15:$A$143,$A35,Калькуляция!$B$15:$B$143,$B35)","v":0},{"$f":"SUMIFS(INDEX(Калькуляция!$T$15:$AM$143,,MATCH(AP$3,Калькуляция!$T$3:$AM$3,0)),Калькуляция!$A$15:$A$143,$A35,Калькуляция!$B$15:$B$143,$B35)","v":0},{"$f":"IF(AO35=0,0,(AP35-AO35)/AO35*100)","v":0},null,null,{"$f":"IF(AR35=0,0,(AS35-AR35)/AR35*100)","v":0},null,null,{"$f":"IF(AU35=0,0,(AV35-AU35)/AU35*100)","v":0},null,null,{"$f":"IF(AX35=0,0,(AY35-AX35)/AX35*100)","v":0},null,null,{"$f":"IF(BA35=0,0,(BB35-BA35)/BA35*100)","v":0},null,null,{"$f":"IF(BD35=0,0,(BE35-BD35)/BD35*100)","v":0},null,null,{"$f":"IF(BG35=0,0,(BH35-BG35)/BG35*100)","v":0},null,null,{"$f":"IF(BJ35=0,0,(BK35-BJ35)/BJ35*100)","v":0},null,null,{"$f":"IF(BM35=0,0,(BN35-BM35)/BM35*100)","v":0},null,null,{"$f":"IF(BP35=0,0,(BQ35-BP35)/BP35*100)","v":0},null,null,{"$f":"IF(BS35=0,0,(BT35-BS35)/BS35*100)","v":0},null,null,{"$f":"IF(BV35=0,0,(BW35-BV35)/BV35*100)","v":0},null,null,{"$f":"IF(BY35=0,0,(BZ35-BY35)/BY35*100)","v":0},null,null,{"$f":"IF(CB35=0,0,(CC35-CB35)/CB35*100)","v":0},null,null,{"$f":"IF(CE35=0,0,(CF35-CE35)/CE35*100)","v":0},null,null,{"$f":"IF(CH35=0,0,(CI35-CH35)/CH35*100)","v":0},null,null,{"$f":"IF(CK35=0,0,(CL35-CK35)/CK35*100)","v":0},null,null,{"$f":"IF(CN35=0,0,(CO35-CN35)/CN35*100)","v":0},null,null,{"$f":"IF(CQ35=0,0,(CR35-CQ35)/CQ35*100)","v":0},null,null,{"$f":"IF(CT35=0,0,(CU35-CT35)/CT35*100)","v":0},null,null,{"$f":"IF(CW35=0,0,(CX35-CW35)/CW35*100)","v":0},null,null,{"$f":"IF(CZ35=0,0,(DA35-CZ35)/CZ35*100)","v":0},null,null,{"$f":"IF(DC35=0,0,(DD35-DC35)/DC35*100)","v":0},null,null,{"$f":"IF(DF35=0,0,(DG35-DF35)/DF35*100)","v":0},null,null,{"$f":"IF(DI35=0,0,(DJ35-DI35)/DI35*100)","v":0},null,null,{"$f":"IF(DL35=0,0,(DM35-DL35)/DL35*100)","v":0},null,null,{"$f":"IF(DO35=0,0,(DP35-DO35)/DO35*100)","v":0},null,null,{"$f":"IF(DR35=0,0,(DS35-DR35)/DR35*100)","v":0},null,null,{"$f":"IF(DU35=0,0,(DV35-DU35)/DU35*100)","v":0},null,null,{"$f":"IF(DX35=0,0,(DY35-DX35)/DX35*100)","v":0},null,null,{"$f":"IF(EA35=0,0,(EB35-EA35)/EA35*100)","v":0},null,null,{"$f":"IF(ED35=0,0,(EE35-ED35)/ED35*100)","v":0},null,null,{"$f":"IF(EG35=0,0,(EH35-EG35)/EG35*100)","v":0},null,null,{"$f":"IF(EJ35=0,0,(EK35-EJ35)/EJ35*100)","v":0},null,null,{"$f":"IF(EM35=0,0,(EN35-EM35)/EM35*100)","v":0},null,null,{"$f":"IF(EP35=0,0,(EQ35-EP35)/EP35*100)","v":0},null,null,{"$f":"IF(ES35=0,0,(ET35-ES35)/ES35*100)","v":0},null,null,{"$f":"IF(EV35=0,0,(EW35-EV35)/EV35*100)","v":0},null,null,{"$f":"IF(EY35=0,0,(EZ35-EY35)/EY35*100)","v":0},null,null,{"$f":"IF(FB35=0,0,(FC35-FB35)/FB35*100)","v":0},null,null,{"$f":"IF(FE35=0,0,(FF35-FE35)/FE35*100)","v":0}]
["1",null,"L2_1_4","для прочих потребителей с 01.01 по 30.06 без НДС",null,null,{"$f":"F17=\"двухставочный\"","v":false},null,null,null,null,"ставка платы за содержание системы холодного водоснабжения","тыс.руб./куб.м*час/в месяц",null,null,{"$f":"IF(N36=0,0,(O36-N36)/N36*100)","v":0},null,null,{"$f":"IF(Q36=0,0,(R36-Q36)/Q36*100)","v":0},null,null,{"$f":"IF(T36=0,0,(U36-T36)/T36*100)","v":0},null,null,{"$f":"IF(W36=0,0,(X36-W36)/W36*100)","v":0},null,null,{"$f":"IF(Z36=0,0,(AA36-Z36)/Z36*100)","v":0},null,null,{"$f":"IF(AC36=0,0,(AD36-AC36)/AC36*100)","v":0},null,null,{"$f":"IF(AF36=0,0,(AG36-AF36)/AF36*100)","v":0},null,null,{"$f":"IF(AI36=0,0,(AJ36-AI36)/AI36*100)","v":0},null,null,{"$f":"IF(AL36=0,0,(AM36-AL36)/AL36*100)","v":0},null,null,{"$f":"IF(AO36=0,0,(AP36-AO36)/AO36*100)","v":0},null,null,{"$f":"IF(AR36=0,0,(AS36-AR36)/AR36*100)","v":0},null,null,{"$f":"IF(AU36=0,0,(AV36-AU36)/AU36*100)","v":0},null,null,{"$f":"IF(AX36=0,0,(AY36-AX36)/AX36*100)","v":0},null,null,{"$f":"IF(BA36=0,0,(BB36-BA36)/BA36*100)","v":0},null,null,{"$f":"IF(BD36=0,0,(BE36-BD36)/BD36*100)","v":0},null,null,{"$f":"IF(BG36=0,0,(BH36-BG36)/BG36*100)","v":0},null,null,{"$f":"IF(BJ36=0,0,(BK36-BJ36)/BJ36*100)","v":0},null,null,{"$f":"IF(BM36=0,0,(BN36-BM36)/BM36*100)","v":0},null,null,{"$f":"IF(BP36=0,0,(BQ36-BP36)/BP36*100)","v":0},null,null,{"$f":"IF(BS36=0,0,(BT36-BS36)/BS36*100)","v":0},null,null,{"$f":"IF(BV36=0,0,(BW36-BV36)/BV36*100)","v":0},null,null,{"$f":"IF(BY36=0,0,(BZ36-BY36)/BY36*100)","v":0},null,null,{"$f":"IF(CB36=0,0,(CC36-CB36)/CB36*100)","v":0},null,null,{"$f":"IF(CE36=0,0,(CF36-CE36)/CE36*100)","v":0},null,null,{"$f":"IF(CH36=0,0,(CI36-CH36)/CH36*100)","v":0},null,null,{"$f":"IF(CK36=0,0,(CL36-CK36)/CK36*100)","v":0},null,null,{"$f":"IF(CN36=0,0,(CO36-CN36)/CN36*100)","v":0},null,null,{"$f":"IF(CQ36=0,0,(CR36-CQ36)/CQ36*100)","v":0},null,null,{"$f":"IF(CT36=0,0,(CU36-CT36)/CT36*100)","v":0},null,null,{"$f":"IF(CW36=0,0,(CX36-CW36)/CW36*100)","v":0},null,null,{"$f":"IF(CZ36=0,0,(DA36-CZ36)/CZ36*100)","v":0},null,null,{"$f":"IF(DC36=0,0,(DD36-DC36)/DC36*100)","v":0},null,null,{"$f":"IF(DF36=0,0,(DG36-DF36)/DF36*100)","v":0},null,null,{"$f":"IF(DI36=0,0,(DJ36-DI36)/DI36*100)","v":0},null,null,{"$f":"IF(DL36=0,0,(DM36-DL36)/DL36*100)","v":0},null,null,{"$f":"IF(DO36=0,0,(DP36-DO36)/DO36*100)","v":0},null,null,{"$f":"IF(DR36=0,0,(DS36-DR36)/DR36*100)","v":0},null,null,{"$f":"IF(DU36=0,0,(DV36-DU36)/DU36*100)","v":0},null,null,{"$f":"IF(DX36=0,0,(DY36-DX36)/DX36*100)","v":0},null,null,{"$f":"IF(EA36=0,0,(EB36-EA36)/EA36*100)","v":0},null,null,{"$f":"IF(ED36=0,0,(EE36-ED36)/ED36*100)","v":0},null,null,{"$f":"IF(EG36=0,0,(EH36-EG36)/EG36*100)","v":0},null,null,{"$f":"IF(EJ36=0,0,(EK36-EJ36)/EJ36*100)","v":0},null,null,{"$f":"IF(EM36=0,0,(EN36-EM36)/EM36*100)","v":0},null,null,{"$f":"IF(EP36=0,0,(EQ36-EP36)/EP36*100)","v":0},null,null,{"$f":"IF(ES36=0,0,(ET36-ES36)/ES36*100)","v":0},null,null,{"$f":"IF(EV36=0,0,(EW36-EV36)/EV36*100)","v":0},null,null,{"$f":"IF(EY36=0,0,(EZ36-EY36)/EY36*100)","v":0},null,null,{"$f":"IF(FB36=0,0,(FC36-FB36)/FB36*100)","v":0},null,null,{"$f":"IF(FE36=0,0,(FF36-FE36)/FE36*100)","v":0}]
["1",null,"L2_1_5","для прочих потребителей с 01.01 по 30.06 без НДС",null,null,{"$f":"F17=\"двухставочный\"","v":false},null,null,null,null,"величина присоединённой мощности","куб.м*час",null,null,{"$f":"IF(N37=0,0,(O37-N37)/N37*100)","v":0},null,null,{"$f":"IF(Q37=0,0,(R37-Q37)/Q37*100)","v":0},null,null,{"$f":"IF(T37=0,0,(U37-T37)/T37*100)","v":0},null,null,{"$f":"IF(W37=0,0,(X37-W37)/W37*100)","v":0},null,null,{"$f":"IF(Z37=0,0,(AA37-Z37)/Z37*100)","v":0},null,null,{"$f":"IF(AC37=0,0,(AD37-AC37)/AC37*100)","v":0},null,null,{"$f":"IF(AF37=0,0,(AG37-AF37)/AF37*100)","v":0},null,null,{"$f":"IF(AI37=0,0,(AJ37-AI37)/AI37*100)","v":0},null,null,{"$f":"IF(AL37=0,0,(AM37-AL37)/AL37*100)","v":0},null,null,{"$f":"IF(AO37=0,0,(AP37-AO37)/AO37*100)","v":0},null,null,{"$f":"IF(AR37=0,0,(AS37-AR37)/AR37*100)","v":0},null,null,{"$f":"IF(AU37=0,0,(AV37-AU37)/AU37*100)","v":0},null,null,{"$f":"IF(AX37=0,0,(AY37-AX37)/AX37*100)","v":0},null,null,{"$f":"IF(BA37=0,0,(BB37-BA37)/BA37*100)","v":0},null,null,{"$f":"IF(BD37=0,0,(BE37-BD37)/BD37*100)","v":0},null,null,{"$f":"IF(BG37=0,0,(BH37-BG37)/BG37*100)","v":0},null,null,{"$f":"IF(BJ37=0,0,(BK37-BJ37)/BJ37*100)","v":0},null,null,{"$f":"IF(BM37=0,0,(BN37-BM37)/BM37*100)","v":0},null,null,{"$f":"IF(BP37=0,0,(BQ37-BP37)/BP37*100)","v":0},null,null,{"$f":"IF(BS37=0,0,(BT37-BS37)/BS37*100)","v":0},null,null,{"$f":"IF(BV37=0,0,(BW37-BV37)/BV37*100)","v":0},null,null,{"$f":"IF(BY37=0,0,(BZ37-BY37)/BY37*100)","v":0},null,null,{"$f":"IF(CB37=0,0,(CC37-CB37)/CB37*100)","v":0},null,null,{"$f":"IF(CE37=0,0,(CF37-CE37)/CE37*100)","v":0},null,null,{"$f":"IF(CH37=0,0,(CI37-CH37)/CH37*100)","v":0},null,null,{"$f":"IF(CK37=0,0,(CL37-CK37)/CK37*100)","v":0},null,null,{"$f":"IF(CN37=0,0,(CO37-CN37)/CN37*100)","v":0},null,null,{"$f":"IF(CQ37=0,0,(CR37-CQ37)/CQ37*100)","v":0},null,null,{"$f":"IF(CT37=0,0,(CU37-CT37)/CT37*100)","v":0},null,null,{"$f":"IF(CW37=0,0,(CX37-CW37)/CW37*100)","v":0},null,null,{"$f":"IF(CZ37=0,0,(DA37-CZ37)/CZ37*100)","v":0},null,null,{"$f":"IF(DC37=0,0,(DD37-DC37)/DC37*100)","v":0},null,null,{"$f":"IF(DF37=0,0,(DG37-DF37)/DF37*100)","v":0},null,null,{"$f":"IF(DI37=0,0,(DJ37-DI37)/DI37*100)","v":0},null,null,{"$f":"IF(DL37=0,0,(DM37-DL37)/DL37*100)","v":0},null,null,{"$f":"IF(DO37=0,0,(DP37-DO37)/DO37*100)","v":0},null,null,{"$f":"IF(DR37=0,0,(DS37-DR37)/DR37*100)","v":0},null,null,{"$f":"IF(DU37=0,0,(DV37-DU37)/DU37*100)","v":0},null,null,{"$f":"IF(DX37=0,0,(DY37-DX37)/DX37*100)","v":0},null,null,{"$f":"IF(EA37=0,0,(EB37-EA37)/EA37*100)","v":0},null,null,{"$f":"IF(ED37=0,0,(EE37-ED37)/ED37*100)","v":0},null,null,{"$f":"IF(EG37=0,0,(EH37-EG37)/EG37*100)","v":0},null,null,{"$f":"IF(EJ37=0,0,(EK37-EJ37)/EJ37*100)","v":0},null,null,{"$f":"IF(EM37=0,0,(EN37-EM37)/EM37*100)","v":0},null,null,{"$f":"IF(EP37=0,0,(EQ37-EP37)/EP37*100)","v":0},null,null,{"$f":"IF(ES37=0,0,(ET37-ES37)/ES37*100)","v":0},null,null,{"$f":"IF(EV37=0,0,(EW37-EV37)/EV37*100)","v":0},null,null,{"$f":"IF(EY37=0,0,(EZ37-EY37)/EY37*100)","v":0},null,null,{"$f":"IF(FB37=0,0,(FC37-FB37)/FB37*100)","v":0},null,null,{"$f":"IF(FE37=0,0,(FF37-FE37)/FE37*100)","v":0}]
["1",null,null,null,null,null,{"$f":"F17=\"двухставочный\"","v":false},null,null,null,null,"Тариф с 01.07 по 31.12 для прочих потребителей без НДС:"]
["1",null,"L2_1_1","для прочих потребителей с 01.07 по 31.12 без НДС",null,null,{"$f":"F17=\"двухставочный\"","v":false},null,null,null,null,"перевод двухставочного тарифа в одноставочный тариф","руб./куб.м",{"$f":"IF(N41=0,0,(N40*N41+N42*N43*6)/N41)","v":0},{"$f":"IF(O41=0,0,(O40*O41+O42*O43*6)/O41)","v":0},{"$f":"IF(N39=0,0,(O39-N39)/N39*100)","v":0},{"$f":"IF(Q41=0,0,(Q40*Q41+Q42*Q43*6)/Q41)","v":0},{"$f":"IF(R41=0,0,(R40*R41+R42*R43*6)/R41)","v":0},{"$f":"IF(Q39=0,0,(R39-Q39)/Q39*100)","v":0},{"$f":"IF(T41=0,0,(T40*T41+T42*T43*6)/T41)","v":0},{"$f":"IF(U41=0,0,(U40*U41+U42*U43*6)/U41)","v":0},{"$f":"IF(T39=0,0,(U39-T39)/T39*100)","v":0},{"$f":"IF(W41=0,0,(W40*W41+W42*W43*6)/W41)","v":0},{"$f":"IF(X41=0,0,(X40*X41+X42*X43*6)/X41)","v":0},{"$f":"IF(W39=0,0,(X39-W39)/W39*100)","v":0},{"$f":"IF(Z41=0,0,(Z40*Z41+Z42*Z43*6)/Z41)","v":0},{"$f":"IF(AA41=0,0,(AA40*AA41+AA42*AA43*6)/AA41)","v":0},{"$f":"IF(Z39=0,0,(AA39-Z39)/Z39*100)","v":0},{"$f":"IF(AC41=0,0,(AC40*AC41+AC42*AC43*6)/AC41)","v":0},{"$f":"IF(AD41=0,0,(AD40*AD41+AD42*AD43*6)/AD41)","v":0},{"$f":"IF(AC39=0,0,(AD39-AC39)/AC39*100)","v":0},{"$f":"IF(AF41=0,0,(AF40*AF41+AF42*AF43*6)/AF41)","v":0},{"$f":"IF(AG41=0,0,(AG40*AG41+AG42*AG43*6)/AG41)","v":0},{"$f":"IF(AF39=0,0,(AG39-AF39)/AF39*100)","v":0},{"$f":"IF(AI41=0,0,(AI40*AI41+AI42*AI43*6)/AI41)","v":0},{"$f":"IF(AJ41=0,0,(AJ40*AJ41+AJ42*AJ43*6)/AJ41)","v":0},{"$f":"IF(AI39=0,0,(AJ39-AI39)/AI39*100)","v":0},{"$f":"IF(AL41=0,0,(AL40*AL41+AL42*AL43*6)/AL41)","v":0},{"$f":"IF(AM41=0,0,(AM40*AM41+AM42*AM43*6)/AM41)","v":0},{"$f":"IF(AL39=0,0,(AM39-AL39)/AL39*100)","v":0},{"$f":"IF(AO41=0,0,(AO40*AO41+AO42*AO43*6)/AO41)","v":0},{"$f":"IF(AP41=0,0,(AP40*AP41+AP42*AP43*6)/AP41)","v":0},{"$f":"IF(AO39=0,0,(AP39-AO39)/AO39*100)","v":0},{"$f":"IF(AR41=0,0,(AR40*AR41+AR42*AR43*6)/AR41)","v":0},{"$f":"IF(AS41=0,0,(AS40*AS41+AS42*AS43*6)/AS41)","v":0},{"$f":"IF(AR39=0,0,(AS39-AR39)/AR39*100)","v":0},{"$f":"IF(AU41=0,0,(AU40*AU41+AU42*AU43*6)/AU41)","v":0},{"$f":"IF(AV41=0,0,(AV40*AV41+AV42*AV43*6)/AV41)","v":0},{"$f":"IF(AU39=0,0,(AV39-AU39)/AU39*100)","v":0},{"$f":"IF(AX41=0,0,(AX40*AX41+AX42*AX43*6)/AX41)","v":0},{"$f":"IF(AY41=0,0,(AY40*AY41+AY42*AY43*6)/AY41)","v":0},{"$f":"IF(AX39=0,0,(AY39-AX39)/AX39*100)","v":0},{"$f":"IF(BA41=0,0,(BA40*BA41+BA42*BA43*6)/BA41)","v":0},{"$f":"IF(BB41=0,0,(BB40*BB41+BB42*BB43*6)/BB41)","v":0},{"$f":"IF(BA39=0,0,(BB39-BA39)/BA39*100)","v":0},{"$f":"IF(BD41=0,0,(BD40*BD41+BD42*BD43*6)/BD41)","v":0},{"$f":"IF(BE41=0,0,(BE40*BE41+BE42*BE43*6)/BE41)","v":0},{"$f":"IF(BD39=0,0,(BE39-BD39)/BD39*100)","v":0},{"$f":"IF(BG41=0,0,(BG40*BG41+BG42*BG43*6)/BG41)","v":0},{"$f":"IF(BH41=0,0,(BH40*BH41+BH42*BH43*6)/BH41)","v":0},{"$f":"IF(BG39=0,0,(BH39-BG39)/BG39*100)","v":0},{"$f":"IF(BJ41=0,0,(BJ40*BJ41+BJ42*BJ43*6)/BJ41)","v":0},{"$f":"IF(BK41=0,0,(BK40*BK41+BK42*BK43*6)/BK41)","v":0},{"$f":"IF(BJ39=0,0,(BK39-BJ39)/BJ39*100)","v":0},{"$f":"IF(BM41=0,0,(BM40*BM41+BM42*BM43*6)/BM41)","v":0},{"$f":"IF(BN41=0,0,(BN40*BN41+BN42*BN43*6)/BN41)","v":0},{"$f":"IF(BM39=0,0,(BN39-BM39)/BM39*100)","v":0},{"$f":"IF(BP41=0,0,(BP40*BP41+BP42*BP43*6)/BP41)","v":0},{"$f":"IF(BQ41=0,0,(BQ40*BQ41+BQ42*BQ43*6)/BQ41)","v":0},{"$f":"IF(BP39=0,0,(BQ39-BP39)/BP39*100)","v":0},{"$f":"IF(BS41=0,0,(BS40*BS41+BS42*BS43*6)/BS41)","v":0},{"$f":"IF(BT41=0,0,(BT40*BT41+BT42*BT43*6)/BT41)","v":0},{"$f":"IF(BS39=0,0,(BT39-BS39)/BS39*100)","v":0},{"$f":"IF(BV41=0,0,(BV40*BV41+BV42*BV43*6)/BV41)","v":0},{"$f":"IF(BW41=0,0,(BW40*BW41+BW42*BW43*6)/BW41)","v":0},{"$f":"IF(BV39=0,0,(BW39-BV39)/BV39*100)","v":0},{"$f":"IF(BY41=0,0,(BY40*BY41+BY42*BY43*6)/BY41)","v":0},{"$f":"IF(BZ41=0,0,(BZ40*BZ41+BZ42*BZ43*6)/BZ41)","v":0},{"$f":"IF(BY39=0,0,(BZ39-BY39)/BY39*100)","v":0},{"$f":"IF(CB41=0,0,(CB40*CB41+CB42*CB43*6)/CB41)","v":0},{"$f":"IF(CC41=0,0,(CC40*CC41+CC42*CC43*6)/CC41)","v":0},{"$f":"IF(CB39=0,0,(CC39-CB39)/CB39*100)","v":0},{"$f":"IF(CE41=0,0,(CE40*CE41+CE42*CE43*6)/CE41)","v":0},{"$f":"IF(CF41=0,0,(CF40*CF41+CF42*CF43*6)/CF41)","v":0},{"$f":"IF(CE39=0,0,(CF39-CE39)/CE39*100)","v":0},{"$f":"IF(CH41=0,0,(CH40*CH41+CH42*CH43*6)/CH41)","v":0},{"$f":"IF(CI41=0,0,(CI40*CI41+CI42*CI43*6)/CI41)","v":0},{"$f":"IF(CH39=0,0,(CI39-CH39)/CH39*100)","v":0},{"$f":"IF(CK41=0,0,(CK40*CK41+CK42*CK43*6)/CK41)","v":0},{"$f":"IF(CL41=0,0,(CL40*CL41+CL42*CL43*6)/CL41)","v":0},{"$f":"IF(CK39=0,0,(CL39-CK39)/CK39*100)","v":0},{"$f":"IF(CN41=0,0,(CN40*CN41+CN42*CN43*6)/CN41)","v":0},{"$f":"IF(CO41=0,0,(CO40*CO41+CO42*CO43*6)/CO41)","v":0},{"$f":"IF(CN39=0,0,(CO39-CN39)/CN39*100)","v":0},{"$f":"IF(CQ41=0,0,(CQ40*CQ41+CQ42*CQ43*6)/CQ41)","v":0},{"$f":"IF(CR41=0,0,(CR40*CR41+CR42*CR43*6)/CR41)","v":0},{"$f":"IF(CQ39=0,0,(CR39-CQ39)/CQ39*100)","v":0},{"$f":"IF(CT41=0,0,(CT40*CT41+CT42*CT43*6)/CT41)","v":0},{"$f":"IF(CU41=0,0,(CU40*CU41+CU42*CU43*6)/CU41)","v":0},{"$f":"IF(CT39=0,0,(CU39-CT39)/CT39*100)","v":0},{"$f":"IF(CW41=0,0,(CW40*CW41+CW42*CW43*6)/CW41)","v":0},{"$f":"IF(CX41=0,0,(CX40*CX41+CX42*CX43*6)/CX41)","v":0},{"$f":"IF(CW39=0,0,(CX39-CW39)/CW39*100)","v":0},{"$f":"IF(CZ41=0,0,(CZ40*CZ41+CZ42*CZ43*6)/CZ41)","v":0},{"$f":"IF(DA41=0,0,(DA40*DA41+DA42*DA43*6)/DA41)","v":0},{"$f":"IF(CZ39=0,0,(DA39-CZ39)/CZ39*100)","v":0},{"$f":"IF(DC41=0,0,(DC40*DC41+DC42*DC43*6)/DC41)","v":0},{"$f":"IF(DD41=0,0,(DD40*DD41+DD42*DD43*6)/DD41)","v":0},{"$f":"IF(DC39=0,0,(DD39-DC39)/DC39*100)","v":0},{"$f":"IF(DF41=0,0,(DF40*DF41+DF42*DF43*6)/DF41)","v":0},{"$f":"IF(DG41=0,0,(DG40*DG41+DG42*DG43*6)/DG41)","v":0},{"$f":"IF(DF39=0,0,(DG39-DF39)/DF39*100)","v":0},{"$f":"IF(DI41=0,0,(DI40*DI41+DI42*DI43*6)/DI41)","v":0},{"$f":"IF(DJ41=0,0,(DJ40*DJ41+DJ42*DJ43*6)/DJ41)","v":0},{"$f":"IF(DI39=0,0,(DJ39-DI39)/DI39*100)","v":0},{"$f":"IF(DL41=0,0,(DL40*DL41+DL42*DL43*6)/DL41)","v":0},{"$f":"IF(DM41=0,0,(DM40*DM41+DM42*DM43*6)/DM41)","v":0},{"$f":"IF(DL39=0,0,(DM39-DL39)/DL39*100)","v":0},{"$f":"IF(DO41=0,0,(DO40*DO41+DO42*DO43*6)/DO41)","v":0},{"$f":"IF(DP41=0,0,(DP40*DP41+DP42*DP43*6)/DP41)","v":0},{"$f":"IF(DO39=0,0,(DP39-DO39)/DO39*100)","v":0},{"$f":"IF(DR41=0,0,(DR40*DR41+DR42*DR43*6)/DR41)","v":0},{"$f":"IF(DS41=0,0,(DS40*DS41+DS42*DS43*6)/DS41)","v":0},{"$f":"IF(DR39=0,0,(DS39-DR39)/DR39*100)","v":0},{"$f":"IF(DU41=0,0,(DU40*DU41+DU42*DU43*6)/DU41)","v":0},{"$f":"IF(DV41=0,0,(DV40*DV41+DV42*DV43*6)/DV41)","v":0},{"$f":"IF(DU39=0,0,(DV39-DU39)/DU39*100)","v":0},{"$f":"IF(DX41=0,0,(DX40*DX41+DX42*DX43*6)/DX41)","v":0},{"$f":"IF(DY41=0,0,(DY40*DY41+DY42*DY43*6)/DY41)","v":0},{"$f":"IF(DX39=0,0,(DY39-DX39)/DX39*100)","v":0},{"$f":"IF(EA41=0,0,(EA40*EA41+EA42*EA43*6)/EA41)","v":0},{"$f":"IF(EB41=0,0,(EB40*EB41+EB42*EB43*6)/EB41)","v":0},{"$f":"IF(EA39=0,0,(EB39-EA39)/EA39*100)","v":0},{"$f":"IF(ED41=0,0,(ED40*ED41+ED42*ED43*6)/ED41)","v":0},{"$f":"IF(EE41=0,0,(EE40*EE41+EE42*EE43*6)/EE41)","v":0},{"$f":"IF(ED39=0,0,(EE39-ED39)/ED39*100)","v":0},{"$f":"IF(EG41=0,0,(EG40*EG41+EG42*EG43*6)/EG41)","v":0},{"$f":"IF(EH41=0,0,(EH40*EH41+EH42*EH43*6)/EH41)","v":0},{"$f":"IF(EG39=0,0,(EH39-EG39)/EG39*100)","v":0},{"$f":"IF(EJ41=0,0,(EJ40*EJ41+EJ42*EJ43*6)/EJ41)","v":0},{"$f":"IF(EK41=0,0,(EK40*EK41+EK42*EK43*6)/EK41)","v":0},{"$f":"IF(EJ39=0,0,(EK39-EJ39)/EJ39*100)","v":0},{"$f":"IF(EM41=0,0,(EM40*EM41+EM42*EM43*6)/EM41)","v":0},{"$f":"IF(EN41=0,0,(EN40*EN41+EN42*EN43*6)/EN41)","v":0},{"$f":"IF(EM39=0,0,(EN39-EM39)/EM39*100)","v":0},{"$f":"IF(EP41=0,0,(EP40*EP41+EP42*EP43*6)/EP41)","v":0},{"$f":"IF(EQ41=0,0,(EQ40*EQ41+EQ42*EQ43*6)/EQ41)","v":0},{"$f":"IF(EP39=0,0,(EQ39-EP39)/EP39*100)","v":0},{"$f":"IF(ES41=0,0,(ES40*ES41+ES42*ES43*6)/ES41)","v":0},{"$f":"IF(ET41=0,0,(ET40*ET41+ET42*ET43*6)/ET41)","v":0},{"$f":"IF(ES39=0,0,(ET39-ES39)/ES39*100)","v":0},{"$f":"IF(EV41=0,0,(EV40*EV41+EV42*EV43*6)/EV41)","v":0},{"$f":"IF(EW41=0,0,(EW40*EW41+EW42*EW43*6)/EW41)","v":0},{"$f":"IF(EV39=0,0,(EW39-EV39)/EV39*100)","v":0},{"$f":"IF(EY41=0,0,(EY40*EY41+EY42*EY43*6)/EY41)","v":0},{"$f":"IF(EZ41=0,0,(EZ40*EZ41+EZ42*EZ43*6)/EZ41)","v":0},{"$f":"IF(EY39=0,0,(EZ39-EY39)/EY39*100)","v":0},{"$f":"IF(FB41=0,0,(FB40*FB41+FB42*FB43*6)/FB41)","v":0},{"$f":"IF(FC41=0,0,(FC40*FC41+FC42*FC43*6)/FC41)","v":0},{"$f":"IF(FB39=0,0,(FC39-FB39)/FB39*100)","v":0},{"$f":"IF(FE41=0,0,(FE40*FE41+FE42*FE43*6)/FE41)","v":0},{"$f":"IF(FF41=0,0,(FF40*FF41+FF42*FF43*6)/FF41)","v":0},{"$f":"IF(FE39=0,0,(FF39-FE39)/FE39*100)","v":0}]
["1",null,"L2_1_2","для прочих потребителей с 01.07 по 31.12 без НДС",null,null,{"$f":"F17=\"двухставочный\"","v":false},null,null,null,null,"ставка платы за потребление 1 куб.м холодной воды","руб./куб.м",null,null,{"$f":"IF(N40=0,0,(O40-N40)/N40*100)","v":0},null,null,{"$f":"IF(Q40=0,0,(R40-Q40)/Q40*100)","v":0},null,null,{"$f":"IF(T40=0,0,(U40-T40)/T40*100)","v":0},null,null,{"$f":"IF(W40=0,0,(X40-W40)/W40*100)","v":0},null,null,{"$f":"IF(Z40=0,0,(AA40-Z40)/Z40*100)","v":0},null,null,{"$f":"IF(AC40=0,0,(AD40-AC40)/AC40*100)","v":0},null,null,{"$f":"IF(AF40=0,0,(AG40-AF40)/AF40*100)","v":0},null,null,{"$f":"IF(AI40=0,0,(AJ40-AI40)/AI40*100)","v":0},null,null,{"$f":"IF(AL40=0,0,(AM40-AL40)/AL40*100)","v":0},null,null,{"$f":"IF(AO40=0,0,(AP40-AO40)/AO40*100)","v":0},null,null,{"$f":"IF(AR40=0,0,(AS40-AR40)/AR40*100)","v":0},null,null,{"$f":"IF(AU40=0,0,(AV40-AU40)/AU40*100)","v":0},null,null,{"$f":"IF(AX40=0,0,(AY40-AX40)/AX40*100)","v":0},null,null,{"$f":"IF(BA40=0,0,(BB40-BA40)/BA40*100)","v":0},null,null,{"$f":"IF(BD40=0,0,(BE40-BD40)/BD40*100)","v":0},null,null,{"$f":"IF(BG40=0,0,(BH40-BG40)/BG40*100)","v":0},null,null,{"$f":"IF(BJ40=0,0,(BK40-BJ40)/BJ40*100)","v":0},null,null,{"$f":"IF(BM40=0,0,(BN40-BM40)/BM40*100)","v":0},null,null,{"$f":"IF(BP40=0,0,(BQ40-BP40)/BP40*100)","v":0},null,null,{"$f":"IF(BS40=0,0,(BT40-BS40)/BS40*100)","v":0},null,null,{"$f":"IF(BV40=0,0,(BW40-BV40)/BV40*100)","v":0},null,null,{"$f":"IF(BY40=0,0,(BZ40-BY40)/BY40*100)","v":0},null,null,{"$f":"IF(CB40=0,0,(CC40-CB40)/CB40*100)","v":0},null,null,{"$f":"IF(CE40=0,0,(CF40-CE40)/CE40*100)","v":0},null,null,{"$f":"IF(CH40=0,0,(CI40-CH40)/CH40*100)","v":0},null,null,{"$f":"IF(CK40=0,0,(CL40-CK40)/CK40*100)","v":0},null,null,{"$f":"IF(CN40=0,0,(CO40-CN40)/CN40*100)","v":0},null,null,{"$f":"IF(CQ40=0,0,(CR40-CQ40)/CQ40*100)","v":0},null,null,{"$f":"IF(CT40=0,0,(CU40-CT40)/CT40*100)","v":0},null,null,{"$f":"IF(CW40=0,0,(CX40-CW40)/CW40*100)","v":0},null,null,{"$f":"IF(CZ40=0,0,(DA40-CZ40)/CZ40*100)","v":0},null,null,{"$f":"IF(DC40=0,0,(DD40-DC40)/DC40*100)","v":0},null,null,{"$f":"IF(DF40=0,0,(DG40-DF40)/DF40*100)","v":0},null,null,{"$f":"IF(DI40=0,0,(DJ40-DI40)/DI40*100)","v":0},null,null,{"$f":"IF(DL40=0,0,(DM40-DL40)/DL40*100)","v":0},null,null,{"$f":"IF(DO40=0,0,(DP40-DO40)/DO40*100)","v":0},null,null,{"$f":"IF(DR40=0,0,(DS40-DR40)/DR40*100)","v":0},null,null,{"$f":"IF(DU40=0,0,(DV40-DU40)/DU40*100)","v":0},null,null,{"$f":"IF(DX40=0,0,(DY40-DX40)/DX40*100)","v":0},null,null,{"$f":"IF(EA40=0,0,(EB40-EA40)/EA40*100)","v":0},null,null,{"$f":"IF(ED40=0,0,(EE40-ED40)/ED40*100)","v":0},null,null,{"$f":"IF(EG40=0,0,(EH40-EG40)/EG40*100)","v":0},null,null,{"$f":"IF(EJ40=0,0,(EK40-EJ40)/EJ40*100)","v":0},null,null,{"$f":"IF(EM40=0,0,(EN40-EM40)/EM40*100)","v":0},null,null,{"$f":"IF(EP40=0,0,(EQ40-EP40)/EP40*100)","v":0},null,null,{"$f":"IF(ES40=0,0,(ET40-ES40)/ES40*100)","v":0},null,null,{"$f":"IF(EV40=0,0,(EW40-EV40)/EV40*100)","v":0},null,null,{"$f":"IF(EY40=0,0,(EZ40-EY40)/EY40*100)","v":0},null,null,{"$f":"IF(FB40=0,0,(FC40-FB40)/FB40*100)","v":0},null,null,{"$f":"IF(FE40=0,0,(FF40-FE40)/FE40*100)","v":0}]
["1","ПО.прочие.II","L2_1_3","для прочих потребителей с 01.07 по 31.12 без НДС",null,null,{"$f":"F17=\"двухставочный\"","v":false},null,null,null,null,"объём потребления холодной воды","тыс.куб.м",{"$f":"SUMIFS(INDEX(Калькуляция!$T$15:$AM$143,,MATCH(N$3,Калькуляция!$T$3:$AM$3,0)),Калькуляция!$A$15:$A$143,$A41,Калькуляция!$B$15:$B$143,$B41)","v":2021.8869999999999},{"$f":"SUMIFS(INDEX(Калькуляция!$T$15:$AM$143,,MATCH(O$3,Калькуляция!$T$3:$AM$3,0)),Калькуляция!$A$15:$A$143,$A41,Калькуляция!$B$15:$B$143,$B41)","v":1959.1055000000001},{"$f":"IF(N41=0,0,(O41-N41)/N41*100)","v":-3.1050943994397224},{"$f":"SUMIFS(INDEX(Калькуляция!$T$15:$AM$143,,MATCH(Q$3,Калькуляция!$T$3:$AM$3,0)),Калькуляция!$A$15:$A$143,$A41,Калькуляция!$B$15:$B$143,$B41)","v":0},{"$f":"SUMIFS(INDEX(Калькуляция!$T$15:$AM$143,,MATCH(R$3,Калькуляция!$T$3:$AM$3,0)),Калькуляция!$A$15:$A$143,$A41,Калькуляция!$B$15:$B$143,$B41)","v":0},{"$f":"IF(Q41=0,0,(R41-Q41)/Q41*100)","v":0},{"$f":"SUMIFS(INDEX(Калькуляция!$T$15:$AM$143,,MATCH(T$3,Калькуляция!$T$3:$AM$3,0)),Калькуляция!$A$15:$A$143,$A41,Калькуляция!$B$15:$B$143,$B41)","v":0},{"$f":"SUMIFS(INDEX(Калькуляция!$T$15:$AM$143,,MATCH(U$3,Калькуляция!$T$3:$AM$3,0)),Калькуляция!$A$15:$A$143,$A41,Калькуляция!$B$15:$B$143,$B41)","v":0},{"$f":"IF(T41=0,0,(U41-T41)/T41*100)","v":0},{"$f":"SUMIFS(INDEX(Калькуляция!$T$15:$AM$143,,MATCH(W$3,Калькуляция!$T$3:$AM$3,0)),Калькуляция!$A$15:$A$143,$A41,Калькуляция!$B$15:$B$143,$B41)","v":0},{"$f":"SUMIFS(INDEX(Калькуляция!$T$15:$AM$143,,MATCH(X$3,Калькуляция!$T$3:$AM$3,0)),Калькуляция!$A$15:$A$143,$A41,Калькуляция!$B$15:$B$143,$B41)","v":0},{"$f":"IF(W41=0,0,(X41-W41)/W41*100)","v":0},{"$f":"SUMIFS(INDEX(Калькуляция!$T$15:$AM$143,,MATCH(Z$3,Калькуляция!$T$3:$AM$3,0)),Калькуляция!$A$15:$A$143,$A41,Калькуляция!$B$15:$B$143,$B41)","v":0},{"$f":"SUMIFS(INDEX(Калькуляция!$T$15:$AM$143,,MATCH(AA$3,Калькуляция!$T$3:$AM$3,0)),Калькуляция!$A$15:$A$143,$A41,Калькуляция!$B$15:$B$143,$B41)","v":0},{"$f":"IF(Z41=0,0,(AA41-Z41)/Z41*100)","v":0},{"$f":"SUMIFS(INDEX(Калькуляция!$T$15:$AM$143,,MATCH(AC$3,Калькуляция!$T$3:$AM$3,0)),Калькуляция!$A$15:$A$143,$A41,Калькуляция!$B$15:$B$143,$B41)","v":0},{"$f":"SUMIFS(INDEX(Калькуляция!$T$15:$AM$143,,MATCH(AD$3,Калькуляция!$T$3:$AM$3,0)),Калькуляция!$A$15:$A$143,$A41,Калькуляция!$B$15:$B$143,$B41)","v":0},{"$f":"IF(AC41=0,0,(AD41-AC41)/AC41*100)","v":0},{"$f":"SUMIFS(INDEX(Калькуляция!$T$15:$AM$143,,MATCH(AF$3,Калькуляция!$T$3:$AM$3,0)),Калькуляция!$A$15:$A$143,$A41,Калькуляция!$B$15:$B$143,$B41)","v":0},{"$f":"SUMIFS(INDEX(Калькуляция!$T$15:$AM$143,,MATCH(AG$3,Калькуляция!$T$3:$AM$3,0)),Калькуляция!$A$15:$A$143,$A41,Калькуляция!$B$15:$B$143,$B41)","v":0},{"$f":"IF(AF41=0,0,(AG41-AF41)/AF41*100)","v":0},{"$f":"SUMIFS(INDEX(Калькуляция!$T$15:$AM$143,,MATCH(AI$3,Калькуляция!$T$3:$AM$3,0)),Калькуляция!$A$15:$A$143,$A41,Калькуляция!$B$15:$B$143,$B41)","v":0},{"$f":"SUMIFS(INDEX(Калькуляция!$T$15:$AM$143,,MATCH(AJ$3,Калькуляция!$T$3:$AM$3,0)),Калькуляция!$A$15:$A$143,$A41,Калькуляция!$B$15:$B$143,$B41)","v":0},{"$f":"IF(AI41=0,0,(AJ41-AI41)/AI41*100)","v":0},{"$f":"SUMIFS(INDEX(Калькуляция!$T$15:$AM$143,,MATCH(AL$3,Калькуляция!$T$3:$AM$3,0)),Калькуляция!$A$15:$A$143,$A41,Калькуляция!$B$15:$B$143,$B41)","v":0},{"$f":"SUMIFS(INDEX(Калькуляция!$T$15:$AM$143,,MATCH(AM$3,Калькуляция!$T$3:$AM$3,0)),Калькуляция!$A$15:$A$143,$A41,Калькуляция!$B$15:$B$143,$B41)","v":0},{"$f":"IF(AL41=0,0,(AM41-AL41)/AL41*100)","v":0},{"$f":"SUMIFS(INDEX(Калькуляция!$T$15:$AM$143,,MATCH(AO$3,Калькуляция!$T$3:$AM$3,0)),Калькуляция!$A$15:$A$143,$A41,Калькуляция!$B$15:$B$143,$B41)","v":0},{"$f":"SUMIFS(INDEX(Калькуляция!$T$15:$AM$143,,MATCH(AP$3,Калькуляция!$T$3:$AM$3,0)),Калькуляция!$A$15:$A$143,$A41,Калькуляция!$B$15:$B$143,$B41)","v":0},{"$f":"IF(AO41=0,0,(AP41-AO41)/AO41*100)","v":0},null,null,{"$f":"IF(AR41=0,0,(AS41-AR41)/AR41*100)","v":0},null,null,{"$f":"IF(AU41=0,0,(AV41-AU41)/AU41*100)","v":0},null,null,{"$f":"IF(AX41=0,0,(AY41-AX41)/AX41*100)","v":0},null,null,{"$f":"IF(BA41=0,0,(BB41-BA41)/BA41*100)","v":0},null,null,{"$f":"IF(BD41=0,0,(BE41-BD41)/BD41*100)","v":0},null,null,{"$f":"IF(BG41=0,0,(BH41-BG41)/BG41*100)","v":0},null,null,{"$f":"IF(BJ41=0,0,(BK41-BJ41)/BJ41*100)","v":0},null,null,{"$f":"IF(BM41=0,0,(BN41-BM41)/BM41*100)","v":0},null,null,{"$f":"IF(BP41=0,0,(BQ41-BP41)/BP41*100)","v":0},null,null,{"$f":"IF(BS41=0,0,(BT41-BS41)/BS41*100)","v":0},null,null,{"$f":"IF(BV41=0,0,(BW41-BV41)/BV41*100)","v":0},null,null,{"$f":"IF(BY41=0,0,(BZ41-BY41)/BY41*100)","v":0},null,null,{"$f":"IF(CB41=0,0,(CC41-CB41)/CB41*100)","v":0},null,null,{"$f":"IF(CE41=0,0,(CF41-CE41)/CE41*100)","v":0},null,null,{"$f":"IF(CH41=0,0,(CI41-CH41)/CH41*100)","v":0},null,null,{"$f":"IF(CK41=0,0,(CL41-CK41)/CK41*100)","v":0},null,null,{"$f":"IF(CN41=0,0,(CO41-CN41)/CN41*100)","v":0},null,null,{"$f":"IF(CQ41=0,0,(CR41-CQ41)/CQ41*100)","v":0},null,null,{"$f":"IF(CT41=0,0,(CU41-CT41)/CT41*100)","v":0},null,null,{"$f":"IF(CW41=0,0,(CX41-CW41)/CW41*100)","v":0},null,null,{"$f":"IF(CZ41=0,0,(DA41-CZ41)/CZ41*100)","v":0},null,null,{"$f":"IF(DC41=0,0,(DD41-DC41)/DC41*100)","v":0},null,null,{"$f":"IF(DF41=0,0,(DG41-DF41)/DF41*100)","v":0},null,null,{"$f":"IF(DI41=0,0,(DJ41-DI41)/DI41*100)","v":0},null,null,{"$f":"IF(DL41=0,0,(DM41-DL41)/DL41*100)","v":0},null,null,{"$f":"IF(DO41=0,0,(DP41-DO41)/DO41*100)","v":0},null,null,{"$f":"IF(DR41=0,0,(DS41-DR41)/DR41*100)","v":0},null,null,{"$f":"IF(DU41=0,0,(DV41-DU41)/DU41*100)","v":0},null,null,{"$f":"IF(DX41=0,0,(DY41-DX41)/DX41*100)","v":0},null,null,{"$f":"IF(EA41=0,0,(EB41-EA41)/EA41*100)","v":0},null,null,{"$f":"IF(ED41=0,0,(EE41-ED41)/ED41*100)","v":0},null,null,{"$f":"IF(EG41=0,0,(EH41-EG41)/EG41*100)","v":0},null,null,{"$f":"IF(EJ41=0,0,(EK41-EJ41)/EJ41*100)","v":0},null,null,{"$f":"IF(EM41=0,0,(EN41-EM41)/EM41*100)","v":0},null,null,{"$f":"IF(EP41=0,0,(EQ41-EP41)/EP41*100)","v":0},null,null,{"$f":"IF(ES41=0,0,(ET41-ES41)/ES41*100)","v":0},null,null,{"$f":"IF(EV41=0,0,(EW41-EV41)/EV41*100)","v":0},null,null,{"$f":"IF(EY41=0,0,(EZ41-EY41)/EY41*100)","v":0},null,null,{"$f":"IF(FB41=0,0,(FC41-FB41)/FB41*100)","v":0},null,null,{"$f":"IF(FE41=0,0,(FF41-FE41)/FE41*100)","v":0}]
["1",null,"L2_1_4","для прочих потребителей с 01.07 по 31.12 без НДС",null,null,{"$f":"F17=\"двухставочный\"","v":false},null,null,null,null,"ставка платы за содержание системы холодного водоснабжения","тыс.руб./куб.м*час/в месяц",null,null,{"$f":"IF(N42=0,0,(O42-N42)/N42*100)","v":0},null,null,{"$f":"IF(Q42=0,0,(R42-Q42)/Q42*100)","v":0},null,null,{"$f":"IF(T42=0,0,(U42-T42)/T42*100)","v":0},null,null,{"$f":"IF(W42=0,0,(X42-W42)/W42*100)","v":0},null,null,{"$f":"IF(Z42=0,0,(AA42-Z42)/Z42*100)","v":0},null,null,{"$f":"IF(AC42=0,0,(AD42-AC42)/AC42*100)","v":0},null,null,{"$f":"IF(AF42=0,0,(AG42-AF42)/AF42*100)","v":0},null,null,{"$f":"IF(AI42=0,0,(AJ42-AI42)/AI42*100)","v":0},null,null,{"$f":"IF(AL42=0,0,(AM42-AL42)/AL42*100)","v":0},null,null,{"$f":"IF(AO42=0,0,(AP42-AO42)/AO42*100)","v":0},null,null,{"$f":"IF(AR42=0,0,(AS42-AR42)/AR42*100)","v":0},null,null,{"$f":"IF(AU42=0,0,(AV42-AU42)/AU42*100)","v":0},null,null,{"$f":"IF(AX42=0,0,(AY42-AX42)/AX42*100)","v":0},null,null,{"$f":"IF(BA42=0,0,(BB42-BA42)/BA42*100)","v":0},null,null,{"$f":"IF(BD42=0,0,(BE42-BD42)/BD42*100)","v":0},null,null,{"$f":"IF(BG42=0,0,(BH42-BG42)/BG42*100)","v":0},null,null,{"$f":"IF(BJ42=0,0,(BK42-BJ42)/BJ42*100)","v":0},null,null,{"$f":"IF(BM42=0,0,(BN42-BM42)/BM42*100)","v":0},null,null,{"$f":"IF(BP42=0,0,(BQ42-BP42)/BP42*100)","v":0},null,null,{"$f":"IF(BS42=0,0,(BT42-BS42)/BS42*100)","v":0},null,null,{"$f":"IF(BV42=0,0,(BW42-BV42)/BV42*100)","v":0},null,null,{"$f":"IF(BY42=0,0,(BZ42-BY42)/BY42*100)","v":0},null,null,{"$f":"IF(CB42=0,0,(CC42-CB42)/CB42*100)","v":0},null,null,{"$f":"IF(CE42=0,0,(CF42-CE42)/CE42*100)","v":0},null,null,{"$f":"IF(CH42=0,0,(CI42-CH42)/CH42*100)","v":0},null,null,{"$f":"IF(CK42=0,0,(CL42-CK42)/CK42*100)","v":0},null,null,{"$f":"IF(CN42=0,0,(CO42-CN42)/CN42*100)","v":0},null,null,{"$f":"IF(CQ42=0,0,(CR42-CQ42)/CQ42*100)","v":0},null,null,{"$f":"IF(CT42=0,0,(CU42-CT42)/CT42*100)","v":0},null,null,{"$f":"IF(CW42=0,0,(CX42-CW42)/CW42*100)","v":0},null,null,{"$f":"IF(CZ42=0,0,(DA42-CZ42)/CZ42*100)","v":0},null,null,{"$f":"IF(DC42=0,0,(DD42-DC42)/DC42*100)","v":0},null,null,{"$f":"IF(DF42=0,0,(DG42-DF42)/DF42*100)","v":0},null,null,{"$f":"IF(DI42=0,0,(DJ42-DI42)/DI42*100)","v":0},null,null,{"$f":"IF(DL42=0,0,(DM42-DL42)/DL42*100)","v":0},null,null,{"$f":"IF(DO42=0,0,(DP42-DO42)/DO42*100)","v":0},null,null,{"$f":"IF(DR42=0,0,(DS42-DR42)/DR42*100)","v":0},null,null,{"$f":"IF(DU42=0,0,(DV42-DU42)/DU42*100)","v":0},null,null,{"$f":"IF(DX42=0,0,(DY42-DX42)/DX42*100)","v":0},null,null,{"$f":"IF(EA42=0,0,(EB42-EA42)/EA42*100)","v":0},null,null,{"$f":"IF(ED42=0,0,(EE42-ED42)/ED42*100)","v":0},null,null,{"$f":"IF(EG42=0,0,(EH42-EG42)/EG42*100)","v":0},null,null,{"$f":"IF(EJ42=0,0,(EK42-EJ42)/EJ42*100)","v":0},null,null,{"$f":"IF(EM42=0,0,(EN42-EM42)/EM42*100)","v":0},null,null,{"$f":"IF(EP42=0,0,(EQ42-EP42)/EP42*100)","v":0},null,null,{"$f":"IF(ES42=0,0,(ET42-ES42)/ES42*100)","v":0},null,null,{"$f":"IF(EV42=0,0,(EW42-EV42)/EV42*100)","v":0},null,null,{"$f":"IF(EY42=0,0,(EZ42-EY42)/EY42*100)","v":0},null,null,{"$f":"IF(FB42=0,0,(FC42-FB42)/FB42*100)","v":0},null,null,{"$f":"IF(FE42=0,0,(FF42-FE42)/FE42*100)","v":0}]
["1",null,"L2_1_5","для прочих потребителей с 01.07 по 31.12 без НДС",null,null,{"$f":"F17=\"двухставочный\"","v":false},null,null,null,null,"величина присоединённой мощности","куб.м*час",null,null,{"$f":"IF(N43=0,0,(O43-N43)/N43*100)","v":0},null,null,{"$f":"IF(Q43=0,0,(R43-Q43)/Q43*100)","v":0},null,null,{"$f":"IF(T43=0,0,(U43-T43)/T43*100)","v":0},null,null,{"$f":"IF(W43=0,0,(X43-W43)/W43*100)","v":0},null,null,{"$f":"IF(Z43=0,0,(AA43-Z43)/Z43*100)","v":0},null,null,{"$f":"IF(AC43=0,0,(AD43-AC43)/AC43*100)","v":0},null,null,{"$f":"IF(AF43=0,0,(AG43-AF43)/AF43*100)","v":0},null,null,{"$f":"IF(AI43=0,0,(AJ43-AI43)/AI43*100)","v":0},null,null,{"$f":"IF(AL43=0,0,(AM43-AL43)/AL43*100)","v":0},null,null,{"$f":"IF(AO43=0,0,(AP43-AO43)/AO43*100)","v":0},null,null,{"$f":"IF(AR43=0,0,(AS43-AR43)/AR43*100)","v":0},null,null,{"$f":"IF(AU43=0,0,(AV43-AU43)/AU43*100)","v":0},null,null,{"$f":"IF(AX43=0,0,(AY43-AX43)/AX43*100)","v":0},null,null,{"$f":"IF(BA43=0,0,(BB43-BA43)/BA43*100)","v":0},null,null,{"$f":"IF(BD43=0,0,(BE43-BD43)/BD43*100)","v":0},null,null,{"$f":"IF(BG43=0,0,(BH43-BG43)/BG43*100)","v":0},null,null,{"$f":"IF(BJ43=0,0,(BK43-BJ43)/BJ43*100)","v":0},null,null,{"$f":"IF(BM43=0,0,(BN43-BM43)/BM43*100)","v":0},null,null,{"$f":"IF(BP43=0,0,(BQ43-BP43)/BP43*100)","v":0},null,null,{"$f":"IF(BS43=0,0,(BT43-BS43)/BS43*100)","v":0},null,null,{"$f":"IF(BV43=0,0,(BW43-BV43)/BV43*100)","v":0},null,null,{"$f":"IF(BY43=0,0,(BZ43-BY43)/BY43*100)","v":0},null,null,{"$f":"IF(CB43=0,0,(CC43-CB43)/CB43*100)","v":0},null,null,{"$f":"IF(CE43=0,0,(CF43-CE43)/CE43*100)","v":0},null,null,{"$f":"IF(CH43=0,0,(CI43-CH43)/CH43*100)","v":0},null,null,{"$f":"IF(CK43=0,0,(CL43-CK43)/CK43*100)","v":0},null,null,{"$f":"IF(CN43=0,0,(CO43-CN43)/CN43*100)","v":0},null,null,{"$f":"IF(CQ43=0,0,(CR43-CQ43)/CQ43*100)","v":0},null,null,{"$f":"IF(CT43=0,0,(CU43-CT43)/CT43*100)","v":0},null,null,{"$f":"IF(CW43=0,0,(CX43-CW43)/CW43*100)","v":0},null,null,{"$f":"IF(CZ43=0,0,(DA43-CZ43)/CZ43*100)","v":0},null,null,{"$f":"IF(DC43=0,0,(DD43-DC43)/DC43*100)","v":0},null,null,{"$f":"IF(DF43=0,0,(DG43-DF43)/DF43*100)","v":0},null,null,{"$f":"IF(DI43=0,0,(DJ43-DI43)/DI43*100)","v":0},null,null,{"$f":"IF(DL43=0,0,(DM43-DL43)/DL43*100)","v":0},null,null,{"$f":"IF(DO43=0,0,(DP43-DO43)/DO43*100)","v":0},null,null,{"$f":"IF(DR43=0,0,(DS43-DR43)/DR43*100)","v":0},null,null,{"$f":"IF(DU43=0,0,(DV43-DU43)/DU43*100)","v":0},null,null,{"$f":"IF(DX43=0,0,(DY43-DX43)/DX43*100)","v":0},null,null,{"$f":"IF(EA43=0,0,(EB43-EA43)/EA43*100)","v":0},null,null,{"$f":"IF(ED43=0,0,(EE43-ED43)/ED43*100)","v":0},null,null,{"$f":"IF(EG43=0,0,(EH43-EG43)/EG43*100)","v":0},null,null,{"$f":"IF(EJ43=0,0,(EK43-EJ43)/EJ43*100)","v":0},null,null,{"$f":"IF(EM43=0,0,(EN43-EM43)/EM43*100)","v":0},null,null,{"$f":"IF(EP43=0,0,(EQ43-EP43)/EP43*100)","v":0},null,null,{"$f":"IF(ES43=0,0,(ET43-ES43)/ES43*100)","v":0},null,null,{"$f":"IF(EV43=0,0,(EW43-EV43)/EV43*100)","v":0},null,null,{"$f":"IF(EY43=0,0,(EZ43-EY43)/EY43*100)","v":0},null,null,{"$f":"IF(FB43=0,0,(FC43-FB43)/FB43*100)","v":0},null,null,{"$f":"IF(FE43=0,0,(FF43-FE43)/FE43*100)","v":0}]
["1",null,null,null,null,null,{"$f":"F17=\"двухставочный\"","v":false},null,null,null,null,"Тариф с 01.01 по 30.06 для населения с НДС:"]
["1",null,"L2_1_1","для населения с 01.01 по 30.06 с НДС",null,null,{"$f":"F17=\"двухставочный\"","v":false},null,null,null,null,"перевод двухставочного тарифа в одноставочный тариф","руб./куб.м",{"$f":"IF(N47=0,0,(N46*N47+N48*N49*6)/N47)","v":0},{"$f":"IF(O47=0,0,(O46*O47+O48*O49*6)/O47)","v":0},{"$f":"IF(N45=0,0,(O45-N45)/N45*100)","v":0},{"$f":"IF(Q47=0,0,(Q46*Q47+Q48*Q49*6)/Q47)","v":0},{"$f":"IF(R47=0,0,(R46*R47+R48*R49*6)/R47)","v":0},{"$f":"IF(Q45=0,0,(R45-Q45)/Q45*100)","v":0},{"$f":"IF(T47=0,0,(T46*T47+T48*T49*6)/T47)","v":0},{"$f":"IF(U47=0,0,(U46*U47+U48*U49*6)/U47)","v":0},{"$f":"IF(T45=0,0,(U45-T45)/T45*100)","v":0},{"$f":"IF(W47=0,0,(W46*W47+W48*W49*6)/W47)","v":0},{"$f":"IF(X47=0,0,(X46*X47+X48*X49*6)/X47)","v":0},{"$f":"IF(W45=0,0,(X45-W45)/W45*100)","v":0},{"$f":"IF(Z47=0,0,(Z46*Z47+Z48*Z49*6)/Z47)","v":0},{"$f":"IF(AA47=0,0,(AA46*AA47+AA48*AA49*6)/AA47)","v":0},{"$f":"IF(Z45=0,0,(AA45-Z45)/Z45*100)","v":0},{"$f":"IF(AC47=0,0,(AC46*AC47+AC48*AC49*6)/AC47)","v":0},{"$f":"IF(AD47=0,0,(AD46*AD47+AD48*AD49*6)/AD47)","v":0},{"$f":"IF(AC45=0,0,(AD45-AC45)/AC45*100)","v":0},{"$f":"IF(AF47=0,0,(AF46*AF47+AF48*AF49*6)/AF47)","v":0},{"$f":"IF(AG47=0,0,(AG46*AG47+AG48*AG49*6)/AG47)","v":0},{"$f":"IF(AF45=0,0,(AG45-AF45)/AF45*100)","v":0},{"$f":"IF(AI47=0,0,(AI46*AI47+AI48*AI49*6)/AI47)","v":0},{"$f":"IF(AJ47=0,0,(AJ46*AJ47+AJ48*AJ49*6)/AJ47)","v":0},{"$f":"IF(AI45=0,0,(AJ45-AI45)/AI45*100)","v":0},{"$f":"IF(AL47=0,0,(AL46*AL47+AL48*AL49*6)/AL47)","v":0},{"$f":"IF(AM47=0,0,(AM46*AM47+AM48*AM49*6)/AM47)","v":0},{"$f":"IF(AL45=0,0,(AM45-AL45)/AL45*100)","v":0},{"$f":"IF(AO47=0,0,(AO46*AO47+AO48*AO49*6)/AO47)","v":0},{"$f":"IF(AP47=0,0,(AP46*AP47+AP48*AP49*6)/AP47)","v":0},{"$f":"IF(AO45=0,0,(AP45-AO45)/AO45*100)","v":0},{"$f":"IF(AR47=0,0,(AR46*AR47+AR48*AR49*6)/AR47)","v":0},{"$f":"IF(AS47=0,0,(AS46*AS47+AS48*AS49*6)/AS47)","v":0},{"$f":"IF(AR45=0,0,(AS45-AR45)/AR45*100)","v":0},{"$f":"IF(AU47=0,0,(AU46*AU47+AU48*AU49*6)/AU47)","v":0},{"$f":"IF(AV47=0,0,(AV46*AV47+AV48*AV49*6)/AV47)","v":0},{"$f":"IF(AU45=0,0,(AV45-AU45)/AU45*100)","v":0},{"$f":"IF(AX47=0,0,(AX46*AX47+AX48*AX49*6)/AX47)","v":0},{"$f":"IF(AY47=0,0,(AY46*AY47+AY48*AY49*6)/AY47)","v":0},{"$f":"IF(AX45=0,0,(AY45-AX45)/AX45*100)","v":0},{"$f":"IF(BA47=0,0,(BA46*BA47+BA48*BA49*6)/BA47)","v":0},{"$f":"IF(BB47=0,0,(BB46*BB47+BB48*BB49*6)/BB47)","v":0},{"$f":"IF(BA45=0,0,(BB45-BA45)/BA45*100)","v":0},{"$f":"IF(BD47=0,0,(BD46*BD47+BD48*BD49*6)/BD47)","v":0},{"$f":"IF(BE47=0,0,(BE46*BE47+BE48*BE49*6)/BE47)","v":0},{"$f":"IF(BD45=0,0,(BE45-BD45)/BD45*100)","v":0},{"$f":"IF(BG47=0,0,(BG46*BG47+BG48*BG49*6)/BG47)","v":0},{"$f":"IF(BH47=0,0,(BH46*BH47+BH48*BH49*6)/BH47)","v":0},{"$f":"IF(BG45=0,0,(BH45-BG45)/BG45*100)","v":0},{"$f":"IF(BJ47=0,0,(BJ46*BJ47+BJ48*BJ49*6)/BJ47)","v":0},{"$f":"IF(BK47=0,0,(BK46*BK47+BK48*BK49*6)/BK47)","v":0},{"$f":"IF(BJ45=0,0,(BK45-BJ45)/BJ45*100)","v":0},{"$f":"IF(BM47=0,0,(BM46*BM47+BM48*BM49*6)/BM47)","v":0},{"$f":"IF(BN47=0,0,(BN46*BN47+BN48*BN49*6)/BN47)","v":0},{"$f":"IF(BM45=0,0,(BN45-BM45)/BM45*100)","v":0},{"$f":"IF(BP47=0,0,(BP46*BP47+BP48*BP49*6)/BP47)","v":0},{"$f":"IF(BQ47=0,0,(BQ46*BQ47+BQ48*BQ49*6)/BQ47)","v":0},{"$f":"IF(BP45=0,0,(BQ45-BP45)/BP45*100)","v":0},{"$f":"IF(BS47=0,0,(BS46*BS47+BS48*BS49*6)/BS47)","v":0},{"$f":"IF(BT47=0,0,(BT46*BT47+BT48*BT49*6)/BT47)","v":0},{"$f":"IF(BS45=0,0,(BT45-BS45)/BS45*100)","v":0},{"$f":"IF(BV47=0,0,(BV46*BV47+BV48*BV49*6)/BV47)","v":0},{"$f":"IF(BW47=0,0,(BW46*BW47+BW48*BW49*6)/BW47)","v":0},{"$f":"IF(BV45=0,0,(BW45-BV45)/BV45*100)","v":0},{"$f":"IF(BY47=0,0,(BY46*BY47+BY48*BY49*6)/BY47)","v":0},{"$f":"IF(BZ47=0,0,(BZ46*BZ47+BZ48*BZ49*6)/BZ47)","v":0},{"$f":"IF(BY45=0,0,(BZ45-BY45)/BY45*100)","v":0},{"$f":"IF(CB47=0,0,(CB46*CB47+CB48*CB49*6)/CB47)","v":0},{"$f":"IF(CC47=0,0,(CC46*CC47+CC48*CC49*6)/CC47)","v":0},{"$f":"IF(CB45=0,0,(CC45-CB45)/CB45*100)","v":0},{"$f":"IF(CE47=0,0,(CE46*CE47+CE48*CE49*6)/CE47)","v":0},{"$f":"IF(CF47=0,0,(CF46*CF47+CF48*CF49*6)/CF47)","v":0},{"$f":"IF(CE45=0,0,(CF45-CE45)/CE45*100)","v":0},{"$f":"IF(CH47=0,0,(CH46*CH47+CH48*CH49*6)/CH47)","v":0},{"$f":"IF(CI47=0,0,(CI46*CI47+CI48*CI49*6)/CI47)","v":0},{"$f":"IF(CH45=0,0,(CI45-CH45)/CH45*100)","v":0},{"$f":"IF(CK47=0,0,(CK46*CK47+CK48*CK49*6)/CK47)","v":0},{"$f":"IF(CL47=0,0,(CL46*CL47+CL48*CL49*6)/CL47)","v":0},{"$f":"IF(CK45=0,0,(CL45-CK45)/CK45*100)","v":0},{"$f":"IF(CN47=0,0,(CN46*CN47+CN48*CN49*6)/CN47)","v":0},{"$f":"IF(CO47=0,0,(CO46*CO47+CO48*CO49*6)/CO47)","v":0},{"$f":"IF(CN45=0,0,(CO45-CN45)/CN45*100)","v":0},{"$f":"IF(CQ47=0,0,(CQ46*CQ47+CQ48*CQ49*6)/CQ47)","v":0},{"$f":"IF(CR47=0,0,(CR46*CR47+CR48*CR49*6)/CR47)","v":0},{"$f":"IF(CQ45=0,0,(CR45-CQ45)/CQ45*100)","v":0},{"$f":"IF(CT47=0,0,(CT46*CT47+CT48*CT49*6)/CT47)","v":0},{"$f":"IF(CU47=0,0,(CU46*CU47+CU48*CU49*6)/CU47)","v":0},{"$f":"IF(CT45=0,0,(CU45-CT45)/CT45*100)","v":0},{"$f":"IF(CW47=0,0,(CW46*CW47+CW48*CW49*6)/CW47)","v":0},{"$f":"IF(CX47=0,0,(CX46*CX47+CX48*CX49*6)/CX47)","v":0},{"$f":"IF(CW45=0,0,(CX45-CW45)/CW45*100)","v":0},{"$f":"IF(CZ47=0,0,(CZ46*CZ47+CZ48*CZ49*6)/CZ47)","v":0},{"$f":"IF(DA47=0,0,(DA46*DA47+DA48*DA49*6)/DA47)","v":0},{"$f":"IF(CZ45=0,0,(DA45-CZ45)/CZ45*100)","v":0},{"$f":"IF(DC47=0,0,(DC46*DC47+DC48*DC49*6)/DC47)","v":0},{"$f":"IF(DD47=0,0,(DD46*DD47+DD48*DD49*6)/DD47)","v":0},{"$f":"IF(DC45=0,0,(DD45-DC45)/DC45*100)","v":0},{"$f":"IF(DF47=0,0,(DF46*DF47+DF48*DF49*6)/DF47)","v":0},{"$f":"IF(DG47=0,0,(DG46*DG47+DG48*DG49*6)/DG47)","v":0},{"$f":"IF(DF45=0,0,(DG45-DF45)/DF45*100)","v":0},{"$f":"IF(DI47=0,0,(DI46*DI47+DI48*DI49*6)/DI47)","v":0},{"$f":"IF(DJ47=0,0,(DJ46*DJ47+DJ48*DJ49*6)/DJ47)","v":0},{"$f":"IF(DI45=0,0,(DJ45-DI45)/DI45*100)","v":0},{"$f":"IF(DL47=0,0,(DL46*DL47+DL48*DL49*6)/DL47)","v":0},{"$f":"IF(DM47=0,0,(DM46*DM47+DM48*DM49*6)/DM47)","v":0},{"$f":"IF(DL45=0,0,(DM45-DL45)/DL45*100)","v":0},{"$f":"IF(DO47=0,0,(DO46*DO47+DO48*DO49*6)/DO47)","v":0},{"$f":"IF(DP47=0,0,(DP46*DP47+DP48*DP49*6)/DP47)","v":0},{"$f":"IF(DO45=0,0,(DP45-DO45)/DO45*100)","v":0},{"$f":"IF(DR47=0,0,(DR46*DR47+DR48*DR49*6)/DR47)","v":0},{"$f":"IF(DS47=0,0,(DS46*DS47+DS48*DS49*6)/DS47)","v":0},{"$f":"IF(DR45=0,0,(DS45-DR45)/DR45*100)","v":0},{"$f":"IF(DU47=0,0,(DU46*DU47+DU48*DU49*6)/DU47)","v":0},{"$f":"IF(DV47=0,0,(DV46*DV47+DV48*DV49*6)/DV47)","v":0},{"$f":"IF(DU45=0,0,(DV45-DU45)/DU45*100)","v":0},{"$f":"IF(DX47=0,0,(DX46*DX47+DX48*DX49*6)/DX47)","v":0},{"$f":"IF(DY47=0,0,(DY46*DY47+DY48*DY49*6)/DY47)","v":0},{"$f":"IF(DX45=0,0,(DY45-DX45)/DX45*100)","v":0},{"$f":"IF(EA47=0,0,(EA46*EA47+EA48*EA49*6)/EA47)","v":0},{"$f":"IF(EB47=0,0,(EB46*EB47+EB48*EB49*6)/EB47)","v":0},{"$f":"IF(EA45=0,0,(EB45-EA45)/EA45*100)","v":0},{"$f":"IF(ED47=0,0,(ED46*ED47+ED48*ED49*6)/ED47)","v":0},{"$f":"IF(EE47=0,0,(EE46*EE47+EE48*EE49*6)/EE47)","v":0},{"$f":"IF(ED45=0,0,(EE45-ED45)/ED45*100)","v":0},{"$f":"IF(EG47=0,0,(EG46*EG47+EG48*EG49*6)/EG47)","v":0},{"$f":"IF(EH47=0,0,(EH46*EH47+EH48*EH49*6)/EH47)","v":0},{"$f":"IF(EG45=0,0,(EH45-EG45)/EG45*100)","v":0},{"$f":"IF(EJ47=0,0,(EJ46*EJ47+EJ48*EJ49*6)/EJ47)","v":0},{"$f":"IF(EK47=0,0,(EK46*EK47+EK48*EK49*6)/EK47)","v":0},{"$f":"IF(EJ45=0,0,(EK45-EJ45)/EJ45*100)","v":0},{"$f":"IF(EM47=0,0,(EM46*EM47+EM48*EM49*6)/EM47)","v":0},{"$f":"IF(EN47=0,0,(EN46*EN47+EN48*EN49*6)/EN47)","v":0},{"$f":"IF(EM45=0,0,(EN45-EM45)/EM45*100)","v":0},{"$f":"IF(EP47=0,0,(EP46*EP47+EP48*EP49*6)/EP47)","v":0},{"$f":"IF(EQ47=0,0,(EQ46*EQ47+EQ48*EQ49*6)/EQ47)","v":0},{"$f":"IF(EP45=0,0,(EQ45-EP45)/EP45*100)","v":0},{"$f":"IF(ES47=0,0,(ES46*ES47+ES48*ES49*6)/ES47)","v":0},{"$f":"IF(ET47=0,0,(ET46*ET47+ET48*ET49*6)/ET47)","v":0},{"$f":"IF(ES45=0,0,(ET45-ES45)/ES45*100)","v":0},{"$f":"IF(EV47=0,0,(EV46*EV47+EV48*EV49*6)/EV47)","v":0},{"$f":"IF(EW47=0,0,(EW46*EW47+EW48*EW49*6)/EW47)","v":0},{"$f":"IF(EV45=0,0,(EW45-EV45)/EV45*100)","v":0},{"$f":"IF(EY47=0,0,(EY46*EY47+EY48*EY49*6)/EY47)","v":0},{"$f":"IF(EZ47=0,0,(EZ46*EZ47+EZ48*EZ49*6)/EZ47)","v":0},{"$f":"IF(EY45=0,0,(EZ45-EY45)/EY45*100)","v":0},{"$f":"IF(FB47=0,0,(FB46*FB47+FB48*FB49*6)/FB47)","v":0},{"$f":"IF(FC47=0,0,(FC46*FC47+FC48*FC49*6)/FC47)","v":0},{"$f":"IF(FB45=0,0,(FC45-FB45)/FB45*100)","v":0},{"$f":"IF(FE47=0,0,(FE46*FE47+FE48*FE49*6)/FE47)","v":0},{"$f":"IF(FF47=0,0,(FF46*FF47+FF48*FF49*6)/FF47)","v":0},{"$f":"IF(FE45=0,0,(FF45-FE45)/FE45*100)","v":0}]
["1",null,"L2_1_2","для населения с 01.01 по 30.06 с НДС",null,null,{"$f":"F17=\"двухставочный\"","v":false},null,null,null,null,"ставка платы за потребление 1 куб.м холодной воды","руб./куб.м",null,null,{"$f":"IF(N46=0,0,(O46-N46)/N46*100)","v":0},null,null,{"$f":"IF(Q46=0,0,(R46-Q46)/Q46*100)","v":0},null,null,{"$f":"IF(T46=0,0,(U46-T46)/T46*100)","v":0},null,null,{"$f":"IF(W46=0,0,(X46-W46)/W46*100)","v":0},null,null,{"$f":"IF(Z46=0,0,(AA46-Z46)/Z46*100)","v":0},null,null,{"$f":"IF(AC46=0,0,(AD46-AC46)/AC46*100)","v":0},null,null,{"$f":"IF(AF46=0,0,(AG46-AF46)/AF46*100)","v":0},null,null,{"$f":"IF(AI46=0,0,(AJ46-AI46)/AI46*100)","v":0},null,null,{"$f":"IF(AL46=0,0,(AM46-AL46)/AL46*100)","v":0},null,null,{"$f":"IF(AO46=0,0,(AP46-AO46)/AO46*100)","v":0},null,null,{"$f":"IF(AR46=0,0,(AS46-AR46)/AR46*100)","v":0},null,null,{"$f":"IF(AU46=0,0,(AV46-AU46)/AU46*100)","v":0},null,null,{"$f":"IF(AX46=0,0,(AY46-AX46)/AX46*100)","v":0},null,null,{"$f":"IF(BA46=0,0,(BB46-BA46)/BA46*100)","v":0},null,null,{"$f":"IF(BD46=0,0,(BE46-BD46)/BD46*100)","v":0},null,null,{"$f":"IF(BG46=0,0,(BH46-BG46)/BG46*100)","v":0},null,null,{"$f":"IF(BJ46=0,0,(BK46-BJ46)/BJ46*100)","v":0},null,null,{"$f":"IF(BM46=0,0,(BN46-BM46)/BM46*100)","v":0},null,null,{"$f":"IF(BP46=0,0,(BQ46-BP46)/BP46*100)","v":0},null,null,{"$f":"IF(BS46=0,0,(BT46-BS46)/BS46*100)","v":0},null,null,{"$f":"IF(BV46=0,0,(BW46-BV46)/BV46*100)","v":0},null,null,{"$f":"IF(BY46=0,0,(BZ46-BY46)/BY46*100)","v":0},null,null,{"$f":"IF(CB46=0,0,(CC46-CB46)/CB46*100)","v":0},null,null,{"$f":"IF(CE46=0,0,(CF46-CE46)/CE46*100)","v":0},null,null,{"$f":"IF(CH46=0,0,(CI46-CH46)/CH46*100)","v":0},null,null,{"$f":"IF(CK46=0,0,(CL46-CK46)/CK46*100)","v":0},null,null,{"$f":"IF(CN46=0,0,(CO46-CN46)/CN46*100)","v":0},null,null,{"$f":"IF(CQ46=0,0,(CR46-CQ46)/CQ46*100)","v":0},null,null,{"$f":"IF(CT46=0,0,(CU46-CT46)/CT46*100)","v":0},null,null,{"$f":"IF(CW46=0,0,(CX46-CW46)/CW46*100)","v":0},null,null,{"$f":"IF(CZ46=0,0,(DA46-CZ46)/CZ46*100)","v":0},null,null,{"$f":"IF(DC46=0,0,(DD46-DC46)/DC46*100)","v":0},null,null,{"$f":"IF(DF46=0,0,(DG46-DF46)/DF46*100)","v":0},null,null,{"$f":"IF(DI46=0,0,(DJ46-DI46)/DI46*100)","v":0},null,null,{"$f":"IF(DL46=0,0,(DM46-DL46)/DL46*100)","v":0},null,null,{"$f":"IF(DO46=0,0,(DP46-DO46)/DO46*100)","v":0},null,null,{"$f":"IF(DR46=0,0,(DS46-DR46)/DR46*100)","v":0},null,null,{"$f":"IF(DU46=0,0,(DV46-DU46)/DU46*100)","v":0},null,null,{"$f":"IF(DX46=0,0,(DY46-DX46)/DX46*100)","v":0},null,null,{"$f":"IF(EA46=0,0,(EB46-EA46)/EA46*100)","v":0},null,null,{"$f":"IF(ED46=0,0,(EE46-ED46)/ED46*100)","v":0},null,null,{"$f":"IF(EG46=0,0,(EH46-EG46)/EG46*100)","v":0},null,null,{"$f":"IF(EJ46=0,0,(EK46-EJ46)/EJ46*100)","v":0},null,null,{"$f":"IF(EM46=0,0,(EN46-EM46)/EM46*100)","v":0},null,null,{"$f":"IF(EP46=0,0,(EQ46-EP46)/EP46*100)","v":0},null,null,{"$f":"IF(ES46=0,0,(ET46-ES46)/ES46*100)","v":0},null,null,{"$f":"IF(EV46=0,0,(EW46-EV46)/EV46*100)","v":0},null,null,{"$f":"IF(EY46=0,0,(EZ46-EY46)/EY46*100)","v":0},null,null,{"$f":"IF(FB46=0,0,(FC46-FB46)/FB46*100)","v":0},null,null,{"$f":"IF(FE46=0,0,(FF46-FE46)/FE46*100)","v":0}]
["1","ПО.население.I","L2_1_3","для населения с 01.01 по 30.06 с НДС",null,null,{"$f":"F17=\"двухставочный\"","v":false},null,null,null,null,"объём потребления холодной воды","тыс.куб.м",{"$f":"SUMIFS(INDEX(Калькуляция!$T$15:$AM$143,,MATCH(N$3,Калькуляция!$T$3:$AM$3,0)),Калькуляция!$A$15:$A$143,$A47,Калькуляция!$B$15:$B$143,$B47)","v":1395.7560000000001},{"$f":"SUMIFS(INDEX(Калькуляция!$T$15:$AM$143,,MATCH(O$3,Калькуляция!$T$3:$AM$3,0)),Калькуляция!$A$15:$A$143,$A47,Калькуляция!$B$15:$B$143,$B47)","v":1398.4815000000001},{"$f":"IF(N47=0,0,(O47-N47)/N47*100)","v":0.1952705200622466},{"$f":"SUMIFS(INDEX(Калькуляция!$T$15:$AM$143,,MATCH(Q$3,Калькуляция!$T$3:$AM$3,0)),Калькуляция!$A$15:$A$143,$A47,Калькуляция!$B$15:$B$143,$B47)","v":0},{"$f":"SUMIFS(INDEX(Калькуляция!$T$15:$AM$143,,MATCH(R$3,Калькуляция!$T$3:$AM$3,0)),Калькуляция!$A$15:$A$143,$A47,Калькуляция!$B$15:$B$143,$B47)","v":0},{"$f":"IF(Q47=0,0,(R47-Q47)/Q47*100)","v":0},{"$f":"SUMIFS(INDEX(Калькуляция!$T$15:$AM$143,,MATCH(T$3,Калькуляция!$T$3:$AM$3,0)),Калькуляция!$A$15:$A$143,$A47,Калькуляция!$B$15:$B$143,$B47)","v":0},{"$f":"SUMIFS(INDEX(Калькуляция!$T$15:$AM$143,,MATCH(U$3,Калькуляция!$T$3:$AM$3,0)),Калькуляция!$A$15:$A$143,$A47,Калькуляция!$B$15:$B$143,$B47)","v":0},{"$f":"IF(T47=0,0,(U47-T47)/T47*100)","v":0},{"$f":"SUMIFS(INDEX(Калькуляция!$T$15:$AM$143,,MATCH(W$3,Калькуляция!$T$3:$AM$3,0)),Калькуляция!$A$15:$A$143,$A47,Калькуляция!$B$15:$B$143,$B47)","v":0},{"$f":"SUMIFS(INDEX(Калькуляция!$T$15:$AM$143,,MATCH(X$3,Калькуляция!$T$3:$AM$3,0)),Калькуляция!$A$15:$A$143,$A47,Калькуляция!$B$15:$B$143,$B47)","v":0},{"$f":"IF(W47=0,0,(X47-W47)/W47*100)","v":0},{"$f":"SUMIFS(INDEX(Калькуляция!$T$15:$AM$143,,MATCH(Z$3,Калькуляция!$T$3:$AM$3,0)),Калькуляция!$A$15:$A$143,$A47,Калькуляция!$B$15:$B$143,$B47)","v":0},{"$f":"SUMIFS(INDEX(Калькуляция!$T$15:$AM$143,,MATCH(AA$3,Калькуляция!$T$3:$AM$3,0)),Калькуляция!$A$15:$A$143,$A47,Калькуляция!$B$15:$B$143,$B47)","v":0},{"$f":"IF(Z47=0,0,(AA47-Z47)/Z47*100)","v":0},{"$f":"SUMIFS(INDEX(Калькуляция!$T$15:$AM$143,,MATCH(AC$3,Калькуляция!$T$3:$AM$3,0)),Калькуляция!$A$15:$A$143,$A47,Калькуляция!$B$15:$B$143,$B47)","v":0},{"$f":"SUMIFS(INDEX(Калькуляция!$T$15:$AM$143,,MATCH(AD$3,Калькуляция!$T$3:$AM$3,0)),Калькуляция!$A$15:$A$143,$A47,Калькуляция!$B$15:$B$143,$B47)","v":0},{"$f":"IF(AC47=0,0,(AD47-AC47)/AC47*100)","v":0},{"$f":"SUMIFS(INDEX(Калькуляция!$T$15:$AM$143,,MATCH(AF$3,Калькуляция!$T$3:$AM$3,0)),Калькуляция!$A$15:$A$143,$A47,Калькуляция!$B$15:$B$143,$B47)","v":0},{"$f":"SUMIFS(INDEX(Калькуляция!$T$15:$AM$143,,MATCH(AG$3,Калькуляция!$T$3:$AM$3,0)),Калькуляция!$A$15:$A$143,$A47,Калькуляция!$B$15:$B$143,$B47)","v":0},{"$f":"IF(AF47=0,0,(AG47-AF47)/AF47*100)","v":0},{"$f":"SUMIFS(INDEX(Калькуляция!$T$15:$AM$143,,MATCH(AI$3,Калькуляция!$T$3:$AM$3,0)),Калькуляция!$A$15:$A$143,$A47,Калькуляция!$B$15:$B$143,$B47)","v":0},{"$f":"SUMIFS(INDEX(Калькуляция!$T$15:$AM$143,,MATCH(AJ$3,Калькуляция!$T$3:$AM$3,0)),Калькуляция!$A$15:$A$143,$A47,Калькуляция!$B$15:$B$143,$B47)","v":0},{"$f":"IF(AI47=0,0,(AJ47-AI47)/AI47*100)","v":0},{"$f":"SUMIFS(INDEX(Калькуляция!$T$15:$AM$143,,MATCH(AL$3,Калькуляция!$T$3:$AM$3,0)),Калькуляция!$A$15:$A$143,$A47,Калькуляция!$B$15:$B$143,$B47)","v":0},{"$f":"SUMIFS(INDEX(Калькуляция!$T$15:$AM$143,,MATCH(AM$3,Калькуляция!$T$3:$AM$3,0)),Калькуляция!$A$15:$A$143,$A47,Калькуляция!$B$15:$B$143,$B47)","v":0},{"$f":"IF(AL47=0,0,(AM47-AL47)/AL47*100)","v":0},{"$f":"SUMIFS(INDEX(Калькуляция!$T$15:$AM$143,,MATCH(AO$3,Калькуляция!$T$3:$AM$3,0)),Калькуляция!$A$15:$A$143,$A47,Калькуляция!$B$15:$B$143,$B47)","v":0},{"$f":"SUMIFS(INDEX(Калькуляция!$T$15:$AM$143,,MATCH(AP$3,Калькуляция!$T$3:$AM$3,0)),Калькуляция!$A$15:$A$143,$A47,Калькуляция!$B$15:$B$143,$B47)","v":0},{"$f":"IF(AO47=0,0,(AP47-AO47)/AO47*100)","v":0},null,null,{"$f":"IF(AR47=0,0,(AS47-AR47)/AR47*100)","v":0},null,null,{"$f":"IF(AU47=0,0,(AV47-AU47)/AU47*100)","v":0},null,null,{"$f":"IF(AX47=0,0,(AY47-AX47)/AX47*100)","v":0},null,null,{"$f":"IF(BA47=0,0,(BB47-BA47)/BA47*100)","v":0},null,null,{"$f":"IF(BD47=0,0,(BE47-BD47)/BD47*100)","v":0},null,null,{"$f":"IF(BG47=0,0,(BH47-BG47)/BG47*100)","v":0},null,null,{"$f":"IF(BJ47=0,0,(BK47-BJ47)/BJ47*100)","v":0},null,null,{"$f":"IF(BM47=0,0,(BN47-BM47)/BM47*100)","v":0},null,null,{"$f":"IF(BP47=0,0,(BQ47-BP47)/BP47*100)","v":0},null,null,{"$f":"IF(BS47=0,0,(BT47-BS47)/BS47*100)","v":0},null,null,{"$f":"IF(BV47=0,0,(BW47-BV47)/BV47*100)","v":0},null,null,{"$f":"IF(BY47=0,0,(BZ47-BY47)/BY47*100)","v":0},null,null,{"$f":"IF(CB47=0,0,(CC47-CB47)/CB47*100)","v":0},null,null,{"$f":"IF(CE47=0,0,(CF47-CE47)/CE47*100)","v":0},null,null,{"$f":"IF(CH47=0,0,(CI47-CH47)/CH47*100)","v":0},null,null,{"$f":"IF(CK47=0,0,(CL47-CK47)/CK47*100)","v":0},null,null,{"$f":"IF(CN47=0,0,(CO47-CN47)/CN47*100)","v":0},null,null,{"$f":"IF(CQ47=0,0,(CR47-CQ47)/CQ47*100)","v":0},null,null,{"$f":"IF(CT47=0,0,(CU47-CT47)/CT47*100)","v":0},null,null,{"$f":"IF(CW47=0,0,(CX47-CW47)/CW47*100)","v":0},null,null,{"$f":"IF(CZ47=0,0,(DA47-CZ47)/CZ47*100)","v":0},null,null,{"$f":"IF(DC47=0,0,(DD47-DC47)/DC47*100)","v":0},null,null,{"$f":"IF(DF47=0,0,(DG47-DF47)/DF47*100)","v":0},null,null,{"$f":"IF(DI47=0,0,(DJ47-DI47)/DI47*100)","v":0},null,null,{"$f":"IF(DL47=0,0,(DM47-DL47)/DL47*100)","v":0},null,null,{"$f":"IF(DO47=0,0,(DP47-DO47)/DO47*100)","v":0},null,null,{"$f":"IF(DR47=0,0,(DS47-DR47)/DR47*100)","v":0},null,null,{"$f":"IF(DU47=0,0,(DV47-DU47)/DU47*100)","v":0},null,null,{"$f":"IF(DX47=0,0,(DY47-DX47)/DX47*100)","v":0},null,null,{"$f":"IF(EA47=0,0,(EB47-EA47)/EA47*100)","v":0},null,null,{"$f":"IF(ED47=0,0,(EE47-ED47)/ED47*100)","v":0},null,null,{"$f":"IF(EG47=0,0,(EH47-EG47)/EG47*100)","v":0},null,null,{"$f":"IF(EJ47=0,0,(EK47-EJ47)/EJ47*100)","v":0},null,null,{"$f":"IF(EM47=0,0,(EN47-EM47)/EM47*100)","v":0},null,null,{"$f":"IF(EP47=0,0,(EQ47-EP47)/EP47*100)","v":0},null,null,{"$f":"IF(ES47=0,0,(ET47-ES47)/ES47*100)","v":0},null,null,{"$f":"IF(EV47=0,0,(EW47-EV47)/EV47*100)","v":0},null,null,{"$f":"IF(EY47=0,0,(EZ47-EY47)/EY47*100)","v":0},null,null,{"$f":"IF(FB47=0,0,(FC47-FB47)/FB47*100)","v":0},null,null,{"$f":"IF(FE47=0,0,(FF47-FE47)/FE47*100)","v":0}]
["1",null,"L2_1_4","для населения с 01.01 по 30.06 с НДС",null,null,{"$f":"F17=\"двухставочный\"","v":false},null,null,null,null,"ставка платы за содержание системы холодного водоснабжения","тыс.руб./куб.м*час/в месяц",null,null,{"$f":"IF(N48=0,0,(O48-N48)/N48*100)","v":0},null,null,{"$f":"IF(Q48=0,0,(R48-Q48)/Q48*100)","v":0},null,null,{"$f":"IF(T48=0,0,(U48-T48)/T48*100)","v":0},null,null,{"$f":"IF(W48=0,0,(X48-W48)/W48*100)","v":0},null,null,{"$f":"IF(Z48=0,0,(AA48-Z48)/Z48*100)","v":0},null,null,{"$f":"IF(AC48=0,0,(AD48-AC48)/AC48*100)","v":0},null,null,{"$f":"IF(AF48=0,0,(AG48-AF48)/AF48*100)","v":0},null,null,{"$f":"IF(AI48=0,0,(AJ48-AI48)/AI48*100)","v":0},null,null,{"$f":"IF(AL48=0,0,(AM48-AL48)/AL48*100)","v":0},null,null,{"$f":"IF(AO48=0,0,(AP48-AO48)/AO48*100)","v":0},null,null,{"$f":"IF(AR48=0,0,(AS48-AR48)/AR48*100)","v":0},null,null,{"$f":"IF(AU48=0,0,(AV48-AU48)/AU48*100)","v":0},null,null,{"$f":"IF(AX48=0,0,(AY48-AX48)/AX48*100)","v":0},null,null,{"$f":"IF(BA48=0,0,(BB48-BA48)/BA48*100)","v":0},null,null,{"$f":"IF(BD48=0,0,(BE48-BD48)/BD48*100)","v":0},null,null,{"$f":"IF(BG48=0,0,(BH48-BG48)/BG48*100)","v":0},null,null,{"$f":"IF(BJ48=0,0,(BK48-BJ48)/BJ48*100)","v":0},null,null,{"$f":"IF(BM48=0,0,(BN48-BM48)/BM48*100)","v":0},null,null,{"$f":"IF(BP48=0,0,(BQ48-BP48)/BP48*100)","v":0},null,null,{"$f":"IF(BS48=0,0,(BT48-BS48)/BS48*100)","v":0},null,null,{"$f":"IF(BV48=0,0,(BW48-BV48)/BV48*100)","v":0},null,null,{"$f":"IF(BY48=0,0,(BZ48-BY48)/BY48*100)","v":0},null,null,{"$f":"IF(CB48=0,0,(CC48-CB48)/CB48*100)","v":0},null,null,{"$f":"IF(CE48=0,0,(CF48-CE48)/CE48*100)","v":0},null,null,{"$f":"IF(CH48=0,0,(CI48-CH48)/CH48*100)","v":0},null,null,{"$f":"IF(CK48=0,0,(CL48-CK48)/CK48*100)","v":0},null,null,{"$f":"IF(CN48=0,0,(CO48-CN48)/CN48*100)","v":0},null,null,{"$f":"IF(CQ48=0,0,(CR48-CQ48)/CQ48*100)","v":0},null,null,{"$f":"IF(CT48=0,0,(CU48-CT48)/CT48*100)","v":0},null,null,{"$f":"IF(CW48=0,0,(CX48-CW48)/CW48*100)","v":0},null,null,{"$f":"IF(CZ48=0,0,(DA48-CZ48)/CZ48*100)","v":0},null,null,{"$f":"IF(DC48=0,0,(DD48-DC48)/DC48*100)","v":0},null,null,{"$f":"IF(DF48=0,0,(DG48-DF48)/DF48*100)","v":0},null,null,{"$f":"IF(DI48=0,0,(DJ48-DI48)/DI48*100)","v":0},null,null,{"$f":"IF(DL48=0,0,(DM48-DL48)/DL48*100)","v":0},null,null,{"$f":"IF(DO48=0,0,(DP48-DO48)/DO48*100)","v":0},null,null,{"$f":"IF(DR48=0,0,(DS48-DR48)/DR48*100)","v":0},null,null,{"$f":"IF(DU48=0,0,(DV48-DU48)/DU48*100)","v":0},null,null,{"$f":"IF(DX48=0,0,(DY48-DX48)/DX48*100)","v":0},null,null,{"$f":"IF(EA48=0,0,(EB48-EA48)/EA48*100)","v":0},null,null,{"$f":"IF(ED48=0,0,(EE48-ED48)/ED48*100)","v":0},null,null,{"$f":"IF(EG48=0,0,(EH48-EG48)/EG48*100)","v":0},null,null,{"$f":"IF(EJ48=0,0,(EK48-EJ48)/EJ48*100)","v":0},null,null,{"$f":"IF(EM48=0,0,(EN48-EM48)/EM48*100)","v":0},null,null,{"$f":"IF(EP48=0,0,(EQ48-EP48)/EP48*100)","v":0},null,null,{"$f":"IF(ES48=0,0,(ET48-ES48)/ES48*100)","v":0},null,null,{"$f":"IF(EV48=0,0,(EW48-EV48)/EV48*100)","v":0},null,null,{"$f":"IF(EY48=0,0,(EZ48-EY48)/EY48*100)","v":0},null,null,{"$f":"IF(FB48=0,0,(FC48-FB48)/FB48*100)","v":0},null,null,{"$f":"IF(FE48=0,0,(FF48-FE48)/FE48*100)","v":0}]
["1",null,"L2_1_5","для населения с 01.01 по 30.06 с НДС",null,null,{"$f":"F17=\"двухставочный\"","v":false},null,null,null,null,"величина присоединённой мощности","куб.м*час",null,null,{"$f":"IF(N49=0,0,(O49-N49)/N49*100)","v":0},null,null,{"$f":"IF(Q49=0,0,(R49-Q49)/Q49*100)","v":0},null,null,{"$f":"IF(T49=0,0,(U49-T49)/T49*100)","v":0},null,null,{"$f":"IF(W49=0,0,(X49-W49)/W49*100)","v":0},null,null,{"$f":"IF(Z49=0,0,(AA49-Z49)/Z49*100)","v":0},null,null,{"$f":"IF(AC49=0,0,(AD49-AC49)/AC49*100)","v":0},null,null,{"$f":"IF(AF49=0,0,(AG49-AF49)/AF49*100)","v":0},null,null,{"$f":"IF(AI49=0,0,(AJ49-AI49)/AI49*100)","v":0},null,null,{"$f":"IF(AL49=0,0,(AM49-AL49)/AL49*100)","v":0},null,null,{"$f":"IF(AO49=0,0,(AP49-AO49)/AO49*100)","v":0},null,null,{"$f":"IF(AR49=0,0,(AS49-AR49)/AR49*100)","v":0},null,null,{"$f":"IF(AU49=0,0,(AV49-AU49)/AU49*100)","v":0},null,null,{"$f":"IF(AX49=0,0,(AY49-AX49)/AX49*100)","v":0},null,null,{"$f":"IF(BA49=0,0,(BB49-BA49)/BA49*100)","v":0},null,null,{"$f":"IF(BD49=0,0,(BE49-BD49)/BD49*100)","v":0},null,null,{"$f":"IF(BG49=0,0,(BH49-BG49)/BG49*100)","v":0},null,null,{"$f":"IF(BJ49=0,0,(BK49-BJ49)/BJ49*100)","v":0},null,null,{"$f":"IF(BM49=0,0,(BN49-BM49)/BM49*100)","v":0},null,null,{"$f":"IF(BP49=0,0,(BQ49-BP49)/BP49*100)","v":0},null,null,{"$f":"IF(BS49=0,0,(BT49-BS49)/BS49*100)","v":0},null,null,{"$f":"IF(BV49=0,0,(BW49-BV49)/BV49*100)","v":0},null,null,{"$f":"IF(BY49=0,0,(BZ49-BY49)/BY49*100)","v":0},null,null,{"$f":"IF(CB49=0,0,(CC49-CB49)/CB49*100)","v":0},null,null,{"$f":"IF(CE49=0,0,(CF49-CE49)/CE49*100)","v":0},null,null,{"$f":"IF(CH49=0,0,(CI49-CH49)/CH49*100)","v":0},null,null,{"$f":"IF(CK49=0,0,(CL49-CK49)/CK49*100)","v":0},null,null,{"$f":"IF(CN49=0,0,(CO49-CN49)/CN49*100)","v":0},null,null,{"$f":"IF(CQ49=0,0,(CR49-CQ49)/CQ49*100)","v":0},null,null,{"$f":"IF(CT49=0,0,(CU49-CT49)/CT49*100)","v":0},null,null,{"$f":"IF(CW49=0,0,(CX49-CW49)/CW49*100)","v":0},null,null,{"$f":"IF(CZ49=0,0,(DA49-CZ49)/CZ49*100)","v":0},null,null,{"$f":"IF(DC49=0,0,(DD49-DC49)/DC49*100)","v":0},null,null,{"$f":"IF(DF49=0,0,(DG49-DF49)/DF49*100)","v":0},null,null,{"$f":"IF(DI49=0,0,(DJ49-DI49)/DI49*100)","v":0},null,null,{"$f":"IF(DL49=0,0,(DM49-DL49)/DL49*100)","v":0},null,null,{"$f":"IF(DO49=0,0,(DP49-DO49)/DO49*100)","v":0},null,null,{"$f":"IF(DR49=0,0,(DS49-DR49)/DR49*100)","v":0},null,null,{"$f":"IF(DU49=0,0,(DV49-DU49)/DU49*100)","v":0},null,null,{"$f":"IF(DX49=0,0,(DY49-DX49)/DX49*100)","v":0},null,null,{"$f":"IF(EA49=0,0,(EB49-EA49)/EA49*100)","v":0},null,null,{"$f":"IF(ED49=0,0,(EE49-ED49)/ED49*100)","v":0},null,null,{"$f":"IF(EG49=0,0,(EH49-EG49)/EG49*100)","v":0},null,null,{"$f":"IF(EJ49=0,0,(EK49-EJ49)/EJ49*100)","v":0},null,null,{"$f":"IF(EM49=0,0,(EN49-EM49)/EM49*100)","v":0},null,null,{"$f":"IF(EP49=0,0,(EQ49-EP49)/EP49*100)","v":0},null,null,{"$f":"IF(ES49=0,0,(ET49-ES49)/ES49*100)","v":0},null,null,{"$f":"IF(EV49=0,0,(EW49-EV49)/EV49*100)","v":0},null,null,{"$f":"IF(EY49=0,0,(EZ49-EY49)/EY49*100)","v":0},null,null,{"$f":"IF(FB49=0,0,(FC49-FB49)/FB49*100)","v":0},null,null,{"$f":"IF(FE49=0,0,(FF49-FE49)/FE49*100)","v":0}]
["1",null,null,null,null,null,{"$f":"F17=\"двухставочный\"","v":false},null,null,null,null,"Тариф с 01.01 по 30.06 для населения с НДС:"]
["1",null,"L2_1_1","для населения с 01.07 по 31.12 с НДС",null,null,{"$f":"F17=\"двухставочный\"","v":false},null,null,null,null,"перевод двухставочного тарифа в одноставочный тариф","руб./куб.м",{"$f":"IF(N53=0,0,(N52*N53+N54*N55*6)/N53)","v":0},{"$f":"IF(O53=0,0,(O52*O53+O54*O55*6)/O53)","v":0},{"$f":"IF(N51=0,0,(O51-N51)/N51*100)","v":0},{"$f":"IF(Q53=0,0,(Q52*Q53+Q54*Q55*6)/Q53)","v":0},{"$f":"IF(R53=0,0,(R52*R53+R54*R55*6)/R53)","v":0},{"$f":"IF(Q51=0,0,(R51-Q51)/Q51*100)","v":0},{"$f":"IF(T53=0,0,(T52*T53+T54*T55*6)/T53)","v":0},{"$f":"IF(U53=0,0,(U52*U53+U54*U55*6)/U53)","v":0},{"$f":"IF(T51=0,0,(U51-T51)/T51*100)","v":0},{"$f":"IF(W53=0,0,(W52*W53+W54*W55*6)/W53)","v":0},{"$f":"IF(X53=0,0,(X52*X53+X54*X55*6)/X53)","v":0},{"$f":"IF(W51=0,0,(X51-W51)/W51*100)","v":0},{"$f":"IF(Z53=0,0,(Z52*Z53+Z54*Z55*6)/Z53)","v":0},{"$f":"IF(AA53=0,0,(AA52*AA53+AA54*AA55*6)/AA53)","v":0},{"$f":"IF(Z51=0,0,(AA51-Z51)/Z51*100)","v":0},{"$f":"IF(AC53=0,0,(AC52*AC53+AC54*AC55*6)/AC53)","v":0},{"$f":"IF(AD53=0,0,(AD52*AD53+AD54*AD55*6)/AD53)","v":0},{"$f":"IF(AC51=0,0,(AD51-AC51)/AC51*100)","v":0},{"$f":"IF(AF53=0,0,(AF52*AF53+AF54*AF55*6)/AF53)","v":0},{"$f":"IF(AG53=0,0,(AG52*AG53+AG54*AG55*6)/AG53)","v":0},{"$f":"IF(AF51=0,0,(AG51-AF51)/AF51*100)","v":0},{"$f":"IF(AI53=0,0,(AI52*AI53+AI54*AI55*6)/AI53)","v":0},{"$f":"IF(AJ53=0,0,(AJ52*AJ53+AJ54*AJ55*6)/AJ53)","v":0},{"$f":"IF(AI51=0,0,(AJ51-AI51)/AI51*100)","v":0},{"$f":"IF(AL53=0,0,(AL52*AL53+AL54*AL55*6)/AL53)","v":0},{"$f":"IF(AM53=0,0,(AM52*AM53+AM54*AM55*6)/AM53)","v":0},{"$f":"IF(AL51=0,0,(AM51-AL51)/AL51*100)","v":0},{"$f":"IF(AO53=0,0,(AO52*AO53+AO54*AO55*6)/AO53)","v":0},{"$f":"IF(AP53=0,0,(AP52*AP53+AP54*AP55*6)/AP53)","v":0},{"$f":"IF(AO51=0,0,(AP51-AO51)/AO51*100)","v":0},{"$f":"IF(AR53=0,0,(AR52*AR53+AR54*AR55*6)/AR53)","v":0},{"$f":"IF(AS53=0,0,(AS52*AS53+AS54*AS55*6)/AS53)","v":0},{"$f":"IF(AR51=0,0,(AS51-AR51)/AR51*100)","v":0},{"$f":"IF(AU53=0,0,(AU52*AU53+AU54*AU55*6)/AU53)","v":0},{"$f":"IF(AV53=0,0,(AV52*AV53+AV54*AV55*6)/AV53)","v":0},{"$f":"IF(AU51=0,0,(AV51-AU51)/AU51*100)","v":0},{"$f":"IF(AX53=0,0,(AX52*AX53+AX54*AX55*6)/AX53)","v":0},{"$f":"IF(AY53=0,0,(AY52*AY53+AY54*AY55*6)/AY53)","v":0},{"$f":"IF(AX51=0,0,(AY51-AX51)/AX51*100)","v":0},{"$f":"IF(BA53=0,0,(BA52*BA53+BA54*BA55*6)/BA53)","v":0},{"$f":"IF(BB53=0,0,(BB52*BB53+BB54*BB55*6)/BB53)","v":0},{"$f":"IF(BA51=0,0,(BB51-BA51)/BA51*100)","v":0},{"$f":"IF(BD53=0,0,(BD52*BD53+BD54*BD55*6)/BD53)","v":0},{"$f":"IF(BE53=0,0,(BE52*BE53+BE54*BE55*6)/BE53)","v":0},{"$f":"IF(BD51=0,0,(BE51-BD51)/BD51*100)","v":0},{"$f":"IF(BG53=0,0,(BG52*BG53+BG54*BG55*6)/BG53)","v":0},{"$f":"IF(BH53=0,0,(BH52*BH53+BH54*BH55*6)/BH53)","v":0},{"$f":"IF(BG51=0,0,(BH51-BG51)/BG51*100)","v":0},{"$f":"IF(BJ53=0,0,(BJ52*BJ53+BJ54*BJ55*6)/BJ53)","v":0},{"$f":"IF(BK53=0,0,(BK52*BK53+BK54*BK55*6)/BK53)","v":0},{"$f":"IF(BJ51=0,0,(BK51-BJ51)/BJ51*100)","v":0},{"$f":"IF(BM53=0,0,(BM52*BM53+BM54*BM55*6)/BM53)","v":0},{"$f":"IF(BN53=0,0,(BN52*BN53+BN54*BN55*6)/BN53)","v":0},{"$f":"IF(BM51=0,0,(BN51-BM51)/BM51*100)","v":0},{"$f":"IF(BP53=0,0,(BP52*BP53+BP54*BP55*6)/BP53)","v":0},{"$f":"IF(BQ53=0,0,(BQ52*BQ53+BQ54*BQ55*6)/BQ53)","v":0},{"$f":"IF(BP51=0,0,(BQ51-BP51)/BP51*100)","v":0},{"$f":"IF(BS53=0,0,(BS52*BS53+BS54*BS55*6)/BS53)","v":0},{"$f":"IF(BT53=0,0,(BT52*BT53+BT54*BT55*6)/BT53)","v":0},{"$f":"IF(BS51=0,0,(BT51-BS51)/BS51*100)","v":0},{"$f":"IF(BV53=0,0,(BV52*BV53+BV54*BV55*6)/BV53)","v":0},{"$f":"IF(BW53=0,0,(BW52*BW53+BW54*BW55*6)/BW53)","v":0},{"$f":"IF(BV51=0,0,(BW51-BV51)/BV51*100)","v":0},{"$f":"IF(BY53=0,0,(BY52*BY53+BY54*BY55*6)/BY53)","v":0},{"$f":"IF(BZ53=0,0,(BZ52*BZ53+BZ54*BZ55*6)/BZ53)","v":0},{"$f":"IF(BY51=0,0,(BZ51-BY51)/BY51*100)","v":0},{"$f":"IF(CB53=0,0,(CB52*CB53+CB54*CB55*6)/CB53)","v":0},{"$f":"IF(CC53=0,0,(CC52*CC53+CC54*CC55*6)/CC53)","v":0},{"$f":"IF(CB51=0,0,(CC51-CB51)/CB51*100)","v":0},{"$f":"IF(CE53=0,0,(CE52*CE53+CE54*CE55*6)/CE53)","v":0},{"$f":"IF(CF53=0,0,(CF52*CF53+CF54*CF55*6)/CF53)","v":0},{"$f":"IF(CE51=0,0,(CF51-CE51)/CE51*100)","v":0},{"$f":"IF(CH53=0,0,(CH52*CH53+CH54*CH55*6)/CH53)","v":0},{"$f":"IF(CI53=0,0,(CI52*CI53+CI54*CI55*6)/CI53)","v":0},{"$f":"IF(CH51=0,0,(CI51-CH51)/CH51*100)","v":0},{"$f":"IF(CK53=0,0,(CK52*CK53+CK54*CK55*6)/CK53)","v":0},{"$f":"IF(CL53=0,0,(CL52*CL53+CL54*CL55*6)/CL53)","v":0},{"$f":"IF(CK51=0,0,(CL51-CK51)/CK51*100)","v":0},{"$f":"IF(CN53=0,0,(CN52*CN53+CN54*CN55*6)/CN53)","v":0},{"$f":"IF(CO53=0,0,(CO52*CO53+CO54*CO55*6)/CO53)","v":0},{"$f":"IF(CN51=0,0,(CO51-CN51)/CN51*100)","v":0},{"$f":"IF(CQ53=0,0,(CQ52*CQ53+CQ54*CQ55*6)/CQ53)","v":0},{"$f":"IF(CR53=0,0,(CR52*CR53+CR54*CR55*6)/CR53)","v":0},{"$f":"IF(CQ51=0,0,(CR51-CQ51)/CQ51*100)","v":0},{"$f":"IF(CT53=0,0,(CT52*CT53+CT54*CT55*6)/CT53)","v":0},{"$f":"IF(CU53=0,0,(CU52*CU53+CU54*CU55*6)/CU53)","v":0},{"$f":"IF(CT51=0,0,(CU51-CT51)/CT51*100)","v":0},{"$f":"IF(CW53=0,0,(CW52*CW53+CW54*CW55*6)/CW53)","v":0},{"$f":"IF(CX53=0,0,(CX52*CX53+CX54*CX55*6)/CX53)","v":0},{"$f":"IF(CW51=0,0,(CX51-CW51)/CW51*100)","v":0},{"$f":"IF(CZ53=0,0,(CZ52*CZ53+CZ54*CZ55*6)/CZ53)","v":0},{"$f":"IF(DA53=0,0,(DA52*DA53+DA54*DA55*6)/DA53)","v":0},{"$f":"IF(CZ51=0,0,(DA51-CZ51)/CZ51*100)","v":0},{"$f":"IF(DC53=0,0,(DC52*DC53+DC54*DC55*6)/DC53)","v":0},{"$f":"IF(DD53=0,0,(DD52*DD53+DD54*DD55*6)/DD53)","v":0},{"$f":"IF(DC51=0,0,(DD51-DC51)/DC51*100)","v":0},{"$f":"IF(DF53=0,0,(DF52*DF53+DF54*DF55*6)/DF53)","v":0},{"$f":"IF(DG53=0,0,(DG52*DG53+DG54*DG55*6)/DG53)","v":0},{"$f":"IF(DF51=0,0,(DG51-DF51)/DF51*100)","v":0},{"$f":"IF(DI53=0,0,(DI52*DI53+DI54*DI55*6)/DI53)","v":0},{"$f":"IF(DJ53=0,0,(DJ52*DJ53+DJ54*DJ55*6)/DJ53)","v":0},{"$f":"IF(DI51=0,0,(DJ51-DI51)/DI51*100)","v":0},{"$f":"IF(DL53=0,0,(DL52*DL53+DL54*DL55*6)/DL53)","v":0},{"$f":"IF(DM53=0,0,(DM52*DM53+DM54*DM55*6)/DM53)","v":0},{"$f":"IF(DL51=0,0,(DM51-DL51)/DL51*100)","v":0},{"$f":"IF(DO53=0,0,(DO52*DO53+DO54*DO55*6)/DO53)","v":0},{"$f":"IF(DP53=0,0,(DP52*DP53+DP54*DP55*6)/DP53)","v":0},{"$f":"IF(DO51=0,0,(DP51-DO51)/DO51*100)","v":0},{"$f":"IF(DR53=0,0,(DR52*DR53+DR54*DR55*6)/DR53)","v":0},{"$f":"IF(DS53=0,0,(DS52*DS53+DS54*DS55*6)/DS53)","v":0},{"$f":"IF(DR51=0,0,(DS51-DR51)/DR51*100)","v":0},{"$f":"IF(DU53=0,0,(DU52*DU53+DU54*DU55*6)/DU53)","v":0},{"$f":"IF(DV53=0,0,(DV52*DV53+DV54*DV55*6)/DV53)","v":0},{"$f":"IF(DU51=0,0,(DV51-DU51)/DU51*100)","v":0},{"$f":"IF(DX53=0,0,(DX52*DX53+DX54*DX55*6)/DX53)","v":0},{"$f":"IF(DY53=0,0,(DY52*DY53+DY54*DY55*6)/DY53)","v":0},{"$f":"IF(DX51=0,0,(DY51-DX51)/DX51*100)","v":0},{"$f":"IF(EA53=0,0,(EA52*EA53+EA54*EA55*6)/EA53)","v":0},{"$f":"IF(EB53=0,0,(EB52*EB53+EB54*EB55*6)/EB53)","v":0},{"$f":"IF(EA51=0,0,(EB51-EA51)/EA51*100)","v":0},{"$f":"IF(ED53=0,0,(ED52*ED53+ED54*ED55*6)/ED53)","v":0},{"$f":"IF(EE53=0,0,(EE52*EE53+EE54*EE55*6)/EE53)","v":0},{"$f":"IF(ED51=0,0,(EE51-ED51)/ED51*100)","v":0},{"$f":"IF(EG53=0,0,(EG52*EG53+EG54*EG55*6)/EG53)","v":0},{"$f":"IF(EH53=0,0,(EH52*EH53+EH54*EH55*6)/EH53)","v":0},{"$f":"IF(EG51=0,0,(EH51-EG51)/EG51*100)","v":0},{"$f":"IF(EJ53=0,0,(EJ52*EJ53+EJ54*EJ55*6)/EJ53)","v":0},{"$f":"IF(EK53=0,0,(EK52*EK53+EK54*EK55*6)/EK53)","v":0},{"$f":"IF(EJ51=0,0,(EK51-EJ51)/EJ51*100)","v":0},{"$f":"IF(EM53=0,0,(EM52*EM53+EM54*EM55*6)/EM53)","v":0},{"$f":"IF(EN53=0,0,(EN52*EN53+EN54*EN55*6)/EN53)","v":0},{"$f":"IF(EM51=0,0,(EN51-EM51)/EM51*100)","v":0},{"$f":"IF(EP53=0,0,(EP52*EP53+EP54*EP55*6)/EP53)","v":0},{"$f":"IF(EQ53=0,0,(EQ52*EQ53+EQ54*EQ55*6)/EQ53)","v":0},{"$f":"IF(EP51=0,0,(EQ51-EP51)/EP51*100)","v":0},{"$f":"IF(ES53=0,0,(ES52*ES53+ES54*ES55*6)/ES53)","v":0},{"$f":"IF(ET53=0,0,(ET52*ET53+ET54*ET55*6)/ET53)","v":0},{"$f":"IF(ES51=0,0,(ET51-ES51)/ES51*100)","v":0},{"$f":"IF(EV53=0,0,(EV52*EV53+EV54*EV55*6)/EV53)","v":0},{"$f":"IF(EW53=0,0,(EW52*EW53+EW54*EW55*6)/EW53)","v":0},{"$f":"IF(EV51=0,0,(EW51-EV51)/EV51*100)","v":0},{"$f":"IF(EY53=0,0,(EY52*EY53+EY54*EY55*6)/EY53)","v":0},{"$f":"IF(EZ53=0,0,(EZ52*EZ53+EZ54*EZ55*6)/EZ53)","v":0},{"$f":"IF(EY51=0,0,(EZ51-EY51)/EY51*100)","v":0},{"$f":"IF(FB53=0,0,(FB52*FB53+FB54*FB55*6)/FB53)","v":0},{"$f":"IF(FC53=0,0,(FC52*FC53+FC54*FC55*6)/FC53)","v":0},{"$f":"IF(FB51=0,0,(FC51-FB51)/FB51*100)","v":0},{"$f":"IF(FE53=0,0,(FE52*FE53+FE54*FE55*6)/FE53)","v":0},{"$f":"IF(FF53=0,0,(FF52*FF53+FF54*FF55*6)/FF53)","v":0},{"$f":"IF(FE51=0,0,(FF51-FE51)/FE51*100)","v":0}]
["1",null,"L2_1_2","для населения с 01.07 по 31.12 с НДС",null,null,{"$f":"F17=\"двухставочный\"","v":false},null,null,null,null,"ставка платы за потребление 1 куб.м холодной воды","руб./куб.м",null,null,{"$f":"IF(N52=0,0,(O52-N52)/N52*100)","v":0},null,null,{"$f":"IF(Q52=0,0,(R52-Q52)/Q52*100)","v":0},null,null,{"$f":"IF(T52=0,0,(U52-T52)/T52*100)","v":0},null,null,{"$f":"IF(W52=0,0,(X52-W52)/W52*100)","v":0},null,null,{"$f":"IF(Z52=0,0,(AA52-Z52)/Z52*100)","v":0},null,null,{"$f":"IF(AC52=0,0,(AD52-AC52)/AC52*100)","v":0},null,null,{"$f":"IF(AF52=0,0,(AG52-AF52)/AF52*100)","v":0},null,null,{"$f":"IF(AI52=0,0,(AJ52-AI52)/AI52*100)","v":0},null,null,{"$f":"IF(AL52=0,0,(AM52-AL52)/AL52*100)","v":0},null,null,{"$f":"IF(AO52=0,0,(AP52-AO52)/AO52*100)","v":0},null,null,{"$f":"IF(AR52=0,0,(AS52-AR52)/AR52*100)","v":0},null,null,{"$f":"IF(AU52=0,0,(AV52-AU52)/AU52*100)","v":0},null,null,{"$f":"IF(AX52=0,0,(AY52-AX52)/AX52*100)","v":0},null,null,{"$f":"IF(BA52=0,0,(BB52-BA52)/BA52*100)","v":0},null,null,{"$f":"IF(BD52=0,0,(BE52-BD52)/BD52*100)","v":0},null,null,{"$f":"IF(BG52=0,0,(BH52-BG52)/BG52*100)","v":0},null,null,{"$f":"IF(BJ52=0,0,(BK52-BJ52)/BJ52*100)","v":0},null,null,{"$f":"IF(BM52=0,0,(BN52-BM52)/BM52*100)","v":0},null,null,{"$f":"IF(BP52=0,0,(BQ52-BP52)/BP52*100)","v":0},null,null,{"$f":"IF(BS52=0,0,(BT52-BS52)/BS52*100)","v":0},null,null,{"$f":"IF(BV52=0,0,(BW52-BV52)/BV52*100)","v":0},null,null,{"$f":"IF(BY52=0,0,(BZ52-BY52)/BY52*100)","v":0},null,null,{"$f":"IF(CB52=0,0,(CC52-CB52)/CB52*100)","v":0},null,null,{"$f":"IF(CE52=0,0,(CF52-CE52)/CE52*100)","v":0},null,null,{"$f":"IF(CH52=0,0,(CI52-CH52)/CH52*100)","v":0},null,null,{"$f":"IF(CK52=0,0,(CL52-CK52)/CK52*100)","v":0},null,null,{"$f":"IF(CN52=0,0,(CO52-CN52)/CN52*100)","v":0},null,null,{"$f":"IF(CQ52=0,0,(CR52-CQ52)/CQ52*100)","v":0},null,null,{"$f":"IF(CT52=0,0,(CU52-CT52)/CT52*100)","v":0},null,null,{"$f":"IF(CW52=0,0,(CX52-CW52)/CW52*100)","v":0},null,null,{"$f":"IF(CZ52=0,0,(DA52-CZ52)/CZ52*100)","v":0},null,null,{"$f":"IF(DC52=0,0,(DD52-DC52)/DC52*100)","v":0},null,null,{"$f":"IF(DF52=0,0,(DG52-DF52)/DF52*100)","v":0},null,null,{"$f":"IF(DI52=0,0,(DJ52-DI52)/DI52*100)","v":0},null,null,{"$f":"IF(DL52=0,0,(DM52-DL52)/DL52*100)","v":0},null,null,{"$f":"IF(DO52=0,0,(DP52-DO52)/DO52*100)","v":0},null,null,{"$f":"IF(DR52=0,0,(DS52-DR52)/DR52*100)","v":0},null,null,{"$f":"IF(DU52=0,0,(DV52-DU52)/DU52*100)","v":0},null,null,{"$f":"IF(DX52=0,0,(DY52-DX52)/DX52*100)","v":0},null,null,{"$f":"IF(EA52=0,0,(EB52-EA52)/EA52*100)","v":0},null,null,{"$f":"IF(ED52=0,0,(EE52-ED52)/ED52*100)","v":0},null,null,{"$f":"IF(EG52=0,0,(EH52-EG52)/EG52*100)","v":0},null,null,{"$f":"IF(EJ52=0,0,(EK52-EJ52)/EJ52*100)","v":0},null,null,{"$f":"IF(EM52=0,0,(EN52-EM52)/EM52*100)","v":0},null,null,{"$f":"IF(EP52=0,0,(EQ52-EP52)/EP52*100)","v":0},null,null,{"$f":"IF(ES52=0,0,(ET52-ES52)/ES52*100)","v":0},null,null,{"$f":"IF(EV52=0,0,(EW52-EV52)/EV52*100)","v":0},null,null,{"$f":"IF(EY52=0,0,(EZ52-EY52)/EY52*100)","v":0},null,null,{"$f":"IF(FB52=0,0,(FC52-FB52)/FB52*100)","v":0},null,null,{"$f":"IF(FE52=0,0,(FF52-FE52)/FE52*100)","v":0}]
["1","ПО.население.II","L2_1_3","для населения с 01.07 по 31.12 с НДС",null,null,{"$f":"F17=\"двухставочный\"","v":false},null,null,null,null,"объём потребления холодной воды","тыс.куб.м",{"$f":"SUMIFS(INDEX(Калькуляция!$T$15:$AM$143,,MATCH(N$3,Калькуляция!$T$3:$AM$3,0)),Калькуляция!$A$15:$A$143,$A53,Калькуляция!$B$15:$B$143,$B53)","v":1395.7560000000001},{"$f":"SUMIFS(INDEX(Калькуляция!$T$15:$AM$143,,MATCH(O$3,Калькуляция!$T$3:$AM$3,0)),Калькуляция!$A$15:$A$143,$A53,Калькуляция!$B$15:$B$143,$B53)","v":1398.4815000000001},{"$f":"IF(N53=0,0,(O53-N53)/N53*100)","v":0.1952705200622466},{"$f":"SUMIFS(INDEX(Калькуляция!$T$15:$AM$143,,MATCH(Q$3,Калькуляция!$T$3:$AM$3,0)),Калькуляция!$A$15:$A$143,$A53,Калькуляция!$B$15:$B$143,$B53)","v":0},{"$f":"SUMIFS(INDEX(Калькуляция!$T$15:$AM$143,,MATCH(R$3,Калькуляция!$T$3:$AM$3,0)),Калькуляция!$A$15:$A$143,$A53,Калькуляция!$B$15:$B$143,$B53)","v":0},{"$f":"IF(Q53=0,0,(R53-Q53)/Q53*100)","v":0},{"$f":"SUMIFS(INDEX(Калькуляция!$T$15:$AM$143,,MATCH(T$3,Калькуляция!$T$3:$AM$3,0)),Калькуляция!$A$15:$A$143,$A53,Калькуляция!$B$15:$B$143,$B53)","v":0},{"$f":"SUMIFS(INDEX(Калькуляция!$T$15:$AM$143,,MATCH(U$3,Калькуляция!$T$3:$AM$3,0)),Калькуляция!$A$15:$A$143,$A53,Калькуляция!$B$15:$B$143,$B53)","v":0},{"$f":"IF(T53=0,0,(U53-T53)/T53*100)","v":0},{"$f":"SUMIFS(INDEX(Калькуляция!$T$15:$AM$143,,MATCH(W$3,Калькуляция!$T$3:$AM$3,0)),Калькуляция!$A$15:$A$143,$A53,Калькуляция!$B$15:$B$143,$B53)","v":0},{"$f":"SUMIFS(INDEX(Калькуляция!$T$15:$AM$143,,MATCH(X$3,Калькуляция!$T$3:$AM$3,0)),Калькуляция!$A$15:$A$143,$A53,Калькуляция!$B$15:$B$143,$B53)","v":0},{"$f":"IF(W53=0,0,(X53-W53)/W53*100)","v":0},{"$f":"SUMIFS(INDEX(Калькуляция!$T$15:$AM$143,,MATCH(Z$3,Калькуляция!$T$3:$AM$3,0)),Калькуляция!$A$15:$A$143,$A53,Калькуляция!$B$15:$B$143,$B53)","v":0},{"$f":"SUMIFS(INDEX(Калькуляция!$T$15:$AM$143,,MATCH(AA$3,Калькуляция!$T$3:$AM$3,0)),Калькуляция!$A$15:$A$143,$A53,Калькуляция!$B$15:$B$143,$B53)","v":0},{"$f":"IF(Z53=0,0,(AA53-Z53)/Z53*100)","v":0},{"$f":"SUMIFS(INDEX(Калькуляция!$T$15:$AM$143,,MATCH(AC$3,Калькуляция!$T$3:$AM$3,0)),Калькуляция!$A$15:$A$143,$A53,Калькуляция!$B$15:$B$143,$B53)","v":0},{"$f":"SUMIFS(INDEX(Калькуляция!$T$15:$AM$143,,MATCH(AD$3,Калькуляция!$T$3:$AM$3,0)),Калькуляция!$A$15:$A$143,$A53,Калькуляция!$B$15:$B$143,$B53)","v":0},{"$f":"IF(AC53=0,0,(AD53-AC53)/AC53*100)","v":0},{"$f":"SUMIFS(INDEX(Калькуляция!$T$15:$AM$143,,MATCH(AF$3,Калькуляция!$T$3:$AM$3,0)),Калькуляция!$A$15:$A$143,$A53,Калькуляция!$B$15:$B$143,$B53)","v":0},{"$f":"SUMIFS(INDEX(Калькуляция!$T$15:$AM$143,,MATCH(AG$3,Калькуляция!$T$3:$AM$3,0)),Калькуляция!$A$15:$A$143,$A53,Калькуляция!$B$15:$B$143,$B53)","v":0},{"$f":"IF(AF53=0,0,(AG53-AF53)/AF53*100)","v":0},{"$f":"SUMIFS(INDEX(Калькуляция!$T$15:$AM$143,,MATCH(AI$3,Калькуляция!$T$3:$AM$3,0)),Калькуляция!$A$15:$A$143,$A53,Калькуляция!$B$15:$B$143,$B53)","v":0},{"$f":"SUMIFS(INDEX(Калькуляция!$T$15:$AM$143,,MATCH(AJ$3,Калькуляция!$T$3:$AM$3,0)),Калькуляция!$A$15:$A$143,$A53,Калькуляция!$B$15:$B$143,$B53)","v":0},{"$f":"IF(AI53=0,0,(AJ53-AI53)/AI53*100)","v":0},{"$f":"SUMIFS(INDEX(Калькуляция!$T$15:$AM$143,,MATCH(AL$3,Калькуляция!$T$3:$AM$3,0)),Калькуляция!$A$15:$A$143,$A53,Калькуляция!$B$15:$B$143,$B53)","v":0},{"$f":"SUMIFS(INDEX(Калькуляция!$T$15:$AM$143,,MATCH(AM$3,Калькуляция!$T$3:$AM$3,0)),Калькуляция!$A$15:$A$143,$A53,Калькуляция!$B$15:$B$143,$B53)","v":0},{"$f":"IF(AL53=0,0,(AM53-AL53)/AL53*100)","v":0},{"$f":"SUMIFS(INDEX(Калькуляция!$T$15:$AM$143,,MATCH(AO$3,Калькуляция!$T$3:$AM$3,0)),Калькуляция!$A$15:$A$143,$A53,Калькуляция!$B$15:$B$143,$B53)","v":0},{"$f":"SUMIFS(INDEX(Калькуляция!$T$15:$AM$143,,MATCH(AP$3,Калькуляция!$T$3:$AM$3,0)),Калькуляция!$A$15:$A$143,$A53,Калькуляция!$B$15:$B$143,$B53)","v":0},{"$f":"IF(AO53=0,0,(AP53-AO53)/AO53*100)","v":0},null,null,{"$f":"IF(AR53=0,0,(AS53-AR53)/AR53*100)","v":0},null,null,{"$f":"IF(AU53=0,0,(AV53-AU53)/AU53*100)","v":0},null,null,{"$f":"IF(AX53=0,0,(AY53-AX53)/AX53*100)","v":0},null,null,{"$f":"IF(BA53=0,0,(BB53-BA53)/BA53*100)","v":0},null,null,{"$f":"IF(BD53=0,0,(BE53-BD53)/BD53*100)","v":0},null,null,{"$f":"IF(BG53=0,0,(BH53-BG53)/BG53*100)","v":0},null,null,{"$f":"IF(BJ53=0,0,(BK53-BJ53)/BJ53*100)","v":0},null,null,{"$f":"IF(BM53=0,0,(BN53-BM53)/BM53*100)","v":0},null,null,{"$f":"IF(BP53=0,0,(BQ53-BP53)/BP53*100)","v":0},null,null,{"$f":"IF(BS53=0,0,(BT53-BS53)/BS53*100)","v":0},null,null,{"$f":"IF(BV53=0,0,(BW53-BV53)/BV53*100)","v":0},null,null,{"$f":"IF(BY53=0,0,(BZ53-BY53)/BY53*100)","v":0},null,null,{"$f":"IF(CB53=0,0,(CC53-CB53)/CB53*100)","v":0},null,null,{"$f":"IF(CE53=0,0,(CF53-CE53)/CE53*100)","v":0},null,null,{"$f":"IF(CH53=0,0,(CI53-CH53)/CH53*100)","v":0},null,null,{"$f":"IF(CK53=0,0,(CL53-CK53)/CK53*100)","v":0},null,null,{"$f":"IF(CN53=0,0,(CO53-CN53)/CN53*100)","v":0},null,null,{"$f":"IF(CQ53=0,0,(CR53-CQ53)/CQ53*100)","v":0},null,null,{"$f":"IF(CT53=0,0,(CU53-CT53)/CT53*100)","v":0},null,null,{"$f":"IF(CW53=0,0,(CX53-CW53)/CW53*100)","v":0},null,null,{"$f":"IF(CZ53=0,0,(DA53-CZ53)/CZ53*100)","v":0},null,null,{"$f":"IF(DC53=0,0,(DD53-DC53)/DC53*100)","v":0},null,null,{"$f":"IF(DF53=0,0,(DG53-DF53)/DF53*100)","v":0},null,null,{"$f":"IF(DI53=0,0,(DJ53-DI53)/DI53*100)","v":0},null,null,{"$f":"IF(DL53=0,0,(DM53-DL53)/DL53*100)","v":0},null,null,{"$f":"IF(DO53=0,0,(DP53-DO53)/DO53*100)","v":0},null,null,{"$f":"IF(DR53=0,0,(DS53-DR53)/DR53*100)","v":0},null,null,{"$f":"IF(DU53=0,0,(DV53-DU53)/DU53*100)","v":0},null,null,{"$f":"IF(DX53=0,0,(DY53-DX53)/DX53*100)","v":0},null,null,{"$f":"IF(EA53=0,0,(EB53-EA53)/EA53*100)","v":0},null,null,{"$f":"IF(ED53=0,0,(EE53-ED53)/ED53*100)","v":0},null,null,{"$f":"IF(EG53=0,0,(EH53-EG53)/EG53*100)","v":0},null,null,{"$f":"IF(EJ53=0,0,(EK53-EJ53)/EJ53*100)","v":0},null,null,{"$f":"IF(EM53=0,0,(EN53-EM53)/EM53*100)","v":0},null,null,{"$f":"IF(EP53=0,0,(EQ53-EP53)/EP53*100)","v":0},null,null,{"$f":"IF(ES53=0,0,(ET53-ES53)/ES53*100)","v":0},null,null,{"$f":"IF(EV53=0,0,(EW53-EV53)/EV53*100)","v":0},null,null,{"$f":"IF(EY53=0,0,(EZ53-EY53)/EY53*100)","v":0},null,null,{"$f":"IF(FB53=0,0,(FC53-FB53)/FB53*100)","v":0},null,null,{"$f":"IF(FE53=0,0,(FF53-FE53)/FE53*100)","v":0}]
["1",null,"L2_1_4","для населения с 01.07 по 31.12 с НДС",null,null,{"$f":"F17=\"двухставочный\"","v":false},null,null,null,null,"ставка платы за содержание системы холодного водоснабжения","тыс.руб./куб.м*час/в месяц",null,null,{"$f":"IF(N54=0,0,(O54-N54)/N54*100)","v":0},null,null,{"$f":"IF(Q54=0,0,(R54-Q54)/Q54*100)","v":0},null,null,{"$f":"IF(T54=0,0,(U54-T54)/T54*100)","v":0},null,null,{"$f":"IF(W54=0,0,(X54-W54)/W54*100)","v":0},null,null,{"$f":"IF(Z54=0,0,(AA54-Z54)/Z54*100)","v":0},null,null,{"$f":"IF(AC54=0,0,(AD54-AC54)/AC54*100)","v":0},null,null,{"$f":"IF(AF54=0,0,(AG54-AF54)/AF54*100)","v":0},null,null,{"$f":"IF(AI54=0,0,(AJ54-AI54)/AI54*100)","v":0},null,null,{"$f":"IF(AL54=0,0,(AM54-AL54)/AL54*100)","v":0},null,null,{"$f":"IF(AO54=0,0,(AP54-AO54)/AO54*100)","v":0},null,null,{"$f":"IF(AR54=0,0,(AS54-AR54)/AR54*100)","v":0},null,null,{"$f":"IF(AU54=0,0,(AV54-AU54)/AU54*100)","v":0},null,null,{"$f":"IF(AX54=0,0,(AY54-AX54)/AX54*100)","v":0},null,null,{"$f":"IF(BA54=0,0,(BB54-BA54)/BA54*100)","v":0},null,null,{"$f":"IF(BD54=0,0,(BE54-BD54)/BD54*100)","v":0},null,null,{"$f":"IF(BG54=0,0,(BH54-BG54)/BG54*100)","v":0},null,null,{"$f":"IF(BJ54=0,0,(BK54-BJ54)/BJ54*100)","v":0},null,null,{"$f":"IF(BM54=0,0,(BN54-BM54)/BM54*100)","v":0},null,null,{"$f":"IF(BP54=0,0,(BQ54-BP54)/BP54*100)","v":0},null,null,{"$f":"IF(BS54=0,0,(BT54-BS54)/BS54*100)","v":0},null,null,{"$f":"IF(BV54=0,0,(BW54-BV54)/BV54*100)","v":0},null,null,{"$f":"IF(BY54=0,0,(BZ54-BY54)/BY54*100)","v":0},null,null,{"$f":"IF(CB54=0,0,(CC54-CB54)/CB54*100)","v":0},null,null,{"$f":"IF(CE54=0,0,(CF54-CE54)/CE54*100)","v":0},null,null,{"$f":"IF(CH54=0,0,(CI54-CH54)/CH54*100)","v":0},null,null,{"$f":"IF(CK54=0,0,(CL54-CK54)/CK54*100)","v":0},null,null,{"$f":"IF(CN54=0,0,(CO54-CN54)/CN54*100)","v":0},null,null,{"$f":"IF(CQ54=0,0,(CR54-CQ54)/CQ54*100)","v":0},null,null,{"$f":"IF(CT54=0,0,(CU54-CT54)/CT54*100)","v":0},null,null,{"$f":"IF(CW54=0,0,(CX54-CW54)/CW54*100)","v":0},null,null,{"$f":"IF(CZ54=0,0,(DA54-CZ54)/CZ54*100)","v":0},null,null,{"$f":"IF(DC54=0,0,(DD54-DC54)/DC54*100)","v":0},null,null,{"$f":"IF(DF54=0,0,(DG54-DF54)/DF54*100)","v":0},null,null,{"$f":"IF(DI54=0,0,(DJ54-DI54)/DI54*100)","v":0},null,null,{"$f":"IF(DL54=0,0,(DM54-DL54)/DL54*100)","v":0},null,null,{"$f":"IF(DO54=0,0,(DP54-DO54)/DO54*100)","v":0},null,null,{"$f":"IF(DR54=0,0,(DS54-DR54)/DR54*100)","v":0},null,null,{"$f":"IF(DU54=0,0,(DV54-DU54)/DU54*100)","v":0},null,null,{"$f":"IF(DX54=0,0,(DY54-DX54)/DX54*100)","v":0},null,null,{"$f":"IF(EA54=0,0,(EB54-EA54)/EA54*100)","v":0},null,null,{"$f":"IF(ED54=0,0,(EE54-ED54)/ED54*100)","v":0},null,null,{"$f":"IF(EG54=0,0,(EH54-EG54)/EG54*100)","v":0},null,null,{"$f":"IF(EJ54=0,0,(EK54-EJ54)/EJ54*100)","v":0},null,null,{"$f":"IF(EM54=0,0,(EN54-EM54)/EM54*100)","v":0},null,null,{"$f":"IF(EP54=0,0,(EQ54-EP54)/EP54*100)","v":0},null,null,{"$f":"IF(ES54=0,0,(ET54-ES54)/ES54*100)","v":0},null,null,{"$f":"IF(EV54=0,0,(EW54-EV54)/EV54*100)","v":0},null,null,{"$f":"IF(EY54=0,0,(EZ54-EY54)/EY54*100)","v":0},null,null,{"$f":"IF(FB54=0,0,(FC54-FB54)/FB54*100)","v":0},null,null,{"$f":"IF(FE54=0,0,(FF54-FE54)/FE54*100)","v":0}]
["1",null,"L2_1_5","для населения с 01.07 по 31.12 с НДС",null,null,{"$f":"F17=\"двухставочный\"","v":false},null,null,null,null,"величина присоединённой мощности","куб.м*час",null,null,{"$f":"IF(N55=0,0,(O55-N55)/N55*100)","v":0},null,null,{"$f":"IF(Q55=0,0,(R55-Q55)/Q55*100)","v":0},null,null,{"$f":"IF(T55=0,0,(U55-T55)/T55*100)","v":0},null,null,{"$f":"IF(W55=0,0,(X55-W55)/W55*100)","v":0},null,null,{"$f":"IF(Z55=0,0,(AA55-Z55)/Z55*100)","v":0},null,null,{"$f":"IF(AC55=0,0,(AD55-AC55)/AC55*100)","v":0},null,null,{"$f":"IF(AF55=0,0,(AG55-AF55)/AF55*100)","v":0},null,null,{"$f":"IF(AI55=0,0,(AJ55-AI55)/AI55*100)","v":0},null,null,{"$f":"IF(AL55=0,0,(AM55-AL55)/AL55*100)","v":0},null,null,{"$f":"IF(AO55=0,0,(AP55-AO55)/AO55*100)","v":0},null,null,{"$f":"IF(AR55=0,0,(AS55-AR55)/AR55*100)","v":0},null,null,{"$f":"IF(AU55=0,0,(AV55-AU55)/AU55*100)","v":0},null,null,{"$f":"IF(AX55=0,0,(AY55-AX55)/AX55*100)","v":0},null,null,{"$f":"IF(BA55=0,0,(BB55-BA55)/BA55*100)","v":0},null,null,{"$f":"IF(BD55=0,0,(BE55-BD55)/BD55*100)","v":0},null,null,{"$f":"IF(BG55=0,0,(BH55-BG55)/BG55*100)","v":0},null,null,{"$f":"IF(BJ55=0,0,(BK55-BJ55)/BJ55*100)","v":0},null,null,{"$f":"IF(BM55=0,0,(BN55-BM55)/BM55*100)","v":0},null,null,{"$f":"IF(BP55=0,0,(BQ55-BP55)/BP55*100)","v":0},null,null,{"$f":"IF(BS55=0,0,(BT55-BS55)/BS55*100)","v":0},null,null,{"$f":"IF(BV55=0,0,(BW55-BV55)/BV55*100)","v":0},null,null,{"$f":"IF(BY55=0,0,(BZ55-BY55)/BY55*100)","v":0},null,null,{"$f":"IF(CB55=0,0,(CC55-CB55)/CB55*100)","v":0},null,null,{"$f":"IF(CE55=0,0,(CF55-CE55)/CE55*100)","v":0},null,null,{"$f":"IF(CH55=0,0,(CI55-CH55)/CH55*100)","v":0},null,null,{"$f":"IF(CK55=0,0,(CL55-CK55)/CK55*100)","v":0},null,null,{"$f":"IF(CN55=0,0,(CO55-CN55)/CN55*100)","v":0},null,null,{"$f":"IF(CQ55=0,0,(CR55-CQ55)/CQ55*100)","v":0},null,null,{"$f":"IF(CT55=0,0,(CU55-CT55)/CT55*100)","v":0},null,null,{"$f":"IF(CW55=0,0,(CX55-CW55)/CW55*100)","v":0},null,null,{"$f":"IF(CZ55=0,0,(DA55-CZ55)/CZ55*100)","v":0},null,null,{"$f":"IF(DC55=0,0,(DD55-DC55)/DC55*100)","v":0},null,null,{"$f":"IF(DF55=0,0,(DG55-DF55)/DF55*100)","v":0},null,null,{"$f":"IF(DI55=0,0,(DJ55-DI55)/DI55*100)","v":0},null,null,{"$f":"IF(DL55=0,0,(DM55-DL55)/DL55*100)","v":0},null,null,{"$f":"IF(DO55=0,0,(DP55-DO55)/DO55*100)","v":0},null,null,{"$f":"IF(DR55=0,0,(DS55-DR55)/DR55*100)","v":0},null,null,{"$f":"IF(DU55=0,0,(DV55-DU55)/DU55*100)","v":0},null,null,{"$f":"IF(DX55=0,0,(DY55-DX55)/DX55*100)","v":0},null,null,{"$f":"IF(EA55=0,0,(EB55-EA55)/EA55*100)","v":0},null,null,{"$f":"IF(ED55=0,0,(EE55-ED55)/ED55*100)","v":0},null,null,{"$f":"IF(EG55=0,0,(EH55-EG55)/EG55*100)","v":0},null,null,{"$f":"IF(EJ55=0,0,(EK55-EJ55)/EJ55*100)","v":0},null,null,{"$f":"IF(EM55=0,0,(EN55-EM55)/EM55*100)","v":0},null,null,{"$f":"IF(EP55=0,0,(EQ55-EP55)/EP55*100)","v":0},null,null,{"$f":"IF(ES55=0,0,(ET55-ES55)/ES55*100)","v":0},null,null,{"$f":"IF(EV55=0,0,(EW55-EV55)/EV55*100)","v":0},null,null,{"$f":"IF(EY55=0,0,(EZ55-EY55)/EY55*100)","v":0},null,null,{"$f":"IF(FB55=0,0,(FC55-FB55)/FB55*100)","v":0},null,null,{"$f":"IF(FE55=0,0,(FF55-FE55)/FE55*100)","v":0}]
["1",null,{"$f":"A56&\"pIns2\"","v":"1pIns2"},null,null,null,{"$f":"F17=\"двухставочный\"","v":false},null,null,"д",null,"Добавить"]
[null,null,null,null,null,null,{"$f":"OR(hasVS,hasVO)","v":true}]
[null,null,null,null,null,null,{"$f":"OR(hasTranspVS,hasTranspVO)","v":false},null,null,null,null,"16.2. Тарифное меню (транспортировка воды / сточных вод)"]
[null,null,null,null,null,null,{"$f":"OR(hasTranspVS,hasTranspVO)","v":false},null,null,null,null,"Наименование показателя","Единица измерения",{"$f":"N1 & \" год\"","v":"2025 год"},null,null,{"$f":"Q1 & \" год\"","v":"2026 год"},null,null,{"$f":"T1 & \" год\"","v":"2027 год"},null,null,{"$f":"W1 & \" год\"","v":"2028 год"},null,null,{"$f":"Z1 & \" год\"","v":"2029 год"},null,null,{"$f":"AC1 & \" год\"","v":"2030 год"},null,null,{"$f":"AF1 & \" год\"","v":"2031 год"},null,null,{"$f":"AI1 & \" год\"","v":"2032 год"},null,null,{"$f":"AL1 & \" год\"","v":"2033 год"},null,null,{"$f":"AO1 & \" год\"","v":"2034 год"},null,null,{"$f":"AR1 & \" год\"","v":"2035 год"},null,null,{"$f":"AU1 & \" год\"","v":"2036 год"},null,null,{"$f":"AX1 & \" год\"","v":"2037 год"},null,null,{"$f":"BA1 & \" год\"","v":"2038 год"},null,null,{"$f":"BD1 & \" год\"","v":"2039 год"},null,null,{"$f":"BG1 & \" год\"","v":"2040 год"},null,null,{"$f":"BJ1 & \" год\"","v":"2041 год"},null,null,{"$f":"BM1 & \" год\"","v":"2042 год"},null,null,{"$f":"BP1 & \" год\"","v":"2043 год"},null,null,{"$f":"BS1 & \" год\"","v":"2044 год"},null,null,{"$f":"BV1 & \" год\"","v":"2045 год"},null,null,{"$f":"BY1 & \" год\"","v":"2046 год"},null,null,{"$f":"CB1 & \" год\"","v":"2047 год"},null,null,{"$f":"CE1 & \" год\"","v":"2048 год"},null,null,{"$f":"CH1 & \" год\"","v":"2049 год"},null,null,{"$f":"CK1 & \" год\"","v":"2050 год"},null,null,{"$f":"CN1 & \" год\"","v":"2051 год"},null,null,{"$f":"CQ1 & \" год\"","v":"2052 год"},null,null,{"$f":"CT1 & \" год\"","v":"2053 год"},null,null,{"$f":"CW1 & \" год\"","v":"2054 год"},null,null,{"$f":"CZ1 & \" год\"","v":"2055 год"},null,null,{"$f":"DC1 & \" год\"","v":"2056 год"},null,null,{"$f":"DF1 & \" год\"","v":"2057 год"},null,null,{"$f":"DI1 & \" год\"","v":"2058 год"},null,null,{"$f":"DL1 & \" год\"","v":"2059 год"},null,null,{"$f":"DO1 & \" год\"","v":"2060 год"},null,null,{"$f":"DR1 & \" год\"","v":"2061 год"},null,null,{"$f":"DU1 & \" год\"","v":"2062 год"},null,null,{"$f":"DX1 & \" год\"","v":"2063 год"},null,null,{"$f":"EA1 & \" год\"","v":"2064 год"},null,null,{"$f":"ED1 & \" год\"","v":"2065 год"},null,null,{"$f":"EG1 & \" год\"","v":"2066 год"},null,null,{"$f":"EJ1 & \" год\"","v":"2067 год"},null,null,{"$f":"EM1 & \" год\"","v":"2068 год"},null,null,{"$f":"EP1 & \" год\"","v":"2069 год"},null,null,{"$f":"ES1 & \" год\"","v":"2070 год"},null,null,{"$f":"EV1 & \" год\"","v":"2071 год"},null,null,{"$f":"EY1 & \" год\"","v":"2072 год"},null,null,{"$f":"FB1 & \" год\"","v":"2073 год"},null,null,{"$f":"FE1 & \" год\"","v":"2074 год"}]
[null,null,null,null,null,null,{"$f":"OR(hasTranspVS,hasTranspVO)","v":false},null,null,null,null,null,null,"Предложение организации","Принято органом регулирования","Отклонение, %","Предложение организации","Принято органом регулирования","Отклонение, %","Предложение организации","Принято органом регулирования","Отклонение, %","Предложение организации","Принято органом регулирования","Отклонение, %","Предложение организации","Принято органом регулирования","Отклонение, %","Предложение организации","Принято органом регулирования","Отклонение, %","Предложение организации","Принято органом регулирования","Отклонение, %","Предложение организации","Принято органом регулирования","Отклонение, %","Предложение организации","Принято органом регулирования","Отклонение, %","Предложение организации","Принято органом регулирования","Отклонение, %","Предложение организации","Принято органом регулирования","Отклонение, %","Предложение организации","Принято органом регулирования","Отклонение, %","Предложение организации","Принято органом регулирования","Отклонение, %","Предложение организации","Принято органом регулирования","Отклонение, %","Предложение организации","Принято органом регулирования","Отклонение, %","Предложение организации","Принято органом регулирования","Отклонение, %","Предложение организации","Принято органом регулирования","Отклонение, %","Предложение организации","Принято органом регулирования","Отклонение, %","Предложение организации","Принято органом регулирования","Отклонение, %","Предложение организации","Принято органом регулирования","Отклонение, %","Предложение организации","Принято органом регулирования","Отклонение, %","Предложение организации","Принято органом регулирования","Отклонение, %","Предложение организации","Принято органом регулирования","Отклонение, %","Предложение организации","Принято органом регулирования","Отклонение, %","Предложение организации","Принято органом регулирования","Отклонение, %","Предложение организации","Принято органом регулирования","Отклонение, %","Предложение организации","Принято органом регулирования","Отклонение, %","Предложение организации","Принято органом регулирования","Отклонение, %","Предложение организации","Принято органом регулирования","Отклонение, %","Предложение организации","Принято органом регулирования","Отклонение, %","Предложение организации","Принято органом регулирования","Отклонение, %","Предложение организации","Принято органом регулирования","Отклонение, %","Предложение организации","Принято органом регулирования","Отклонение, %","Предложение организации","Принято органом регулирования","Отклонение, %","Предложение организации","Принято органом регулирования","Отклонение, %","Предложение организации","Принято органом регулирования","Отклонение, %","Предложение организации","Принято органом регулирования","Отклонение, %","Предложение организации","Принято органом регулирования","Отклонение, %","Предложение организации","Принято органом регулирования","Отклонение, %","Предложение организации","Принято органом регулирования","Отклонение, %","Предложение организации","Принято органом регулирования","Отклонение, %","Предложение организации","Принято органом регулирования","Отклонение, %","Предложение организации","Принято органом регулирования","Отклонение, %","Предложение организации","Принято органом регулирования","Отклонение, %","Предложение организации","Принято органом регулирования","Отклонение, %","Предложение организации","Принято органом регулирования","Отклонение, %","Предложение организации","Принято органом регулирования","Отклонение, %","Предложение организации","Принято органом регулирования","Отклонение, %","Предложение организации","Принято органом регулирования","Отклонение, %","Предложение организации","Принято органом регулирования","Отклонение, %"]
[null,null,null,null,null,null,{"$f":"OR(hasTranspVS,hasTranspVO)","v":false}]
[null,null,null,null,null,null,null,null,null,null,null,"Комментарии и обоснования к разделу"]
[]
[null,null,null,null,null,null,null,null,null,null,null,"Добавить комментарий"]

{"sheet":"ДПР","index":31,"n_rows":73,"n_cols":21,"rows_kept":73,"cut":false,"hidden":false,"merged":[[13,11,13,14],[72,11,72,12],[70,11,70,20],[71,11,71,20],[15,11,17,11],[15,12,16,12],[15,13,16,13],[15,14,16,14],[15,15,15,20]]}
[null,null,null,null,null,null,null,null,null,null,null,null,"L1","L2","L3","L4_1","L4_2","L4_2_1","L4_2_2","L4_2_3","L4_2_4"]
[]
[]
[]
[]
[]
[null,null,null,null,null,null,null,null,null,null,null,null,null,null,null,null,{"$f":"$P$14=\"нет\"","v":true},{"$f":"$P$14=\"да\"","v":false},{"$f":"$P$14=\"да\"","v":false},{"$f":"$P$14=\"да\"","v":false},{"$f":"$P$14=\"да\"","v":false}]
[]
[]
[]
[null,null,null,null,null,null,null,null,null,null,null,{"$f":"tpl_title","v":"Кемеровская область / 2025 / ООО\"БелГОС\" (ИНН:4202023230, КПП:420201001) / ДПР: 2019-2028"}]
[null,null,null,null,null,null,null,null,null,null,null,"20. Долгосрочные параметры регулирования тарифов"]
[]
[null,null,null,null,null,null,null,null,null,null,null,"Удельный расход ЭЭ делится по технологическим процессам",null,null,null,{"$f":"\"нет\"","v":"нет"}]
[]
[null,null,null,null,null,null,null,null,null,null,null,"Год","Базовый уровень операционных расходов","Индекс эффективности операционных расходов","Нормативный уровень прибыли","Показатели энергетической эффективности"]
[null,null,null,null,null,null,null,null,null,null,null,null,null,null,null,"Уровень потерь воды","Удельный расход электрической энергии","удельный расход ЭЭ, потребляемой в процессе подготовки воды","удельный расход ЭЭ, потребляемой в процессе транспортировки воды","удельный расход ЭЭ, потребляемой в процессе очистки сточных вод","удельный расход ЭЭ, потребляемой в процессе транспортировки сточных вод"]
[null,null,null,null,null,null,null,null,null,null,null,null,"тыс.руб.","%","%","%","кВтч/куб.м","кВтч/куб.м","кВтч/куб.м","кВтч/куб.м","кВтч/куб.м"]
[{"$f":"'Общие сведения'!$D$122","v":"1"},null,null,null,null,null,null,null,null,null,null,{"$f":"INDEX('Общие сведения'!$J$121:$J$135,MATCH($A19,'Общие сведения'!$D$121:$D$135,0))","v":"Тариф 1 (Водоотведение) - тариф на водоотведение"}]
[{"$f":"A19","v":"1"},null,null,null,null,{"$f":"first_year","v":2019},{"$f":"F20<first_year+PERIOD_LENGTH","v":true},null,null,null,null,{"$f":"F20& \" год\"","v":"2019 год"},0,0,null,null,0,null,null,{"$f":"IFERROR(SUMIFS(INDEX(ЭЭ!$O$15:$AL$42,,MATCH($F20&\"Принято органом регулирования\",ЭЭ!$O$3:$AL$3,0)),ЭЭ!$A$15:$A$42,$A20,ЭЭ!$M$15:$M$42,\"Удельный расход электроэнергии\"),0)","v":0},{"$f":"IFERROR(SUMIFS(INDEX(ЭЭ!$O$15:$AL$42,,MATCH($F20&\"Принято органом регулирования\",ЭЭ!$O$3:$AL$3,0)),ЭЭ!$A$15:$A$42,$A20,ЭЭ!$M$15:$M$42,\"Удельный расход электроэнергии\"),0)","v":0}]
["1",null,null,null,null,{"$f":"first_year+1","v":2020},true,null,null,null,null,"2020 год",0,0,null,null,0,null,null,{"$f":"IFERROR(SUMIFS(INDEX(ЭЭ!$O$15:$AL$42,,MATCH($F21&\"Принято органом регулирования\",ЭЭ!$O$3:$AL$3,0)),ЭЭ!$A$15:$A$42,$A21,ЭЭ!$M$15:$M$42,\"Удельный расход электроэнергии\"),0)","v":0},{"$f":"IFERROR(SUMIFS(INDEX(ЭЭ!$O$15:$AL$42,,MATCH($F21&\"Принято органом регулирования\",ЭЭ!$O$3:$AL$3,0)),ЭЭ!$A$15:$A$42,$A21,ЭЭ!$M$15:$M$42,\"Удельный расход электроэнергии\"),0)","v":0}]
["1",null,null,null,null,{"$f":"first_year+2","v":2021},true,null,null,null,null,"2021 год",0,0,null,null,0,null,null,{"$f":"IFERROR(SUMIFS(INDEX(ЭЭ!$O$15:$AL$42,,MATCH($F22&\"Принято органом регулирования\",ЭЭ!$O$3:$AL$3,0)),ЭЭ!$A$15:$A$42,$A22,ЭЭ!$M$15:$M$42,\"Удельный расход электроэнергии\"),0)","v":0},{"$f":"IFERROR(SUMIFS(INDEX(ЭЭ!$O$15:$AL$42,,MATCH($F22&\"Принято органом регулирования\",ЭЭ!$O$3:$AL$3,0)),ЭЭ!$A$15:$A$42,$A22,ЭЭ!$M$15:$M$42,\"Удельный расход электроэнергии\"),0)","v":0}]
["1",null,null,null,null,{"$f":"first_year+3","v":2022},true,null,null,null,null,"2022 год",100850.523472485,1,null,null,1.2499986322000001,null,null,{"$f":"IFERROR(SUMIFS(INDEX(ЭЭ!$O$15:$AL$42,,MATCH($F23&\"Принято органом регулирования\",ЭЭ!$O$3:$AL$3,0)),ЭЭ!$A$15:$A$42,$A23,ЭЭ!$M$15:$M$42,\"Удельный расход электроэнергии\"),0)","v":0},{"$f":"IFERROR(SUMIFS(INDEX(ЭЭ!$O$15:$AL$42,,MATCH($F23&\"Принято органом регулирования\",ЭЭ!$O$3:$AL$3,0)),ЭЭ!$A$15:$A$42,$A23,ЭЭ!$M$15:$M$42,\"Удельный расход электроэнергии\"),0)","v":0}]
["1",null,null,null,null,{"$f":"first_year+4","v":2023},true,null,null,null,null,"2023 год",116336.826778181,1,null,null,1.25,null,null,{"$f":"IFERROR(SUMIFS(INDEX(ЭЭ!$O$15:$AL$42,,MATCH($F24&\"Принято органом регулирования\",ЭЭ!$O$3:$AL$3,0)),ЭЭ!$A$15:$A$42,$A24,ЭЭ!$M$15:$M$42,\"Удельный расход электроэнергии\"),0)","v":1.2500000000000069},{"$f":"IFERROR(SUMIFS(INDEX(ЭЭ!$O$15:$AL$42,,MATCH($F24&\"Принято органом регулирования\",ЭЭ!$O$3:$AL$3,0)),ЭЭ!$A$15:$A$42,$A24,ЭЭ!$M$15:$M$42,\"Удельный расход электроэнергии\"),0)","v":1.2500000000000069}]
["1",null,null,null,null,{"$f":"first_year+5","v":2024},true,null,null,null,null,"2024 год",123124.798881558,1,null,null,1.25,null,null,{"$f":"IFERROR(SUMIFS(INDEX(ЭЭ!$O$15:$AL$42,,MATCH($F25&\"Принято органом регулирования\",ЭЭ!$O$3:$AL$3,0)),ЭЭ!$A$15:$A$42,$A25,ЭЭ!$M$15:$M$42,\"Удельный расход электроэнергии\"),0)","v":1.25},{"$f":"IFERROR(SUMIFS(INDEX(ЭЭ!$O$15:$AL$42,,MATCH($F25&\"Принято органом регулирования\",ЭЭ!$O$3:$AL$3,0)),ЭЭ!$A$15:$A$42,$A25,ЭЭ!$M$15:$M$42,\"Удельный расход электроэнергии\"),0)","v":1.25}]
["1",null,null,null,null,{"$f":"first_year+6","v":2025},true,null,null,null,null,"2025 год",127013.08003023799,1,null,null,1.25,null,null,{"$f":"IFERROR(SUMIFS(INDEX(ЭЭ!$O$15:$AL$42,,MATCH($F26&\"Принято органом регулирования\",ЭЭ!$O$3:$AL$3,0)),ЭЭ!$A$15:$A$42,$A26,ЭЭ!$M$15:$M$42,\"Удельный расход электроэнергии\"),0)","v":1.2500000638046289},{"$f":"IFERROR(SUMIFS(INDEX(ЭЭ!$O$15:$AL$42,,MATCH($F26&\"Принято органом регулирования\",ЭЭ!$O$3:$AL$3,0)),ЭЭ!$A$15:$A$42,$A26,ЭЭ!$M$15:$M$42,\"Удельный расход электроэнергии\"),0)","v":1.2500000638046289}]
["1",null,null,null,null,{"$f":"first_year+7","v":2026},true,null,null,null,null,"2026 год",130772.66719913299,1,null,null,1.25,null,null,{"$f":"IFERROR(SUMIFS(INDEX(ЭЭ!$O$15:$AL$42,,MATCH($F27&\"Принято органом регулирования\",ЭЭ!$O$3:$AL$3,0)),ЭЭ!$A$15:$A$42,$A27,ЭЭ!$M$15:$M$42,\"Удельный расход электроэнергии\"),0)","v":0},{"$f":"IFERROR(SUMIFS(INDEX(ЭЭ!$O$15:$AL$42,,MATCH($F27&\"Принято органом регулирования\",ЭЭ!$O$3:$AL$3,0)),ЭЭ!$A$15:$A$42,$A27,ЭЭ!$M$15:$M$42,\"Удельный расход электроэнергии\"),0)","v":0}]
["1",null,null,null,null,{"$f":"first_year+8","v":2027},true,null,null,null,null,"2027 год",134643.538148227,1,null,null,1.25,null,null,{"$f":"IFERROR(SUMIFS(INDEX(ЭЭ!$O$15:$AL$42,,MATCH($F28&\"Принято органом регулирования\",ЭЭ!$O$3:$AL$3,0)),ЭЭ!$A$15:$A$42,$A28,ЭЭ!$M$15:$M$42,\"Удельный расход электроэнергии\"),0)","v":0},{"$f":"IFERROR(SUMIFS(INDEX(ЭЭ!$O$15:$AL$42,,MATCH($F28&\"Принято органом регулирования\",ЭЭ!$O$3:$AL$3,0)),ЭЭ!$A$15:$A$42,$A28,ЭЭ!$M$15:$M$42,\"Удельный расход электроэнергии\"),0)","v":0}]
["1",null,null,null,null,{"$f":"first_year+9","v":2028},true,null,null,null,null,"2028 год",138628.98687741501,1,null,null,1.25,null,null,{"$f":"IFERROR(SUMIFS(INDEX(ЭЭ!$O$15:$AL$42,,MATCH($F29&\"Принято органом регулирования\",ЭЭ!$O$3:$AL$3,0)),ЭЭ!$A$15:$A$42,$A29,ЭЭ!$M$15:$M$42,\"Удельный расход электроэнергии\"),0)","v":0},{"$f":"IFERROR(SUMIFS(INDEX(ЭЭ!$O$15:$AL$42,,MATCH($F29&\"Принято органом регулирования\",ЭЭ!$O$3:$AL$3,0)),ЭЭ!$A$15:$A$42,$A29,ЭЭ!$M$15:$M$42,\"Удельный расход электроэнергии\"),0)","v":0}]
["1",null,null,null,null,{"$f":"first_year+10","v":2029},false,null,null,null,null,"2029 год"]
["1",null,null,null,null,{"$f":"first_year+11","v":2030},false,null,null,null,null,"2030 год"]
["1",null,null,null,null,{"$f":"first_year+12","v":2031},false,null,null,null,null,"2031 год"]
["1",null,null,null,null,{"$f":"first_year+13","v":2032},false,null,null,null,null,"2032 год"]
["1",null,null,null,null,{"$f":"first_year+14","v":2033},false,null,null,null,null,"2033 год"]
["1",null,null,null,null,{"$f":"first_year+15","v":2034},false,null,null,null,null,"2034 год"]
["1",null,null,null,null,{"$f":"first_year+16","v":2035},false,null,null,null,null,"2035 год"]
["1",null,null,null,null,{"$f":"first_year+17","v":2036},false,null,null,null,null,"2036 год"]
["1",null,null,null,null,{"$f":"first_year+18","v":2037},false,null,null,null,null,"2037 год"]
["1",null,null,null,null,{"$f":"first_year+19","v":2038},false,null,null,null,null,"2038 год"]
["1",null,null,null,null,{"$f":"first_year+20","v":2039},false,null,null,null,null,"2039 год"]
["1",null,null,null,null,{"$f":"first_year+21","v":2040},false,null,null,null,null,"2040 год"]
["1",null,null,null,null,{"$f":"first_year+22","v":2041},false,null,null,null,null,"2041 год"]
["1",null,null,null,null,{"$f":"first_year+23","v":2042},false,null,null,null,null,"2042 год"]
["1",null,null,null,null,{"$f":"first_year+24","v":2043},false,null,null,null,null,"2043 год"]
["1",null,null,null,null,{"$f":"first_year+25","v":2044},false,null,null,null,null,"2044 год"]
["1",null,null,null,null,{"$f":"first_year+26","v":2045},false,null,null,null,null,"2045 год"]
["1",null,null,null,null,{"$f":"first_year+27","v":2046},false,null,null,null,null,"2046 год"]
["1",null,null,null,null,{"$f":"first_year+28","v":2047},false,null,null,null,null,"2047 год"]
["1",null,null,null,null,{"$f":"first_year+29","v":2048},false,null,null,null,null,"2048 год"]
["1",null,null,null,null,{"$f":"first_year+30","v":2049},false,null,null,null,null,"2049 год"]
["1",null,null,null,null,{"$f":"first_year+31","v":2050},false,null,null,null,null,"2050 год"]
["1",null,null,null,null,{"$f":"first_year+32","v":2051},false,null,null,null,null,"2051 год"]
["1",null,null,null,null,{"$f":"first_year+33","v":2052},false,null,null,null,null,"2052 год"]
["1",null,null,null,null,{"$f":"first_year+34","v":2053},false,null,null,null,null,"2053 год"]
["1",null,null,null,null,{"$f":"first_year+35","v":2054},false,null,null,null,null,"2054 год"]
["1",null,null,null,null,{"$f":"first_year+36","v":2055},false,null,null,null,null,"2055 год"]
["1",null,null,null,null,{"$f":"first_year+37","v":2056},false,null,null,null,null,"2056 год"]
["1",null,null,null,null,{"$f":"first_year+38","v":2057},false,null,null,null,null,"2057 год"]
["1",null,null,null,null,{"$f":"first_year+39","v":2058},false,null,null,null,null,"2058 год"]
["1",null,null,null,null,{"$f":"first_year+40","v":2059},false,null,null,null,null,"2059 год"]
["1",null,null,null,null,{"$f":"first_year+41","v":2060},false,null,null,null,null,"2060 год"]
["1",null,null,null,null,{"$f":"first_year+42","v":2061},false,null,null,null,null,"2061 год"]
["1",null,null,null,null,{"$f":"first_year+43","v":2062},false,null,null,null,null,"2062 год"]
["1",null,null,null,null,{"$f":"first_year+44","v":2063},false,null,null,null,null,"2063 год"]
["1",null,null,null,null,{"$f":"first_year+45","v":2064},false,null,null,null,null,"2064 год"]
["1",null,null,null,null,{"$f":"first_year+46","v":2065},false,null,null,null,null,"2065 год"]
["1",null,null,null,null,{"$f":"first_year+47","v":2066},false,null,null,null,null,"2066 год"]
["1",null,null,null,null,{"$f":"first_year+48","v":2067},false,null,null,null,null,"2067 год"]
["1",null,null,null,null,{"$f":"first_year+49","v":2068},{"$f":"F69<first_year+PERIOD_LENGTH","v":false},null,null,null,null,{"$f":"F69& \" год\"","v":"2068 год"}]
[]
[null,null,null,null,null,null,null,null,null,null,null,"Комментарии и обоснования к разделу"]
[]
[null,null,null,null,null,null,null,null,null,null,null,"Добавить комментарий"]

{"sheet":"ДПР (концессии)","index":32,"n_rows":73,"n_cols":21,"rows_kept":73,"cut":false,"hidden":false,"merged":[[17,10,67,10],[17,11,17,20],[72,11,72,12],[71,11,71,20],[70,11,70,20],[13,11,15,11],[13,12,14,12],[13,13,14,13],[13,14,14,14],[13,15,13,20]]}
[null,null,null,null,null,null,null,null,null,null,null,null,"L1","L2","L3","L4_1","L4_2","L4_2_1","L4_2_2","L4_2_3","L4_2_4"]
[]
[]
[]
[]
[]
[null,null,null,null,null,null,null,null,null,null,null,null,null,null,null,null,{"$f":"List17_ee_divide=\"нет\"","v":true},{"$f":"List17_ee_divide=\"да\"","v":false},{"$f":"List17_ee_divide=\"да\"","v":false},{"$f":"List17_ee_divide=\"да\"","v":false},{"$f":"List17_ee_divide=\"да\"","v":false}]
[]
[]
[]
[null,null,null,null,null,null,null,null,null,null,null,{"$f":"tpl_title","v":"Кемеровская область / 2025 / ООО\"БелГОС\" (ИНН:4202023230, КПП:420201001) / ДПР: 2019-2028"}]
[null,null,null,null,null,null,null,null,null,null,null,"21. Долгосрочные параметры регулирования тарифов (концессии)"]
[]
[null,null,null,null,null,null,null,null,null,null,null,"Год","Базовый уровень операционных расходов","Индекс эффективности операционных расходов","Нормативный уровень прибыли","Показатели энергетической эффективности"]
[null,null,null,null,null,null,null,null,null,null,null,null,null,null,null,"Уровень потерь воды","Удельный расход электрической энергии","удельный расход ЭЭ, потребляемой в процессе подготовки воды","удельный расход ЭЭ, потребляемой в процессе транспортировки воды","удельный расход ЭЭ, потребляемой в процессе очистки сточных вод","удельный расход ЭЭ, потребляемой в процессе транспортировки сточных вод"]
[null,null,null,null,null,null,null,null,null,null,null,null,"тыс.руб.","%","%","%","кВтч/куб.м","кВтч/куб.м","кВтч/куб.м","кВтч/куб.м","кВтч/куб.м"]
[{"$f":"'Общие сведения'!$D$122","v":"1"},null,null,null,null,null,null,null,null,null,null,{"$f":"INDEX('Общие сведения'!$J$121:$J$135,MATCH($A17,'Общие сведения'!$D$121:$D$135,0))","v":"Тариф 1 (Водоотведение) - тариф на водоотведение"}]
[{"$f":"OFFSET(B18,-1,-1)","v":"1"},{"$f":"L18","v":"Постановление региональной энергетической комиссии Кемеровской области от 19.12.2018 № 759  \"Об установлении долгосрочных параметров  регулирования тарифов в сфере водоотведения  ООО «Беловские Городские Очистные сооружения» (Беловский городской округ)\" (в редакции Постановлений Региональной энергетической комиссии от 24.11.2020 N 427, от 11.02.2021 N 60)."},null,null,null,null,null,null,null,null,"О","Постановление региональной энергетической комиссии Кемеровской области от 19.12.2018 № 759  \"Об установлении долгосрочных параметров  регулирования тарифов в сфере водоотведения  ООО «Беловские Городские Очистные сооружения» (Беловский городской округ)\" (в редакции Постановлений Региональной энергетической комиссии от 24.11.2020 N 427, от 11.02.2021 N 60)."]
[{"$f":"OFFSET(B19,-1,-1)","v":"1"},{"$f":"B18","v":"Постановление региональной энергетической комиссии Кемеровской области от 19.12.2018 № 759  \"Об установлении долгосрочных параметров  регулирования тарифов в сфере водоотведения  ООО «Беловские Городские Очистные сооружения» (Беловский городской округ)\" (в редакции Постановлений Региональной энергетической комиссии от 24.11.2020 N 427, от 11.02.2021 N 60)."},null,null,null,{"$f":"first_year","v":2019},{"$f":"F19<first_year+PERIOD_LENGTH","v":true},null,null,null,null,{"$f":"F19& \" год\"","v":"2019 год"},90920.52,null,0.25,null,1.25]
["1",{"$f":"B19","v":"Постановление региональной энергетической комиссии Кемеровской области от 19.12.2018 № 759  \"Об установлении долгосрочных параметров  регулирования тарифов в сфере водоотведения  ООО «Беловские Городские Очистные сооружения» (Беловский городской округ)\" (в редакции Постановлений Региональной энергетической комиссии от 24.11.2020 N 427, от 11.02.2021 N 60)."},null,null,null,{"$f":"first_year+1","v":2020},true,null,null,null,null,{"$f":"F20& \" год\"","v":"2020 год"},null,1,0.26,null,1.25]
["1","Постановление региональной энергетической комиссии Кемеровской области от 19.12.2018 № 759  \"Об установлении долгосрочных параметров  регулирования тарифов в сфере водоотведения  ООО «Беловские Городские Очистные сооружения» (Беловский городской округ)\" (в редакции Постановлений Региональной энергетической комиссии от 24.11.2020 N 427, от 11.02.2021 N 60).",null,null,null,{"$f":"first_year+2","v":2021},true,null,null,null,null,"2021 год",null,1,0.25,null,1.25]
["1","Постановление региональной энергетической комиссии Кемеровской области от 19.12.2018 № 759  \"Об установлении долгосрочных параметров  регулирования тарифов в сфере водоотведения  ООО «Беловские Городские Очистные сооружения» (Беловский городской округ)\" (в редакции Постановлений Региональной энергетической комиссии от 24.11.2020 N 427, от 11.02.2021 N 60).",null,null,null,{"$f":"first_year+3","v":2022},true,null,null,null,null,"2022 год",null,1,0.27,null,1.25]
["1","Постановление региональной энергетической комиссии Кемеровской области от 19.12.2018 № 759  \"Об установлении долгосрочных параметров  регулирования тарифов в сфере водоотведения  ООО «Беловские Городские Очистные сооружения» (Беловский городской округ)\" (в редакции Постановлений Региональной энергетической комиссии от 24.11.2020 N 427, от 11.02.2021 N 60).",null,null,null,{"$f":"first_year+4","v":2023},true,null,null,null,null,"2023 год",null,1,0.28000000000000003,null,1.25]
["1","Постановление региональной энергетической комиссии Кемеровской области от 19.12.2018 № 759  \"Об установлении долгосрочных параметров  регулирования тарифов в сфере водоотведения  ООО «Беловские Городские Очистные сооружения» (Беловский городской округ)\" (в редакции Постановлений Региональной энергетической комиссии от 24.11.2020 N 427, от 11.02.2021 N 60).",null,null,null,{"$f":"first_year+5","v":2024},true,null,null,null,null,"2024 год",null,1,0.28000000000000003,null,1.25]
["1","Постановление региональной энергетической комиссии Кемеровской области от 19.12.2018 № 759  \"Об установлении долгосрочных параметров  регулирования тарифов в сфере водоотведения  ООО «Беловские Городские Очистные сооружения» (Беловский городской округ)\" (в редакции Постановлений Региональной энергетической комиссии от 24.11.2020 N 427, от 11.02.2021 N 60).",null,null,null,{"$f":"first_year+6","v":2025},true,null,null,null,null,"2025 год",null,1,0.28999999999999998,null,1.25]
["1","Постановление региональной энергетической комиссии Кемеровской области от 19.12.2018 № 759  \"Об установлении долгосрочных параметров  регулирования тарифов в сфере водоотведения  ООО «Беловские Городские Очистные сооружения» (Беловский городской округ)\" (в редакции Постановлений Региональной энергетической комиссии от 24.11.2020 N 427, от 11.02.2021 N 60).",null,null,null,{"$f":"first_year+7","v":2026},true,null,null,null,null,"2026 год",null,1,0.28999999999999998,null,1.25]
["1","Постановление региональной энергетической комиссии Кемеровской области от 19.12.2018 № 759  \"Об установлении долгосрочных параметров  регулирования тарифов в сфере водоотведения  ООО «Беловские Городские Очистные сооружения» (Беловский городской округ)\" (в редакции Постановлений Региональной энергетической комиссии от 24.11.2020 N 427, от 11.02.2021 N 60).",null,null,null,{"$f":"first_year+8","v":2027},true,null,null,null,null,"2027 год",null,1,0.28999999999999998,null,1.25]
["1","Постановление региональной энергетической комиссии Кемеровской области от 19.12.2018 № 759  \"Об установлении долгосрочных параметров  регулирования тарифов в сфере водоотведения  ООО «Беловские Городские Очистные сооружения» (Беловский городской округ)\" (в редакции Постановлений Региональной энергетической комиссии от 24.11.2020 N 427, от 11.02.2021 N 60).",null,null,null,{"$f":"first_year+9","v":2028},true,null,null,null,null,"2028 год",null,1,0.3,null,1.25]
["1","Постановление региональной энергетической комиссии Кемеровской области от 19.12.2018 № 759  \"Об установлении долгосрочных параметров  регулирования тарифов в сфере водоотведения  ООО «Беловские Городские Очистные сооружения» (Беловский городской округ)\" (в редакции Постановлений Региональной энергетической комиссии от 24.11.2020 N 427, от 11.02.2021 N 60).",null,null,null,{"$f":"first_year+10","v":2029},false,null,null,null,null,"2029 год"]
["1","Постановление региональной энергетической комиссии Кемеровской области от 19.12.2018 № 759  \"Об установлении долгосрочных параметров  регулирования тарифов в сфере водоотведения  ООО «Беловские Городские Очистные сооружения» (Беловский городской округ)\" (в редакции Постановлений Региональной энергетической комиссии от 24.11.2020 N 427, от 11.02.2021 N 60).",null,null,null,{"$f":"first_year+11","v":2030},false,null,null,null,null,"2030 год"]
["1","Постановление региональной энергетической комиссии Кемеровской области от 19.12.2018 № 759  \"Об установлении долгосрочных параметров  регулирования тарифов в сфере водоотведения  ООО «Беловские Городские Очистные сооружения» (Беловский городской округ)\" (в редакции Постановлений Региональной энергетической комиссии от 24.11.2020 N 427, от 11.02.2021 N 60).",null,null,null,{"$f":"first_year+12","v":2031},false,null,null,null,null,"2031 год"]
["1","Постановление региональной энергетической комиссии Кемеровской области от 19.12.2018 № 759  \"Об установлении долгосрочных параметров  регулирования тарифов в сфере водоотведения  ООО «Беловские Городские Очистные сооружения» (Беловский городской округ)\" (в редакции Постановлений Региональной энергетической комиссии от 24.11.2020 N 427, от 11.02.2021 N 60).",null,null,null,{"$f":"first_year+13","v":2032},false,null,null,null,null,"2032 год"]
["1","Постановление региональной энергетической комиссии Кемеровской области от 19.12.2018 № 759  \"Об установлении долгосрочных параметров  регулирования тарифов в сфере водоотведения  ООО «Беловские Городские Очистные сооружения» (Беловский городской округ)\" (в редакции Постановлений Региональной энергетической комиссии от 24.11.2020 N 427, от 11.02.2021 N 60).",null,null,null,{"$f":"first_year+14","v":2033},false,null,null,null,null,"2033 год"]
["1","Постановление региональной энергетической комиссии Кемеровской области от 19.12.2018 № 759  \"Об установлении долгосрочных параметров  регулирования тарифов в сфере водоотведения  ООО «Беловские Городские Очистные сооружения» (Беловский городской округ)\" (в редакции Постановлений Региональной энергетической комиссии от 24.11.2020 N 427, от 11.02.2021 N 60).",null,null,null,{"$f":"first_year+15","v":2034},false,null,null,null,null,"2034 год"]
["1","Постановление региональной энергетической комиссии Кемеровской области от 19.12.2018 № 759  \"Об установлении долгосрочных параметров  регулирования тарифов в сфере водоотведения  ООО «Беловские Городские Очистные сооружения» (Беловский городской округ)\" (в редакции Постановлений Региональной энергетической комиссии от 24.11.2020 N 427, от 11.02.2021 N 60).",null,null,null,{"$f":"first_year+16","v":2035},false,null,null,null,null,"2035 год"]
["1","Постановление региональной энергетической комиссии Кемеровской области от 19.12.2018 № 759  \"Об установлении долгосрочных параметров  регулирования тарифов в сфере водоотведения  ООО «Беловские Городские Очистные сооружения» (Беловский городской округ)\" (в редакции Постановлений Региональной энергетической комиссии от 24.11.2020 N 427, от 11.02.2021 N 60).",null,null,null,{"$f":"first_year+17","v":2036},false,null,null,null,null,"2036 год"]
["1","Постановление региональной энергетической комиссии Кемеровской области от 19.12.2018 № 759  \"Об установлении долгосрочных параметров  регулирования тарифов в сфере водоотведения  ООО «Беловские Городские Очистные сооружения» (Беловский городской округ)\" (в редакции Постановлений Региональной энергетической комиссии от 24.11.2020 N 427, от 11.02.2021 N 60).",null,null,null,{"$f":"first_year+18","v":2037},false,null,null,null,null,"2037 год"]
["1","Постановление региональной энергетической комиссии Кемеровской области от 19.12.2018 № 759  \"Об установлении долгосрочных параметров  регулирования тарифов в сфере водоотведения  ООО «Беловские Городские Очистные сооружения» (Беловский городской округ)\" (в редакции Постановлений Региональной энергетической комиссии от 24.11.2020 N 427, от 11.02.2021 N 60).",null,null,null,{"$f":"first_year+19","v":2038},false,null,null,null,null,"2038 год"]
["1","Постановление региональной энергетической комиссии Кемеровской области от 19.12.2018 № 759  \"Об установлении долгосрочных параметров  регулирования тарифов в сфере водоотведения  ООО «Беловские Городские Очистные сооружения» (Беловский городской округ)\" (в редакции Постановлений Региональной энергетической комиссии от 24.11.2020 N 427, от 11.02.2021 N 60).",null,null,null,{"$f":"first_year+20","v":2039},false,null,null,null,null,"2039 год"]
["1","Постановление региональной энергетической комиссии Кемеровской области от 19.12.2018 № 759  \"Об установлении долгосрочных параметров  регулирования тарифов в сфере водоотведения  ООО «Беловские Городские Очистные сооружения» (Беловский городской округ)\" (в редакции Постановлений Региональной энергетической комиссии от 24.11.2020 N 427, от 11.02.2021 N 60).",null,null,null,{"$f":"first_year+21","v":2040},false,null,null,null,null,"2040 год"]
["1","Постановление региональной энергетической комиссии Кемеровской области от 19.12.2018 № 759  \"Об установлении долгосрочных параметров  регулирования тарифов в сфере водоотведения  ООО «Беловские Городские Очистные сооружения» (Беловский городской округ)\" (в редакции Постановлений Региональной энергетической комиссии от 24.11.2020 N 427, от 11.02.2021 N 60).",null,null,null,{"$f":"first_year+22","v":2041},false,null,null,null,null,"2041 год"]
["1","Постановление региональной энергетической комиссии Кемеровской области от 19.12.2018 № 759  \"Об установлении долгосрочных параметров  регулирования тарифов в сфере водоотведения  ООО «Беловские Городские Очистные сооружения» (Беловский городской округ)\" (в редакции Постановлений Региональной энергетической комиссии от 24.11.2020 N 427, от 11.02.2021 N 60).",null,null,null,{"$f":"first_year+23","v":2042},false,null,null,null,null,"2042 год"]
["1","Постановление региональной энергетической комиссии Кемеровской области от 19.12.2018 № 759  \"Об установлении долгосрочных параметров  регулирования тарифов в сфере водоотведения  ООО «Беловские Городские Очистные сооружения» (Беловский городской округ)\" (в редакции Постановлений Региональной энергетической комиссии от 24.11.2020 N 427, от 11.02.2021 N 60).",null,null,null,{"$f":"first_year+24","v":2043},false,null,null,null,null,"2043 год"]
["1","Постановление региональной энергетической комиссии Кемеровской области от 19.12.2018 № 759  \"Об установлении долгосрочных параметров  регулирования тарифов в сфере водоотведения  ООО «Беловские Городские Очистные сооружения» (Беловский городской округ)\" (в редакции Постановлений Региональной энергетической комиссии от 24.11.2020 N 427, от 11.02.2021 N 60).",null,null,null,{"$f":"first_year+25","v":2044},false,null,null,null,null,"2044 год"]
["1","Постановление региональной энергетической комиссии Кемеровской области от 19.12.2018 № 759  \"Об установлении долгосрочных параметров  регулирования тарифов в сфере водоотведения  ООО «Беловские Городские Очистные сооружения» (Беловский городской округ)\" (в редакции Постановлений Региональной энергетической комиссии от 24.11.2020 N 427, от 11.02.2021 N 60).",null,null,null,{"$f":"first_year+26","v":2045},false,null,null,null,null,"2045 год"]
["1","Постановление региональной энергетической комиссии Кемеровской области от 19.12.2018 № 759  \"Об установлении долгосрочных параметров  регулирования тарифов в сфере водоотведения  ООО «Беловские Городские Очистные сооружения» (Беловский городской округ)\" (в редакции Постановлений Региональной энергетической комиссии от 24.11.2020 N 427, от 11.02.2021 N 60).",null,null,null,{"$f":"first_year+27","v":2046},false,null,null,null,null,"2046 год"]
["1","Постановление региональной энергетической комиссии Кемеровской области от 19.12.2018 № 759  \"Об установлении долгосрочных параметров  регулирования тарифов в сфере водоотведения  ООО «Беловские Городские Очистные сооружения» (Беловский городской округ)\" (в редакции Постановлений Региональной энергетической комиссии от 24.11.2020 N 427, от 11.02.2021 N 60).",null,null,null,{"$f":"first_year+28","v":2047},false,null,null,null,null,"2047 год"]
["1","Постановление региональной энергетической комиссии Кемеровской области от 19.12.2018 № 759  \"Об установлении долгосрочных параметров  регулирования тарифов в сфере водоотведения  ООО «Беловские Городские Очистные сооружения» (Беловский городской округ)\" (в редакции Постановлений Региональной энергетической комиссии от 24.11.2020 N 427, от 11.02.2021 N 60).",null,null,null,{"$f":"first_year+29","v":2048},false,null,null,null,null,"2048 год"]
["1","Постановление региональной энергетической комиссии Кемеровской области от 19.12.2018 № 759  \"Об установлении долгосрочных параметров  регулирования тарифов в сфере водоотведения  ООО «Беловские Городские Очистные сооружения» (Беловский городской округ)\" (в редакции Постановлений Региональной энергетической комиссии от 24.11.2020 N 427, от 11.02.2021 N 60).",null,null,null,{"$f":"first_year+30","v":2049},false,null,null,null,null,"2049 год"]
["1","Постановление региональной энергетической комиссии Кемеровской области от 19.12.2018 № 759  \"Об установлении долгосрочных параметров  регулирования тарифов в сфере водоотведения  ООО «Беловские Городские Очистные сооружения» (Беловский городской округ)\" (в редакции Постановлений Региональной энергетической комиссии от 24.11.2020 N 427, от 11.02.2021 N 60).",null,null,null,{"$f":"first_year+31","v":2050},false,null,null,null,null,"2050 год"]
["1","Постановление региональной энергетической комиссии Кемеровской области от 19.12.2018 № 759  \"Об установлении долгосрочных параметров  регулирования тарифов в сфере водоотведения  ООО «Беловские Городские Очистные сооружения» (Беловский городской округ)\" (в редакции Постановлений Региональной энергетической комиссии от 24.11.2020 N 427, от 11.02.2021 N 60).",null,null,null,{"$f":"first_year+32","v":2051},false,null,null,null,null,"2051 год"]
["1","Постановление региональной энергетической комиссии Кемеровской области от 19.12.2018 № 759  \"Об установлении долгосрочных параметров  регулирования тарифов в сфере водоотведения  ООО «Беловские Городские Очистные сооружения» (Беловский городской округ)\" (в редакции Постановлений Региональной энергетической комиссии от 24.11.2020 N 427, от 11.02.2021 N 60).",null,null,null,{"$f":"first_year+33","v":2052},false,null,null,null,null,"2052 год"]
["1","Постановление региональной энергетической комиссии Кемеровской области от 19.12.2018 № 759  \"Об установлении долгосрочных параметров  регулирования тарифов в сфере водоотведения  ООО «Беловские Городские Очистные сооружения» (Беловский городской округ)\" (в редакции Постановлений Региональной энергетической комиссии от 24.11.2020 N 427, от 11.02.2021 N 60).",null,null,null,{"$f":"first_year+34","v":2053},false,null,null,null,null,"2053 год"]
["1","Постановление региональной энергетической комиссии Кемеровской области от 19.12.2018 № 759  \"Об установлении долгосрочных параметров  регулирования тарифов в сфере водоотведения  ООО «Беловские Городские Очистные сооружения» (Беловский городской округ)\" (в редакции Постановлений Региональной энергетической комиссии от 24.11.2020 N 427, от 11.02.2021 N 60).",null,null,null,{"$f":"first_year+35","v":2054},false,null,null,null,null,"2054 год"]
["1","Постановление региональной энергетической комиссии Кемеровской области от 19.12.2018 № 759  \"Об установлении долгосрочных параметров  регулирования тарифов в сфере водоотведения  ООО «Беловские Городские Очистные сооружения» (Беловский городской округ)\" (в редакции Постановлений Региональной энергетической комиссии от 24.11.2020 N 427, от 11.02.2021 N 60).",null,null,null,{"$f":"first_year+36","v":2055},false,null,null,null,null,"2055 год"]
["1","Постановление региональной энергетической комиссии Кемеровской области от 19.12.2018 № 759  \"Об установлении долгосрочных параметров  регулирования тарифов в сфере водоотведения  ООО «Беловские Городские Очистные сооружения» (Беловский городской округ)\" (в редакции Постановлений Региональной энергетической комиссии от 24.11.2020 N 427, от 11.02.2021 N 60).",null,null,null,{"$f":"first_year+37","v":2056},false,null,null,null,null,"2056 год"]
["1","Постановление региональной энергетической комиссии Кемеровской области от 19.12.2018 № 759  \"Об установлении долгосрочных параметров  регулирования тарифов в сфере водоотведения  ООО «Беловские Городские Очистные сооружения» (Беловский городской округ)\" (в редакции Постановлений Региональной энергетической комиссии от 24.11.2020 N 427, от 11.02.2021 N 60).",null,null,null,{"$f":"first_year+38","v":2057},false,null,null,null,null,"2057 год"]
["1","Постановление региональной энергетической комиссии Кемеровской области от 19.12.2018 № 759  \"Об установлении долгосрочных параметров  регулирования тарифов в сфере водоотведения  ООО «Беловские Городские Очистные сооружения» (Беловский городской округ)\" (в редакции Постановлений Региональной энергетической комиссии от 24.11.2020 N 427, от 11.02.2021 N 60).",null,null,null,{"$f":"first_year+39","v":2058},false,null,null,null,null,"2058 год"]
["1","Постановление региональной энергетической комиссии Кемеровской области от 19.12.2018 № 759  \"Об установлении долгосрочных параметров  регулирования тарифов в сфере водоотведения  ООО «Беловские Городские Очистные сооружения» (Беловский городской округ)\" (в редакции Постановлений Региональной энергетической комиссии от 24.11.2020 N 427, от 11.02.2021 N 60).",null,null,null,{"$f":"first_year+40","v":2059},false,null,null,null,null,"2059 год"]
["1","Постановление региональной энергетической комиссии Кемеровской области от 19.12.2018 № 759  \"Об установлении долгосрочных параметров  регулирования тарифов в сфере водоотведения  ООО «Беловские Городские Очистные сооружения» (Беловский городской округ)\" (в редакции Постановлений Региональной энергетической комиссии от 24.11.2020 N 427, от 11.02.2021 N 60).",null,null,null,{"$f":"first_year+41","v":2060},false,null,null,null,null,"2060 год"]
["1","Постановление региональной энергетической комиссии Кемеровской области от 19.12.2018 № 759  \"Об установлении долгосрочных параметров  регулирования тарифов в сфере водоотведения  ООО «Беловские Городские Очистные сооружения» (Беловский городской округ)\" (в редакции Постановлений Региональной энергетической комиссии от 24.11.2020 N 427, от 11.02.2021 N 60).",null,null,null,{"$f":"first_year+42","v":2061},false,null,null,null,null,"2061 год"]
["1","Постановление региональной энергетической комиссии Кемеровской области от 19.12.2018 № 759  \"Об установлении долгосрочных параметров  регулирования тарифов в сфере водоотведения  ООО «Беловские Городские Очистные сооружения» (Беловский городской округ)\" (в редакции Постановлений Региональной энергетической комиссии от 24.11.2020 N 427, от 11.02.2021 N 60).",null,null,null,{"$f":"first_year+43","v":2062},false,null,null,null,null,"2062 год"]
["1","Постановление региональной энергетической комиссии Кемеровской области от 19.12.2018 № 759  \"Об установлении долгосрочных параметров  регулирования тарифов в сфере водоотведения  ООО «Беловские Городские Очистные сооружения» (Беловский городской округ)\" (в редакции Постановлений Региональной энергетической комиссии от 24.11.2020 N 427, от 11.02.2021 N 60).",null,null,null,{"$f":"first_year+44","v":2063},false,null,null,null,null,"2063 год"]
["1","Постановление региональной энергетической комиссии Кемеровской области от 19.12.2018 № 759  \"Об установлении долгосрочных параметров  регулирования тарифов в сфере водоотведения  ООО «Беловские Городские Очистные сооружения» (Беловский городской округ)\" (в редакции Постановлений Региональной энергетической комиссии от 24.11.2020 N 427, от 11.02.2021 N 60).",null,null,null,{"$f":"first_year+45","v":2064},false,null,null,null,null,"2064 год"]
["1","Постановление региональной энергетической комиссии Кемеровской области от 19.12.2018 № 759  \"Об установлении долгосрочных параметров  регулирования тарифов в сфере водоотведения  ООО «Беловские Городские Очистные сооружения» (Беловский городской округ)\" (в редакции Постановлений Региональной энергетической комиссии от 24.11.2020 N 427, от 11.02.2021 N 60).",null,null,null,{"$f":"first_year+46","v":2065},false,null,null,null,null,"2065 год"]
["1","Постановление региональной энергетической комиссии Кемеровской области от 19.12.2018 № 759  \"Об установлении долгосрочных параметров  регулирования тарифов в сфере водоотведения  ООО «Беловские Городские Очистные сооружения» (Беловский городской округ)\" (в редакции Постановлений Региональной энергетической комиссии от 24.11.2020 N 427, от 11.02.2021 N 60).",null,null,null,{"$f":"first_year+47","v":2066},false,null,null,null,null,"2066 год"]
["1","Постановление региональной энергетической комиссии Кемеровской области от 19.12.2018 № 759  \"Об установлении долгосрочных параметров  регулирования тарифов в сфере водоотведения  ООО «Беловские Городские Очистные сооружения» (Беловский городской округ)\" (в редакции Постановлений Региональной энергетической комиссии от 24.11.2020 N 427, от 11.02.2021 N 60).",null,null,null,{"$f":"first_year+48","v":2067},false,null,null,null,null,"2067 год"]
["1","Постановление региональной энергетической комиссии Кемеровской области от 19.12.2018 № 759  \"Об установлении долгосрочных параметров  регулирования тарифов в сфере водоотведения  ООО «Беловские Городские Очистные сооружения» (Беловский городской округ)\" (в редакции Постановлений Региональной энергетической комиссии от 24.11.2020 N 427, от 11.02.2021 N 60).",null,null,null,{"$f":"first_year+49","v":2068},false,null,null,null,null,{"$f":"F68& \" год\"","v":"2068 год"}]
[{"$f":"A17","v":"1"},{"$f":"A69&\"pIns\"","v":"1pIns"},null,null,null,null,null,null,null,null,null,"Добавить"]
[]
[null,null,null,null,null,null,null,null,null,null,null,"Комментарии и обоснования к разделу"]
[]
[null,null,null,null,null,null,null,null,null,null,null,"Добавить комментарий"]

{"sheet":"TEHSHEET","index":33,"n_rows":183,"n_cols":26,"rows_kept":183,"cut":false,"hidden":true,"merged":[]}
["Алтайский край","RU22","Алтайский край",null,null,null,"YES_NO",null,null,null,null,null,"DNS",null,null,null,"YEAR_LIST","MONTH_LIST","period_list","sphere_list","tariff_type_list","COLDVSNA_VTOV;COLDVSNA_TRANSP_VTOV","COLDVSNA_VTARIFF","osn_expl_list","VOLTAGE_LEVEL_list","VOLTAGE_LEVEL2_list"]
["Амурская область","RU28","Амурская область",null,null,null,"да",null,null,null,null,null,"https://eias.ru",null,null,null,2012,"Январь",3,"Водоснабжение","одноставочный","питьевая вода","тариф на питьевую воду","аренда","Без разбивки","Без разбивки"]
["Архангельская область","RU29","Архангельская область",null,null,null,"нет",null,null,null,null,null,null,null,null,null,2013,"Февраль",4,"Водоотведение","двухставочный","техническая вода","тариф на техническую воду","безвозмездное пользование","ВН1","ВН1"]
["Астраханская область","RU30","Астраханская область",null,null,null,null,null,null,null,null,null,"NDS",null,null,null,2014,"Март",5,null,null,"горячая вода",null,"концессионное соглашение","ВН","ВН"]
["Белгородская область","RU31","Белгородская область",null,null,null,"STATE_SHARE",null,null,null,null,null,1.2,null,null,null,2015,"Апрель",6,null,null,"VOTV_VTOV","VOTV_VTARIFF","оперативное управление","СН1","СН1"]
["Брянская область","RU32","Брянская область",null,null,null,"VALUABLE_STATE_SHARE",null,null,null,null,null,null,null,null,null,2016,"Май",7,null,null,"без дифференциации","тариф на водоотведение","собственность","СН2","СН2"]
["Владимирская область","RU33","Владимирская область",null,null,null,"менее 50 %",null,null,null,null,null,"PERIOD",null,null,null,2017,"Июнь",8,null,null,"жидкие бытовые отходы",null,"хозяйственное ведение","НН","НН"]
["Волгоградская область","RU34","Волгоградская область",null,null,null,"50 % и более",null,null,null,null,null,2021,null,null,null,2018,"Июль",9,null,null,"поверхностные сточные воды",null,"договор хранения",null,"Генерация напряжения"]
["Вологодская область","RU35","Вологодская область",null,null,null,"100 %",null,null,null,null,null,null,null,null,null,2019,"Август",10,null,null,"хозяйственно-бытовые сточные воды",null,"договор эксплуатации"]
["Воронежская область","RU36","Воронежская область",null,null,null,null,null,null,null,null,null,"Организация",null,null,null,2020,"Сентябрь",11,null,null,"сточные воды (нормативы)",null,"договор обслуживания"]
["г. Москва","RU77","Москва",null,null,null,"OWNERSHIP_TYPE",null,null,null,null,null,{"$f":"\"01.01.\" & PERIOD","v":"01.01.2021"},null,null,null,2021,"Октябрь",12,null,null,"сточные воды (иные)",null,"бесхозяйный объект"]
["г. Байконур","RU00",null,null,null,null,"NONPRIVATE_OWNERSHIP_TYPE",null,null,null,null,null,{"$f":"\"31.12.\" & PERIOD","v":"31.12.2021"},null,null,null,2022,"Ноябрь",13,null,null,null,null,"договор инвестирования"]
["г. Санкт-Петербург","RU78","Cанкт-Петербург",null,null,null,"федеральная",null,null,null,null,null,null,null,null,null,2023,"Декабрь",14,null,null,null,null,"доверительное управление"]
["г. Севастополь","RU92","Севастополь",null,null,null,"субъект РФ",null,null,null,null,null,"Виды деятельности",null,null,null,2024,null,15,null,null,null,null,"субаренда"]
["Донецкая Народная Республика",null,null,null,null,null,"муниципальная",null,null,null,null,null,{"$f":"\"01.01.\" & PERIOD","v":"01.01.2021"},null,null,null,2025,null,16]
["Еврейская автономная область","RU79","Еврейская автономная область",null,null,null,"частная",null,null,null,null,null,{"$f":"\"31.12.\" & PERIOD","v":"31.12.2021"},null,null,null,2026,null,17,null,null,null,null,"support_docs_list"]
["Забайкальский край","RU75","Забайкальский край",null,null,null,null,null,null,null,null,null,null,null,null,null,2027,null,18,null,null,null,null,"договор"]
["Запорожская область",null,null,null,null,null,null,null,null,null,null,null,"Территории",null,null,null,2028,null,19,null,null,null,null,"свидетельство"]
["Ивановская область","RU37","Ивановская область",null,null,null,null,null,null,null,null,null,{"$f":"\"01.01.\" & PERIOD","v":"01.01.2021"},null,null,null,2029,null,20,null,null,null,null,"соглашение"]
["Иркутская область","RU38","Иркутская область",null,null,null,null,null,null,null,null,null,{"$f":"\"31.12.\" & PERIOD","v":"31.12.2021"},null,null,null,2030,null,21,null,null,null,null,"постановление"]
["Кабардино-Балкарская республика","RU07","Республика Кабардино-Балкария",null,null,null,null,null,null,null,null,null,null,null,null,null,null,null,22,null,null,null,null,"распоряжение"]
["Калининградская область","RU39","Калининградская область",null,null,null,null,null,null,null,null,null,null,null,null,null,null,null,23,null,null,null,null,"решение"]
["Калужская область","RU40","Калужская область",null,null,null,null,null,null,null,null,null,null,null,null,null,null,null,24,null,null,null,null,"приказ"]
["Камчатский край","RU41","Камчатский край",null,null,null,null,null,null,null,null,null,null,null,null,null,null,null,25,null,null,null,null,"лицензия"]
["Карачаево-Черкесская республика","RU09","Республика Карачаево-Черкессия",null,null,null,null,null,null,null,null,null,null,null,null,null,null,null,26,null,null,null,null,"акт приёма-передачи"]
["Кемеровская область","RU42","Кемеровская область",null,null,null,null,null,null,null,null,null,null,null,null,null,null,null,27,null,null,null,null,"государственный контракт"]
["Кировская область","RU43","Кировская область",null,null,null,null,null,null,null,null,null,null,null,null,null,null,null,28,null,null,null,null,"балансовая справка"]
["Костромская область","RU44","Костромская область",null,null,null,null,null,null,null,null,null,null,null,null,null,null,null,29,null,null,null,null,"кадастровый паспорт"]
["Краснодарский край","RU23","Краснодарский край",null,null,null,null,null,null,null,null,null,null,null,null,null,null,null,30,null,null,null,null,"технический паспорт"]
["Красноярский край","RU24","Красноярский край",null,null,null,null,null,null,null,null,null,null,null,null,null,null,null,31,null,null,null,null,"устав"]
["Курганская область","RU45","Курганская область",null,null,null,null,null,null,null,null,null,null,null,null,null,null,null,32,null,null,null,null,"акт ввода в эксплуатацию"]
["Курская область","RU46","Курская область",null,null,null,null,null,null,null,null,null,null,null,null,null,null,null,33,null,null,null,null,"план приватизации"]
["Ленинградская область","RU47","Ленинградская область",null,null,null,null,null,null,null,null,null,null,null,null,null,null,null,34,null,null,null,null,"разрешение на ввод объекта в эксплуатацию"]
["Липецкая область","RU48","Липецкая область",null,null,null,null,null,null,null,null,null,null,null,null,null,null,null,35,null,null,null,null,"выписка из ЕГРН"]
["Луганская Народная Республика",null,null,null,null,null,null,null,null,null,null,null,null,null,null,null,null,null,36,null,null,null,null,"выписка из РФИ"]
["Магаданская область","RU49","Магаданская область",null,null,null,null,null,null,null,null,null,null,null,null,null,null,null,37,null,null,null,null,"документов нет вообще"]
["Московская область","RU50","Московская область",null,null,null,null,null,null,null,null,null,null,null,null,null,null,null,38]
["Мурманская область","RU51","Мурманская область",null,null,null,null,null,null,null,"TARIFF_CALC_METHOD",null,null,null,null,null,null,null,39]
["Ненецкий автономный округ","RU83","Ненецкий автономный округ",null,null,null,null,null,null,null,"экономически обоснованных расходов (затрат)",null,null,null,null,null,null,null,40]
["Нижегородская область","RU52","Нижегородская область",null,null,null,null,null,null,null,"индексации",null,null,null,null,null,null,null,41]
["Новгородская область","RU53","Новгородская область",null,null,null,null,null,null,null,"индексации (корректировка)",null,null,null,null,null,null,null,42]
["Новосибирская область","RU54","Новосибирская область",null,null,null,null,null,null,null,"сравнения аналогов",null,null,null,null,null,null,null,43]
["Омская область","RU55","Омская область",null,null,null,null,null,null,null,null,null,null,null,null,null,null,null,44]
["Оренбургская область","RU56","Оренбургская область",null,null,null,null,null,null,null,null,null,null,null,null,null,null,null,45]
["Орловская область","RU57","Орловская область",null,null,null,null,null,null,null,"DOCUMENT_TYPES",null,null,null,null,null,null,null,46]
["Пензенская область","RU58","Пензенская область",null,null,null,null,null,null,null,"постановление",null,null,null,null,null,null,null,47]
["Пермский край","RU59","Пермский край",null,null,null,null,null,null,null,"распоряжение",null,null,null,null,null,null,null,48]
["Приморский край","RU25","Приморский край",null,null,null,null,null,null,null,"решение",null,null,null,null,null,null,null,49]
["Псковская область","RU60","Псковская область",null,null,null,null,null,null,null,"приказ",null,null,null,null,null,null,null,50]
["Республика Адыгея","RU01","Республика Адыгея",null,null,null,null,null,null,null,"закон"]
["Республика Алтай","RU04","Республика Алтай",null,null,null,null,null,null,null,"соглашение"]
["Республика Башкортостан","RU02","Республика Башкортостан",null,null,null,null,null,null,null,"протокол"]
["Республика Бурятия","RU03","Республика Бурятия"]
["Республика Дагестан","RU05","Республика Дагестан"]
["Республика Ингушетия","RU06","Республика Ингушетия"]
["Республика Калмыкия","RU08","Республика Калмыкия"]
["Республика Карелия","RU10","Республика Карелия"]
["Республика Коми","RU11","Республика Коми"]
["Республика Крым","RU82","Крым"]
["Республика Марий Эл","RU12","Республика Марий Эл"]
["Республика Мордовия","RU13","Республика Мордовия"]
["Республика Саха (Якутия)","RU14","Республика Саха (Якутия)"]
["Республика Северная Осетия-Алания","RU15","Республика Северная Осетия (Алания)"]
["Республика Татарстан","RU16","Республика Татарстан"]
["Республика Тыва","RU17","Республика Тыва (Тува)"]
["Республика Хакасия","RU19","Республика Хакасия"]
["Ростовская область","RU61","Ростовская область"]
["Рязанская область","RU62","Рязанская область"]
["Самарская область","RU63","Самарская область"]
["Саратовская область","RU64","Саратовская область"]
["Сахалинская область","RU65","Сахалинская область"]
["Свердловская область","RU66","Свердловская область"]
["Смоленская область","RU67","Смоленская область"]
["Ставропольский край","RU26","Ставропольский край"]
["Тамбовская область","RU68","Тамбовская область"]
["Тверская область","RU69","Тверская область"]
["Томская область","RU70","Томская область"]
["Тульская область","RU71","Тульская область"]
["Тюменская область","RU72","Тюменская область"]
["Удмуртская республика","RU18","Республика Удмуртия"]
["Ульяновская область","RU73","Ульяновская область"]
["Хабаровский край","RU27","Хабаровский край"]
["Ханты-Мансийский автономный округ","RU86","Ханты-Мансийский автономный округ"]
["Херсонская область"]
["Челябинская область","RU74","Челябинская область"]
["Чеченская республика","RU20","Республика Чечня"]
["Чувашская республика","RU21","Республика Чувашия"]
["Чукотский автономный округ","RU87","Чукотский автономный округ"]
["Ямало-Ненецкий автономный округ","RU89","Ямало-Ненецкий автономный округ"]
["Ярославская область","RU76","Ярославская область"]
[]
[]
[]
["Алтайский край","УПРАВЛЕНИЕ АЛТАЙСКОГО КРАЯ ПО ГОСУДАРСТВЕННОМУ РЕГУЛИРОВАНИЮ ЦЕН И ТАРИФОВ"]
["Амурская область","УПРАВЛЕНИЕ ГОСУДАРСТВЕННОГО РЕГУЛИРОВАНИЯ ЦЕН И ТАРИФОВ АМУРСКОЙ ОБЛАСТИ"]
["Архангельская область","АГЕНТСТВО ПО ТАРИФАМ И ЦЕНАМ АРХАНГЕЛЬСКОЙ ОБЛАСТИ"]
["Астраханская область","МИНИСТЕРСТВО СТРОИТЕЛЬСТВА И ЖИЛИЩНО-КОММУНАЛЬНОГО ХОЗЯЙСТВА АСТРАХАНСКОЙ ОБЛАСТИ"]
["Белгородская область","МИНИСТЕРСТВО ЖИЛИЩНО-КОММУНАЛЬНОГО ХОЗЯЙСТВА БЕЛГОРОДСКОЙ ОБЛАСТИ"]
["Брянская область","УПРАВЛЕНИЕ ГОСУДАРСТВЕННОГО РЕГУЛИРОВАНИЯ ТАРИФОВ БРЯНСКОЙ ОБЛАСТИ"]
["Владимирская область","МИНИСТЕРСТВО ГОСУДАРСТВЕННОГО РЕГУЛИРОВАНИЯ ЦЕН И ТАРИФОВ ВЛАДИМИРСКОЙ ОБЛАСТИ"]
["Волгоградская область","КОМИТЕТ ТАРИФНОГО РЕГУЛИРОВАНИЯ ВОЛГОГРАДСКОЙ ОБЛАСТИ"]
["Вологодская область","ДЕПАРТАМЕНТ ТОПЛИВНО-ЭНЕРГЕТИЧЕСКОГО КОМПЛЕКСА И ТАРИФНОГО РЕГУЛИРОВАНИЯ ВОЛОГОДСКОЙ ОБЛАСТИ"]
["Воронежская область","ДЕПАРТАМЕНТ ГОСУДАРСТВЕННОГО РЕГУЛИРОВАНИЯ ТАРИФОВ ВОРОНЕЖСКОЙ ОБЛАСТИ"]
["г. Москва","ДЕПАРТАМЕНТ ЭКОНОМИЧЕСКОЙ ПОЛИТИКИ И РАЗВИТИЯ ГОРОДА МОСКВЫ"]
["г. Байконур","УПРАВЛЕНИЕ ЭКОНОМИЧЕСКОГО РАЗВИТИЯ АДМИНИСТРАЦИИ ГОРОДА БАЙКОНУР"]
["г. Санкт-Петербург","КОМИТЕТ ПО ТАРИФАМ САНКТ-ПЕТЕРБУРГА"]
["г. Севастополь","ДЕПАРТАМЕНТ ГОРОДСКОГО ХОЗЯЙСТВА ГОРОДА СЕВАСТОПОЛЯ"]
["Донецкая Народная Республика","РЕСПУБЛИКАНСКАЯ СЛУЖБА ПО ТАРИФАМ ДОНЕЦКОЙ НАРОДНОЙ РЕСПУБЛИКИ"]
["Еврейская автономная область","ДЕПАРТАМЕНТ ТАРИФОВ И ЦЕН ПРАВИТЕЛЬСТВА ЕВРЕЙСКОЙ АВТОНОМНОЙ ОБЛАСТИ"]
["Забайкальский край","РЕГИОНАЛЬНАЯ СЛУЖБА ПО ТАРИФАМ И ЦЕНООБРАЗОВАНИЮ ЗАБАЙКАЛЬСКОГО КРАЯ"]
["Запорожская область","МИНИСТЕРСТВО ПО ТАРИФАМ И ЦЕНОВОМУ РЕГУЛИРОВАНИЮ ВОЕННО-ГРАЖДАНСКОЙ АДМИНИСТРАЦИИ ЗАПОРОЖСКОЙ ОБЛАСТИ"]
["Ивановская область","ДЕПАРТАМЕНТ ЭНЕРГЕТИКИ И ТАРИФОВ ИВАНОВСКОЙ ОБЛАСТИ"]
["Иркутская область","СЛУЖБА ПО ТАРИФАМ ИРКУТСКОЙ ОБЛАСТИ"]
["Кабардино-Балкарская республика","ГОСУДАРСТВЕННЫЙ КОМИТЕТ КАБАРДИНО-БАЛКАРСКОЙ РЕСПУБЛИКИ ПО ТАРИФАМ И ЖИЛИЩНОМУ НАДЗОРУ"]
["Калининградская область","СЛУЖБА ПО ГОСУДАРСТВЕННОМУ РЕГУЛИРОВАНИЮ ЦЕН И ТАРИФОВ КАЛИНИНГРАДСКОЙ ОБЛАСТИ"]
["Калужская область","МИНИСТЕРСТВО КОНКУРЕНТНОЙ ПОЛИТИКИ КАЛУЖСКОЙ ОБЛАСТИ"]
["Камчатский край","РЕГИОНАЛЬНАЯ СЛУЖБА ПО ТАРИФАМ И ЦЕНАМ КАМЧАТСКОГО КРАЯ"]
["Карачаево-Черкесская республика","ГЛАВНОЕ УПРАВЛЕНИЕ КАРАЧАЕВО-ЧЕРКЕССКОЙ РЕСПУБЛИКИ ПО ТАРИФАМ И ЦЕНАМ"]
["Кемеровская область","РЕГИОНАЛЬНАЯ ЭНЕРГЕТИЧЕСКАЯ КОМИССИЯ КУЗБАССА"]
["Кировская область","РЕГИОНАЛЬНАЯ СЛУЖБА ПО ТАРИФАМ КИРОВСКОЙ ОБЛАСТИ"]
["Костромская область","ДЕПАРТАМЕНТ ГОСУДАРСТВЕННОГО РЕГУЛИРОВАНИЯ ЦЕН И ТАРИФОВ КОСТРОМСКОЙ ОБЛАСТИ"]
["Краснодарский край","ДЕПАРТАМЕНТ ГОСУДАРСТВЕННОГО РЕГУЛИРОВАНИЯ ТАРИФОВ КРАСНОДАРСКОГО КРАЯ"]
["Красноярский край","МИНИСТЕРСТВО ТАРИФНОЙ ПОЛИТИКИ КРАСНОЯРСКОГО КРАЯ"]
["Курганская область","ДЕПАРТАМЕНТ ГОСУДАРСТВЕННОГО РЕГУЛИРОВАНИЯ ЦЕН И ТАРИФОВ КУРГАНСКОЙ ОБЛАСТИ"]
["Курская область","КОМИТЕТ ПО ТАРИФАМ И ЦЕНАМ КУРСКОЙ ОБЛАСТИ"]
["Ленинградская область","КОМИТЕТ ПО ТАРИФАМ И ЦЕНОВОЙ ПОЛИТИКЕ ЛЕНИНГРАДСКОЙ ОБЛАСТИ"]
["Липецкая область","УПРАВЛЕНИЕ ЭНЕРГЕТИКИ И ТАРИФОВ ЛИПЕЦКОЙ ОБЛАСТИ"]
["Луганская Народная Республика","КОМИТЕТ ТАРИФНОГО И ЦЕНОВОГО РЕГУЛИРОВАНИЯ ЛУГАНСКОЙ НАРОДНОЙ РЕСПУБЛИКИ"]
["Магаданская область","ДЕПАРТАМЕНТ ЦЕН И ТАРИФОВ МАГАДАНСКОЙ ОБЛАСТИ"]
["Московская область","КОМИТЕТ ПО ЦЕНАМ И ТАРИФАМ МОСКОВСКОЙ ОБЛАСТИ"]
["Мурманская область","КОМИТЕТ ПО ТАРИФНОМУ РЕГУЛИРОВАНИЮ МУРМАНСКОЙ ОБЛАСТИ"]
["Ненецкий автономный округ","УПРАВЛЕНИЕ ПО ГОСУДАРСТВЕННОМУ РЕГУЛИРОВАНИЮ ЦЕН (ТАРИФОВ) НЕНЕЦКОГО АВТОНОМНОГО ОКРУГА"]
["Нижегородская область","РЕГИОНАЛЬНАЯ СЛУЖБА ПО ТАРИФАМ НИЖЕГОРОДСКОЙ ОБЛАСТИ"]
["Новгородская область","КОМИТЕТ ПО ТАРИФНОЙ ПОЛИТИКЕ НОВГОРОДСКОЙ ОБЛАСТИ"]
["Новосибирская область","ДЕПАРТАМЕНТ ПО ТАРИФАМ НОВОСИБИРСКОЙ ОБЛАСТИ"]
["Омская область","РЕГИОНАЛЬНАЯ ЭНЕРГЕТИЧЕСКАЯ КОМИССИЯ ОМСКОЙ ОБЛАСТИ"]
["Оренбургская область","ДЕПАРТАМЕНТ ОРЕНБУРГСКОЙ ОБЛАСТИ ПО ЦЕНАМ И РЕГУЛИРОВАНИЮ ТАРИФОВ"]
["Орловская область","УПРАВЛЕНИЕ ПО ТАРИФАМ И ЦЕНОВОЙ ПОЛИТИКЕ ОРЛОВСКОЙ ОБЛАСТИ"]
["Пензенская область","УПРАВЛЕНИЕ ПО РЕГУЛИРОВАНИЮ ТАРИФОВ, РАЗВИТИЮ ИНФРАСТРУКТУРЫ И ЭНЕРГОСБЕРЕЖЕНИЮ ПЕНЗЕНСКОЙ ОБЛАСТИ"]
["Пермский край","МИНИСТЕРСТВО ТАРИФНОГО РЕГУЛИРОВАНИЯ И ЭНЕРГЕТИКИ ПЕРМСКОГО КРАЯ"]
["Приморский край","АГЕНТСТВО ПО ТАРИФАМ ПРИМОРСКОГО КРАЯ"]
["Псковская область","КОМИТЕТ ПО ТАРИФАМ И ЭНЕРГЕТИКЕ ПСКОВСКОЙ ОБЛАСТИ"]
["Республика Адыгея","УПРАВЛЕНИЕ ГОСУДАРСТВЕННОГО РЕГУЛИРОВАНИЯ ЦЕН И ТАРИФОВ РЕСПУБЛИКИ АДЫГЕЯ"]
["Республика Алтай","КОМИТЕТ ПО ТАРИФАМ РЕСПУБЛИКИ АЛТАЙ"]
["Республика Башкортостан","ГОСУДАРСТВЕННЫЙ КОМИТЕТ РЕСПУБЛИКИ БАШКОРТОСТАН ПО ТАРИФАМ"]
["Республика Бурятия","РЕСПУБЛИКАНСКАЯ СЛУЖБА ПО ТАРИФАМ РЕСПУБЛИКИ БУРЯТИЯ"]
["Республика Дагестан","РЕСПУБЛИКАНСКАЯ СЛУЖБА ПО ТАРИФАМ РЕСПУБЛИКИ ДАГЕСТАН"]
["Республика Ингушетия","МИНИСТЕРСТВО ПРОМЫШЛЕННОСТИ И ЦИФРОВОГО РАЗВИТИЯ РЕСПУБЛИКИ ИНГУШЕТИЯ"]
["Республика Калмыкия","РЕГИОНАЛЬНАЯ СЛУЖБА ПО ТАРИФАМ РЕСПУБЛИКИ КАЛМЫКИЯ"]
["Республика Карелия","ГОСУДАРСТВЕННЫЙ КОМИТЕТ РЕСПУБЛИКИ КАРЕЛИЯ ПО ЦЕНАМ И ТАРИФАМ"]
["Республика Коми","КОМИТЕТ РЕСПУБЛИКИ КОМИ ПО ТАРИФАМ"]
["Республика Крым","ГОСУДАРСТВЕННЫЙ КОМИТЕТ ПО ЦЕНАМ И ТАРИФАМ РЕСПУБЛИКИ КРЫМ"]
["Республика Марий Эл","МИНИСТЕРСТВО ПРОМЫШЛЕННОСТИ, ЭКОНОМИЧЕСКОГО РАЗВИТИЯ И ТОРГОВЛИ РЕСПУБЛИКИ МАРИЙ ЭЛ"]
["Республика Мордовия","ГОСУДАРСТВЕННЫЙ КОМИТЕТ ПО ТАРИФАМ РЕСПУБЛИКИ МОРДОВИЯ"]
["Республика Саха (Якутия)","ГОСУДАРСТВЕННЫЙ КОМИТЕТ ПО ЦЕНОВОЙ ПОЛИТИКЕ РЕСПУБЛИКИ САХА (ЯКУТИЯ)"]
["Республика Северная Осетия-Алания","РЕГИОНАЛЬНАЯ СЛУЖБА ПО ТАРИФАМ РЕСПУБЛИКИ СЕВЕРНАЯ ОСЕТИЯ-АЛАНИЯ"]
["Республика Татарстан","ГОСУДАРСТВЕННЫЙ КОМИТЕТ РЕСПУБЛИКИ ТАТАРСТАН ПО ТАРИФАМ"]
["Республика Тыва","СЛУЖБА ПО ТАРИФАМ РЕСПУБЛИКИ ТЫВА"]
["Республика Хакасия","ГОСУДАРСТВЕННЫЙ КОМИТЕТ ЭНЕРГЕТИКИ И ТАРИФНОГО РЕГУЛИРОВАНИЯ РЕСПУБЛИКИ ХАКАСИЯ"]
["Ростовская область","РЕГИОНАЛЬНАЯ СЛУЖБА ПО ТАРИФАМ РОСТОВСКОЙ ОБЛАСТИ"]
["Рязанская область","ГЛАВНОЕ УПРАВЛЕНИЕ \"РЕГИОНАЛЬНАЯ ЭНЕРГЕТИЧЕСКАЯ КОМИССИЯ\" РЯЗАНСКОЙ ОБЛАСТИ"]
["Самарская область","ДЕПАРТАМЕНТ ЦЕНОВОГО И ТАРИФНОГО РЕГУЛИРОВАНИЯ САМАРСКОЙ ОБЛАСТИ"]
["Саратовская область","КОМИТЕТ ГОСУДАРСТВЕННОГО РЕГУЛИРОВАНИЯ ТАРИФОВ САРАТОВСКОЙ ОБЛАСТИ"]
["Сахалинская область","РЕГИОНАЛЬНАЯ ЭНЕРГЕТИЧЕСКАЯ КОМИССИЯ САХАЛИНСКОЙ ОБЛАСТИ"]
["Свердловская область","РЕГИОНАЛЬНАЯ ЭНЕРГЕТИЧЕСКАЯ КОМИССИЯ СВЕРДЛОВСКОЙ ОБЛАСТИ"]
["Смоленская область","ДЕПАРТАМЕНТ СМОЛЕНСКОЙ ОБЛАСТИ ПО ЭНЕРГЕТИКЕ, ЭНЕРГОЭФФЕКТИВНОСТИ, ТАРИФНОЙ ПОЛИТИКЕ"]
["Ставропольский край","РЕГИОНАЛЬНАЯ ТАРИФНАЯ КОМИССИЯ СТАВРОПОЛЬСКОГО КРАЯ"]
["Тамбовская область","ДЕПАРТАМЕНТ ЦЕН И ТАРИФОВ ТАМБОВСКОЙ ОБЛАСТИ"]
["Тверская область","ГЛАВНОЕ УПРАВЛЕНИЕ \"РЕГИОНАЛЬНАЯ ЭНЕРГЕТИЧЕСКАЯ КОМИССИЯ\" ТВЕРСКОЙ ОБЛАСТИ"]
["Томская область","ДЕПАРТАМЕНТ ТАРИФНОГО РЕГУЛИРОВАНИЯ ТОМСКОЙ ОБЛАСТИ"]
["Тульская область","КОМИТЕТ ТУЛЬСКОЙ ОБЛАСТИ ПО ТАРИФАМ"]
["Тюменская область","ДЕПАРТАМЕНТ ТАРИФНОЙ И ЦЕНОВОЙ ПОЛИТИКИ ТЮМЕНСКОЙ ОБЛАСТИ"]
["Удмуртская республика","МИНИСТЕРСТВО СТРОИТЕЛЬСТВА, ЖИЛИЩНО-КОММУНАЛЬНОГО ХОЗЯЙСТВА И ЭНЕРГЕТИКИ УДМУРТСКОЙ РЕСПУБЛИКИ"]
["Ульяновская область","АГЕНТСТВО ПО РЕГУЛИРОВАНИЮ ЦЕН И ТАРИФОВ УЛЬЯНОВСКОЙ ОБЛАСТИ"]
["Хабаровский край","КОМИТЕТ ПО ЦЕНАМ И ТАРИФАМ ПРАВИТЕЛЬСТВА ХАБАРОВСКОГО КРАЯ"]
["Ханты-Мансийский автономный округ","РЕГИОНАЛЬНАЯ СЛУЖБА ПО ТАРИФАМ ХАНТЫ-МАНСИЙСКОГО АВТОНОМНОГО ОКРУГА - ЮГРЫ"]
["Херсонская область","СЛУЖБА ЦЕН И ТАРИФОВ ХЕРСОНСКОЙ ОБЛАСТИ"]
["Челябинская область","МИНИСТЕРСТВО ТАРИФНОГО РЕГУЛИРОВАНИЯ И ЭНЕРГЕТИКИ ЧЕЛЯБИНСКОЙ ОБЛАСТИ"]
["Чеченская республика","ГОСУДАРСТВЕННЫЙ КОМИТЕТ ЦЕН И ТАРИФОВ ЧЕЧЕНСКОЙ РЕСПУБЛИКИ"]
["Чувашская республика","ГОСУДАРСТВЕННАЯ СЛУЖБА ЧУВАШСКОЙ РЕСПУБЛИКИ ПО КОНКУРЕНТНОЙ ПОЛИТИКЕ И ТАРИФАМ"]
["Чукотский автономный округ","КОМИТЕТ ГОСУДАРСТВЕННОГО РЕГУЛИРОВАНИЯ ЦЕН И ТАРИФОВ ЧУКОТСКОГО АВТОНОМНОГО ОКРУГА"]
["Ямало-Ненецкий автономный округ","ДЕПАРТАМЕНТ ТАРИФНОЙ ПОЛИТИКИ, ЭНЕРГЕТИКИ И ЖИЛИЩНО-КОММУНАЛЬНОГО КОМПЛЕКСА ЯМАЛО-НЕНЕЦКОГО"]
["Ярославская область","МИНИСТЕРСТВО ТАРИФНОГО РЕГУЛИРОВАНИЯ ЯРОСЛАВСКОЙ ОБЛАСТИ"]

{"sheet":"Комментарии","index":34,"n_rows":7,"n_cols":4,"rows_kept":7,"cut":false,"hidden":false,"merged":[]}
[]
[]
[]
[]
[]
[]
[null,null,null,"Комментарии"]

{"sheet":"Проверка","index":35,"n_rows":7,"n_cols":5,"rows_kept":7,"cut":false,"hidden":false,"merged":[[1,1,1,4]]}
[]
[null,"Результат проверки"]
[]
[null,"Ссылка 1","Ссылка 2","Причина","Статус"]
[null,"ДПР!Q27","ЭЭ!AD21","Удельный расход электрической энергии на листах ЭЭ и ДПР не совпадает","Предупреждение"]
[null,"ДПР!Q28","ЭЭ!AE21","Удельный расход электрической энергии на листах ЭЭ и ДПР не совпадает","Предупреждение"]
[null,"ДПР!Q29","ЭЭ!AF21","Удельный расход электрической энергии на листах ЭЭ и ДПР не совпадает","Предупреждение"]

{"sheet":"REESTR_MO","index":36,"n_rows":240,"n_cols":5,"rows_kept":240,"cut":false,"hidden":true,"merged":[]}
["MR_NAME","MO_NAME","OKTMO_NAME","MR_LIST"]
["Беловский муниципальный округ","Беловский муниципальный округ","32501000","Беловский муниципальный округ","MO_LIST_1"]
["Беловский муниципальный район","Беловский муниципальный район","32601000","Беловский муниципальный район","MO_LIST_2"]
["Беловский муниципальный район","Сельское поселение Беловского муниципального района/Бековское","32601402","Гурьевский муниципальный округ","MO_LIST_3"]
["Беловский муниципальный район","Сельское поселение Беловского муниципального района/Евтинское","32601412","Гурьевский муниципальный район","MO_LIST_4"]
["Беловский муниципальный район","Сельское поселение Беловского муниципального района/Менчерепское","32601432","Ижморский муниципальный округ","MO_LIST_5"]
["Беловский муниципальный район","Сельское поселение Беловского муниципального района/Моховское","32601436","Ижморский муниципальный район","MO_LIST_6"]
["Беловский муниципальный район","Сельское поселение Беловского муниципального района/Новобачатское","32601414","Кемеровский муниципальный округ","MO_LIST_7"]
["Беловский муниципальный район","Сельское поселение Беловского муниципального района/Пермяковское","32601444","Кемеровский муниципальный район","MO_LIST_8"]
["Беловский муниципальный район","Сельское поселение Беловского муниципального района/Старобачатское","32601451","Крапивинский муниципальный округ","MO_LIST_9"]
["Беловский муниципальный район","Сельское поселение Беловского муниципального района/Старопестеревское","32601452","Крапивинский муниципальный район","MO_LIST_10"]
["Гурьевский муниципальный округ","Гурьевский муниципальный округ","32502000","Ленинск-Кузнецкий муниципальный округ","MO_LIST_11"]
["Гурьевский муниципальный район","Городское поселение Гурьевского муниципального района/город Гурьевск","32602101","Ленинск-Кузнецкий муниципальный район","MO_LIST_12"]
["Гурьевский муниципальный район","Городское поселение Гурьевского муниципального района/город Салаир","32602104","Мариинский муниципальный округ","MO_LIST_13"]
["Гурьевский муниципальный район","Гурьевский муниципальный район","32602000","Мариинский муниципальный район","MO_LIST_14"]
["Гурьевский муниципальный район","Сельское поселение Гурьевского муниципального района/Горскинское","32602404","Новокузнецкий  муниципальный округ","MO_LIST_15"]
["Гурьевский муниципальный район","Сельское поселение Гурьевского муниципального района/Малосалаирское","32602420","Новокузнецкий муниципальный район","MO_LIST_16"]
["Гурьевский муниципальный район","Сельское поселение Гурьевского муниципального района/Новопестеревское","32602428","Прокопьевский муниципальный округ","MO_LIST_17"]
["Гурьевский муниципальный район","Сельское поселение Гурьевского муниципального района/Раздольное","32602430","Прокопьевский муниципальный район","MO_LIST_18"]
["Гурьевский муниципальный район","Сельское поселение Гурьевского муниципального района/Сосновское","32602435","Промышленновский муниципальный округ","MO_LIST_19"]
["Гурьевский муниципальный район","Сельское поселение Гурьевского муниципального района/Ур-Бедаревское","32602450","Промышленновский муниципальный район","MO_LIST_20"]
["Гурьевский муниципальный район","Сельское поселение Гурьевского муниципального района/Урское","32602455","Таштагольский муниципальный район","MO_LIST_21"]
["Ижморский муниципальный округ","Ижморский муниципальный округ","32504000","Тисульский муниципальный округ","MO_LIST_22"]
["Ижморский муниципальный район","Городское поселение Ижморского муниципального района/п.г.т. Ижморский","32604151","Тисульский муниципальный район","MO_LIST_23"]
["Ижморский муниципальный район","Ижморский муниципальный район","32604000","Топкинский муниципальный округ","MO_LIST_24"]
["Ижморский муниципальный район","Сельское поселение Ижморского муниципального района/Колыонское","32604416","Топкинский муниципальный район","MO_LIST_25"]
["Ижморский муниципальный район","Сельское поселение Ижморского муниципального района/Красноярское","32604420","Тяжинский муниципальный округ","MO_LIST_26"]
["Ижморский муниципальный район","Сельское поселение Ижморского муниципального района/Постниковское","32604424","Тяжинский муниципальный район","MO_LIST_27"]
["Ижморский муниципальный район","Сельское поселение Ижморского муниципального района/Святославское","32604428","Чебулинский муниципальный округ","MO_LIST_28"]
["Ижморский муниципальный район","Сельское поселение Ижморского муниципального района/Симбирское","32604432","Чебулинский муниципальный район","MO_LIST_29"]
["Ижморский муниципальный район","Сельское поселение Ижморского муниципального района/Троицкое","32604436","Юргинский муниципальный округ","MO_LIST_30"]
["Кемеровский муниципальный округ","Кемеровский муниципальный округ","32507000","Юргинский муниципальный район","MO_LIST_31"]
["Кемеровский муниципальный район","Кемеровский муниципальный район","32607000","Яйский муниципальный округ","MO_LIST_32"]
["Кемеровский муниципальный район","Сельское поселение Кемеровского муниципального района/Арсентьевское","32607404","Яйский муниципальный район","MO_LIST_33"]
["Кемеровский муниципальный район","Сельское поселение Кемеровского муниципального района/Береговое","32607408","Яшкинский муниципальный округ","MO_LIST_34"]
["Кемеровский муниципальный район","Сельское поселение Кемеровского муниципального района/Березовское","32607412","Яшкинский муниципальный район","MO_LIST_35"]
["Кемеровский муниципальный район","Сельское поселение Кемеровского муниципального района/Елыкаевское","32607424","город Анжеро-Судженск","MO_LIST_36"]
["Кемеровский муниципальный район","Сельское поселение Кемеровского муниципального района/Звездное","32607426","город Белово","MO_LIST_37"]
["Кемеровский муниципальный район","Сельское поселение Кемеровского муниципального района/Суховское","32607441","город Березовский","MO_LIST_38"]
["Кемеровский муниципальный район","Сельское поселение Кемеровского муниципального района/Щегловское","32607416","город Калтан","MO_LIST_39"]
["Кемеровский муниципальный район","Сельское поселение Кемеровского муниципального района/Ягуновское","32607444","город Кемерово","MO_LIST_40"]
["Кемеровский муниципальный район","Сельское поселение Кемеровского муниципального района/Ясногорское","32607428","город Киселевск","MO_LIST_41"]
["Крапивинский муниципальный округ","Крапивинский муниципальный округ","32510000","город Ленинск-Кузнецкий","MO_LIST_42"]
["Крапивинский муниципальный район","Городское поселение Крапивинского муниципального района/п.г.т. Зеленогорский","32610153","город Междуреченск","MO_LIST_43"]
["Крапивинский муниципальный район","Городское поселение Крапивинского муниципального района/п.г.т. Крапивинский","32610151","город Мыски","MO_LIST_44"]
["Крапивинский муниципальный район","Крапивинский муниципальный район","32610000","город Новокузнецк","MO_LIST_45"]
["Крапивинский муниципальный район","Сельское поселение Крапивинского муниципального района/Банновское","32610404","город Осинники","MO_LIST_46"]
["Крапивинский муниципальный район","Сельское поселение Крапивинского муниципального района/Барачатское","32610408","город Полысаево","MO_LIST_47"]
["Крапивинский муниципальный район","Сельское поселение Крапивинского муниципального района/Борисовское","32610412","город Прокопьевск","MO_LIST_48"]
["Крапивинский муниципальный район","Сельское поселение Крапивинского муниципального района/Зеленовское","32610416","город Тайга","MO_LIST_49"]
["Крапивинский муниципальный район","Сельское поселение Крапивинского муниципального района/Каменское","32610420","город Юрга","MO_LIST_50"]
["Крапивинский муниципальный район","Сельское поселение Крапивинского муниципального района/Крапивинское","32610424","поселок городского типа Краснобродский","MO_LIST_51"]
["Крапивинский муниципальный район","Сельское поселение Крапивинского муниципального района/Мельковское","32610428"]
["Крапивинский муниципальный район","Сельское поселение Крапивинского муниципального района/Тарадановское","32610436"]
["Крапивинский муниципальный район","Сельское поселение Крапивинского муниципального района/Шевелевское","32610446"]
["Ленинск-Кузнецкий муниципальный округ","Ленинск-Кузнецкий муниципальный округ","32513000"]
["Ленинск-Кузнецкий муниципальный район","Ленинск-Кузнецкий муниципальный район","32613000"]
["Ленинск-Кузнецкий муниципальный район","Сельское поселение Ленинск-Кузнецкого муниципального района/Горняцкое","32613412"]
["Ленинск-Кузнецкий муниципальный район","Сельское поселение Ленинск-Кузнецкого муниципального района/Демьяновское","32613416"]
["Ленинск-Кузнецкий муниципальный район","Сельское поселение Ленинск-Кузнецкого муниципального района/Драченинское","32613420"]
["Ленинск-Кузнецкий муниципальный район","Сельское поселение Ленинск-Кузнецкого муниципального района/Краснинское","32613432"]
["Ленинск-Кузнецкий муниципальный район","Сельское поселение Ленинск-Кузнецкого муниципального района/Подгорновское","32613448"]
["Ленинск-Кузнецкий муниципальный район","Сельское поселение Ленинск-Кузнецкого муниципального района/Чкаловское","32613452"]
["Ленинск-Кузнецкий муниципальный район","Сельское поселение Ленинск-Кузнецкого муниципального района/Чусовитинское","32613456"]
["Ленинск-Кузнецкий муниципальный район","Сельское поселение Ленинск-Кузнецкого муниципального района/Шабановское","32613460"]
["Мариинский муниципальный округ","Мариинский муниципальный округ","32516000"]
["Мариинский муниципальный район","Городское поселение Мариинского муниципального района/город Мариинск","32616101"]
["Мариинский муниципальный район","Мариинский муниципальный район","32616000"]
["Мариинский муниципальный район","Сельское поселение Мариинского муниципального района/Белогородское","32616404"]
["Мариинский муниципальный район","Сельское поселение Мариинского муниципального района/Благовещенское","32616408"]
["Мариинский муниципальный район","Сельское поселение Мариинского муниципального района/Большеантибесское","32616412"]
["Мариинский муниципальный район","Сельское поселение Мариинского муниципального района/Калининское","32616414"]
["Мариинский муниципальный район","Сельское поселение Мариинского муниципального района/Кийское","32616415"]
["Мариинский муниципальный район","Сельское поселение Мариинского муниципального района/Красноорловское","32616416"]
["Мариинский муниципальный район","Сельское поселение Мариинского муниципального района/Лебяжье","32616420"]
["Мариинский муниципальный район","Сельское поселение Мариинского муниципального района/Малопесчанское","32616424"]
["Мариинский муниципальный район","Сельское поселение Мариинского муниципального района/Николаевское","32616428"]
["Мариинский муниципальный район","Сельское поселение Мариинского муниципального района/Первомайское","32616440"]
["Мариинский муниципальный район","Сельское поселение Мариинского муниципального района/Сусловское","32616444"]
["Мариинский муниципальный район","Сельское поселение Мариинского муниципального района/Таежно-Михайловское","32616448"]
["Новокузнецкий  муниципальный округ","Новокузнецкий  муниципальный округ","32519000"]
["Новокузнецкий муниципальный район","Безруковское","32619408"]
["Новокузнецкий муниципальный район","Бунгурское","32619416"]
["Новокузнецкий муниципальный район","Еланское","32619420"]
["Новокузнецкий муниципальный район","Ильинское","32619424"]
["Новокузнецкий муниципальный район","Куртуковское","32619434"]
["Новокузнецкий муниципальный район","Металлургское","32619440"]
["Новокузнецкий муниципальный район","Новокузнецкий муниципальный район","32619000"]
["Новокузнецкий муниципальный район","Орловское","32619446"]
["Новокузнецкий муниципальный район","Сары-Чумышское","32619450"]
["Новокузнецкий муниципальный район","Сельское поселение Новокузнецкого муниципального района/Загорское","32619422"]
["Новокузнецкий муниципальный район","Сельское поселение Новокузнецкого муниципального района/Загорское","32619428"]
["Новокузнецкий муниципальный район","Сельское поселение Новокузнецкого муниципального района/Красулинское","32619432"]
["Новокузнецкий муниципальный район","Сельское поселение Новокузнецкого муниципального района/Кузедеевское","32619433"]
["Новокузнецкий муниципальный район","Сельское поселение Новокузнецкого муниципального района/Сосновское","32619460"]
["Новокузнецкий муниципальный район","Сельское поселение Новокузнецкого муниципального района/Терсинское","32619468"]
["Новокузнецкий муниципальный район","Сельское поселение Новокузнецкого муниципального района/Терсинское","32619470"]
["Новокузнецкий муниципальный район","Сельское поселение Новокузнецкого муниципального района/Центральное","32619404"]
["Новокузнецкий муниципальный район","Сельское поселение Новокузнецкого муниципального района/Центральное","32619473"]
["Новокузнецкий муниципальный район","Сидоровское","32619456"]
["Прокопьевский муниципальный округ","Прокопьевский муниципальный округ","32522000"]
["Прокопьевский муниципальный район","Прокопьевский муниципальный район","32622000"]
["Прокопьевский муниципальный район","Сельское поселение Прокопьевского муниципального района/Большеталдинское","32622404"]
["Прокопьевский муниципальный район","Сельское поселение Прокопьевского муниципального района/Бурлаковское","32622408"]
["Прокопьевский муниципальный район","Сельское поселение Прокопьевского муниципального района/Калачевское","32622420"]
["Прокопьевский муниципальный район","Сельское поселение Прокопьевского муниципального района/Каменно-Ключевское","32622424"]
["Прокопьевский муниципальный район","Сельское поселение Прокопьевского муниципального района/Кузбасское","32622436"]
["Прокопьевский муниципальный район","Сельское поселение Прокопьевского муниципального района/Михайловское","32622444"]
["Прокопьевский муниципальный район","Сельское поселение Прокопьевского муниципального района/Сафоновское","32622448"]
["Прокопьевский муниципальный район","Сельское поселение Прокопьевского муниципального района/Терентьевское","32622452"]
["Прокопьевский муниципальный район","Сельское поселение Прокопьевского муниципального района/Трудармейское","32622454"]
["Прокопьевский муниципальный район","Сельское поселение Прокопьевского муниципального района/Яснополянское","32622460"]
["Промышленновский муниципальный округ","Промышленновский муниципальный округ","32525000"]
["Промышленновский муниципальный район","Городское поселение Промышленновского муниципального района/п.г.т. Промышленная","32625151"]
["Промышленновский муниципальный район","Промышленновский муниципальный район","32625000"]
["Промышленновский муниципальный район","Сельское поселение Промышленновского муниципальног района/Вагановское","32625408"]
["Промышленновский муниципальный район","Сельское поселение Промышленновского муниципального района/Калинкинское","32625414"]
["Промышленновский муниципальный район","Сельское поселение Промышленновского муниципального района/Лебедевское","32625416"]
["Промышленновский муниципальный район","Сельское поселение Промышленновского муниципального района/Окунёвское","32625424"]
["Промышленновский муниципальный район","Сельское поселение Промышленновского муниципального района/Падунское","32625432"]
["Промышленновский муниципальный район","Сельское поселение Промышленновского муниципального района/Плотниковское","32625428"]
["Промышленновский муниципальный район","Сельское поселение Промышленновского муниципального района/Пушкинское","32625436"]
["Промышленновский муниципальный район","Сельское поселение Промышленновского муниципального района/Тарабаринское","32625440"]
["Промышленновский муниципальный район","Сельское поселение Промышленновского муниципального района/Тарасовское","32625444"]
["Промышленновский муниципальный район","Сельское поселение Промышленновского муниципального района/Титовское","32625448"]
["Таштагольский муниципальный район","Городское поселение Таштагольского муниципального района/город Таштагол","32627101"]
["Таштагольский муниципальный район","Городское поселение Таштагольского муниципального района/п.г.т. Каз","32627154"]
["Таштагольский муниципальный район","Городское поселение Таштагольского муниципального района/п.г.т. Мундыбаш","32627157"]
["Таштагольский муниципальный район","Городское поселение Таштагольского муниципального района/п.г.т. Спасск","32627162"]
["Таштагольский муниципальный район","Городское поселение Таштагольского муниципального района/п.г.т. Темиртау","32627165"]
["Таштагольский муниципальный район","Городское поселение Таштагольского муниципального района/п.г.т. Шерегеш","32627175"]
["Таштагольский муниципальный район","Сельское поселение Таштагольского муниципального района/Каларское","32627413"]
["Таштагольский муниципальный район","Сельское поселение Таштагольского муниципального района/Коуринское","32627417"]
["Таштагольский муниципальный район","Сельское поселение Таштагольского муниципального района/Кызыл-Шорское","32627420"]
["Таштагольский муниципальный район","Сельское поселение Таштагольского муниципального района/Усть-Кабырзинское","32627438"]
["Таштагольский муниципальный район","Таштагольский муниципальный район","32627000"]
["Тисульский муниципальный округ","Тисульский муниципальный округ","32528000"]
["Тисульский муниципальный район","Городское поселение Тисульского муниципального района/п.г.т. Белогорск","32628154"]
["Тисульский муниципальный район","Городское поселение Тисульского муниципального района/п.г.т. Тисуль","32628151"]
["Тисульский муниципальный район","Городское поселение Тисульского муниципального района/п.г.т.Комсомольск","32628160"]
["Тисульский муниципальный район","Сельское поселение Тисульского муниципального района/Берикульское","32628402"]
["Тисульский муниципальный район","Сельское поселение Тисульского муниципального района/Большебарандатское","32628408"]
["Тисульский муниципальный район","Сельское поселение Тисульского муниципального района/Куликовское","32628412"]
["Тисульский муниципальный район","Сельское поселение Тисульского муниципального района/Листвянское","32628415"]
["Тисульский муниципальный район","Сельское поселение Тисульского муниципального района/Полуторниковское","32628420"]
["Тисульский муниципальный район","Сельское поселение Тисульского муниципального района/Серебряковское","32628418"]
["Тисульский муниципальный район","Сельское поселение Тисульского муниципального района/Тамбарское","32628424"]
["Тисульский муниципальный район","Сельское поселение Тисульского муниципального района/Третьяковское","32628428"]
["Тисульский муниципальный район","Сельское поселение Тисульского муниципального района/Утинское","32628436"]
["Тисульский муниципальный район","Сельское поселение Тисульского муниципального района/Центральное","32628440"]
["Тисульский муниципальный район","Тисульский муниципальный район","32628000"]
["Топкинский муниципальный округ","Топкинский муниципальный округ","32531000"]
["Топкинский муниципальный район","Городское поселение Топкинского муниципального района/город Топки","32631101"]
["Топкинский муниципальный район","Сельское поселение Топкинского муниципального района/Верх-Падунское","32631404"]
["Топкинский муниципальный район","Сельское поселение Топкинского муниципального района/Зарубинское","32631412"]
["Топкинский муниципальный район","Сельское поселение Топкинского муниципального района/Лукошкинское","32631416"]
["Топкинский муниципальный район","Сельское поселение Топкинского муниципального района/Осиногривское","32631420"]
["Топкинский муниципальный район","Сельское поселение Топкинского муниципального района/Соломинское","32631424"]
["Топкинский муниципальный район","Сельское поселение Топкинского муниципального района/Топкинское","32631428"]
["Топкинский муниципальный район","Сельское поселение Топкинского муниципального района/Усть-Сосновское","32631432"]
["Топкинский муниципальный район","Сельское поселение Топкинского муниципального района/Хорошеборское","32631436"]
["Топкинский муниципальный район","Сельское поселение Топкинского муниципального района/Черемичкинское","32631440"]
["Топкинский муниципальный район","Сельское поселение Топкинского муниципального района/Шишинское","32631444"]
["Топкинский муниципальный район","Сельское поселение Топкинского муниципального района/Юрьевское","32631448"]
["Топкинский муниципальный район","Топкинский муниципальный район","32631000"]
["Тяжинский муниципальный округ","Тяжинский муниципальный округ","32534000"]
["Тяжинский муниципальный район","Городское поселение Тяжинского муниципального района/п.г.т. Итатский","32634154"]
["Тяжинский муниципальный район","Городское поселение Тяжинского муниципального района/п.г.т. Тяжинский","32634151"]
["Тяжинский муниципальный район","Сельское поселение Тяжинского муниципального района/Акимо-Анненское","32634412"]
["Тяжинский муниципальный район","Сельское поселение Тяжинского муниципального района/Кубитетское","32634404"]
["Тяжинский муниципальный район","Сельское поселение Тяжинского муниципального района/Листвянское","32634408"]
["Тяжинский муниципальный район","Сельское поселение Тяжинского муниципального района/Нововосточное","32634424"]
["Тяжинский муниципальный район","Сельское поселение Тяжинского муниципального района/Новоподзорновское","32634414"]
["Тяжинский муниципальный район","Сельское поселение Тяжинского муниципального района/Новопокровское","32634416"]
["Тяжинский муниципальный район","Сельское поселение Тяжинского муниципального района/Преображенское","32634420"]
["Тяжинский муниципальный район","Сельское поселение Тяжинского муниципального района/Ступишинское","32634428"]
["Тяжинский муниципальный район","Сельское поселение Тяжинского муниципального района/Тисульское","32634432"]
["Тяжинский муниципальный район","Сельское поселение Тяжинского муниципального района/Чулымское","32634436"]
["Тяжинский муниципальный район","Тяжинский муниципальный район","32634000"]
["Чебулинский муниципальный округ","Чебулинский муниципальный округ","32537000"]
["Чебулинский муниципальный район","Городское поселение Чебулинского муниципального района/п.г.т. Верх-Чебула","32637151"]
["Чебулинский муниципальный район","Сельское поселение Чебулинского муниципального района/Алчедатское","32637404"]
["Чебулинский муниципальный район","Сельское поселение Чебулинского муниципального района/Ивановское","32637412"]
["Чебулинский муниципальный район","Сельское поселение Чебулинского муниципального района/Усманское","32637420"]
["Чебулинский муниципальный район","Сельское поселение Чебулинского муниципального района/Усть-Сертинское","32637424"]
["Чебулинский муниципальный район","Сельское поселение Чебулинского муниципального района/Усть-Чебулинское","32637428"]
["Чебулинский муниципальный район","Сельское поселение Чебулинского муниципального района/Чумайское","32637432"]
["Чебулинский муниципальный район","Чебулинский муниципальный район","32637000"]
["Юргинский муниципальный округ","Юргинский муниципальный округ","32540000"]
["Юргинский муниципальный район","Сельское поселение Юргинского муниципального района/Арлюкское","32640404"]
["Юргинский муниципальный район","Сельское поселение Юргинского муниципального района/Зеледеевское","32640408"]
["Юргинский муниципальный район","Сельское поселение Юргинского муниципального района/Лебяжье-Асановское","32640412"]
["Юргинский муниципальный район","Сельское поселение Юргинского муниципального района/Мальцевское","32640416"]
["Юргинский муниципальный район","Сельское поселение Юргинского муниципального района/Новоромановское","32640420"]
["Юргинский муниципальный район","Сельское поселение Юргинского муниципального района/Попереченское","32640424"]
["Юргинский муниципальный район","Сельское поселение Юргинского муниципального района/Проскоковское","32640428"]
["Юргинский муниципальный район","Сельское поселение Юргинского муниципального района/Тальское","32640432"]
["Юргинский муниципальный район","Сельское поселение Юргинского муниципального района/Юргинское","32640436"]
["Юргинский муниципальный район","Юргинский муниципальный район","32640000"]
["Яйский муниципальный округ","Яйский муниципальный округ","32543000"]
["Яйский муниципальный район","Городское поселение Яйского муниципального района/ п.г.т. Яя","32643151"]
["Яйский муниципальный район","Сельское поселение Яйского муниципального района/Безлесное","32643404"]
["Яйский муниципальный район","Сельское поселение Яйского муниципального района/Бекетское","32643408"]
["Яйский муниципальный район","Сельское поселение Яйского муниципального района/Вознесенское","32643412"]
["Яйский муниципальный район","Сельское поселение Яйского муниципального района/Дачно-Троицкое","32643416"]
["Яйский муниципальный район","Сельское поселение Яйского муниципального района/Кайлинское","32643424"]
["Яйский муниципальный район","Сельское поселение Яйского муниципального района/Китатское","32643428"]
["Яйский муниципальный район","Сельское поселение Яйского муниципального района/Марьевское","32643432"]
["Яйский муниципальный район","Сельское поселение Яйского муниципального района/Судженское","32643436"]
["Яйский муниципальный район","Сельское поселение Яйского муниципального района/Улановское","32643440"]
["Яйский муниципальный район","Яйский муниципальный район","32643000"]
["Яшкинский муниципальный округ","Яшкинский муниципальный округ","32546000"]
["Яшкинский муниципальный район","Городское поселение Яшкинского муниципального района/п.г.т. Яшкино","32646151"]
["Яшкинский муниципальный район","Сельское поселение Яшкинского муниципального района/Акациевское","32646402"]
["Яшкинский муниципальный район","Сельское поселение Яшкинского муниципального района/Дубровинское","32646408"]
["Яшкинский муниципальный район","Сельское поселение Яшкинского муниципального района/Колмогоровское","32646414"]
["Яшкинский муниципальный район","Сельское поселение Яшкинского муниципального района/Ленинское","32646419"]
["Яшкинский муниципальный район","Сельское поселение Яшкинского муниципального района/Литвиновское","32646420"]
["Яшкинский муниципальный район","Сельское поселение Яшкинского муниципального района/Пачинское","32646424"]
["Яшкинский муниципальный район","Сельское поселение Яшкинского муниципального района/Пашковское","32646428"]
["Яшкинский муниципальный район","Сельское поселение Яшкинского муниципального района/Поломошинское","32646432"]
["Яшкинский муниципальный район","Сельское поселение Яшкинского муниципального района/Таловское","32646436"]
["Яшкинский муниципальный район","Сельское поселение Яшкинского муниципального района/Шахтерское","32646450"]
["Яшкинский муниципальный район","Яшкинский муниципальный район","32646000"]
["город Анжеро-Судженск","город Анжеро-Судженск","32704000"]
["город Белово","город Белово","32707000"]
["город Березовский","город Березовский","32710000"]
["город Калтан","город Калтан","32715000"]
["город Кемерово","город Кемерово","32701000"]
["город Киселевск","город Киселевск","32716000"]
["город Ленинск-Кузнецкий","город Ленинск-Кузнецкий","32719000"]
["город Междуреченск","город Междуреченск","32725000"]
["город Мыски","город Мыски","32728000"]
["город Новокузнецк","город Новокузнецк","32731000"]
["город Осинники","город Осинники","32734000"]
["город Полысаево","город Полысаево","32732000"]
["город Прокопьевск","город Прокопьевск","32737000"]
["город Тайга","город Тайга","32740000"]
["город Юрга","город Юрга","32749000"]
["поселок городского типа Краснобродский","поселок городского типа Краснобродский","32751000"]

{"sheet":"REESTR_ORG","index":37,"n_rows":310,"n_cols":10,"rows_kept":310,"cut":false,"hidden":true,"merged":[]}
["№","REGION_ID","REGION_NAME","RST_ORG_ID","ORG_NAME","INN_NAME","KPP_NAME","ORG_START_DATE","ORG_END_DATE"]
[1,"2655","Кемеровская область","26560525","АО \"ГУ ЖКХ\"","5116000922","511601001","13-05-2009 00:00:00",null,"VS"]
[2,"2655","Кемеровская область","30401246","АО \"ГУ ЖКХ\"","5116000922","540645001",null,null,"VS"]
[3,"2655","Кемеровская область","26356953","АО \"ЕВРАЗ ЗСМК\"","4218000951","421801001","30-11-1992 00:00:00",null,"VS"]
[4,"2655","Кемеровская область","28092960","АО \"КФ\" ОСП \"Юргинский ферросплавный завод\"","4216001565","422101001","19-02-2013 00:00:00",null,"VS"]
[5,"2655","Кемеровская область","27804990","АО \"Кемеровская генерация\"","4205243192","420501001","28-04-2012 00:00:00",null,"VS"]
[6,"2655","Кемеровская область","28048296","АО \"Кузбассэнерго\"","4200000333","420501001","30-12-1993 00:00:00",null,"VS"]
[7,"2655","Кемеровская область","27804826","АО \"Кузнецкая ТЭЦ\"","4205243178","420501001","28-04-2012 00:00:00",null,"VS"]
[8,"2655","Кемеровская область","26356963","АО \"ПО Водоканал\"","4223030694","422301001","06-11-2002 00:00:00",null,"VS"]
[9,"2655","Кемеровская область","26322889","АО \"РУСАЛ Новокузнецкий Алюминиевый Завод\"","4221000535","997550001","25-09-2002 00:00:00",null,"VS"]
[10,"2655","Кемеровская область","27820148","АО \"СУЭК-Кузбасс\"","4212024138","421201001","07-05-2007 00:00:00",null,"VS"]
[11,"2655","Кемеровская область","26427918","АО \"Славино\"","4238012426","423801001","17-12-2002 00:00:00","16-11-2022 00:00:00","VS"]
[12,"2655","Кемеровская область","26356905","АО \"Теплоэнерго\"","4205049011","420501001","30-04-2003 00:00:00",null,"VS"]
[13,"2655","Кемеровская область","26427149","АО \"Транснефть-Западная Сибирь\"","5502020634","546050001",null,null,"VS"]
[14,"2655","Кемеровская область","26356936","АО \"Энергетическая компания\"","4212127479","421201001","20-09-2004 00:00:00","31-01-2024 00:00:00","VS"]
[15,"2655","Кемеровская область","26567321","АО «Мариинский ЛВЗ»","4213003050","421301001","25-12-2002 00:00:00",null,"VS"]
[16,"2655","Кемеровская область","27295125","АО ЦОФ \"Берёзовская\"","4203001617","424950001","25-07-2002 00:00:00",null,"VS"]
[17,"2655","Кемеровская область","28976938","Анжеро-Судженская ЛПДС филиала \"Новосибирское РНУ\" АО \"Транснефть - Западная Сибирь\"","5502020634","424603001","15-06-1994 00:00:00",null,"VS"]
[18,"2655","Кемеровская область","26824672","Ачинская дистанция гражданских сооружений - СП КЖД - филиала ОАО \"РЖД\"","7708503727","421301001",null,null,"VS"]
[19,"2655","Кемеровская область","31359053","ИП Чайковский В.Л.","420300472840","отсутствует","17-10-2014 00:00:00",null,"VS"]
[20,"2655","Кемеровская область","28823439","Индивидуальный предприниматель Зубарева Евгения Анатольевна","420508603852","отсутствует","16-03-2009 00:00:00",null,"VS"]
[21,"2655","Кемеровская область","26322867","КАО \"Азот\"","4205000908","997550001","11-07-2001 00:00:00",null,"VS"]
[22,"2655","Кемеровская область","26824651","Красноярская дирекция по тепловодоснабжению","7708503727","246645014",null,null,"VS"]
[23,"2655","Кемеровская область","26824396","Кузбасский территориальный участок ЗСД по тепловодоснабжению - СП ЦД по тепловодоснабжению - филиал ОАО \"РЖД\"","7708503727","540775040",null,null,"VS"]
[24,"2655","Кемеровская область","31159489","МКП  \"Центральная ТЭЦ\"","4220039385","422001001","06-04-2009 00:00:00","01-01-2021 00:00:00","VS"]
[25,"2655","Кемеровская область","31232672","МКП \"ВКХ\"","4217191774","421701001","15-11-2018 00:00:00",null,"VS"]
[26,"2655","Кемеровская область","31387447","МКП \"Водоканал\" ТМР","4252015570","425201001","12-08-2019 00:00:00",null,"VS"]
[27,"2655","Кемеровская область","28751671","МКП \"Водоснаб НМР\"","4252003568","425201001","16-07-2012 00:00:00",null,"VS"]
[28,"2655","Кемеровская область","27978231","МКП \"ЖКХ\"","4230005515","423001001","18-09-2012 00:00:00",null,"VS"]
[29,"2655","Кемеровская область","30808700","МКП \"КОМФОРТ\"","4213011357","421301001","02-03-2016 00:00:00",null,"VS"]
[30,"2655","Кемеровская область","31319221","МКП \"КТВС НМР\"","4252015404","425201001","05-06-2019 00:00:00",null,"VS"]
[31,"2655","Кемеровская область","27819046","МКП \"КТС Новокузнецкого района\"","4252003487","425201001","26-06-2012 00:00:00",null,"VS"]
[32,"2655","Кемеровская область","28822005","МКП \"Полигон ТБО\"","4246018397","424601001","29-05-2013 00:00:00",null,"VS"]
[33,"2655","Кемеровская область","31087651","МКП \"Тепло\"","4230032501","423001001","27-02-2018 00:00:00",null,"VS"]
[34,"2655","Кемеровская область","31367862","МКП \"Теплосеть\" КГО","4222016778","422201001","15-08-2019 00:00:00",null,"VS"]
[35,"2655","Кемеровская область","31343443","МКП ММО \"Ресурс\"","4213012417","421301001","26-07-2019 00:00:00",null,"VS"]
[36,"2655","Кемеровская область","31367841","МКП ОГО \"Теплоэнерго\"","4222016746","422201001","10-07-2019 00:00:00",null,"VS"]
[37,"2655","Кемеровская область","28221445","МП \"Водоканал\" Тайгинского городского округа","4246018157","424601001",null,null,"VS"]
[38,"2655","Кемеровская область","27542200","МП \"Жильё\"","4246000576","424601001","14-09-2011 00:00:00",null,"VS"]
[39,"2655","Кемеровская область","26486390","МП \"Исток\"","4211023572","421101001","13-03-2009 00:00:00",null,"VS"]
[40,"2655","Кемеровская область","27980182","МП \"ССК\"","4217146362","421701001","24-07-2012 00:00:00",null,"VS"]
[41,"2655","Кемеровская область","26505195","МП \"Тепло\"","4211023237","421101001","01-06-2009 00:00:00","22-09-2022 00:00:00","VS"]
[42,"2655","Кемеровская область","26530090","МУП \"Водоканал\"","4214031839","421401001","26-03-2010 00:00:00","07-09-2020 00:00:00","VS"]
[43,"2655","Кемеровская область","27977465","МУП \"Водоканал\"","4202043124","420201001","10-10-2012 00:00:00",null,"VS"]
[44,"2655","Кемеровская область","31310826","МУП \"Водоканал\"","4213012270","421301001","01-02-2019 00:00:00",null,"VS"]
[45,"2655","Кемеровская область","31159399","МУП \"Гарант\"","4213012128","421301001","29-12-2017 00:00:00","07-04-2023 00:00:00","VS"]
[46,"2655","Кемеровская область","31332720","МУП \"Гарант\" КГО","4202050210","420201001","04-12-2015 00:00:00",null,"VS"]
[47,"2655","Кемеровская область","28980595","МУП \"ЖКХ Мариинского муниципального района\"","4213011068","421301001","22-05-2015 00:00:00",null,"VS"]
[48,"2655","Кемеровская область","27826700","МУП \"Жилищно-коммунальное управление Кемеровского муниципального округа\"","4205242791","420501001","26-04-2012 00:00:00",null,"VS"]
[49,"2655","Кемеровская область","31308226","МУП \"ИЖКХ\" Ижморского муниципального округа\"","4246021336","424601001","01-06-2017 00:00:00",null,"VS"]
[50,"2655","Кемеровская область","31284269","МУП \"Комфорт\"","4230026593","423001001","29-06-2009 00:00:00",null,"VS"]
[51,"2655","Кемеровская область","31241680","МУП \"Междуреченский Водоканал\"","4214040174","421401001","26-10-2018 00:00:00",null,"VS"]
[52,"2655","Кемеровская область","28221676","МУП \"Сервис коммунальных систем\"","4213010226","421301001","13-03-2013 00:00:00","20-12-2021 00:00:00","VS"]
[53,"2655","Кемеровская область","31579664","МУП \"ТЖКХ\" Тисульского муниципального района\"","4213012375","421301001","10-07-2019 00:00:00",null,"VS"]
[54,"2655","Кемеровская область","31338382","МУП \"Тепловик\"","4246022315","424601001","25-04-2019 00:00:00",null,"VS"]
[55,"2655","Кемеровская область","28503043","МУП \"УК ЖКХ\"","4222014844","422201001","03-12-2013 00:00:00",null,"VS"]
[56,"2655","Кемеровская область","30824381","МУП \"Энерго-Сервис\"","4246019665","424601001","22-07-2016 00:00:00",null,"VS"]
[57,"2655","Кемеровская область","31218522","МУП \"ЯТО\" Яйского муниципального округа","4246022072","424601001","24-09-2018 00:00:00",null,"VS"]
[58,"2655","Кемеровская область","26322887","МУП «ЖКХ» Новокузнецкого района","4238015970","423801001","05-07-2004 00:00:00",null,"VS"]
[59,"2655","Кемеровская область","31003143","МУП Гурьевского муниципального района \"УК ЖКХ\"","4202047136","420201001","13-01-2014 00:00:00",null,"VS"]
[60,"2655","Кемеровская область","26357006","МУП ЖКУ \"Белогорск\"","4243015398","424301001","02-09-2003 00:00:00","26-05-2023 00:00:00","VS"]
[61,"2655","Кемеровская область","28954358","МУП КГО \"УКВС\"","4222015220","422201001","10-10-2014 00:00:00","02-11-2021 00:00:00","VS"]
[62,"2655","Кемеровская область","28511994","МУП ОГО \"Водоканал\"","4222014989","422201001","28-05-2014 00:00:00","20-09-2022 00:00:00","VS"]
[63,"2655","Кемеровская область","30435868","МУП ПМР \"Теплоком\"","4223095814","422301001","07-12-2015 00:00:00","01-03-2020 00:00:00","VS"]
[64,"2655","Кемеровская область","28254166","МУП ПМР \"Тепломир\"","4223060667","422301001","10-07-2013 00:00:00",null,"VS"]
[65,"2655","Кемеровская область","31159337","МУП бытового обслуживания","4244000281","421301001","17-07-1996 00:00:00","27-05-2019 00:00:00","VS"]
[66,"2655","Кемеровская область","28976969","Мариинская нефтеперекачивающая станция филиала \"Новосибирскок РНУ\" АО \"Транснефть - Западная Сибирь\"","5502020634","421303001","15-06-1994 00:00:00",null,"VS"]
[67,"2655","Кемеровская область","26472837","ОАО \"Ваганово\"","4240002697","424001001","03-09-2002 00:00:00",null,"VS"]
[68,"2655","Кемеровская область","26356896","ОАО \"Гурьевский металлургический завод\"","4204000253","421650001","12-05-1996 00:00:00",null,"VS"]
[69,"2655","Кемеровская область","26427858","ОАО \"ИжморВодСтрой\"","4246009988","424601001","28-05-2008 00:00:00","01-03-2020 00:00:00","VS"]
[70,"2655","Кемеровская область","26322895","ОАО «СКЭК»","4205153492","420501001","01-04-2008 00:00:00",null,"VS"]
[71,"2655","Кемеровская область","28119331","ООО \"АВК ПЛЮС\"","4205252430","420501001","05-03-2013 00:00:00",null,"VS"]
[72,"2655","Кемеровская область","26473644","ООО \"АВК\"","4246009378","424601001","19-02-2008 00:00:00","21-12-2020 00:00:00","VS"]
[73,"2655","Кемеровская область","26567329","ООО \"Агросервис\"","4238015106","421701001","22-11-2003 00:00:00",null,"VS"]
[74,"2655","Кемеровская область","26567354","ООО \"Благоустройство\"","4246006754","424601001","07-04-2006 00:00:00","27-10-2022 00:00:00","VS"]
[75,"2655","Кемеровская область","26428034","ООО \"ВКУ\"","4212427514","421201001","11-04-2005 00:00:00","01-03-2020 00:00:00","VS"]
[76,"2655","Кемеровская область","28817194","ООО \"ВКХ\"","4252005780","425201001","12-12-2013 00:00:00","01-01-2020 00:00:00","VS"]
[77,"2655","Кемеровская область","30988389","ООО \"ВОДОРЕСУРС\"","4253033332","425301001","31-03-2016 00:00:00",null,"VS"]
[78,"2655","Кемеровская область","27886900","ООО \"Веста плюс\"","4223057390","422301001","21-06-2012 00:00:00","01-03-2020 00:00:00","VS"]
[79,"2655","Кемеровская область","31356597","ООО \"ВодСнаб\"","4230030215","423001001","02-10-2015 00:00:00",null,"VS"]
[80,"2655","Кемеровская область","26567176","ООО \"Вода\"","4201008159","424601001","08-08-2002 00:00:00","22-05-2023 00:00:00","VS"]
[81,"2655","Кемеровская область","26427834","ООО \"Водоканал\"","4246009561","424601001","26-02-2008 00:00:00","29-06-2023 00:00:00","VS"]
[82,"2655","Кемеровская область","26427890","ООО \"Водоканал\"","4212027153","421201001","30-07-2008 00:00:00","31-07-2023 00:00:00","VS"]
[83,"2655","Кемеровская область","28869965","ООО \"Водоканал\"","4217166136","421701001","24-11-2014 00:00:00",null,"VS"]
[84,"2655","Кемеровская область","31215010","ООО \"Водоканал\"","4246021953","424601001","28-05-2018 00:00:00",null,"VS"]
[85,"2655","Кемеровская область","31336226","ООО \"Водоканал\"","4252012548","425201001","04-08-2016 00:00:00",null,"VS"]
[86,"2655","Кемеровская область","31022521","ООО \"Водоканал\"","4252014295","425201001","27-09-2017 00:00:00",null,"VS"]
[87,"2655","Кемеровская область","28452863","ООО \"Водоканал\"","4253018285","425301001","20-11-2013 00:00:00",null,"VS"]
[88,"2655","Кемеровская область","26427946","ООО \"Водопроводные сети\"","4213007304","421301001","26-03-2008 00:00:00","01-03-2020 00:00:00","VS"]
[89,"2655","Кемеровская область","27391966","ООО \"Водоснабжение\"","4252001828","425201001","28-07-2011 00:00:00","18-01-2023 00:00:00","VS"]
[90,"2655","Кемеровская область","27336388","ООО \"ГД санаторий имени \"60-летия Кузбасса\"","4218025530","421801001","15-04-2004 00:00:00","18-05-2022 00:00:00","VS"]
[91,"2655","Кемеровская область","30373418","ООО \"Горводоканал\"","4202050033","420201001","21-10-2015 00:00:00",null,"VS"]
[92,"2655","Кемеровская область","28136671","ООО \"Горводоканал\"","5406737355","540501001","20-03-2013 00:00:00",null,"VS"]
[93,"2655","Кемеровская область","31573961","ООО \"Гурьевск-Сталь\"","4202050643","420201001","01-04-2016 00:00:00",null,"VS"]
[94,"2655","Кемеровская область","26427930","ООО \"ЖКУ \"Надежда\"","4213004920","421301001","13-07-2004 00:00:00","20-12-2020 00:00:00","VS"]
[95,"2655","Кемеровская область","26476793","ООО \"ЖКХ Тамбар\"","4243006153","424301001","27-11-2007 00:00:00",null,"VS"]
[96,"2655","Кемеровская область","26356925","ООО \"ЖКХ с. Тараданово\"","4212004950","421201001","01-12-2005 00:00:00","01-03-2020 00:00:00","VS"]
[97,"2655","Кемеровская область","29645515","ООО \"ЗЖБК-Сервис+\"","4217164072","421701001","13-08-2014 00:00:00",null,"VS"]
[98,"2655","Кемеровская область","28509720","ООО \"Завод \"Горэкс-Светотехника\"","4223027701","771501001","09-10-2012 00:00:00",null,"VS"]
[99,"2655","Кемеровская область","31527562","ООО \"ИНТЕГРАЛ\"","7707422881","770701001","19-11-2018 00:00:00",null,"VS"]
[100,"2655","Кемеровская область","26476936","ООО \"Ивановское ЖКХ\"","4213006678","421301001","05-02-2007 00:00:00","28-01-2021 00:00:00","VS"]
[101,"2655","Кемеровская область","30950350","ООО \"Ижморская ТСК\"","4246021343","424601001","07-06-2017 00:00:00",null,"VS"]
[102,"2655","Кемеровская область","30854705","ООО \"КВС\"","4223104956","422301001","17-08-2016 00:00:00",null,"VS"]
[103,"2655","Кемеровская область","31656254","ООО \"КК-ИНВЕСТ\"","1901133713","190101001","03-03-2017 00:00:00",null,"VS"]
[104,"2655","Кемеровская область","28270197","ООО \"КРК-Ижморский\"","4205267517","420501001","04-06-2013 00:00:00","19-06-2020 00:00:00","VS"]
[105,"2655","Кемеровская область","26427844","ООО \"КомСервис\"","4217065924","421701001","01-07-2004 00:00:00",null,"VS"]
[106,"2655","Кемеровская область","27658715","ООО \"Коммунальные сети горы Зелёной\"","4228007586","422801001","05-12-2002 00:00:00",null,"VS"]
[107,"2655","Кемеровская область","28221643","ООО \"Компания \"Энергопромсервис\"","4205250721","420501001","14-09-2012 00:00:00","11-12-2020 00:00:00","VS"]
[108,"2655","Кемеровская область","28977055","ООО \"Комресурс\"","4202049013","420201001","05-03-2015 00:00:00","07-08-2020 00:00:00","VS"]
[109,"2655","Кемеровская область","27841462","ООО \"Комфорт - сервис\"","4212032523","421201001","07-06-2011 00:00:00","01-03-2020 00:00:00","VS"]
[110,"2655","Кемеровская область","27822745","ООО \"Мариинский спиртовой комбинат\"","4213009781","421301001","28-05-2012 00:00:00","31-08-2020 00:00:00","VS"]
[111,"2655","Кемеровская область","31424033","ООО \"НТСК\"","5406993045","540601001",null,null,"VS"]
[112,"2655","Кемеровская область","31651536","ООО \"ПК \"Юргинский машзавод\"","4230033216","423001001","18-04-2019 00:00:00",null,"VS"]
[113,"2655","Кемеровская область","26653062","ООО \"ППС Колмогоровский\"","4246016953","424601001","11-05-2010 00:00:00","01-03-2020 00:00:00","VS"]
[114,"2655","Кемеровская область","26356931","ООО \"Панфиловец\"","4212021835","421201001","24-04-2002 00:00:00",null,"VS"]
[115,"2655","Кемеровская область","26473636","ООО \"Потенциал\"","4212029048","421201001",null,"01-03-2020 00:00:00","VS"]
[116,"2655","Кемеровская область","30848646","ООО \"Програнд\"","7702549732","420501001","11-01-2005 00:00:00",null,"VS"]
[117,"2655","Кемеровская область","26428026","ООО \"Промышленновские коммунальные системы\"","4240009967","424001001","25-12-2008 00:00:00",null,"VS"]
[118,"2655","Кемеровская область","30983894","ООО \"РЭСК\"","4202050940","420201001","24-06-2016 00:00:00",null,"VS"]
[119,"2655","Кемеровская область","28151808","ООО \"Ресурс-Гарант\"","4213010240","421301001","21-03-2013 00:00:00",null,"VS"]
[120,"2655","Кемеровская область","31541617","ООО \"СДС\"","4229006578","422901001","03-03-2005 00:00:00",null,"VS"]
[121,"2655","Кемеровская область","26356987","ООО \"СПК \"Чистогорский\"","4238013194","423801001",null,null,"VS"]
[122,"2655","Кемеровская область","31040886","ООО \"СТГК\"","4217182593","421701001","22-03-2017 00:00:00",null,"VS"]
[123,"2655","Кемеровская область","28112120","ООО \"Санаторный коммунальный комплекс\"","4223058869","422301001","29-11-2012 00:00:00","01-01-2019 00:00:00","VS"]
[124,"2655","Кемеровская область","26897760","ООО \"Сибирь-Водоканал 2\"","4202041053","420201001","17-03-2011 00:00:00","01-03-2020 00:00:00","VS"]
[125,"2655","Кемеровская область","28829450","ООО \"СтройТехАгро\"","4205247334","420501001","12-07-2012 00:00:00",null,"VS"]
[126,"2655","Кемеровская область","26356891","ООО \"ТВК\"","4202026697","420201001","02-09-2005 00:00:00",null,"VS"]
[127,"2655","Кемеровская область","28284204","ООО \"ТВК\"","4230006156","423001001","20-11-2012 00:00:00",null,"VS"]
[128,"2655","Кемеровская область","31241637","ООО \"ТВКХ\"","4205375960","424601001","14-12-2018 00:00:00",null,"VS"]
[129,"2655","Кемеровская область","27978219","ООО \"Тепло\"","4246008896","424601001","18-12-2007 00:00:00",null,"VS"]
[130,"2655","Кемеровская область","28819708","ООО \"Тепло\"","4252000648","425201001","15-11-2010 00:00:00",null,"VS"]
[131,"2655","Кемеровская область","26427956","ООО \"Тепло-Водо-Канал\"","4202035660","420201001","10-10-2008 00:00:00","27-03-2020 00:00:00","VS"]
[132,"2655","Кемеровская область","26356937","ООО \"Тепло-энергетические предприятия\"","4212427497","421201001","11-04-2005 00:00:00",null,"VS"]
[133,"2655","Кемеровская область","31221182","ООО \"Тепловик\"","4213012054","421301001","16-03-2018 00:00:00",null,"VS"]
[134,"2655","Кемеровская область","28982662","ООО \"Тепловик\"","4246019841","424601001","23-04-2015 00:00:00",null,"VS"]
[135,"2655","Кемеровская область","26427866","ООО \"Теплосервис\"","4202030485","420201001","25-01-2007 00:00:00","01-03-2020 00:00:00","VS"]
[136,"2655","Кемеровская область","27880847","ООО \"Теплоснаб\"","4230004328","423001001","15-06-2012 00:00:00","13-06-2023 00:00:00","VS"]
[137,"2655","Кемеровская область","30872315","ООО \"Теплоснаб\"","4205325631","420501001","04-04-2016 00:00:00",null,"VS"]
[138,"2655","Кемеровская область","27542212","ООО \"Техстрой\"","4212032682","421201001","01-07-2011 00:00:00","01-03-2020 00:00:00","VS"]
[139,"2655","Кемеровская область","26356983","ООО \"УК \"Энерготранс-Агро\"","4230021588","423001001","29-05-2006 00:00:00",null,"VS"]
[140,"2655","Кемеровская область","30352093","ООО \"УК ЖКХ\"","4228010469","422801001","11-12-2006 00:00:00","05-02-2021 00:00:00","VS"]
[141,"2655","Кемеровская область","26356899","ООО \"УКиТС\"","4204007393","420401001","24-09-2007 00:00:00",null,"VS"]
[142,"2655","Кемеровская область","26356932","ООО \"Шанс\"","4212025734","421201001","17-01-2008 00:00:00",null,"VS"]
[143,"2655","Кемеровская область","26356972","ООО \"Шерегеш-Энерго\"","4228008050","422801001","16-06-2003 00:00:00",null,"VS"]
[144,"2655","Кемеровская область","28270293","ООО \"ЭК\"","4202044463","420201001","21-09-2012 00:00:00",null,"VS"]
[145,"2655","Кемеровская область","30992391","ООО \"ЭнергоТранзит\"","5406603432","421701001","17-10-2017 00:00:00",null,"VS"]
[146,"2655","Кемеровская область","28873362","ООО \"Энергоресурс\"","4205284720","420501001","26-03-2014 00:00:00",null,"VS"]
[147,"2655","Кемеровская область","28976681","ООО \"Энергосервис г. Гурьевска\"","4202049045","420201001","19-03-2015 00:00:00",null,"VS"]
[148,"2655","Кемеровская область","31431661","ООО \"ЮЗК\"","2466232547","540401001",null,null,"VS"]
[149,"2655","Кемеровская область","26427828","ООО \"Юрга Водтранс\"","4230020538","423001001","01-12-2005 00:00:00",null,"VS"]
[150,"2655","Кемеровская область","26427908","ООО \"Ясная поляна\"","4223048846","422301001","11-03-2008 00:00:00","20-11-2020 00:00:00","VS"]
[151,"2655","Кемеровская область","31739633","ООО санаторий \"Кедровый бор\"","4234006397","425001001","30-12-1999 00:00:00",null,"VS"]
[152,"2655","Кемеровская область","26428030","ООО\"Водоснабжение\"","4202023801","420201001","14-11-2003 00:00:00",null,"VS"]
[153,"2655","Кемеровская область","31253284","ПАО \"Южный Кузбасс\"","4214000608","997550001",null,null,"VS"]
[154,"2655","Кемеровская область","30903763","ФГБУ \"ЦЖКУ\" МИНОБОРОНЫ РОССИИ","7729314745","770101001",null,null,"VS"]
[155,"2655","Кемеровская область","26356939","ФГКУ комбинат \"Алтай\" Росрезерва","4213001052","421301001","19-07-1994 00:00:00",null,"VS"]
[156,"2655","Кемеровская область","26427862","ФГУП \"ПО  Прогресс\"","4210000692","420501001","21-02-2003 00:00:00",null,"VS"]
[157,"2655","Кемеровская область","30984255","ФКУ КП-3 ГУФСИН России по Кемеровской области","4244001260","421301001","22-05-1995 00:00:00",null,"VS"]
[158,"2655","Кемеровская область","26987290","Филиал \"Новосибирский\" ОАО \"Славянка\"","7702707386","420543001","30-04-2009 00:00:00","10-02-2021 00:00:00","VS"]
[159,"2655","Кемеровская область","26520873","Филиал АО \"УК \"Кузбассразрезуголь\" \"Талдинский угольный разрез\"","4205049090","423802002","05-05-2003 00:00:00",null,"VS"]
[160,"2655","Кемеровская область","26987067","Филиал АО \"УК \"Кузбассразрезуголь\" - \"Моховский угольный разрез\"","4205049090","421202001","05-05-2003 00:00:00",null,"VS"]
[161,"2655","Кемеровская область","30914574","Филиал ФГБУ \"ЦЖКУ\" МИНОБОРОНЫ РОССИИ (по ЦВО)","7729314745","667043001",null,null,"VS"]
[1,"2655","Кемеровская область","26560525","АО \"ГУ ЖКХ\"","5116000922","511601001","13-05-2009 00:00:00",null,"VO"]
[2,"2655","Кемеровская область","30401246","АО \"ГУ ЖКХ\"","5116000922","540645001",null,null,"VO"]
[3,"2655","Кемеровская область","26356953","АО \"ЕВРАЗ ЗСМК\"","4218000951","421801001","30-11-1992 00:00:00",null,"VO"]
[4,"2655","Кемеровская область","26356915","АО \"Знамя\"","4211002950","421101001","21-06-1994 00:00:00",null,"VO"]
[5,"2655","Кемеровская область","27804990","АО \"Кемеровская генерация\"","4205243192","420501001","28-04-2012 00:00:00",null,"VO"]
[6,"2655","Кемеровская область","27857950","АО \"Кузбасская птицефабрика\"","4238019693","423801001","02-10-2006 00:00:00",null,"VO"]
[7,"2655","Кемеровская область","26356963","АО \"ПО Водоканал\"","4223030694","422301001","06-11-2002 00:00:00",null,"VO"]
[8,"2655","Кемеровская область","26322889","АО \"РУСАЛ Новокузнецкий Алюминиевый Завод\"","4221000535","997550001","25-09-2002 00:00:00",null,"VO"]
[9,"2655","Кемеровская область","27820148","АО \"СУЭК-Кузбасс\"","4212024138","421201001","07-05-2007 00:00:00",null,"VO"]
[10,"2655","Кемеровская область","26427149","АО \"Транснефть-Западная Сибирь\"","5502020634","546050001",null,null,"VO"]
[11,"2655","Кемеровская область","26356936","АО \"Энергетическая компания\"","4212127479","421201001","20-09-2004 00:00:00","31-01-2024 00:00:00","VO"]
[12,"2655","Кемеровская область","28976938","Анжеро-Судженская ЛПДС филиала \"Новосибирское РНУ\" АО \"Транснефть - Западная Сибирь\"","5502020634","424603001","15-06-1994 00:00:00",null,"VO"]
[13,"2655","Кемеровская область","31359053","ИП Чайковский В.Л.","420300472840","отсутствует","17-10-2014 00:00:00",null,"VO"]
[14,"2655","Кемеровская область","28823439","Индивидуальный предприниматель Зубарева Евгения Анатольевна","420508603852","отсутствует","16-03-2009 00:00:00",null,"VO"]
[15,"2655","Кемеровская область","26322867","КАО \"Азот\"","4205000908","997550001","11-07-2001 00:00:00",null,"VO"]
[16,"2655","Кемеровская область","26824396","Кузбасский территориальный участок ЗСД по тепловодоснабжению - СП ЦД по тепловодоснабжению - филиал ОАО \"РЖД\"","7708503727","540775040",null,null,"VO"]
[17,"2655","Кемеровская область","30365193","МБУ \"Кемдор\"","4205159600","420501001","27-06-2008 00:00:00",null,"VO"]
[18,"2655","Кемеровская область","31232672","МКП \"ВКХ\"","4217191774","421701001","15-11-2018 00:00:00",null,"VO"]
[19,"2655","Кемеровская область","28751671","МКП \"Водоснаб НМР\"","4252003568","425201001","16-07-2012 00:00:00",null,"VO"]
[20,"2655","Кемеровская область","27978231","МКП \"ЖКХ\"","4230005515","423001001","18-09-2012 00:00:00",null,"VO"]
[21,"2655","Кемеровская область","30808700","МКП \"КОМФОРТ\"","4213011357","421301001","02-03-2016 00:00:00",null,"VO"]
[22,"2655","Кемеровская область","31319221","МКП \"КТВС НМР\"","4252015404","425201001","05-06-2019 00:00:00",null,"VO"]
[23,"2655","Кемеровская область","27819046","МКП \"КТС Новокузнецкого района\"","4252003487","425201001","26-06-2012 00:00:00",null,"VO"]
[24,"2655","Кемеровская область","27953146","МКП \"Коммунальные системы\"","4246017964","424601001","01-11-2012 00:00:00","23-08-2023 00:00:00","VO"]
[25,"2655","Кемеровская область","30353027","МКП \"ТВК\"","4246019810","424601001","21-05-2015 00:00:00",null,"VO"]
[26,"2655","Кемеровская область","31087651","МКП \"Тепло\"","4230032501","423001001","27-02-2018 00:00:00",null,"VO"]
[27,"2655","Кемеровская область","31367862","МКП \"Теплосеть\" КГО","4222016778","422201001","15-08-2019 00:00:00",null,"VO"]
[28,"2655","Кемеровская область","31343443","МКП ММО \"Ресурс\"","4213012417","421301001","26-07-2019 00:00:00",null,"VO"]
[29,"2655","Кемеровская область","31367841","МКП ОГО \"Теплоэнерго\"","4222016746","422201001","10-07-2019 00:00:00",null,"VO"]
[30,"2655","Кемеровская область","28221445","МП \"Водоканал\" Тайгинского городского округа","4246018157","424601001",null,null,"VO"]
[31,"2655","Кемеровская область","27542200","МП \"Жильё\"","4246000576","424601001","14-09-2011 00:00:00",null,"VO"]
[32,"2655","Кемеровская область","31329806","МП \"Кристалл\"","4223124159","422301001","27-05-2019 00:00:00",null,"VO"]
[33,"2655","Кемеровская область","27980182","МП \"ССК\"","4217146362","421701001","24-07-2012 00:00:00",null,"VO"]
[34,"2655","Кемеровская область","26428157","МП \"Спецавтохозяйство\"","4209000962","420501001","04-12-2002 00:00:00",null,"VO"]
[35,"2655","Кемеровская область","31716615","МП ПЖРЭТ Рудничного района","4205003472","420501001","25-09-2002 00:00:00",null,"VO"]
[36,"2655","Кемеровская область","26530090","МУП \"Водоканал\"","4214031839","421401001","26-03-2010 00:00:00","07-09-2020 00:00:00","VO"]
[37,"2655","Кемеровская область","31310826","МУП \"Водоканал\"","4213012270","421301001","01-02-2019 00:00:00",null,"VO"]
[38,"2655","Кемеровская область","31159399","МУП \"Гарант\"","4213012128","421301001","29-12-2017 00:00:00","07-04-2023 00:00:00","VO"]
[39,"2655","Кемеровская область","31332720","МУП \"Гарант\" КГО","4202050210","420201001","04-12-2015 00:00:00",null,"VO"]
[40,"2655","Кемеровская область","28980595","МУП \"ЖКХ Мариинского муниципального района\"","4213011068","421301001","22-05-2015 00:00:00",null,"VO"]
[41,"2655","Кемеровская область","27826700","МУП \"Жилищно-коммунальное управление Кемеровского муниципального округа\"","4205242791","420501001","26-04-2012 00:00:00",null,"VO"]
[42,"2655","Кемеровская область","31308226","МУП \"ИЖКХ\" Ижморского муниципального округа\"","4246021336","424601001","01-06-2017 00:00:00",null,"VO"]
[43,"2655","Кемеровская область","31284269","МУП \"Комфорт\"","4230026593","423001001","29-06-2009 00:00:00",null,"VO"]
[44,"2655","Кемеровская область","31241680","МУП \"Междуреченский Водоканал\"","4214040174","421401001","26-10-2018 00:00:00",null,"VO"]
[45,"2655","Кемеровская область","28221676","МУП \"Сервис коммунальных систем\"","4213010226","421301001","13-03-2013 00:00:00","20-12-2021 00:00:00","VO"]
[46,"2655","Кемеровская область","31579664","МУП \"ТЖКХ\" Тисульского муниципального района\"","4213012375","421301001","10-07-2019 00:00:00",null,"VO"]
[47,"2655","Кемеровская область","28503043","МУП \"УК ЖКХ\"","4222014844","422201001","03-12-2013 00:00:00",null,"VO"]
[48,"2655","Кемеровская область","30824381","МУП \"Энерго-Сервис\"","4246019665","424601001","22-07-2016 00:00:00",null,"VO"]
[49,"2655","Кемеровская область","31218522","МУП \"ЯТО\" Яйского муниципального округа","4246022072","424601001","24-09-2018 00:00:00",null,"VO"]
[50,"2655","Кемеровская область","26322887","МУП «ЖКХ» Новокузнецкого района","4238015970","423801001","05-07-2004 00:00:00",null,"VO"]
[51,"2655","Кемеровская область","31003143","МУП Гурьевского муниципального района \"УК ЖКХ\"","4202047136","420201001","13-01-2014 00:00:00",null,"VO"]
[52,"2655","Кемеровская область","26357006","МУП ЖКУ \"Белогорск\"","4243015398","424301001","02-09-2003 00:00:00","26-05-2023 00:00:00","VO"]
[53,"2655","Кемеровская область","28954364","МУП КГО \"УКВО\"","4222015213","422201001","10-10-2014 00:00:00","29-03-2022 00:00:00","VO"]
[54,"2655","Кемеровская область","28954358","МУП КГО \"УКВС\"","4222015220","422201001","10-10-2014 00:00:00","02-11-2021 00:00:00","VO"]
[55,"2655","Кемеровская область","28511994","МУП ОГО \"Водоканал\"","4222014989","422201001","28-05-2014 00:00:00","20-09-2022 00:00:00","VO"]
[56,"2655","Кемеровская область","30435868","МУП ПМР \"Теплоком\"","4223095814","422301001","07-12-2015 00:00:00","01-03-2020 00:00:00","VO"]
[57,"2655","Кемеровская область","28254166","МУП ПМР \"Тепломир\"","4223060667","422301001","10-07-2013 00:00:00",null,"VO"]
[58,"2655","Кемеровская область","31159337","МУП бытового обслуживания","4244000281","421301001","17-07-1996 00:00:00","27-05-2019 00:00:00","VO"]
[59,"2655","Кемеровская область","28976969","Мариинская нефтеперекачивающая станция филиала \"Новосибирскок РНУ\" АО \"Транснефть - Западная Сибирь\"","5502020634","421303001","15-06-1994 00:00:00",null,"VO"]
[60,"2655","Кемеровская область","26356896","ОАО \"Гурьевский металлургический завод\"","4204000253","421650001","12-05-1996 00:00:00",null,"VO"]
[61,"2655","Кемеровская область","26427858","ОАО \"ИжморВодСтрой\"","4246009988","424601001","28-05-2008 00:00:00","01-03-2020 00:00:00","VO"]
[62,"2655","Кемеровская область","26567308","ОАО \"СУЭК-Кузбасс\" шахта Полысаевская","4212024138","424901001","07-05-2007 00:00:00",null,"VO"]
[63,"2655","Кемеровская область","26322895","ОАО «СКЭК»","4205153492","420501001","01-04-2008 00:00:00",null,"VO"]
[64,"2655","Кемеровская область","26473644","ООО \"АВК\"","4246009378","424601001","19-02-2008 00:00:00","21-12-2020 00:00:00","VO"]
[65,"2655","Кемеровская область","27784286","ООО \"Авексима Сибирь\"","4205051780","424601001","02-07-2003 00:00:00",null,"VO"]
[66,"2655","Кемеровская область","28954370","ООО \"Белсток\"","4202047785","420201001","28-04-2014 00:00:00",null,"VO"]
[67,"2655","Кемеровская область","26567354","ООО \"Благоустройство\"","4246006754","424601001","07-04-2006 00:00:00","27-10-2022 00:00:00","VO"]
[68,"2655","Кемеровская область","26428034","ООО \"ВКУ\"","4212427514","421201001","11-04-2005 00:00:00","01-03-2020 00:00:00","VO"]
[69,"2655","Кемеровская область","28817194","ООО \"ВКХ\"","4252005780","425201001","12-12-2013 00:00:00","01-01-2020 00:00:00","VO"]
[70,"2655","Кемеровская область","30988389","ООО \"ВОДОРЕСУРС\"","4253033332","425301001","31-03-2016 00:00:00",null,"VO"]
[71,"2655","Кемеровская область","27886900","ООО \"Веста плюс\"","4223057390","422301001","21-06-2012 00:00:00","01-03-2020 00:00:00","VO"]
[72,"2655","Кемеровская область","31356597","ООО \"ВодСнаб\"","4230030215","423001001","02-10-2015 00:00:00",null,"VO"]
[73,"2655","Кемеровская область","26567176","ООО \"Вода\"","4201008159","424601001","08-08-2002 00:00:00","22-05-2023 00:00:00","VO"]
[74,"2655","Кемеровская область","26427834","ООО \"Водоканал\"","4246009561","424601001","26-02-2008 00:00:00","29-06-2023 00:00:00","VO"]
[75,"2655","Кемеровская область","26427890","ООО \"Водоканал\"","4212027153","421201001","30-07-2008 00:00:00","31-07-2023 00:00:00","VO"]
[76,"2655","Кемеровская область","28869965","ООО \"Водоканал\"","4217166136","421701001","24-11-2014 00:00:00",null,"VO"]
[77,"2655","Кемеровская область","31215010","ООО \"Водоканал\"","4246021953","424601001","28-05-2018 00:00:00",null,"VO"]
[78,"2655","Кемеровская область","31336226","ООО \"Водоканал\"","4252012548","425201001","04-08-2016 00:00:00",null,"VO"]
[79,"2655","Кемеровская область","28452863","ООО \"Водоканал\"","4253018285","425301001","20-11-2013 00:00:00",null,"VO"]
[80,"2655","Кемеровская область","28113313","ООО \"Водокомплекс\"","5406734820","540501001","28-02-2013 00:00:00",null,"VO"]
[81,"2655","Кемеровская область","26427940","ООО \"Водоотведение\"","4252001810","425201001","01-01-2012 00:00:00","18-01-2023 00:00:00","VO"]
[82,"2655","Кемеровская область","26427946","ООО \"Водопроводные сети\"","4213007304","421301001","26-03-2008 00:00:00","01-03-2020 00:00:00","VO"]
[83,"2655","Кемеровская область","27336388","ООО \"ГД санаторий имени \"60-летия Кузбасса\"","4218025530","421801001","15-04-2004 00:00:00","18-05-2022 00:00:00","VO"]
[84,"2655","Кемеровская область","30373418","ООО \"Горводоканал\"","4202050033","420201001","21-10-2015 00:00:00",null,"VO"]
[85,"2655","Кемеровская область","28136671","ООО \"Горводоканал\"","5406737355","540501001","20-03-2013 00:00:00",null,"VO"]
[86,"2655","Кемеровская область","31573961","ООО \"Гурьевск-Сталь\"","4202050643","420201001","01-04-2016 00:00:00",null,"VO"]
[87,"2655","Кемеровская область","26427930","ООО \"ЖКУ \"Надежда\"","4213004920","421301001","13-07-2004 00:00:00","20-12-2020 00:00:00","VO"]
[88,"2655","Кемеровская область","29645515","ООО \"ЗЖБК-Сервис+\"","4217164072","421701001","13-08-2014 00:00:00",null,"VO"]
[89,"2655","Кемеровская область","28509720","ООО \"Завод \"Горэкс-Светотехника\"","4223027701","771501001","09-10-2012 00:00:00",null,"VO"]
[90,"2655","Кемеровская область","30950350","ООО \"Ижморская ТСК\"","4246021343","424601001","07-06-2017 00:00:00",null,"VO"]
[91,"2655","Кемеровская область","26428082","ООО \"Инженерный центр\"","4205058070","420501001","03-12-2003 00:00:00",null,"VO"]
[92,"2655","Кемеровская область","28270197","ООО \"КРК-Ижморский\"","4205267517","420501001","04-06-2013 00:00:00","19-06-2020 00:00:00","VO"]
[93,"2655","Кемеровская область","30439108","ООО \"КХ\"","4223096575","422301001","09-02-2016 00:00:00",null,"VO"]
[94,"2655","Кемеровская область","27658715","ООО \"Коммунальные сети горы Зелёной\"","4228007586","422801001","05-12-2002 00:00:00",null,"VO"]
[95,"2655","Кемеровская область","28221643","ООО \"Компания \"Энергопромсервис\"","4205250721","420501001","14-09-2012 00:00:00","11-12-2020 00:00:00","VO"]
[96,"2655","Кемеровская область","28977055","ООО \"Комресурс\"","4202049013","420201001","05-03-2015 00:00:00","07-08-2020 00:00:00","VO"]
[97,"2655","Кемеровская область","27822745","ООО \"Мариинский спиртовой комбинат\"","4213009781","421301001","28-05-2012 00:00:00","31-08-2020 00:00:00","VO"]
[98,"2655","Кемеровская область","27838991","ООО \"ОФ \"Прокопьевскуголь\"","4223036696","422301001","21-07-2004 00:00:00",null,"VO"]
[99,"2655","Кемеровская область","26653062","ООО \"ППС Колмогоровский\"","4246016953","424601001","11-05-2010 00:00:00","01-03-2020 00:00:00","VO"]
[100,"2655","Кемеровская область","26356931","ООО \"Панфиловец\"","4212021835","421201001","24-04-2002 00:00:00",null,"VO"]
[101,"2655","Кемеровская область","26473636","ООО \"Потенциал\"","4212029048","421201001",null,"01-03-2020 00:00:00","VO"]
[102,"2655","Кемеровская область","30848646","ООО \"Програнд\"","7702549732","420501001","11-01-2005 00:00:00",null,"VO"]
[103,"2655","Кемеровская область","26428026","ООО \"Промышленновские коммунальные системы\"","4240009967","424001001","25-12-2008 00:00:00",null,"VO"]
[104,"2655","Кемеровская область","30872369","ООО \"РСО УК Заповедная\"","4250011154","425001001","22-08-2016 00:00:00",null,"VO"]
[105,"2655","Кемеровская область","30983894","ООО \"РЭСК\"","4202050940","420201001","24-06-2016 00:00:00",null,"VO"]
[106,"2655","Кемеровская область","28151808","ООО \"Ресурс-Гарант\"","4213010240","421301001","21-03-2013 00:00:00",null,"VO"]
[107,"2655","Кемеровская область","31541617","ООО \"СДС\"","4229006578","422901001","03-03-2005 00:00:00",null,"VO"]
[108,"2655","Кемеровская область","31456803","ООО \"СЕТИ-КОМ\"","4246022410","424601001","12-07-2019 00:00:00",null,"VO"]
[109,"2655","Кемеровская область","26356987","ООО \"СПК \"Чистогорский\"","4238013194","423801001",null,null,"VO"]
[110,"2655","Кемеровская область","31040886","ООО \"СТГК\"","4217182593","421701001","22-03-2017 00:00:00",null,"VO"]
[111,"2655","Кемеровская область","27951927","ООО \"Сервис услуги\"","4213009774","540501001","12-11-2012 00:00:00","11-03-2020 00:00:00","VO"]
[112,"2655","Кемеровская область","26897760","ООО \"Сибирь-Водоканал 2\"","4202041053","420201001","17-03-2011 00:00:00","01-03-2020 00:00:00","VO"]
[113,"2655","Кемеровская область","26356891","ООО \"ТВК\"","4202026697","420201001","02-09-2005 00:00:00",null,"VO"]
[114,"2655","Кемеровская область","28284204","ООО \"ТВК\"","4230006156","423001001","20-11-2012 00:00:00",null,"VO"]
[115,"2655","Кемеровская область","31241637","ООО \"ТВКХ\"","4205375960","424601001","14-12-2018 00:00:00",null,"VO"]
[116,"2655","Кемеровская область","27978219","ООО \"Тепло\"","4246008896","424601001","18-12-2007 00:00:00",null,"VO"]
[117,"2655","Кемеровская область","28819708","ООО \"Тепло\"","4252000648","425201001","15-11-2010 00:00:00",null,"VO"]
[118,"2655","Кемеровская область","26427956","ООО \"Тепло-Водо-Канал\"","4202035660","420201001","10-10-2008 00:00:00","27-03-2020 00:00:00","VO"]
[119,"2655","Кемеровская область","26356937","ООО \"Тепло-энергетические предприятия\"","4212427497","421201001","11-04-2005 00:00:00",null,"VO"]
[120,"2655","Кемеровская область","26427866","ООО \"Теплосервис\"","4202030485","420201001","25-01-2007 00:00:00","01-03-2020 00:00:00","VO"]
[121,"2655","Кемеровская область","27880847","ООО \"Теплоснаб\"","4230004328","423001001","15-06-2012 00:00:00","13-06-2023 00:00:00","VO"]
[122,"2655","Кемеровская область","30872315","ООО \"Теплоснаб\"","4205325631","420501001","04-04-2016 00:00:00",null,"VO"]
[123,"2655","Кемеровская область","27542212","ООО \"Техстрой\"","4212032682","421201001","01-07-2011 00:00:00","01-03-2020 00:00:00","VO"]
[124,"2655","Кемеровская область","26356983","ООО \"УК \"Энерготранс-Агро\"","4230021588","423001001","29-05-2006 00:00:00",null,"VO"]
[125,"2655","Кемеровская область","30352093","ООО \"УК ЖКХ\"","4228010469","422801001","11-12-2006 00:00:00","05-02-2021 00:00:00","VO"]
[126,"2655","Кемеровская область","26356899","ООО \"УКиТС\"","4204007393","420401001","24-09-2007 00:00:00",null,"VO"]
[127,"2655","Кемеровская область","26755694","ООО \"Управление канализационного хозяйства\"","4211024431","421101001","14-09-2010 00:00:00","22-07-2022 00:00:00","VO"]
[128,"2655","Кемеровская область","27969207","ООО \"Центральная ТЭЦ\"","4217148426","421701001","12-10-2012 00:00:00","25-07-2022 00:00:00","VO"]
[129,"2655","Кемеровская область","30837604","ООО \"Шалым\"","4228010412","422801001","07-12-2006 00:00:00",null,"VO"]
[130,"2655","Кемеровская область","26356932","ООО \"Шанс\"","4212025734","421201001","17-01-2008 00:00:00",null,"VO"]
[131,"2655","Кемеровская область","26356972","ООО \"Шерегеш-Энерго\"","4228008050","422801001","16-06-2003 00:00:00",null,"VO"]
[132,"2655","Кемеровская область","28270293","ООО \"ЭК\"","4202044463","420201001","21-09-2012 00:00:00",null,"VO"]
[133,"2655","Кемеровская область","28873362","ООО \"Энергоресурс\"","4205284720","420501001","26-03-2014 00:00:00",null,"VO"]
[134,"2655","Кемеровская область","28976681","ООО \"Энергосервис г. Гурьевска\"","4202049045","420201001","19-03-2015 00:00:00",null,"VO"]
[135,"2655","Кемеровская область","26427828","ООО \"Юрга Водтранс\"","4230020538","423001001","01-12-2005 00:00:00",null,"VO"]
[136,"2655","Кемеровская область","26356982","ООО \"Юргинский машиностроительный завод\"","4230020425","423001001","20-10-2005 00:00:00",null,"VO"]
[137,"2655","Кемеровская область","26427908","ООО \"Ясная поляна\"","4223048846","422301001","11-03-2008 00:00:00","20-11-2020 00:00:00","VO"]
[138,"2655","Кемеровская область","31739633","ООО санаторий \"Кедровый бор\"","4234006397","425001001","30-12-1999 00:00:00",null,"VO"]
[139,"2655","Кемеровская область","26428076","ООО\"БелГОС\"","4202023230","420201001","03-07-2003 00:00:00",null,"VO"]
[140,"2655","Кемеровская область","26428030","ООО\"Водоснабжение\"","4202023801","420201001","14-11-2003 00:00:00",null,"VO"]
[141,"2655","Кемеровская область","31253284","ПАО \"Южный Кузбасс\"","4214000608","997550001",null,null,"VO"]
[142,"2655","Кемеровская область","30903763","ФГБУ \"ЦЖКУ\" МИНОБОРОНЫ РОССИИ","7729314745","770101001",null,null,"VO"]
[143,"2655","Кемеровская область","26356914","ФГКУ комбинат \"Малахит\"","4209023208","420501001","30-11-1995 00:00:00",null,"VO"]
[144,"2655","Кемеровская область","26427862","ФГУП \"ПО  Прогресс\"","4210000692","420501001","21-02-2003 00:00:00",null,"VO"]
[145,"2655","Кемеровская область","26987290","Филиал \"Новосибирский\" ОАО \"Славянка\"","7702707386","420543001","30-04-2009 00:00:00","10-02-2021 00:00:00","VO"]
[146,"2655","Кемеровская область","26520873","Филиал АО \"УК \"Кузбассразрезуголь\" \"Талдинский угольный разрез\"","4205049090","423802002","05-05-2003 00:00:00",null,"VO"]
[147,"2655","Кемеровская область","26987067","Филиал АО \"УК \"Кузбассразрезуголь\" - \"Моховский угольный разрез\"","4205049090","421202001","05-05-2003 00:00:00",null,"VO"]
[148,"2655","Кемеровская область","30914574","Филиал ФГБУ \"ЦЖКУ\" МИНОБОРОНЫ РОССИИ (по ЦВО)","7729314745","667043001",null,null,"VO"]

{"sheet":"REESTR_TARIFF","index":38,"n_rows":3,"n_cols":11,"rows_kept":3,"cut":false,"hidden":true,"merged":[]}
["TEMPLATE_LGL_ID","TEMPLATE_PRD","TEMPLATE_STATUS","TEMPLATE_DATE","TARIFF_ID","TARIFF_VID","TARIFF_TIP","TARIFF_VDET","TARIFF_VTOV","TARIFF_DOP","TARIFF_MO_LIST"]
[null,null,null,null,"ВО.42.26428076.0001","<нет шаблона>"]
["7659327564","2024","Принят","22.01.2024 07:12:17","ВО.42.26428076.0002","тариф на водоотведение","одноставочный","Приём сточных вод :: Очистка сточных вод :: Транспортировка сточных вод","без дифференциации",null,"город Белово/город Белово/32707000/Зона деятельности гарантирующей организации определена в границах  центральной части г. Белово, пгт. Грамотеино, пгт. Инской."]

{"sheet":"REESTR_OBJECT","index":39,"n_rows":15,"n_cols":9,"rows_kept":15,"cut":false,"hidden":true,"merged":[]}
["SPHERE","NMBR","NMOB","STYPE","ADDRESS","L_EXPLOIT_DOC_BASE","L_EXPLOIT_DOC_TYPE","L_EXPLOIT_DOC_NUMBER","L_EXPLOIT_DOC_DATE"]
["ВО",null,"КНС \"Вокзал\"","КНС","г Белово / ул.Юбилейная / нет","концессионное соглашение","соглашение","№ 1","26.12.2018"]
["ВО",null,"КНС \"Горсад\"","КНС","г Белово / ул.Советская / нет","концессионное соглашение","соглашение","№ 1","26.12.2018"]
["ВО",null,"КНС \"Машзавод\"","КНС с сетями","г Белово / ул.2-я Рабочая / нет","аренда","договор","03/19","01.06.2019"]
["ВО",null,"КНС \"Элеватор\"","КНС","г Белово / ул.Железнодорожная / нет","концессионное соглашение","соглашение","№ 1","26.12.2018"]
["ВО",null,"КНС м-н \"Ивушка\"","КНС","пгт Грамотеино / мкр. Ивушка / нет","концессионное соглашение","соглашение","№ 1","26.12.2018"]
["ВО",null,"КНС пгт.Грамотеино","КНС","пгт Грамотеино / ул.Светлая / нет","концессионное соглашение","соглашение","№ 1","26.12.2018"]
["ВО",null,"КНС пгт.Инской","КНС","пгт Инской / мкр. Технологический / 1","аренда","договор","Т-5-А14","17.12.2014"]
["ВО",null,"Очистные сооружения г.Белово","ОС","г Белово / ул.Кузбасская / 6","концессионное соглашение","соглашение","№ 1","26.12.2018"]
["ВО",null,"Очистные сооружения м-н\"Ивушка\"","КНС с ОС и сетями","пгт Грамотеино / мкр. Ивушка / нет","концессионное соглашение","соглашение","№ 1","26.12.2018"]
["ВО",null,"Очистные сооружения п.Инской","ОС","пгт Инской / мкр. Технологический / 26","концессионное соглашение","соглашение","№ 1","26.12.2018"]
["ВО",null,"Очистные сооружения пгт.Грамотеино","ОС","пгт Грамотеино / нет / нет","концессионное соглашение","соглашение","№ 1","26.12.2018"]
["ВО",null,"Сети г.Белово","сеть","г Белово / г.Белово / нет","концессионное соглашение","соглашение","№ 1","26.12.2018"]
["ВО",null,"Сети п.Инской","сеть","пгт Инской / пгт Инской / нет","концессионное соглашение","соглашение","№ 1","26.12.2018"]
["ВО",null,"Сети пгт.Грамотеино","сеть","пгт Грамотеино / пгт Грамотеино / нет","концессионное соглашение","соглашение","№ 1","26.12.2018"]

{"sheet":"modfrmDPR","index":40,"n_rows":0,"n_cols":0,"rows_kept":0,"cut":false,"hidden":true,"merged":[]}

{"sheet":"modfrmSelectTemplate","index":41,"n_rows":0,"n_cols":0,"rows_kept":0,"cut":false,"hidden":true,"merged":[]}

{"sheet":"DICTIONARIES","index":42,"n_rows":97,"n_cols":3,"rows_kept":97,"cut":false,"hidden":true,"merged":[]}
["OPF_VALUE","SUBSIDIARY_LIST","DPR_LIST"]
["1 10 51 | Полные товарищества","Кемеровская ГРЭС"]
["1 10 64 | Товарищества на вере (коммандитные товарищества)","Кемеровская ТЭЦ","1-го водоподъёма г. Новокузнецк"]
["1 22 47 | Публичные акционерные общества","Филиал \"Новосибирский\"","1-го водоподъёма г. Прокопьевск"]
["1 22 67 | Непубличные акционерные общества",null,"Оказание услуг на территории: Беловский муниципальный район (ОКТМО: 32601000) - эксплуатация имущества по договору аренды"]
["1 23 00 | Общества с ограниченной ответственностью",null,"Оказание услуг на территории: Беловский муниципальный район (ОКТМО: 32601000) - эксплуатация имущества по концессионному соглашению"]
["1 30 00 | Хозяйственные партнерства",null,"Оказание услуг на территории: Кемеровский муниципальный округ (ОКТМО: 32507000) - д Сухово, п Металлплощадка"]
["1 41 00 | Сельскохозяйственные производственные кооперативы",null,"Оказание услуг на территории: Крапивинский муниципальный округ (ОКТМО: 32510000) - за исключением пгт Крапивинский, пгт Зеленогорский, с Борисово"]
["1 41 53 | Сельскохозяйственные артели (колхозы)",null,"Оказание услуг на территории: Крапивинский муниципальный округ (ОКТМО: 32510000) - пгт Крапивинский, пгт Зеленогорский, с Борисово"]
["1 41 54 | Рыболовецкие артели (колхозы)",null,"Оказание услуг на территории: Крапивинский муниципальный район (ОКТМО: 32610000)"]
["1 41 55 | Кооперативные хозяйства (коопхозы)",null,"Оказание услуг на территории: Крапивинский муниципальный район (ОКТМО: 32610000) - пгт Крапивинский, пгт Зеленогорский, с Борисово"]
["1 42 00 | Производственные кооперативы (кроме сельскохозяйственных производственных кооперативов)",null,"Оказание услуг на территории: Крапивинский муниципальный район (ОКТМО: 32610000) - пгт Крапивинский, пгт Зеленогорский, с Борисово (за исключением ул. Санаторная, № 1, № 3, № 9, ГАУ КО \"Санаторий Борисовский\", ул. Юбилейная, № 16, ул. Кирова, № 79, ул. Геологов, № 1а)"]
["1 53 00 | Крестьянские (фермерские) хозяйства",null,"Оказание услуг на территории: Крапивинский муниципальный район (ОКТМО: 32610000) - с Борисово (ул. Санаторная, № 1, № 3, № 9, ГАУ КО \"Санаторий Борисовский\", ул. Юбилейная, № 16, ул. Кирова, № 79, ул. Геологов, № 1а)"]
["1 90 00 | Прочие юридические лица, являющиеся коммерческими организациями",null,"Оказание услуг на территории: Мариинский муниципальный район (ОКТМО: 32616000) - имущество, переданное по концессионному соглашению"]
["2 01 01 | Гаражные и гаражно-строительные кооперативы",null,"Оказание услуг на территории: Прокопьевский муниципальный округ (ОКТМО: 32522000) - п Большая Талда"]
["2 01 02 | Жилищные или жилищно-строительные кооперативы",null,"Оказание услуг на территории: Прокопьевский муниципальный округ (ОКТМО: 32522000) - п Калачево"]
["2 01 03 | Жилищные накопительные кооперативы",null,"Оказание услуг на территории: Прокопьевский муниципальный округ (ОКТМО: 32522000) - п Ясная Поляна"]
["2 01 04 | Кредитные потребительские кооперативы",null,"Оказание услуг на территории: Прокопьевский муниципальный округ (ОКТМО: 32522000) - пгт Краснобродский"]
["2 01 05 | Кредитные потребительские кооперативы граждан",null,"Оказание услуг на территории: Прокопьевский муниципальный округ (ОКТМО: 32522000) - пгт Краснобродский, п Артышта"]
["2 01 06 | Кредитные кооперативы второго уровня",null,"Оказание услуг на территории: Прокопьевский муниципальный округ (ОКТМО: 32522000) - с Большая Талда"]
["2 01 07 | Потребительские общества",null,"Оказание услуг на территории: Прокопьевский муниципальный район (ОКТМО: 32622000) - Большеталдинское, Калачевское, Сафоновское, Терентьевское (с Большая Талда, с Малая Талда, с Тихоновка, с Терентьевское, с Серп и Молот)"]
["2 01 08 | Общества взаимного страхования",null,"Оказание услуг на территории: Прокопьевский муниципальный район (ОКТМО: 32622000) - Бурлаковское, Каменно-Ключевское, Кузбассское, Михайловское, Терентьевское (п Кольчигиз, п Чапаевский, п Ускатский), Трудармейское"]
["2 01 09 | Сельскохозяйственные потребительские перерабатывающие кооперативы",null,"Оказание услуг на территории: Прокопьевский муниципальный район (ОКТМО: 32622000) - сельское поселение Яснополянское"]
["2 01 10 | Сельскохозяйственные потребительские сбытовые (торговые) кооперативы",null,"Оказание услуг на территории: Промышленновский муниципальный район (ОКТМО: 32625000) - пгт Промышленная"]
["2 01 11 | Сельскохозяйственные потребительские обслуживающие кооперативы",null,"Оказание услуг на территории: Топкинский муниципальный округ (ОКТМО: 32531000) - ГЛД Топкинская, квартал 43"]
["2 01 12 | Сельскохозяйственные потребительские снабженческие кооперативы",null,"Оказание услуг на территории: Топкинский муниципальный округ (ОКТМО: 32531000) - г Топки"]
["2 01 15 | Сельскохозяйственные потребительские животноводческие кооперативы",null,"Оказание услуг на территории: Топкинский муниципальный округ (ОКТМО: 32531000) - населенные пункты, за исключением ГЛД Топкинская"]
["2 01 16 | Сельскохозяйственные потребительские растениеводческие кооперативы",null,"Оказание услуг на территории: Топкинский муниципальный район (ОКТМО: 32631000) - Топкинская Роща"]
["2 01 21 | Фонды проката",null,"Оказание услуг на территории: Топкинский муниципальный район (ОКТМО: 32631000) - сельские поселения"]
["2 02 01 | Политические партии",null,"Оказание услуг на территории: Яшкинский муниципальный округ (ОКТМО: 32546000) - имущество, переданное по договору аренды"]
["2 02 02 | Профсоюзные организации",null,"Оказание услуг на территории: Яшкинский муниципальный округ (ОКТМО: 32546000) - имущество, переданное по концессионному соглашению"]
["2 02 10 | Общественные движения",null,"Оказание услуг на территории: город Березовский (ОКТМО: 32710000) - г Березовский"]
["2 02 11 | Органы общественной самодеятельности",null,"Оказание услуг на территории: город Березовский (ОКТМО: 32710000) - г Ленинск-Кузнецкий, г Полысаево"]
["2 02 17 | Территориальные общественные самоуправления",null,"Оказание услуг на территории: город Березовский (ОКТМО: 32710000) - подвоз воды"]
["2 06 01 | Ассоциации (союзы) экономического взаимодействия субъектов Российской Федерации",null,"Оказание услуг на территории: город Кемерово (ОКТМО: 32701000) - г Кемерово"]
["2 06 03 | Советы муниципальных образований субъектов Российской Федерации",null,"Оказание услуг на территории: город Кемерово (ОКТМО: 32701000) - жилые районы Кедровка, Промышленновский"]
["2 06 04 | Союзы (ассоциации) кредитных кооперативов",null,"Оказание услуг на территории: город Кемерово (ОКТМО: 32701000) - подвоз воды"]
["2 06 05 | Союзы (ассоциации) кооперативов",null,"Оказание услуг на территории: город Ленинск-Кузнецкий (ОКТМО: 32719000) - г Ленинск-Кузнецкий"]
["2 06 06 | Союзы (ассоциации) общественных объединений",null,"Оказание услуг на территории: город Ленинск-Кузнецкий (ОКТМО: 32719000) - г Ленинск-Кузнецкий, г Полысаево"]
["2 06 07 | Союзы (ассоциации) общин малочисленных народов",null,"Оказание услуг на территории: город Междуреченск (ОКТМО: 32725000) - подвоз воды"]
["2 06 08 | Союзы потребительских обществ",null,"Оказание услуг на территории: город Новокузнецк (ОКТМО: 32731000) - посёлок Абагур-Лесной"]
["2 06 09 | Адвокатские палаты",null,"Оказание услуг на территории: город Полысаево (ОКТМО: 32732000) - г Ленинск-Кузнецкий, г Полысаево"]
["2 06 10 | Нотариальные палаты",null,"Оказание услуг на территории: город Полысаево (ОКТМО: 32732000) - г Полысаево"]
["2 06 11 | Торгово-промышленные палаты",null,"Оказание услуг на территории: город Юрга (ОКТМО: 32749000) - питьевая вода для АО \"ГУ ЖКХ\""]
["2 06 12 | Объединения работодателей",null,"питьевая вода 3-го водоподъёма ЭЦ"]
["2 06 13 | Объединения фермерских хозяйств",null,"питьевая вода цеха ВС и ВО"]
["2 06 14 | Некоммерческие партнерства",null,"питьевая вода через систему водоснабжения цеха ВС и ВО"]
["2 06 15 | Адвокатские бюро",null,"техническая вода 2-го водоподъема ЭЦ"]
["2 06 16 | Коллегии адвокатов",null,"техническая вода цеха ВС и ВО"]
["2 06 19 | Саморегулируемые организации",null,"техническая осветленная вода цеха ВС и ВО"]
["2 06 20 | Объединения (ассоциации и союзы) благотворительных организаций",null,"Оказание услуг на территории: Беловский муниципальный район (ОКТМО: 32601000) - имущество, переданное по договору аренды"]
["2 07 02 | Садоводческие или огороднические некоммерческие товарищества",null,"Оказание услуг на территории: Беловский муниципальный район (ОКТМО: 32601000) - имущество, переданное по концессионному соглашению"]
["2 07 16 | Товарищества собственников жилья",null,"Оказание услуг на территории: Мариинский муниципальный район (ОКТМО: 32616000) - водоотведение через очистные сооружения, находящихся по адресу: г Мариинск, ул. Дзержинского, 9"]
["2 11 00 | Казачьи общества, внесенные в государственный реестр казачьих обществ в Российской Федерации",null,"Оказание услуг на территории: Мариинский муниципальный район (ОКТМО: 32616000) - г Мариинск, ул. Дзержинского, 9"]
["2 12 00 | Общины коренных малочисленных народов Российской Федерации",null,"Оказание услуг на территории: Мариинский муниципальный район (ОКТМО: 32616000) - за исключением водоотведения через очистные сооружения, находящихся по адресу: г Мариинск, ул. Дзержинского, 9"]
["3 00 01 | Представительства юридических лиц",null,"Оказание услуг на территории: Новокузнецкий муниципальный район (ОКТМО: 32619000) - п Степной"]
["3 00 02 | Филиалы юридических лиц",null,"Оказание услуг на территории: Прокопьевский муниципальный район (ОКТМО: 32622000) - Большеталдинское, Калачевское, Сафоновское, Терентьевское (с Большая Талда, с Малая Талда, с Тихоновка, с Терентьевское)"]
["3 00 03 | Обособленные подразделения юридических лиц",null,"Оказание услуг на территории: Прокопьевский муниципальный район (ОКТМО: 32622000) - Бурлаковское, Каменно-Ключевское, Кузбассское, Михайловское, Терентьевское (п Кольчигиз, п Чапаевский, п Ускатский)"]
["3 00 04 | Структурные подразделения обособленных подразделений юридических лиц",null,"Оказание услуг на территории: Топкинский муниципальный округ (ОКТМО: 32531000) - населенные пункты, за исключением ГЛД Топкинская, квартал 43"]
["3 00 05 | Паевые инвестиционные фонды",null,"Оказание услуг на территории: Яшкинский муниципальный район (ОКТМО: 32646000) - пгт Яшкино"]
["3 00 06 | Простые товарищества",null,"Оказание услуг на территории: Яшкинский муниципальный район (ОКТМО: 32646000) - сельские поселения"]
["3 00 08 | Районные суды, городские суды, межрайонные суды (районные суды)",null,"Оказание услуг на территории: город Калтан (ОКТМО: 32715000) - г Калтан"]
["4 00 01 | Межправительственные международные организации",null,"Оказание услуг на территории: город Кемерово (ОКТМО: 32701000) - водоотведение сточных вод, отводимых потребителями в камеру гашения по ул. Волгоградской, 45 канализационного коллектора ДУ-1000 мм"]
["4 00 02 | Неправительственные международные организации",null,"Оказание услуг на территории: город Кемерово (ОКТМО: 32701000) - г Кемерово, кроме ул. Волгоградская"]
["5 01 01 | Главы крестьянских (фермерских) хозяйств",null,"Оказание услуг на территории: город Кемерово (ОКТМО: 32701000) - г Кемерово, ул. Волгоградская"]
["5 01 02 | Индивидуальные предприниматели",null,"Оказание услуг на территории: город Новокузнецк (ОКТМО: 32731000) - водоотведение промышленно-ливневых сточных вод цеха ВС и ВО"]
["5 02 01 | Адвокаты, учредившие адвокатский кабинет",null,"Оказание услуг на территории: город Осинники (ОКТМО: 32734000) - г Осинники"]
["5 02 02 | Нотариусы, занимающиеся частной практикой",null,"Оказание услуг на территории: город Полысаево (ОКТМО: 32732000) - транспортировка"]
["6 51 41 | Федеральные казенные предприятия",null,"Оказание услуг на территории: город Юрга (ОКТМО: 32749000) - водоотведение для АО \"ГУ ЖКХ\""]
["6 51 42 | Казенные предприятия субъектов Российской Федерации",null,"водоотведение промышленно-ливневых сточных сточных вод выпусков № 2, 3 ЭЦ"]
["6 51 43 | Муниципальные казенные предприятия",null,"водоотведение сточных вод через систему водоотведения ЭЦ"]
["6 52 41 | Федеральные государственные унитарные предприятия",null,"водоотведение сточных вод через систему водоотведения цеха ВС и ВО"]
["6 52 42 | Государственные унитарные предприятия субъектов Российской Федерации"]
["6 52 43 | Муниципальные унитарные предприятия"]
["7 04 01 | Благотворительные фонды"]
["7 04 02 | Негосударственные пенсионные фонды"]
["7 04 03 | Общественные фонды"]
["7 04 04 | Экологические фонды"]
["7 14 00 | Автономные некоммерческие организации"]
["7 15 00 | Религиозные организации"]
["7 16 01 | Государственные корпорации"]
["7 16 02 | Государственные компании"]
["7 16 10 | Отделения иностранных некоммерческих неправительственных организаций"]
["7 51 01 | Федеральные государственные автономные учреждения"]
["7 51 03 | Федеральные государственные бюджетные учреждения"]
["7 51 04 | Федеральные государственные казенные учреждения"]
["7 51 05 | Государственные внебюджетные фонды Российской Федерации"]
["7 52 01 | Государственные автономные учреждения субъектов Российской Федерации"]
["7 52 03 | Государственные бюджетные учреждения субъектов Российской Федерации"]
["7 52 04 | Государственные казенные учреждения субъектов Российской Федерации"]
["7 53 00 | Государственные академии наук"]
["7 54 01 | Муниципальные автономные учреждения"]
["7 54 03 | Муниципальные бюджетные учреждения"]
["7 54 04 | Муниципальные казенные учреждения"]
["7 55 00 | Частные учреждения"]
["7 55 02 | Благотворительные учреждения"]
["7 55 05 | Общественные учреждения"]

{"sheet":"modfrmSelectTariff","index":43,"n_rows":0,"n_cols":0,"rows_kept":0,"cut":false,"hidden":true,"merged":[]}

{"sheet":"modCheckCyan","index":44,"n_rows":52,"n_cols":1,"rows_kept":52,"cut":false,"hidden":true,"merged":[]}
[{"$f":"IF('Общие сведения'!$H$8=\"\",1,0)","v":0}]
[{"$f":"IF('Общие сведения'!$H$9=\"\",1,0)","v":0}]
[{"$f":"IF('Общие сведения'!$H$10=\"\",1,0)","v":0}]
[{"$f":"IF('Общие сведения'!$H$29=\"\",1,0)","v":0}]
[{"$f":"IF('Общие сведения'!$H$30=\"\",1,0)","v":0}]
[{"$f":"IF('Общие сведения'!$H$31=\"\",1,0)","v":0}]
[{"$f":"IF('Общие сведения'!$H$32=\"\",1,0)","v":0}]
[{"$f":"IF('Общие сведения'!$H$33=\"\",1,0)","v":0}]
[{"$f":"IF('Общие сведения'!$H$34=\"\",1,0)","v":0}]
[{"$f":"IF('Общие сведения'!$H$35=\"\",1,0)","v":0}]
[{"$f":"IF('Общие сведения'!$H$37=\"\",1,0)","v":0}]
[{"$f":"IF('Общие сведения'!$H$38=\"\",1,0)","v":0}]
[{"$f":"IF('Общие сведения'!$H$39=\"\",1,0)","v":0}]
[{"$f":"IF('Общие сведения'!$H$40=\"\",1,0)","v":0}]
[{"$f":"IF('Общие сведения'!$H$41=\"\",1,0)","v":0}]
[{"$f":"IF('Общие сведения'!$H$42=\"\",1,0)","v":0}]
[{"$f":"IF('Общие сведения'!$H$43=\"\",1,0)","v":0}]
[{"$f":"IF('Общие сведения'!$H$46=\"\",1,0)","v":0}]
[{"$f":"IF('Общие сведения'!$H$47=\"\",1,0)","v":0}]
[{"$f":"IF('Общие сведения'!$H$54=\"\",1,0)","v":0}]
[{"$f":"IF('Общие сведения'!$H$61=\"\",1,0)","v":0}]
[{"$f":"IF('Общие сведения'!$H$68=\"\",1,0)","v":0}]
[{"$f":"IF('Общие сведения'!$H$76=\"\",1,0)","v":0}]
[{"$f":"IF('Общие сведения'!$H$84=\"\",1,0)","v":0}]
[{"$f":"IF('Общие сведения'!$H$93=\"\",1,0)","v":0}]
[{"$f":"IF('Общие сведения'!$H$118=\"\",1,0)","v":0}]
[{"$f":"IF('Общие сведения'!$H$120=\"\",1,0)","v":0}]
[{"$f":"IF('Общие сведения'!$H$146=\"\",1,0)","v":0}]
[{"$f":"IF('Общие сведения'!$H$148=\"\",1,0)","v":0}]
[{"$f":"IF('Общие сведения'!$H$49=\"\",1,0)","v":0}]
[{"$f":"IF('Общие сведения'!$H$51=\"\",1,0)","v":0}]
[{"$f":"IF('Общие сведения'!$H$56=\"\",1,0)","v":0}]
[{"$f":"IF('Общие сведения'!$H$58=\"\",1,0)","v":0}]
[{"$f":"IF('Общие сведения'!$H$63=\"\",1,0)","v":0}]
[{"$f":"IF('Общие сведения'!$H$65=\"\",1,0)","v":0}]
[{"$f":"IF('Общие сведения'!$H$88=\"\",1,0)","v":0}]
[{"$f":"IF('Общие сведения'!$H$89=\"\",1,0)","v":0}]
[{"$f":"IF('Общие сведения'!$H$90=\"\",1,0)","v":0}]
[{"$f":"IF('Общие сведения'!$H$124=\"\",1,0)","v":0}]
[{"$f":"IF('Общие сведения'!$H$125=\"\",1,0)","v":0}]
[{"$f":"IF('Общие сведения'!$H$127=\"\",1,0)","v":0}]
[{"$f":"IF('Список территорий'!$M$16=\"\",1,0)","v":0}]
[{"$f":"IF('Список территорий'!$N$16=\"\",1,0)","v":0}]
[{"$f":"IF(ЭЭ!$M$23=\"\",1,0)","v":0}]
[{"$f":"IF(Реагенты!$M$19=\"\",1,0)","v":0}]
[{"$f":"IF(Реагенты!$M$20=\"\",1,0)","v":0}]
[{"$f":"IF(ЭЭ!$M$26=\"\",1,0)","v":0}]
[{"$f":"IF(ЭЭ!$M$34=\"\",1,0)","v":0}]
[{"$f":"IF(Калькуляция!$M$66=\"\",1,0)","v":0}]
[{"$f":"IF('ДПР (концессии)'!$L$18=\"\",1,0)","v":0}]
[{"$f":"IF(ЭЭ!$M$29=\"\",1,0)","v":0}]
[{"$f":"IF(Налоги!$M$28=\"\",1,0)","v":0}]

{"sheet":"modfrmActivity","index":45,"n_rows":0,"n_cols":0,"rows_kept":0,"cut":false,"hidden":true,"merged":[]}

{"sheet":"modfrmCheckUpdates","index":46,"n_rows":0,"n_cols":0,"rows_kept":0,"cut":false,"hidden":true,"merged":[]}

{"sheet":"modUpdTemplMain","index":47,"n_rows":0,"n_cols":0,"rows_kept":0,"cut":false,"hidden":true,"merged":[]}

{"sheet":"modThisWorkbook","index":48,"n_rows":0,"n_cols":0,"rows_kept":0,"cut":false,"hidden":true,"merged":[]}

{"sheet":"modInstruction","index":49,"n_rows":0,"n_cols":0,"rows_kept":0,"cut":false,"hidden":true,"merged":[]}

{"sheet":"AllSheetsInThisWorkbook","index":50,"n_rows":39,"n_cols":2,"rows_kept":39,"cut":false,"hidden":true,"merged":[]}
["Расчетные листы","Скрытые листы"]
["Инструкция","modProv"]
["Лог обновления","et_union"]
["Пояснения","TEHSHEET"]
["Список листов","modProvGeneralProc"]
["Общие сведения","REESTR_MO"]
["Список территорий","REESTR_ORG"]
["Список объектов","REESTR_TARIFF"]
["Сценарии","REESTR_OBJECT"]
["Баланс","modfrmReestrSource"]
["Реагенты","modfrmDPR"]
["ЭЭ","modfrmSelectTemplate"]
["Амортизация","DICTIONARIES"]
["Аренда","modfrmRegion"]
["Покупка","modfrmSelectTariff"]
["Налоги","modHTTP"]
["ИП + источники","modCheckCyan"]
["Экономия_корр","modPreload"]
["Плата за негативное возд","modfrmActivity"]
["Корректировка НВВ","modfrmCheckUpdates"]
["Калькуляция","modUpdTemplMain"]
["ТМ","modList00"]
["ДПР","modThisWorkbook"]
["ДПР (концессии)","modInstruction"]
["Комментарии","AllSheetsInThisWorkbook"]
["Проверка","modHyp"]
[null,"modfrmReestr"]
[null,"modReestr"]
[null,"modList01"]
[null,"modList02"]
[null,"modList05"]
[null,"modList06"]
[null,"modList09"]
[null,"modList10"]
[null,"modList11"]
[null,"modList16"]
[null,"modList18"]
[null,"modList15"]
[null,"modList17"]

{"sheet":"modHyp","index":51,"n_rows":0,"n_cols":0,"rows_kept":0,"cut":false,"hidden":true,"merged":[]}

{"sheet":"modfrmReestr","index":52,"n_rows":0,"n_cols":0,"rows_kept":0,"cut":false,"hidden":true,"merged":[]}

{"sheet":"modList01","index":53,"n_rows":0,"n_cols":0,"rows_kept":0,"cut":false,"hidden":true,"merged":[]}

{"sheet":"modList05","index":54,"n_rows":0,"n_cols":0,"rows_kept":0,"cut":false,"hidden":true,"merged":[]}

{"sheet":"modList06","index":55,"n_rows":0,"n_cols":0,"rows_kept":0,"cut":false,"hidden":true,"merged":[]}

{"sheet":"modList09","index":56,"n_rows":0,"n_cols":0,"rows_kept":0,"cut":false,"hidden":true,"merged":[]}

{"sheet":"modList10","index":57,"n_rows":0,"n_cols":0,"rows_kept":0,"cut":false,"hidden":true,"merged":[]}

{"sheet":"modList11","index":58,"n_rows":0,"n_cols":0,"rows_kept":0,"cut":false,"hidden":true,"merged":[]}

{"sheet":"modList16","index":59,"n_rows":0,"n_cols":0,"rows_kept":0,"cut":false,"hidden":true,"merged":[]}

{"sheet":"modList18","index":60,"n_rows":0,"n_cols":0,"rows_kept":0,"cut":false,"hidden":true,"merged":[]}

{"sheet":"modList15","index":61,"n_rows":0,"n_cols":0,"rows_kept":0,"cut":false,"hidden":true,"merged":[]}

{"sheet":"modList17","index":62,"n_rows":0,"n_cols":0,"rows_kept":0,"cut":false,"hidden":true,"merged":[]}