Workbook
Name AdminExpenses_LOAD_2: Административные!$AK$24:$AK$25
Name AdminExpenses_pIns_comm: Административные!$AB$107
Name AdminExpenses_vis_flags: Административные!$AE$17:$AJ$17
Name AdminiExpenses_LOAD_1: Административные!$AE$25:$AJ$25
Name Amortization_LOAD_1: Амортизация!$AE$25:$BB$25
Name Amortization_LOAD_2: Амортизация!$BC$24:$BC$25
Name Amortization_pIns_comm: Амортизация!$AB$230
Name Amortization_vis_flags: Амортизация!$AI$2:$BB$2
Name AUTHORIZED_PERSON_EMAIL: 'Общие сведения'!$AE$259
Name AUTHORIZED_PERSON_FIO: 'Общие сведения'!$AE$256
Name AUTHORIZED_PERSON_PHONE: 'Общие сведения'!$AE$258
Name AUTHORIZED_PERSON_POSITION: 'Общие сведения'!$AE$257
Name Balance_vis_flags: Баланс!$AI$2:$BB$2
Name Calculation_LOAD_1: 'Калькуляция (МИ)'!$AE$25:$BC$25
Name Calculation_LOAD_2: 'Калькуляция (МИ)'!$BN$24:$BP$25
Name Calculation_pIns_comm: 'Калькуляция (МИ)'!$AB$607
Name Calculation_vis_flags: 'Калькуляция (МИ)'!$AJ$2:$BM$2
Name Calculation_vis_flags2: 'Калькуляция (МИ)'!$S$25:$S$25
Name code: Инструкция!$B$2
Name COLDVSNA_TRANSP_VTOV: TEHSHEET!$V$2:$V$4
Name COLDVSNA_VDET_LIST: TEHSHEET!$K$20:$K$24
Name COLDVSNA_VTARIFF: TEHSHEET!$W$2:$W$3
Name COLDVSNA_VTOV: TEHSHEET!$V$2:$V$3
Name diametr_list: TEHSHEET!$AB$2:$AB$22
Name diametr_list_vo: TEHSHEET!$AG$2:$AG$140
Name diametr_list_vs: TEHSHEET!$AF$2:$AF$55
Name DOCUMENT_TYPES: TEHSHEET!$K$46:$K$52
Name DPR_check_range1: ДПР!$AG$28:$AG$28
Name DPR_ee_divide: ДПР!$AF$24
Name dpr_list: DICTIONARIES!$C$2:$C$43
Name DPR_LOAD_1: ДПР!$AC$28:$AK$28
Name DPR_pIns_comm: ДПР!$AB$238
Name DPR_vis_flags: ДПР!$W$28:$W$28
Name DPR_vis_flags2: ДПР!$AG$2:$AK$2
Name DPRConcessions_LOAD_1: 'ДПР (концессии)'!$AC$26:$AK$26
Name DPRConcessions_pIns_comm: 'ДПР (концессии)'!$AB$450
Name DPRConcessions_vis_flags: 'ДПР (концессии)'!$W$26:$W$26
Name DPRConcessions_vis_flags2: 'ДПР (концессии)'!$AG$2:$AK$2
Name Electricity_LOAD_1: ЭЭ!$AE$25:$BB$175
Name Electricity_vis_flags: ЭЭ!$AI$2:$BB$2
Name entityName: 'Общие сведения'!$AI$24
Name et_AdminExpenses_tariff: Административные!$32:$107
Name et_Amortization_tariff: Амортизация!$27:$75
Name et_Balance_tariff_vo: Баланс!$81:$105
Name et_Balance_tariff_vo_transp: Баланс!$107:$117
Name et_Balance_tariff_vs: Баланс!$27:$62
Name et_Balance_tariff_vs_transp: Баланс!$65:$78
Name et_Calculation_tariff: 'Калькуляция (МИ)'!$27:$166
Name et_DPR_tariff_vs: ДПР!$30:$80
Name et_DPRConcessions_block: 'ДПР (концессии)'!$29:$79
Name et_DPRConcessions_tariff: 'ДПР (концессии)'!$28:$28
Name et_GeneralInfo_fio: 'Общие сведения'!$268:$268
Name et_GeneralInfo_tariff: 'Общие сведения'!$198:$211
Name et_InvestmentSources_tariff: 'ИП + источники'!$58:$86
Name et_NegativeImpactFee_tariff: 'Плата за негативное возд'!$26:$28
Name et_NVVCorrection_tariff: 'Корректировка НВВ'!$27:$77
Name et_ObjectList_obj: 'Список объектов'!$28:$28
Name et_ObjectList_tariff_vs: 'Список объектов'!$26:$26
Name et_Purchase_org2: Покупка!$38:$39
Name et_Purchase_org3: Покупка!$45:$46

Sheet Информация JSON
A1: Расположение | B1: Тип | C1: Комментарий

Sheet Инструкция
AA1: (требуется обновление)
B2: Код отчёта: EXPERT.VSVO.2026.EIAS
B3: Версия отчёта: 1.1.3
B6: Условные обозначения
E8: A | F8: - предназначенные для заполнения | O8: A | P8: - ссылки и автозаполняемые поля
E9: A | F9: - с формулами и константами | O9: A | P9: - обязательные для заполнения
E10: A | F10: - выбор по даблклику (необязательные) | O10: A | P10: - выбор по даблклику (обязательные)
B12: Работа с реестрами
E13: Если в предложенном Вам списке необходимая организация, территория или объект отсутствуют, обратитесь к ответственному за поддержание реестра Вашего региона либо в службу поддержки пользователей ФГИС «ТАРИФ». В случае возникновения ошибок или вопросов, пожалуйста, также оставьте обращение на портале поддержки ФГИС «ТАРИФ» по адресу:
E14: https://support.tarif.gov.ru/
B15: Проверка отчёта
E16: • При сохранении отчётной формы осуществляется проверка корректности данных_x000D_ • Для каждого сообщения возможны 2 статуса: ошибка и предупреждение_x000D_ • При наличии сообщений со статусом «Ошибка» файл будет отклонён системой и не будет загружен в хранилище данных, сообщения со статусом «Предупреждение» носят информационный характер, и такой файл будет принят к обработке системой

Sheet Пояснения
B2: flag_vis
E5: flag_size
AB22: Понятия, используемые в Типовом экспертном заключении
AB24: № п/п | AC24: Используемое понятие | AD24: Расшифровка (пояснения)
AB25: 1 | AC25: факт по данным организации | AD25: фактические значения расходов в соответствии с данными раздельного учета затрат по видам деятельности организаций, осуществляющих горячее водоснабжение, холодное водоснабжение и (или) водоотведение
AB26: 2 | AC26: факт, принятый органом регулирования | AD26: фактические значения расходов в соответствии с данными бухгалтерской и статистической отчетности регулируемой организации за соответствующий период, с учетом данных, полученных по результатам проведенных органом регулирования тарифов мероприятий по контролю, предусмотренных Постановление Правительства РФ от 27.06.2013 N 543 (ред. от 17.08.2020) "О государственном контроле (надзоре) в области регулируемых государством цен (тарифов).

Sheet Список листов
B2: flag_vis
E5: flag_size
AB22: Список листов
AB23: * для перехода на лист дважды кликните по названию
B24: TRUE | E24: 27.75 | AB24: скрыть | AC24: Общие сведения | AD24: Сведения о регулируемой организации_x000D_ Информация о рассмотрении дела об установлении тарифов
B25: TRUE | E25: 27.75 | AB25: скрыть | AC25: Список территорий | AD25: Перечень муниципальных образований, на территории которых организация оказывает услуги холодного водоснабжения / водоотведения
B26: TRUE | E26: 27.75 | AB26: скрыть | AC26: Перечень объектов | AD26: Перечень объектов организации, с помощью которых организация оказывает услуги холодного водоснабжения/ водоотведения
B27: TRUE | E27: 27.75 | AB27: скрыть | AC27: Список объектов | AD27: Правоустанавливающие и подтверждающие документы на объекты коммунальной инфраструктуры
B28: =NOT(method_reg="Метод сравнения аналогов") -> 1 | E28: 27.75 | AB28: скрыть | AC28: Сценарии | AD28: Ключевые сценарные показатели
B29: =method_reg="Метод индексации" -> 1 | E29: 27.75 | AB29: скрыть | AC29: ИИКА | AD29: Индекс изменения количества активов
B30: TRUE | E30: 27.75 | AB30: скрыть | AC30: Баланс | AD30: Баланс водоснабжения / водоотведения
B31: =OR(method_reg="Метод индексации",method_reg="Метод сравнения аналогов") -> 1 | E31: 27.75 | AB31: скрыть | AC31: Условные метры | AD31: Расчет условных метров водопроводной (канализационной) сети
B32: =NOT(method_reg="Метод сравнения аналогов") -> 1 | E32: 27.75 | AB32: скрыть | AC32: Сырье и материалы | AD32: Расходы на реагенты
B33: =NOT(method_reg="Метод сравнения аналогов") -> 1 | E33: 27.75 | AB33: скрыть | AC33: ЭЭ | AD33: Расходы на электрическую энергию
B34: =NOT(method_reg="Метод сравнения аналогов") -> 1 | E34: 27.75 | AB34: скрыть | AC34: Амортизация | AD34: Амортизация основных средств и нематериальных активов, относимых к объектам централизованной системы водоснабжения/водоотведения
B35: =method_reg="Метод сравнения аналогов" -> 0 | E35: 27.75 | AB35: отобразить | AC35: Амортизация (аналог) | AD35: Нормативный уровень расходов на амортизацию основных средств и нематериальных активов, относимых к объектам централизованой системы водоснабжения / водоотведения, используемым для транспортировки воды / сточных вод
B36: =NOT(method_reg="Метод сравнения аналогов") -> 1 | E36: 27.75 | AB36: скрыть | AC36: Аренда | AD36: Аренда
B37: =NOT(method_reg="Метод сравнения аналогов") -> 1 | E37: 27.75 | AB37: скрыть | AC37: Покупка | AD37: Расходы на оплату товаров (услуг, работ), приобретаемых у других организаций
B38: =AND(OR(god=first_year,method_reg="Метод обеспечения доходности инвестированного капитала"),NOT(method_reg="Метод сравнения аналогов")) -> 0 | E38: 27.75 | AB38: отобразить | AC38: ФОТ | AD38: Расходы на оплату труда и страховые взносы на обязательное социальное страхование основного производственного персонала, в том числе налоги и сборы с фонда оплаты труда
B39: =AND(OR(god=first_year,method_reg="Метод обеспечения доходности инвестированного капитала"),NOT(method_reg="Метод сравнения аналогов")) -> 0 | E39: 27.75 | AB39: отобразить | AC39: Административные | AD39: Административные расходы
B40: =AND(OR(god=first_year,method_reg="Метод обеспечения доходности инвестированного капитала"),NOT(method_reg="Метод сравнения аналогов"),STATUS_GO="да") -> 0 | E40: 27.75 | AB40: отобразить | AC40: Сбытовые расходы ГО | AD40: Сбытовые расходы гарантирующей организации
B41: =NOT(method_reg="Метод сравнения аналогов") -> 1 | E41: 27.75 | AB41: скрыть | AC41: Налоги | AD41: Расшифровка по налогам и платежам
B42: =AND(method_reg<>"Метод сравнения аналогов",OR(HAS_DOC5="да",HAS_DOC6="да")) -> 1 | E42: 27.75 | AB42: скрыть | AC42: ИП + источники | AD42: План и факт по источникам финансирования инвестиционной программы
B43: =AND(NOT(method_reg="Метод экономически обоснованных расходов"),NOT(method_reg="Метод сравнения аналогов")) -> 1 | E43: 27.75 | AB43: скрыть | AC43: Экономия_корр | AD43: Расчет экономии средств, достигнутой в результате снижения расходов предыдущего долгосрочного периода регулирования
B44: =AND(NOT(method_reg="Метод сравнения аналогов"),hasVO) -> 1 | E44: 27.75 | AB44: скрыть | AC44: Плата за негативное возд | AD44: Плата за негативное воздействие на работу централизованных систем водоотведения
B45: =AND(NOT(method_reg="Метод экономически обоснованных расходов"),NOT(method_reg="Метод сравнения аналогов")) -> 1 | E45: 27.75 | AB45: скрыть | AC45: Корректировка НВВ | AD45: Расчет показателей корректировки необходимой валовой выручки
B46: =method_reg="Метод экономически обоснованных расходов" -> 0 | E46: 27.75 | AB46: отобразить | AC46: Калькуляция (МЭОР) | AD46: Расчет тарифа методом экономически обоснованных расходов
B47: =AND(first_year=god,OR(method_reg="Метод обеспечения доходности инвестированного капитала",method_reg="Метод индексации")) -> 0 | E47: 27.75 | AB47: отобразить | AC47: Калькуляция (МИ) | AD47: Расчет тарифа методом индексации
B48: =AND(OR(method_reg="Метод индексации",method_reg="Метод обеспечения доходности инвестированного капитала"),first_year<>god) -> 1 | E48: 27.8 | AB48: скрыть | AC48: Калькуляция (МИ корр) | AD48: Расчет тарифа методом индексации
B49: =NOT(method_reg="Метод сравнения аналогов") -> 1 | E49: 27.75 | AB49: скрыть | AC49: ТМ | AD49: Тарифное меню
B50: =OR(method_reg="Метод индексации",method_reg="Метод обеспечения доходности инвестированного капитала") -> 1 | E50: 27.75 | AB50: скрыть | AC50: ДПР | AD50: Долгосрочные параметры регулирования тарифов
B51: =OR(method_reg="Метод индексации",method_reg="Метод обеспечения доходности инвестированного капитала") -> 1 | E51: 27.75 | AB51: скрыть | AC51: ДПР (концессии) | AD51: Долгосрочные параметры регулирования тарифов (концессии)
B52: =OR(method_reg="Метод сравнения аналогов",AND(method_reg="Метод индексации",STATUS_GO="да")) -> 0 | E52: 27.75 | AB52: скрыть | AC52: ГО | AD52: Калькуляция расходов гарантирующей организации
B53: =method_reg="Метод сравнения аналогов" -> 0 | E53: 27.75 | AB53: отобразить | AC53: Калькуляция (МСА) | AD53: Расчет тарифа на транспортировку холодной воды / сточных вод методом сравнения аналогов

Sheet Общие сведения
V1: tariffId | W1: vis_1 | X1: blok_1 | Y1: blok_2 | Z1: ren_1 | AA1: del_2 | AD1: dyn_1 | AE1: dyn_2 | AF1: del_1
B2: flag_vis
E5: flag_size | AA5: 3.43 | AB5: 12 | AC5: 18 | AD5: 56.86 | AE5: 65 | AF5: 3
E21: 11.25
E22: 19.5 | AA22: 552 | AB22: Наименование субъекта Российской Федерации | AE22: Кемеровская область | AF22: {=INDEX(TEHSHEET!B1:B90,MATCH(region_name,REGION,0))} -> RU42
E23: 19.5 | AD23: Метод регулирования | AE23: Метод индексации | AH23: =IF(AND(AE23="Метод индексации",god=first_year),"методом индексации установленных тарифов",IF(AND(AE23="Метод индексации",god<>first_year),"методом индексации установленных тарифов (при корректировке тарифов, начиная со второго года долгосрочного периода регулирования)",IF(AE23="Метод экономически обоснованных расходов","методом экономически обоснованных расходов (затрат)",IF(AE23="Метод сравнения аналогов","методом сравнения аналогов",IF(AE23="Метод обеспечения доходности инвестированного капитала","методом обеспечения доходности инвестированного капитала","выберите метод регулирования"))))) -> методом индексации установленных тарифов (при корректировке тарифов, начиная со второго года долгосрочного периода регулирования) | AI23: =IF(method_reg="Метод индексации","INDEX",IF(method_reg="Метод экономически обоснованных расходов","EOR",IF(method_reg="Метод сравнения аналогов","ANALOG","RAB"))) -> INDEX
E24: 19.5 | AB24: Период регулирования | AE24: 2026 | AI24: =ORG_SHORT_NAME&"_ИНН:"&inn&"_КПП:"&kpp -> ОАО «СКЭК»_ИНН:4205153492_КПП:420501001
B25: =AND(NOT(method_reg="Метод экономически обоснованных расходов"),NOT(method_reg="Метод сравнения аналогов")) -> 1 | E25: 19.5 | AB25: Первый год долгосрочного периода регулирования | AE25: 2024 | AF25: =first_year+PERIOD_LENGTH-1 -> 2028 | AG25: {=IF(AE268="да",god,last_year)} -> 2026
B26: =AND(NOT(method_reg="Метод экономически обоснованных расходов"),NOT(method_reg="Метод сравнения аналогов")) -> 1 | E26: 19.5 | AB26: Период долгосрочной индексации (количество лет) | AE26: 5
B27: =AND(NOT(method_reg="Метод экономически обоснованных расходов"),NOT(method_reg="Метод сравнения аналогов"),NOT(god=first_year)) -> 1 | E27: 19.5 | AB27: Количество лет корректировки | AE27: =IF(OR(PERIOD_LENGTH-god+first_year<=0,PERIOD_LENGTH-god+first_year>10),"",PERIOD_LENGTH-god+first_year) -> 3
E28: 7.5
E29: 7.5
E30: 19.5 | AB30: Экспертное заключение
E31: 19.5 | AB31: РЕГИОНАЛЬНАЯ ЭНЕРГЕТИЧЕСКАЯ КОМИССИЯ КУЗБАССА
E32: 19.5 | AB32: по результатам экспертизы предложения
E33: 19.5 | Z33: 450982 | AA33: 26322895 | AB33: ОАО «СКЭК» | AL33: =_xlfn.IFERROR(region_name&" / "&god&" / "&org&" (ИНН:"&inn&", КПП:"&kpp&") / ДПР: "&first_year&"-"&last_year,"") -> Кемеровская область / 2026 / ОАО «СКЭК» (ИНН:4205153492, КПП:420501001) / ДПР: 2024-2028
E34: 19.5 | AB34: ="об установлении тарифов в сфере "&IF(AND(OR(hasVS,hasTranspVS),OR(hasVO,hasTranspVO)),"холодного водоснабжения / водоотведения",IF(OR(hasVS,hasTranspVS),"холодного водоснабжения",IF(OR(hasVO,hasTranspVO),"водоотведения","<не указано>")))&" "&AH23 -> об установлении тарифов в сфере холодного водоснабжения / водоотведения методом индексации установленных тарифов (при корректировке тарифов, начиная со второго года долгосрочного периода регулирования)
E35: 19.5 | AB35: =IF(god="","",IF(AND(method_reg<>"Метод сравнения аналогов",method_reg<>"Метод экономически обоснованных расходов"),"долгосрочного периода регулирования тарифов "&first_year&"-"&last_year&" гг.","на "&god&" год")) -> долгосрочного периода регулирования тарифов 2024-2028 гг.
E36: 11.25
E37: 19.5 | AB37: 1. Сведения о регулируемой организации
E38: 36 | AB38: Полное наименование юридического лица (индивидуального предпринимателя) в соответствии с данными из ЕГРЮЛ/ЕГРИП | AE38: ОТКРЫТОЕ АКЦИОНЕРНОЕ ОБЩЕСТВО "СЕВЕРО-КУЗБАССКАЯ ЭНЕРГЕТИЧЕСКАЯ КОМПАНИЯ"
E39: 36 | AB39: Сокращенное наименование юридического лица (индивидуального предпринимателя) в соответствии с данными из ЕГРЮЛ/ЕГРИП | AE39: ОАО «СКЭК»
E40: 19.5 | AB40: Наименование (описание) обособленного подразделения
E41: 19.5 | AB41: ОГРН | AE41: 1084205006600
E42: 19.5 | AB42: ИНН | AE42: 4205153492
E43: 19.5 | AB43: КПП | AE43: 420501001
E44: 19.5 | AB44: Код по ОКПО | AE44: 26623916 | AG44: L2_7
E45: 19.5 | AB45: Организационно-правовая форма | AE45: 1 22 00 | Акционерные общества | AG45: L2_8
E46: 19.5 | AB46: Юридический адрес | AE46: 650000, Россия, Кемеровская область, г. Кемерово, ул. Кузбасская, 6 | AG46: L2_9
E47: 19.5 | AB47: Фактический адрес | AE47: 650000, Россия, Кемеровская область, г. Кемерово, ул. Кузбасская, 6 | AG47: L2_10
E48: 19.5 | AB48: Телефон организации | AE48: +73842362683 | AG48: L2_11
E49: 19.5 | AB49: e-mail | AE49: kornilova@skek.ru | AG49: L2_12
E50: 19.5 | AB50: ФИО руководителя | AE50: Кучеев Андрей Геннадьевич | AG50: L2_13
E51: 19.5 | AB51: Должность руководителя | AE51: Генеральный директор | AG51: L2_14
E52: 19.5 | AB52: Официальный сайт регулируемой организации в сети "Интернет" | AE52: www.skek.ru | AG52: L2_15
E53: 19.5 | AB53: Государственное и (или) муниципальное участие в юридическом лице | AD53: Наличие | AE53: нет | AG53: L3_1
E54: 19.5 | AD54: Сведения о доле, % | AE54: 0% | AG54: L3_2
E55: 19.5 | AD55: Преобладающий тип собственности в юридическом лице | AE55: частная | AG55: L3_3
E56: 25.5 | AB56: Наличие раздельного учёта затрат по регулируемым видам деятельности в сфере холодного водоснабжения / водоотведения | AE56: да | AG56: L4_1
E57: 25.5 | AB57: Система налогообложения | AE57: ОСНО (общая система налогообложения)
...

Sheet Список территорий
F1: tariffNum | G1: nomer_name | U1: vis_1 | V1: dyn_1 | W1: blok_1 | X1: blok_2 | Y1: ren_1 | Z1: del_1 | AA1: del_2 | AB1: ren_2 | AC1: dyn_2 | AI1: pok_js | AJ1: PJ_DYN | AK1: PJ_NAME | AL1: PJ_NAME_MO | AM1: PJ_NAME_OKTMO | AN1: dyn_add | AO1: dyn_fill
B2: flag_vis
E5: flag_size | AA5: 3 | AB5: 11 | AC5: 45 | AD5: 45 | AE5: 14 | AF5: 35 | AG5: 35 | AH5: 3
A6: pok | AC6: l1 | AD6: l2 | AE6: l3 | AF6: l5 | AG6: l4
A9: PJ_TERR | AF9: {=AF24} -> Тип муниципального образования | AG9: {=AG24} -> Дополнительные сведения
A10: dyn_names | AC10: PJ_NAME | AD10: PJ_NAME_MO | AE10: PJ_NAME_OKTMO
AC18: Муниципальный район | AD18: Муниципальное образование
E21: 15 | AC21: {=tpl_title} -> Кемеровская область / 2026 / ОАО «СКЭК» (ИНН:4205153492, КПП:420501001) / ДПР: 2024-2028
E22: 30 | AB22: Перечень муниципальных образований, на территории которых организация оказывает услуги холодного водоснабжения / водоотведения
E23: 11,25
E24: 28,5 | AB24: № п/п | AC24: Муниципальный район | AD24: Муниципальное образование | AE24: ОКТМО | AF24: Тип муниципального образования | AG24: Дополнительные сведения
E25: 0
E26: 15 | F26: {=Y26} -> 0 | U26: =Y26>0 -> 0 | W26: et_1 | Y26: 0 | AB26: {=INDEX('Общие сведения'!$AG$197:$AG$254,MATCH($Y26,'Общие сведения'!$Z$197:$Z$254,0))} -> Тариф 0 () -
E27: 15 | F27: {=OFFSET(E27,-1,1)} -> 0 | G27: {=AB27} -> 0 | U27: =AND(F27>0,AB27>0) -> 0 | X27: et_2 | AA27: × | AB27: 0 | AI27: P_TERR | AJ27: DYN_MRMO | AK27: {=AC27} -> 0 | AL27: {=AD27} -> 0 | AM27: {=AE27} -> 0 | AO27: TRUE
E28: 15 | F28: {=OFFSET(E28,-1,1)} -> 0 | G28: !== 0 | U28: {=U26} -> false | X28: { _x000D_ funcDyn: 'mrmo',_x000D_ blok: '',_x000D_ wsCross: '',_x000D_ linkFormula: '',_x000D_ levelDyn: '1'_x000D_ } | AC28: Добавить территорию | AN28: DYN_MRMO
E29: 15 | F29: {=Y29} -> 1 | U29: =Y29>0 -> 1 | W29: {='Общие сведения'!$AG$212} -> Тариф 1 (Водоснабжение) - тариф на питьевую воду (Оказание услуг на территории: город Ленинск-Кузнецкий (ОКТМО: 32719000) - г Ленинск-Кузнецкий, г Полысаево) | Y29: 1 | AB29: {='Общие сведения'!$AG$212} -> Тариф 1 (Водоснабжение) - тариф на питьевую воду (Оказание услуг на территории: город Ленинск-Кузнецкий (ОКТМО: 32719000) - г Ленинск-Кузнецкий, г Полысаево)
E30: 15 | F30: {=OFFSET(E30,-1,1)} -> 1 | G30: {=AB30} -> 0 | U30: =AND(F30>0,AB30>0) -> 0 | X30: et_2 | AA30: × | AB30: 0 | AI30: P_TERR | AJ30: DYN_MRMO | AK30: {=AC30} -> 0 | AL30: {=AD30} -> 0 | AM30: {=AE30} -> 0 | AO30: TRUE
E31: 15 | F31: {=OFFSET(E31,-1,1)} -> 1 | G31: {=AB31} -> 1 | U31: =AND(F31>0,AB31>0) -> 1 | AA31: × | AB31: 1 | AC31: Ленинск-Кузнецкий муниципальный округ | AD31: Ленинск-Кузнецкий муниципальный округ | AE31: 32514000 | AF31: муниципальный округ | AI31: P_TERR | AJ31: DYN_MRMO | AK31: {=AC31} -> Ленинск-Кузнецкий муниципальный округ | AL31: {=AD31} -> Ленинск-Кузнецкий муниципальный округ | AM31: {=AE31} -> 32514000 | AO31: TRUE
E32: 15 | F32: {=OFFSET(E32,-1,1)} -> 1 | G32: {=AB32} -> 2 | U32: =AND(F32>0,AB32>0) -> 1 | AA32: × | AB32: 2 | AC32: Ленинск-Кузнецкий муниципальный округ | AD32: Ленинск-Кузнецкий муниципальный округ | AE32: 32514000 | AF32: муниципальный округ | AI32: P_TERR | AJ32: DYN_MRMO | AK32: {=AC32} -> Ленинск-Кузнецкий муниципальный округ | AL32: {=AD32} -> Ленинск-Кузнецкий муниципальный округ | AM32: {=AE32} -> 32514000 | AO32: TRUE
E33: 15 | F33: {=OFFSET(E33,-1,1)} -> 1 | G33: !== 0 | U33: {=U29} -> true | X33: { _x000D_ funcDyn: 'mrmo',_x000D_ blok: '',_x000D_ wsCross: '',_x000D_ linkFormula: '',_x000D_ levelDyn: '1'_x000D_ } | AC33: Добавить территорию | AN33: DYN_MRMO
E34: 15 | F34: {=Y34} -> 2 | U34: =Y34>0 -> 1 | W34: {='Общие сведения'!$AG$226} -> Тариф 2 (Водоотведение) - тариф на водоотведение (Оказание услуг на территории: город Ленинск-Кузнецкий (ОКТМО: 32719000) - г Ленинск-Кузнецкий) | Y34: 2 | AB34: {='Общие сведения'!$AG$226} -> Тариф 2 (Водоотведение) - тариф на водоотведение (Оказание услуг на территории: город Ленинск-Кузнецкий (ОКТМО: 32719000) - г Ленинск-Кузнецкий)
E35: 15 | F35: {=OFFSET(E35,-1,1)} -> 2 | G35: {=AB35} -> 0 | U35: =AND(F35>0,AB35>0) -> 0 | X35: et_2 | AA35: × | AB35: 0 | AI35: P_TERR | AJ35: DYN_MRMO | AK35: {=AC35} -> 0 | AL35: {=AD35} -> 0 | AM35: {=AE35} -> 0 | AO35: TRUE
E36: 15 | F36: {=OFFSET(E36,-1,1)} -> 2 | G36: {=AB36} -> 1 | U36: =AND(F36>0,AB36>0) -> 1 | AA36: × | AB36: 1 | AC36: Ленинск-Кузнецкий муниципальный округ | AD36: Ленинск-Кузнецкий муниципальный округ | AE36: 32514000 | AF36: муниципальный округ | AI36: P_TERR | AJ36: DYN_MRMO | AK36: {=AC36} -> Ленинск-Кузнецкий муниципальный округ | AL36: {=AD36} -> Ленинск-Кузнецкий муниципальный округ | AM36: {=AE36} -> 32514000 | AO36: TRUE
E37: 15 | F37: {=OFFSET(E37,-1,1)} -> 2 | G37: !== 0 | U37: {=U34} -> true | X37: { _x000D_ funcDyn: 'mrmo',_x000D_ blok: '',_x000D_ wsCross: '',_x000D_ linkFormula: '',_x000D_ levelDyn: '1'_x000D_ } | AC37: Добавить территорию | AN37: DYN_MRMO
E38: 15 | F38: {=Y38} -> 3 | U38: =Y38>0 -> 1 | W38: {='Общие сведения'!$AG$240} -> Тариф 3 (Водоотведение) - тариф на водоотведение (Оказание услуг на территории: город Полысаево (ОКТМО: 32732000) - г Полысаево) | Y38: 3 | AB38: {='Общие сведения'!$AG$240} -> Тариф 3 (Водоотведение) - тариф на водоотведение (Оказание услуг на территории: город Полысаево (ОКТМО: 32732000) - г Полысаево)
E39: 15 | F39: {=OFFSET(E39,-1,1)} -> 3 | G39: {=AB39} -> 0 | U39: =AND(F39>0,AB39>0) -> 0 | X39: et_2 | AA39: × | AB39: 0 | AI39: P_TERR | AJ39: DYN_MRMO | AK39: {=AC39} -> 0 | AL39: {=AD39} -> 0 | AM39: {=AE39} -> 0 | AO39: TRUE
E40: 15 | F40: {=OFFSET(E40,-1,1)} -> 3 | G40: {=AB40} -> 1 | U40: =AND(F40>0,AB40>0) -> 1 | AA40: × | AB40: 1 | AC40: Ленинск-Кузнецкий муниципальный округ | AD40: Ленинск-Кузнецкий муниципальный округ | AE40: 32514000 | AF40: муниципальный округ | AI40: P_TERR | AJ40: DYN_MRMO | AK40: {=AC40} -> Ленинск-Кузнецкий муниципальный округ | AL40: {=AD40} -> Ленинск-Кузнецкий муниципальный округ | AM40: {=AE40} -> 32514000 | AO40: TRUE
E41: 15 | F41: {=OFFSET(E41,-1,1)} -> 3 | G41: !== 0 | U41: {=U38} -> true | X41: { _x000D_ funcDyn: 'mrmo',_x000D_ blok: '',_x000D_ wsCross: '',_x000D_ linkFormula: '',_x000D_ levelDyn: '1'_x000D_ } | AC41: Добавить территорию | AN41: DYN_MRMO
E42: 11,25 | V42: Добавить | W42: { _x000D_ funcDyn: 'msg1',_x000D_ blok: 'blok_1',_x000D_ wsCross: 'Перечень объектов',_x000D_ linkFormula: 'AC-AB',_x000D_ levelDyn: ''_x000D_ }

Sheet Перечень объектов
F1: tariffNum | H1: pok | J1: det_name | P1: frmls | U1: ren_2 | V1: vis_1 | W1: dyn_1 | X1: blok_1 | Y1: blok_2 | Z1: ren_1 | AA1: del_1 | AB1: del_2 | AD1: dyn_2 | AM1: pok_js | AN1: PJ_DYN | AO1: PJ_NAME | AP1: PJ_NAME_ED_IZM | AQ1: dyn_add | AR1: dyn_fill
B2: flag_vis | AF2: =method_reg<>"Метод сравнения аналогов" -> 1 | AG2: =method_reg<>"Метод сравнения аналогов" -> 1 | AH2: {=isOrgDeclare} -> true
E5: flag_size | AB5: 3 | AC5: 11 | AD5: 70 | AE5: 15 | AF5: 20 | AG5: 20 | AH5: 20 | AI5: 20 | AJ5: 20 | AK5: 3
A6: prd2_name | AF6: =god-2 -> 2024 | AG6: =god-1 -> 2025 | AH6: {=god} -> 2026 | AI6: {=god} -> 2026 | AJ6: {=god} -> 2026
A7: pf_name | AF7: {=AF25} -> Принято органом регулирования | AG7: Принято органом регулирования | AH7: Предложение организации | AI7: Принято органом регулирования | AJ7: Не определено
A9: PJ_YEAR | AF9: {=AF6} -> 2024 | AG9: {=AG6} -> 2025 | AH9: {=AH6} -> 2026 | AI9: {=AI6} -> 2026
A10: PJ_PF | AF10: {=AF25} -> Принято органом регулирования | AG10: {=AG25} -> Принято органом регулирования | AH10: {=AH25} -> Предложение организации | AI10: {=AI25} -> Принято органом регулирования
A11: PJ_DOP | AJ11: {=AJ24} -> Комментарии
A12: dyn_names | AD12: PJ_NAME | AE12: PJ_NAME_ED_IZM
A18: checkUnique | AD18: Наименование
E21: 15 | AD21: {=tpl_title} -> Кемеровская область / 2026 / ОАО «СКЭК» (ИНН:4205153492, КПП:420501001) / ДПР: 2024-2028
E22: 21 | AC22: Перечень объектов организации, с помощью которых организация оказывает услуги холодного водоснабжения/ водоотведения
E23: 9
E24: 21 | AC24: № п/п | AD24: Наименование показателя | AE24: Единица измерения | AF24: =god-2&" год" -> 2024 год | AG24: =god-1&" год" -> 2025 год | AH24: =god&" год" -> 2026 год | AI24: =god&" год" -> 2026 год | AJ24: Комментарии
E25: 36 | F25: t | AF25: Принято органом регулирования | AG25: Принято органом регулирования | AH25: Предложение организации | AI25: Принято органом регулирования
E26: 0 | T26: VS/VO
E27: 15 | F27: {=Z27} -> 0 | T27: {=INDEX('Общие сведения'!$AE$197:$AE$254,MATCH($Z27,'Общие сведения'!$Z$197:$Z$254,0))} -> 0 | V27: =Z27>0 -> 0 | X27: et_1 | Z27: 0 | AC27: {=INDEX('Общие сведения'!$AG$197:$AG$254,MATCH($Z27,'Общие сведения'!$Z$197:$Z$254,0))} -> Тариф 0 () -
B28: =AND(T27="Водоснабжение",method_reg<>"Метод сравнения аналогов") -> 0 | E28: 15 | F28: {=OFFSET(E28,-1,1)} -> 0 | H28: l1 | I28: L3 | J28: =AD28&"::"&AE28 -> Водонасосные станции (водозаборные узлы)::ед. | V28: {=V27} -> false | AC28: 1 | AD28: Водонасосные станции (водозаборные узлы) | AE28: ед. | AM28: P_WATER_PUMP
B29: {=B28} -> false | E29: 15 | F29: {=OFFSET(E29,-1,1)} -> 0 | H29: l1 | I29: L3 | J29: =AD29&"::"&AE29 -> Скважины::ед. | V29: {=V28} -> false | AC29: 2 | AD29: Скважины | AE29: ед. | AM29: P_WELLS
B30: =T27="Водоснабжение" -> 0 | E30: 15 | F30: {=OFFSET(E30,-1,1)} -> 0 | G30: ЭЭ | H30: l1 | I30: L3 | J30: =AD30&"::"&AE30 -> Подкачивающие насосные станции::ед. | L30: ЭЭ | V30: {=V29} -> false | AC30: =IF(B29,3,1) -> 1 | AD30: Подкачивающие насосные станции | AE30: ед. | AM30: P_PUMP_STATION
B31: {=B29} -> false | E31: 15 | F31: {=OFFSET(E31,-1,1)} -> 0 | H31: l1 | I31: L3 | J31: =AD31&"::"&AE31 -> Водонапорные башни::ед. | V31: {=V30} -> false | AC31: 4 | AD31: Водонапорные башни | AE31: ед. | AM31: P_WATER_TOWERS
B32: =T27="Водоснабжение" -> 0 | E32: 15 | F32: {=OFFSET(E32,-1,1)} -> 0 | H32: l1 | I32: L3 | J32: =AD32&"::"&AE32 -> Водопроводные сети::км | P32: SUMIFS('Условные метры'!$AK$29:$AK$lastRow,'Условные метры'!$F$29:$F$lastRow, $FcurrRow,'Условные метры'!$G$29:$G$lastRow,"Итог") | Q32: SUMIFS('Условные метры'!$AM$29:$AM$lastRow,'Условные метры'!$F$29:$F$lastRow, $FcurrRow,'Условные метры'!$G$29:$G$lastRow,"Итог") | V32: {=V31} -> false | AC32: =IF(B29,5,2) -> 2 | AD32: Водопроводные сети | AE32: км | AM32: P_WATER_NETS
B33: =AND(T27="Водоотведение",method_reg<>"Метод сравнения аналогов") -> 0 | E33: 15 | F33: {=OFFSET(E33,-1,1)} -> 0 | H33: l1 | I33: L3 | J33: =AD33&"::"&AE33 -> Биологические очистные сооружения::ед. | V33: {=V32} -> false | AC33: 1 | AD33: Биологические очистные сооружения | AE33: ед. | AM33: P_BIO_CLEAN
B34: =T27="Водоотведение" -> 0 | E34: 15 | F34: {=OFFSET(E34,-1,1)} -> 0 | G34: ЭЭ | H34: l1 | I34: L3 | J34: =AD34&"::"&AE34 -> Канализационные насосные станции::ед. | V34: {=V33} -> false | AC34: =IF(B33,2,1) -> 1 | AD34: Канализационные насосные станции | AE34: ед. | AM34: P_SEWER_PUMP
B35: {=B34} -> false | E35: 15 | F35: {=OFFSET(E35,-1,1)} -> 0 | H35: l1 | I35: L3 | J35: =AD35&"::"&AE35 -> Канализационные сети::км | L35: ЭЭ | P35: SUMIFS('Условные метры'!$AK$29:$AK$lastRow,'Условные метры'!$F$29:$F$lastRow, $FcurrRow,'Условные метры'!$G$29:$G$lastRow,"Итог") | Q35: SUMIFS('Условные метры'!$AM$29:$AM$lastRow,'Условные метры'!$F$29:$F$lastRow, $FcurrRow,'Условные метры'!$G$29:$G$lastRow,"Итог") | V35: {=V34} -> false | AC35: =AC34+1 -> 2 | AD35: Канализационные сети | AE35: км | AM35: P_SEWER_NETS
E36: 15 | F36: {=OFFSET(E36,-1,1)} -> 0 | H36: l1 | I36: L3 | J36: =AD36&"::"&AE36 -> :: | U36: 0 | V36: =AND(F36>0,U36>0) -> 0 | Y36: et_2 | AB36: × | AC36: =IF(OFFSET(C36,-8-U36,-1),5,IF(OFFSET(C36,-3-U36,-1),3,2))+U36 -> 2 | AM36: P_OTHER | AN36: DYN_OBJ_LIST | AO36: {=AD36} -> 0 | AP36: {=AE36} -> 0 | AR36: TRUE
E37: 15 | F37: {=OFFSET(E37,-1,1)} -> 0 | J37: !== 'Водонасосные станции (водозаборные узлы)::ед.' && row.det_name.toLowerCase() !== 'Скважины::ед.' && row.det_name.toLowerCase() !== 'Подкачивающие насосные станции::ед.' && row.det_name.toLowerCase() !== 'Водонапорные башни::ед.' && row.det_name.toLowerCase() !== 'Водопроводные сети::км' && row.det_name.toLowerCase() !== 'Биологические очистные сооружения::ед.' && row.det_name.toLowerCase() !== 'Канализационные насосные станции::ед.' && row.det_name.toLowerCase() !== 'Канализационные сети::км' && row.det_name.toLowerCase() !== 'Краткое описание технологического процесса' | V37: {=V35} -> false | Y37: { _x000D_ funcDyn: 'msg',_x000D_ blok: '',_x000D_ wsCross: '',_x000D_ linkFormula: '',_x000D_ levelDyn: '1',_x000D_ addDynValue: 'det_name|AC|0'_x000D_ } | AD37: Добавить | AQ37: DYN_OBJ_LIST
E38: 15 | F38: {=OFFSET(E38,-1,1)} -> 0 | H38: l2 | I38: L3 | J38: {=AD38} -> Краткое описание технологического процесса | V38: {=V37} -> false | AD38: Краткое описание технологического процесса | AM38: P_TEH_PROC
E39: 15 | F39: {=Z39} -> 1 | T39: {=INDEX('Общие сведения'!$AE$197:$AE$254,MATCH($Z39,'Общие сведения'!$Z$197:$Z$254,0))} -> Водоснабжение | V39: =Z39>0 -> 1 | X39: {='Список территорий'!$AB$29} -> Тариф 1 (Водоснабжение) - тариф на питьевую воду (Оказание услуг на территории: город Ленинск-Кузнецкий (ОКТМО: 32719000) - г Ленинск-Кузнецкий, г Полысаево) | Z39: 1 | AC39: {='Список территорий'!$AB$29} -> Тариф 1 (Водоснабжение) - тариф на питьевую воду (Оказание услуг на территории: город Ленинск-Кузнецкий (ОКТМО: 32719000) - г Ленинск-Кузнецкий, г Полысаево)
B40: =AND(T39="Водоснабжение",method_reg<>"Метод сравнения аналогов") -> 1 | E40: 15 | F40: {=OFFSET(E40,-1,1)} -> 1 | H40: l1 | I40: L3 | J40: =AD40&"::"&AE40 -> Водонасосные станции (водозаборные узлы)::ед. | V40: {=V39} -> true | AC40: 1 | AD40: Водонасосные станции (водозаборные узлы) | AE40: ед. | AF40: 1 | AG40: 1 | AH40: 1 | AI40: 1 | AM40: P_WATER_PUMP
B41: {=B40} -> true | E41: 15 | F41: {=OFFSET(E41,-1,1)} -> 1 | H41: l1 | I41: L3 | J41: =AD41&"::"&AE41 -> Скважины::ед. | V41: {=V40} -> true | AC41: 2 | AD41: Скважины | AE41: ед. | AF41: 7 | AG41: 7 | AH41: 6 | AI41: 6 | AM41: P_WELLS
B42: =T39="Водоснабжение" -> 1 | E42: 15 | F42: {=OFFSET(E42,-1,1)} -> 1 | G42: ЭЭ | H42: l1 | I42: L3 | J42: =AD42&"::"&AE42 -> Подкачивающие насосные станции::ед. | L42: ЭЭ | V42: {=V41} -> true | AC42: =IF(B41,3,1) -> 3 | AD42: Подкачивающие насосные станции | AE42: ед. | AF42: 13 | AG42: 13 | AH42: 13 | AI42: 13 | AM42: P_PUMP_STATION
B43: {=B41} -> true | E43: 15 | F43: {=OFFSET(E43,-1,1)} -> 1 | H43: l1 | I43: L3 | J43: =AD43&"::"&AE43 -> Водонапорные башни::ед. | V43: {=V42} -> true | AC43: 4 | AD43: Водонапорные башни | AE43: ед. | AF43: 0 | AG43: 0 | AH43: 0 | AI43: 0 | AM43: P_WATER_TOWERS
B44: =T39="Водоснабжение" -> 1 | E44: 15 | F44: {=OFFSET(E44,-1,1)} -> 1 | H44: l1 | I44: L3 | J44: =AD44&"::"&AE44 -> Водопроводные сети::км | P44: SUMIFS('Условные метры'!$AK$29:$AK$lastRow,'Условные метры'!$F$29:$F$lastRow, $FcurrRow,'Условные метры'!$G$29:$G$lastRow,"Итог") | Q44: SUMIFS('Условные метры'!$AM$29:$AM$lastRow,'Условные метры'!$F$29:$F$lastRow, $FcurrRow,'Условные метры'!$G$29:$G$lastRow,"Итог") | V44: {=V43} -> true | AC44: =IF(B41,5,2) -> 5 | AD44: Водопроводные сети | AE44: км | AF44: 722.91 | AG44: 722.91 | AH44: 724.59 | AI44: =556.131+168.456 -> 724.587 | AJ44: Протяженность сетей принята на основании данных представленных форм № ОС-1 (в т.ч. г. Ленинск-Кузнецкий - 556,131 км, г. Полысаево - 168,456 км.) Справочно, данные форм статистической отчетности "1-водопровод" за 2024 год : г. Ленинск-Кузнецкий - 555,05 км, г. Полысаево - 168,456 км). | AM44: P_WATER_NETS
B45: =AND(T39="Водоотведение",method_reg<>"Метод сравнения аналогов") -> 0 | E45: 15 | F45: {=OFFSET(E45,-1,1)} -> 1 | H45: l1 | I45: L3 | J45: =AD45&"::"&AE45 -> Биологические очистные сооружения::ед. | V45: {=V44} -> true | AC45: 1 | AD45: Биологические очистные сооружения | AE45: ед. | AM45: P_BIO_CLEAN
B46: =T39="Водоотведение" -> 0 | E46: 15 | F46: {=OFFSET(E46,-1,1)} -> 1 | G46: ЭЭ | H46: l1 | I46: L3 | J46: =AD46&"::"&AE46 -> Канализационные насосные станции::ед. | V46: {=V45} -> true | AC46: =IF(B45,2,1) -> 1 | AD46: Канализационные насосные станции | AE46: ед. | AM46: P_SEWER_PUMP
B47: {=B46} -> false | E47: 15 | F47: {=OFFSET(E47,-1,1)} -> 1 | H47: l1 | I47: L3 | J47: =AD47&"::"&AE47 -> Канализационные сети::км | L47: ЭЭ | P47: SUMIFS('Условные метры'!$AK$29:$AK$lastRow,'Условные метры'!$F$29:$F$lastRow, $FcurrRow,'Условные метры'!$G$29:$G$lastRow,"Итог") | Q47: SUMIFS('Условные метры'!$AM$29:$AM$lastRow,'Условные метры'!$F$29:$F$lastRow, $FcurrRow,'Условные метры'!$G$29:$G$lastRow,"Итог") | V47: {=V46} -> true | AC47: =AC46+1 -> 2 | AD47: Канализационные сети | AE47: км | AM47: P_SEWER_NETS
E48: 15 | F48: {=OFFSET(E48,-1,1)} -> 1 | H48: l1 | I48: L3 | J48: =AD48&"::"&AE48 -> :: | U48: 0 | V48: =AND(F48>0,U48>0) -> 0 | Y48: et_2 | AB48: × | AC48: =IF(OFFSET(C48,-8-U48,-1),5,IF(OFFSET(C48,-3-U48,-1),3,2))+U48 -> 5 | AM48: P_OTHER | AN48: DYN_OBJ_LIST | AO48: {=AD48} -> 0 | AP48: {=AE48} -> 0 | AR48: TRUE
E49: 15 | F49: {=OFFSET(E49,-1,1)} -> 1 | J49: !== 'Водонасосные станции (водозаборные узлы)::ед.' && row.det_name.toLowerCase() !== 'Скважины::ед.' && row.det_name.toLowerCase() !== 'Подкачивающие насосные станции::ед.' && row.det_name.toLowerCase() !== 'Водонапорные башни::ед.' && row.det_name.toLowerCase() !== 'Водопроводные сети::км' && row.det_name.toLowerCase() !== 'Биологические очистные сооружения::ед.' && row.det_name.toLowerCase() !== 'Канализационные насосные станции::ед.' && row.det_name.toLowerCase() !== 'Канализационные сети::км' && row.det_name.toLowerCase() !== 'Краткое описание технологического процесса' | V49: {=V47} -> true | Y49: { _x000D_ funcDyn: 'msg',_x000D_ blok: '',_x000D_ wsCross: '',_x000D_ linkFormula: '',_x000D_ levelDyn: '1',_x000D_ addDynValue: 'det_name|AC|0'_x000D_ } | AD49: Добавить | AQ49: DYN_OBJ_LIST
E50: 15 | F50: {=OFFSET(E50,-1,1)} -> 1 | H50: l2 | I50: L3 | J50: {=AD50} -> Краткое описание технологического процесса | V50: {=V49} -> true | AD50: Краткое описание технологического процесса | AF50: Организация предоставляет услуги питьевого водоснабжения потребителям, находящимся в границах нескольких муниципальных образований – г. Ленинск-Кузнецкий, г. Полысаево, г. Белово (МУП «Водоканал»), Ленинск-Кузнецкого муниципального округа (ООО «Энергоресурс»). Услуги по отведению и очистке сточных вод предоставляются только потребителям г. Ленинск-Кузнецкий. Система водоснабжения предусматривает получение воды из двух источников: поверхностного (открытого) и подземного. Основным источником водоснабжения служит поверхностная вода р. Томь. (Продолжение - на Листе "Комментарии".) | AM50: P_TEH_PROC
...

Sheet Список объектов
F1: tariffNum | U1: vis_1 | V1: dyn_1 | W1: blok_1 | X1: blok_2 | Y1: ren_1 | Z1: del_1 | AA1: del_2 | AB1: ren_2 | AC1: dyn_2 | AK1: pok_js | AL1: PJ_DYN | AM1: PJ_NAME | AN1: PJ_NAME_EXP | AO1: PJ_NAME_DOC_TYPE | AP1: PJ_NAME_DOC_NUM | AQ1: PJ_NAME_DOC_DATE | AR1: dyn_add | AS1: dyn_fill
B2: flag_vis
E5: flag_size | AA5: 3 | AB5: 11 | AC5: 70 | AD5: 15 | AE5: 20 | AF5: 20 | AG5: 20 | AH5: 20 | AI5: 3
A9: PJ_OBJ_LIST | AH9: {=AH24} -> Срок действия
A10: dyn_names | AC10: PJ_NAME | AD10: PJ_NAME_EXP | AE10: PJ_NAME_DOC_TYPE | AF10: PJ_NAME_DOC_NUM | AG10: PJ_NAME_DOC_DATE
E21: 15 | AC21: {=tpl_title} -> Кемеровская область / 2026 / ОАО «СКЭК» (ИНН:4205153492, КПП:420501001) / ДПР: 2024-2028
E22: 21 | AB22: Правоустанавливающие и подтверждающие документы на объекты коммунальной инфраструктуры
E23: 9
E24: 21 | AB24: № п/п | AC24: Объект коммунальной инфраструктуры | AD24: Основание эксплуатации | AE24: Вид документа | AF24: Номер документа | AG24: Дата документа | AH24: Срок действия
E25: 0
E26: 15 | F26: {=Y26} -> 0 | U26: =Y26>0 -> 0 | W26: et_1 | Y26: 0 | AB26: {=INDEX('Общие сведения'!$AG$197:$AG$254,MATCH($Y26,'Общие сведения'!$Z$197:$Z$254,0))} -> Тариф 0 () -
E27: 0 | F27: {=OFFSET(G27,-1,-1)} -> 0 | U27: FALSE
E28: 15 | F28: {=OFFSET(G28,-1,-1)} -> 0 | I28: Наименование объекта | K28: адрес | U28: =AND(F28>0,AB28>0) -> 0 | X28: et_2 | AA28: × | AB28: 0 | AC28: =I28&" :: "&K28 -> Наименование объекта :: адрес | AK28: P_OBJ_LIST_PROPS | AL28: DYN_OBJ | AM28: {=AC28} -> Наименование объекта :: адрес | AN28: {=AD28} -> 0 | AO28: {=AE28} -> 0 | AP28: {=AF28} -> 0 | AQ28: {=AG28} -> 0 | AS28: TRUE
E29: 11 | F29: {=OFFSET(G29,-1,-1)} -> 0 | U29: =F29>0 -> 0 | X29: { _x000D_ funcDyn: 'obj',_x000D_ blok: '',_x000D_ wsCross: '',_x000D_ linkFormula: '',_x000D_ levelDyn: '1'_x000D_ } | AC29: Добавить объект | AR29: DYN_OBJ
E30: 15 | F30: {=Y30} -> 1 | U30: =Y30>0 -> 1 | W30: {='Перечень объектов'!$AC$39} -> Тариф 1 (Водоснабжение) - тариф на питьевую воду (Оказание услуг на территории: город Ленинск-Кузнецкий (ОКТМО: 32719000) - г Ленинск-Кузнецкий, г Полысаево) | Y30: 1 | AB30: {='Перечень объектов'!$AC$39} -> Тариф 1 (Водоснабжение) - тариф на питьевую воду (Оказание услуг на территории: город Ленинск-Кузнецкий (ОКТМО: 32719000) - г Ленинск-Кузнецкий, г Полысаево)
E31: 0 | F31: {=OFFSET(G31,-1,-1)} -> 1 | U31: FALSE
E32: 15 | F32: {=OFFSET(G32,-1,-1)} -> 1 | I32: Наименование объекта | K32: адрес | U32: =AND(F32>0,AB32>0) -> 0 | X32: et_2 | AA32: × | AB32: 0 | AC32: =I32&" :: "&K32 -> Наименование объекта :: адрес | AK32: P_OBJ_LIST_PROPS | AL32: DYN_OBJ | AM32: {=AC32} -> Наименование объекта :: адрес | AN32: {=AD32} -> 0 | AO32: {=AE32} -> 0 | AP32: {=AF32} -> 0 | AQ32: {=AG32} -> 0 | AS32: TRUE
E33: 15 | F33: {=OFFSET(G33,-1,-1)} -> 1 | I33: Скважина №6а | K33: г Ленинск-Кузнецкий, в 1200 м на юг от водонапорной башни в пос.Озеровка по ул.Центральной, б/н | U33: =AND(F33>0,AB33>0) -> 1 | AA33: × | AB33: 1 | AC33: =I33&" :: "&K33 -> Скважина №6а :: г Ленинск-Кузнецкий, в 1200 м на юг от водонапорной башни в пос.Озеровка по ул.Центральной, б/н | AD33: концессионное соглашение | AE33: соглашение | AF33: 1/Л-К | AG33: 14.11.2019 | AK33: P_OBJ_LIST_PROPS | AL33: DYN_OBJ | AM33: {=AC33} -> Скважина №6а :: г Ленинск-Кузнецкий, в 1200 м на юг от водонапорной башни в пос.Озеровка по ул.Центральной, б/н | AN33: {=AD33} -> концессионное соглашение | AO33: {=AE33} -> соглашение | AP33: {=AF33} -> 1/Л-К | AQ33: {=AG33} -> 14.11.2019 | AS33: TRUE
E34: 15 | F34: {=OFFSET(G34,-1,-1)} -> 1 | I34: Скважина №2а | K34: г Ленинск-Кузнецкий, в 800 м (слева) на северо-запад от 261 км автомобильной дороги Новосибирск-Ленинск-Кузнецкий-Кемерово-Юрга, б/н | U34: =AND(F34>0,AB34>0) -> 1 | AA34: × | AB34: 2 | AC34: =I34&" :: "&K34 -> Скважина №2а :: г Ленинск-Кузнецкий, в 800 м (слева) на северо-запад от 261 км автомобильной дороги Новосибирск-Ленинск-Кузнецкий-Кемерово-Юрга, б/н | AD34: концессионное соглашение | AE34: соглашение | AF34: 1/Л-К | AG34: 14.11.2019 | AK34: P_OBJ_LIST_PROPS | AL34: DYN_OBJ | AM34: {=AC34} -> Скважина №2а :: г Ленинск-Кузнецкий, в 800 м (слева) на северо-запад от 261 км автомобильной дороги Новосибирск-Ленинск-Кузнецкий-Кемерово-Юрга, б/н | AN34: {=AD34} -> концессионное соглашение | AO34: {=AE34} -> соглашение | AP34: {=AF34} -> 1/Л-К | AQ34: {=AG34} -> 14.11.2019 | AS34: TRUE
E35: 15 | F35: {=OFFSET(G35,-1,-1)} -> 1 | I35: Скважина №4а | K35: г Ленинск-Кузнецкий, в 950 м (справа) на северо-запад от 261 км автомобильной дороги Новосибирск-Ленинск-Кузнецкий-Кемерово-Юрга, б/н | U35: =AND(F35>0,AB35>0) -> 1 | AA35: × | AB35: 3 | AC35: =I35&" :: "&K35 -> Скважина №4а :: г Ленинск-Кузнецкий, в 950 м (справа) на северо-запад от 261 км автомобильной дороги Новосибирск-Ленинск-Кузнецкий-Кемерово-Юрга, б/н | AD35: концессионное соглашение | AE35: соглашение | AF35: 1/Л-К | AG35: 14.11.2019 | AK35: P_OBJ_LIST_PROPS | AL35: DYN_OBJ | AM35: {=AC35} -> Скважина №4а :: г Ленинск-Кузнецкий, в 950 м (справа) на северо-запад от 261 км автомобильной дороги Новосибирск-Ленинск-Кузнецкий-Кемерово-Юрга, б/н | AN35: {=AD35} -> концессионное соглашение | AO35: {=AE35} -> соглашение | AP35: {=AF35} -> 1/Л-К | AQ35: {=AG35} -> 14.11.2019 | AS35: TRUE
E36: 15 | F36: {=OFFSET(G36,-1,-1)} -> 1 | I36: сети водоснабжения | K36: г Ленинск-Кузнецкий, г. Ленинск-Кузнецкий, - | U36: =AND(F36>0,AB36>0) -> 1 | AA36: × | AB36: 4 | AC36: =I36&" :: "&K36 -> сети водоснабжения :: г Ленинск-Кузнецкий, г. Ленинск-Кузнецкий, - | AD36: концессионное соглашение | AE36: соглашение | AF36: 1/Л-К | AG36: 14.11.2019 | AK36: P_OBJ_LIST_PROPS | AL36: DYN_OBJ | AM36: {=AC36} -> сети водоснабжения :: г Ленинск-Кузнецкий, г. Ленинск-Кузнецкий, - | AN36: {=AD36} -> концессионное соглашение | AO36: {=AE36} -> соглашение | AP36: {=AF36} -> 1/Л-К | AQ36: {=AG36} -> 14.11.2019 | AS36: TRUE
E37: 15 | F37: {=OFFSET(G37,-1,-1)} -> 1 | I37: Скважина №7а | K37: г Ленинск-Кузнецкий, за придорожной полосой автомобильной дороги Новосибирск-Ленинск-Кузнецкий-Кемерово-Юрга, 259 км+500м(справа), корпус 9 | U37: =AND(F37>0,AB37>0) -> 1 | AA37: × | AB37: 5 | AC37: =I37&" :: "&K37 -> Скважина №7а :: г Ленинск-Кузнецкий, за придорожной полосой автомобильной дороги Новосибирск-Ленинск-Кузнецкий-Кемерово-Юрга, 259 км+500м(справа), корпус 9 | AD37: концессионное соглашение | AE37: соглашение | AF37: 1/Л-К | AG37: 14.11.2019 | AK37: P_OBJ_LIST_PROPS | AL37: DYN_OBJ | AM37: {=AC37} -> Скважина №7а :: г Ленинск-Кузнецкий, за придорожной полосой автомобильной дороги Новосибирск-Ленинск-Кузнецкий-Кемерово-Юрга, 259 км+500м(справа), корпус 9 | AN37: {=AD37} -> концессионное соглашение | AO37: {=AE37} -> соглашение | AP37: {=AF37} -> 1/Л-К | AQ37: {=AG37} -> 14.11.2019 | AS37: TRUE
E38: 15 | F38: {=OFFSET(G38,-1,-1)} -> 1 | I38: насосная станция Подъем №2 | K38: г Ленинск-Кузнецкий, пр.Кирова, 20а | U38: =AND(F38>0,AB38>0) -> 1 | AA38: × | AB38: 6 | AC38: =I38&" :: "&K38 -> насосная станция Подъем №2 :: г Ленинск-Кузнецкий, пр.Кирова, 20а | AD38: концессионное соглашение | AE38: соглашение | AF38: 1/Л-К | AG38: 14.11.2019 | AK38: P_OBJ_LIST_PROPS | AL38: DYN_OBJ | AM38: {=AC38} -> насосная станция Подъем №2 :: г Ленинск-Кузнецкий, пр.Кирова, 20а | AN38: {=AD38} -> концессионное соглашение | AO38: {=AE38} -> соглашение | AP38: {=AF38} -> 1/Л-К | AQ38: {=AG38} -> 14.11.2019 | AS38: TRUE
E39: 15 | F39: {=OFFSET(G39,-1,-1)} -> 1 | I39: Насосная станция №16 | K39: г Ленинск-Кузнецкий, пр.Ленина, 82"б" | U39: =AND(F39>0,AB39>0) -> 1 | AA39: × | AB39: 7 | AC39: =I39&" :: "&K39 -> Насосная станция №16 :: г Ленинск-Кузнецкий, пр.Ленина, 82"б" | AD39: концессионное соглашение | AE39: соглашение | AF39: 1/Л-К | AG39: 14.11.2019 | AK39: P_OBJ_LIST_PROPS | AL39: DYN_OBJ | AM39: {=AC39} -> Насосная станция №16 :: г Ленинск-Кузнецкий, пр.Ленина, 82"б" | AN39: {=AD39} -> концессионное соглашение | AO39: {=AE39} -> соглашение | AP39: {=AF39} -> 1/Л-К | AQ39: {=AG39} -> 14.11.2019 | AS39: TRUE
E40: 15 | F40: {=OFFSET(G40,-1,-1)} -> 1 | I40: насосная станция №17 | K40: г Ленинск-Кузнецкий, пр.Ленина, 86"б" | U40: =AND(F40>0,AB40>0) -> 1 | AA40: × | AB40: 8 | AC40: =I40&" :: "&K40 -> насосная станция №17 :: г Ленинск-Кузнецкий, пр.Ленина, 86"б" | AD40: концессионное соглашение | AE40: соглашение | AF40: 1/Л-К | AG40: 14.11.2019 | AK40: P_OBJ_LIST_PROPS | AL40: DYN_OBJ | AM40: {=AC40} -> насосная станция №17 :: г Ленинск-Кузнецкий, пр.Ленина, 86"б" | AN40: {=AD40} -> концессионное соглашение | AO40: {=AE40} -> соглашение | AP40: {=AF40} -> 1/Л-К | AQ40: {=AG40} -> 14.11.2019 | AS40: TRUE
E41: 15 | F41: {=OFFSET(G41,-1,-1)} -> 1 | I41: Насосная станция Гидроузел №2 | K41: г Ленинск-Кузнецкий, проезд Объездная дорога, 13 | U41: =AND(F41>0,AB41>0) -> 1 | AA41: × | AB41: 9 | AC41: =I41&" :: "&K41 -> Насосная станция Гидроузел №2 :: г Ленинск-Кузнецкий, проезд Объездная дорога, 13 | AD41: концессионное соглашение | AE41: соглашение | AF41: 1/Л-К | AG41: 14.11.2019 | AK41: P_OBJ_LIST_PROPS | AL41: DYN_OBJ | AM41: {=AC41} -> Насосная станция Гидроузел №2 :: г Ленинск-Кузнецкий, проезд Объездная дорога, 13 | AN41: {=AD41} -> концессионное соглашение | AO41: {=AE41} -> соглашение | AP41: {=AF41} -> 1/Л-К | AQ41: {=AG41} -> 14.11.2019 | AS41: TRUE
E42: 15 | F42: {=OFFSET(G42,-1,-1)} -> 1 | I42: Скважина Никитинская 534 | K42: г Ленинск-Кузнецкий, ул. Никитинская, 2"б" | U42: =AND(F42>0,AB42>0) -> 1 | AA42: × | AB42: 10 | AC42: =I42&" :: "&K42 -> Скважина Никитинская 534 :: г Ленинск-Кузнецкий, ул. Никитинская, 2"б" | AD42: концессионное соглашение | AE42: соглашение | AF42: 1/Л-К | AG42: 14.11.2019 | AK42: P_OBJ_LIST_PROPS | AL42: DYN_OBJ | AM42: {=AC42} -> Скважина Никитинская 534 :: г Ленинск-Кузнецкий, ул. Никитинская, 2"б" | AN42: {=AD42} -> концессионное соглашение | AO42: {=AE42} -> соглашение | AP42: {=AF42} -> 1/Л-К | AQ42: {=AG42} -> 14.11.2019 | AS42: TRUE
E43: 15 | F43: {=OFFSET(G43,-1,-1)} -> 1 | I43: Скважина Никитинская 602 | K43: г Ленинск-Кузнецкий, ул. Никитинская, 2"в" сооружение 1 | U43: =AND(F43>0,AB43>0) -> 1 | AA43: × | AB43: 11 | AC43: =I43&" :: "&K43 -> Скважина Никитинская 602 :: г Ленинск-Кузнецкий, ул. Никитинская, 2"в" сооружение 1 | AD43: концессионное соглашение | AE43: соглашение | AF43: 1/Л-К | AG43: 14.11.2019 | AK43: P_OBJ_LIST_PROPS | AL43: DYN_OBJ | AM43: {=AC43} -> Скважина Никитинская 602 :: г Ленинск-Кузнецкий, ул. Никитинская, 2"в" сооружение 1 | AN43: {=AD43} -> концессионное соглашение | AO43: {=AE43} -> соглашение | AP43: {=AF43} -> 1/Л-К | AQ43: {=AG43} -> 14.11.2019 | AS43: TRUE
E44: 15 | F44: {=OFFSET(G44,-1,-1)} -> 1 | I44: насосная станция | K44: г Ленинск-Кузнецкий, ул. Розы Люксембург, 47"б" | U44: =AND(F44>0,AB44>0) -> 1 | AA44: × | AB44: 12 | AC44: =I44&" :: "&K44 -> насосная станция :: г Ленинск-Кузнецкий, ул. Розы Люксембург, 47"б" | AD44: концессионное соглашение | AE44: соглашение | AF44: 1/Л-К | AG44: 14.11.2019 | AK44: P_OBJ_LIST_PROPS | AL44: DYN_OBJ | AM44: {=AC44} -> насосная станция :: г Ленинск-Кузнецкий, ул. Розы Люксембург, 47"б" | AN44: {=AD44} -> концессионное соглашение | AO44: {=AE44} -> соглашение | AP44: {=AF44} -> 1/Л-К | AQ44: {=AG44} -> 14.11.2019 | AS44: TRUE
... E54: 15 | F54: {=OFFSET(G54,-1,-1)} -> 1 | I54: Водозабор- насосная станция 1-го подъема | K54: пгт Крапивинский, пгт. Крапивинский, корпус 1 | U54: =AND(F54>0,AB54>0) -> 1 | AA54: × | AB54: 22 | AC54: =I54&" :: "&K54 -> Водозабор- насосная станция 1-го подъема :: пгт Крапивинский, пгт. Крапивинский, корпус 1 | AD54: концессионное соглашение | AE54: соглашение | AF54: 1/Л-К | AG54: 14.11.2019 | AK54: P_OBJ_LIST_PROPS | AL54: DYN_OBJ | AM54: {=AC54} -> Водозабор- насосная станция 1-го подъема :: пгт Крапивинский, пгт. Крапивинский, корпус 1 | AN54: {=AD54} -> концессионное соглашение | AO54: {=AE54} -> соглашение | AP54: {=AF54} -> 1/Л-К | AQ54: {=AG54} -> 14.11.2019 | AS54: TRUE
E55: 11 | F55: {=OFFSET(G55,-1,-1)} -> 1 | U55: =F55>0 -> 1 | X55: { _x000D_ funcDyn: 'obj',_x000D_ blok: '',_x000D_ wsCross: '',_x000D_ linkFormula: '',_x000D_ levelDyn: '1'_x000D_ } | AC55: Добавить объект | AR55: DYN_OBJ
E56: 15 | F56: {=Y56} -> 2 | U56: =Y56>0 -> 1 | W56: {='Перечень объектов'!$AC$51} -> Тариф 2 (Водоотведение) - тариф на водоотведение (Оказание услуг на территории: город Ленинск-Кузнецкий (ОКТМО: 32719000) - г Ленинск-Кузнецкий) | Y56: 2 | AB56: {='Перечень объектов'!$AC$51} -> Тариф 2 (Водоотведение) - тариф на водоотведение (Оказание услуг на территории: город Ленинск-Кузнецкий (ОКТМО: 32719000) - г Ленинск-Кузнецкий)
E57: 0 | F57: {=OFFSET(G57,-1,-1)} -> 2 | U57: FALSE
E58: 15 | F58: {=OFFSET(G58,-1,-1)} -> 2 | I58: Наименование объекта | K58: адрес | U58: =AND(F58>0,AB58>0) -> 0 | X58: et_2 | AA58: × | AB58: 0 | AC58: =I58&" :: "&K58 -> Наименование объекта :: адрес | AK58: P_OBJ_LIST_PROPS | AL58: DYN_OBJ | AM58: {=AC58} -> Наименование объекта :: адрес | AN58: {=AD58} -> 0 | AO58: {=AE58} -> 0 | AP58: {=AF58} -> 0 | AQ58: {=AG58} -> 0 | AS58: TRUE
E59: 15 | F59: {=OFFSET(G59,-1,-1)} -> 2 | I59: Сети водоотведения | K59: г Ленинск-Кузнецкий, г. Ленинск-Кузнецкий, б/н | U59: =AND(F59>0,AB59>0) -> 1 | AA59: × | AB59: 1 | AC59: =I59&" :: "&K59 -> Сети водоотведения :: г Ленинск-Кузнецкий, г. Ленинск-Кузнецкий, б/н | AD59: концессионное соглашение | AE59: соглашение | AF59: 1/Л-К | AG59: 14.11.2019 | AK59: P_OBJ_LIST_PROPS | AL59: DYN_OBJ | AM59: {=AC59} -> Сети водоотведения :: г Ленинск-Кузнецкий, г. Ленинск-Кузнецкий, б/н | AN59: {=AD59} -> концессионное соглашение | AO59: {=AE59} -> соглашение | AP59: {=AF59} -> 1/Л-К | AQ59: {=AG59} -> 14.11.2019 | AS59: TRUE
E60: 15 | F60: {=OFFSET(G60,-1,-1)} -> 2 | I60: КНС квартала "Днепровский" | K60: г Ленинск-Кузнецкий, На северо-запад в 58 метрах от не жилого здания по ул. Юргинская, 4/3 | U60: =AND(F60>0,AB60>0) -> 1 | AA60: × | AB60: 2 | AC60: =I60&" :: "&K60 -> КНС квартала "Днепровский" :: г Ленинск-Кузнецкий, На северо-запад в 58 метрах от не жилого здания по ул. Юргинская, 4/3 | AD60: концессионное соглашение | AE60: соглашение | AF60: 1/Л-К | AG60: 14.11.2019 | AK60: P_OBJ_LIST_PROPS | AL60: DYN_OBJ | AM60: {=AC60} -> КНС квартала "Днепровский" :: г Ленинск-Кузнецкий, На северо-запад в 58 метрах от не жилого здания по ул. Юргинская, 4/3 | AN60: {=AD60} -> концессионное соглашение | AO60: {=AE60} -> соглашение | AP60: {=AF60} -> 1/Л-К | AQ60: {=AG60} -> 14.11.2019 | AS60: TRUE
E61: 15 | F61: {=OFFSET(G61,-1,-1)} -> 2 | I61: КНС №5 | K61: г Ленинск-Кузнецкий, ул. Абая, 3"а" | U61: =AND(F61>0,AB61>0) -> 1 | AA61: × | AB61: 3 | AC61: =I61&" :: "&K61 -> КНС №5 :: г Ленинск-Кузнецкий, ул. Абая, 3"а" | AD61: концессионное соглашение | AE61: соглашение | AF61: 1/Л-К | AG61: 14.11.2019 | AK61: P_OBJ_LIST_PROPS | AL61: DYN_OBJ | AM61: {=AC61} -> КНС №5 :: г Ленинск-Кузнецкий, ул. Абая, 3"а" | AN61: {=AD61} -> концессионное соглашение | AO61: {=AE61} -> соглашение | AP61: {=AF61} -> 1/Л-К | AQ61: {=AG61} -> 14.11.2019 | AS61: TRUE
E62: 15 | F62: {=OFFSET(G62,-1,-1)} -> 2 | I62: КНС квартала "Кемеровский" | K62: г Ленинск-Кузнецкий, ул. Абрамцева, б/н | U62: =AND(F62>0,AB62>0) -> 1 | AA62: × | AB62: 4 | AC62: =I62&" :: "&K62 -> КНС квартала "Кемеровский" :: г Ленинск-Кузнецкий, ул. Абрамцева, б/н | AD62: концессионное соглашение | AE62: соглашение | AF62: 1/Л-К | AG62: 14.11.2019 | AK62: P_OBJ_LIST_PROPS | AL62: DYN_OBJ | AM62: {=AC62} -> КНС квартала "Кемеровский" :: г Ленинск-Кузнецкий, ул. Абрамцева, б/н | AN62: {=AD62} -> концессионное соглашение | AO62: {=AE62} -> соглашение | AP62: {=AF62} -> 1/Л-К | AQ62: {=AG62} -> 14.11.2019 | AS62: TRUE
E63: 15 | F63: {=OFFSET(G63,-1,-1)} -> 2 | I63: КНС по ул.Васильева | K63: г Ленинск-Кузнецкий, ул. Васильева, 12 | U63: =AND(F63>0,AB63>0) -> 1 | AA63: × | AB63: 5 | AC63: =I63&" :: "&K63 -> КНС по ул.Васильева :: г Ленинск-Кузнецкий, ул. Васильева, 12 | AD63: концессионное соглашение | AE63: соглашение | AF63: 1/Л-К | AG63: 14.11.2019 | AK63: P_OBJ_LIST_PROPS | AL63: DYN_OBJ | AM63: {=AC63} -> КНС по ул.Васильева :: г Ленинск-Кузнецкий, ул. Васильева, 12 | AN63: {=AD63} -> концессионное соглашение | AO63: {=AE63} -> соглашение | AP63: {=AF63} -> 1/Л-К | AQ63: {=AG63} -> 14.11.2019 | AS63: TRUE
E64: 15 | F64: {=OFFSET(G64,-1,-1)} -> 2 | I64: КНС №7 | K64: г Ленинск-Кузнецкий, ул. Вокзальная, 28"б" | U64: =AND(F64>0,AB64>0) -> 1 | AA64: × | AB64: 6 | AC64: =I64&" :: "&K64 -> КНС №7 :: г Ленинск-Кузнецкий, ул. Вокзальная, 28"б" | AD64: концессионное соглашение | AE64: соглашение | AF64: 1/Л-К | AG64: 14.11.2019 | AK64: P_OBJ_LIST_PROPS | AL64: DYN_OBJ | AM64: {=AC64} -> КНС №7 :: г Ленинск-Кузнецкий, ул. Вокзальная, 28"б" | AN64: {=AD64} -> концессионное соглашение | AO64: {=AE64} -> соглашение | AP64: {=AF64} -> 1/Л-К | AQ64: {=AG64} -> 14.11.2019 | AS64: TRUE
...

Sheet Сценарии
F1: tariffNum | H1: pok | U1: vis_1 | V1: dyn_1 | W1: blok_1 | X1: blok_2 | Y1: ren_1 | Z1: del_1 | AA1: del_2 | AB1: ren_2 | AC1: dyn_2 | BI1: pok_js | BJ1: PJ_DYN | BK1: PJ_NAME | BL1: dyn_add | BM1: dyn_fill
B2: flag_vis | AF2: {=isOrgDeclare} -> true | AJ2: {=isOrgDeclare} -> true | AM2: {=isOrgDeclare} -> true | AO2: =AND(AO6<=last_year_vis,isOrgDeclare) -> 0 | AP2: =AND(AP6<=last_year_vis,isOrgDeclare) -> 0 | AQ2: =AND(AQ6<=last_year_vis,isOrgDeclare) -> 0 | AR2: =AND(AR6<=last_year_vis,isOrgDeclare) -> 0 | AS2: =AND(AS6<=last_year_vis,isOrgDeclare) -> 0 | AT2: =AND(AT6<=last_year_vis,isOrgDeclare) -> 0 | AU2: =AND(AU6<=last_year_vis,isOrgDeclare) -> 0 | AV2: =AND(AV6<=last_year_vis,isOrgDeclare) -> 0 | AW2: =AND(AW6<=last_year_vis,isOrgDeclare) -> 0 | AX2: =AX6<=last_year_vis -> 0 | AY2: =AY6<=last_year_vis -> 0 | AZ2: =AZ6<=last_year_vis -> 0 | BA2: =BA6<=last_year_vis -> 0 | BB2: =BB6<=last_year_vis -> 0 | BC2: =BC6<=last_year_vis -> 0 | BD2: =BD6<=last_year_vis -> 0 | BE2: =BE6<=last_year_vis -> 0 | BF2: =BF6<=last_year_vis -> 0
E5: flag_size | AA5: 3 | AB5: 11 | AC5: 40 | AD5: 15 | AE5: 15 | AF5: 15 | AG5: 15 | AH5: 17.71 | AI5: 15 | AJ5: 15 | AK5: 15 | AL5: 15 | AM5: 15 | AN5: 15 | AO5: 15 | AP5: 15 | AQ5: 15 | AR5: 15 | AS5: 15 | AT5: 15 | AU5: 15 | AV5: 15 | AW5: 15 | AX5: 15 | AY5: 15 | AZ5: 15 | BA5: 15 | BB5: 15 | BC5: 15 | BD5: 15 | BE5: 15 | BF5: 15 | BG5: 3
A6: prd2_name | AE6: =god-2 -> 2024 | AF6: =god-2 -> 2024 | AG6: =god-2 -> 2024 | AH6: =god-2 -> 2024 | AI6: =god-1 -> 2025 | AJ6: {=god} -> 2026 | AK6: {=god} -> 2026 | AL6: {=god} -> 2026 | AM6: {=god} -> 2026 | AN6: {=god} -> 2026 | AO6: =god+1 -> 2027 | AP6: =god+2 -> 2028 | AQ6: =god+3 -> 2029 | AR6: =god+4 -> 2030 | AS6: =god+5 -> 2031 | AT6: =god+6 -> 2032 | AU6: =god+7 -> 2033 | AV6: =god+8 -> 2034 | AW6: =god+9 -> 2035 | AX6: =god+1 -> 2027 | AY6: =god+2 -> 2028 | AZ6: =god+3 -> 2029 | BA6: =god+4 -> 2030 | BB6: =god+5 -> 2031 | BC6: =god+6 -> 2032 | BD6: =god+7 -> 2033 | BE6: =god+8 -> 2034 | BF6: =god+9 -> 2035
A7: pf_name | AE7: {=AE25} -> Принято органом регулирования | AF7: {=AF25} -> Факт по данным организации | AG7: {=AG25} -> Факт, принятый органом регулирования | AH7: Не определено | AI7: {=AI25} -> Принято органом регулирования | AJ7: {=AJ25} -> Предложение организации | AK7: {=AK25} -> Принято органом регулирования | AL7: {=AL25} -> % роста / снижения | AM7: {=AM25} -> Отклонение (принято органом регулирования - заявлено организацией) | AN7: Не определено | AO7: {=AO25} -> Предложение организации | AP7: {=AP25} -> Предложение организации | AQ7: {=AQ25} -> Предложение организации | AR7: {=AR25} -> Предложение организации | AS7: {=AS25} -> Предложение организации | AT7: {=AT25} -> Предложение организации | AU7: {=AU25} -> Предложение организации | AV7: {=AV25} -> Предложение организации | ... BF7: {=BF25} -> Принято органом регулирования
AE8: =AE6&AE7 -> 2024Принято органом регулирования | AF8: =AF6&AF7 -> 2024Факт по данным организации | AG8: =AG6&AG7 -> 2024Факт, принятый органом регулирования | AH8: =AH6&AH7 -> 2024Не определено | AI8: =AI6&AI7 -> 2025Принято органом регулирования | AJ8: =AJ6&AJ7 -> 2026Предложение организации | AK8: =AK6&AK7 -> 2026Принято органом регулирования | AL8: =AL6&AL7 -> 2026% роста / снижения | ... BF8: =BF6&BF7 -> 2035Принято органом регулирования
A9: PJ_YEAR | AE9: {=AE6} -> 2024 | AF9: {=AF6} -> 2024 | AG9: {=AG6} -> 2024 | AH9: {=AH6} -> 2024 | AI9: {=AI6} -> 2025 | AJ9: {=AJ6} -> 2026 | AK9: {=AK6} -> 2026 | AL9: {=AL6} -> 2026 | ... BF9: {=BF6} -> 2035
A10: PJ_PF | AE10: {=AE25} -> Принято органом регулирования | AF10: {=AF25} -> Факт по данным организации | AG10: {=AG25} -> Факт, принятый органом регулирования | AI10: {=AI25} -> Принято органом регулирования | AJ10: {=AJ25} -> Предложение организации | AK10: {=AK25} -> Принято органом регулирования | AL10: {=AL25} -> % роста / снижения | AM10: {=AM25} -> Отклонение (принято органом регулирования - заявлено организацией) | AO10: {=AO25} -> Предложение организации | AP10: {=AP25} -> Предложение организации | AQ10: {=AQ25} -> Предложение организации | AR10: {=AR25} -> Предложение организации | AS10: {=AS25} -> Предложение организации | AT10: {=AT25} -> Предложение организации | AU10: {=AU25} -> Предложение организации | AV10: {=AV25} -> Предложение организации | ... BF10: {=BF25} -> Принято органом регулирования
A11: PJ_DOP | AH11: {=AH25} -> Комментарии | AN11: {=AN25} -> Комментарии
A12: dyn_names | AC12: PJ_NAME
A18: checkUnique | AC18: Наименование параметра
E21: 15 | AC21: {=tpl_title} -> Кемеровская область / 2026 / ОАО «СКЭК» (ИНН:4205153492, КПП:420501001) / ДПР: 2024-2028
E22: 22.5 | AB22: Ключевые сценарные показатели
E23: 11.25
E24: 15 | AB24: № п/п | AC24: Наименование параметра | AD24: Единица измерения | AE24: =god-2&" год" -> 2024 год | AF24: =god-2&" год" -> 2024 год | AG24: =god-2&" год" -> 2024 год | AH24: =god-2&" год" -> 2024 год | AI24: =god-1&" год" -> 2025 год | AJ24: =god&" год" -> 2026 год | AK24: =god&" год" -> 2026 год | AL24: =god&" год" -> 2026 год | AM24: =god&" год" -> 2026 год | AN24: =god&" год" -> 2026 год | AO24: =god+1&" год" -> 2027 год | AP24: =god+2&" год" -> 2028 год | AQ24: =god+3&" год" -> 2029 год | AR24: =god+4&" год" -> 2030 год | AS24: =god+5&" год" -> 2031 год | AT24: =god+6&" год" -> 2032 год | AU24: =god+7&" год" -> 2033 год | AV24: =god+8&" год" -> 2034 год | AW24: =god+9&" год" -> 2035 год | AX24: =god+1&" год" -> 2027 год | AY24: =god+2&" год" -> 2028 год | AZ24: =god+3&" год" -> 2029 год | BA24: =god+4&" год" -> 2030 год | BB24: =god+5&" год" -> 2031 год | BC24: =god+6&" год" -> 2032 год | BD24: =god+7&" год" -> 2033 год | BE24: =god+8&" год" -> 2034 год | BF24: =god+9&" год" -> 2035 год
E25: 69 | F25: t | AE25: Принято органом регулирования | AF25: Факт по данным организации | AG25: Факт, принятый органом регулирования | AH25: Комментарии | AI25: Принято органом регулирования | AJ25: Предложение организации | AK25: Принято органом регулирования | AL25: % роста / снижения | AM25: Отклонение (принято органом регулирования - заявлено организацией) | AN25: Комментарии | AO25: Предложение организации | AP25: Предложение организации | AQ25: Предложение организации | AR25: Предложение организации | AS25: Предложение организации | AT25: Предложение организации | AU25: Предложение организации | AV25: Предложение организации | AW25: Предложение организации | AX25: Принято органом регулирования | AY25: Принято органом регулирования | AZ25: Принято органом регулирования | BA25: Принято органом регулирования | BB25: Принято органом регулирования | BC25: Принято органом регулирования | BD25: Принято органом регулирования | BE25: Принято органом регулирования | BF25: Принято органом регулирования
E26: 20 | F26: et_Scenarios_tariff | AC26: Ставка НДС | AD26: % | AL26: =IF(AI26<>0,AK26/AI26,0) -> 0 | AM26: =AK26-AJ26 -> 0 | BI26: P_NDS_COMMON
E27: 0
E28: 15 | F28: {=Y28} -> 0 | U28: =Y28>0 -> 0 | W28: et_1 | Y28: 0 | AB28: {=INDEX('Общие сведения'!$AG$197:$AG$254,MATCH($Y28,'Общие сведения'!$Z$197:$Z$254,0))} -> Тариф 0 () -
E29: 15 | F29: {=OFFSET(E29,-1,1)} -> 0 | G29: ИОР | U29: {=U28} -> false | AC29: Индексы | AI29: =(1-AI30/100)*(1+AI31/100)*(1+AI33/100) -> 1 | AJ29: =(1-AJ30/100)*(1+AJ31/100)*(1+AJ33/100) -> 1 | AK29: =(1-AK30/100)*(1+AK31/100)*(1+AK33/100) -> 1 | AO29: =(1-AO30/100)*(1+AO31/100)*(1+AO33/100) -> 1 | AP29: =(1-AP30/100)*(1+AP31/100)*(1+AP33/100) -> 1 | AQ29: =(1-AQ30/100)*(1+AQ31/100)*(1+AQ33/100) -> 1 | AR29: =(1-AR30/100)*(1+AR31/100)*(1+AR33/100) -> 1 | AS29: =(1-AS30/100)*(1+AS31/100)*(1+AS33/100) -> 1 | AT29: =(1-AT30/100)*(1+AT31/100)*(1+AT33/100) -> 1 | AU29: =(1-AU30/100)*(1+AU31/100)*(1+AU33/100) -> 1 | AV29: =(1-AV30/100)*(1+AV31/100)*(1+AV33/100) -> 1 | ... BF29: =(1-BF30/100)*(1+BF31/100)*(1+BF33/100) -> 1
