Workbook
Name AdminExpenses_LOAD_2: Административные!$AK$24:$AK$25
Name AdminExpenses_pIns_comm: Административные!$AB$88
Name AdminExpenses_vis_flags: Административные!$AE$17:$AJ$17
Name AdminiExpenses_LOAD_1: Административные!$AE$25:$AJ$25
Name Amortization_LOAD_1: Амортизация!$AE$25:$BB$25
Name Amortization_LOAD_2: Амортизация!$BC$24:$BC$25
Name Amortization_pIns_comm: Амортизация!$AB$180
Name Amortization_vis_flags: Амортизация!$AI$2:$BB$2
Name AUTHORIZED_PERSON_EMAIL: 'Общие сведения'!$AE$227
Name AUTHORIZED_PERSON_FIO: 'Общие сведения'!$AE$224
Name AUTHORIZED_PERSON_PHONE: 'Общие сведения'!$AE$226
Name AUTHORIZED_PERSON_POSITION: 'Общие сведения'!$AE$225
Name Balance_vis_flags: Баланс!$AI$2:$BB$2
Name Calculation_LOAD_1: 'Калькуляция (МИ)'!$AE$25:$BC$25
Name Calculation_LOAD_2: 'Калькуляция (МИ)'!$BN$24:$BP$25
Name Calculation_pIns_comm: 'Калькуляция (МИ)'!$AB$463
Name Calculation_vis_flags: 'Калькуляция (МИ)'!$AJ$2:$BM$2
Name Calculation_vis_flags2: 'Калькуляция (МИ)'!$S$25:$S$25
Name code: Инструкция!$B$2
Name COLDVSNA_TRANSP_VTOV: TEHSHEET!$V$2:$V$4
Name COLDVSNA_VDET_LIST: TEHSHEET!$K$20:$K$24
Name COLDVSNA_VTARIFF: TEHSHEET!$W$2:$W$3
Name COLDVSNA_VTOV: TEHSHEET!$V$2:$V$3
Name diametr_list: TEHSHEET!$AB$2:$AB$22
Name diametr_list_vo: TEHSHEET!$AG$2:$AG$140
Name diametr_list_vs: TEHSHEET!$AF$2:$AF$55
Name DOCUMENT_TYPES: TEHSHEET!$K$46:$K$52
Name DPR_check_range1: ДПР!$AG$28:$AG$28
Name DPR_ee_divide: ДПР!$AF$24
Name dpr_list: DICTIONARIES!$C$2:$C$43
Name DPR_LOAD_1: ДПР!$AC$28:$AK$28
Name DPR_pIns_comm: ДПР!$AB$187
Name DPR_vis_flags: ДПР!$W$28:$W$28
Name DPR_vis_flags2: ДПР!$AG$2:$AK$2
Name DPRConcessions_LOAD_1: 'ДПР (концессии)'!$AC$26:$AK$26
Name DPRConcessions_pIns_comm: 'ДПР (концессии)'!$AB$191
Name DPRConcessions_vis_flags: 'ДПР (концессии)'!$W$26:$W$26
Name DPRConcessions_vis_flags2: 'ДПР (концессии)'!$AG$2:$AK$2
Name Electricity_LOAD_1: ЭЭ!$AE$25:$BB$109
Name Electricity_vis_flags: ЭЭ!$AI$2:$BB$2
Name entityName: 'Общие сведения'!$AI$24
Name et_AdminExpenses_tariff: Административные!$32:$88
Name et_Amortization_tariff: Амортизация!$27:$75
Name et_Balance_tariff_vo: Баланс!$81:$105
Name et_Balance_tariff_vo_transp: Баланс!$107:$117
Name et_Balance_tariff_vs: Баланс!$27:$62
Name et_Balance_tariff_vs_transp: Баланс!$65:$78
Name et_Calculation_tariff: 'Калькуляция (МИ)'!$27:$166
Name et_DPR_tariff_vs: ДПР!$30:$80
Name et_DPRConcessions_block: 'ДПР (концессии)'!$29:$79
Name et_DPRConcessions_tariff: 'ДПР (концессии)'!$28:$28
Name et_GeneralInfo_fio: 'Общие сведения'!$236:$236
Name et_GeneralInfo_tariff: 'Общие сведения'!$180:$193
Name et_InvestmentSources_tariff: 'ИП + источники'!$58:$86
Name et_NegativeImpactFee_tariff: 'Плата за негативное возд'!$26:$28
Name et_NVVCorrection_tariff: 'Корректировка НВВ'!$27:$77
Name et_ObjectList_obj: 'Список объектов'!$28:$28
Name et_ObjectList_tariff_vs: 'Список объектов'!$26:$26
Name et_Purchase_org2: Покупка!$38:$39
Name et_Purchase_org3: Покупка!$45:$46

Sheet Информация JSON
A1: Расположение | B1: Тип | C1: Комментарий

Sheet Инструкция
AA1: (требуется обновление)
B2: Код отчёта: EXPERT.VSVO.2026.EIAS
B3: Версия отчёта: 1.1.2
B6: Условные обозначения
E8: A | F8: - предназначенные для заполнения | O8: A | P8: - ссылки и автозаполняемые поля
E9: A | F9: - с формулами и константами | O9: A | P9: - обязательные для заполнения
E10: A | F10: - выбор по даблклику (необязательные) | O10: A | P10: - выбор по даблклику (обязательные)
B12: Работа с реестрами
E13: Если в предложенном Вам списке необходимая организация, территория или объект отсутствуют, обратитесь к ответственному за поддержание реестра Вашего региона либо в службу поддержки пользователей ФГИС «ТАРИФ». В случае возникновения ошибок или вопросов, пожалуйста, также оставьте обращение на портале поддержки ФГИС «ТАРИФ» по адресу:
E14: https://support.tarif.gov.ru/
B15: Проверка отчёта
E16: • При сохранении отчётной формы осуществляется проверка корректности данных_x000D_ • Для каждого сообщения возможны 2 статуса: ошибка и предупреждение_x000D_ • При наличии сообщений со статусом «Ошибка» файл будет отклонён системой и не будет загружен в хранилище данных, сообщения со статусом «Предупреждение» носят информационный характер, и такой файл будет принят к обработке системой

Sheet Пояснения
B2: flag_vis
E5: flag_size
AB22: Понятия, используемые в Типовом экспертном заключении
AB24: № п/п | AC24: Используемое понятие | AD24: Расшифровка (пояснения)
AB25: 1 | AC25: факт по данным организации | AD25: фактические значения расходов в соответствии с данными раздельного учета затрат по видам деятельности организаций, осуществляющих горячее водоснабжение, холодное водоснабжение и (или) водоотведение
AB26: 2 | AC26: факт, принятый органом регулирования | AD26: фактические значения расходов в соответствии с данными бухгалтерской и статистической отчетности регулируемой организации за соответствующий период, с учетом данных, полученных по результатам проведенных органом регулирования тарифов мероприятий по контролю, предусмотренных Постановление Правительства РФ от 27.06.2013 N 543 (ред. от 17.08.2020) "О государственном контроле (надзоре) в области регулируемых государством цен (тарифов).

Sheet Список листов
B2: flag_vis
E5: flag_size
AB22: Список листов
AB23: * для перехода на лист дважды кликните по названию
B24: TRUE | E24: 27.75 | AB24: скрыть | AC24: Общие сведения | AD24: Сведения о регулируемой организации_x000D_ Информация о рассмотрении дела об установлении тарифов
B25: TRUE | E25: 27.75 | AB25: скрыть | AC25: Список территорий | AD25: Перечень муниципальных образований, на территории которых организация оказывает услуги холодного водоснабжения / водоотведения
B26: TRUE | E26: 27.75 | AB26: скрыть | AC26: Перечень объектов | AD26: Перечень объектов организации, с помощью которых организация оказывает услуги холодного водоснабжения/ водоотведения
B27: TRUE | E27: 27.75 | AB27: скрыть | AC27: Список объектов | AD27: Правоустанавливающие и подтверждающие документы на объекты коммунальной инфраструктуры
B28: =NOT(method_reg="Метод сравнения аналогов") -> TRUE | E28: 27.75 | AB28: скрыть | AC28: Сценарии | AD28: Ключевые сценарные показатели
B29: =method_reg="Метод индексации" -> TRUE | E29: 27.75 | AB29: отобразить | AC29: ИИКА | AD29: Индекс изменения количества активов
B30: TRUE | E30: 27.75 | AB30: скрыть | AC30: Баланс | AD30: Баланс водоснабжения / водоотведения
B31: =OR(method_reg="Метод индексации",method_reg="Метод сравнения аналогов") -> TRUE | E31: 27.75 | AB31: отобразить | AC31: Условные метры | AD31: Расчет условных метров водопроводной (канализационной) сети
B32: =NOT(method_reg="Метод сравнения аналогов") -> TRUE | E32: 27.75 | AB32: скрыть | AC32: Сырье и материалы | AD32: Расходы на реагенты
B33: =NOT(method_reg="Метод сравнения аналогов") -> TRUE | E33: 27.75 | AB33: скрыть | AC33: ЭЭ | AD33: Расходы на электрическую энергию
B34: =NOT(method_reg="Метод сравнения аналогов") -> TRUE | E34: 27.75 | AB34: скрыть | AC34: Амортизация | AD34: Амортизация основных средств и нематериальных активов, относимых к объектам централизованной системы водоснабжения/водоотведения
B35: =method_reg="Метод сравнения аналогов" -> FALSE | E35: 27.75 | AB35: отобразить | AC35: Амортизация (аналог) | AD35: Нормативный уровень расходов на амортизацию основных средств и нематериальных активов, относимых к объектам централизованой системы водоснабжения / водоотведения, используемым для транспортировки воды / сточных вод
B36: =NOT(method_reg="Метод сравнения аналогов") -> TRUE | E36: 27.75 | AB36: скрыть | AC36: Аренда | AD36: Аренда
B37: =NOT(method_reg="Метод сравнения аналогов") -> TRUE | E37: 27.75 | AB37: скрыть | AC37: Покупка | AD37: Расходы на оплату товаров (услуг, работ), приобретаемых у других организаций
B38: =AND(OR(god=first_year,method_reg="Метод обеспечения доходности инвестированного капитала"),NOT(method_reg="Метод сравнения аналогов")) -> FALSE | E38: 27.75 | AB38: отобразить | AC38: ФОТ | AD38: Расходы на оплату труда и страховые взносы на обязательное социальное страхование основного производственного персонала, в том числе налоги и сборы с фонда оплаты труда
B39: =AND(OR(god=first_year,method_reg="Метод обеспечения доходности инвестированного капитала"),NOT(method_reg="Метод сравнения аналогов")) -> FALSE | E39: 27.75 | AB39: отобразить | AC39: Административные | AD39: Административные расходы
B40: =AND(OR(god=first_year,method_reg="Метод обеспечения доходности инвестированного капитала"),NOT(method_reg="Метод сравнения аналогов"),STATUS_GO="да") -> FALSE | E40: 27.75 | AB40: отобразить | AC40: Сбытовые расходы ГО | AD40: Сбытовые расходы гарантирующей организации
B41: =NOT(method_reg="Метод сравнения аналогов") -> TRUE | E41: 27.75 | AB41: скрыть | AC41: Налоги | AD41: Расшифровка по налогам и платежам
B42: =AND(method_reg<>"Метод сравнения аналогов",OR(HAS_DOC5="да",HAS_DOC6="да")) -> FALSE | E42: 27.75 | AB42: отобразить | AC42: ИП + источники | AD42: План и факт по источникам финансирования инвестиционной программы
B43: =AND(NOT(method_reg="Метод экономически обоснованных расходов"),NOT(method_reg="Метод сравнения аналогов")) -> TRUE | E43: 27.75 | AB43: отобразить | AC43: Экономия_корр | AD43: Расчет экономии средств, достигнутой в результате снижения расходов предыдущего долгосрочного периода регулирования
B44: =AND(NOT(method_reg="Метод сравнения аналогов"),hasVO) -> TRUE | E44: 27.75 | AB44: отобразить | AC44: Плата за негативное возд | AD44: Плата за негативное воздействие на работу централизованных систем водоотведения
B45: =AND(NOT(method_reg="Метод экономически обоснованных расходов"),NOT(method_reg="Метод сравнения аналогов")) -> TRUE | E45: 27.75 | AB45: скрыть | AC45: Корректировка НВВ | AD45: Расчет показателей корректировки необходимой валовой выручки
B46: =method_reg="Метод экономически обоснованных расходов" -> FALSE | E46: 27.75 | AB46: отобразить | AC46: Калькуляция (МЭОР) | AD46: Расчет тарифа методом экономически обоснованных расходов
B47: =AND(first_year=god,OR(method_reg="Метод обеспечения доходности инвестированного капитала",method_reg="Метод индексации")) -> FALSE | E47: 27.75 | AB47: отобразить | AC47: Калькуляция (МИ) | AD47: Расчет тарифа методом индексации
B48: =AND(OR(method_reg="Метод индексации",method_reg="Метод обеспечения доходности инвестированного капитала"),first_year<>god) -> TRUE | E48: 27.8 | AB48: скрыть | AC48: Калькуляция (МИ корр) | AD48: Расчет тарифа методом индексации
B49: =NOT(method_reg="Метод сравнения аналогов") -> TRUE | E49: 27.75 | AB49: скрыть | AC49: ТМ | AD49: Тарифное меню
B50: =OR(method_reg="Метод индексации",method_reg="Метод обеспечения доходности инвестированного капитала") -> TRUE | E50: 27.75 | AB50: скрыть | AC50: ДПР | AD50: Долгосрочные параметры регулирования тарифов
B51: =OR(method_reg="Метод индексации",method_reg="Метод обеспечения доходности инвестированного капитала") -> TRUE | E51: 27.75 | AB51: отобразить | AC51: ДПР (концессии) | AD51: Долгосрочные параметры регулирования тарифов (концессии)
B52: =OR(method_reg="Метод сравнения аналогов",AND(method_reg="Метод индексации",STATUS_GO="да")) -> FALSE | E52: 27.75 | AB52: отобразить | AC52: ГО | AD52: Калькуляция расходов гарантирующей организации
B53: =method_reg="Метод сравнения аналогов" -> FALSE | E53: 27.75 | AB53: отобразить | AC53: Калькуляция (МСА) | AD53: Расчет тарифа на транспортировку холодной воды / сточных вод методом сравнения аналогов

Sheet Общие сведения
V1: tariffId | W1: vis_1 | X1: blok_1 | Y1: blok_2 | Z1: ren_1 | AA1: del_2 | AD1: dyn_1 | AE1: dyn_2 | AF1: del_1
B2: flag_vis
E5: flag_size | AA5: 3.43 | AB5: 12 | AC5: 18 | AD5: 56.86 | AE5: 65 | AF5: 3
E21: 11.25
E22: 19.5 | AA22: 552 | AB22: Наименование субъекта Российской Федерации | AE22: Кемеровская область | AF22: {=INDEX(TEHSHEET!B1:B90,MATCH(region_name,REGION,0))} -> RU42
E23: 19.5 | AD23: Метод регулирования | AE23: Метод индексации | AH23: =IF(AND(AE23="Метод индексации",god=first_year),"методом индексации установленных тарифов",IF(AND(AE23="Метод индексации",god<>first_year),"методом индексации установленных тарифов (при корректировке тарифов, начиная со второго года долгосрочного периода регулирования)",IF(AE23="Метод экономически обоснованных расходов","методом экономически обоснованных расходов (затрат)",IF(AE23="Метод сравнения аналогов","методом сравнения аналогов",IF(AE23="Метод обеспечения доходности инвестированного капитала","методом обеспечения доходности инвестированного капитала","выберите метод регулирования"))))) -> методом индексации установленных тарифов (при корректировке тарифов, начиная со второго года долгосрочного периода регулирования) | AI23: =IF(method_reg="Метод индексации","INDEX",IF(method_reg="Метод экономически обоснованных расходов","EOR",IF(method_reg="Метод сравнения аналогов","ANALOG","RAB"))) -> INDEX
E24: 19.5 | AB24: Период регулирования | AE24: 2026 | AI24: =ORG_SHORT_NAME&"_ИНН:"&inn&"_КПП:"&kpp -> ООО "Энергосервис г. Гурьевска"_ИНН:4202049045_КПП:420201001
B25: =AND(NOT(method_reg="Метод экономически обоснованных расходов"),NOT(method_reg="Метод сравнения аналогов")) -> TRUE | E25: 19.5 | AB25: Первый год долгосрочного периода регулирования | AE25: 2024 | AF25: =first_year+PERIOD_LENGTH-1 -> 2028 | AG25: {=IF(AE236="да",god,last_year)} -> 2026
B26: =AND(NOT(method_reg="Метод экономически обоснованных расходов"),NOT(method_reg="Метод сравнения аналогов")) -> TRUE | E26: 19.5 | AB26: Период долгосрочной индексации (количество лет) | AE26: 5
B27: =AND(NOT(method_reg="Метод экономически обоснованных расходов"),NOT(method_reg="Метод сравнения аналогов"),NOT(god=first_year)) -> TRUE | E27: 19.5 | AB27: Количество лет корректировки | AE27: =IF(OR(PERIOD_LENGTH-god+first_year<=0,PERIOD_LENGTH-god+first_year>10),"",PERIOD_LENGTH-god+first_year) -> 3
E28: 7.5
E29: 7.5
E30: 19.5 | AB30: Экспертное заключение
E31: 19.5 | AB31: РЕГИОНАЛЬНАЯ ЭНЕРГЕТИЧЕСКАЯ КОМИССИЯ КУЗБАССА
E32: 19.5 | AB32: по результатам экспертизы предложения
E33: 19.5 | Z33: 463042 | AA33: 28976681 | AB33: ООО "Энергосервис г. Гурьевска" | AL33: =IFERROR(region_name&" / "&god&" / "&org&" (ИНН:"&inn&", КПП:"&kpp&") / ДПР: "&first_year&"-"&last_year,"") -> Кемеровская область / 2026 / ООО "Энергосервис г. Гурьевска" (ИНН:4202049045, КПП:420201001) / ДПР: 2024-2028
E34: 19.5 | AB34: ="об установлении тарифов в сфере "&IF(AND(OR(hasVS,hasTranspVS),OR(hasVO,hasTranspVO)),"холодного водоснабжения / водоотведения",IF(OR(hasVS,hasTranspVS),"холодного водоснабжения",IF(OR(hasVO,hasTranspVO),"водоотведения","<не указано>")))&" "&AH23 -> об установлении тарифов в сфере холодного водоснабжения / водоотведения методом индексации установленных тарифов (при корректировке тарифов, начиная со второго года долгосрочного периода регулирования)
E35: 19.5 | AB35: =IF(god="","",IF(AND(method_reg<>"Метод сравнения аналогов",method_reg<>"Метод экономически обоснованных расходов"),"долгосрочного периода регулирования тарифов "&first_year&"-"&last_year&" гг.","на "&god&" год")) -> долгосрочного периода регулирования тарифов 2024-2028 гг.
E36: 11.25
E37: 19.5 | AB37: 1. Сведения о регулируемой организации
E38: 36 | AB38: Полное наименование юридического лица (индивидуального предпринимателя) в соответствии с данными из ЕГРЮЛ/ЕГРИП | AE38: Общество с ограниченной ответственностью "Энергосервис г. Гурьевска"
E39: 36 | AB39: Сокращенное наименование юридического лица (индивидуального предпринимателя) в соответствии с данными из ЕГРЮЛ/ЕГРИП | AE39: ООО "Энергосервис г. Гурьевска"
E40: 19.5 | AB40: Наименование (описание) обособленного подразделения
E41: 19.5 | AB41: ОГРН | AE41: 1154202000260
E42: 19.5 | AB42: ИНН | AE42: 4202049045
E43: 19.5 | AB43: КПП | AE43: 420201001
E44: 19.5 | AB44: Код по ОКПО | AE44: 27610011 | AG44: L2_7
E45: 19.5 | AB45: Организационно-правовая форма | AE45: 1 23 00 | Общества с ограниченной ответственностью | AG45: L2_8
E46: 19.5 | AB46: Юридический адрес | AE46: Российская Федерация, 652780, Кемеровская область, г. Гурьевск, ул. Партизанская, 19 | AG46: L2_9
E47: 19.5 | AB47: Фактический адрес | AE47: Российская Федерация, 652780, Кемеровская область, г. Гурьевск, ул. Партизанская, 19 | AG47: L2_10
E48: 19.5 | AB48: Телефон организации | AE48: +73846354250 | AG48: L2_11
E49: 19.5 | AB49: e-mail | AE49: uktsgur@rambler.ru | AG49: L2_12
E50: 19.5 | AB50: ФИО руководителя | AE50: Журавлев Евгений Владимирович | AG50: L2_13
E51: 19.5 | AB51: Должность руководителя | AE51: Директор | AG51: L2_14
E52: 19.5 | AB52: Официальный сайт регулируемой организации в сети "Интернет" | AG52: L2_15
E53: 19.5 | AB53: Государственное и (или) муниципальное участие в юридическом лице | AD53: Наличие | AE53: нет | AG53: L3_1
E54: 19.5 | AD54: Сведения о доле, % | AE54: 0% | AG54: L3_2
E55: 19.5 | AD55: Преобладающий тип собственности в юридическом лице | AE55: частная | AG55: L3_3
E56: 25.5 | AB56: Наличие раздельного учёта затрат по регулируемым видам деятельности в сфере холодного водоснабжения / водоотведения | AE56: да | AG56: L4_1
E57: 25.5 | AB57: Система налогообложения | AE57: УСН (упрощённая система налогообложения)
...

Sheet Список территорий
F1: tariffNum | G1: nomer_name | U1: vis_1 | V1: dyn_1 | W1: blok_1 | X1: blok_2 | Y1: ren_1 | Z1: del_1 | AA1: del_2 | AB1: ren_2 | AC1: dyn_2 | AI1: pok_js | AJ1: PJ_DYN | AK1: PJ_NAME | AL1: PJ_NAME_MO | AM1: PJ_NAME_OKTMO | AN1: dyn_add | AO1: dyn_fill
B2: flag_vis
E5: flag_size | AA5: 3 | AB5: 11 | AC5: 45 | AD5: 45 | AE5: 14 | AF5: 35 | AG5: 35 | AH5: 3
A6: pok | AC6: l1 | AD6: l2 | AE6: l3 | AF6: l5 | AG6: l4
A9: PJ_TERR | AF9: {=AF24} -> Тип муниципального образования | AG9: {=AG24} -> Дополнительные сведения
A10: dyn_names | AC10: PJ_NAME | AD10: PJ_NAME_MO | AE10: PJ_NAME_OKTMO
AC18: Муниципальный район | AD18: Муниципальное образование
E21: 15 | AC21: {=tpl_title} -> Кемеровская область / 2026 / ООО "Энергосервис г. Гурьевска" (ИНН:4202049045, КПП:420201001) / ДПР: 2024-2028
E22: 30 | AB22: Перечень муниципальных образований, на территории которых организация оказывает услуги холодного водоснабжения / водоотведения
E23: 11,25
E24: 28,5 | AB24: № п/п | AC24: Муниципальный район | AD24: Муниципальное образование | AE24: ОКТМО | AF24: Тип муниципального образования | AG24: Дополнительные сведения
E25: 0
E26: 15 | F26: {=Y26} -> 0 | U26: =Y26>0 -> FALSE | W26: et_1 | Y26: 0 | AB26: {=INDEX('Общие сведения'!$AG$179:$AG$222,MATCH($Y26,'Общие сведения'!$Z$179:$Z$222,0))} -> Тариф 0 () -
E27: 15 | F27: {=OFFSET(E27,-1,1)} -> 0 | G27: {=AB27} -> 0 | U27: =AND(F27>0,AB27>0) -> FALSE | X27: et_2 | AA27: × | AB27: 0 | AI27: P_TERR | AJ27: DYN_MRMO | AK27: {=AC27} -> 0 | AL27: {=AD27} -> 0 | AM27: {=AE27} -> 0 | AO27: TRUE
E28: 15 | F28: {=OFFSET(E28,-1,1)} -> 0 | G28: !== 0 | U28: {=U26} -> FALSE | X28: { _x000D_ funcDyn: 'mrmo',_x000D_ blok: '',_x000D_ wsCross: '',_x000D_ linkFormula: '',_x000D_ levelDyn: '1'_x000D_ } | AC28: Добавить территорию | AN28: DYN_MRMO
E29: 15 | F29: {=Y29} -> 1 | U29: =Y29>0 -> TRUE | W29: {='Общие сведения'!$AG$194} -> Тариф 1 (Водоснабжение) - тариф на питьевую воду (Доп. признак не требуется) | Y29: 1 | AB29: {='Общие сведения'!$AG$194} -> Тариф 1 (Водоснабжение) - тариф на питьевую воду (Доп. признак не требуется)
E30: 15 | F30: {=OFFSET(E30,-1,1)} -> 1 | G30: {=AB30} -> 0 | U30: =AND(F30>0,AB30>0) -> FALSE | X30: et_2 | AA30: × | AB30: 0 | AI30: P_TERR | AJ30: DYN_MRMO | AK30: {=AC30} -> 0 | AL30: {=AD30} -> 0 | AM30: {=AE30} -> 0 | AO30: TRUE
E31: 15 | F31: {=OFFSET(E31,-1,1)} -> 1 | G31: {=AB31} -> 1 | U31: =AND(F31>0,AB31>0) -> TRUE | AA31: × | AB31: 1 | AC31: Гурьевский муниципальный округ | AD31: Гурьевский муниципальный округ | AE31: 32502000 | AI31: P_TERR | AJ31: DYN_MRMO | AK31: {=AC31} -> Гурьевский муниципальный округ | AL31: {=AD31} -> Гурьевский муниципальный округ | AM31: {=AE31} -> 32502000 | AO31: TRUE
E32: 15 | F32: {=OFFSET(E32,-1,1)} -> 1 | G32: !== 0 | U32: {=U29} -> TRUE | X32: { _x000D_ funcDyn: 'mrmo',_x000D_ blok: '',_x000D_ wsCross: '',_x000D_ linkFormula: '',_x000D_ levelDyn: '1'_x000D_ } | AC32: Добавить территорию | AN32: DYN_MRMO
E33: 15 | F33: {=Y33} -> 2 | U33: =Y33>0 -> TRUE | W33: {='Общие сведения'!$AG$208} -> Тариф 2 (Водоотведение) - тариф на водоотведение (Доп. признак не требуется) | Y33: 2 | AB33: {='Общие сведения'!$AG$208} -> Тариф 2 (Водоотведение) - тариф на водоотведение (Доп. признак не требуется)
E34: 15 | F34: {=OFFSET(E34,-1,1)} -> 2 | G34: {=AB34} -> 0 | U34: =AND(F34>0,AB34>0) -> FALSE | X34: et_2 | AA34: × | AB34: 0 | AI34: P_TERR | AJ34: DYN_MRMO | AK34: {=AC34} -> 0 | AL34: {=AD34} -> 0 | AM34: {=AE34} -> 0 | AO34: TRUE
E35: 15 | F35: {=OFFSET(E35,-1,1)} -> 2 | G35: {=AB35} -> 1 | U35: =AND(F35>0,AB35>0) -> TRUE | AA35: × | AB35: 1 | AC35: Гурьевский муниципальный округ | AD35: Гурьевский муниципальный округ | AE35: 32502000 | AI35: P_TERR | AJ35: DYN_MRMO | AK35: {=AC35} -> Гурьевский муниципальный округ | AL35: {=AD35} -> Гурьевский муниципальный округ | AM35: {=AE35} -> 32502000 | AO35: TRUE
E36: 15 | F36: {=OFFSET(E36,-1,1)} -> 2 | G36: !== 0 | U36: {=U33} -> TRUE | X36: { _x000D_ funcDyn: 'mrmo',_x000D_ blok: '',_x000D_ wsCross: '',_x000D_ linkFormula: '',_x000D_ levelDyn: '1'_x000D_ } | AC36: Добавить территорию | AN36: DYN_MRMO
E37: 11,25 | V37: Добавить | W37: { _x000D_ funcDyn: 'msg1',_x000D_ blok: 'blok_1',_x000D_ wsCross: 'Перечень объектов',_x000D_ linkFormula: 'AC-AB',_x000D_ levelDyn: ''_x000D_ }

Sheet Перечень объектов
F1: tariffNum | H1: pok | J1: det_name | P1: frmls | U1: ren_2 | V1: vis_1 | W1: dyn_1 | X1: blok_1 | Y1: blok_2 | Z1: ren_1 | AA1: del_1 | AB1: del_2 | AD1: dyn_2 | AM1: pok_js | AN1: PJ_DYN | AO1: PJ_NAME | AP1: PJ_NAME_ED_IZM | AQ1: dyn_add | AR1: dyn_fill
B2: flag_vis | AF2: =method_reg<>"Метод сравнения аналогов" -> TRUE | AG2: =method_reg<>"Метод сравнения аналогов" -> TRUE | AH2: {=isOrgDeclare} -> TRUE
E5: flag_size | AB5: 3 | AC5: 11 | AD5: 70 | AE5: 15 | AF5: 20 | AG5: 20 | AH5: 20 | AI5: 20 | AJ5: 20 | AK5: 3
A6: prd2_name | AF6: =god-2 -> 2024 | AG6: =god-1 -> 2025 | AH6: {=god} -> 2026 | AI6: {=god} -> 2026 | AJ6: {=god} -> 2026
A7: pf_name | AF7: {=AF25} -> Принято органом регулирования | AG7: Принято органом регулирования | AH7: Предложение организации | AI7: Принято органом регулирования | AJ7: Не определено
A9: PJ_YEAR | AF9: {=AF6} -> 2024 | AG9: {=AG6} -> 2025 | AH9: {=AH6} -> 2026 | AI9: {=AI6} -> 2026
A10: PJ_PF | AF10: {=AF25} -> Принято органом регулирования | AG10: {=AG25} -> Принято органом регулирования | AH10: {=AH25} -> Предложение организации | AI10: {=AI25} -> Принято органом регулирования
A11: PJ_DOP | AJ11: {=AJ24} -> Комментарии
A12: dyn_names | AD12: PJ_NAME | AE12: PJ_NAME_ED_IZM
A18: checkUnique | AD18: Наименование
E21: 15 | AD21: {=tpl_title} -> Кемеровская область / 2026 / ООО "Энергосервис г. Гурьевска" (ИНН:4202049045, КПП:420201001) / ДПР: 2024-2028
E22: 21 | AC22: Перечень объектов организации, с помощью которых организация оказывает услуги холодного водоснабжения/ водоотведения
E23: 9
E24: 21 | AC24: № п/п | AD24: Наименование показателя | AE24: Единица измерения | AF24: =god-2&" год" -> 2024 год | AG24: =god-1&" год" -> 2025 год | AH24: =god&" год" -> 2026 год | AI24: =god&" год" -> 2026 год | AJ24: Комментарии
E25: 36 | F25: t | AF25: Принято органом регулирования | AG25: Принято органом регулирования | AH25: Предложение организации | AI25: Принято органом регулирования
E26: 0 | T26: VS/VO
E27: 15 | F27: {=Z27} -> 0 | T27: {=INDEX('Общие сведения'!$AE$179:$AE$222,MATCH($Z27,'Общие сведения'!$Z$179:$Z$222,0))} -> 0 | V27: =Z27>0 -> FALSE | X27: et_1 | Z27: 0 | AC27: {=INDEX('Общие сведения'!$AG$179:$AG$222,MATCH($Z27,'Общие сведения'!$Z$179:$Z$222,0))} -> Тариф 0 () -
B28: =AND(T27="Водоснабжение",method_reg<>"Метод сравнения аналогов") -> FALSE | E28: 15 | F28: {=OFFSET(E28,-1,1)} -> 0 | H28: l1 | I28: L3 | J28: =AD28&"::"&AE28 -> Водонасосные станции (водозаборные узлы)::ед. | V28: {=V27} -> FALSE | AC28: 1 | AD28: Водонасосные станции (водозаборные узлы) | AE28: ед. | AM28: P_WATER_PUMP
B29: {=B28} -> FALSE | E29: 15 | F29: {=OFFSET(E29,-1,1)} -> 0 | H29: l1 | I29: L3 | J29: =AD29&"::"&AE29 -> Скважины::ед. | V29: {=V28} -> FALSE | AC29: 2 | AD29: Скважины | AE29: ед. | AM29: P_WELLS
B30: =T27="Водоснабжение" -> FALSE | E30: 15 | F30: {=OFFSET(E30,-1,1)} -> 0 | G30: ЭЭ | H30: l1 | I30: L3 | J30: =AD30&"::"&AE30 -> Подкачивающие насосные станции::ед. | L30: ЭЭ | V30: {=V29} -> FALSE | AC30: =IF(B29,3,1) -> 1 | AD30: Подкачивающие насосные станции | AE30: ед. | AM30: P_PUMP_STATION
B31: {=B29} -> FALSE | E31: 15 | F31: {=OFFSET(E31,-1,1)} -> 0 | H31: l1 | I31: L3 | J31: =AD31&"::"&AE31 -> Водонапорные башни::ед. | V31: {=V30} -> FALSE | AC31: 4 | AD31: Водонапорные башни | AE31: ед. | AM31: P_WATER_TOWERS
B32: =T27="Водоснабжение" -> FALSE | E32: 15 | F32: {=OFFSET(E32,-1,1)} -> 0 | H32: l1 | I32: L3 | J32: =AD32&"::"&AE32 -> Водопроводные сети::км | P32: SUMIFS('Условные метры'!$AK$29:$AK$lastRow,'Условные метры'!$F$29:$F$lastRow, $FcurrRow,'Условные метры'!$G$29:$G$lastRow,"Итог") | Q32: SUMIFS('Условные метры'!$AM$29:$AM$lastRow,'Условные метры'!$F$29:$F$lastRow, $FcurrRow,'Условные метры'!$G$29:$G$lastRow,"Итог") | V32: {=V31} -> FALSE | AC32: =IF(B29,5,2) -> 2 | AD32: Водопроводные сети | AE32: км | AM32: P_WATER_NETS
B33: =AND(T27="Водоотведение",method_reg<>"Метод сравнения аналогов") -> FALSE | E33: 15 | F33: {=OFFSET(E33,-1,1)} -> 0 | H33: l1 | I33: L3 | J33: =AD33&"::"&AE33 -> Биологические очистные сооружения::ед. | V33: {=V32} -> FALSE | AC33: 1 | AD33: Биологические очистные сооружения | AE33: ед. | AM33: P_BIO_CLEAN
B34: =T27="Водоотведение" -> FALSE | E34: 15 | F34: {=OFFSET(E34,-1,1)} -> 0 | G34: ЭЭ | H34: l1 | I34: L3 | J34: =AD34&"::"&AE34 -> Канализационные насосные станции::ед. | V34: {=V33} -> FALSE | AC34: =IF(B33,2,1) -> 1 | AD34: Канализационные насосные станции | AE34: ед. | AM34: P_SEWER_PUMP
B35: {=B34} -> FALSE | E35: 15 | F35: {=OFFSET(E35,-1,1)} -> 0 | H35: l1 | I35: L3 | J35: =AD35&"::"&AE35 -> Канализационные сети::км | L35: ЭЭ | P35: SUMIFS('Условные метры'!$AK$29:$AK$lastRow,'Условные метры'!$F$29:$F$lastRow, $FcurrRow,'Условные метры'!$G$29:$G$lastRow,"Итог") | Q35: SUMIFS('Условные метры'!$AM$29:$AM$lastRow,'Условные метры'!$F$29:$F$lastRow, $FcurrRow,'Условные метры'!$G$29:$G$lastRow,"Итог") | V35: {=V34} -> FALSE | AC35: =AC34+1 -> 2 | AD35: Канализационные сети | AE35: км | AM35: P_SEWER_NETS
E36: 15 | F36: {=OFFSET(E36,-1,1)} -> 0 | H36: l1 | I36: L3 | J36: =AD36&"::"&AE36 -> :: | U36: 0 | V36: =AND(F36>0,U36>0) -> FALSE | Y36: et_2 | AB36: × | AC36: =IF(OFFSET(C36,-8-U36,-1),5,IF(OFFSET(C36,-3-U36,-1),3,2))+U36 -> 2 | AM36: P_OTHER | AN36: DYN_OBJ_LIST | AO36: {=AD36} -> 0 | AP36: {=AE36} -> 0 | AR36: TRUE
E37: 15 | F37: {=OFFSET(E37,-1,1)} -> 0 | J37: !== 'Водонасосные станции (водозаборные узлы)::ед.' && row.det_name.toLowerCase() !== 'Скважины::ед.' && row.det_name.toLowerCase() !== 'Подкачивающие насосные станции::ед.' && row.det_name.toLowerCase() !== 'Водонапорные башни::ед.' && row.det_name.toLowerCase() !== 'Водопроводные сети::км' && row.det_name.toLowerCase() !== 'Биологические очистные сооружения::ед.' && row.det_name.toLowerCase() !== 'Канализационные насосные станции::ед.' && row.det_name.toLowerCase() !== 'Канализационные сети::км' && row.det_name.toLowerCase() !== 'Краткое описание технологического процесса' | V37: {=V35} -> FALSE | Y37: { _x000D_ funcDyn: 'msg',_x000D_ blok: '',_x000D_ wsCross: '',_x000D_ linkFormula: '',_x000D_ levelDyn: '1',_x000D_ addDynValue: 'det_name|AC|0'_x000D_ } | AD37: Добавить | AQ37: DYN_OBJ_LIST
E38: 15 | F38: {=OFFSET(E38,-1,1)} -> 0 | H38: l2 | I38: L3 | J38: {=AD38} -> Краткое описание технологического процесса | V38: {=V37} -> FALSE | AD38: Краткое описание технологического процесса | AM38: P_TEH_PROC
E39: 15 | F39: {=Z39} -> 1 | T39: {=INDEX('Общие сведения'!$AE$179:$AE$222,MATCH($Z39,'Общие сведения'!$Z$179:$Z$222,0))} -> Водоснабжение | V39: =Z39>0 -> TRUE | X39: {='Список территорий'!$AB$29} -> Тариф 1 (Водоснабжение) - тариф на питьевую воду (Доп. признак не требуется) | Z39: 1 | AC39: {='Список территорий'!$AB$29} -> Тариф 1 (Водоснабжение) - тариф на питьевую воду (Доп. признак не требуется)
B40: =AND(T39="Водоснабжение",method_reg<>"Метод сравнения аналогов") -> TRUE | E40: 15 | F40: {=OFFSET(E40,-1,1)} -> 1 | H40: l1 | I40: L3 | J40: =AD40&"::"&AE40 -> Водонасосные станции (водозаборные узлы)::ед. | V40: {=V39} -> TRUE | AC40: 1 | AD40: Водонасосные станции (водозаборные узлы) | AE40: ед. | AF40: 2 | AG40: 2 | AH40: 2 | AI40: 2 | AM40: P_WATER_PUMP
B41: {=B40} -> TRUE | E41: 15 | F41: {=OFFSET(E41,-1,1)} -> 1 | H41: l1 | I41: L3 | J41: =AD41&"::"&AE41 -> Скважины::ед. | V41: {=V40} -> TRUE | AC41: 2 | AD41: Скважины | AE41: ед. | AF41: 10 | AG41: 10 | AH41: 10 | AI41: 10 | AM41: P_WELLS
B42: =T39="Водоснабжение" -> TRUE | E42: 15 | F42: {=OFFSET(E42,-1,1)} -> 1 | G42: ЭЭ | H42: l1 | I42: L3 | J42: =AD42&"::"&AE42 -> Подкачивающие насосные станции::ед. | L42: ЭЭ | V42: {=V41} -> TRUE | AC42: =IF(B41,3,1) -> 3 | AD42: Подкачивающие насосные станции | AE42: ед. | AM42: P_PUMP_STATION
B43: {=B41} -> TRUE | E43: 15 | F43: {=OFFSET(E43,-1,1)} -> 1 | H43: l1 | I43: L3 | J43: =AD43&"::"&AE43 -> Водонапорные башни::ед. | V43: {=V42} -> TRUE | AC43: 4 | AD43: Водонапорные башни | AE43: ед. | AF43: 2 | AG43: 2 | AH43: 2 | AI43: 2 | AM43: P_WATER_TOWERS
B44: =T39="Водоснабжение" -> TRUE | E44: 15 | F44: {=OFFSET(E44,-1,1)} -> 1 | H44: l1 | I44: L3 | J44: =AD44&"::"&AE44 -> Водопроводные сети::км | P44: SUMIFS('Условные метры'!$AK$29:$AK$lastRow,'Условные метры'!$F$29:$F$lastRow, $FcurrRow,'Условные метры'!$G$29:$G$lastRow,"Итог") | Q44: SUMIFS('Условные метры'!$AM$29:$AM$lastRow,'Условные метры'!$F$29:$F$lastRow, $FcurrRow,'Условные метры'!$G$29:$G$lastRow,"Итог") | V44: {=V43} -> TRUE | AC44: =IF(B41,5,2) -> 5 | AD44: Водопроводные сети | AE44: км | AF44: 117.1 | AG44: 117.1 | AH44: 117.1 | AI44: 117.1 | AM44: P_WATER_NETS
B45: =AND(T39="Водоотведение",method_reg<>"Метод сравнения аналогов") -> FALSE | E45: 15 | F45: {=OFFSET(E45,-1,1)} -> 1 | H45: l1 | I45: L3 | J45: =AD45&"::"&AE45 -> Биологические очистные сооружения::ед. | V45: {=V44} -> TRUE | AC45: 1 | AD45: Биологические очистные сооружения | AE45: ед. | AM45: P_BIO_CLEAN
B46: =T39="Водоотведение" -> FALSE | E46: 15 | F46: {=OFFSET(E46,-1,1)} -> 1 | G46: ЭЭ | H46: l1 | I46: L3 | J46: =AD46&"::"&AE46 -> Канализационные насосные станции::ед. | V46: {=V45} -> TRUE | AC46: =IF(B45,2,1) -> 1 | AD46: Канализационные насосные станции | AE46: ед. | AM46: P_SEWER_PUMP
B47: {=B46} -> FALSE | E47: 15 | F47: {=OFFSET(E47,-1,1)} -> 1 | H47: l1 | I47: L3 | J47: =AD47&"::"&AE47 -> Канализационные сети::км | L47: ЭЭ | P47: SUMIFS('Условные метры'!$AK$29:$AK$lastRow,'Условные метры'!$F$29:$F$lastRow, $FcurrRow,'Условные метры'!$G$29:$G$lastRow,"Итог") | Q47: SUMIFS('Условные метры'!$AM$29:$AM$lastRow,'Условные метры'!$F$29:$F$lastRow, $FcurrRow,'Условные метры'!$G$29:$G$lastRow,"Итог") | V47: {=V46} -> TRUE | AC47: =AC46+1 -> 2 | AD47: Канализационные сети | AE47: км | AM47: P_SEWER_NETS
E48: 15 | F48: {=OFFSET(E48,-1,1)} -> 1 | H48: l1 | I48: L3 | J48: =AD48&"::"&AE48 -> :: | U48: 0 | V48: =AND(F48>0,U48>0) -> FALSE | Y48: et_2 | AB48: × | AC48: =IF(OFFSET(C48,-8-U48,-1),5,IF(OFFSET(C48,-3-U48,-1),3,2))+U48 -> 5 | AM48: P_OTHER | AN48: DYN_OBJ_LIST | AO48: {=AD48} -> 0 | AP48: {=AE48} -> 0 | AR48: TRUE
E49: 15 | F49: {=OFFSET(E49,-1,1)} -> 1 | J49: !== 'Водонасосные станции (водозаборные узлы)::ед.' && row.det_name.toLowerCase() !== 'Скважины::ед.' && row.det_name.toLowerCase() !== 'Подкачивающие насосные станции::ед.' && row.det_name.toLowerCase() !== 'Водонапорные башни::ед.' && row.det_name.toLowerCase() !== 'Водопроводные сети::км' && row.det_name.toLowerCase() !== 'Биологические очистные сооружения::ед.' && row.det_name.toLowerCase() !== 'Канализационные насосные станции::ед.' && row.det_name.toLowerCase() !== 'Канализационные сети::км' && row.det_name.toLowerCase() !== 'Краткое описание технологического процесса' | V49: {=V47} -> TRUE | Y49: { _x000D_ funcDyn: 'msg',_x000D_ blok: '',_x000D_ wsCross: '',_x000D_ linkFormula: '',_x000D_ levelDyn: '1',_x000D_ addDynValue: 'det_name|AC|0'_x000D_ } | AD49: Добавить | AQ49: DYN_OBJ_LIST
E50: 15 | F50: {=OFFSET(E50,-1,1)} -> 1 | H50: l2 | I50: L3 | J50: {=AD50} -> Краткое описание технологического процесса | V50: {=V49} -> TRUE | AD50: Краткое описание технологического процесса | AF50: Предприятием эксплуатируется три централизованных системы водоснабжения: 1.Компактный скважинный водозабор на Гурьевском участке Салаирского месторождения (Мало-Салаирский водозабор). 2. Горновский водозабор. 3. Скважина РАПО. Также на обслуживании предприятия находится три отдельные водопроводные сети общей протяженностью 117,1 км. Предприятие обслуживает 279 единиц уличных систем разбора воды (колонки, краны). На Малосалаирском водозаборе эксплуатируются 4 артезианские скважины. Добыча подземных вод на Горновском водозаборе ведется из 5 артезианских скважин, расположенных на двух площадках. Территория Горновского водозабора расположена на берегу р. Бачат. Водоснабжение потребителей РАПО осуществляется из одной артезианской скважины. | AM50: P_TEH_PROC
...

Sheet Список объектов
F1: tariffNum | U1: vis_1 | V1: dyn_1 | W1: blok_1 | X1: blok_2 | Y1: ren_1 | Z1: del_1 | AA1: del_2 | AB1: ren_2 | AC1: dyn_2 | AK1: pok_js | AL1: PJ_DYN | AM1: PJ_NAME | AN1: PJ_NAME_EXP | AO1: PJ_NAME_DOC_TYPE | AP1: PJ_NAME_DOC_NUM | AQ1: PJ_NAME_DOC_DATE | AR1: dyn_add | AS1: dyn_fill
B2: flag_vis
E5: flag_size | AA5: 3 | AB5: 11 | AC5: 70 | AD5: 15 | AE5: 20 | AF5: 20 | AG5: 20 | AH5: 20 | AI5: 3
A9: PJ_OBJ_LIST | AH9: {=AH24} -> Срок действия
A10: dyn_names | AC10: PJ_NAME | AD10: PJ_NAME_EXP | AE10: PJ_NAME_DOC_TYPE | AF10: PJ_NAME_DOC_NUM | AG10: PJ_NAME_DOC_DATE
E21: 15 | AC21: {=tpl_title} -> Кемеровская область / 2026 / ООО "Энергосервис г. Гурьевска" (ИНН:4202049045, КПП:420201001) / ДПР: 2024-2028
E22: 21 | AB22: Правоустанавливающие и подтверждающие документы на объекты коммунальной инфраструктуры
E23: 9
E24: 21 | AB24: № п/п | AC24: Объект коммунальной инфраструктуры | AD24: Основание эксплуатации | AE24: Вид документа | AF24: Номер документа | AG24: Дата документа | AH24: Срок действия
E25: 0
E26: 15 | F26: {=Y26} -> 0 | U26: =Y26>0 -> FALSE | W26: et_1 | Y26: 0 | AB26: {=INDEX('Общие сведения'!$AG$179:$AG$222,MATCH($Y26,'Общие сведения'!$Z$179:$Z$222,0))} -> Тариф 0 () -
E27: 0 | F27: {=OFFSET(G27,-1,-1)} -> 0 | U27: FALSE
E28: 15 | F28: {=OFFSET(G28,-1,-1)} -> 0 | I28: Наименование объекта | K28: адрес | U28: =AND(F28>0,AB28>0) -> FALSE | X28: et_2 | AA28: × | AB28: 0 | AC28: =I28&" :: "&K28 -> Наименование объекта :: адрес | AK28: P_OBJ_LIST_PROPS | AL28: DYN_OBJ | AM28: {=AC28} -> Наименование объекта :: адрес | AN28: {=AD28} -> 0 | AO28: {=AE28} -> 0 | AP28: {=AF28} -> 0 | AQ28: {=AG28} -> 0 | AS28: TRUE
E29: 11 | F29: {=OFFSET(G29,-1,-1)} -> 0 | U29: =F29>0 -> FALSE | X29: { _x000D_ funcDyn: 'obj',_x000D_ blok: '',_x000D_ wsCross: '',_x000D_ linkFormula: '',_x000D_ levelDyn: '1'_x000D_ } | AC29: Добавить объект | AR29: DYN_OBJ
E30: 15 | F30: {=Y30} -> 1 | U30: =Y30>0 -> TRUE | W30: {='Перечень объектов'!$AC$39} -> Тариф 1 (Водоснабжение) - тариф на питьевую воду (Доп. признак не требуется) | Y30: 1 | AB30: {='Перечень объектов'!$AC$39} -> Тариф 1 (Водоснабжение) - тариф на питьевую воду (Доп. признак не требуется)
E31: 0 | F31: {=OFFSET(G31,-1,-1)} -> 1 | U31: FALSE
E32: 15 | F32: {=OFFSET(G32,-1,-1)} -> 1 | I32: Наименование объекта | K32: адрес | U32: =AND(F32>0,AB32>0) -> FALSE | X32: et_2 | AA32: × | AB32: 0 | AC32: =I32&" :: "&K32 -> Наименование объекта :: адрес | AK32: P_OBJ_LIST_PROPS | AL32: DYN_OBJ | AM32: {=AC32} -> Наименование объекта :: адрес | AN32: {=AD32} -> 0 | AO32: {=AE32} -> 0 | AP32: {=AF32} -> 0 | AQ32: {=AG32} -> 0 | AS32: TRUE
E33: 15 | F33: {=OFFSET(G33,-1,-1)} -> 1 | I33: Малосалаирский водозабор | K33: г Гурьевск, км. Трасса Гурьевск-Малая Салаирка 5, 0 | U33: =AND(F33>0,AB33>0) -> TRUE | AA33: × | AB33: 1 | AC33: =I33&" :: "&K33 -> Малосалаирский водозабор :: г Гурьевск, км. Трасса Гурьевск-Малая Салаирка 5, 0 | AD33: аренда | AE33: договор | AF33: 87/1 | AG33: 20.05.2015 | AK33: P_OBJ_LIST_PROPS | AL33: DYN_OBJ | AM33: {=AC33} -> Малосалаирский водозабор :: г Гурьевск, км. Трасса Гурьевск-Малая Салаирка 5, 0 | AN33: {=AD33} -> аренда | AO33: {=AE33} -> договор | AP33: {=AF33} -> 87/1 | AQ33: {=AG33} -> 20.05.2015 | AS33: TRUE
E34: 15 | F34: {=OFFSET(G34,-1,-1)} -> 1 | I34: скважина п.Лесной | K34: г Гурьевск, пер.Лесной, 2б | U34: =AND(F34>0,AB34>0) -> TRUE | AA34: × | AB34: 2 | AC34: =I34&" :: "&K34 -> скважина п.Лесной :: г Гурьевск, пер.Лесной, 2б | AD34: аренда | AE34: договор | AF34: 116 | AG34: 13.08.2018 | AK34: P_OBJ_LIST_PROPS | AL34: DYN_OBJ | AM34: {=AC34} -> скважина п.Лесной :: г Гурьевск, пер.Лесной, 2б | AN34: {=AD34} -> аренда | AO34: {=AE34} -> договор | AP34: {=AF34} -> 116 | AQ34: {=AG34} -> 13.08.2018 | AS34: TRUE
E35: 15 | F35: {=OFFSET(G35,-1,-1)} -> 1 | I35: Горновский водозабор | K35: г Гурьевск, ул.Р.Люксембург, 64 | U35: =AND(F35>0,AB35>0) -> TRUE | AA35: × | AB35: 3 | AC35: =I35&" :: "&K35 -> Горновский водозабор :: г Гурьевск, ул.Р.Люксембург, 64 | AD35: аренда | AE35: договор | AF35: 87/1 | AG35: 20.05.2015 | AK35: P_OBJ_LIST_PROPS | AL35: DYN_OBJ | AM35: {=AC35} -> Горновский водозабор :: г Гурьевск, ул.Р.Люксембург, 64 | AN35: {=AD35} -> аренда | AO35: {=AE35} -> договор | AP35: {=AF35} -> 87/1 | AQ35: {=AG35} -> 20.05.2015 | AS35: TRUE
E36: 15 | F36: {=OFFSET(G36,-1,-1)} -> 1 | I36: Скважина ул.Энгельса | K36: г Гурьевск, ул.Энгельса, 171 | U36: =AND(F36>0,AB36>0) -> TRUE | AA36: × | AB36: 4 | AC36: =I36&" :: "&K36 -> Скважина ул.Энгельса :: г Гурьевск, ул.Энгельса, 171 | AD36: аренда | AE36: договор | AF36: 87/1 | AG36: 20.05.2015 | AK36: P_OBJ_LIST_PROPS | AL36: DYN_OBJ | AM36: {=AC36} -> Скважина ул.Энгельса :: г Гурьевск, ул.Энгельса, 171 | AN36: {=AD36} -> аренда | AO36: {=AE36} -> договор | AP36: {=AF36} -> 87/1 | AQ36: {=AG36} -> 20.05.2015 | AS36: TRUE
E37: 11 | F37: {=OFFSET(G37,-1,-1)} -> 1 | U37: =F37>0 -> TRUE | X37: { _x000D_ funcDyn: 'obj',_x000D_ blok: '',_x000D_ wsCross: '',_x000D_ linkFormula: '',_x000D_ levelDyn: '1'_x000D_ } | AC37: Добавить объект | AR37: DYN_OBJ
E38: 15 | F38: {=Y38} -> 2 | U38: =Y38>0 -> TRUE | W38: {='Перечень объектов'!$AC$51} -> Тариф 2 (Водоотведение) - тариф на водоотведение (Доп. признак не требуется) | Y38: 2 | AB38: {='Перечень объектов'!$AC$51} -> Тариф 2 (Водоотведение) - тариф на водоотведение (Доп. признак не требуется)
E39: 0 | F39: {=OFFSET(G39,-1,-1)} -> 2 | U39: FALSE
E40: 15 | F40: {=OFFSET(G40,-1,-1)} -> 2 | I40: Наименование объекта | K40: адрес | U40: =AND(F40>0,AB40>0) -> FALSE | X40: et_2 | AA40: × | AB40: 0 | AC40: =I40&" :: "&K40 -> Наименование объекта :: адрес | AK40: P_OBJ_LIST_PROPS | AL40: DYN_OBJ | AM40: {=AC40} -> Наименование объекта :: адрес | AN40: {=AD40} -> 0 | AO40: {=AE40} -> 0 | AP40: {=AF40} -> 0 | AQ40: {=AG40} -> 0 | AS40: TRUE
E41: 15 | F41: {=OFFSET(G41,-1,-1)} -> 2 | I41: Очистные сооружения | K41: г Гурьевск, ул.Вокзальная, 1 | U41: =AND(F41>0,AB41>0) -> TRUE | AA41: × | AB41: 1 | AC41: =I41&" :: "&K41 -> Очистные сооружения :: г Гурьевск, ул.Вокзальная, 1 | AD41: аренда | AE41: договор | AF41: 87/1 | AG41: 20.05.2015 | AK41: P_OBJ_LIST_PROPS | AL41: DYN_OBJ | AM41: {=AC41} -> Очистные сооружения :: г Гурьевск, ул.Вокзальная, 1 | AN41: {=AD41} -> аренда | AO41: {=AE41} -> договор | AP41: {=AF41} -> 87/1 | AQ41: {=AG41} -> 20.05.2015 | AS41: TRUE
E42: 15 | F42: {=OFFSET(G42,-1,-1)} -> 2 | I42: КНС №5 | K42: г Гурьевск, ул.Есенина, б/н | U42: =AND(F42>0,AB42>0) -> TRUE | AA42: × | AB42: 2 | AC42: =I42&" :: "&K42 -> КНС №5 :: г Гурьевск, ул.Есенина, б/н | AD42: аренда | AE42: договор | AF42: 87/1 | AG42: 20.05.2015 | AK42: P_OBJ_LIST_PROPS | AL42: DYN_OBJ | AM42: {=AC42} -> КНС №5 :: г Гурьевск, ул.Есенина, б/н | AN42: {=AD42} -> аренда | AO42: {=AE42} -> договор | AP42: {=AF42} -> 87/1 | AQ42: {=AG42} -> 20.05.2015 | AS42: TRUE
E43: 15 | F43: {=OFFSET(G43,-1,-1)} -> 2 | I43: КНС 1 | K43: г Гурьевск, ул.Кирова, 36а | U43: =AND(F43>0,AB43>0) -> TRUE | AA43: × | AB43: 3 | AC43: =I43&" :: "&K43 -> КНС 1 :: г Гурьевск, ул.Кирова, 36а | AD43: аренда | AE43: договор | AF43: 87/1 | AG43: 20.05.2015 | AK43: P_OBJ_LIST_PROPS | AL43: DYN_OBJ | AM43: {=AC43} -> КНС 1 :: г Гурьевск, ул.Кирова, 36а | AN43: {=AD43} -> аренда | AO43: {=AE43} -> договор | AP43: {=AF43} -> 87/1 | AQ43: {=AG43} -> 20.05.2015 | AS43: TRUE
E44: 15 | F44: {=OFFSET(G44,-1,-1)} -> 2 | I44: КНС 4 | K44: г Гурьевск, ул.Ленина, 102а | U44: =AND(F44>0,AB44>0) -> TRUE | AA44: × | AB44: 4 | AC44: =I44&" :: "&K44 -> КНС 4 :: г Гурьевск, ул.Ленина, 102а | AD44: аренда | AE44: договор | AF44: 87/1 | AG44: 20.05.2015 | AK44: P_OBJ_LIST_PROPS | AL44: DYN_OBJ | AM44: {=AC44} -> КНС 4 :: г Гурьевск, ул.Ленина, 102а | AN44: {=AD44} -> аренда | AO44: {=AE44} -> договор | AP44: {=AF44} -> 87/1 | AQ44: {=AG44} -> 20.05.2015 | AS44: TRUE
E45: 15 | F45: {=OFFSET(G45,-1,-1)} -> 2 | I45: КНС 2 | K45: г Гурьевск, ул.Ленина, 54а | U45: =AND(F45>0,AB45>0) -> TRUE | AA45: × | AB45: 5 | AC45: =I45&" :: "&K45 -> КНС 2 :: г Гурьевск, ул.Ленина, 54а | AD45: аренда | AE45: договор | AF45: 87/1 | AG45: 20.05.2015 | AK45: P_OBJ_LIST_PROPS | AL45: DYN_OBJ | AM45: {=AC45} -> КНС 2 :: г Гурьевск, ул.Ленина, 54а | AN45: {=AD45} -> аренда | AO45: {=AE45} -> договор | AP45: {=AF45} -> 87/1 | AQ45: {=AG45} -> 20.05.2015 | AS45: TRUE
E46: 15 | F46: {=OFFSET(G46,-1,-1)} -> 2 | I46: КНС 3 | K46: г Гурьевск, ул.Ленина, 70б | U46: =AND(F46>0,AB46>0) -> TRUE | AA46: × | AB46: 6 | AC46: =I46&" :: "&K46 -> КНС 3 :: г Гурьевск, ул.Ленина, 70б | AD46: аренда | AE46: договор | AF46: 87/1 | AG46: 20.05.2015 | AK46: P_OBJ_LIST_PROPS | AL46: DYN_OBJ | AM46: {=AC46} -> КНС 3 :: г Гурьевск, ул.Ленина, 70б | AN46: {=AD46} -> аренда | AO46: {=AE46} -> договор | AP46: {=AF46} -> 87/1 | AQ46: {=AG46} -> 20.05.2015 | AS46: TRUE
E47: 11 | F47: {=OFFSET(G47,-1,-1)} -> 2 | U47: =F47>0 -> TRUE | X47: { _x000D_ funcDyn: 'obj',_x000D_ blok: '',_x000D_ wsCross: '',_x000D_ linkFormula: '',_x000D_ levelDyn: '1'_x000D_ } | AC47: Добавить объект | AR47: DYN_OBJ
E48: 11 | V48: Добавить | W48: { _x000D_ funcDyn: 'msg1',_x000D_ blok: 'blok_1',_x000D_ wsCross: 'Сценарии',_x000D_ linkFormula: 'AB-AB',_x000D_ levelDyn: ''_x000D_ }

Sheet Сценарии
F1: tariffNum | H1: pok | U1: vis_1 | V1: dyn_1 | W1: blok_1 | X1: blok_2 | Y1: ren_1 | Z1: del_1 | AA1: del_2 | AB1: ren_2 | AC1: dyn_2 | BI1: pok_js | BJ1: PJ_DYN | BK1: PJ_NAME | BL1: dyn_add | BM1: dyn_fill
B2: flag_vis | AF2: {=isOrgDeclare} -> TRUE | AJ2: {=isOrgDeclare} -> TRUE | AM2: {=isOrgDeclare} -> TRUE | AO2: =AND(AO6<=last_year_vis,isOrgDeclare) -> FALSE | AP2: =AND(AP6<=last_year_vis,isOrgDeclare) -> FALSE | AQ2: =AND(AQ6<=last_year_vis,isOrgDeclare) -> FALSE | AR2: =AND(AR6<=last_year_vis,isOrgDeclare) -> FALSE | AS2: =AND(AS6<=last_year_vis,isOrgDeclare) -> FALSE | AT2: =AND(AT6<=last_year_vis,isOrgDeclare) -> FALSE | AU2: =AND(AU6<=last_year_vis,isOrgDeclare) -> FALSE | AV2: =AND(AV6<=last_year_vis,isOrgDeclare) -> FALSE | AW2: =AND(AW6<=last_year_vis,isOrgDeclare) -> FALSE | AX2: =AX6<=last_year_vis -> FALSE | AY2: =AY6<=last_year_vis -> FALSE | AZ2: =AZ6<=last_year_vis -> FALSE | BA2: =BA6<=last_year_vis -> FALSE | BB2: =BB6<=last_year_vis -> FALSE | BC2: =BC6<=last_year_vis -> FALSE | BD2: =BD6<=last_year_vis -> FALSE | BE2: =BE6<=last_year_vis -> FALSE | BF2: =BF6<=last_year_vis -> FALSE
E5: flag_size | AA5: 3 | AB5: 11 | AC5: 40 | AD5: 15 | AE5: 15 | AF5: 15 | AG5: 15 | AH5: 17.71 | AI5: 15 | AJ5: 15 | AK5: 15 | AL5: 15 | AM5: 15 | AN5: 15 | AO5: 15 | AP5: 15 | AQ5: 15 | AR5: 15 | AS5: 15 | AT5: 15 | AU5: 15 | AV5: 15 | AW5: 15 | AX5: 15 | AY5: 15 | AZ5: 15 | BA5: 15 | BB5: 15 | BC5: 15 | BD5: 15 | BE5: 15 | BF5: 15 | BG5: 3
A6: prd2_name | AE6: =god-2 -> 2024 | AF6: =god-2 -> 2024 | AG6: =god-2 -> 2024 | AH6: =god-2 -> 2024 | AI6: =god-1 -> 2025 | AJ6: {=god} -> 2026 | AK6: {=god} -> 2026 | AL6: {=god} -> 2026 | AM6: {=god} -> 2026 | AN6: {=god} -> 2026 | AO6: =god+1 -> 2027 | AP6: =god+2 -> 2028 | AQ6: =god+3 -> 2029 | AR6: =god+4 -> 2030 | AS6: =god+5 -> 2031 | AT6: =god+6 -> 2032 | AU6: =god+7 -> 2033 | AV6: =god+8 -> 2034 | AW6: =god+9 -> 2035 | AX6: =god+1 -> 2027 | AY6: =god+2 -> 2028 | AZ6: =god+3 -> 2029 | BA6: =god+4 -> 2030 | BB6: =god+5 -> 2031 | BC6: =god+6 -> 2032 | BD6: =god+7 -> 2033 | BE6: =god+8 -> 2034 | BF6: =god+9 -> 2035
A7: pf_name | AE7: {=AE25} -> Принято органом регулирования | AF7: {=AF25} -> Факт по данным организации | AG7: {=AG25} -> Факт, принятый органом регулирования | AH7: Не определено | AI7: {=AI25} -> Принято органом регулирования | AJ7: {=AJ25} -> Предложение организации | AK7: {=AK25} -> Принято органом регулирования | AL7: {=AL25} -> % роста / снижения | AM7: {=AM25} -> Отклонение (принято органом регулирования - заявлено организацией) | AN7: Не определено | AO7: {=AO25} -> Предложение организации | AP7: {=AP25} -> Предложение организации | AQ7: {=AQ25} -> Предложение организации | AR7: {=AR25} -> Предложение организации | AS7: {=AS25} -> Предложение организации | AT7: {=AT25} -> Предложение организации | AU7: {=AU25} -> Предложение организации | AV7: {=AV25} -> Предложение организации | ... BF7: {=BF25} -> Принято органом регулирования
AE8: =AE6&AE7 -> 2024Принято органом регулирования | AF8: =AF6&AF7 -> 2024Факт по данным организации | AG8: =AG6&AG7 -> 2024Факт, принятый органом регулирования | AH8: =AH6&AH7 -> 2024Не определено | AI8: =AI6&AI7 -> 2025Принято органом регулирования | AJ8: =AJ6&AJ7 -> 2026Предложение организации | AK8: =AK6&AK7 -> 2026Принято органом регулирования | AL8: =AL6&AL7 -> 2026% роста / снижения | ... BF8: =BF6&BF7 -> 2035Принято органом регулирования
A9: PJ_YEAR | AE9: {=AE6} -> 2024 | AF9: {=AF6} -> 2024 | AG9: {=AG6} -> 2024 | AH9: {=AH6} -> 2024 | AI9: {=AI6} -> 2025 | AJ9: {=AJ6} -> 2026 | AK9: {=AK6} -> 2026 | AL9: {=AL6} -> 2026 | ... BF9: {=BF6} -> 2035
A10: PJ_PF | AE10: {=AE25} -> Принято органом регулирования | AF10: {=AF25} -> Факт по данным организации | AG10: {=AG25} -> Факт, принятый органом регулирования | AI10: {=AI25} -> Принято органом регулирования | AJ10: {=AJ25} -> Предложение организации | AK10: {=AK25} -> Принято органом регулирования | AL10: {=AL25} -> % роста / снижения | AM10: {=AM25} -> Отклонение (принято органом регулирования - заявлено организацией) | AO10: {=AO25} -> Предложение организации | AP10: {=AP25} -> Предложение организации | AQ10: {=AQ25} -> Предложение организации | AR10: {=AR25} -> Предложение организации | AS10: {=AS25} -> Предложение организации | AT10: {=AT25} -> Предложение организации | AU10: {=AU25} -> Предложение организации | AV10: {=AV25} -> Предложение организации | ... BF10: {=BF25} -> Принято органом регулирования
A11: PJ_DOP | AH11: {=AH25} -> Комментарии | AN11: {=AN25} -> Комментарии
A12: dyn_names | AC12: PJ_NAME
A18: checkUnique | AC18: Наименование параметра
E21: 15 | AC21: {=tpl_title} -> Кемеровская область / 2026 / ООО "Энергосервис г. Гурьевска" (ИНН:4202049045, КПП:420201001) / ДПР: 2024-2028
E22: 22.5 | AB22: Ключевые сценарные показатели
E23: 11.25
E24: 15 | AB24: № п/п | AC24: Наименование параметра | AD24: Единица измерения | AE24: =god-2&" год" -> 2024 год | AF24: =god-2&" год" -> 2024 год | AG24: =god-2&" год" -> 2024 год | AH24: =god-2&" год" -> 2024 год | AI24: =god-1&" год" -> 2025 год | AJ24: =god&" год" -> 2026 год | AK24: =god&" год" -> 2026 год | AL24: =god&" год" -> 2026 год | AM24: =god&" год" -> 2026 год | AN24: =god&" год" -> 2026 год | AO24: =god+1&" год" -> 2027 год | AP24: =god+2&" год" -> 2028 год | AQ24: =god+3&" год" -> 2029 год | AR24: =god+4&" год" -> 2030 год | AS24: =god+5&" год" -> 2031 год | AT24: =god+6&" год" -> 2032 год | AU24: =god+7&" год" -> 2033 год | AV24: =god+8&" год" -> 2034 год | AW24: =god+9&" год" -> 2035 год | AX24: =god+1&" год" -> 2027 год | AY24: =god+2&" год" -> 2028 год | AZ24: =god+3&" год" -> 2029 год | BA24: =god+4&" год" -> 2030 год | BB24: =god+5&" год" -> 2031 год | BC24: =god+6&" год" -> 2032 год | BD24: =god+7&" год" -> 2033 год | BE24: =god+8&" год" -> 2034 год | BF24: =god+9&" год" -> 2035 год
E25: 69 | F25: t | AE25: Принято органом регулирования | AF25: Факт по данным организации | AG25: Факт, принятый органом регулирования | AH25: Комментарии | AI25: Принято органом регулирования | AJ25: Предложение организации | AK25: Принято органом регулирования | AL25: % роста / снижения | AM25: Отклонение (принято органом регулирования - заявлено организацией) | AN25: Комментарии | AO25: Предложение организации | AP25: Предложение организации | AQ25: Предложение организации | AR25: Предложение организации | AS25: Предложение организации | AT25: Предложение организации | AU25: Предложение организации | AV25: Предложение организации | AW25: Предложение организации | AX25: Принято органом регулирования | AY25: Принято органом регулирования | AZ25: Принято органом регулирования | BA25: Принято органом регулирования | BB25: Принято органом регулирования | BC25: Принято органом регулирования | BD25: Принято органом регулирования | BE25: Принято органом регулирования | BF25: Принято органом регулирования
E26: 20 | F26: et_Scenarios_tariff | AC26: Ставка НДС | AD26: % | AI26: 5 | AK26: 5 | AL26: =IF(AI26<>0,AK26/AI26,0) -> 1 | AM26: =AK26-AJ26 -> 5 | BI26: P_NDS_COMMON
E27: 0
E28: 15 | F28: {=Y28} -> 0 | U28: =Y28>0 -> FALSE | W28: et_1 | Y28: 0 | AB28: {=INDEX('Общие сведения'!$AG$179:$AG$222,MATCH($Y28,'Общие сведения'!$Z$179:$Z$222,0))} -> Тариф 0 () -
E29: 15 | F29: {=OFFSET(E29,-1,1)} -> 0 | G29: ИОР | U29: {=U28} -> FALSE | AC29: Индексы | AI29: =(1-AI30/100)*(1+AI31/100)*(1+AI33/100) -> 1 | AJ29: =(1-AJ30/100)*(1+AJ31/100)*(1+AJ33/100) -> 1 | AK29: =(1-AK30/100)*(1+AK31/100)*(1+AK33/100) -> 1 | AO29: =(1-AO30/100)*(1+AO31/100)*(1+AO33/100) -> 1 | AP29: =(1-AP30/100)*(1+AP31/100)*(1+AP33/100) -> 1 | AQ29: =(1-AQ30/100)*(1+AQ31/100)*(1+AQ33/100) -> 1 | AR29: =(1-AR30/100)*(1+AR31/100)*(1+AR33/100) -> 1 | AS29: =(1-AS30/100)*(1+AS31/100)*(1+AS33/100) -> 1 | AT29: =(1-AT30/100)*(1+AT31/100)*(1+AT33/100) -> 1 | AU29: =(1-AU30/100)*(1+AU31/100)*(1+AU33/100) -> 1 | AV29: =(1-AV30/100)*(1+AV31/100)*(1+AV33/100) -> 1 | ... BF29: =(1-BF30/100)*(1+BF31/100)*(1+BF33/100) -> 1
B30: =method_reg<>"Метод экономически обоснованных расходов" -> TRUE | E30: 22.5 | F30: {=OFFSET(E30,-1,1)} -> 0 | G30: ИЭР | H30: l1_1 | U30: {=U29} -> FALSE | AB30: 1 | AC30: Индекс эффективности операционных расходов | AD30: % | AL30: =IF(AI30<>0,AK30/AI30,0) -> 0 | AM30: =AK30-AJ30 -> 0 | BI30: P_IND_OP
E31: 15 | F31: {=OFFSET(E31,-1,1)} -> 0 | G31: ИПЦ | H31: l1_2 | U31: {=U30} -> FALSE | AB31: =IF(B30,2,1) -> 2 | AC31: Индекс потребительских цен | AD31: % | AL31: =IF(AI31<>0,AK31/AI31,0) -> 0 | AM31: =AK31-AJ31 -> 0 | BI31: P_IND_PRICE
E32: 15 | F32: {=OFFSET(E32,-1,1)} -> 0 | H32: l1_3 | U32: {=U31} -> FALSE | AB32: =AB31+1 -> 3 | AC32: Индекс роста цен на электроэнергию | AD32: % | AL32: =IF(AI32<>0,AK32/AI32,0) -> 0 | AM32: =AK32-AJ32 -> 0 | BI32: P_IND_PRICE_GROW
B33: =method_reg<>"Метод экономически обоснованных расходов" -> TRUE | E33: 15 | F33: {=OFFSET(E33,-1,1)} -> 0 | G33: ИКА | H33: l1_4 | U33: {=U32} -> FALSE | AB33: 4 | AC33: Индекс изменения количества активов | AD33: % | AL33: =IF(AI33<>0,AK33/AI33,0) -> 0 | AM33: =AK33-AJ33 -> 0 | BI33: P_IND_ACT
E34: 15 | F34: {=OFFSET(E34,-1,1)} -> 0 | U34: {=U33} -> FALSE | AB34: 5 | AC34: Индекс роста номинальной заработной платы | AD34: % | AL34: =IF(AI34<>0,AK34/AI34,0) -> 0 | AM34: =AK34-AJ34 -> 0 | BI34: P_IND_FOT
E35: 15 | F35: {=OFFSET(E35,-1,1)} -> 0 | U35: {=U33} -> FALSE | AC35: Налоговые ставки
E36: 15 | F36: {=OFFSET(E36,-1,1)} -> 0 | G36: СВФОТ | H36: l2_1 | U36: {=U35} -> FALSE | AB36: 1 | AC36: Ставка страховых взносов с ФОТ | AD36: % | AL36: =IF(AI36<>0,AK36/AI36,0) -> 0 | AM36: =AK36-AJ36 -> 0 | BI36: P_INS_FOT
E37: 0 | F37: {=OFFSET(E37,-1,1)} -> 0 | H37: l2_2 | U37: {=U36} -> FALSE | AB37: 2 | AC37: Ставка НДС | AD37: % | AL37: =IF(AI37<>0,AK37/AI37,0) -> 0 | AM37: =AK37-AJ37 -> 0 | BI37: P_NDS
E38: 15 | F38: {=OFFSET(E38,-1,1)} -> 0 | U38: {=U37} -> FALSE | AB38: 2 | AC38: Ставка водного налога | BI38: P_WAT_TAX
E39: 22.5 | F39: {=OFFSET(E39,-1,1)} -> 0 | H39: l3_1_1 | U39: {=U38} -> FALSE | AB39: 2.1.1 | AC39: Ставка водного налога из поверхностных источников для населения | AD39: руб./тыс.куб.м. | AL39: =IF(AI39<>0,AK39/AI39,0) -> 0 | AM39: =AK39-AJ39 -> 0 | BI39: P_SURF_PEOPLE
E40: 22.5 | F40: {=OFFSET(E40,-1,1)} -> 0 | I40: {=AC40} -> 0 | U40: =AND(F40>0,--RIGHT(AB40,1)>1) -> FALSE | X40: et_2 | AA40: × | AB40: 2.1.1 | AD40: руб./тыс.куб.м. | AL40: =IF(AI40<>0,AK40/AI40,0) -> 0 | AM40: =AK40-AJ40 -> 0 | BI40: P_SURF_PEOPLE | BJ40: DYN_SURF_PEOPLE | BK40: {=AC40} -> 0 | BM40: TRUE
E41: 15 | F41: {=OFFSET(E41,-1,1)} -> 0 | U41: =F41>0 -> FALSE | X41: { _x000D_ funcDyn: 'msg',_x000D_ blok: '',_x000D_ wsCross: '',_x000D_ linkFormula: '',_x000D_ levelDyn: ''_x000D_ } | AC41: Добавить | BL41: DYN_SURF_PEOPLE
E42: 22.5 | F42: {=OFFSET(E42,-1,1)} -> 0 | H42: l3_1_2 | U42: {=U41} -> FALSE | AB42: 2.2.1 | AC42: Ставка водного налога из поверхностных источников для прочих потребителей | AD42: руб./тыс.куб.м. | AL42: =IF(AI42<>0,AK42/AI42,0) -> 0 | AM42: =AK42-AJ42 -> 0 | BI42: P_SURF_OTHER
E43: 22.5 | F43: {=OFFSET(E43,-1,1)} -> 0 | I43: {=AC43} -> 0 | U43: =AND(F43>0,--RIGHT(AB43,1)>1) -> FALSE | X43: et_2 | AA43: × | AB43: 2.2.1 | AD43: руб./тыс.куб.м. | AL43: =IF(AI43<>0,AK43/AI43,0) -> 0 | AM43: =AK43-AJ43 -> 0 | BI43: P_SURF_OTHER | BJ43: DYN_SURF_OTHER | BK43: {=AC43} -> 0 | BM43: TRUE
E44: 15 | F44: {=OFFSET(E44,-1,1)} -> 0 | U44: =F44>0 -> FALSE | X44: { _x000D_ funcDyn: 'msg',_x000D_ blok: '',_x000D_ wsCross: '',_x000D_ linkFormula: '',_x000D_ levelDyn: ''_x000D_ } | AC44: Добавить | BL44: DYN_SURF_OTHER
E45: 22.5 | F45: {=OFFSET(E45,-1,1)} -> 0 | H45: l3_2_1 | U45: {=U44} -> FALSE | AB45: 2.3.1 | AC45: Ставка водного налога из подземных источников для населения | AD45: руб./тыс.куб.м. | AL45: =IF(AI45<>0,AK45/AI45,0) -> 0 | AM45: =AK45-AJ45 -> 0 | BI45: P_UND_PEOPLE
E46: 22.5 | F46: {=OFFSET(E46,-1,1)} -> 0 | I46: {=AC46} -> 0 | U46: =AND(F46>0,--RIGHT(AB46,1)>1) -> FALSE | X46: et_2 | AA46: × | AB46: 2.3.1 | AD46: руб./тыс.куб.м. | AL46: =IF(AI46<>0,AK46/AI46,0) -> 0 | AM46: =AK46-AJ46 -> 0 | BI46: P_UND_PEOPLE | BJ46: DYN_UND_PEOPLE | BK46: {=AC46} -> 0 | BM46: TRUE
E47: 15 | F47: {=OFFSET(E47,-1,1)} -> 0 | U47: =F47>0 -> FALSE | X47: { _x000D_ funcDyn: 'msg',_x000D_ blok: '',_x000D_ wsCross: '',_x000D_ linkFormula: '',_x000D_ levelDyn: ''_x000D_ } | AC47: Добавить | BL47: DYN_UND_PEOPLE
E48: 22.5 | F48: {=OFFSET(E48,-1,1)} -> 0 | H48: l3_2_2 | U48: {=U47} -> FALSE | AB48: 2.4.1 | AC48: Ставка водного налога из подземных источников для прочих потребителей | AD48: руб./тыс.куб.м. | AL48: =IF(AI48<>0,AK48/AI48,0) -> 0 | AM48: =AK48-AJ48 -> 0 | BI48: P_UND_OTHER
E49: 22.5 | F49: {=OFFSET(E49,-1,1)} -> 0 | I49: {=AC49} -> 0 | U49: =AND(F49>0,--RIGHT(AB49,1)>1) -> FALSE | X49: et_2 | AA49: × | AB49: 2.4.1 | AD49: руб./тыс.куб.м. | AL49: =IF(AI49<>0,AK49/AI49,0) -> 0 | AM49: =AK49-AJ49 -> 0 | BI49: P_UND_OTHER | BJ49: DYN_UND_OTHER | BK49: {=AC49} -> 0 | BM49: TRUE
...

Sheet ИИКА
F1: tariffNum | V1: vis_1 | W1: dyn_1 | X1: blok_1 | Y1: ren_1 | Z1: del_1 | BD1: pok_js
B2: flag_vis | AF2: {=isOrgDeclare} -> TRUE | AI2: {=isOrgDeclare} -> TRUE | AJ2: =AND(AJ6<last_year_vis,isOrgDeclare) -> FALSE | AK2: =AND(AK6<last_year_vis,isOrgDeclare) -> FALSE | AL2: =AND(AL6<last_year_vis,isOrgDeclare) -> FALSE | AM2: =AND(AM6<last_year_vis,isOrgDeclare) -> FALSE | AN2: =AND(AN6<last_year_vis,isOrgDeclare) -> FALSE | AO2: =AND(AO6<last_year_vis,isOrgDeclare) -> FALSE | AP2: =AND(AP6<last_year_vis,isOrgDeclare) -> FALSE | AQ2: =AND(AQ6<last_year_vis,isOrgDeclare) -> FALSE | AR2: =AND(AR6<last_year_vis,isOrgDeclare) -> FALSE | AT2: =AT6<last_year_vis -> FALSE | AU2: =AU6<last_year_vis -> FALSE | AV2: =AV6<last_year_vis -> FALSE | AW2: =AW6<last_year_vis -> FALSE | AX2: =AX6<last_year_vis -> FALSE | AY2: =AY6<last_year_vis -> FALSE | AZ2: =AZ6<last_year_vis -> FALSE | BA2: =BA6<last_year_vis -> FALSE | BB2: =BB6<last_year_vis -> FALSE
E5: flag_size | AA5: 3 | AB5: 11 | AC5: 40 | AD5: 15 | AE5: 15 | AF5: 15 | AG5: 15 | AH5: 15 | AI5: 15 | AJ5: 15 | AK5: 15 | AL5: 15 | AM5: 15 | AN5: 15 | AO5: 15 | AP5: 15 | AQ5: 15 | AR5: 15 | AS5: 15 | AT5: 15 | AU5: 15 | AV5: 15 | AW5: 15 | AX5: 15 | AY5: 15 | AZ5: 15 | BA5: 15 | BB5: 15
AE6: =god-2 -> 2024 | AF6: =god-2 -> 2024 | AG6: =god-2 -> 2024 | AH6: =god-1 -> 2025 | AI6: {=god} -> 2026 | AJ6: =god+1 -> 2027 | AK6: =god+2 -> 2028 | AL6: =god+3 -> 2029 | AM6: =god+4 -> 2030 | AN6: =god+5 -> 2031 | AO6: =god+6 -> 2032 | AP6: =god+7 -> 2033 | AQ6: =god+8 -> 2034 | AR6: =god+9 -> 2035 | AS6: {=god} -> 2026 | AT6: =god+1 -> 2027 | AU6: =god+2 -> 2028 | AV6: =god+3 -> 2029 | AW6: =god+4 -> 2030 | AX6: =god+5 -> 2031 | AY6: =god+6 -> 2032 | AZ6: =god+7 -> 2033 | BA6: =god+8 -> 2034 | BB6: =god+9 -> 2035
AE7: {=AE25} -> Принято органом регулирования | AF7: {=AF25} -> Факт по данным организации | AG7: {=AG25} -> Факт, принятый органом регулирования | AH7: {=AH25} -> Принято органом регулирования | AI7: {=AI25} -> Предложение организации | AJ7: {=AJ25} -> Предложение организации | AK7: {=AK25} -> Предложение организации | AL7: {=AL25} -> Предложение организации | ... BB7: {=BB25} -> Принято органом регулирования
AE8: =AE6&AE7 -> 2024Принято органом регулирования | AF8: =AF6&AF7 -> 2024Факт по данным организации | AG8: =AG6&AG7 -> 2024Факт, принятый органом регулирования | AH8: =AH6&AH7 -> 2025Принято органом регулирования | AI8: =AI6&AI7 -> 2026Предложение организации | AJ8: =AJ6&AJ7 -> 2027Предложение организации | AK8: =AK6&AK7 -> 2028Предложение организации | AL8: =AL6&AL7 -> 2029Предложение организации | ... BB8: =BB6&BB7 -> 2035Принято органом регулирования
A9: PJ_YEAR | AE9: {=AE6} -> 2024 | AF9: {=AF6} -> 2024 | AG9: {=AG6} -> 2024 | AH9: {=AH6} -> 2025 | AI9: {=AI6} -> 2026 | AJ9: {=AJ6} -> 2027 | AK9: {=AK6} -> 2028 | AL9: {=AL6} -> 2029 | ... BB9: {=BB6} -> 2035
A10: PJ_PF | AE10: {=AE25} -> Принято органом регулирования | AF10: {=AF25} -> Факт по данным организации | AG10: {=AG25} -> Факт, принятый органом регулирования | AH10: {=AH25} -> Принято органом регулирования | AI10: {=AI25} -> Предложение организации | AJ10: {=AJ25} -> Предложение организации | AK10: {=AK25} -> Предложение организации | AL10: {=AL25} -> Предложение организации | ... BB10: {=BB25} -> Принято органом регулирования
E21: 15 | AC21: {=tpl_title} -> Кемеровская область / 2026 / ООО "Энергосервис г. Гурьевска" (ИНН:4202049045, КПП:420201001) / ДПР: 2024-2028
E22: 22.5 | AB22: Индекс изменения количества активов
E23: 15
E24: 15 | AB24: № п/п | AC24: Наименование параметра | AD24: Единица измерения | AE24: =god-2&" год" -> 2024 год | AF24: =god-2&" год" -> 2024 год | AG24: =god-2&" год" -> 2024 год | AH24: =god-1&" год" -> 2025 год | AI24: =god&" год" -> 2026 год | AJ24: =god+1&" год" -> 2027 год | AK24: =god+2&" год" -> 2028 год | AL24: =god+3&" год" -> 2029 год | AM24: =god+4&" год" -> 2030 год | AN24: =god+5&" год" -> 2031 год | AO24: =god+6&" год" -> 2032 год | AP24: =god+7&" год" -> 2033 год | AQ24: =god+8&" год" -> 2034 год | AR24: =god+9&" год" -> 2035 год | AS24: =god&" год" -> 2026 год | AT24: =god+1&" год" -> 2027 год | AU24: =god+2&" год" -> 2028 год | AV24: =god+3&" год" -> 2029 год | AW24: =god+4&" год" -> 2030 год | AX24: =god+5&" год" -> 2031 год | AY24: =god+6&" год" -> 2032 год | AZ24: =god+7&" год" -> 2033 год | BA24: =god+8&" год" -> 2034 год | BB24: =god+9&" год" -> 2035 год
