Workbook
Name Amortization_LOAD_1: Амортизация!$AE$25:$BV$225
Name Amortization_LOAD_2: Амортизация!$BW$24:$BW$225
Name Amortization_pIns_comm: Амортизация!$AB$230
Name AUTHORIZED_PERSON_EMAIL: 'Общие сведения'!$AE$207
Name AUTHORIZED_PERSON_FIO: 'Общие сведения'!$AE$204
Name AUTHORIZED_PERSON_PHONE: 'Общие сведения'!$AE$206
Name AUTHORIZED_PERSON_POSITION: 'Общие сведения'!$AE$205
Name BalancePr_check_range1: 'Баланс Пр'!$AE$26:$BV$164
Name BalancePr_LOAD_VOTR: 'Баланс Пр'!$AE$164:$BV$164
Name BalancePr_LOAD_VOTR_COM: 'Баланс Пр'!$BW$164:$BW$164
Name BalancePr_LOAD_VS: 'Баланс Пр'!$AE$26:$BV$82
Name BalancePr_LOAD_VS_COM: 'Баланс Пр'!$BW$25:$BW$82
Name BalancePr_pIns_comm: 'Баланс Пр'!$AB$169
Name BaseLevelMSA_LOAD_1: 'Базовый уровень (МСА)'!$AE$25:$AF$75
Name BaseLevelMSA_LOAD_2: 'Базовый уровень (МСА)'!$AG$24:$AI$75
Name BaseLevelMSA_pIns_comm: 'Базовый уровень (МСА)'!$AC$80
Name Calculation46_LOAD_2: 'Калькуляция (4.6)'!$AM$24:$AO$161
Name Calculation46_pIns_comm: 'Калькуляция (4.6)'!$AB$166
Name Calculation59_LOAD_2: 'Калькуляция (5.9)'!$CR$24:$CT$139
Name Calculation59_pIns_comm: 'Калькуляция (5.9)'!$AB$144
Name CalculationMSA_LOAD_2: 'Калькуляция (МСА)'!$BS$24:$BU$81
Name CalculationMSA_pIns_comm: 'Калькуляция (МСА)'!$AB$86
Name code: Инструкция!$B$2
Name COLDVSNA_TRANSP_VTOV: TEHSHEET!$V$2:$V$4
Name COLDVSNA_VTARIFF: TEHSHEET!$W$2:$W$3
Name COLDVSNA_VTOV: TEHSHEET!$V$2:$V$3
Name CorrectionOnlyForRegPeriod: 'Общие сведения'!$AE$216
Name DOCUMENT_TYPES: TEHSHEET!$K$46:$K$52
Name DPR_ee_divide: ДПР!$AK$24
Name dpr_list: DICTIONARIES!$C$2
Name DPR_LOAD_1: ДПР!$AC$29:$AK$131
Name DPR_pIns_comm: ДПР!$AB$135
Name END_ROW_wsCalculation46: 'Калькуляция (4.6)'!$AE$161
Name END_ROW_wsCalculation59: 'Калькуляция (5.9)'!$AE$139
Name END_ROW_wsCalculationMSA: 'Калькуляция (МСА)'!$AE$81
Name END_ROW_wsGeneralInfo: 'Общие сведения'!$AB$217
Name END_ROW_wsTM: ТМ!$AD$120
Name EnergyResources_LOAD_1: ЭнергоРесурсы!$AF$25:$BW$112
Name EnergyResources_LOAD_2: ЭнергоРесурсы!$BX$24:$BX$112
Name EnergyResources_pIns_comm: ЭнергоРесурсы!$AC$117
Name fas_region_id: TEHSHEET!$D$6
Name FIRST_TIME_REG: 'Общие сведения'!$AE$165
Name first_year: 'Общие сведения'!$AE$25
Name flag_end_Amortization: Амортизация!$BX$231
Name flag_end_BalancePr: 'Баланс Пр'!$BX$170
Name flag_end_BalanceTr: 'Баланс Тр'!$BX$48
Name flag_end_BaseLevelMSA: 'Базовый уровень (МСА)'!$AJ$81
Name flag_end_Calculation46: 'Калькуляция (4.6)'!$AP$167
Name flag_end_Calculation59: 'Калькуляция (5.9)'!$CU$145
Name flag_end_CalculationMSA: 'Калькуляция (МСА)'!$BV$87
Name flag_end_Comments: Комментарии!$AC$36
Name flag_end_CorrFact: 'Корр Факт'!$AV$122
Name flag_end_DPR: ДПР!$AL$136
Name flag_end_EnergyResources: ЭнергоРесурсы!$BY$118
Name flag_end_Fuel: 'Топливо 4.4'!$FC$275
Name flag_end_GeneralInfo: 'Общие сведения'!$AF$217
Name flag_end_HVSTN: 'ХВС, ТН'!$BY$59
Name flag_end_IPSources: 'ИП источники'!$BX$96
Name flag_end_ObjectList: 'Список объектов'!$AI$35
Name flag_end_Operating51: 'Операционные (5.1)'!$AP$81

Sheet Инструкция
AA1: (требуется обновление)
B2: Код отчёта: EXPERT.TE.EIAS
B3: Версия отчёта: 2.0.1
B6: Условные обозначения
E8: A | F8: - предназначенные для заполнения | O8: A | P8: - ссылки и автозаполняемые поля
E9: A | F9: - с формулами и константами | O9: A | P9: - обязательные для заполнения
E10: A | F10: - выбор по даблклику (необязательные) | O10: A | P10: - выбор по даблклику (обязательные)
B12: Работа с реестрами
E13: Если в предложенном Вам списке необходимая организация, территория или объект отсутствуют, обратитесь к ответственному за поддержание реестра Вашего региона либо в службу поддержки пользователей ФГИС «ТАРИФ». В случае возникновения ошибок или вопросов, пожалуйста, также оставьте обращение на портале поддержки ФГИС «ТАРИФ» по адресу:
E14: https://support.tarif.gov.ru/
B15: Проверка отчёта
E16: • При сохранении отчётной формы осуществляется проверка корректности данных_x000D_ • Для каждого сообщения возможны 2 статуса: ошибка и предупреждение_x000D_ • При наличии сообщений со статусом «Ошибка» файл будет отклонён системой и не будет загружен в хранилище данных, сообщения со статусом «Предупреждение» носят информационный характер, и такой файл будет принят к обработке системой

Sheet Список листов
B2: vis
E5: size | AA5: 3 | AB5: 11 | AC5: 32 | AD5: 116 | AE5: 3
E21: 13
E22: 25 | AB22: Список листов
E23: 16 | AB23: * для перехода на лист дважды кликните по названию
B24: TRUE | E24: 35 | H24: 2 | AB24: скрыть | AC24: Общие сведения | AD24: Сведения о регулируемой организации_x000D_ Информация о рассмотрении дела об установлении тарифов
B25: TRUE | E25: 38 | H25: =IF(B24,H24+1,H24) -> 3 | AB25: скрыть | AC25: Список территорий | AD25: Перечень муниципальных образований, на территории которых организация оказывает услуги теплоснабжения
B26: TRUE | E26: 28 | H26: =IF(B25,H25+1,H25) -> 4 | AB26: скрыть | AC26: Список объектов | AD26: Перечень объектов организации, с помощью которых организация оказывает услуги теплоснабжения
B27: =AND(NOT(method_reg="Метод экономически обоснованных расходов"),NOT(method_reg="Метод сравнения аналогов")) -> 1 | E27: 28 | H27: =IF(B26,H26+1,H26) -> 5 | AB27: скрыть | AC27: Расчет УЕ | AD27: Расчет условных единиц
B28: =NOT(method_reg="Метод сравнения аналогов") -> 1 | E28: 28 | H28: =IF(B27,H27+1,H27) -> 6 | AB28: скрыть | AC28: Сценарии | AD28: Ключевые сценарные показатели
B29: =(method_reg="Метод сравнения аналогов") -> 0 | H29: =IF(B28,H28+1,H28) -> 7 | AB29: отобразить | AC29: Сценарии (МСА) | AD29: Ключевые сценарные показатели
B30: {='Баланс Пр'!$A$1} -> true | E30: 28 | H30: {=IF(B29,H29+1,H29)} -> 7 | AB30: скрыть | AC30: Баланс Пр | AD30: Расчет полезного отпуска тепловой энергии
B31: {='Баланс Тр'!$A$1} -> false | E31: 28 | H31: =IF(B30,H30+1,H30) -> 8 | AB31: отобразить | AC31: Баланс Тр | AD31: Баланс теплоснабжения (транспортировка)
B32: =NOT(method_reg="Метод сравнения аналогов") -> 1 | E32: 28 | H32: {=IF(B31,H31+1,H31)} -> 8 | AB32: скрыть | AC32: Топливо 4.4 | AD32: Расчет расхода топлива
B33: =NOT(method_reg="Метод сравнения аналогов") -> 1 | E33: 28 | H33: =IF(B32,H32+1,H32) -> 9 | AB33: скрыть | AC33: ЭнергоРесурсы | AD33: Расходы на прочие покупаемые энергетические ресурсы
B34: =NOT(method_reg="Метод сравнения аналогов") -> 1 | E34: 28 | H34: =IF(B33,H33+1,H33) -> 10 | AB34: скрыть | AC34: ХВС, ТН | AD34: Расходы на приобретение холодной воды и теплоносителя
B35: =NOT(method_reg="Метод сравнения аналогов") -> 1 | E35: 28 | H35: =IF(B34,H34+1,H34) -> 11 | AB35: скрыть | AC35: Амортизация | AD35: Амортизация основных средств и нематериальных активов, относимых к объектам централизованной системы теплоснабжения
B36: =NOT(method_reg="Метод сравнения аналогов") -> 1 | E36: 28 | H36: =IF(B35,H35+1,H35) -> 12 | AB36: скрыть | AC36: Аренда | AD36: Арендная и концессионная плата. Лизинговые платежи
B37: =NOT(method_reg="Метод сравнения аналогов") -> 1 | E37: 28 | H37: =IF(B36,H36+1,H36) -> 13 | AB37: скрыть | AC37: Покупка услуг | AD37: Расходы на оплату услуг, оказываемых организациями, осуществляющими регулируемые виды деятельности
B38: =NOT(method_reg="Метод сравнения аналогов") -> 1 | E38: 28 | H38: =IF(B37,H37+1,H37) -> 14 | AB38: скрыть | AC38: ФОТ | AD38: Расходы на оплату труда
B39: =NOT(method_reg="Метод сравнения аналогов") -> 1 | E39: 28 | H39: =IF(B38,H38+1,H38) -> 15 | AB39: скрыть | AC39: Налоги | AD39: Расшифровка по налогам и платежам
B40: =NOT(method_reg="Метод сравнения аналогов") -> 1 | E40: 29 | H40: =IF(B39,H39+1,H39) -> 16 | AB40: скрыть | AC40: Экономия_корр | AD40: Расчет экономии средств, достигнутой в результате снижения расходов предыдущего долгосрочного периода регулирования
B41: =OR(method_reg="Метод индексации",method_reg="Метод обеспечения доходности инвестированного капитала") -> 1 | E41: 28 | H41: =IF(B40,H40+1,H40) -> 17 | AB41: скрыть | AC41: Операционные (5.1) | AD41: Определение операционных (подконтрольных) расходов на первый год долгосрочного периода регулирования (базовый уровень операционных расходов)
B42: =OR(method_reg="Метод индексации",method_reg="Метод обеспечения доходности инвестированного капитала") -> 1 | E42: 28 | H42: =IF(B41,H41+1,H41) -> 18 | AB42: скрыть | AC42: Операционные (5.2) | AD42: Расчет операционных (подконтрольных) расходов на каждый год долгосрочного периода регулирования
B43: =OR(method_reg="Метод индексации",method_reg="Метод обеспечения доходности инвестированного капитала") -> 1 | E43: 28 | H43: =IF(B42,H42+1,H42) -> 19 | AB43: скрыть | AC43: Неподконтрольные (5.3) | AD43: Реестр неподконтрольных расходов
B44: =OR(method_reg="Метод индексации",method_reg="Метод обеспечения доходности инвестированного капитала") -> 1 | E44: 28 | H44: =IF(B43,H43+1,H43) -> 20 | AB44: скрыть | AC44: Ресурсы (5.4) | AD44: Реестр расходов на приобретение энергетических ресурсов, холодной воды и теплоносителя
B45: =OR(method_reg="Метод индексации",method_reg="Метод обеспечения доходности инвестированного капитала") -> 1 | E45: 28 | H45: =IF(B44,H44+1,H44) -> 21 | AB45: скрыть | AC45: Корр Факт | AD45: Размер корректировки необходимой валовой выручки, осуществляемой с целью учета отклонения фактических значений параметров расчета тарифов от значений, учтенных при установлении тарифов
B46: =method_reg="Метод экономически обоснованных расходов" -> 0 | E46: 28 | H46: =IF(B45,H45+1,H45) -> 22 | AB46: отобразить | AC46: Калькуляция (4.6) | AD46: Расчет необходимой валовой выручки методом экономически обоснованных расходов
B47: =OR(method_reg="Метод индексации",method_reg="Метод обеспечения доходности инвестированного капитала") -> 1 | E47: 28 | H47: {=IF(B46,H46+1,H46)} -> 22 | AB47: скрыть | AC47: Калькуляция (5.9) | AD47: Расчет необходимой валовой выручки методом индексации установленных тарифов
B48: =(method_reg="Метод сравнения аналогов") -> 0 | E48: 28 | H48: =IF(B47,H47+1,H47) -> 23 | AB48: отобразить | AC48: Удельные расходы (МСА) | AD48: Расчет средних значений удельных расходов организаций, осуществляющих аналогичный регулируемый вид деятельности в сопоставимых условиях функционирования
B49: =(method_reg="Метод сравнения аналогов") -> 0 | E49: 28 | H49: {=IF(B48,H48+1,H48)} -> 23 | AB49: отобразить | AC49: Базовый уровень (МСА) | AD49: Расчет значений удельных расходов и базового уровня расходов организации
B50: =(method_reg="Метод сравнения аналогов") -> 0 | E50: 28 | H50: {=IF(B48,H48+1,H48)} -> 23 | AB50: отобразить | AC50: Калькуляция (МСА) | AD50: Расчет необходимой валовой выручки методом сравнения аналогов
B51: =NOT(method_reg="Метод сравнения аналогов") -> 1 | E51: 28 | H51: =IF(B47,H47+1,H47) -> 23 | AB51: скрыть | AC51: ИП источники | AD51: План и факт по источникам финансирования инвестиционной программы
B52: =NOT(method_reg="Метод сравнения аналогов") -> 1 | E52: 28 | H52: =IF(B51,H51+1,H51) -> 24 | AB52: скрыть | AC52: ТМ | AD52: Тарифное меню
B53: =OR(method_reg="Метод индексации",method_reg="Метод обеспечения доходности инвестированного капитала") -> 1 | E53: 28 | H53: =IF(B52,H52+1,H52) -> 25 | AB53: скрыть | AC53: ДПР | AD53: Долгосрочные параметры регулирования тарифов
E54: 0

Sheet Информация JSON
A1: Расположение | B1: Тип | C1: Комментарий

Sheet Общие сведения
N1: tariffId | V1: vis_1 | W1: blok_1 | X1: blok_2 | Y1: ren_1 | Z1: ren_2 | AA1: del_2 | AD1: dyn_1 | AE1: dyn_2 | AF1: del_1 | BF1: ИД.ТАРИФ_NAME | BG1: uni_region_NAME | BH1: uni_method_NAME | BI1: uni_reg_period_base_NAME | BJ1: uni_org_info_NAME | BK1: uni_tax_system_NAME | BL1: uni_doc_info_NAME | BM1: uni_invest_concess_NAME | BN1: uni_tariff_decision_NAME | BO1: uni_doc_npa_type_NAME | BP1: uni_sphere_NAME | BQ1: uni_heat_energy_NAME | BR1: uni_info_species_NAME | BS1: uni_additional_differentiation_NAME | BT1: uni_tariff_bid_NAME | BU1: uni_year_NAME | BV1: uni_inform_section_NAME | BW1: user_dyn_block_NAME | BX1: G_UNIT | BY1: G_POK | BZ1: G_COMMENT
B2: vis
E5: size | AA5: 3 | AB5: 12 | AC5: 18 | AD5: 57 | AE5: 48 | AF5: 3
E21: 11
E22: 20 | AB22: Наименование субъекта Российской Федерации | AE22: Кемеровская область | AG22: =_xlfn.IFERROR(INDEX(TEHSHEET!B1:B90,MATCH(region_name,REGION,0)),"") -> RU42
E23: 19 | AD23: Метод регулирования | AE23: Метод индексации | AG23: =IF(AE23="Метод индексации","методом индексации установленных тарифов",IF(AE23="Метод экономически обоснованных расходов","методом экономически обоснованных расходов (затрат)",IF(AE23="Метод сравнения аналогов","методом сравнения аналогов",IF(AE23="Метод обеспечения доходности инвестированного капитала","методом обеспечения доходности инвестированного капитала","выберите метод регулирования")))) -> методом индексации установленных тарифов
E24: 20 | AB24: Период регулирования | AE24: 2027 | AG24: =_xlfn.IFERROR(region_name&" / "&god&" / "&org&" (ИНН:"&inn&", КПП:"&kpp&IF(method_reg="Метод экономически обоснованных расходов",")",") / ДПР: "&first_year&"-"&last_year),"") -> Кемеровская область / 2027 / ООО "КК-ИНВЕСТ" (ИНН:1901133713, КПП:190101001) / ДПР: 2025-2027
B25: =method_reg<>"Метод экономически обоснованных расходов" -> 1 | E25: 20 | AB25: Первый год долгосрочного периода регулирования | AE25: 2025 | AG25: {=IF(CorrectionOnlyForRegPeriod="да",god,last_year)} -> 2027
B26: =method_reg<>"Метод экономически обоснованных расходов" -> 1 | E26: 20 | AB26: Период долгосрочной индексации (количество лет) | AE26: 3 | AG26: =first_year+PERIOD_LENGTH-1 -> 2027
E27: 0 | AB27: Количество лет корректировки | AE27: =IF(OR(PERIOD_LENGTH-god+first_year<=0,PERIOD_LENGTH-god+first_year>10),"",PERIOD_LENGTH-god+first_year) -> 1
E28: 8
E29: 8
E30: 20 | AB30: Экспертное заключение
E31: 20 | AB31: РЕГИОНАЛЬНАЯ ЭНЕРГЕТИЧЕСКАЯ КОМИССИЯ КУЗБАССА
E32: 20 | AB32: по результатам экспертизы предложения
E33: 20 | AB33: ООО "КК-ИНВЕСТ" | AG33: 31656254
E34: 32 | AB34: ="об установлении тарифов на тепловую энергию (мощность) "&AG23&IF(AND(AE23="Метод индексации",god>first_year)," (при корректировке тарифов, начиная со второго года долгосрочного периода регулирования)","") -> об установлении тарифов на тепловую энергию (мощность) методом индексации установленных тарифов (при корректировке тарифов, начиная со второго года долгосрочного периода регулирования)
E35: 20 | AB35: ="на "&god&" год"&IF(AE23="Метод экономически обоснованных расходов",""," долгосрочного периода регулирования тарифов "&first_year&"-"&last_year&" гг.") -> на 2027 год долгосрочного периода регулирования тарифов 2025-2027 гг.
E36: 11
E37: 20 | AB37: 1. Сведения о регулируемой организации
E38: 25 | AB38: Полное наименование юридического лица (индивидуального предпринимателя) в соответствии с данными из ЕГРЮЛ/ЕГРИП | AE38: Общество с ограниченной ответственностью "КК-ИНВЕСТ"
E39: 25 | AB39: Сокращенное наименование юридического лица (индивидуального предпринимателя) в соответствии с данными из ЕГРЮЛ/ЕГРИП | AE39: ООО "КК-ИНВЕСТ"
E40: 20 | AB40: Наименование (описание) обособленного подразделения
E41: 20 | AB41: Основной государственный регистрационный номер (ОГРН) | AE41: 1174205005413
E42: 20 | AB42: Идентификационный номер налогоплательщика (ИНН) | AE42: 1901133713
E43: 20 | AB43: Код причины постановки на учет (КПП) | AE43: 190101001
E44: 20 | AB44: Код по общероссийскому классификатору предприятию и организаций (ОКПО) | AE44: 09809016
E45: 20 | AB45: Организационно-правовая форма | AE45: 1 23 00 | Общества с ограниченной ответственностью
E46: 20 | AB46: Юридический адрес | AE46: 655004, Республика Хакасия, г. Абакан, ул. Некрасова, д. 31, стр.1, 3Н помещение14
E47: 20 | AB47: Фактический адрес | AE47: 650066,г. Кемерово, пр. Ленина, д. 61
E48: 20 | AB48: Телефон организации | AE48: +78384272062
E49: 20 | AB49: Адрес электронной почты юридического лица (индивидуального предпринимателя) | AE49: kkioffice@kkinvest.ru
E50: 20 | AB50: Фамилия, имя, отчество руководителя | AE50: Бельков Вадим Витальевич
E51: 20 | AB51: Должность руководителя | AE51: Директор
E52: 20 | AB52: Официальный сайт в информационно-телекоммуникационной сети «Интернет» | AE52: kkinvest.ru
E53: 20 | AB53: Государственное и (или) муниципальное участие в юридическом лице | AD53: Наличие | AE53: нет
B54: =STATE_SHARE_EXISTENCE<>"нет" -> 0 | E54: 20 | AD54: Сведения о доле, % | AE54: 0%
B55: =STATE_SHARE_EXISTENCE<>"нет" -> 0 | E55: 20 | AD55: Преобладающий тип собственности в юридическом лице | AE55: частная
E56: 25 | AB56: Наличие раздельного учёта затрат по регулируемым видам деятельности в сфере теплоснабжения | AE56: нет
E57: 25 | AB57: Система налогообложения | AE57: ОСНО
...

Sheet Список территорий
F1: tariffId | U1: vis_1 | V1: dyn_1 | W1: blok_1 | X1: blok_2 | Y1: ren_1 | Z1: del_1 | AA1: del_2 | AB1: ren_2 | AC1: dyn_2 | AJ1: pok_js | AK1: PJ_DYN | AL1: PJ_NAME | AM1: PJ_NAME_MO | AN1: PJ_NAME_OKTMO | AO1: dyn_add | AP1: dyn_fill | AQ1: uni_mo_NAME | AR1: uni_oktmo_NAME | AS1: uni_mr_NAME | AT1: ИД.ТАРИФ_NAME
B2: vis
E5: size | AA5: 3 | AB5: 6 | AC5: 28 | AD5: 28 | AE5: 15 | AF5: 22 | AG5: 32 | AH5: 3
AC6: MR_NAME | AD6: MO_NAME | AE6: OKTMO
A9: PJ_TERR | AF9: {=AF24} -> Тип муниципального образования | AG9: {=AG24} -> Дополнительные сведения
A10: dyn_names | AC10: PJ_NAME | AD10: PJ_NAME_MO | AE10: PJ_NAME_OKTMO
A14: V_UNIT | AF14: СТР | AG14: СТР
A15: V_POK | AF15: M10749 | AG15: M10462
E21: 15 | AC21: {=tpl_title} -> Кемеровская область / 2027 / ООО "КК-ИНВЕСТ" (ИНН:1901133713, КПП:190101001) / ДПР: 2025-2027
E22: 30 | AB22: Перечень муниципальных образований, на территории которых организация оказывает регулируемые виды деятельности, в отношении которых устанавливаются тарифы
E23: 11
E24: 28 | AB24: № п/п | AC24: Муниципальный район | AD24: Муниципальное образование | AE24: ОКТМО | AF24: Тип муниципального образования | AG24: Дополнительные сведения
E25: 0
E26: 11 | F26: {=Y26} -> 0 | U26: =Y26>0 -> 0 | W26: et_1 | Y26: 0 | AB26: {=INDEX('Общие сведения'!$AG$169:$AG$202,MATCH(Y26,'Общие сведения'!$Y$169:$Y$202,0))} -> Тариф 0 (Теплоснабжение) -
E27: 24 | F27: {=OFFSET(G27,-1,-1)} -> 0 | U27: =AND(OFFSET(V27,1,-1),AB27>1) -> 0 | X27: et_2 | AA27: × | AB27: 0 | AJ27: P_TERR_PROPS | AK27: DYN_MRMO | AL27: {=AC27} -> 0 | AM27: {=AD27} -> 0 | AN27: {=AE27} -> 0 | AP27: TRUE | AQ27: ="73.0.0."&"|"&$AC27 -> 73.0.0.| | AR27: ="78.0.0."&"|"&$AD27 -> 78.0.0.| | AS27: ="75.0.0."&"|"&$AE27 -> 75.0.0.| | AT27: {=INDEX('Общие сведения'!$N$170:$N$202,MATCH($F27,'Общие сведения'!$Y$170:$Y$202,0)+1)} -> 0
E28: 11 | F28: {=OFFSET(G28,-1,-1)} -> 0 | U28: {=U26} -> false | X28: { _x000D_ funcDyn: 'mrmo',_x000D_ blok: '',_x000D_ wsCross: '',_x000D_ linkFormula: '',_x000D_ levelDyn: ''_x000D_ } | AC28: Добавить территорию | AO28: DYN_MRMO
E29: 11 | F29: {=Y29} -> 1 | U29: =Y29>0 -> 1 | W29: {='Общие сведения'!$AG$186} -> Тариф 1 (Теплоснабжение) - Тариф на тепловую энергию (мощность), поставляемую потребителям (Доп. признак не требуется) | Y29: 1 | AB29: {=IF(ISBLANK('Общие сведения'!$AG$186),"",'Общие сведения'!$AG$186)} -> Тариф 1 (Теплоснабжение) - Тариф на тепловую энергию (мощность), поставляемую потребителям (Доп. признак не требуется)
E30: 24 | F30: {=OFFSET(G30,-1,-1)} -> 1 | U30: =AND(OFFSET(V30,1,-1),AB30>1) -> 0 | X30: et_2 | AA30: × | AB30: 0 | AJ30: P_TERR_PROPS | AK30: DYN_MRMO | AL30: {=AC30} -> 0 | AM30: {=AD30} -> 0 | AN30: {=AE30} -> 0 | AP30: TRUE | AQ30: ="73.0.0."&"|"&$AC30 -> 73.0.0.| | AR30: ="78.0.0."&"|"&$AD30 -> 78.0.0.| | AS30: ="75.0.0."&"|"&$AE30 -> 75.0.0.| | AT30: {=INDEX('Общие сведения'!$N$170:$N$202,MATCH($F30,'Общие сведения'!$Y$170:$Y$202,0)+1)} -> ТЭ.42.31656254.0001
E31: 24 | F31: {=OFFSET(G31,-1,-1)} -> 1 | U31: =AND(OFFSET(V31,1,-1),AB31>1) -> 1 | AA31: × | AB31: 1 | AC31: Кемеровский муниципальный округ | AD31: Кемеровский муниципальный округ | AE31: 32507000 | AJ31: P_TERR_PROPS | AK31: DYN_MRMO | AL31: {=AC31} -> Кемеровский муниципальный округ | AM31: {=AD31} -> Кемеровский муниципальный округ | AN31: {=AE31} -> 32507000 | AP31: TRUE | AQ31: ="73.0.0."&"|"&$AC31 -> 73.0.0.|Кемеровский муниципальный округ | AR31: ="78.0.0."&"|"&$AD31 -> 78.0.0.|Кемеровский муниципальный округ | AS31: ="75.0.0."&"|"&$AE31 -> 75.0.0.|32507000 | AT31: {=INDEX('Общие сведения'!$N$170:$N$202,MATCH($F31,'Общие сведения'!$Y$170:$Y$202,0)+1)} -> ТЭ.42.31656254.0001
E32: 11 | F32: {=OFFSET(G32,-1,-1)} -> 1 | U32: {=U29} -> true | X32: { _x000D_ funcDyn: 'mrmo',_x000D_ blok: '',_x000D_ wsCross: '',_x000D_ linkFormula: '',_x000D_ levelDyn: ''_x000D_ } | AC32: Добавить территорию | AO32: DYN_MRMO
E33: 11 | V33: Добавить | W33: { _x000D_ funcDyn: 'msg1',_x000D_ blok: 'blok_1',_x000D_ wsCross: 'Список объектов',_x000D_ linkFormula: 'AB-AB',_x000D_ levelDyn: ''_x000D_ }

Sheet Список объектов
F1: tariffId | U1: vis_1 | V1: dyn_1 | W1: blok_1 | X1: blok_2 | Y1: ren_1 | Z1: del_1 | AA1: del_2 | AB1: ren_2 | AC1: dyn_2 | AK1: pok_js | AL1: PJ_DYN | AM1: PJ_NAME | AN1: PJ_NAME_EXP | AO1: PJ_NAME_DOC_TYPE | AP1: PJ_NAME_DOC_NUM | AQ1: PJ_NAME_DOC_DATE | AR1: dyn_add | AS1: dyn_fill | AT1: ИД.ТАРИФ_NAME | AU1: uni_object_NAME | AV1: roi_guid_NAME
B2: vis
E5: size | AA5: 3 | AB5: 6 | AC5: 64 | AD5: 15 | AE5: 20 | AF5: 20 | AG5: 20 | AH5: 20 | AI5: 3
A9: PJ_OBJ | AH9: {=AH24} -> Срок действия
A10: dyn_names | AC10: PJ_NAME | AD10: PJ_NAME_EXP | AE10: PJ_NAME_DOC_TYPE | AF10: PJ_NAME_DOC_NUM | AG10: PJ_NAME_DOC_DATE
A14: V_UNIT | AD14: СТР | AE14: СТР | AF14: СТР | AG14: СТР | AH14: СТР
A15: V_POK | AD15: M11748 | AE15: M11592 | AF15: M11593 | AG15: M11594 | AH15: M11595
A16: V_COMMENT | AD16: Основание эксплуатации | AE16: Вид документа | AF16: Номер документа | AG16: Дата документа | AH16: Срок действия
E21: 15 | AC21: {=tpl_title} -> Кемеровская область / 2027 / ООО "КК-ИНВЕСТ" (ИНН:1901133713, КПП:190101001) / ДПР: 2025-2027
E22: 21 | AB22: Перечень объектов коммунальной инфраструктуры, эксплуатируемых организацией
E23: 9
E24: 32 | AB24: № п/п | AC24: Объект коммунальной инфраструктуры | AD24: Основание эксплуатации | AE24: Вид документа | AF24: Номер документа | AG24: Дата документа | AH24: Срок действия
E25: 0
E26: 17 | F26: {=Y26} -> 0 | U26: =Y26>0 -> 0 | W26: et_1 | Y26: 0 | AB26: {=INDEX('Общие сведения'!$AG$169:$AG$202,MATCH(Y26,'Общие сведения'!$Y$169:$Y$202,0))} -> Тариф 0 (Теплоснабжение) -
E27: 0 | F27: {=OFFSET(G27,-1,-1)} -> 0
E28: 17 | F28: {=OFFSET(G28,-1,-1)} -> 0 | I28: Наименование объекта | K28: адрес | U28: =AND(F28>0,AB28>0) -> 0 | X28: et_2 | AA28: × | AB28: 0 | AC28: =I28&" :: "&K28 -> Наименование объекта :: адрес | AK28: P_OBJ_PROPS | AL28: DYN_OBJ | AM28: {=AC28} -> Наименование объекта :: адрес | AN28: {=AD28} -> 0 | AO28: {=AE28} -> 0 | AP28: {=AF28} -> 0 | AQ28: {=AG28} -> 0 | AS28: TRUE | AT28: {=INDEX('Общие сведения'!$N$170:$N$202,MATCH($F28,'Общие сведения'!$Y$170:$Y$202,0)+1)} -> 0 | AU28: ="82.1.0."&"|"&$AC28 -> 82.1.0.|Наименование объекта :: адрес | AV28: =IF(J28="","0",J28) -> 0
E29: 17 | F29: {=OFFSET(G29,-1,-1)} -> 0 | U29: =F29>0 -> 0 | X29: { _x000D_ funcDyn: 'obj',_x000D_ blok: '',_x000D_ wsCross: '',_x000D_ linkFormula: '',_x000D_ levelDyn: ''_x000D_ } | AC29: Добавить объект | AR29: DYN_OBJ
E30: 17 | F30: {=Y30} -> 1 | U30: =Y30>0 -> 1 | W30: {='Список территорий'!$AB$29} -> Тариф 1 (Теплоснабжение) - Тариф на тепловую энергию (мощность), поставляемую потребителям (Доп. признак не требуется) | Y30: 1 | AB30: {=IF(ISBLANK('Список территорий'!$AB$29),"",'Список территорий'!$AB$29)} -> Тариф 1 (Теплоснабжение) - Тариф на тепловую энергию (мощность), поставляемую потребителям (Доп. признак не требуется)
E31: 0 | F31: {=OFFSET(G31,-1,-1)} -> 1
E32: 17 | F32: {=OFFSET(G32,-1,-1)} -> 1 | I32: Наименование объекта | K32: адрес | U32: =AND(F32>0,AB32>0) -> 0 | X32: et_2 | AA32: × | AB32: 0 | AC32: =I32&" :: "&K32 -> Наименование объекта :: адрес | AK32: P_OBJ_PROPS | AL32: DYN_OBJ | AM32: {=AC32} -> Наименование объекта :: адрес | AN32: {=AD32} -> 0 | AO32: {=AE32} -> 0 | AP32: {=AF32} -> 0 | AQ32: {=AG32} -> 0 | AS32: TRUE | AT32: {=INDEX('Общие сведения'!$N$170:$N$202,MATCH($F32,'Общие сведения'!$Y$170:$Y$202,0)+1)} -> ТЭ.42.31656254.0001 | AU32: ="82.1.0."&"|"&$AC32 -> 82.1.0.|Наименование объекта :: адрес | AV32: =IF(J32="","0",J32) -> 0
E33: 17 | F33: {=OFFSET(G33,-1,-1)} -> 1 | I33: Котельная ЦО "Притомье" | J33: 8f55f152-1963-42d0-a8a3-ce75838df31d | K33: с Березово, Кемеровская область - Кузбасс, Кемеровский муниципальный округ, с. Березово, территория Притомье, здание 3, Кемеровская область - Кузбасс, Кемеровский муниципальный округ, с. Березово, территория Притомье, здание 3 | U33: =AND(F33>0,AB33>0) -> 1 | AA33: × | AB33: 1 | AC33: =I33&" :: "&K33 -> Котельная ЦО "Притомье" :: с Березово, Кемеровская область - Кузбасс, Кемеровский муниципальный округ, с. Березово, территория Притомье, здание 3, Кемеровская область - Кузбасс, Кемеровский муниципальный округ, с. Березово, территория Притомье, здание 3 | AD33: Собственность | AE33: Выписка из ЕГРН | AF33: - | AK33: P_OBJ_PROPS | AL33: DYN_OBJ | AM33: {=AC33} -> Котельная ЦО "Притомье" :: с Березово, Кемеровская область - Кузбасс, Кемеровский муниципальный округ, с. Березово, территория Притомье, здание 3, Кемеровская область - Кузбасс, Кемеровский муниципальный округ, с. Березово, территория Притомье, здание 3 | AN33: {=AD33} -> Собственность | AO33: {=AE33} -> Выписка из ЕГРН | AP33: {=AF33} -> - | AQ33: {=AG33} -> 0 | AS33: TRUE | AT33: {=INDEX('Общие сведения'!$N$170:$N$202,MATCH($F33,'Общие сведения'!$Y$170:$Y$202,0)+1)} -> ТЭ.42.31656254.0001 | AU33: ="82.1.0."&"|"&$AC33 -> 82.1.0.|Котельная ЦО "Притомье" :: с Березово, Кемеровская область - Кузбасс, Кемеровский муниципальный округ, с. Березово, территория Притомье, здание 3, Кемеровская область - Кузбасс, Кемеровский муниципальный округ, с. Березово, территория Притомье, здание 3 | AV33: {=IF(J33="","0",J33)} -> 8f55f152-1963-42d0-a8a3-ce75838df31d
E34: 17 | F34: {=OFFSET(G34,-1,-1)} -> 1 | U34: =F34>0 -> 1 | X34: { _x000D_ funcDyn: 'obj',_x000D_ blok: '',_x000D_ wsCross: '',_x000D_ linkFormula: '',_x000D_ levelDyn: ''_x000D_ } | AC34: Добавить объект | AR34: DYN_OBJ
V35: Добавить | W35: { _x000D_ funcDyn: 'msg1',_x000D_ blok: 'blok_1',_x000D_ wsCross: 'Расчет УЕ',_x000D_ linkFormula: 'AB-AB',_x000D_ levelDyn: ''_x000D_ }

Sheet Расчет УЕ
F1: tariffId | U1: vis_1 | V1: dyn_1 | W1: blok_1 | Y1: ren_1 | Z1: del_1 | BW1: pok_js | BX1: ИД.ТАРИФ_NAME | BY1: uni_activity_type_NAME | BZ1: uni_heat_object_NAME | CA1: uni_length_calculating_method_NAME | CB1: uni_inform_section_NAME | CD1: G_UNIT | CE1: G_POK | CF1: G_COMMENT
B2: vis | AF2: =AND(AF9<=last_year_vis,isOrgDeclare) -> 1 | AG2: =AND(AG9<=last_year_vis,isOrgDeclare) -> 0 | AH2: =AND(AH9<=last_year_vis,isOrgDeclare) -> 0 | AI2: =AND(AI9<=last_year_vis,isOrgDeclare) -> 0 | AJ2: =AND(AJ9<=last_year_vis,isOrgDeclare) -> 0 | AK2: =AND(AK9<=last_year_vis,isOrgDeclare) -> 0 | AL2: =AND(AL9<=last_year_vis,isOrgDeclare) -> 0 | AM2: =AND(AM9<=last_year_vis,isOrgDeclare) -> 0 | ... AY2: =AND(AY9<=last_year_vis,isOrgDeclare) -> 0 | AZ2: =AZ9<=last_year_vis -> 1 | BA2: =BA9<=last_year_vis -> 0 | BB2: =BB9<=last_year_vis -> 0 | BC2: =BC9<=last_year_vis -> 0 | BD2: =BD9<=last_year_vis -> 0 | BE2: =BE9<=last_year_vis -> 0 | BF2: =BF9<=last_year_vis -> 0 | BG2: =BG9<=last_year_vis -> 0 | ... BS2: =BS9<=last_year_vis -> 0
E5: size | AA5: 3 | AB5: 6 | AC5: 64 | AD5: 15 | AE5: 20 | AF5: 20 | AG5: 20 | AH5: 20 | AI5: 20 | AJ5: 20 | AK5: 20 | AL5: 20 | AM5: 20 | AN5: 20 | AO5: 20 | AP5: 20 | AQ5: 20 | AR5: 20 | AS5: 20 | AT5: 20 | AU5: 20 | AV5: 20 | AW5: 20 | AX5: 20 | AY5: 20 | AZ5: 20 | BA5: 20 | BB5: 20 | BC5: 20 | BD5: 20 | BE5: 20 | BF5: 20 | BG5: 20 | BH5: 20 | BI5: 20 | BJ5: 20 | BK5: 20 | BL5: 20 | BM5: 20 | BN5: 20 | BO5: 20 | BP5: 20 | BQ5: 20 | BR5: 20 | BS5: 20 | BT5: 20 | BU5: 3
A9: PJ_YEAR | AE9: =god-1 -> 2026 | AF9: {=god} -> 2027 | AG9: =god+1 -> 2028 | AH9: =god+2 -> 2029 | AI9: =god+3 -> 2030 | AJ9: =god+4 -> 2031 | AK9: =god+5 -> 2032 | AL9: =god+6 -> 2033 | AM9: =god+7 -> 2034 | AN9: =god+8 -> 2035 | AO9: =god+9 -> 2036 | AP9: =god+10 -> 2037 | AQ9: =god+11 -> 2038 | AR9: =god+12 -> 2039 | AS9: =god+13 -> 2040 | AT9: =god+14 -> 2041 | AU9: =god+15 -> 2042 | AV9: =god+16 -> 2043 | AW9: =god+17 -> 2044 | AX9: =god+18 -> 2045 | AY9: =god+19 -> 2046 | AZ9: {=god} -> 2027 | BA9: =god+1 -> 2028 | BB9: =god+2 -> 2029 | BC9: =god+3 -> 2030 | BD9: =god+4 -> 2031 | BE9: =god+5 -> 2032 | BF9: =god+6 -> 2033 | BG9: =god+7 -> 2034 | BH9: =god+8 -> 2035 | BI9: =god+9 -> 2036 | BJ9: =god+10 -> 2037 | BK9: =god+11 -> 2038 | BL9: =god+12 -> 2039 | BM9: =god+13 -> 2040 | BN9: =god+14 -> 2041 | BO9: =god+15 -> 2042 | BP9: =god+16 -> 2043 | BQ9: =god+17 -> 2044 | BR9: =god+18 -> 2045 | BS9: =god+19 -> 2046
A10: PJ_PF | AE10: {=AE25} -> Принято органом регулирования | AF10: {=AF25} -> Предложение организации | AG10: {=AG25} -> Предложение организации | AH10: {=AH25} -> Предложение организации | AI10: {=AI25} -> Предложение организации | AJ10: {=AJ25} -> Предложение организации | AK10: {=AK25} -> Предложение организации | AL10: {=AL25} -> Предложение организации | ... BS10: {=BS25} -> Принято органом регулирования
A11: PJ_DOP | BT11: {=BT24} -> Комментарии
A14: uni_org_reg_NAME | AE14: 328.0.2. | AF14: 328.0.1. | AG14: 328.0.1. | AH14: 328.0.1. | AI14: 328.0.1. | AJ14: 328.0.1. | AK14: 328.0.1. | AL14: 328.0.1. | AM14: 328.0.1. | AN14: 328.0.1. | AO14: 328.0.1. | AP14: 328.0.1. | AQ14: 328.0.1. | AR14: 328.0.1. | AS14: 328.0.1. | AT14: 328.0.1. | AU14: 328.0.1. | AV14: 328.0.1. | AW14: 328.0.1. | AX14: 328.0.1. | AY14: 328.0.1. | AZ14: 328.0.2. | BA14: 328.0.2. | BB14: 328.0.2. | BC14: 328.0.2. | BD14: 328.0.2. | BE14: 328.0.2. | BF14: 328.0.2. | BG14: 328.0.2. | BH14: 328.0.2. | BI14: 328.0.2. | BJ14: 328.0.2. | BK14: 328.0.2. | BL14: 328.0.2. | BM14: 328.0.2. | BN14: 328.0.2. | BO14: 328.0.2. | BP14: 328.0.2. | BQ14: 328.0.2. | BR14: 328.0.2. | BS14: 328.0.2.
A15: uni_pf_NAME | AE15: 36.0.7. | AF15: 36.0.3. | AG15: 36.0.3. | AH15: 36.0.3. | AI15: 36.0.3. | AJ15: 36.0.3. | AK15: 36.0.3. | AL15: 36.0.3. | AM15: 36.0.3. | AN15: 36.0.3. | AO15: 36.0.3. | AP15: 36.0.3. | AQ15: 36.0.3. | AR15: 36.0.3. | AS15: 36.0.3. | AT15: 36.0.3. | AU15: 36.0.3. | AV15: 36.0.3. | AW15: 36.0.3. | AX15: 36.0.3. | AY15: 36.0.3. | AZ15: 36.0.7. | BA15: 36.0.7. | BB15: 36.0.7. | BC15: 36.0.7. | BD15: 36.0.7. | BE15: 36.0.7. | BF15: 36.0.7. | BG15: 36.0.7. | BH15: 36.0.7. | BI15: 36.0.7. | BJ15: 36.0.7. | BK15: 36.0.7. | BL15: 36.0.7. | BM15: 36.0.7. | BN15: 36.0.7. | BO15: 36.0.7. | BP15: 36.0.7. | BQ15: 36.0.7. | BR15: 36.0.7. | BS15: 36.0.7.
A16: uni_year_NAME | AE16: ="389.0."&AE9-2010&"." -> 389.0.16. | AF16: ="389.0."&AF9-2010&"." -> 389.0.17. | AG16: ="389.0."&AG9-2010&"." -> 389.0.18. | AH16: ="389.0."&AH9-2010&"." -> 389.0.19. | AI16: ="389.0."&AI9-2010&"." -> 389.0.20. | AJ16: ="389.0."&AJ9-2010&"." -> 389.0.21. | AK16: ="389.0."&AK9-2010&"." -> 389.0.22. | AL16: ="389.0."&AL9-2010&"." -> 389.0.23. | ... BS16: ="389.0."&BS9-2010&"." -> 389.0.36.
A17: V_UNIT | BT17: СТР
A18: V_POK | BT18: M10462
A19: V_COMMENT | BT19: Информация. Примечания. Комментарии
E21: 15 | AC21: {=tpl_title} -> Кемеровская область / 2027 / ООО "КК-ИНВЕСТ" (ИНН:1901133713, КПП:190101001) / ДПР: 2025-2027
E22: 21 | AB22: Расчет условных единиц
E23: 9
E24: 21 | AB24: № п/п | AC24: Наименование показателя | AD24: Единица измерения | AE24: =god-1&" год" -> 2026 год | AF24: =god&" год" -> 2027 год | AG24: =god+1&" год" -> 2028 год | AH24: =god+2&" год" -> 2029 год | AI24: =god+3&" год" -> 2030 год | AJ24: =god+4&" год" -> 2031 год | AK24: =god+5&" год" -> 2032 год | AL24: =god+6&" год" -> 2033 год | AM24: =god+7&" год" -> 2034 год | AN24: =god+8&" год" -> 2035 год | AO24: =god+9&" год" -> 2036 год | AP24: =god+10&" год" -> 2037 год | AQ24: =god+11&" год" -> 2038 год | AR24: =god+12&" год" -> 2039 год | AS24: =god+13&" год" -> 2040 год | AT24: =god+14&" год" -> 2041 год | AU24: =god+15&" год" -> 2042 год | AV24: =god+16&" год" -> 2043 год | AW24: =god+17&" год" -> 2044 год | AX24: =god+18&" год" -> 2045 год | AY24: =god+19&" год" -> 2046 год | AZ24: =god&" год" -> 2027 год | BA24: =god+1&" год" -> 2028 год | BB24: =god+2&" год" -> 2029 год | BC24: =god+3&" год" -> 2030 год | BD24: =god+4&" год" -> 2031 год | BE24: =god+5&" год" -> 2032 год | BF24: =god+6&" год" -> 2033 год | BG24: =god+7&" год" -> 2034 год | BH24: =god+8&" год" -> 2035 год | BI24: =god+9&" год" -> 2036 год | BJ24: =god+10&" год" -> 2037 год | BK24: =god+11&" год" -> 2038 год | BL24: =god+12&" год" -> 2039 год | BM24: =god+13&" год" -> 2040 год | BN24: =god+14&" год" -> 2041 год | BO24: =god+15&" год" -> 2042 год | BP24: =god+16&" год" -> 2043 год | BQ24: =god+17&" год" -> 2044 год | BR24: =god+18&" год" -> 2045 год | BS24: =god+19&" год" -> 2046 год | BT24: Комментарии
E25: 36 | AE25: Принято органом регулирования | AF25: Предложение организации | AG25: Предложение организации | AH25: Предложение организации | AI25: Предложение организации | AJ25: Предложение организации | AK25: Предложение организации | AL25: Предложение организации | AM25: Предложение организации | AN25: Предложение организации | AO25: Предложение организации | AP25: Предложение организации | AQ25: Предложение организации | AR25: Предложение организации | AS25: Предложение организации | AT25: Предложение организации | AU25: Предложение организации | AV25: Предложение организации | AW25: Предложение организации | AX25: Предложение организации | AY25: Предложение организации | AZ25: Принято органом регулирования | BA25: Принято органом регулирования | BB25: Принято органом регулирования | BC25: Принято органом регулирования | BD25: Принято органом регулирования | BE25: Принято органом регулирования | BF25: Принято органом регулирования | BG25: Принято органом регулирования | BH25: Принято органом регулирования | BI25: Принято органом регулирования | BJ25: Принято органом регулирования | BK25: Принято органом регулирования | BL25: Принято органом регулирования | BM25: Принято органом регулирования | BN25: Принято органом регулирования | BO25: Принято органом регулирования | BP25: Принято органом регулирования | BQ25: Принято органом регулирования | BR25: Принято органом регулирования | BS25: Принято органом регулирования
E26: 0
E27: 11 | F27: {=Y27} -> 0 | U27: =Y27>0 -> 0 | W27: et_1 | Y27: 0 | AB27: {=INDEX('Общие сведения'!$AG$169:$AG$202,MATCH($F27,'Общие сведения'!$Y$169:$Y$202,0))} -> Тариф 0 (Теплоснабжение) -
E28: 17 | F28: {=OFFSET(G28,-1,-1)} -> 0 | G28: YE | H28: L3 | I28: =AC28&"::"&AD28 -> Количество условных единиц для производства::УЕ | U28: {=U27} -> false | AB28: 1 | AC28: Количество условных единиц для производства | AD28: УЕ | AE28: {=AE29} -> 0 | AF28: {=AF29} -> 0 | AG28: {=AG29} -> 0 | AH28: {=AH29} -> 0 | AI28: {=AI29} -> 0 | AJ28: {=AJ29} -> 0 | AK28: {=AK29} -> 0 | AL28: {=AL29} -> 0 | ... BS28: {=BS29} -> 0 | BW28: P_PROD_UE_COUNT | BX28: {=INDEX('Общие сведения'!$N$170:$N$202,MATCH($F28,'Общие сведения'!$Y$170:$Y$202,0)+1)} -> 0 | BY28: 83.0.1. | CB28: 360.0.1. | CD28: ЧСЛ | CE28: M10865 | CF28: Количество, ед.
E29: 17 | F29: {=OFFSET(G29,-1,-1)} -> 0 | G29: M | H29: L3 | I29: =AC29&"::"&AD29 -> Установленная тепловая мощность::Гкал/час | U29: {=U28} -> false | AB29: 1.1 | AC29: Установленная тепловая мощность | AD29: Гкал/час | BW29: P_HEAT_POWER | BX29: {=BX28} -> 0 | BY29: 83.0.1. | CB29: 360.0.2. | CD29: ЧСЛ | CE29: M10496 | CF29: Установленная тепловая мощность, Гкал/час
E30: 17 | F30: {=OFFSET(G30,-1,-1)} -> 0 | G30: Yeп | U30: {=U29} -> false | AB30: 2 | AC30: Количество условных единиц для передачи | AD30: УЕ | AE30: =AE31+5*AE44+25*AE45+0.5*AE46 -> 0 | AF30: =AF31+5*AF44+25*AF45+0.5*AF46 -> 0 | AG30: =AG31+5*AG44+25*AG45+0.5*AG46 -> 0 | AH30: =AH31+5*AH44+25*AH45+0.5*AH46 -> 0 | AI30: =AI31+5*AI44+25*AI45+0.5*AI46 -> 0 | AJ30: =AJ31+5*AJ44+25*AJ45+0.5*AJ46 -> 0 | AK30: =AK31+5*AK44+25*AK45+0.5*AK46 -> 0 | AL30: =AL31+5*AL44+25*AL45+0.5*AL46 -> 0 | ... BS30: =BS31+5*BS44+25*BS45+0.5*BS46 -> 0 | BW30: P_TRANSF_UE_COUNT | BX30: {=BX29} -> 0 | BY30: 83.0.2. | CB30: 360.0.1. | CD30: ЧСЛ | CE30: M10865 | CF30: Количество, ед.
E31: 17 | F31: {=OFFSET(G31,-1,-1)} -> 0 | U31: {=U30} -> false | AB31: 2.1 | AC31: Тепломагистраль | AD31: УЕ | AE31: =AE32+AE35+AE38+AE41 -> 0 | AF31: =AF32+AF35+AF38+AF41 -> 0 | AG31: =AG32+AG35+AG38+AG41 -> 0 | AH31: =AH32+AH35+AH38+AH41 -> 0 | AI31: =AI32+AI35+AI38+AI41 -> 0 | AJ31: =AJ32+AJ35+AJ38+AJ41 -> 0 | AK31: =AK32+AK35+AK38+AK41 -> 0 | AL31: =AL32+AL35+AL38+AL41 -> 0 | ... BS31: =BS32+BS35+BS38+BS41 -> 0 | BW31: P_HEAT_MAIN | BX31: {=BX30} -> 0 | BY31: 83.0.2. | BZ31: 314.0.3. | CD31: ЧСЛ | CE31: M10865 | CF31: Количество, ед.
E32: 17 | F32: {=OFFSET(G32,-1,-1)} -> 0 | U32: {=U31} -> false | AB32: 2.1.1 | AC32: Однотрубные | AD32: УЕ | AE32: =0.75*(11*AE34+MAX(0.06*AE34*(AE33-100),0)) -> 0 | AF32: =0.75*(11*AF34+MAX(0.06*AF34*(AF33-100),0)) -> 0 | AG32: =0.75*(11*AG34+MAX(0.06*AG34*(AG33-100),0)) -> 0 | AH32: =0.75*(11*AH34+MAX(0.06*AH34*(AH33-100),0)) -> 0 | AI32: =0.75*(11*AI34+MAX(0.06*AI34*(AI33-100),0)) -> 0 | AJ32: =0.75*(11*AJ34+MAX(0.06*AJ34*(AJ33-100),0)) -> 0 | AK32: =0.75*(11*AK34+MAX(0.06*AK34*(AK33-100),0)) -> 0 | AL32: =0.75*(11*AL34+MAX(0.06*AL34*(AL33-100),0)) -> 0 | ... BS32: =0.75*(11*BS34+MAX(0.06*BS34*(BS33-100),0)) -> 0 | BW32: P_SP | BX32: {=BX31} -> 0 | BY32: 83.0.2. | BZ32: 314.0.3. | CA32: 238.0.1. | CB32: 360.0.1. | CD32: ЧСЛ | CE32: M10865 | CF32: Количество, ед.
E33: 17 | F33: {=OFFSET(G33,-1,-1)} -> 0 | U33: {=U32} -> false | AB33: =AB32&".1" -> 2.1.1.1 | AC33: Средний диаметр | AD33: мм | BW33: P_SP_AVER_DIAM | BX33: {=BX32} -> 0 | BY33: 83.0.2. | BZ33: 314.0.3. | CA33: 238.0.1. | CB33: 360.0.2. | CD33: ЧСЛ | CE33: M11829 | CF33: Средний диаметр трубопровода, мм
E34: 17 | F34: {=OFFSET(G34,-1,-1)} -> 0 | U34: {=U33} -> false | AB34: =AB32&".2" -> 2.1.1.2 | AC34: Протяженность | AD34: км | BW34: P_SP_LENGTH | BX34: {=BX33} -> 0 | BY34: 83.0.2. | BZ34: 314.0.3. | CA34: 238.0.1. | CB34: 360.0.3. | CD34: ЧСЛ | CE34: M11181 | CF34: Протяжённость сетей в однотрубном исчислении, км.
E35: 17 | F35: {=OFFSET(G35,-1,-1)} -> 0 | U35: {=U34} -> false | AB35: 2.1.2 | AC35: Двухтрубные | AD35: УЕ | AE35: =(11*AE37+MAX(0.06*AE37*(AE36-100),0)) -> 0 | AF35: =(11*AF37+MAX(0.06*AF37*(AF36-100),0)) -> 0 | AG35: =(11*AG37+MAX(0.06*AG37*(AG36-100),0)) -> 0 | AH35: =(11*AH37+MAX(0.06*AH37*(AH36-100),0)) -> 0 | AI35: =(11*AI37+MAX(0.06*AI37*(AI36-100),0)) -> 0 | AJ35: =(11*AJ37+MAX(0.06*AJ37*(AJ36-100),0)) -> 0 | AK35: =(11*AK37+MAX(0.06*AK37*(AK36-100),0)) -> 0 | AL35: =(11*AL37+MAX(0.06*AL37*(AL36-100),0)) -> 0 | ... BS35: =(11*BS37+MAX(0.06*BS37*(BS36-100),0)) -> 0 | BW35: P_DP | BX35: {=BX34} -> 0 | BY35: 83.0.2. | BZ35: 314.0.3. | CA35: 238.0.2. | CB35: 360.0.1. | CD35: ЧСЛ | CE35: M10865 | CF35: Количество, ед.
E36: 17 | F36: {=OFFSET(G36,-1,-1)} -> 0 | U36: {=U35} -> false | AB36: =AB35&".1" -> 2.1.2.1 | AC36: Средний диаметр | AD36: мм | BW36: P_DP_AVER_DIAM | BX36: {=BX35} -> 0 | BY36: 83.0.2. | BZ36: 314.0.3. | CA36: 238.0.2. | CB36: 360.0.2. | CD36: ЧСЛ | CE36: M11829 | CF36: Средний диаметр трубопровода, мм
E37: 17 | F37: {=OFFSET(G37,-1,-1)} -> 0 | U37: {=U36} -> false | AB37: =AB35&".2" -> 2.1.2.2 | AC37: Протяженность | AD37: км | BW37: P_DP_LENGTH | BX37: {=BX36} -> 0 | BY37: 83.0.2. | BZ37: 314.0.3. | CA37: 238.0.2. | CB37: 360.0.3. | CD37: ЧСЛ | CE37: M10762 | CF37: протяжённость сетей (в двухтрубном исчислении), км.
E38: 17 | F38: {=OFFSET(G38,-1,-1)} -> 0 | U38: {=U37} -> false | AB38: 2.1.3 | AC38: Трехтрубные | AD38: УЕ | AE38: =1.25*(11*AE40+MAX(0.06*AE40*(AE39-100),0)) -> 0 | AF38: =1.25*(11*AF40+MAX(0.06*AF40*(AF39-100),0)) -> 0 | AG38: =1.25*(11*AG40+MAX(0.06*AG40*(AG39-100),0)) -> 0 | AH38: =1.25*(11*AH40+MAX(0.06*AH40*(AH39-100),0)) -> 0 | AI38: =1.25*(11*AI40+MAX(0.06*AI40*(AI39-100),0)) -> 0 | AJ38: =1.25*(11*AJ40+MAX(0.06*AJ40*(AJ39-100),0)) -> 0 | AK38: =1.25*(11*AK40+MAX(0.06*AK40*(AK39-100),0)) -> 0 | AL38: =1.25*(11*AL40+MAX(0.06*AL40*(AL39-100),0)) -> 0 | ... BS38: =1.25*(11*BS40+MAX(0.06*BS40*(BS39-100),0)) -> 0 | BW38: P_TP | BX38: {=BX37} -> 0 | BY38: 83.0.2. | BZ38: 314.0.3. | CA38: 238.0.3. | CB38: 360.0.1. | CD38: ЧСЛ | CE38: M10865 | CF38: Количество, ед.
E39: 17 | F39: {=OFFSET(G39,-1,-1)} -> 0 | U39: {=U38} -> false | AB39: =AB38&".1" -> 2.1.3.1 | AC39: Средний диаметр | AD39: мм | BW39: P_TP_AVER_DIAM | BX39: {=BX38} -> 0 | BY39: 83.0.2. | BZ39: 314.0.3. | CA39: 238.0.3. | CB39: 360.0.2. | CD39: ЧСЛ | CE39: M11829 | CF39: Средний диаметр трубопровода, мм
E40: 17 | F40: {=OFFSET(G40,-1,-1)} -> 0 | U40: {=U39} -> false | AB40: =AB38&".2" -> 2.1.3.2 | AC40: Протяженность | AD40: км | BW40: P_TP_LENGTH | BX40: {=BX39} -> 0 | BY40: 83.0.2. | BZ40: 314.0.3. | CA40: 238.0.3. | CB40: 360.0.3. | CD40: ЧСЛ | CE40: M10682 | CF40: Протяжённость сетей, км
E41: 17 | F41: {=OFFSET(G41,-1,-1)} -> 0 | H41: L3 | I41: =AC41&"::"&AD41 -> Четырехтрубные::УЕ | U41: {=U40} -> false | AB41: 2.1.4 | AC41: Четырехтрубные | AD41: УЕ | AE41: =1.5*(11*AE43+MAX(0.06*AE43*(AE42-100),0)) -> 0 | AF41: =1.5*(11*AF43+MAX(0.06*AF43*(AF42-100),0)) -> 0 | AG41: =1.5*(11*AG43+MAX(0.06*AG43*(AG42-100),0)) -> 0 | AH41: =1.5*(11*AH43+MAX(0.06*AH43*(AH42-100),0)) -> 0 | AI41: =1.5*(11*AI43+MAX(0.06*AI43*(AI42-100),0)) -> 0 | AJ41: =1.5*(11*AJ43+MAX(0.06*AJ43*(AJ42-100),0)) -> 0 | AK41: =1.5*(11*AK43+MAX(0.06*AK43*(AK42-100),0)) -> 0 | AL41: =1.5*(11*AL43+MAX(0.06*AL43*(AL42-100),0)) -> 0 | ... BS41: =1.5*(11*BS43+MAX(0.06*BS43*(BS42-100),0)) -> 0 | BW41: P_FP | BX41: {=BX40} -> 0 | BY41: 83.0.2. | BZ41: 314.0.3. | CA41: 238.0.4. | CB41: 360.0.1. | CD41: ЧСЛ | CE41: M10865 | CF41: Количество, ед.
E42: 17 | F42: {=OFFSET(G42,-1,-1)} -> 0 | U42: {=U41} -> false | AB42: =AB41&".1" -> 2.1.4.1 | AC42: Средний диаметр | AD42: мм | BW42: P_FP_AVER_DIAM | BX42: {=BX41} -> 0 | BY42: 83.0.2. | BZ42: 314.0.3. | CA42: 238.0.4. | CB42: 360.0.2. | CD42: ЧСЛ | CE42: M11829 | CF42: Средний диаметр трубопровода, мм
E43: 17 | F43: {=OFFSET(G43,-1,-1)} -> 0 | U43: {=U42} -> false | AB43: =AB41&".2" -> 2.1.4.2 | AC43: Протяженность | AD43: км | BW43: P_FP_LENGTH | BX43: {=BX42} -> 0 | BY43: 83.0.2. | BZ43: 314.0.3. | CA43: 238.0.4. | CB43: 360.0.3. | CD43: ЧСЛ | CE43: M10682 | CF43: Протяжённость сетей, км
E44: 31 | F44: {=OFFSET(G44,-1,-1)} -> 0 | U44: {=U43} -> false | AB44: 2.2 | AC44: Тепловой узел на балансе организации, осуществляющей деятельность по передаче тепловой энергии, теплоносителя | AD44: 1 узел | BW44: P_HEAT_UNIT | BX44: {=BX43} -> 0 | BY44: 83.0.2. | BZ44: 314.0.4. | CD44: ЧСЛ | CE44: M10865 | CF44: Количество, ед.
E45: 40 | F45: {=OFFSET(G45,-1,-1)} -> 0 | U45: {=U44} -> false | AB45: 2.3 | AC45: Подкачивающая насосная станция на балансе организации, осуществляющей деятельность по передаче тепловой энергии, теплоносителя | AD45: 1 станция | BW45: P_PUMP_STATION | BX45: {=BX44} -> 0 | BY45: 83.0.2. | BZ45: 314.0.5. | CD45: ЧСЛ | CE45: M10865 | CF45: Количество, ед.
E46: 50 | F46: {=OFFSET(G46,-1,-1)} -> 0 | H46: L3 | I46: =AC46&"::"&AD46 -> Расчетная присоединительная тепловая мощность по трубопроводам на балансе организации, осуществляющей деятельность по передаче тепловой энергии, теплоносителя::Гкал/час | U46: {=U45} -> false | AB46: 2.4 | AC46: Расчетная присоединительная тепловая мощность по трубопроводам на балансе организации, осуществляющей деятельность по передаче тепловой энергии, теплоносителя | AD46: Гкал/час | BW46: P_CALC_HEAT_POWER | BX46: {=BX45} -> 0 | BY46: 83.0.2. | CB46: 360.0.2. | CD46: ЧСЛ | CE46: M11813 | CF46: Расчетная присоединительная тепловая мощность, Гкал/час
E47: 11 | F47: {=Y47} -> 1 | U47: =Y47>0 -> 1 | W47: {='Список объектов'!$AB$30} -> Тариф 1 (Теплоснабжение) - Тариф на тепловую энергию (мощность), поставляемую потребителям (Доп. признак не требуется) | Y47: 1 | AB47: {=IF(ISBLANK('Список объектов'!$AB$30),"",'Список объектов'!$AB$30)} -> Тариф 1 (Теплоснабжение) - Тариф на тепловую энергию (мощность), поставляемую потребителям (Доп. признак не требуется)
E48: 17 | F48: {=OFFSET(G48,-1,-1)} -> 1 | G48: YE | H48: L3 | I48: =AC48&"::"&AD48 -> Количество условных единиц для производства::УЕ | U48: {=U47} -> true | AB48: 1 | AC48: Количество условных единиц для производства | AD48: УЕ | AE48: {=AE49} -> 4.32 | AF48: {=AF49} -> 4.32 | AG48: {=AG49} -> 0 | AH48: {=AH49} -> 0 | AI48: {=AI49} -> 0 | AJ48: {=AJ49} -> 0 | AK48: {=AK49} -> 0 | AL48: {=AL49} -> 0 | ... BS48: {=BS49} -> 0 | BW48: P_PROD_UE_COUNT | BX48: {=INDEX('Общие сведения'!$N$170:$N$202,MATCH($F48,'Общие сведения'!$Y$170:$Y$202,0)+1)} -> ТЭ.42.31656254.0001 | BY48: 83.0.1. | CB48: 360.0.1. | CD48: ЧСЛ | CE48: M10865 | CF48: Количество, ед.
...

Sheet Сценарии
F1: tariffId | T1: vis_1 | U1: dyn_1 | V1: blok_1 | W1: blok_2 | X1: ren_1 | Y1: ren_2 | Z1: del_1 | AA1: del_2 | AC1: dyn_2 | BU1: pok_js | BV1: PJ_DYN | BW1: PJ_NAME | BX1: dyn_add | BY1: dyn_fill | BZ1: ИД.ТАРИФ_NAME | CA1: uni_inform_section_NAME | CB1: uni_energy_source_water_NAME | CC1: uni_activity_type_NAME | CD1: uni_gas_supply_NAME | CE1: uni_tariff_class_NAME | CF1: uni_fuel_transportation_account_NAME | CG1: uni_fuel_type_NAME | CH1: user_dyn_block_NAME | CI1: G_UNIT | CJ1: G_POK | CK1: G_COMMENT
B2: vis | AE2: {=isOrgDeclare} -> true | AF2: =AND(AF9<=last_year_vis,isOrgDeclare) -> 0 | AG2: =AND(AG9<=last_year_vis,isOrgDeclare) -> 0 | AH2: =AND(AH9<=last_year_vis,isOrgDeclare) -> 0 | AI2: =AND(AI9<=last_year_vis,isOrgDeclare) -> 0 | AJ2: =AND(AJ9<=last_year_vis,isOrgDeclare) -> 0 | AK2: =AND(AK9<=last_year_vis,isOrgDeclare) -> 0 | AL2: =AND(AL9<=last_year_vis,isOrgDeclare) -> 0 | AM2: =AND(AM9<=last_year_vis,isOrgDeclare) -> 0 | ... AX2: =AND(AX9<=last_year_vis,isOrgDeclare) -> 0 | AY2: =AY9<=last_year_vis -> 1 | AZ2: =AZ9<=last_year_vis -> 0 | BA2: =BA9<=last_year_vis -> 0 | BB2: =BB9<=last_year_vis -> 0 | BC2: =BC9<=last_year_vis -> 0 | BD2: =BD9<=last_year_vis -> 0 | BE2: =BE9<=last_year_vis -> 0 | BF2: =BF9<=last_year_vis -> 0 | ... BR2: =BR9<=last_year_vis -> 0
E5: size | AA5: 3 | AB5: 6 | AC5: 52 | AD5: 14 | AE5: 15 | AF5: 15 | AG5: 15 | AH5: 15 | AI5: 15 | AJ5: 15 | AK5: 15 | AL5: 15 | AM5: 15 | AN5: 15 | AO5: 15 | AP5: 15 | AQ5: 15 | AR5: 15 | AS5: 15 | AT5: 15 | AU5: 15 | AV5: 15 | AW5: 15 | AX5: 15 | AY5: 15 | AZ5: 15 | BA5: 15 | BB5: 15 | BC5: 15 | BD5: 15 | BE5: 15 | BF5: 15 | BG5: 15 | BH5: 15 | BI5: 15 | BJ5: 15 | BK5: 15 | BL5: 15 | BM5: 15 | BN5: 15 | BO5: 15 | BP5: 15 | BQ5: 15 | BR5: 15 | BS5: 3
A9: PJ_YEAR | AE9: {=god} -> 2027 | AF9: =god+1 -> 2028 | AG9: =god+2 -> 2029 | AH9: =god+3 -> 2030 | AI9: =god+4 -> 2031 | AJ9: =god+5 -> 2032 | AK9: =god+6 -> 2033 | AL9: =god+7 -> 2034 | AM9: =god+8 -> 2035 | AN9: =god+9 -> 2036 | AO9: =god+10 -> 2037 | AP9: =god+11 -> 2038 | AQ9: =god+12 -> 2039 | AR9: =god+13 -> 2040 | AS9: =god+14 -> 2041 | AT9: =god+15 -> 2042 | AU9: =god+16 -> 2043 | AV9: =god+17 -> 2044 | AW9: =god+18 -> 2045 | AX9: =god+19 -> 2046 | AY9: {=god} -> 2027 | AZ9: =god+1 -> 2028 | BA9: =god+2 -> 2029 | BB9: =god+3 -> 2030 | BC9: =god+4 -> 2031 | BD9: =god+5 -> 2032 | BE9: =god+6 -> 2033 | BF9: =god+7 -> 2034 | BG9: =god+8 -> 2035 | BH9: =god+9 -> 2036 | BI9: =god+10 -> 2037 | BJ9: =god+11 -> 2038 | BK9: =god+12 -> 2039 | BL9: =god+13 -> 2040 | BM9: =god+14 -> 2041 | BN9: =god+15 -> 2042 | BO9: =god+16 -> 2043 | BP9: =god+17 -> 2044 | BQ9: =god+18 -> 2045 | BR9: =god+19 -> 2046
A10: PJ_PF | AE10: {=AE25} -> Предложение организации | AF10: {=AF25} -> Предложение организации | AG10: {=AG25} -> Предложение организации | AH10: {=AH25} -> Предложение организации | AI10: {=AI25} -> Предложение организации | AJ10: {=AJ25} -> Предложение организации | AK10: {=AK25} -> Предложение организации | AL10: {=AL25} -> Предложение организации | ... BR10: {=BR25} -> Принято органом регулирования
A11: dyn_names | AC11: PJ_NAME
A12: checkUnique | AC12: Наименование параметра
A14: uni_org_reg_NAME | AE14: 328.0.1. | AF14: 328.0.1. | AG14: 328.0.1. | AH14: 328.0.1. | AI14: 328.0.1. | AJ14: 328.0.1. | AK14: 328.0.1. | AL14: 328.0.1. | AM14: 328.0.1. | AN14: 328.0.1. | AO14: 328.0.1. | AP14: 328.0.1. | AQ14: 328.0.1. | AR14: 328.0.1. | AS14: 328.0.1. | AT14: 328.0.1. | AU14: 328.0.1. | AV14: 328.0.1. | AW14: 328.0.1. | AX14: 328.0.1. | AY14: 328.0.2. | AZ14: 328.0.2. | BA14: 328.0.2. | BB14: 328.0.2. | BC14: 328.0.2. | BD14: 328.0.2. | BE14: 328.0.2. | BF14: 328.0.2. | BG14: 328.0.2. | BH14: 328.0.2. | BI14: 328.0.2. | BJ14: 328.0.2. | BK14: 328.0.2. | BL14: 328.0.2. | BM14: 328.0.2. | BN14: 328.0.2. | BO14: 328.0.2. | BP14: 328.0.2. | BQ14: 328.0.2. | BR14: 328.0.2.
A15: uni_pf_NAME | AE15: 36.0.3. | AF15: 36.0.3. | AG15: 36.0.3. | AH15: 36.0.3. | AI15: 36.0.3. | AJ15: 36.0.3. | AK15: 36.0.3. | AL15: 36.0.3. | AM15: 36.0.3. | AN15: 36.0.3. | AO15: 36.0.3. | AP15: 36.0.3. | AQ15: 36.0.3. | AR15: 36.0.3. | AS15: 36.0.3. | AT15: 36.0.3. | AU15: 36.0.3. | AV15: 36.0.3. | AW15: 36.0.3. | AX15: 36.0.3. | AY15: 36.0.7. | AZ15: 36.0.7. | BA15: 36.0.7. | BB15: 36.0.7. | BC15: 36.0.7. | BD15: 36.0.7. | BE15: 36.0.7. | BF15: 36.0.7. | BG15: 36.0.7. | BH15: 36.0.7. | BI15: 36.0.7. | BJ15: 36.0.7. | BK15: 36.0.7. | BL15: 36.0.7. | BM15: 36.0.7. | BN15: 36.0.7. | BO15: 36.0.7. | BP15: 36.0.7. | BQ15: 36.0.7. | BR15: 36.0.7.
A16: uni_year_NAME | AE16: ="389.0."&AE9-2010&"." -> 389.0.17. | AF16: ="389.0."&AF9-2010&"." -> 389.0.18. | AG16: ="389.0."&AG9-2010&"." -> 389.0.19. | AH16: ="389.0."&AH9-2010&"." -> 389.0.20. | AI16: ="389.0."&AI9-2010&"." -> 389.0.21. | AJ16: ="389.0."&AJ9-2010&"." -> 389.0.22. | AK16: ="389.0."&AK9-2010&"." -> 389.0.23. | AL16: ="389.0."&AL9-2010&"." -> 389.0.24. | ... BR16: ="389.0."&BR9-2010&"." -> 389.0.36.
A17: V_UNIT
A18: V_POK
A19: V_COMMENT
E21: 15 | AC21: {=tpl_title} -> Кемеровская область / 2027 / ООО "КК-ИНВЕСТ" (ИНН:1901133713, КПП:190101001) / ДПР: 2025-2027
E22: 22 | AB22: Ключевые сценарные показатели
E23: 11
E24: 15 | AB24: № п/п | AC24: Наименование параметра | AD24: Единица измерения | AE24: =god&" год" -> 2027 год | AF24: =god+1&" год" -> 2028 год | AG24: =god+2&" год" -> 2029 год | AH24: =god+3&" год" -> 2030 год | AI24: =god+4&" год" -> 2031 год | AJ24: =god+5&" год" -> 2032 год | AK24: =god+6&" год" -> 2033 год | AL24: =god+7&" год" -> 2034 год | AM24: =god+8&" год" -> 2035 год | AN24: =god+9&" год" -> 2036 год | AO24: =god+10&" год" -> 2037 год | AP24: =god+11&" год" -> 2038 год | AQ24: =god+12&" год" -> 2039 год | AR24: =god+13&" год" -> 2040 год | AS24: =god+14&" год" -> 2041 год | AT24: =god+15&" год" -> 2042 год | AU24: =god+16&" год" -> 2043 год | AV24: =god+17&" год" -> 2044 год | AW24: =god+18&" год" -> 2045 год | AX24: =god+19&" год" -> 2046 год | AY24: =god&" год" -> 2027 год | AZ24: =god+1&" год" -> 2028 год | BA24: =god+2&" год" -> 2029 год | BB24: =god+3&" год" -> 2030 год | BC24: =god+4&" год" -> 2031 год | BD24: =god+5&" год" -> 2032 год | BE24: =god+6&" год" -> 2033 год | BF24: =god+7&" год" -> 2034 год | BG24: =god+8&" год" -> 2035 год | BH24: =god+9&" год" -> 2036 год | BI24: =god+10&" год" -> 2037 год | BJ24: =god+11&" год" -> 2038 год | BK24: =god+12&" год" -> 2039 год | BL24: =god+13&" год" -> 2040 год | BM24: =god+14&" год" -> 2041 год | BN24: =god+15&" год" -> 2042 год | BO24: =god+16&" год" -> 2043 год | BP24: =god+17&" год" -> 2044 год | BQ24: =god+18&" год" -> 2045 год | BR24: =god+19&" год" -> 2046 год
E25: 69 | AE25: Предложение организации | AF25: Предложение организации | AG25: Предложение организации | AH25: Предложение организации | AI25: Предложение организации | AJ25: Предложение организации | AK25: Предложение организации | AL25: Предложение организации | AM25: Предложение организации | AN25: Предложение организации | AO25: Предложение организации | AP25: Предложение организации | AQ25: Предложение организации | AR25: Предложение организации | AS25: Предложение организации | AT25: Предложение организации | AU25: Предложение организации | AV25: Предложение организации | AW25: Предложение организации | AX25: Предложение организации | AY25: Принято органом регулирования | AZ25: Принято органом регулирования | BA25: Принято органом регулирования | BB25: Принято органом регулирования | BC25: Принято органом регулирования | BD25: Принято органом регулирования | BE25: Принято органом регулирования | BF25: Принято органом регулирования | BG25: Принято органом регулирования | BH25: Принято органом регулирования | BI25: Принято органом регулирования | BJ25: Принято органом регулирования | BK25: Принято органом регулирования | BL25: Принято органом регулирования | BM25: Принято органом регулирования | BN25: Принято органом регулирования | BO25: Принято органом регулирования | BP25: Принято органом регулирования | BQ25: Принято органом регулирования | BR25: Принято органом регулирования
E26: 24 | AC26: Ставка НДС | AD26: % | AE26: 22 | AY26: 22 | BU26: P_NDS_COMMON | CI26: ЧСЛ | CJ26: M11247 | CK26: Ставка НДС, %
E27: 0
E28: 11 | F28: {=X28} -> 0 | T28: =F28>0 -> 0 | V28: et_1 | X28: 0 | AB28: {=INDEX('Общие сведения'!$AG$169:$AG$202,MATCH($F28,'Общие сведения'!$Y$169:$Y$202,0))} -> Тариф 0 (Теплоснабжение) -
E29: 11 | F29: {=OFFSET(G29,-1,-1)} -> 0 | T29: =F29>0 -> 0 | AC29: Индексы
E30: 17 | F30: {=OFFSET(G30,-1,-1)} -> 0 | G30: ИОР | T30: =AND(F30>0,method_reg<>"Метод экономически обоснованных расходов") -> 0 | AB30: 1 | AC30: Индекс эффективности операционных расходов | AD30: % | AE30: 1 | AF30: 1 | AG30: 1 | AH30: 1 | AI30: 1 | AJ30: 1 | AK30: 1 | AL30: 1 | AM30: 1 | AN30: 1 | AO30: 1 | AP30: 1 | AQ30: 1 | AR30: 1 | AS30: 1 | AT30: 1 | AU30: 1 | AV30: 1 | AW30: 1 | AX30: 1 | AY30: 1 | AZ30: 1 | BA30: 1 | BB30: 1 | BC30: 1 | BD30: 1 | BE30: 1 | BF30: 1 | BG30: 1 | BH30: 1 | BI30: 1 | BJ30: 1 | BK30: 1 | BL30: 1 | BM30: 1 | BN30: 1 | BO30: 1 | BP30: 1 | BQ30: 1 | BR30: 1 | BU30: P_IND_1 | BZ30: {=INDEX('Общие сведения'!$N$170:$N$202,MATCH($F30,'Общие сведения'!$Y$170:$Y$202,0)+1)} -> 0 | CA30: 110.0.1. | CI30: ЧСЛ | CJ30: M11758 | CK30: Индекс эффективности операционных расходов, %
E31: 30 | F31: {=OFFSET(G31,-1,-1)} -> 0 | T31: =AND(F31>0,method_reg<>"Метод экономически обоснованных расходов") -> 0 | AB31: 2 | AC31: Индекс эффективности операционных расходов для концессий (при наличии) | BZ31: {=OFFSET(BY31,-1,1)} -> 0
E32: 0 | F32: {=OFFSET(G32,-1,-1)} -> 0 | T32: =AND(F32>0,method_reg<>"Метод экономически обоснованных расходов") -> 0 | BZ32: {=OFFSET(BY32,-1,1)} -> 0
E33: 17 | F33: {=OFFSET(G33,-1,-1)} -> 0 | T33: =AND(F33>0,Y33>0,method_reg<>"Метод экономически обоснованных расходов") -> 0 | W33: et_2 | Y33: 0 | AA33: × | AB33: ="2."&Y33 -> 2.0 | AD33: % | BU33: P_IND_2 | BV33: DYN_INDEX | BW33: {=AC33} -> 0 | BY33: TRUE | BZ33: {=OFFSET(BY33,-1,1)} -> 0 | CA33: 110.0.11. | CH33: {=$AC33} -> 0 | CI33: ЧСЛ | CJ33: M11758 | CK33: Индекс эффективности операционных расходов, %
E34: 17 | F34: {=OFFSET(G34,-1,-1)} -> 0 | T34: =AND(F34>0,method_reg<>"Метод экономически обоснованных расходов") -> 0 | W34: { _x000D_ funcDyn: 'msg',_x000D_ blok: '',_x000D_ wsCross: '',_x000D_ linkFormula: '',_x000D_ levelDyn: '1'_x000D_ } | AC34: Добавить | BX34: DYN_INDEX | BZ34: {=OFFSET(BY34,-1,1)} -> 0
E35: 17 | F35: {=OFFSET(G35,-1,-1)} -> 0 | G35: ИПЦ | T35: =F35>0 -> 0 | AB35: 3 | AC35: Индекс потребительских цен | AD35: % | BU35: P_IND_CONS_PRICE | BZ35: {=OFFSET(BY35,-1,1)} -> 0 | CI35: ЧСЛ | CJ35: M10621 | CK35: Индекс потребительских цен, %
E36: 17 | F36: {=OFFSET(G36,-1,-1)} -> 0 | T36: =F36>0 -> 0 | AB36: 4 | AC36: Индекс изменения цен на электроэнергию | AD36: % | BU36: P_IND_PRICE_CNANGE | BZ36: {=OFFSET(BY36,-1,1)} -> 0 | CB36: 129.0.1. | CI36: ЧСЛ | CJ36: M11245 | CK36: Индекс роста цен, %
E37: 30 | F37: {=OFFSET(G37,-1,-1)} -> 0 | T37: =F37>0 -> 0 | AB37: 5 | AC37: Индекс изменения размера платы граждан за коммунальные услуги | AD37: % | BU37: P_IND_PAYMENT | BZ37: {=OFFSET(BY37,-1,1)} -> 0 | CI37: ЧСЛ | CJ37: M10312 | CK37: Индекс изменения размера вносимой гражданами платы за коммунальные услуги в среднем по субъекту РФ, %
E38: 17 | F38: {=OFFSET(G38,-1,-1)} -> 0 | T38: =F38>0 -> 0 | AB38: 6 | AC38: Индекс изменения цен на природный газ | AD38: % | BU38: P_IND_GAS | BZ38: {=OFFSET(BY38,-1,1)} -> 0 | CD38: 268.0.3. | CI38: ЧСЛ | CJ38: M11245 | CK38: Индекс роста цен, %
E39: 17 | F39: {=OFFSET(G39,-1,-1)} -> 0 | T39: =F39>0 -> 0 | AB39: 7 | AC39: Индекс изменения цен на снабженческо-сбытовую надбавку | AD39: % | BU39: P_IND_SUPPLY | BZ39: {=OFFSET(BY39,-1,1)} -> 0 | CE39: 352.0.46. | CI39: ЧСЛ | CJ39: M11245 | CK39: Индекс роста цен, %
E40: 17 | F40: {=OFFSET(G40,-1,-1)} -> 0 | T40: =F40>0 -> 0 | AB40: 8 | AC40: Индекс изменения цен на транспортировку газа | AD40: % | BU40: P_IND_GAS_TRANSP | BZ40: {=OFFSET(BY40,-1,1)} -> 0 | CC40: 83.0.17. | CD40: 268.0.3. | CI40: ЧСЛ | CJ40: M11245 | CK40: Индекс роста цен, %
E41: 17 | F41: {=OFFSET(G41,-1,-1)} -> 0 | T41: =F41>0 -> 0 | AB41: 9 | AC41: Расчетная теплота сгорания 1 куб.м. природного газа | AD41: Ккал/м3 | AE41: =7900 -> 7900 | AF41: =7900 -> 7900 | AG41: =7900 -> 7900 | AH41: =7900 -> 7900 | AI41: =7900 -> 7900 | AJ41: =7900 -> 7900 | AK41: =7900 -> 7900 | AL41: =7900 -> 7900 | ... BR41: =7900 -> 7900 | BU41: P_IND_BURN_GAS | BZ41: {=OFFSET(BY41,-1,1)} -> 0 | CD41: 268.0.3. | CI41: ЧСЛ | CJ41: M11814 | CK41: Расчетная теплота сгорания природного газа
E42: 17 | F42: {=OFFSET(G42,-1,-1)} -> 0 | T42: =F42>0 -> 0 | AB42: 10 | AC42: Оптовая цена на природный газ | AD42: руб./тыс.м3 | BU42: P_IND_WHOLESALE | BZ42: {=OFFSET(BY42,-1,1)} -> 0 | CD42: 268.0.3. | CI42: ЧСЛ | CJ42: M10449 | CK42: Регулируемая (расчётная) оптовая цена, без НДС, руб./тыс.куб.м.
E43: 17 | F43: {=OFFSET(G43,-1,-1)} -> 0 | T43: =F43>0 -> 0 | AB43: 11 | AC43: Теплота сгорания 1 кг условного топлива | AD43: Ккал/кг | AE43: =7000 -> 7000 | AF43: =7000 -> 7000 | AG43: =7000 -> 7000 | AH43: =7000 -> 7000 | AI43: =7000 -> 7000 | AJ43: =7000 -> 7000 | AK43: =7000 -> 7000 | AL43: =7000 -> 7000 | ... BR43: =7000 -> 7000 | BU43: P_IND_BURN_OTHER | BZ43: {=OFFSET(BY43,-1,1)} -> 0 | CF43: 167.0.6. | CI43: ЧСЛ | CJ43: M11815 | CK43: Теплота сгорания условного топлива
E44: 17 | F44: {=OFFSET(G44,-1,-1)} -> 0 | T44: =F44>0 -> 0 | AB44: 12 | AC44: Индекс изменения цен на уголь | AD44: % | BU44: P_IND_COAL_PRICE | BZ44: {=OFFSET(BY44,-1,1)} -> 0 | CG44: 101.0.5. | CI44: ЧСЛ | CJ44: M11245 | CK44: Индекс роста цен, %
E45: 17 | F45: {=OFFSET(G45,-1,-1)} -> 0 | T45: =F45>0 -> 0 | AB45: 13 | AC45: Индекс изменения цен на мазут | AD45: % | BU45: P_IND_MAZUT_PRICE | BZ45: {=OFFSET(BY45,-1,1)} -> 0 | CG45: 101.0.3. | CI45: ЧСЛ | CJ45: M11245 | CK45: Индекс роста цен, %
E46: 17 | F46: {=OFFSET(G46,-1,-1)} -> 0 | T46: =F46>0 -> 0 | AB46: 14 | AC46: Индекс изменения цен на дизельное топливо | AD46: % | BU46: P_IND_DIESEL_PRICE | BZ46: {=OFFSET(BY46,-1,1)} -> 0 | CG46: 101.0.2. | CI46: ЧСЛ | CJ46: M11245 | CK46: Индекс роста цен, %
E47: 17 | F47: {=OFFSET(G47,-1,-1)} -> 0 | T47: =F47>0 -> 0 | AB47: 15 | AC47: Индекс изменения цен на прочее топливо | AD47: % | BU47: P_IND_OTHER_PRICE | BZ47: {=OFFSET(BY47,-1,1)} -> 0 | CG47: 101.0.12. | CI47: ЧСЛ | CJ47: M11245 | CK47: Индекс роста цен, %
...

Sheet Сценарии (МСА)
F1: tariffId | U1: vis_1 | V1: dyn_1 | W1: blok_1 | Y1: ren_1 | Z1: del_1 | BV1: pok_js | BW1: ИД.ТАРИФ_NAME | BX1: uni_plan_delta_NAME | BY1: uni_pf_NAME | BZ1: uni_period_grow_NAME | CA1: uni_reg_period_base_NAME | CB1: G_UNIT | CC1: G_POK | CD1: G_COMMENT
B2: vis | AF2: {=isOrgDeclare} -> true | AG2: =AND(AG9<=last_year_vis,isOrgDeclare) -> 1 | AH2: =AND(AH9<=last_year_vis,isOrgDeclare) -> 1 | AI2: =AND(AI9<=last_year_vis,isOrgDeclare) -> 0 | AJ2: =AND(AJ9<=last_year_vis,isOrgDeclare) -> 0 | AK2: =AND(AK9<=last_year_vis,isOrgDeclare) -> 0 | AL2: =AND(AL9<=last_year_vis,isOrgDeclare) -> 0 | AM2: =AND(AM9<=last_year_vis,isOrgDeclare) -> 0 | AN2: =AND(AN9<=last_year_vis,isOrgDeclare) -> 0 | ... AY2: =AND(AY9<=last_year_vis,isOrgDeclare) -> 0 | AZ2: =AZ9<=last_year_vis -> 1 | BA2: =BA9<=last_year_vis -> 1 | BB2: =BB9<=last_year_vis -> 1 | BC2: =BC9<=last_year_vis -> 0 | BD2: =BD9<=last_year_vis -> 0 | BE2: =BE9<=last_year_vis -> 0 | BF2: =BF9<=last_year_vis -> 0 | BG2: =BG9<=last_year_vis -> 0 | ... BS2: =BS9<=last_year_vis -> 0
